Workbook

Sheet QA Sheet
B5: File information and history | F5: Checker information
B6: File reference | C6: =CELL("filename") -> https://cyfoethnaturiolcymru-my.sharepoint.com/personal/sarah_senior_cyfoethnaturiolcymru_gov_uk/Documents/Documents/NA Applications/PAN-007482/[PAN-007482 - Supporting Info - Consideration of risk screening.xlsx]SSSIs | F6: Project Manager | G6: KLB
F7: Independent checker | G7: BCH | AF7: Spot check of calculations
B8: Author | C8: KLB | F8: Check type | G8: Comprehensive check of calculations | AF8: Comprehensive check of calculations
B9: Created date | C9: 43742 | AF9: Full check of calculations and outputs/figures
B10: Version | C10: 1 | F10: Check complete | G10: Yes
B11: Modifier | AF11: Yes
B12: Amended date | F12: Checker comments | G12: See comments in sheets. Note: KLB asked AWT to check the GW inflow sheet on 05/11/19. AWT confirmed the calc is correct (Reslut = 1151 m3/d in cell P14) | AF12: No
AF13: Not required
B14: Source data file information (enter as hyperlinks)
B15: Source file 1
B16: Source file 2
B17: Source file 3
B18: Source file 4
B19: Source file 5
B21: Self checking section
B22: Checking complete | C22: KLB
B23: Input data checked | C23: Yes
B24: Formulas checked | C24: Yes
B25: Outputs/figures checked | C25: Yes
B27: Self check comments | C27: Check formulas in data tabs and in tables tabs
B33: Independent check required | C33: Yes
B34: Project Manager confirmation | C34: KLB

Sheet Total dewatering
A1: Data entered/measured
A2: Data calculated
C4: Max annual volume (m3/year) | D4: Estimated Annual volume | E4: Average daily (m3/day) | F4: Maximum Daily Volume (m3/day) | G4: Maximum hourly (m3/hr) | H4: Maximum instantaneous rate (l/s) | I4: Comment
C5: =F5*365 -> 2522880 | D5: =E5*(5.5*25) -> 79200 | E5: =G5*2 -> 576 | F5: =G5*24 -> 6912 | G5: =H5/1000*60*60 -> 288 | H5: 80 | I5: Estimated, pumping at max pump rate for 2 hrs/d, 5.5 days per week in the winter months (25 weeks a year). (Maximum daily calculated per pumping continuously for 24 hrs)
C6: =D6 -> 558258.3 | D6: ='Machen rainfall'!B8 -> 558258.3 | E6: =D6/260 -> 2147.1473 | G6: =H6/1000*60*60 -> 288 | H6: 80 | I6: Estimated surface water inflows based on max annual rainfall x catchment area (excludes groundwater component) - From Rainfall tab
F7: ='Machen rainfall'!B9 -> 15480.198 | G7: =F7/24 -> 645.00824 | H7: =G7/60/60*1000 -> 179.16896 | I7: Based on maximum daily rainfall data (23.09.2012)
C8: ='Groundwater inflow'!P17 -> 420399.37 | E8: ='Groundwater inflow'!P16 -> 1150.9907 | G8: =E8/24 -> 47.957947 | H8: =G8/60/60*1000 -> 13.321652 | I8: calculated groundwater ingress (from groundwter inflow tab)
C9: =C8+C6 -> 978657.66 | F9: =F5 -> 6912 | G9: =G8+G6 -> 335.95795 | H9: =H8+H6 -> 93.321652 | I9: Sum of estimated rainfall and groundwater components
C10: [BOLD] used in application

Sheet Machen rainfall
A1: Data entered/measured
A2: Data calculated
A3: Description | B3: volume | C3: units | F3: Margham gauging station (Port Talbot) | G3: Cefn Cribwr station
A4: Area of catchment | B4: 334888 | C4: m2 | E4: Rainfall | F4: Annual total (m) | G4: Daily (m)
A5: Rainfall (SAAR 1961-1990) | B5: 1.303 | C5: m/yr | E5: 2011 | F5: 1.061 | G5: ='Daily rainfall data'!G6 -> 1130.04
A6: Rainfall (Qualifying period maximum) 2012 | B6: =F6 -> 1.667 | C6: m/yr | E6: 2012 | F6: 1.667 | G6: ='Daily rainfall data'!H6 -> 1680.225
A7: Average annual rainfall volume | B7: =B4*B5 -> 436359.06 | C7: m3/yr | E7: 2013 | F7: 1.077
A8: Maximum rainfall volume | B8: =B4*B6 -> 558258.3 | C8: m3/yr | E8: 2014 | F8: 1.149
A9: maximum rainfall (daily) | B9: =B4*G12 -> 15480.198 | C9: m3/d | E9: 2015 | F9: 1.013
E10: 2016 | F10: 1.272
E11: 2017 | F11: 0.993
E12: max daily | G12: ='Daily rainfall data'!F4/1000 -> 0.046225

Sheet Groundwater inflow
A1: Data entered/measured
A2: Data calculated
A3: Groundwater Inflow estimation
A5: Very rough calc based on horizontal flow to a slot along quarry perimeter (ref CIRIA C515 - Groundwater control: design and practice) | O5: Parameters:
O6: C | P6: 2000
A7: Para | O7: Perimeter length | P7: 5221 | Q7: m | R7: From redline boundary
O8: Hydraulic conductivity | P8: 0.01 | Q8: m/d | R8: Upper end of range from Allen et al, 1997
P9: =P8/86400 -> 1.1574074e-07 | Q9: m/s
O10: Head at L0 | P10: 30 | Q10: m | R10: Estimated drawdown from section
O11: Head in quarry | P11: 0 | Q11: m
O13: Calculations
O14: Length of influence | P14: =P6*P10*(P9^0.5) -> 20.412415
O15: Inflow to slot (one side only) | P15: =0.5*P9*P7*(P10^2-P11^2)/P14 -> 0.013321652 | Q15: m3/s
P16: =P15*86400 -> 1150.9907 | Q16: m3/d
P17: =P16*365.25 -> 420399.37 | Q17: m3/yr
A24: With L0 (R0) calculated using Sichardt:
A28: Using C value of 2000
A30: Quarry perimeter taken as redline boundary:
A43: Dewatering depth based on following section:

Sheet Daily rainfall data
A1: Data entered/measured
A2: Data calculated
B3: Date | C3: Cefn Cribwr - Complete (mm)
B4: 40179 | C4: 0 | E4: max | F4: =MAX(C4:C1277) -> 46.225
B5: 40180 | C5: 0.645 | E5: sum | F5: 2010 | G5: 2011 | H5: 2012 | I5: 2013
B6: 40181 | C6: 0 | F6: =SUM(C4:C368) -> 895.905 | G6: =SUM(C369:C733) -> 1130.04 | H6: =SUM(C734:C1099) -> 1680.225 | I6: =SUM(C1100:C1464) -> 550.185
B7: 40182 | C7: 0
B8: 40183 | C8: 2.365
B9: 40184 | C9: 1.505
B10: 40185 | C10: 0
B11: 40186 | C11: 0
B12: 40187 | C12: 0
B13: 40188 | C13: 0
B14: 40189 | C14: 0
B15: 40190 | C15: 5.805
B16: 40191 | C16: 8.6
B17: 40192 | C17: 5.59
B18: 40193 | C18: 12.04
... B1277: 41452 | C1277: 0.215
