Workbook

Sheet Beechdean
A1: PAN reference | C1: PAN-017507 | E1: Total spread area | F1: 51.8 | G1: Waste pH | I1: 3.76 | J1: Ammonium Nitrogen (mg/kg) | L1: 25 | AD1: Choose | AI1: Crop | AJ1: P Offtake | AK1: K Offtake | AL1: Order | AM1: Lime pH requirement | AN1: Column1
A2: Permit reference | C2: EPR- KP3594VE | E2: Waste type EWC | F2: 02 05 01 | G2: Conductivity µS/cm (limit 5000 µS/cm) | I2: 516 | J2: Total Nitrogen (% w/w) | L2: 0.06 | AB2: %w/w SAR | AD2: Sandy | AG2: Solid | AI2: Choose | AJ2: 0 | AK2: 0 | AL2: 0 | AM2: 0 | AN2: 0
A3: Operator | C3: Trade effluent services | E3: Waste physical form | F3: Sludge | G3: Fats & Oils (mg/kg) (limit 40,000 mg/kg or 4%) | I3: 2360 | J3: Readily available nitrogen content % | L3: =(L1/(L2*10000))*100 -> 4.1666667 | AB3: %w/w DM | AD3: Sandy Loam | AG3: Liquid | AI3: Grass Silage (25% DM) | AJ3: 1.7 | AK3: 6 | AL3: 1 | AM3: 6.2 | AN3: Grass
A4: Farm Address | C4: Dyke Farm, Padeswood Lane, Mold, CH7 4HZ | E4: Waste Ref/Name | F4: Beechdean | AB4: kg/t SAR | AD4: Medium/Clay | AG4: Sludge | AI4: Winter wheat- grain & straw | AJ4: 7 | AK4: 10.5 | AL4: 2 | AM4: 6.7 | AN4: Arable
A5: Assessed By | C5: Ethan Banfield | AB5: kg/t DM | AD5: Organic | AG5: Sludge Cake | AI5: Winter wheat- grain only | AJ5: 6.5 | AK5: 5.5 | AL5: 3 | AM5: 6.7 | AN5: Arable
AB6: mg/kg SAR | AD6: Peat | AI6: Spring wheat/barley | AJ6: 8.5 | AK6: 12 | AL6: 4 | AM6: 6.7 | AN6: Arable
A7: Field number | C7: 1 | D7: 2 | E7: 3 | F7: 4 | G7: 5 | H7: 6 | I7: 7 | J7: 8 | K7: 9 | L7: 10 | M7: 11 | N7: 12 | O7: 13 | P7: 14 | Q7: 15 | R7: 16 | S7: 17 | T7: 18 | U7: 19 | V7: 20 | AB7: mg/kg DM | AI7: Winter barley/triticale/rye | AJ7: 8.5 | AK7: 10.5 | AL7: 5 | AM7: 6.7 | AN7: Arable
A8: Field Ref | C8: 1 | D8: 2 | E8: 3 | F8: 4 | G8: 5 | H8: 6 | I8: 7 | J8: 8 | K8: 9 | L8: 10 | M8: 11 | N8: 12 | O8: 13 | P8: 14 | Q8: 15 | R8: 16 | S8: 17 | T8: 18 | U8: 19 | V8: 20 | AE8: lime pH | AI8: Maize- Silage (30% DM) | AJ8: 1.4 | AK8: 4.4 | AL8: 6 | AM8: 6.7 | AN8: Arable
A9: SNS Index | C9: Moderate | D9: Moderate | E9: Moderate | F9: Moderate | G9: Moderate | H9: 1 | I9: 1 | J9: 1 | K9: 1 | L9: 1 | M9: 1 | N9: 1 | O9: 1 | P9: Moderate | Q9: Moderate | R9: Moderate | S9: Moderate | T9: Moderate | U9: Moderate | V9: Moderate | AD9: Sandy I Grass | AE9: 4.5 | AI9: Fodder beet (roots only) | AJ9: 0.7 | AK9: 4 | AL9: 7 | AM9: 6.7 | AN9: Arable
A10: Field pH | C10: 6.5 | D10: 7.4 | E10: 6.2 | F10: 5.8 | G10: 5.6 | H10: 6.4 | I10: 5.9 | J10: 6.4 | K10: 6.1 | L10: 6.1 | M10: 5.6 | N10: 5.8 | O10: 6.3 | P10: 6.3 | Q10: 6 | R10: 6 | S10: 6.4 | T10: 6.2 | U10: 6.1 | V10: 5.6 | AD10: Sandy Loam I Grass | AE10: 5 | AI10: Oats | AJ10: 9 | AK10: 16.5 | AL10: 8 | AM10: 6.7 | AN10: Arable
A11: Phosphorus Index | C11: 1 | D11: 3 | E11: 0 | F11: 0 | G11: 3 | H11: 2 | I11: 2 | J11: 3 | K11: 3 | L11: 2 | M11: 2 | N11: 2 | O11: 2 | P11: 1 | Q11: 0 | R11: 0 | S11: 0 | T11: 0 | U11: 0 | V11: 0 | AD11: Medium/Clay I Grass | AE11: 6 | AI11: Oilseed rape- seed & straw | AJ11: 15 | AK11: 17.5 | AL11: 9 | AM11: 7 | AN11: Arable
A12: Potassium Index | C12: 2 | D12: 3 | E12: 1 | F12: 0 | G12: 2 | H12: 1 | I12: 0 | J12: 0 | K12: 0 | L12: 0 | M12: 0 | N12: 0 | O12: 1 | P12: 0 | Q12: 0 | R12: 0 | S12: 0 | T12: 1 | U12: 0 | V12: 0 | AD12: Organic I Grass | AE12: 7.5 | AI12: Oilseed rape- seed only | AJ12: 14 | AK12: 11 | AL12: 10 | AM12: 7 | AN12: Arable
A13: Magnesium Index | C13: 3 | D13: 3 | E13: 2 | F13: 3 | G13: 2 | H13: 2 | I13: 1 | J13: 2 | K13: 2 | L13: 2 | M13: 2 | N13: 2 | O13: 3 | P13: 2 | Q13: 3 | R13: 2 | S13: 2 | T13: 2 | U13: 2 | V13: 2 | AD13: Peat I Grass | AE13: 12 | AI13: Sugar beet- roots & tops | AJ13: 1.9 | AK13: 7.5 | AL13: 11 | AM13: 6.7 | AN13: Arable
A14: Benefiting Crop | C14: Grass Silage (25% DM) | D14: Grass Silage (25% DM) | E14: Grass Silage (25% DM) | F14: Grass Silage (25% DM) | G14: Grass Silage (25% DM) | H14: Maize- Silage (30% DM) | I14: Maize- Silage (30% DM) | J14: Maize- Silage (30% DM) | K14: Maize- Silage (30% DM) | L14: Maize- Silage (30% DM) | M14: Spring wheat/barley | N14: Spring wheat/barley | O14: Spring wheat/barley | P14: Grass Silage (25% DM) | Q14: Grass Silage (25% DM) | R14: Grass Silage (25% DM) | S14: Grass Silage (25% DM) | T14: Grass Silage (25% DM) | U14: Grass Silage (25% DM) | V14: Grass Silage (25% DM) | AD14: Sandy I Arable | AE14: 6 | AI14: Sugar beet- roots only | AJ14: 0.8 | AK14: 1.7 | AL14: 12 | AM14: 6.7 | AN14: Arable
A15: Expected Yield | C15: 38 | D15: 38 | E15: 38 | F15: 38 | G15: 38 | H15: 40 | I15: 40 | J15: 40 | K15: 40 | L15: 40 | M15: 5.5 | N15: 5.5 | O15: 5.5 | P15: 5.5 | Q15: 5.5 | R15: 5.5 | S15: 5.5 | T15: 5.5 | U15: 5.5 | V15: 5.5 | AD15: Sandy Loam I Arable | AE15: 7 | AI15: Wholecrop cereals | AJ15: 1.8 | AK15: 5.4 | AL15: 13 | AM15: 6.7 | AN15: Arable
A16: Soil Type | C16: Medium/Clay | D16: Medium/Clay | E16: Medium/Clay | F16: Medium/Clay | G16: Medium/Clay | H16: Medium/Clay | I16: Medium/Clay | J16: Medium/Clay | K16: Medium/Clay | L16: Medium/Clay | M16: Medium/Clay | N16: Medium/Clay | O16: Medium/Clay | P16: Medium/Clay | Q16: Medium/Clay | R16: Medium/Clay | S16: Medium/Clay | T16: Medium/Clay | U16: Medium/Clay | V16: Medium/Clay | AD16: Medium/Clay I Arable | AE16: 8 | AI16: All other cereals- grain only | AJ16: 8 | AK16: 5.5 | AL16: 14 | AM16: 6.7 | AN16: Arable
A17: Phosphate Offtake | C17: =(VLOOKUP(C$14,$AI2:$AK26,2,FALSE))*C$15 -> 64.6 | D17: =(VLOOKUP(D$14,$AI2:$AK26,2,FALSE))*D$15 -> 64.6 | E17: =(VLOOKUP(E$14,$AI2:$AK26,2,FALSE))*E$15 -> 64.6 | F17: =(VLOOKUP(F$14,$AI2:$AK26,2,FALSE))*F$15 -> 64.6 | G17: =(VLOOKUP(G$14,$AI2:$AK26,2,FALSE))*G$15 -> 64.6 | H17: =(VLOOKUP(H$14,$AI2:$AK26,2,FALSE))*H$15 -> 56 | I17: =(VLOOKUP(I$14,$AI2:$AK26,2,FALSE))*I$15 -> 56 | J17: =(VLOOKUP(J$14,$AI2:$AK26,2,FALSE))*J$15 -> 56 | ... V17: =(VLOOKUP(V$14,$AI2:$AK26,2,FALSE))*V$15 -> 9.35 | AD17: Organic I Arable | AE17: 10 | AI17: Fresh grass (15-20% DM) | AJ17: 1.4 | AK17: 4.8 | AL17: 15 | AM17: 6.2 | AN17: Grass
A18: Phosphate Addition | C18: =$D31 -> 55.455946 | D18: =$D32 -> 55.455946 | E18: =$D33 -> 55.455946 | F18: =$D34 -> 0 | G18: =$D35 -> 55.455946 | H18: =$D36 -> 55.455946 | I18: =$D37 -> 55.455946 | J18: =$D38 -> 55.455946 | K18: =$D39 -> 55.455946 | L18: =$D40 -> 55.455946 | M18: =$D41 -> 45.27016 | N18: =$D42 -> 45.27016 | O18: =$D43 -> 45.27016 | P18: =$D44 -> 55.455946 | Q18: =$D45 -> 55.455946 | R18: =$D46 -> 55.455946 | S18: =$D47 -> 55.455946 | T18: =$D48 -> 55.455946 | U18: =$D49 -> 55.455946 | V18: =$D50 -> 55.455946 | AD18: Peat I Arable | AE18: 16 | AI18: Hay (86% DM) | AJ18: 5.9 | AK18: 18 | AL18: 16 | AM18: 6.2 | AN18: Grass
A19: Phosphate Difference | C19: =C18-C17 -> -9.144054 | D19: =D18-D17 -> -9.144054 | E19: =E18-E17 -> -9.144054 | F19: =F18-F17 -> -64.6 | G19: =G18-G17 -> -9.144054 | H19: =H18-H17 -> -0.544054 | I19: =I18-I17 -> -0.544054 | J19: =J18-J17 -> -0.544054 | ... V19: =V18-V17 -> 46.105946 | AI19: Haylage (45% DM) | AJ19: 3.2 | AK19: 10.5 | AL19: 17 | AM19: 6.2 | AN19: Grass
A20: Phosphate Increase/decrease | C20: =IF($B31="","",IF(C$19>=0,"INCREASE","DECREASE")) -> DECREASE | D20: =IF($B32="","",IF(D$19>=0,"INCREASE","DECREASE")) -> DECREASE | E20: =IF($B33="","",IF(E$19>=0,"INCREASE","DECREASE")) -> DECREASE | F20: =IF($B34="","",IF(F$19>=0,"INCREASE","DECREASE")) -> DECREASE | G20: =IF($B35="","",IF(G$19>=0,"INCREASE","DECREASE")) -> DECREASE | H20: =IF($B36="","",IF(H$19>=0,"INCREASE","DECREASE")) -> DECREASE | I20: =IF($B37="","",IF(I$19>=0,"INCREASE","DECREASE")) -> DECREASE | J20: =IF($B38="","",IF(J$19>=0,"INCREASE","DECREASE")) -> DECREASE | K20: =IF($B39="","",IF(K$19>=0,"INCREASE","DECREASE")) -> DECREASE | L20: =IF($B40="","",IF(L$19>=0,"INCREASE","DECREASE")) -> DECREASE | M20: =IF($B41="","",IF(M$19>=0,"INCREASE","DECREASE")) -> DECREASE | N20: =IF($B42="","",IF(N$19>=0,"INCREASE","DECREASE")) -> DECREASE | O20: =IF($B43="","",IF(O$19>=0,"INCREASE","DECREASE")) -> DECREASE | P20: =IF($B44="","",IF(P$19>=0,"INCREASE","DECREASE")) -> INCREASE | Q20: =IF($B45="","",IF(Q$19>=0,"INCREASE","DECREASE")) -> INCREASE | R20: =IF($B46="","",IF(R$19>=0,"INCREASE","DECREASE")) -> INCREASE | S20: =IF($B47="","",IF(S$19>=0,"INCREASE","DECREASE")) -> INCREASE | T20: =IF($B48="","",IF(T$19>=0,"INCREASE","DECREASE")) -> INCREASE | U20: =IF($B49="","",IF(U$19>=0,"INCREASE","DECREASE")) -> INCREASE | V20: =IF($B50="","",IF(V$19>=0,"INCREASE","DECREASE")) -> INCREASE | AI20: Grass Silage (30% DM) | AJ20: 2.1 | AK20: 7.2 | AL20: 18 | AM20: 6.2 | AN20: Grass
A21: Potash Offtake | C21: =(VLOOKUP(C$14,$AI2:$AK26,3,FALSE))*C$15 -> 228 | D21: =(VLOOKUP(D$14,$AI2:$AK26,3,FALSE))*D$15 -> 228 | E21: =(VLOOKUP(E$14,$AI2:$AK26,3,FALSE))*E$15 -> 228 | F21: =(VLOOKUP(F$14,$AI2:$AK26,3,FALSE))*F$15 -> 228 | G21: =(VLOOKUP(G$14,$AI2:$AK26,3,FALSE))*G$15 -> 228 | H21: =(VLOOKUP(H$14,$AI2:$AK26,3,FALSE))*H$15 -> 176 | I21: =(VLOOKUP(I$14,$AI2:$AK26,3,FALSE))*I$15 -> 176 | J21: =(VLOOKUP(J$14,$AI2:$AK26,3,FALSE))*J$15 -> 176 | ... V21: =(VLOOKUP(V$14,$AI2:$AK26,3,FALSE))*V$15 -> 33 | AI21: Field beans | AJ21: 11 | AK21: 12 | AL21: 19 | AM21: 6.7 | AN21: Arable
A22: Potash Addition | C22: =$E31 -> 49.893025 | D22: =$E32 -> 49.893025 | E22: =$E33 -> 49.893025 | F22: =$E34 -> 0 | G22: =$E35 -> 49.893025 | H22: =$E36 -> 49.893025 | I22: =$E37 -> 49.893025 | J22: =$E38 -> 49.893025 | K22: =$E39 -> 49.893025 | L22: =$E40 -> 49.893025 | M22: =$E41 -> 40.729 | N22: =$E42 -> 40.729 | O22: =$E43 -> 40.729 | P22: =$E44 -> 49.893025 | Q22: =$E45 -> 49.893025 | R22: =$E46 -> 49.893025 | S22: =$E47 -> 49.893025 | T22: =$E48 -> 49.893025 | U22: =$E49 -> 49.893025 | V22: =$E50 -> 49.893025 | AI22: Kale | AJ22: 1.2 | AK22: 5 | AL22: 20 | AM22: 6.7 | AN22: Arable
A23: Potash Difference | C23: =C22-C21 -> -178.10698 | D23: =D22-D21 -> -178.10698 | E23: =E22-E21 -> -178.10698 | F23: =F22-F21 -> -228 | G23: =G22-G21 -> -178.10698 | H23: =H22-H21 -> -126.10698 | I23: =I22-I21 -> -126.10698 | J23: =J22-J21 -> -126.10698 | ... V23: =V22-V21 -> 16.893025 | AI23: Peas- Dried | AJ23: 9 | AK23: 10 | AL23: 21 | AM23: 6.7 | AN23: Arable
A24: Potash Increase/decrease | C24: =IF($B31="","",IF(C$23>=0,"INCREASE","DECREASE")) -> DECREASE | D24: =IF($B31="","",IF(D$23>=0,"INCREASE","DECREASE")) -> DECREASE | E24: =IF($B31="","",IF(E$23>=0,"INCREASE","DECREASE")) -> DECREASE | F24: =IF($B31="","",IF(F$23>=0,"INCREASE","DECREASE")) -> DECREASE | G24: =IF($B31="","",IF(G$23>=0,"INCREASE","DECREASE")) -> DECREASE | H24: =IF($B31="","",IF(H$23>=0,"INCREASE","DECREASE")) -> DECREASE | I24: =IF($B31="","",IF(I$23>=0,"INCREASE","DECREASE")) -> DECREASE | J24: =IF($B31="","",IF(J$23>=0,"INCREASE","DECREASE")) -> DECREASE | ... V24: =IF($B31="","",IF(V$23>=0,"INCREASE","DECREASE")) -> INCREASE | AI24: Peas- Vining | AJ24: 1.5 | AK24: 3 | AL24: 22 | AM24: 6.7 | AN24: Arable
AI25: Potatoes- tubers only | AJ25: 1 | AK25: 5.8 | AL25: 23 | AM25: 6.7 | AN25: Arable
B26: Dry Matter | C26: Total Nitrogen | D26: Total Phosphorus (P) | E26: Total Potassium (K) | F26: Total Magnesium (Mg) | G26: Total Copper | H26: Total Zinc | I26: Total Lead | J26: Total Cadmium | K26: Total Mercury | L26: Total Nickel | M26: Total Chromium | N26: Total Aluminium | O26: Total Iron | P26: Total Na (Sodium) | Q26: Total Sulphur (S) | R26: Total Selenium | S26: Total Arsenic | T26: Total Mo | U26: Total Fluoride | AI26: Swedes- roots only | AJ26: 0.7 | AK26: 2.4 | AL26: 24 | AM26: 6.7 | AN26: Arable
B27: % | C27: %w/w SAR | D27: mg/kg SAR | E27: mg/kg SAR | F27: mg/kg SAR | G27: mg/kg SAR | H27: mg/kg SAR | I27: mg/kg SAR | J27: mg/kg SAR | K27: mg/kg SAR | L27: mg/kg SAR | M27: mg/kg SAR | N27: mg/kg SAR | O27: mg/kg SAR | P27: mg/kg SAR | Q27: mg/kg SAR | R27: mg/kg SAR | S27: mg/kg SAR | T27: mg/kg SAR | U27: mg/kg SAR
B28: 1.85 | C28: 0.06 | D28: 98.8 | E28: 169 | F28: 25.6 | G28: 0.221 | H28: 1 | I28: 0.5 | J28: 0.01 | K28: 0.05 | L28: 0.2 | M28: 0.2 | P28: 337 | Q28: 77.9
A29: Field Ref | B29: Application Rate | C29: Nitrogen Addition | D29: Phosphate Addition | E29: Potash Addition | F29: Mg Oxide Addition | G29: Copper Addition | H29: Zinc Addition | I29: Lead Addition | J29: Cadmium Addition | K29: Mercury Addition | L29: Nickel Addition | M29: Chromium Addition | N29: Aluminium Addition | O29: Iron Addition | P29: Sodium Addition | Q29: SO3 Addition kg/ha | R29: Selenium Addition | S29: Arsenic Addition | T29: Molybdenum Addition | U29: Fluoride Addition
B30: tonnes/ha | C30: kg/ha | D30: P2O5 kg/ha | E30: K2O kg/ha | F30: MgO kg/ha | G30: kg/ha | H30: kg/ha | I30: kg/ha | J30: kg/ha | K30: kg/ha | L30: kg/ha | M30: kg/ha | N30: kg/ha | O30: kg/ha | P30: kg/ha | Q30: kg/ha | R30: kg/ha | S30: kg/ha | T30: kg/ha | U30: kg/ha
A31: =C8 -> 1 | B31: 245 | C31: =IF(C$27="%w/w SAR",((C$28*10)*$B31),IF(C$27="%w/w DM",(((C$28*10)*($B$28/100))*$B31),IF(C$27="kg/t SAR",(C$28*$B31),IF(C$27="kg/t DM",((C$28*($B$28/100))*$B31),IF(C$27="mg/kg SAR",((C$28*0.001)*$B31),IF(C$27="mg/kg DM",(((C$28*0.001)*($B$28/100))*$B31),0)))))) -> 147 | D31: =(IF(D$27="%w/w SAR",((D$28*10)*$B31),IF(D$27="%w/w DM",(((D$28*10)*($B$28/100))*$B31),IF(D$27="kg/t SAR",(D$28*$B31),IF(D$27="kg/t DM",((D$28*($B$28/100))*$B31),IF(D$27="mg/kg SAR",((D$28*0.001)*$B31),IF(D$27="mg/kg DM",(((D$28*0.001)*($B$28/100))*$B31),"0")))))))*2.291 -> 55.455946 | E31: =(IF(E$27="%w/w SAR",((E$28*10)*$B31),IF(E$27="%w/w DM",(((E$28*10)*($B$28/100))*$B31),IF(E$27="kg/t SAR",(E$28*$B31),IF(E$27="kg/t DM",((E$28*($B$28/100))*$B31),IF(E$27="mg/kg SAR",((E$28*0.001)*$B31),IF(E$27="mg/kg DM",(((E$28*0.001)*($B$28/100))*$B31),"0")))))))*1.205 -> 49.893025 | F31: =(IF(F$27="%w/w SAR",((F$28*10)*$B31),IF(F$27="%w/w DM",(((F$28*10)*($B$28/100))*$B31),IF(F$27="kg/t SAR",(F$28*$B31),IF(F$27="kg/t DM",((F$28*($B$28/100))*$B31),IF(F$27="mg/kg SAR",((F$28*0.001)*$B31),IF(F$27="mg/kg DM",(((F$28*0.001)*($B$28/100))*$B31),"0")))))))*1.658 -> 10.398976 | G31: =IF(G$27="%w/w SAR",((G$28*10)*$B31),IF(G$27="%w/w DM",(((G$28*10)*($B$28/100))*$B31),IF(G$27="kg/t SAR",(G$28*$B31),IF(G$27="kg/t DM",((G$28*($B$28/100))*$B31),IF(G$27="mg/kg SAR",((G$28*0.001)*$B31),IF(G$27="mg/kg DM",(((G$28*0.001)*($B$28/100))*$B31),0)))))) -> 0.054145 | H31: =IF(H$27="%w/w SAR",((H$28*10)*$B31),IF(H$27="%w/w DM",(((H$28*10)*($B$28/100))*$B31),IF(H$27="kg/t SAR",(H$28*$B31),IF(H$27="kg/t DM",((H$28*($B$28/100))*$B31),IF(H$27="mg/kg SAR",((H$28*0.001)*$B31),IF(H$27="mg/kg DM",(((H$28*0.001)*($B$28/100))*$B31),0)))))) -> 0.245 | I31: =IF(I$27="%w/w SAR",((I$28*10)*$B31),IF(I$27="%w/w DM",(((I$28*10)*($B$28/100))*$B31),IF(I$27="kg/t SAR",(I$28*$B31),IF(I$27="kg/t DM",((I$28*($B$28/100))*$B31),IF(I$27="mg/kg SAR",((I$28*0.001)*$B31),IF(I$27="mg/kg DM",(((I$28*0.001)*($B$28/100))*$B31),0)))))) -> 0.1225 | J31: =IF(J$27="%w/w SAR",((J$28*10)*$B31),IF(J$27="%w/w DM",(((J$28*10)*($B$28/100))*$B31),IF(J$27="kg/t SAR",(J$28*$B31),IF(J$27="kg/t DM",((J$28*($B$28/100))*$B31),IF(J$27="mg/kg SAR",((J$28*0.001)*$B31),IF(J$27="mg/kg DM",(((J$28*0.001)*($B$28/100))*$B31),0)))))) -> 0.00245 | K31: =IF(K$27="%w/w SAR",((K$28*10)*$B31),IF(K$27="%w/w DM",(((K$28*10)*($B$28/100))*$B31),IF(K$27="kg/t SAR",(K$28*$B31),IF(K$27="kg/t DM",((K$28*($B$28/100))*$B31),IF(K$27="mg/kg SAR",((K$28*0.001)*$B31),IF(K$27="mg/kg DM",(((K$28*0.001)*($B$28/100))*$B31),0)))))) -> 0.01225 | L31: =IF(L$27="%w/w SAR",((L$28*10)*$B31),IF(L$27="%w/w DM",(((L$28*10)*($B$28/100))*$B31),IF(L$27="kg/t SAR",(L$28*$B31),IF(L$27="kg/t DM",((L$28*($B$28/100))*$B31),IF(L$27="mg/kg SAR",((L$28*0.001)*$B31),IF(L$27="mg/kg DM",(((L$28*0.001)*($B$28/100))*$B31),0)))))) -> 0.049 | M31: =IF(M$27="%w/w SAR",((M$28*10)*$B31),IF(M$27="%w/w DM",(((M$28*10)*($B$28/100))*$B31),IF(M$27="kg/t SAR",(M$28*$B31),IF(M$27="kg/t DM",((M$28*($B$28/100))*$B31),IF(M$27="mg/kg SAR",((M$28*0.001)*$B31),IF(M$27="mg/kg DM",(((M$28*0.001)*($B$28/100))*$B31),0)))))) -> 0.049 | N31: =IF(N$27="%w/w SAR",((N$28*10)*$B31),IF(N$27="%w/w DM",(((N$28*10)*($B$28/100))*$B31),IF(N$27="kg/t SAR",(N$28*$B31),IF(N$27="kg/t DM",((N$28*($B$28/100))*$B31),IF(N$27="mg/kg SAR",((N$28*0.001)*$B31),IF(N$27="mg/kg DM",(((N$28*0.001)*($B$28/100))*$B31),0)))))) -> 0 | ... P31: =IF(P$27="%w/w SAR",((P$28*10)*$B31),IF(P$27="%w/w DM",(((P$28*10)*($B$28/100))*$B31),IF(P$27="kg/t SAR",(P$28*$B31),IF(P$27="kg/t DM",((P$28*($B$28/100))*$B31),IF(P$27="mg/kg SAR",((P$28*0.001)*$B31),IF(P$27="mg/kg DM",(((P$28*0.001)*($B$28/100))*$B31),0)))))) -> 82.565 | Q31: =(IF(Q$27="%w/w SAR",((Q$28*10)*$B31),IF(Q$27="%w/w DM",(((Q$28*10)*($B$28/100))*$B31),IF(Q$27="kg/t SAR",(Q$28*$B31),IF(Q$27="kg/t DM",((Q$28*($B$28/100))*$B31),IF(Q$27="mg/kg SAR",((Q$28*0.001)*$B31),IF(Q$27="mg/kg DM",(((Q$28*0.001)*($B$28/100))*$B31),0)))))))*2.5 -> 47.71375 | R31: =IF(R$27="%w/w SAR",((R$28*10)*$B31),IF(R$27="%w/w DM",(((R$28*10)*($B$28/100))*$B31),IF(R$27="kg/t SAR",(R$28*$B31),IF(R$27="kg/t DM",((R$28*($B$28/100))*$B31),IF(R$27="mg/kg SAR",((R$28*0.001)*$B31),IF(R$27="mg/kg DM",(((R$28*0.001)*($B$28/100))*$B31),0)))))) -> 0 | S31: =IF(S$27="%w/w SAR",((S$28*10)*$B31),IF(S$27="%w/w DM",(((S$28*10)*($B$28/100))*$B31),IF(S$27="kg/t SAR",(S$28*$B31),IF(S$27="kg/t DM",((S$28*($B$28/100))*$B31),IF(S$27="mg/kg SAR",((S$28*0.001)*$B31),IF(S$27="mg/kg DM",(((S$28*0.001)*($B$28/100))*$B31),0)))))) -> 0 | T31: =IF(T$27="%w/w SAR",((T$28*10)*$B31),IF(T$27="%w/w DM",(((T$28*10)*($B$28/100))*$B31),IF(T$27="kg/t SAR",(T$28*$B31),IF(T$27="kg/t DM",((T$28*($B$28/100))*$B31),IF(T$27="mg/kg SAR",((T$28*0.001)*$B31),IF(T$27="mg/kg DM",(((T$28*0.001)*($B$28/100))*$B31),0)))))) -> 0 | U31: =IF(U$27="%w/w SAR",((U$28*10)*$B31),IF(U$27="%w/w DM",(((U$28*10)*($B$28/100))*$B31),IF(U$27="kg/t SAR",(U$28*$B31),IF(U$27="kg/t DM",((U$28*($B$28/100))*$B31),IF(U$27="mg/kg SAR",((U$28*0.001)*$B31),IF(U$27="mg/kg DM",(((U$28*0.001)*($B$28/100))*$B31),0)))))) -> 0
A32: =D8 -> 2 | B32: 245 | C32: =IF(C$27="%w/w SAR",((C$28*10)*$B32),IF(C$27="%w/w DM",(((C$28*10)*($B$28/100))*$B32),IF(C$27="kg/t SAR",(C$28*$B32),IF(C$27="kg/t DM",((C$28*($B$28/100))*$B32),IF(C$27="mg/kg SAR",((C$28*0.001)*$B32),IF(C$27="mg/kg DM",(((C$28*0.001)*($B$28/100))*$B32),0)))))) -> 147 | D32: =(IF(D$27="%w/w SAR",((D$28*10)*$B32),IF(D$27="%w/w DM",(((D$28*10)*($B$28/100))*$B32),IF(D$27="kg/t SAR",(D$28*$B32),IF(D$27="kg/t DM",((D$28*($B$28/100))*$B32),IF(D$27="mg/kg SAR",((D$28*0.001)*$B32),IF(D$27="mg/kg DM",(((D$28*0.001)*($B$28/100))*$B32),"0")))))))*2.291 -> 55.455946 | E32: =(IF(E$27="%w/w SAR",((E$28*10)*$B32),IF(E$27="%w/w DM",(((E$28*10)*($B$28/100))*$B32),IF(E$27="kg/t SAR",(E$28*$B32),IF(E$27="kg/t DM",((E$28*($B$28/100))*$B32),IF(E$27="mg/kg SAR",((E$28*0.001)*$B32),IF(E$27="mg/kg DM",(((E$28*0.001)*($B$28/100))*$B32),"0")))))))*1.205 -> 49.893025 | F32: =(IF(F$27="%w/w SAR",((F$28*10)*$B32),IF(F$27="%w/w DM",(((F$28*10)*($B$28/100))*$B32),IF(F$27="kg/t SAR",(F$28*$B32),IF(F$27="kg/t DM",((F$28*($B$28/100))*$B32),IF(F$27="mg/kg SAR",((F$28*0.001)*$B32),IF(F$27="mg/kg DM",(((F$28*0.001)*($B$28/100))*$B32),"0")))))))*1.658 -> 10.398976 | G32: =IF(G$27="%w/w SAR",((G$28*10)*$B32),IF(G$27="%w/w DM",(((G$28*10)*($B$28/100))*$B32),IF(G$27="kg/t SAR",(G$28*$B32),IF(G$27="kg/t DM",((G$28*($B$28/100))*$B32),IF(G$27="mg/kg SAR",((G$28*0.001)*$B32),IF(G$27="mg/kg DM",(((G$28*0.001)*($B$28/100))*$B32),0)))))) -> 0.054145 | H32: =IF(H$27="%w/w SAR",((H$28*10)*$B32),IF(H$27="%w/w DM",(((H$28*10)*($B$28/100))*$B32),IF(H$27="kg/t SAR",(H$28*$B32),IF(H$27="kg/t DM",((H$28*($B$28/100))*$B32),IF(H$27="mg/kg SAR",((H$28*0.001)*$B32),IF(H$27="mg/kg DM",(((H$28*0.001)*($B$28/100))*$B32),0)))))) -> 0.245 | I32: =IF(I$27="%w/w SAR",((I$28*10)*$B32),IF(I$27="%w/w DM",(((I$28*10)*($B$28/100))*$B32),IF(I$27="kg/t SAR",(I$28*$B32),IF(I$27="kg/t DM",((I$28*($B$28/100))*$B32),IF(I$27="mg/kg SAR",((I$28*0.001)*$B32),IF(I$27="mg/kg DM",(((I$28*0.001)*($B$28/100))*$B32),0)))))) -> 0.1225 | J32: =IF(J$27="%w/w SAR",((J$28*10)*$B32),IF(J$27="%w/w DM",(((J$28*10)*($B$28/100))*$B32),IF(J$27="kg/t SAR",(J$28*$B32),IF(J$27="kg/t DM",((J$28*($B$28/100))*$B32),IF(J$27="mg/kg SAR",((J$28*0.001)*$B32),IF(J$27="mg/kg DM",(((J$28*0.001)*($B$28/100))*$B32),0)))))) -> 0.00245 | K32: =IF(K$27="%w/w SAR",((K$28*10)*$B32),IF(K$27="%w/w DM",(((K$28*10)*($B$28/100))*$B32),IF(K$27="kg/t SAR",(K$28*$B32),IF(K$27="kg/t DM",((K$28*($B$28/100))*$B32),IF(K$27="mg/kg SAR",((K$28*0.001)*$B32),IF(K$27="mg/kg DM",(((K$28*0.001)*($B$28/100))*$B32),0)))))) -> 0.01225 | L32: =IF(L$27="%w/w SAR",((L$28*10)*$B32),IF(L$27="%w/w DM",(((L$28*10)*($B$28/100))*$B32),IF(L$27="kg/t SAR",(L$28*$B32),IF(L$27="kg/t DM",((L$28*($B$28/100))*$B32),IF(L$27="mg/kg SAR",((L$28*0.001)*$B32),IF(L$27="mg/kg DM",(((L$28*0.001)*($B$28/100))*$B32),0)))))) -> 0.049 | M32: =IF(M$27="%w/w SAR",((M$28*10)*$B32),IF(M$27="%w/w DM",(((M$28*10)*($B$28/100))*$B32),IF(M$27="kg/t SAR",(M$28*$B32),IF(M$27="kg/t DM",((M$28*($B$28/100))*$B32),IF(M$27="mg/kg SAR",((M$28*0.001)*$B32),IF(M$27="mg/kg DM",(((M$28*0.001)*($B$28/100))*$B32),0)))))) -> 0.049 | N32: =IF(N$27="%w/w SAR",((N$28*10)*$B32),IF(N$27="%w/w DM",(((N$28*10)*($B$28/100))*$B32),IF(N$27="kg/t SAR",(N$28*$B32),IF(N$27="kg/t DM",((N$28*($B$28/100))*$B32),IF(N$27="mg/kg SAR",((N$28*0.001)*$B32),IF(N$27="mg/kg DM",(((N$28*0.001)*($B$28/100))*$B32),0)))))) -> 0 | ... P32: =IF(P$27="%w/w SAR",((P$28*10)*$B32),IF(P$27="%w/w DM",(((P$28*10)*($B$28/100))*$B32),IF(P$27="kg/t SAR",(P$28*$B32),IF(P$27="kg/t DM",((P$28*($B$28/100))*$B32),IF(P$27="mg/kg SAR",((P$28*0.001)*$B32),IF(P$27="mg/kg DM",(((P$28*0.001)*($B$28/100))*$B32),0)))))) -> 82.565 | Q32: =(IF(Q$27="%w/w SAR",((Q$28*10)*$B32),IF(Q$27="%w/w DM",(((Q$28*10)*($B$28/100))*$B32),IF(Q$27="kg/t SAR",(Q$28*$B32),IF(Q$27="kg/t DM",((Q$28*($B$28/100))*$B32),IF(Q$27="mg/kg SAR",((Q$28*0.001)*$B32),IF(Q$27="mg/kg DM",(((Q$28*0.001)*($B$28/100))*$B32),0)))))))*2.5 -> 47.71375 | R32: =IF(R$27="%w/w SAR",((R$28*10)*$B32),IF(R$27="%w/w DM",(((R$28*10)*($B$28/100))*$B32),IF(R$27="kg/t SAR",(R$28*$B32),IF(R$27="kg/t DM",((R$28*($B$28/100))*$B32),IF(R$27="mg/kg SAR",((R$28*0.001)*$B32),IF(R$27="mg/kg DM",(((R$28*0.001)*($B$28/100))*$B32),0)))))) -> 0 | S32: =IF(S$27="%w/w SAR",((S$28*10)*$B32),IF(S$27="%w/w DM",(((S$28*10)*($B$28/100))*$B32),IF(S$27="kg/t SAR",(S$28*$B32),IF(S$27="kg/t DM",((S$28*($B$28/100))*$B32),IF(S$27="mg/kg SAR",((S$28*0.001)*$B32),IF(S$27="mg/kg DM",(((S$28*0.001)*($B$28/100))*$B32),0)))))) -> 0 | T32: =IF(T$27="%w/w SAR",((T$28*10)*$B32),IF(T$27="%w/w DM",(((T$28*10)*($B$28/100))*$B32),IF(T$27="kg/t SAR",(T$28*$B32),IF(T$27="kg/t DM",((T$28*($B$28/100))*$B32),IF(T$27="mg/kg SAR",((T$28*0.001)*$B32),IF(T$27="mg/kg DM",(((T$28*0.001)*($B$28/100))*$B32),0)))))) -> 0 | U32: =IF(U$27="%w/w SAR",((U$28*10)*$B32),IF(U$27="%w/w DM",(((U$28*10)*($B$28/100))*$B32),IF(U$27="kg/t SAR",(U$28*$B32),IF(U$27="kg/t DM",((U$28*($B$28/100))*$B32),IF(U$27="mg/kg SAR",((U$28*0.001)*$B32),IF(U$27="mg/kg DM",(((U$28*0.001)*($B$28/100))*$B32),0)))))) -> 0
A33: =E8 -> 3 | B33: 245 | C33: =IF(C$27="%w/w SAR",((C$28*10)*$B33),IF(C$27="%w/w DM",(((C$28*10)*($B$28/100))*$B33),IF(C$27="kg/t SAR",(C$28*$B33),IF(C$27="kg/t DM",((C$28*($B$28/100))*$B33),IF(C$27="mg/kg SAR",((C$28*0.001)*$B33),IF(C$27="mg/kg DM",(((C$28*0.001)*($B$28/100))*$B33),0)))))) -> 147 | D33: =(IF(D$27="%w/w SAR",((D$28*10)*$B33),IF(D$27="%w/w DM",(((D$28*10)*($B$28/100))*$B33),IF(D$27="kg/t SAR",(D$28*$B33),IF(D$27="kg/t DM",((D$28*($B$28/100))*$B33),IF(D$27="mg/kg SAR",((D$28*0.001)*$B33),IF(D$27="mg/kg DM",(((D$28*0.001)*($B$28/100))*$B33),"0")))))))*2.291 -> 55.455946 | E33: =(IF(E$27="%w/w SAR",((E$28*10)*$B33),IF(E$27="%w/w DM",(((E$28*10)*($B$28/100))*$B33),IF(E$27="kg/t SAR",(E$28*$B33),IF(E$27="kg/t DM",((E$28*($B$28/100))*$B33),IF(E$27="mg/kg SAR",((E$28*0.001)*$B33),IF(E$27="mg/kg DM",(((E$28*0.001)*($B$28/100))*$B33),"0")))))))*1.205 -> 49.893025 | F33: =(IF(F$27="%w/w SAR",((F$28*10)*$B33),IF(F$27="%w/w DM",(((F$28*10)*($B$28/100))*$B33),IF(F$27="kg/t SAR",(F$28*$B33),IF(F$27="kg/t DM",((F$28*($B$28/100))*$B33),IF(F$27="mg/kg SAR",((F$28*0.001)*$B33),IF(F$27="mg/kg DM",(((F$28*0.001)*($B$28/100))*$B33),"0")))))))*1.658 -> 10.398976 | G33: =IF(G$27="%w/w SAR",((G$28*10)*$B33),IF(G$27="%w/w DM",(((G$28*10)*($B$28/100))*$B33),IF(G$27="kg/t SAR",(G$28*$B33),IF(G$27="kg/t DM",((G$28*($B$28/100))*$B33),IF(G$27="mg/kg SAR",((G$28*0.001)*$B33),IF(G$27="mg/kg DM",(((G$28*0.001)*($B$28/100))*$B33),0)))))) -> 0.054145 | H33: =IF(H$27="%w/w SAR",((H$28*10)*$B33),IF(H$27="%w/w DM",(((H$28*10)*($B$28/100))*$B33),IF(H$27="kg/t SAR",(H$28*$B33),IF(H$27="kg/t DM",((H$28*($B$28/100))*$B33),IF(H$27="mg/kg SAR",((H$28*0.001)*$B33),IF(H$27="mg/kg DM",(((H$28*0.001)*($B$28/100))*$B33),0)))))) -> 0.245 | I33: =IF(I$27="%w/w SAR",((I$28*10)*$B33),IF(I$27="%w/w DM",(((I$28*10)*($B$28/100))*$B33),IF(I$27="kg/t SAR",(I$28*$B33),IF(I$27="kg/t DM",((I$28*($B$28/100))*$B33),IF(I$27="mg/kg SAR",((I$28*0.001)*$B33),IF(I$27="mg/kg DM",(((I$28*0.001)*($B$28/100))*$B33),0)))))) -> 0.1225 | J33: =IF(J$27="%w/w SAR",((J$28*10)*$B33),IF(J$27="%w/w DM",(((J$28*10)*($B$28/100))*$B33),IF(J$27="kg/t SAR",(J$28*$B33),IF(J$27="kg/t DM",((J$28*($B$28/100))*$B33),IF(J$27="mg/kg SAR",((J$28*0.001)*$B33),IF(J$27="mg/kg DM",(((J$28*0.001)*($B$28/100))*$B33),0)))))) -> 0.00245 | K33: =IF(K$27="%w/w SAR",((K$28*10)*$B33),IF(K$27="%w/w DM",(((K$28*10)*($B$28/100))*$B33),IF(K$27="kg/t SAR",(K$28*$B33),IF(K$27="kg/t DM",((K$28*($B$28/100))*$B33),IF(K$27="mg/kg SAR",((K$28*0.001)*$B33),IF(K$27="mg/kg DM",(((K$28*0.001)*($B$28/100))*$B33),0)))))) -> 0.01225 | L33: =IF(L$27="%w/w SAR",((L$28*10)*$B33),IF(L$27="%w/w DM",(((L$28*10)*($B$28/100))*$B33),IF(L$27="kg/t SAR",(L$28*$B33),IF(L$27="kg/t DM",((L$28*($B$28/100))*$B33),IF(L$27="mg/kg SAR",((L$28*0.001)*$B33),IF(L$27="mg/kg DM",(((L$28*0.001)*($B$28/100))*$B33),0)))))) -> 0.049 | M33: =IF(M$27="%w/w SAR",((M$28*10)*$B33),IF(M$27="%w/w DM",(((M$28*10)*($B$28/100))*$B33),IF(M$27="kg/t SAR",(M$28*$B33),IF(M$27="kg/t DM",((M$28*($B$28/100))*$B33),IF(M$27="mg/kg SAR",((M$28*0.001)*$B33),IF(M$27="mg/kg DM",(((M$28*0.001)*($B$28/100))*$B33),0)))))) -> 0.049 | N33: =IF(N$27="%w/w SAR",((N$28*10)*$B33),IF(N$27="%w/w DM",(((N$28*10)*($B$28/100))*$B33),IF(N$27="kg/t SAR",(N$28*$B33),IF(N$27="kg/t DM",((N$28*($B$28/100))*$B33),IF(N$27="mg/kg SAR",((N$28*0.001)*$B33),IF(N$27="mg/kg DM",(((N$28*0.001)*($B$28/100))*$B33),0)))))) -> 0 | ... P33: =IF(P$27="%w/w SAR",((P$28*10)*$B33),IF(P$27="%w/w DM",(((P$28*10)*($B$28/100))*$B33),IF(P$27="kg/t SAR",(P$28*$B33),IF(P$27="kg/t DM",((P$28*($B$28/100))*$B33),IF(P$27="mg/kg SAR",((P$28*0.001)*$B33),IF(P$27="mg/kg DM",(((P$28*0.001)*($B$28/100))*$B33),0)))))) -> 82.565 | Q33: =(IF(Q$27="%w/w SAR",((Q$28*10)*$B33),IF(Q$27="%w/w DM",(((Q$28*10)*($B$28/100))*$B33),IF(Q$27="kg/t SAR",(Q$28*$B33),IF(Q$27="kg/t DM",((Q$28*($B$28/100))*$B33),IF(Q$27="mg/kg SAR",((Q$28*0.001)*$B33),IF(Q$27="mg/kg DM",(((Q$28*0.001)*($B$28/100))*$B33),0)))))))*2.5 -> 47.71375 | R33: =IF(R$27="%w/w SAR",((R$28*10)*$B33),IF(R$27="%w/w DM",(((R$28*10)*($B$28/100))*$B33),IF(R$27="kg/t SAR",(R$28*$B33),IF(R$27="kg/t DM",((R$28*($B$28/100))*$B33),IF(R$27="mg/kg SAR",((R$28*0.001)*$B33),IF(R$27="mg/kg DM",(((R$28*0.001)*($B$28/100))*$B33),0)))))) -> 0 | S33: =IF(S$27="%w/w SAR",((S$28*10)*$B33),IF(S$27="%w/w DM",(((S$28*10)*($B$28/100))*$B33),IF(S$27="kg/t SAR",(S$28*$B33),IF(S$27="kg/t DM",((S$28*($B$28/100))*$B33),IF(S$27="mg/kg SAR",((S$28*0.001)*$B33),IF(S$27="mg/kg DM",(((S$28*0.001)*($B$28/100))*$B33),0)))))) -> 0 | T33: =IF(T$27="%w/w SAR",((T$28*10)*$B33),IF(T$27="%w/w DM",(((T$28*10)*($B$28/100))*$B33),IF(T$27="kg/t SAR",(T$28*$B33),IF(T$27="kg/t DM",((T$28*($B$28/100))*$B33),IF(T$27="mg/kg SAR",((T$28*0.001)*$B33),IF(T$27="mg/kg DM",(((T$28*0.001)*($B$28/100))*$B33),0)))))) -> 0 | U33: =IF(U$27="%w/w SAR",((U$28*10)*$B33),IF(U$27="%w/w DM",(((U$28*10)*($B$28/100))*$B33),IF(U$27="kg/t SAR",(U$28*$B33),IF(U$27="kg/t DM",((U$28*($B$28/100))*$B33),IF(U$27="mg/kg SAR",((U$28*0.001)*$B33),IF(U$27="mg/kg DM",(((U$28*0.001)*($B$28/100))*$B33),0)))))) -> 0
A34: =F8 -> 4 | B34: 0 | C34: =IF(C$27="%w/w SAR",((C$28*10)*$B34),IF(C$27="%w/w DM",(((C$28*10)*($B$28/100))*$B34),IF(C$27="kg/t SAR",(C$28*$B34),IF(C$27="kg/t DM",((C$28*($B$28/100))*$B34),IF(C$27="mg/kg SAR",((C$28*0.001)*$B34),IF(C$27="mg/kg DM",(((C$28*0.001)*($B$28/100))*$B34),0)))))) -> 0 | D34: =(IF(D$27="%w/w SAR",((D$28*10)*$B34),IF(D$27="%w/w DM",(((D$28*10)*($B$28/100))*$B34),IF(D$27="kg/t SAR",(D$28*$B34),IF(D$27="kg/t DM",((D$28*($B$28/100))*$B34),IF(D$27="mg/kg SAR",((D$28*0.001)*$B34),IF(D$27="mg/kg DM",(((D$28*0.001)*($B$28/100))*$B34),"0")))))))*2.291 -> 0 | E34: =(IF(E$27="%w/w SAR",((E$28*10)*$B34),IF(E$27="%w/w DM",(((E$28*10)*($B$28/100))*$B34),IF(E$27="kg/t SAR",(E$28*$B34),IF(E$27="kg/t DM",((E$28*($B$28/100))*$B34),IF(E$27="mg/kg SAR",((E$28*0.001)*$B34),IF(E$27="mg/kg DM",(((E$28*0.001)*($B$28/100))*$B34),"0")))))))*1.205 -> 0 | F34: =(IF(F$27="%w/w SAR",((F$28*10)*$B34),IF(F$27="%w/w DM",(((F$28*10)*($B$28/100))*$B34),IF(F$27="kg/t SAR",(F$28*$B34),IF(F$27="kg/t DM",((F$28*($B$28/100))*$B34),IF(F$27="mg/kg SAR",((F$28*0.001)*$B34),IF(F$27="mg/kg DM",(((F$28*0.001)*($B$28/100))*$B34),"0")))))))*1.658 -> 0 | G34: =IF(G$27="%w/w SAR",((G$28*10)*$B34),IF(G$27="%w/w DM",(((G$28*10)*($B$28/100))*$B34),IF(G$27="kg/t SAR",(G$28*$B34),IF(G$27="kg/t DM",((G$28*($B$28/100))*$B34),IF(G$27="mg/kg SAR",((G$28*0.001)*$B34),IF(G$27="mg/kg DM",(((G$28*0.001)*($B$28/100))*$B34),0)))))) -> 0 | H34: =IF(H$27="%w/w SAR",((H$28*10)*$B34),IF(H$27="%w/w DM",(((H$28*10)*($B$28/100))*$B34),IF(H$27="kg/t SAR",(H$28*$B34),IF(H$27="kg/t DM",((H$28*($B$28/100))*$B34),IF(H$27="mg/kg SAR",((H$28*0.001)*$B34),IF(H$27="mg/kg DM",(((H$28*0.001)*($B$28/100))*$B34),0)))))) -> 0 | I34: =IF(I$27="%w/w SAR",((I$28*10)*$B34),IF(I$27="%w/w DM",(((I$28*10)*($B$28/100))*$B34),IF(I$27="kg/t SAR",(I$28*$B34),IF(I$27="kg/t DM",((I$28*($B$28/100))*$B34),IF(I$27="mg/kg SAR",((I$28*0.001)*$B34),IF(I$27="mg/kg DM",(((I$28*0.001)*($B$28/100))*$B34),0)))))) -> 0 | J34: =IF(J$27="%w/w SAR",((J$28*10)*$B34),IF(J$27="%w/w DM",(((J$28*10)*($B$28/100))*$B34),IF(J$27="kg/t SAR",(J$28*$B34),IF(J$27="kg/t DM",((J$28*($B$28/100))*$B34),IF(J$27="mg/kg SAR",((J$28*0.001)*$B34),IF(J$27="mg/kg DM",(((J$28*0.001)*($B$28/100))*$B34),0)))))) -> 0 | K34: =IF(K$27="%w/w SAR",((K$28*10)*$B34),IF(K$27="%w/w DM",(((K$28*10)*($B$28/100))*$B34),IF(K$27="kg/t SAR",(K$28*$B34),IF(K$27="kg/t DM",((K$28*($B$28/100))*$B34),IF(K$27="mg/kg SAR",((K$28*0.001)*$B34),IF(K$27="mg/kg DM",(((K$28*0.001)*($B$28/100))*$B34),0)))))) -> 0 | L34: =IF(L$27="%w/w SAR",((L$28*10)*$B34),IF(L$27="%w/w DM",(((L$28*10)*($B$28/100))*$B34),IF(L$27="kg/t SAR",(L$28*$B34),IF(L$27="kg/t DM",((L$28*($B$28/100))*$B34),IF(L$27="mg/kg SAR",((L$28*0.001)*$B34),IF(L$27="mg/kg DM",(((L$28*0.001)*($B$28/100))*$B34),0)))))) -> 0 | M34: =IF(M$27="%w/w SAR",((M$28*10)*$B34),IF(M$27="%w/w DM",(((M$28*10)*($B$28/100))*$B34),IF(M$27="kg/t SAR",(M$28*$B34),IF(M$27="kg/t DM",((M$28*($B$28/100))*$B34),IF(M$27="mg/kg SAR",((M$28*0.001)*$B34),IF(M$27="mg/kg DM",(((M$28*0.001)*($B$28/100))*$B34),0)))))) -> 0 | N34: =IF(N$27="%w/w SAR",((N$28*10)*$B34),IF(N$27="%w/w DM",(((N$28*10)*($B$28/100))*$B34),IF(N$27="kg/t SAR",(N$28*$B34),IF(N$27="kg/t DM",((N$28*($B$28/100))*$B34),IF(N$27="mg/kg SAR",((N$28*0.001)*$B34),IF(N$27="mg/kg DM",(((N$28*0.001)*($B$28/100))*$B34),0)))))) -> 0 | ... P34: =IF(P$27="%w/w SAR",((P$28*10)*$B34),IF(P$27="%w/w DM",(((P$28*10)*($B$28/100))*$B34),IF(P$27="kg/t SAR",(P$28*$B34),IF(P$27="kg/t DM",((P$28*($B$28/100))*$B34),IF(P$27="mg/kg SAR",((P$28*0.001)*$B34),IF(P$27="mg/kg DM",(((P$28*0.001)*($B$28/100))*$B34),0)))))) -> 0 | Q34: =(IF(Q$27="%w/w SAR",((Q$28*10)*$B34),IF(Q$27="%w/w DM",(((Q$28*10)*($B$28/100))*$B34),IF(Q$27="kg/t SAR",(Q$28*$B34),IF(Q$27="kg/t DM",((Q$28*($B$28/100))*$B34),IF(Q$27="mg/kg SAR",((Q$28*0.001)*$B34),IF(Q$27="mg/kg DM",(((Q$28*0.001)*($B$28/100))*$B34),0)))))))*2.5 -> 0 | R34: =IF(R$27="%w/w SAR",((R$28*10)*$B34),IF(R$27="%w/w DM",(((R$28*10)*($B$28/100))*$B34),IF(R$27="kg/t SAR",(R$28*$B34),IF(R$27="kg/t DM",((R$28*($B$28/100))*$B34),IF(R$27="mg/kg SAR",((R$28*0.001)*$B34),IF(R$27="mg/kg DM",(((R$28*0.001)*($B$28/100))*$B34),0)))))) -> 0 | S34: =IF(S$27="%w/w SAR",((S$28*10)*$B34),IF(S$27="%w/w DM",(((S$28*10)*($B$28/100))*$B34),IF(S$27="kg/t SAR",(S$28*$B34),IF(S$27="kg/t DM",((S$28*($B$28/100))*$B34),IF(S$27="mg/kg SAR",((S$28*0.001)*$B34),IF(S$27="mg/kg DM",(((S$28*0.001)*($B$28/100))*$B34),0)))))) -> 0 | T34: =IF(T$27="%w/w SAR",((T$28*10)*$B34),IF(T$27="%w/w DM",(((T$28*10)*($B$28/100))*$B34),IF(T$27="kg/t SAR",(T$28*$B34),IF(T$27="kg/t DM",((T$28*($B$28/100))*$B34),IF(T$27="mg/kg SAR",((T$28*0.001)*$B34),IF(T$27="mg/kg DM",(((T$28*0.001)*($B$28/100))*$B34),0)))))) -> 0 | U34: =IF(U$27="%w/w SAR",((U$28*10)*$B34),IF(U$27="%w/w DM",(((U$28*10)*($B$28/100))*$B34),IF(U$27="kg/t SAR",(U$28*$B34),IF(U$27="kg/t DM",((U$28*($B$28/100))*$B34),IF(U$27="mg/kg SAR",((U$28*0.001)*$B34),IF(U$27="mg/kg DM",(((U$28*0.001)*($B$28/100))*$B34),0)))))) -> 0
A35: =G8 -> 5 | B35: 245 | C35: =IF(C$27="%w/w SAR",((C$28*10)*$B35),IF(C$27="%w/w DM",(((C$28*10)*($B$28/100))*$B35),IF(C$27="kg/t SAR",(C$28*$B35),IF(C$27="kg/t DM",((C$28*($B$28/100))*$B35),IF(C$27="mg/kg SAR",((C$28*0.001)*$B35),IF(C$27="mg/kg DM",(((C$28*0.001)*($B$28/100))*$B35),0)))))) -> 147 | D35: =(IF(D$27="%w/w SAR",((D$28*10)*$B35),IF(D$27="%w/w DM",(((D$28*10)*($B$28/100))*$B35),IF(D$27="kg/t SAR",(D$28*$B35),IF(D$27="kg/t DM",((D$28*($B$28/100))*$B35),IF(D$27="mg/kg SAR",((D$28*0.001)*$B35),IF(D$27="mg/kg DM",(((D$28*0.001)*($B$28/100))*$B35),"0")))))))*2.291 -> 55.455946 | E35: =(IF(E$27="%w/w SAR",((E$28*10)*$B35),IF(E$27="%w/w DM",(((E$28*10)*($B$28/100))*$B35),IF(E$27="kg/t SAR",(E$28*$B35),IF(E$27="kg/t DM",((E$28*($B$28/100))*$B35),IF(E$27="mg/kg SAR",((E$28*0.001)*$B35),IF(E$27="mg/kg DM",(((E$28*0.001)*($B$28/100))*$B35),"0")))))))*1.205 -> 49.893025 | F35: =(IF(F$27="%w/w SAR",((F$28*10)*$B35),IF(F$27="%w/w DM",(((F$28*10)*($B$28/100))*$B35),IF(F$27="kg/t SAR",(F$28*$B35),IF(F$27="kg/t DM",((F$28*($B$28/100))*$B35),IF(F$27="mg/kg SAR",((F$28*0.001)*$B35),IF(F$27="mg/kg DM",(((F$28*0.001)*($B$28/100))*$B35),"0")))))))*1.658 -> 10.398976 | G35: =IF(G$27="%w/w SAR",((G$28*10)*$B35),IF(G$27="%w/w DM",(((G$28*10)*($B$28/100))*$B35),IF(G$27="kg/t SAR",(G$28*$B35),IF(G$27="kg/t DM",((G$28*($B$28/100))*$B35),IF(G$27="mg/kg SAR",((G$28*0.001)*$B35),IF(G$27="mg/kg DM",(((G$28*0.001)*($B$28/100))*$B35),0)))))) -> 0.054145 | H35: =IF(H$27="%w/w SAR",((H$28*10)*$B35),IF(H$27="%w/w DM",(((H$28*10)*($B$28/100))*$B35),IF(H$27="kg/t SAR",(H$28*$B35),IF(H$27="kg/t DM",((H$28*($B$28/100))*$B35),IF(H$27="mg/kg SAR",((H$28*0.001)*$B35),IF(H$27="mg/kg DM",(((H$28*0.001)*($B$28/100))*$B35),0)))))) -> 0.245 | I35: =IF(I$27="%w/w SAR",((I$28*10)*$B35),IF(I$27="%w/w DM",(((I$28*10)*($B$28/100))*$B35),IF(I$27="kg/t SAR",(I$28*$B35),IF(I$27="kg/t DM",((I$28*($B$28/100))*$B35),IF(I$27="mg/kg SAR",((I$28*0.001)*$B35),IF(I$27="mg/kg DM",(((I$28*0.001)*($B$28/100))*$B35),0)))))) -> 0.1225 | J35: =IF(J$27="%w/w SAR",((J$28*10)*$B35),IF(J$27="%w/w DM",(((J$28*10)*($B$28/100))*$B35),IF(J$27="kg/t SAR",(J$28*$B35),IF(J$27="kg/t DM",((J$28*($B$28/100))*$B35),IF(J$27="mg/kg SAR",((J$28*0.001)*$B35),IF(J$27="mg/kg DM",(((J$28*0.001)*($B$28/100))*$B35),0)))))) -> 0.00245 | K35: =IF(K$27="%w/w SAR",((K$28*10)*$B35),IF(K$27="%w/w DM",(((K$28*10)*($B$28/100))*$B35),IF(K$27="kg/t SAR",(K$28*$B35),IF(K$27="kg/t DM",((K$28*($B$28/100))*$B35),IF(K$27="mg/kg SAR",((K$28*0.001)*$B35),IF(K$27="mg/kg DM",(((K$28*0.001)*($B$28/100))*$B35),0)))))) -> 0.01225 | L35: =IF(L$27="%w/w SAR",((L$28*10)*$B35),IF(L$27="%w/w DM",(((L$28*10)*($B$28/100))*$B35),IF(L$27="kg/t SAR",(L$28*$B35),IF(L$27="kg/t DM",((L$28*($B$28/100))*$B35),IF(L$27="mg/kg SAR",((L$28*0.001)*$B35),IF(L$27="mg/kg DM",(((L$28*0.001)*($B$28/100))*$B35),0)))))) -> 0.049 | M35: =IF(M$27="%w/w SAR",((M$28*10)*$B35),IF(M$27="%w/w DM",(((M$28*10)*($B$28/100))*$B35),IF(M$27="kg/t SAR",(M$28*$B35),IF(M$27="kg/t DM",((M$28*($B$28/100))*$B35),IF(M$27="mg/kg SAR",((M$28*0.001)*$B35),IF(M$27="mg/kg DM",(((M$28*0.001)*($B$28/100))*$B35),0)))))) -> 0.049 | N35: =IF(N$27="%w/w SAR",((N$28*10)*$B35),IF(N$27="%w/w DM",(((N$28*10)*($B$28/100))*$B35),IF(N$27="kg/t SAR",(N$28*$B35),IF(N$27="kg/t DM",((N$28*($B$28/100))*$B35),IF(N$27="mg/kg SAR",((N$28*0.001)*$B35),IF(N$27="mg/kg DM",(((N$28*0.001)*($B$28/100))*$B35),0)))))) -> 0 | ... P35: =IF(P$27="%w/w SAR",((P$28*10)*$B35),IF(P$27="%w/w DM",(((P$28*10)*($B$28/100))*$B35),IF(P$27="kg/t SAR",(P$28*$B35),IF(P$27="kg/t DM",((P$28*($B$28/100))*$B35),IF(P$27="mg/kg SAR",((P$28*0.001)*$B35),IF(P$27="mg/kg DM",(((P$28*0.001)*($B$28/100))*$B35),0)))))) -> 82.565 | Q35: =(IF(Q$27="%w/w SAR",((Q$28*10)*$B35),IF(Q$27="%w/w DM",(((Q$28*10)*($B$28/100))*$B35),IF(Q$27="kg/t SAR",(Q$28*$B35),IF(Q$27="kg/t DM",((Q$28*($B$28/100))*$B35),IF(Q$27="mg/kg SAR",((Q$28*0.001)*$B35),IF(Q$27="mg/kg DM",(((Q$28*0.001)*($B$28/100))*$B35),0)))))))*2.5 -> 47.71375 | R35: =IF(R$27="%w/w SAR",((R$28*10)*$B35),IF(R$27="%w/w DM",(((R$28*10)*($B$28/100))*$B35),IF(R$27="kg/t SAR",(R$28*$B35),IF(R$27="kg/t DM",((R$28*($B$28/100))*$B35),IF(R$27="mg/kg SAR",((R$28*0.001)*$B35),IF(R$27="mg/kg DM",(((R$28*0.001)*($B$28/100))*$B35),0)))))) -> 0 | S35: =IF(S$27="%w/w SAR",((S$28*10)*$B35),IF(S$27="%w/w DM",(((S$28*10)*($B$28/100))*$B35),IF(S$27="kg/t SAR",(S$28*$B35),IF(S$27="kg/t DM",((S$28*($B$28/100))*$B35),IF(S$27="mg/kg SAR",((S$28*0.001)*$B35),IF(S$27="mg/kg DM",(((S$28*0.001)*($B$28/100))*$B35),0)))))) -> 0 | T35: =IF(T$27="%w/w SAR",((T$28*10)*$B35),IF(T$27="%w/w DM",(((T$28*10)*($B$28/100))*$B35),IF(T$27="kg/t SAR",(T$28*$B35),IF(T$27="kg/t DM",((T$28*($B$28/100))*$B35),IF(T$27="mg/kg SAR",((T$28*0.001)*$B35),IF(T$27="mg/kg DM",(((T$28*0.001)*($B$28/100))*$B35),0)))))) -> 0 | U35: =IF(U$27="%w/w SAR",((U$28*10)*$B35),IF(U$27="%w/w DM",(((U$28*10)*($B$28/100))*$B35),IF(U$27="kg/t SAR",(U$28*$B35),IF(U$27="kg/t DM",((U$28*($B$28/100))*$B35),IF(U$27="mg/kg SAR",((U$28*0.001)*$B35),IF(U$27="mg/kg DM",(((U$28*0.001)*($B$28/100))*$B35),0)))))) -> 0
A36: =H8 -> 6 | B36: 245 | C36: =IF(C$27="%w/w SAR",((C$28*10)*$B36),IF(C$27="%w/w DM",(((C$28*10)*($B$28/100))*$B36),IF(C$27="kg/t SAR",(C$28*$B36),IF(C$27="kg/t DM",((C$28*($B$28/100))*$B36),IF(C$27="mg/kg SAR",((C$28*0.001)*$B36),IF(C$27="mg/kg DM",(((C$28*0.001)*($B$28/100))*$B36),0)))))) -> 147 | D36: =(IF(D$27="%w/w SAR",((D$28*10)*$B36),IF(D$27="%w/w DM",(((D$28*10)*($B$28/100))*$B36),IF(D$27="kg/t SAR",(D$28*$B36),IF(D$27="kg/t DM",((D$28*($B$28/100))*$B36),IF(D$27="mg/kg SAR",((D$28*0.001)*$B36),IF(D$27="mg/kg DM",(((D$28*0.001)*($B$28/100))*$B36),"0")))))))*2.291 -> 55.455946 | E36: =(IF(E$27="%w/w SAR",((E$28*10)*$B36),IF(E$27="%w/w DM",(((E$28*10)*($B$28/100))*$B36),IF(E$27="kg/t SAR",(E$28*$B36),IF(E$27="kg/t DM",((E$28*($B$28/100))*$B36),IF(E$27="mg/kg SAR",((E$28*0.001)*$B36),IF(E$27="mg/kg DM",(((E$28*0.001)*($B$28/100))*$B36),"0")))))))*1.205 -> 49.893025 | F36: =(IF(F$27="%w/w SAR",((F$28*10)*$B36),IF(F$27="%w/w DM",(((F$28*10)*($B$28/100))*$B36),IF(F$27="kg/t SAR",(F$28*$B36),IF(F$27="kg/t DM",((F$28*($B$28/100))*$B36),IF(F$27="mg/kg SAR",((F$28*0.001)*$B36),IF(F$27="mg/kg DM",(((F$28*0.001)*($B$28/100))*$B36),"0")))))))*1.658 -> 10.398976 | G36: =IF(G$27="%w/w SAR",((G$28*10)*$B36),IF(G$27="%w/w DM",(((G$28*10)*($B$28/100))*$B36),IF(G$27="kg/t SAR",(G$28*$B36),IF(G$27="kg/t DM",((G$28*($B$28/100))*$B36),IF(G$27="mg/kg SAR",((G$28*0.001)*$B36),IF(G$27="mg/kg DM",(((G$28*0.001)*($B$28/100))*$B36),0)))))) -> 0.054145 | H36: =IF(H$27="%w/w SAR",((H$28*10)*$B36),IF(H$27="%w/w DM",(((H$28*10)*($B$28/100))*$B36),IF(H$27="kg/t SAR",(H$28*$B36),IF(H$27="kg/t DM",((H$28*($B$28/100))*$B36),IF(H$27="mg/kg SAR",((H$28*0.001)*$B36),IF(H$27="mg/kg DM",(((H$28*0.001)*($B$28/100))*$B36),0)))))) -> 0.245 | I36: =IF(I$27="%w/w SAR",((I$28*10)*$B36),IF(I$27="%w/w DM",(((I$28*10)*($B$28/100))*$B36),IF(I$27="kg/t SAR",(I$28*$B36),IF(I$27="kg/t DM",((I$28*($B$28/100))*$B36),IF(I$27="mg/kg SAR",((I$28*0.001)*$B36),IF(I$27="mg/kg DM",(((I$28*0.001)*($B$28/100))*$B36),0)))))) -> 0.1225 | J36: =IF(J$27="%w/w SAR",((J$28*10)*$B36),IF(J$27="%w/w DM",(((J$28*10)*($B$28/100))*$B36),IF(J$27="kg/t SAR",(J$28*$B36),IF(J$27="kg/t DM",((J$28*($B$28/100))*$B36),IF(J$27="mg/kg SAR",((J$28*0.001)*$B36),IF(J$27="mg/kg DM",(((J$28*0.001)*($B$28/100))*$B36),0)))))) -> 0.00245 | K36: =IF(K$27="%w/w SAR",((K$28*10)*$B36),IF(K$27="%w/w DM",(((K$28*10)*($B$28/100))*$B36),IF(K$27="kg/t SAR",(K$28*$B36),IF(K$27="kg/t DM",((K$28*($B$28/100))*$B36),IF(K$27="mg/kg SAR",((K$28*0.001)*$B36),IF(K$27="mg/kg DM",(((K$28*0.001)*($B$28/100))*$B36),0)))))) -> 0.01225 | L36: =IF(L$27="%w/w SAR",((L$28*10)*$B36),IF(L$27="%w/w DM",(((L$28*10)*($B$28/100))*$B36),IF(L$27="kg/t SAR",(L$28*$B36),IF(L$27="kg/t DM",((L$28*($B$28/100))*$B36),IF(L$27="mg/kg SAR",((L$28*0.001)*$B36),IF(L$27="mg/kg DM",(((L$28*0.001)*($B$28/100))*$B36),0)))))) -> 0.049 | M36: =IF(M$27="%w/w SAR",((M$28*10)*$B36),IF(M$27="%w/w DM",(((M$28*10)*($B$28/100))*$B36),IF(M$27="kg/t SAR",(M$28*$B36),IF(M$27="kg/t DM",((M$28*($B$28/100))*$B36),IF(M$27="mg/kg SAR",((M$28*0.001)*$B36),IF(M$27="mg/kg DM",(((M$28*0.001)*($B$28/100))*$B36),0)))))) -> 0.049 | N36: =IF(N$27="%w/w SAR",((N$28*10)*$B36),IF(N$27="%w/w DM",(((N$28*10)*($B$28/100))*$B36),IF(N$27="kg/t SAR",(N$28*$B36),IF(N$27="kg/t DM",((N$28*($B$28/100))*$B36),IF(N$27="mg/kg SAR",((N$28*0.001)*$B36),IF(N$27="mg/kg DM",(((N$28*0.001)*($B$28/100))*$B36),0)))))) -> 0 | ... P36: =IF(P$27="%w/w SAR",((P$28*10)*$B36),IF(P$27="%w/w DM",(((P$28*10)*($B$28/100))*$B36),IF(P$27="kg/t SAR",(P$28*$B36),IF(P$27="kg/t DM",((P$28*($B$28/100))*$B36),IF(P$27="mg/kg SAR",((P$28*0.001)*$B36),IF(P$27="mg/kg DM",(((P$28*0.001)*($B$28/100))*$B36),0)))))) -> 82.565 | Q36: =(IF(Q$27="%w/w SAR",((Q$28*10)*$B36),IF(Q$27="%w/w DM",(((Q$28*10)*($B$28/100))*$B36),IF(Q$27="kg/t SAR",(Q$28*$B36),IF(Q$27="kg/t DM",((Q$28*($B$28/100))*$B36),IF(Q$27="mg/kg SAR",((Q$28*0.001)*$B36),IF(Q$27="mg/kg DM",(((Q$28*0.001)*($B$28/100))*$B36),0)))))))*2.5 -> 47.71375 | R36: =IF(R$27="%w/w SAR",((R$28*10)*$B36),IF(R$27="%w/w DM",(((R$28*10)*($B$28/100))*$B36),IF(R$27="kg/t SAR",(R$28*$B36),IF(R$27="kg/t DM",((R$28*($B$28/100))*$B36),IF(R$27="mg/kg SAR",((R$28*0.001)*$B36),IF(R$27="mg/kg DM",(((R$28*0.001)*($B$28/100))*$B36),0)))))) -> 0 | S36: =IF(S$27="%w/w SAR",((S$28*10)*$B36),IF(S$27="%w/w DM",(((S$28*10)*($B$28/100))*$B36),IF(S$27="kg/t SAR",(S$28*$B36),IF(S$27="kg/t DM",((S$28*($B$28/100))*$B36),IF(S$27="mg/kg SAR",((S$28*0.001)*$B36),IF(S$27="mg/kg DM",(((S$28*0.001)*($B$28/100))*$B36),0)))))) -> 0 | T36: =IF(T$27="%w/w SAR",((T$28*10)*$B36),IF(T$27="%w/w DM",(((T$28*10)*($B$28/100))*$B36),IF(T$27="kg/t SAR",(T$28*$B36),IF(T$27="kg/t DM",((T$28*($B$28/100))*$B36),IF(T$27="mg/kg SAR",((T$28*0.001)*$B36),IF(T$27="mg/kg DM",(((T$28*0.001)*($B$28/100))*$B36),0)))))) -> 0 | U36: =IF(U$27="%w/w SAR",((U$28*10)*$B36),IF(U$27="%w/w DM",(((U$28*10)*($B$28/100))*$B36),IF(U$27="kg/t SAR",(U$28*$B36),IF(U$27="kg/t DM",((U$28*($B$28/100))*$B36),IF(U$27="mg/kg SAR",((U$28*0.001)*$B36),IF(U$27="mg/kg DM",(((U$28*0.001)*($B$28/100))*$B36),0)))))) -> 0
A37: =I8 -> 7 | B37: 245 | C37: =IF(C$27="%w/w SAR",((C$28*10)*$B37),IF(C$27="%w/w DM",(((C$28*10)*($B$28/100))*$B37),IF(C$27="kg/t SAR",(C$28*$B37),IF(C$27="kg/t DM",((C$28*($B$28/100))*$B37),IF(C$27="mg/kg SAR",((C$28*0.001)*$B37),IF(C$27="mg/kg DM",(((C$28*0.001)*($B$28/100))*$B37),0)))))) -> 147 | D37: =(IF(D$27="%w/w SAR",((D$28*10)*$B37),IF(D$27="%w/w DM",(((D$28*10)*($B$28/100))*$B37),IF(D$27="kg/t SAR",(D$28*$B37),IF(D$27="kg/t DM",((D$28*($B$28/100))*$B37),IF(D$27="mg/kg SAR",((D$28*0.001)*$B37),IF(D$27="mg/kg DM",(((D$28*0.001)*($B$28/100))*$B37),"0")))))))*2.291 -> 55.455946 | E37: =(IF(E$27="%w/w SAR",((E$28*10)*$B37),IF(E$27="%w/w DM",(((E$28*10)*($B$28/100))*$B37),IF(E$27="kg/t SAR",(E$28*$B37),IF(E$27="kg/t DM",((E$28*($B$28/100))*$B37),IF(E$27="mg/kg SAR",((E$28*0.001)*$B37),IF(E$27="mg/kg DM",(((E$28*0.001)*($B$28/100))*$B37),"0")))))))*1.205 -> 49.893025 | F37: =(IF(F$27="%w/w SAR",((F$28*10)*$B37),IF(F$27="%w/w DM",(((F$28*10)*($B$28/100))*$B37),IF(F$27="kg/t SAR",(F$28*$B37),IF(F$27="kg/t DM",((F$28*($B$28/100))*$B37),IF(F$27="mg/kg SAR",((F$28*0.001)*$B37),IF(F$27="mg/kg DM",(((F$28*0.001)*($B$28/100))*$B37),"0")))))))*1.658 -> 10.398976 | G37: =IF(G$27="%w/w SAR",((G$28*10)*$B37),IF(G$27="%w/w DM",(((G$28*10)*($B$28/100))*$B37),IF(G$27="kg/t SAR",(G$28*$B37),IF(G$27="kg/t DM",((G$28*($B$28/100))*$B37),IF(G$27="mg/kg SAR",((G$28*0.001)*$B37),IF(G$27="mg/kg DM",(((G$28*0.001)*($B$28/100))*$B37),0)))))) -> 0.054145 | H37: =IF(H$27="%w/w SAR",((H$28*10)*$B37),IF(H$27="%w/w DM",(((H$28*10)*($B$28/100))*$B37),IF(H$27="kg/t SAR",(H$28*$B37),IF(H$27="kg/t DM",((H$28*($B$28/100))*$B37),IF(H$27="mg/kg SAR",((H$28*0.001)*$B37),IF(H$27="mg/kg DM",(((H$28*0.001)*($B$28/100))*$B37),0)))))) -> 0.245 | I37: =IF(I$27="%w/w SAR",((I$28*10)*$B37),IF(I$27="%w/w DM",(((I$28*10)*($B$28/100))*$B37),IF(I$27="kg/t SAR",(I$28*$B37),IF(I$27="kg/t DM",((I$28*($B$28/100))*$B37),IF(I$27="mg/kg SAR",((I$28*0.001)*$B37),IF(I$27="mg/kg DM",(((I$28*0.001)*($B$28/100))*$B37),0)))))) -> 0.1225 | J37: =IF(J$27="%w/w SAR",((J$28*10)*$B37),IF(J$27="%w/w DM",(((J$28*10)*($B$28/100))*$B37),IF(J$27="kg/t SAR",(J$28*$B37),IF(J$27="kg/t DM",((J$28*($B$28/100))*$B37),IF(J$27="mg/kg SAR",((J$28*0.001)*$B37),IF(J$27="mg/kg DM",(((J$28*0.001)*($B$28/100))*$B37),0)))))) -> 0.00245 | K37: =IF(K$27="%w/w SAR",((K$28*10)*$B37),IF(K$27="%w/w DM",(((K$28*10)*($B$28/100))*$B37),IF(K$27="kg/t SAR",(K$28*$B37),IF(K$27="kg/t DM",((K$28*($B$28/100))*$B37),IF(K$27="mg/kg SAR",((K$28*0.001)*$B37),IF(K$27="mg/kg DM",(((K$28*0.001)*($B$28/100))*$B37),0)))))) -> 0.01225 | L37: =IF(L$27="%w/w SAR",((L$28*10)*$B37),IF(L$27="%w/w DM",(((L$28*10)*($B$28/100))*$B37),IF(L$27="kg/t SAR",(L$28*$B37),IF(L$27="kg/t DM",((L$28*($B$28/100))*$B37),IF(L$27="mg/kg SAR",((L$28*0.001)*$B37),IF(L$27="mg/kg DM",(((L$28*0.001)*($B$28/100))*$B37),0)))))) -> 0.049 | M37: =IF(M$27="%w/w SAR",((M$28*10)*$B37),IF(M$27="%w/w DM",(((M$28*10)*($B$28/100))*$B37),IF(M$27="kg/t SAR",(M$28*$B37),IF(M$27="kg/t DM",((M$28*($B$28/100))*$B37),IF(M$27="mg/kg SAR",((M$28*0.001)*$B37),IF(M$27="mg/kg DM",(((M$28*0.001)*($B$28/100))*$B37),0)))))) -> 0.049 | N37: =IF(N$27="%w/w SAR",((N$28*10)*$B37),IF(N$27="%w/w DM",(((N$28*10)*($B$28/100))*$B37),IF(N$27="kg/t SAR",(N$28*$B37),IF(N$27="kg/t DM",((N$28*($B$28/100))*$B37),IF(N$27="mg/kg SAR",((N$28*0.001)*$B37),IF(N$27="mg/kg DM",(((N$28*0.001)*($B$28/100))*$B37),0)))))) -> 0 | ... P37: =IF(P$27="%w/w SAR",((P$28*10)*$B37),IF(P$27="%w/w DM",(((P$28*10)*($B$28/100))*$B37),IF(P$27="kg/t SAR",(P$28*$B37),IF(P$27="kg/t DM",((P$28*($B$28/100))*$B37),IF(P$27="mg/kg SAR",((P$28*0.001)*$B37),IF(P$27="mg/kg DM",(((P$28*0.001)*($B$28/100))*$B37),0)))))) -> 82.565 | Q37: =(IF(Q$27="%w/w SAR",((Q$28*10)*$B37),IF(Q$27="%w/w DM",(((Q$28*10)*($B$28/100))*$B37),IF(Q$27="kg/t SAR",(Q$28*$B37),IF(Q$27="kg/t DM",((Q$28*($B$28/100))*$B37),IF(Q$27="mg/kg SAR",((Q$28*0.001)*$B37),IF(Q$27="mg/kg DM",(((Q$28*0.001)*($B$28/100))*$B37),0)))))))*2.5 -> 47.71375 | R37: =IF(R$27="%w/w SAR",((R$28*10)*$B37),IF(R$27="%w/w DM",(((R$28*10)*($B$28/100))*$B37),IF(R$27="kg/t SAR",(R$28*$B37),IF(R$27="kg/t DM",((R$28*($B$28/100))*$B37),IF(R$27="mg/kg SAR",((R$28*0.001)*$B37),IF(R$27="mg/kg DM",(((R$28*0.001)*($B$28/100))*$B37),0)))))) -> 0 | S37: =IF(S$27="%w/w SAR",((S$28*10)*$B37),IF(S$27="%w/w DM",(((S$28*10)*($B$28/100))*$B37),IF(S$27="kg/t SAR",(S$28*$B37),IF(S$27="kg/t DM",((S$28*($B$28/100))*$B37),IF(S$27="mg/kg SAR",((S$28*0.001)*$B37),IF(S$27="mg/kg DM",(((S$28*0.001)*($B$28/100))*$B37),0)))))) -> 0 | T37: =IF(T$27="%w/w SAR",((T$28*10)*$B37),IF(T$27="%w/w DM",(((T$28*10)*($B$28/100))*$B37),IF(T$27="kg/t SAR",(T$28*$B37),IF(T$27="kg/t DM",((T$28*($B$28/100))*$B37),IF(T$27="mg/kg SAR",((T$28*0.001)*$B37),IF(T$27="mg/kg DM",(((T$28*0.001)*($B$28/100))*$B37),0)))))) -> 0 | U37: =IF(U$27="%w/w SAR",((U$28*10)*$B37),IF(U$27="%w/w DM",(((U$28*10)*($B$28/100))*$B37),IF(U$27="kg/t SAR",(U$28*$B37),IF(U$27="kg/t DM",((U$28*($B$28/100))*$B37),IF(U$27="mg/kg SAR",((U$28*0.001)*$B37),IF(U$27="mg/kg DM",(((U$28*0.001)*($B$28/100))*$B37),0)))))) -> 0
A38: =J8 -> 8 | B38: 245 | C38: =IF(C$27="%w/w SAR",((C$28*10)*$B38),IF(C$27="%w/w DM",(((C$28*10)*($B$28/100))*$B38),IF(C$27="kg/t SAR",(C$28*$B38),IF(C$27="kg/t DM",((C$28*($B$28/100))*$B38),IF(C$27="mg/kg SAR",((C$28*0.001)*$B38),IF(C$27="mg/kg DM",(((C$28*0.001)*($B$28/100))*$B38),0)))))) -> 147 | D38: =(IF(D$27="%w/w SAR",((D$28*10)*$B38),IF(D$27="%w/w DM",(((D$28*10)*($B$28/100))*$B38),IF(D$27="kg/t SAR",(D$28*$B38),IF(D$27="kg/t DM",((D$28*($B$28/100))*$B38),IF(D$27="mg/kg SAR",((D$28*0.001)*$B38),IF(D$27="mg/kg DM",(((D$28*0.001)*($B$28/100))*$B38),"0")))))))*2.291 -> 55.455946 | E38: =(IF(E$27="%w/w SAR",((E$28*10)*$B38),IF(E$27="%w/w DM",(((E$28*10)*($B$28/100))*$B38),IF(E$27="kg/t SAR",(E$28*$B38),IF(E$27="kg/t DM",((E$28*($B$28/100))*$B38),IF(E$27="mg/kg SAR",((E$28*0.001)*$B38),IF(E$27="mg/kg DM",(((E$28*0.001)*($B$28/100))*$B38),"0")))))))*1.205 -> 49.893025 | F38: =(IF(F$27="%w/w SAR",((F$28*10)*$B38),IF(F$27="%w/w DM",(((F$28*10)*($B$28/100))*$B38),IF(F$27="kg/t SAR",(F$28*$B38),IF(F$27="kg/t DM",((F$28*($B$28/100))*$B38),IF(F$27="mg/kg SAR",((F$28*0.001)*$B38),IF(F$27="mg/kg DM",(((F$28*0.001)*($B$28/100))*$B38),"0")))))))*1.658 -> 10.398976 | G38: =IF(G$27="%w/w SAR",((G$28*10)*$B38),IF(G$27="%w/w DM",(((G$28*10)*($B$28/100))*$B38),IF(G$27="kg/t SAR",(G$28*$B38),IF(G$27="kg/t DM",((G$28*($B$28/100))*$B38),IF(G$27="mg/kg SAR",((G$28*0.001)*$B38),IF(G$27="mg/kg DM",(((G$28*0.001)*($B$28/100))*$B38),0)))))) -> 0.054145 | H38: =IF(H$27="%w/w SAR",((H$28*10)*$B38),IF(H$27="%w/w DM",(((H$28*10)*($B$28/100))*$B38),IF(H$27="kg/t SAR",(H$28*$B38),IF(H$27="kg/t DM",((H$28*($B$28/100))*$B38),IF(H$27="mg/kg SAR",((H$28*0.001)*$B38),IF(H$27="mg/kg DM",(((H$28*0.001)*($B$28/100))*$B38),0)))))) -> 0.245 | I38: =IF(I$27="%w/w SAR",((I$28*10)*$B38),IF(I$27="%w/w DM",(((I$28*10)*($B$28/100))*$B38),IF(I$27="kg/t SAR",(I$28*$B38),IF(I$27="kg/t DM",((I$28*($B$28/100))*$B38),IF(I$27="mg/kg SAR",((I$28*0.001)*$B38),IF(I$27="mg/kg DM",(((I$28*0.001)*($B$28/100))*$B38),0)))))) -> 0.1225 | J38: =IF(J$27="%w/w SAR",((J$28*10)*$B38),IF(J$27="%w/w DM",(((J$28*10)*($B$28/100))*$B38),IF(J$27="kg/t SAR",(J$28*$B38),IF(J$27="kg/t DM",((J$28*($B$28/100))*$B38),IF(J$27="mg/kg SAR",((J$28*0.001)*$B38),IF(J$27="mg/kg DM",(((J$28*0.001)*($B$28/100))*$B38),0)))))) -> 0.00245 | K38: =IF(K$27="%w/w SAR",((K$28*10)*$B38),IF(K$27="%w/w DM",(((K$28*10)*($B$28/100))*$B38),IF(K$27="kg/t SAR",(K$28*$B38),IF(K$27="kg/t DM",((K$28*($B$28/100))*$B38),IF(K$27="mg/kg SAR",((K$28*0.001)*$B38),IF(K$27="mg/kg DM",(((K$28*0.001)*($B$28/100))*$B38),0)))))) -> 0.01225 | L38: =IF(L$27="%w/w SAR",((L$28*10)*$B38),IF(L$27="%w/w DM",(((L$28*10)*($B$28/100))*$B38),IF(L$27="kg/t SAR",(L$28*$B38),IF(L$27="kg/t DM",((L$28*($B$28/100))*$B38),IF(L$27="mg/kg SAR",((L$28*0.001)*$B38),IF(L$27="mg/kg DM",(((L$28*0.001)*($B$28/100))*$B38),0)))))) -> 0.049 | M38: =IF(M$27="%w/w SAR",((M$28*10)*$B38),IF(M$27="%w/w DM",(((M$28*10)*($B$28/100))*$B38),IF(M$27="kg/t SAR",(M$28*$B38),IF(M$27="kg/t DM",((M$28*($B$28/100))*$B38),IF(M$27="mg/kg SAR",((M$28*0.001)*$B38),IF(M$27="mg/kg DM",(((M$28*0.001)*($B$28/100))*$B38),0)))))) -> 0.049 | N38: =IF(N$27="%w/w SAR",((N$28*10)*$B38),IF(N$27="%w/w DM",(((N$28*10)*($B$28/100))*$B38),IF(N$27="kg/t SAR",(N$28*$B38),IF(N$27="kg/t DM",((N$28*($B$28/100))*$B38),IF(N$27="mg/kg SAR",((N$28*0.001)*$B38),IF(N$27="mg/kg DM",(((N$28*0.001)*($B$28/100))*$B38),0)))))) -> 0 | ... P38: =IF(P$27="%w/w SAR",((P$28*10)*$B38),IF(P$27="%w/w DM",(((P$28*10)*($B$28/100))*$B38),IF(P$27="kg/t SAR",(P$28*$B38),IF(P$27="kg/t DM",((P$28*($B$28/100))*$B38),IF(P$27="mg/kg SAR",((P$28*0.001)*$B38),IF(P$27="mg/kg DM",(((P$28*0.001)*($B$28/100))*$B38),0)))))) -> 82.565 | Q38: =(IF(Q$27="%w/w SAR",((Q$28*10)*$B38),IF(Q$27="%w/w DM",(((Q$28*10)*($B$28/100))*$B38),IF(Q$27="kg/t SAR",(Q$28*$B38),IF(Q$27="kg/t DM",((Q$28*($B$28/100))*$B38),IF(Q$27="mg/kg SAR",((Q$28*0.001)*$B38),IF(Q$27="mg/kg DM",(((Q$28*0.001)*($B$28/100))*$B38),0)))))))*2.5 -> 47.71375 | R38: =IF(R$27="%w/w SAR",((R$28*10)*$B38),IF(R$27="%w/w DM",(((R$28*10)*($B$28/100))*$B38),IF(R$27="kg/t SAR",(R$28*$B38),IF(R$27="kg/t DM",((R$28*($B$28/100))*$B38),IF(R$27="mg/kg SAR",((R$28*0.001)*$B38),IF(R$27="mg/kg DM",(((R$28*0.001)*($B$28/100))*$B38),0)))))) -> 0 | S38: =IF(S$27="%w/w SAR",((S$28*10)*$B38),IF(S$27="%w/w DM",(((S$28*10)*($B$28/100))*$B38),IF(S$27="kg/t SAR",(S$28*$B38),IF(S$27="kg/t DM",((S$28*($B$28/100))*$B38),IF(S$27="mg/kg SAR",((S$28*0.001)*$B38),IF(S$27="mg/kg DM",(((S$28*0.001)*($B$28/100))*$B38),0)))))) -> 0 | T38: =IF(T$27="%w/w SAR",((T$28*10)*$B38),IF(T$27="%w/w DM",(((T$28*10)*($B$28/100))*$B38),IF(T$27="kg/t SAR",(T$28*$B38),IF(T$27="kg/t DM",((T$28*($B$28/100))*$B38),IF(T$27="mg/kg SAR",((T$28*0.001)*$B38),IF(T$27="mg/kg DM",(((T$28*0.001)*($B$28/100))*$B38),0)))))) -> 0 | U38: =IF(U$27="%w/w SAR",((U$28*10)*$B38),IF(U$27="%w/w DM",(((U$28*10)*($B$28/100))*$B38),IF(U$27="kg/t SAR",(U$28*$B38),IF(U$27="kg/t DM",((U$28*($B$28/100))*$B38),IF(U$27="mg/kg SAR",((U$28*0.001)*$B38),IF(U$27="mg/kg DM",(((U$28*0.001)*($B$28/100))*$B38),0)))))) -> 0
A39: =K8 -> 9 | B39: 245 | C39: =IF(C$27="%w/w SAR",((C$28*10)*$B39),IF(C$27="%w/w DM",(((C$28*10)*($B$28/100))*$B39),IF(C$27="kg/t SAR",(C$28*$B39),IF(C$27="kg/t DM",((C$28*($B$28/100))*$B39),IF(C$27="mg/kg SAR",((C$28*0.001)*$B39),IF(C$27="mg/kg DM",(((C$28*0.001)*($B$28/100))*$B39),0)))))) -> 147 | D39: =(IF(D$27="%w/w SAR",((D$28*10)*$B39),IF(D$27="%w/w DM",(((D$28*10)*($B$28/100))*$B39),IF(D$27="kg/t SAR",(D$28*$B39),IF(D$27="kg/t DM",((D$28*($B$28/100))*$B39),IF(D$27="mg/kg SAR",((D$28*0.001)*$B39),IF(D$27="mg/kg DM",(((D$28*0.001)*($B$28/100))*$B39),"0")))))))*2.291 -> 55.455946 | E39: =(IF(E$27="%w/w SAR",((E$28*10)*$B39),IF(E$27="%w/w DM",(((E$28*10)*($B$28/100))*$B39),IF(E$27="kg/t SAR",(E$28*$B39),IF(E$27="kg/t DM",((E$28*($B$28/100))*$B39),IF(E$27="mg/kg SAR",((E$28*0.001)*$B39),IF(E$27="mg/kg DM",(((E$28*0.001)*($B$28/100))*$B39),"0")))))))*1.205 -> 49.893025 | F39: =(IF(F$27="%w/w SAR",((F$28*10)*$B39),IF(F$27="%w/w DM",(((F$28*10)*($B$28/100))*$B39),IF(F$27="kg/t SAR",(F$28*$B39),IF(F$27="kg/t DM",((F$28*($B$28/100))*$B39),IF(F$27="mg/kg SAR",((F$28*0.001)*$B39),IF(F$27="mg/kg DM",(((F$28*0.001)*($B$28/100))*$B39),"0")))))))*1.658 -> 10.398976 | G39: =IF(G$27="%w/w SAR",((G$28*10)*$B39),IF(G$27="%w/w DM",(((G$28*10)*($B$28/100))*$B39),IF(G$27="kg/t SAR",(G$28*$B39),IF(G$27="kg/t DM",((G$28*($B$28/100))*$B39),IF(G$27="mg/kg SAR",((G$28*0.001)*$B39),IF(G$27="mg/kg DM",(((G$28*0.001)*($B$28/100))*$B39),0)))))) -> 0.054145 | H39: =IF(H$27="%w/w SAR",((H$28*10)*$B39),IF(H$27="%w/w DM",(((H$28*10)*($B$28/100))*$B39),IF(H$27="kg/t SAR",(H$28*$B39),IF(H$27="kg/t DM",((H$28*($B$28/100))*$B39),IF(H$27="mg/kg SAR",((H$28*0.001)*$B39),IF(H$27="mg/kg DM",(((H$28*0.001)*($B$28/100))*$B39),0)))))) -> 0.245 | I39: =IF(I$27="%w/w SAR",((I$28*10)*$B39),IF(I$27="%w/w DM",(((I$28*10)*($B$28/100))*$B39),IF(I$27="kg/t SAR",(I$28*$B39),IF(I$27="kg/t DM",((I$28*($B$28/100))*$B39),IF(I$27="mg/kg SAR",((I$28*0.001)*$B39),IF(I$27="mg/kg DM",(((I$28*0.001)*($B$28/100))*$B39),0)))))) -> 0.1225 | J39: =IF(J$27="%w/w SAR",((J$28*10)*$B39),IF(J$27="%w/w DM",(((J$28*10)*($B$28/100))*$B39),IF(J$27="kg/t SAR",(J$28*$B39),IF(J$27="kg/t DM",((J$28*($B$28/100))*$B39),IF(J$27="mg/kg SAR",((J$28*0.001)*$B39),IF(J$27="mg/kg DM",(((J$28*0.001)*($B$28/100))*$B39),0)))))) -> 0.00245 | K39: =IF(K$27="%w/w SAR",((K$28*10)*$B39),IF(K$27="%w/w DM",(((K$28*10)*($B$28/100))*$B39),IF(K$27="kg/t SAR",(K$28*$B39),IF(K$27="kg/t DM",((K$28*($B$28/100))*$B39),IF(K$27="mg/kg SAR",((K$28*0.001)*$B39),IF(K$27="mg/kg DM",(((K$28*0.001)*($B$28/100))*$B39),0)))))) -> 0.01225 | L39: =IF(L$27="%w/w SAR",((L$28*10)*$B39),IF(L$27="%w/w DM",(((L$28*10)*($B$28/100))*$B39),IF(L$27="kg/t SAR",(L$28*$B39),IF(L$27="kg/t DM",((L$28*($B$28/100))*$B39),IF(L$27="mg/kg SAR",((L$28*0.001)*$B39),IF(L$27="mg/kg DM",(((L$28*0.001)*($B$28/100))*$B39),0)))))) -> 0.049 | M39: =IF(M$27="%w/w SAR",((M$28*10)*$B39),IF(M$27="%w/w DM",(((M$28*10)*($B$28/100))*$B39),IF(M$27="kg/t SAR",(M$28*$B39),IF(M$27="kg/t DM",((M$28*($B$28/100))*$B39),IF(M$27="mg/kg SAR",((M$28*0.001)*$B39),IF(M$27="mg/kg DM",(((M$28*0.001)*($B$28/100))*$B39),0)))))) -> 0.049 | N39: =IF(N$27="%w/w SAR",((N$28*10)*$B39),IF(N$27="%w/w DM",(((N$28*10)*($B$28/100))*$B39),IF(N$27="kg/t SAR",(N$28*$B39),IF(N$27="kg/t DM",((N$28*($B$28/100))*$B39),IF(N$27="mg/kg SAR",((N$28*0.001)*$B39),IF(N$27="mg/kg DM",(((N$28*0.001)*($B$28/100))*$B39),0)))))) -> 0 | ... P39: =IF(P$27="%w/w SAR",((P$28*10)*$B39),IF(P$27="%w/w DM",(((P$28*10)*($B$28/100))*$B39),IF(P$27="kg/t SAR",(P$28*$B39),IF(P$27="kg/t DM",((P$28*($B$28/100))*$B39),IF(P$27="mg/kg SAR",((P$28*0.001)*$B39),IF(P$27="mg/kg DM",(((P$28*0.001)*($B$28/100))*$B39),0)))))) -> 82.565 | Q39: =(IF(Q$27="%w/w SAR",((Q$28*10)*$B39),IF(Q$27="%w/w DM",(((Q$28*10)*($B$28/100))*$B39),IF(Q$27="kg/t SAR",(Q$28*$B39),IF(Q$27="kg/t DM",((Q$28*($B$28/100))*$B39),IF(Q$27="mg/kg SAR",((Q$28*0.001)*$B39),IF(Q$27="mg/kg DM",(((Q$28*0.001)*($B$28/100))*$B39),0)))))))*2.5 -> 47.71375 | R39: =IF(R$27="%w/w SAR",((R$28*10)*$B39),IF(R$27="%w/w DM",(((R$28*10)*($B$28/100))*$B39),IF(R$27="kg/t SAR",(R$28*$B39),IF(R$27="kg/t DM",((R$28*($B$28/100))*$B39),IF(R$27="mg/kg SAR",((R$28*0.001)*$B39),IF(R$27="mg/kg DM",(((R$28*0.001)*($B$28/100))*$B39),0)))))) -> 0 | S39: =IF(S$27="%w/w SAR",((S$28*10)*$B39),IF(S$27="%w/w DM",(((S$28*10)*($B$28/100))*$B39),IF(S$27="kg/t SAR",(S$28*$B39),IF(S$27="kg/t DM",((S$28*($B$28/100))*$B39),IF(S$27="mg/kg SAR",((S$28*0.001)*$B39),IF(S$27="mg/kg DM",(((S$28*0.001)*($B$28/100))*$B39),0)))))) -> 0 | T39: =IF(T$27="%w/w SAR",((T$28*10)*$B39),IF(T$27="%w/w DM",(((T$28*10)*($B$28/100))*$B39),IF(T$27="kg/t SAR",(T$28*$B39),IF(T$27="kg/t DM",((T$28*($B$28/100))*$B39),IF(T$27="mg/kg SAR",((T$28*0.001)*$B39),IF(T$27="mg/kg DM",(((T$28*0.001)*($B$28/100))*$B39),0)))))) -> 0 | U39: =IF(U$27="%w/w SAR",((U$28*10)*$B39),IF(U$27="%w/w DM",(((U$28*10)*($B$28/100))*$B39),IF(U$27="kg/t SAR",(U$28*$B39),IF(U$27="kg/t DM",((U$28*($B$28/100))*$B39),IF(U$27="mg/kg SAR",((U$28*0.001)*$B39),IF(U$27="mg/kg DM",(((U$28*0.001)*($B$28/100))*$B39),0)))))) -> 0
A40: =L8 -> 10 | B40: 245 | C40: =IF(C$27="%w/w SAR",((C$28*10)*$B40),IF(C$27="%w/w DM",(((C$28*10)*($B$28/100))*$B40),IF(C$27="kg/t SAR",(C$28*$B40),IF(C$27="kg/t DM",((C$28*($B$28/100))*$B40),IF(C$27="mg/kg SAR",((C$28*0.001)*$B40),IF(C$27="mg/kg DM",(((C$28*0.001)*($B$28/100))*$B40),0)))))) -> 147 | D40: =(IF(D$27="%w/w SAR",((D$28*10)*$B40),IF(D$27="%w/w DM",(((D$28*10)*($B$28/100))*$B40),IF(D$27="kg/t SAR",(D$28*$B40),IF(D$27="kg/t DM",((D$28*($B$28/100))*$B40),IF(D$27="mg/kg SAR",((D$28*0.001)*$B40),IF(D$27="mg/kg DM",(((D$28*0.001)*($B$28/100))*$B40),"0")))))))*2.291 -> 55.455946 | E40: =(IF(E$27="%w/w SAR",((E$28*10)*$B40),IF(E$27="%w/w DM",(((E$28*10)*($B$28/100))*$B40),IF(E$27="kg/t SAR",(E$28*$B40),IF(E$27="kg/t DM",((E$28*($B$28/100))*$B40),IF(E$27="mg/kg SAR",((E$28*0.001)*$B40),IF(E$27="mg/kg DM",(((E$28*0.001)*($B$28/100))*$B40),"0")))))))*1.205 -> 49.893025 | F40: =(IF(F$27="%w/w SAR",((F$28*10)*$B40),IF(F$27="%w/w DM",(((F$28*10)*($B$28/100))*$B40),IF(F$27="kg/t SAR",(F$28*$B40),IF(F$27="kg/t DM",((F$28*($B$28/100))*$B40),IF(F$27="mg/kg SAR",((F$28*0.001)*$B40),IF(F$27="mg/kg DM",(((F$28*0.001)*($B$28/100))*$B40),"0")))))))*1.658 -> 10.398976 | G40: =IF(G$27="%w/w SAR",((G$28*10)*$B40),IF(G$27="%w/w DM",(((G$28*10)*($B$28/100))*$B40),IF(G$27="kg/t SAR",(G$28*$B40),IF(G$27="kg/t DM",((G$28*($B$28/100))*$B40),IF(G$27="mg/kg SAR",((G$28*0.001)*$B40),IF(G$27="mg/kg DM",(((G$28*0.001)*($B$28/100))*$B40),0)))))) -> 0.054145 | H40: =IF(H$27="%w/w SAR",((H$28*10)*$B40),IF(H$27="%w/w DM",(((H$28*10)*($B$28/100))*$B40),IF(H$27="kg/t SAR",(H$28*$B40),IF(H$27="kg/t DM",((H$28*($B$28/100))*$B40),IF(H$27="mg/kg SAR",((H$28*0.001)*$B40),IF(H$27="mg/kg DM",(((H$28*0.001)*($B$28/100))*$B40),0)))))) -> 0.245 | I40: =IF(I$27="%w/w SAR",((I$28*10)*$B40),IF(I$27="%w/w DM",(((I$28*10)*($B$28/100))*$B40),IF(I$27="kg/t SAR",(I$28*$B40),IF(I$27="kg/t DM",((I$28*($B$28/100))*$B40),IF(I$27="mg/kg SAR",((I$28*0.001)*$B40),IF(I$27="mg/kg DM",(((I$28*0.001)*($B$28/100))*$B40),0)))))) -> 0.1225 | J40: =IF(J$27="%w/w SAR",((J$28*10)*$B40),IF(J$27="%w/w DM",(((J$28*10)*($B$28/100))*$B40),IF(J$27="kg/t SAR",(J$28*$B40),IF(J$27="kg/t DM",((J$28*($B$28/100))*$B40),IF(J$27="mg/kg SAR",((J$28*0.001)*$B40),IF(J$27="mg/kg DM",(((J$28*0.001)*($B$28/100))*$B40),0)))))) -> 0.00245 | K40: =IF(K$27="%w/w SAR",((K$28*10)*$B40),IF(K$27="%w/w DM",(((K$28*10)*($B$28/100))*$B40),IF(K$27="kg/t SAR",(K$28*$B40),IF(K$27="kg/t DM",((K$28*($B$28/100))*$B40),IF(K$27="mg/kg SAR",((K$28*0.001)*$B40),IF(K$27="mg/kg DM",(((K$28*0.001)*($B$28/100))*$B40),0)))))) -> 0.01225 | L40: =IF(L$27="%w/w SAR",((L$28*10)*$B40),IF(L$27="%w/w DM",(((L$28*10)*($B$28/100))*$B40),IF(L$27="kg/t SAR",(L$28*$B40),IF(L$27="kg/t DM",((L$28*($B$28/100))*$B40),IF(L$27="mg/kg SAR",((L$28*0.001)*$B40),IF(L$27="mg/kg DM",(((L$28*0.001)*($B$28/100))*$B40),0)))))) -> 0.049 | M40: =IF(M$27="%w/w SAR",((M$28*10)*$B40),IF(M$27="%w/w DM",(((M$28*10)*($B$28/100))*$B40),IF(M$27="kg/t SAR",(M$28*$B40),IF(M$27="kg/t DM",((M$28*($B$28/100))*$B40),IF(M$27="mg/kg SAR",((M$28*0.001)*$B40),IF(M$27="mg/kg DM",(((M$28*0.001)*($B$28/100))*$B40),0)))))) -> 0.049 | N40: =IF(N$27="%w/w SAR",((N$28*10)*$B40),IF(N$27="%w/w DM",(((N$28*10)*($B$28/100))*$B40),IF(N$27="kg/t SAR",(N$28*$B40),IF(N$27="kg/t DM",((N$28*($B$28/100))*$B40),IF(N$27="mg/kg SAR",((N$28*0.001)*$B40),IF(N$27="mg/kg DM",(((N$28*0.001)*($B$28/100))*$B40),0)))))) -> 0 | ... P40: =IF(P$27="%w/w SAR",((P$28*10)*$B40),IF(P$27="%w/w DM",(((P$28*10)*($B$28/100))*$B40),IF(P$27="kg/t SAR",(P$28*$B40),IF(P$27="kg/t DM",((P$28*($B$28/100))*$B40),IF(P$27="mg/kg SAR",((P$28*0.001)*$B40),IF(P$27="mg/kg DM",(((P$28*0.001)*($B$28/100))*$B40),0)))))) -> 82.565 | Q40: =(IF(Q$27="%w/w SAR",((Q$28*10)*$B40),IF(Q$27="%w/w DM",(((Q$28*10)*($B$28/100))*$B40),IF(Q$27="kg/t SAR",(Q$28*$B40),IF(Q$27="kg/t DM",((Q$28*($B$28/100))*$B40),IF(Q$27="mg/kg SAR",((Q$28*0.001)*$B40),IF(Q$27="mg/kg DM",(((Q$28*0.001)*($B$28/100))*$B40),0)))))))*2.5 -> 47.71375 | R40: =IF(R$27="%w/w SAR",((R$28*10)*$B40),IF(R$27="%w/w DM",(((R$28*10)*($B$28/100))*$B40),IF(R$27="kg/t SAR",(R$28*$B40),IF(R$27="kg/t DM",((R$28*($B$28/100))*$B40),IF(R$27="mg/kg SAR",((R$28*0.001)*$B40),IF(R$27="mg/kg DM",(((R$28*0.001)*($B$28/100))*$B40),0)))))) -> 0 | S40: =IF(S$27="%w/w SAR",((S$28*10)*$B40),IF(S$27="%w/w DM",(((S$28*10)*($B$28/100))*$B40),IF(S$27="kg/t SAR",(S$28*$B40),IF(S$27="kg/t DM",((S$28*($B$28/100))*$B40),IF(S$27="mg/kg SAR",((S$28*0.001)*$B40),IF(S$27="mg/kg DM",(((S$28*0.001)*($B$28/100))*$B40),0)))))) -> 0 | T40: =IF(T$27="%w/w SAR",((T$28*10)*$B40),IF(T$27="%w/w DM",(((T$28*10)*($B$28/100))*$B40),IF(T$27="kg/t SAR",(T$28*$B40),IF(T$27="kg/t DM",((T$28*($B$28/100))*$B40),IF(T$27="mg/kg SAR",((T$28*0.001)*$B40),IF(T$27="mg/kg DM",(((T$28*0.001)*($B$28/100))*$B40),0)))))) -> 0 | U40: =IF(U$27="%w/w SAR",((U$28*10)*$B40),IF(U$27="%w/w DM",(((U$28*10)*($B$28/100))*$B40),IF(U$27="kg/t SAR",(U$28*$B40),IF(U$27="kg/t DM",((U$28*($B$28/100))*$B40),IF(U$27="mg/kg SAR",((U$28*0.001)*$B40),IF(U$27="mg/kg DM",(((U$28*0.001)*($B$28/100))*$B40),0)))))) -> 0
A41: =M8 -> 11 | B41: 200 | C41: =IF(C$27="%w/w SAR",((C$28*10)*$B41),IF(C$27="%w/w DM",(((C$28*10)*($B$28/100))*$B41),IF(C$27="kg/t SAR",(C$28*$B41),IF(C$27="kg/t DM",((C$28*($B$28/100))*$B41),IF(C$27="mg/kg SAR",((C$28*0.001)*$B41),IF(C$27="mg/kg DM",(((C$28*0.001)*($B$28/100))*$B41),0)))))) -> 120 | D41: =(IF(D$27="%w/w SAR",((D$28*10)*$B41),IF(D$27="%w/w DM",(((D$28*10)*($B$28/100))*$B41),IF(D$27="kg/t SAR",(D$28*$B41),IF(D$27="kg/t DM",((D$28*($B$28/100))*$B41),IF(D$27="mg/kg SAR",((D$28*0.001)*$B41),IF(D$27="mg/kg DM",(((D$28*0.001)*($B$28/100))*$B41),"0")))))))*2.291 -> 45.27016 | E41: =(IF(E$27="%w/w SAR",((E$28*10)*$B41),IF(E$27="%w/w DM",(((E$28*10)*($B$28/100))*$B41),IF(E$27="kg/t SAR",(E$28*$B41),IF(E$27="kg/t DM",((E$28*($B$28/100))*$B41),IF(E$27="mg/kg SAR",((E$28*0.001)*$B41),IF(E$27="mg/kg DM",(((E$28*0.001)*($B$28/100))*$B41),"0")))))))*1.205 -> 40.729 | F41: =(IF(F$27="%w/w SAR",((F$28*10)*$B41),IF(F$27="%w/w DM",(((F$28*10)*($B$28/100))*$B41),IF(F$27="kg/t SAR",(F$28*$B41),IF(F$27="kg/t DM",((F$28*($B$28/100))*$B41),IF(F$27="mg/kg SAR",((F$28*0.001)*$B41),IF(F$27="mg/kg DM",(((F$28*0.001)*($B$28/100))*$B41),"0")))))))*1.658 -> 8.48896 | G41: =IF(G$27="%w/w SAR",((G$28*10)*$B41),IF(G$27="%w/w DM",(((G$28*10)*($B$28/100))*$B41),IF(G$27="kg/t SAR",(G$28*$B41),IF(G$27="kg/t DM",((G$28*($B$28/100))*$B41),IF(G$27="mg/kg SAR",((G$28*0.001)*$B41),IF(G$27="mg/kg DM",(((G$28*0.001)*($B$28/100))*$B41),0)))))) -> 0.0442 | H41: =IF(H$27="%w/w SAR",((H$28*10)*$B41),IF(H$27="%w/w DM",(((H$28*10)*($B$28/100))*$B41),IF(H$27="kg/t SAR",(H$28*$B41),IF(H$27="kg/t DM",((H$28*($B$28/100))*$B41),IF(H$27="mg/kg SAR",((H$28*0.001)*$B41),IF(H$27="mg/kg DM",(((H$28*0.001)*($B$28/100))*$B41),0)))))) -> 0.2 | I41: =IF(I$27="%w/w SAR",((I$28*10)*$B41),IF(I$27="%w/w DM",(((I$28*10)*($B$28/100))*$B41),IF(I$27="kg/t SAR",(I$28*$B41),IF(I$27="kg/t DM",((I$28*($B$28/100))*$B41),IF(I$27="mg/kg SAR",((I$28*0.001)*$B41),IF(I$27="mg/kg DM",(((I$28*0.001)*($B$28/100))*$B41),0)))))) -> 0.1 | J41: =IF(J$27="%w/w SAR",((J$28*10)*$B41),IF(J$27="%w/w DM",(((J$28*10)*($B$28/100))*$B41),IF(J$27="kg/t SAR",(J$28*$B41),IF(J$27="kg/t DM",((J$28*($B$28/100))*$B41),IF(J$27="mg/kg SAR",((J$28*0.001)*$B41),IF(J$27="mg/kg DM",(((J$28*0.001)*($B$28/100))*$B41),0)))))) -> 0.002 | K41: =IF(K$27="%w/w SAR",((K$28*10)*$B41),IF(K$27="%w/w DM",(((K$28*10)*($B$28/100))*$B41),IF(K$27="kg/t SAR",(K$28*$B41),IF(K$27="kg/t DM",((K$28*($B$28/100))*$B41),IF(K$27="mg/kg SAR",((K$28*0.001)*$B41),IF(K$27="mg/kg DM",(((K$28*0.001)*($B$28/100))*$B41),0)))))) -> 0.01 | L41: =IF(L$27="%w/w SAR",((L$28*10)*$B41),IF(L$27="%w/w DM",(((L$28*10)*($B$28/100))*$B41),IF(L$27="kg/t SAR",(L$28*$B41),IF(L$27="kg/t DM",((L$28*($B$28/100))*$B41),IF(L$27="mg/kg SAR",((L$28*0.001)*$B41),IF(L$27="mg/kg DM",(((L$28*0.001)*($B$28/100))*$B41),0)))))) -> 0.04 | M41: =IF(M$27="%w/w SAR",((M$28*10)*$B41),IF(M$27="%w/w DM",(((M$28*10)*($B$28/100))*$B41),IF(M$27="kg/t SAR",(M$28*$B41),IF(M$27="kg/t DM",((M$28*($B$28/100))*$B41),IF(M$27="mg/kg SAR",((M$28*0.001)*$B41),IF(M$27="mg/kg DM",(((M$28*0.001)*($B$28/100))*$B41),0)))))) -> 0.04 | N41: =IF(N$27="%w/w SAR",((N$28*10)*$B41),IF(N$27="%w/w DM",(((N$28*10)*($B$28/100))*$B41),IF(N$27="kg/t SAR",(N$28*$B41),IF(N$27="kg/t DM",((N$28*($B$28/100))*$B41),IF(N$27="mg/kg SAR",((N$28*0.001)*$B41),IF(N$27="mg/kg DM",(((N$28*0.001)*($B$28/100))*$B41),0)))))) -> 0 | ... P41: =IF(P$27="%w/w SAR",((P$28*10)*$B41),IF(P$27="%w/w DM",(((P$28*10)*($B$28/100))*$B41),IF(P$27="kg/t SAR",(P$28*$B41),IF(P$27="kg/t DM",((P$28*($B$28/100))*$B41),IF(P$27="mg/kg SAR",((P$28*0.001)*$B41),IF(P$27="mg/kg DM",(((P$28*0.001)*($B$28/100))*$B41),0)))))) -> 67.4 | Q41: =(IF(Q$27="%w/w SAR",((Q$28*10)*$B41),IF(Q$27="%w/w DM",(((Q$28*10)*($B$28/100))*$B41),IF(Q$27="kg/t SAR",(Q$28*$B41),IF(Q$27="kg/t DM",((Q$28*($B$28/100))*$B41),IF(Q$27="mg/kg SAR",((Q$28*0.001)*$B41),IF(Q$27="mg/kg DM",(((Q$28*0.001)*($B$28/100))*$B41),0)))))))*2.5 -> 38.95 | R41: =IF(R$27="%w/w SAR",((R$28*10)*$B41),IF(R$27="%w/w DM",(((R$28*10)*($B$28/100))*$B41),IF(R$27="kg/t SAR",(R$28*$B41),IF(R$27="kg/t DM",((R$28*($B$28/100))*$B41),IF(R$27="mg/kg SAR",((R$28*0.001)*$B41),IF(R$27="mg/kg DM",(((R$28*0.001)*($B$28/100))*$B41),0)))))) -> 0 | S41: =IF(S$27="%w/w SAR",((S$28*10)*$B41),IF(S$27="%w/w DM",(((S$28*10)*($B$28/100))*$B41),IF(S$27="kg/t SAR",(S$28*$B41),IF(S$27="kg/t DM",((S$28*($B$28/100))*$B41),IF(S$27="mg/kg SAR",((S$28*0.001)*$B41),IF(S$27="mg/kg DM",(((S$28*0.001)*($B$28/100))*$B41),0)))))) -> 0 | T41: =IF(T$27="%w/w SAR",((T$28*10)*$B41),IF(T$27="%w/w DM",(((T$28*10)*($B$28/100))*$B41),IF(T$27="kg/t SAR",(T$28*$B41),IF(T$27="kg/t DM",((T$28*($B$28/100))*$B41),IF(T$27="mg/kg SAR",((T$28*0.001)*$B41),IF(T$27="mg/kg DM",(((T$28*0.001)*($B$28/100))*$B41),0)))))) -> 0 | U41: =IF(U$27="%w/w SAR",((U$28*10)*$B41),IF(U$27="%w/w DM",(((U$28*10)*($B$28/100))*$B41),IF(U$27="kg/t SAR",(U$28*$B41),IF(U$27="kg/t DM",((U$28*($B$28/100))*$B41),IF(U$27="mg/kg SAR",((U$28*0.001)*$B41),IF(U$27="mg/kg DM",(((U$28*0.001)*($B$28/100))*$B41),0)))))) -> 0
A42: =N8 -> 12 | B42: 200 | C42: =IF(C$27="%w/w SAR",((C$28*10)*$B42),IF(C$27="%w/w DM",(((C$28*10)*($B$28/100))*$B42),IF(C$27="kg/t SAR",(C$28*$B42),IF(C$27="kg/t DM",((C$28*($B$28/100))*$B42),IF(C$27="mg/kg SAR",((C$28*0.001)*$B42),IF(C$27="mg/kg DM",(((C$28*0.001)*($B$28/100))*$B42),0)))))) -> 120 | D42: =(IF(D$27="%w/w SAR",((D$28*10)*$B42),IF(D$27="%w/w DM",(((D$28*10)*($B$28/100))*$B42),IF(D$27="kg/t SAR",(D$28*$B42),IF(D$27="kg/t DM",((D$28*($B$28/100))*$B42),IF(D$27="mg/kg SAR",((D$28*0.001)*$B42),IF(D$27="mg/kg DM",(((D$28*0.001)*($B$28/100))*$B42),"0")))))))*2.291 -> 45.27016 | E42: =(IF(E$27="%w/w SAR",((E$28*10)*$B42),IF(E$27="%w/w DM",(((E$28*10)*($B$28/100))*$B42),IF(E$27="kg/t SAR",(E$28*$B42),IF(E$27="kg/t DM",((E$28*($B$28/100))*$B42),IF(E$27="mg/kg SAR",((E$28*0.001)*$B42),IF(E$27="mg/kg DM",(((E$28*0.001)*($B$28/100))*$B42),"0")))))))*1.205 -> 40.729 | F42: =(IF(F$27="%w/w SAR",((F$28*10)*$B42),IF(F$27="%w/w DM",(((F$28*10)*($B$28/100))*$B42),IF(F$27="kg/t SAR",(F$28*$B42),IF(F$27="kg/t DM",((F$28*($B$28/100))*$B42),IF(F$27="mg/kg SAR",((F$28*0.001)*$B42),IF(F$27="mg/kg DM",(((F$28*0.001)*($B$28/100))*$B42),"0")))))))*1.658 -> 8.48896 | G42: =IF(G$27="%w/w SAR",((G$28*10)*$B42),IF(G$27="%w/w DM",(((G$28*10)*($B$28/100))*$B42),IF(G$27="kg/t SAR",(G$28*$B42),IF(G$27="kg/t DM",((G$28*($B$28/100))*$B42),IF(G$27="mg/kg SAR",((G$28*0.001)*$B42),IF(G$27="mg/kg DM",(((G$28*0.001)*($B$28/100))*$B42),0)))))) -> 0.0442 | H42: =IF(H$27="%w/w SAR",((H$28*10)*$B42),IF(H$27="%w/w DM",(((H$28*10)*($B$28/100))*$B42),IF(H$27="kg/t SAR",(H$28*$B42),IF(H$27="kg/t DM",((H$28*($B$28/100))*$B42),IF(H$27="mg/kg SAR",((H$28*0.001)*$B42),IF(H$27="mg/kg DM",(((H$28*0.001)*($B$28/100))*$B42),0)))))) -> 0.2 | I42: =IF(I$27="%w/w SAR",((I$28*10)*$B42),IF(I$27="%w/w DM",(((I$28*10)*($B$28/100))*$B42),IF(I$27="kg/t SAR",(I$28*$B42),IF(I$27="kg/t DM",((I$28*($B$28/100))*$B42),IF(I$27="mg/kg SAR",((I$28*0.001)*$B42),IF(I$27="mg/kg DM",(((I$28*0.001)*($B$28/100))*$B42),0)))))) -> 0.1 | J42: =IF(J$27="%w/w SAR",((J$28*10)*$B42),IF(J$27="%w/w DM",(((J$28*10)*($B$28/100))*$B42),IF(J$27="kg/t SAR",(J$28*$B42),IF(J$27="kg/t DM",((J$28*($B$28/100))*$B42),IF(J$27="mg/kg SAR",((J$28*0.001)*$B42),IF(J$27="mg/kg DM",(((J$28*0.001)*($B$28/100))*$B42),0)))))) -> 0.002 | K42: =IF(K$27="%w/w SAR",((K$28*10)*$B42),IF(K$27="%w/w DM",(((K$28*10)*($B$28/100))*$B42),IF(K$27="kg/t SAR",(K$28*$B42),IF(K$27="kg/t DM",((K$28*($B$28/100))*$B42),IF(K$27="mg/kg SAR",((K$28*0.001)*$B42),IF(K$27="mg/kg DM",(((K$28*0.001)*($B$28/100))*$B42),0)))))) -> 0.01 | L42: =IF(L$27="%w/w SAR",((L$28*10)*$B42),IF(L$27="%w/w DM",(((L$28*10)*($B$28/100))*$B42),IF(L$27="kg/t SAR",(L$28*$B42),IF(L$27="kg/t DM",((L$28*($B$28/100))*$B42),IF(L$27="mg/kg SAR",((L$28*0.001)*$B42),IF(L$27="mg/kg DM",(((L$28*0.001)*($B$28/100))*$B42),0)))))) -> 0.04 | M42: =IF(M$27="%w/w SAR",((M$28*10)*$B42),IF(M$27="%w/w DM",(((M$28*10)*($B$28/100))*$B42),IF(M$27="kg/t SAR",(M$28*$B42),IF(M$27="kg/t DM",((M$28*($B$28/100))*$B42),IF(M$27="mg/kg SAR",((M$28*0.001)*$B42),IF(M$27="mg/kg DM",(((M$28*0.001)*($B$28/100))*$B42),0)))))) -> 0.04 | N42: =IF(N$27="%w/w SAR",((N$28*10)*$B42),IF(N$27="%w/w DM",(((N$28*10)*($B$28/100))*$B42),IF(N$27="kg/t SAR",(N$28*$B42),IF(N$27="kg/t DM",((N$28*($B$28/100))*$B42),IF(N$27="mg/kg SAR",((N$28*0.001)*$B42),IF(N$27="mg/kg DM",(((N$28*0.001)*($B$28/100))*$B42),0)))))) -> 0 | ... P42: =IF(P$27="%w/w SAR",((P$28*10)*$B42),IF(P$27="%w/w DM",(((P$28*10)*($B$28/100))*$B42),IF(P$27="kg/t SAR",(P$28*$B42),IF(P$27="kg/t DM",((P$28*($B$28/100))*$B42),IF(P$27="mg/kg SAR",((P$28*0.001)*$B42),IF(P$27="mg/kg DM",(((P$28*0.001)*($B$28/100))*$B42),0)))))) -> 67.4 | Q42: =(IF(Q$27="%w/w SAR",((Q$28*10)*$B42),IF(Q$27="%w/w DM",(((Q$28*10)*($B$28/100))*$B42),IF(Q$27="kg/t SAR",(Q$28*$B42),IF(Q$27="kg/t DM",((Q$28*($B$28/100))*$B42),IF(Q$27="mg/kg SAR",((Q$28*0.001)*$B42),IF(Q$27="mg/kg DM",(((Q$28*0.001)*($B$28/100))*$B42),0)))))))*2.5 -> 38.95 | R42: =IF(R$27="%w/w SAR",((R$28*10)*$B42),IF(R$27="%w/w DM",(((R$28*10)*($B$28/100))*$B42),IF(R$27="kg/t SAR",(R$28*$B42),IF(R$27="kg/t DM",((R$28*($B$28/100))*$B42),IF(R$27="mg/kg SAR",((R$28*0.001)*$B42),IF(R$27="mg/kg DM",(((R$28*0.001)*($B$28/100))*$B42),0)))))) -> 0 | S42: =IF(S$27="%w/w SAR",((S$28*10)*$B42),IF(S$27="%w/w DM",(((S$28*10)*($B$28/100))*$B42),IF(S$27="kg/t SAR",(S$28*$B42),IF(S$27="kg/t DM",((S$28*($B$28/100))*$B42),IF(S$27="mg/kg SAR",((S$28*0.001)*$B42),IF(S$27="mg/kg DM",(((S$28*0.001)*($B$28/100))*$B42),0)))))) -> 0 | T42: =IF(T$27="%w/w SAR",((T$28*10)*$B42),IF(T$27="%w/w DM",(((T$28*10)*($B$28/100))*$B42),IF(T$27="kg/t SAR",(T$28*$B42),IF(T$27="kg/t DM",((T$28*($B$28/100))*$B42),IF(T$27="mg/kg SAR",((T$28*0.001)*$B42),IF(T$27="mg/kg DM",(((T$28*0.001)*($B$28/100))*$B42),0)))))) -> 0 | U42: =IF(U$27="%w/w SAR",((U$28*10)*$B42),IF(U$27="%w/w DM",(((U$28*10)*($B$28/100))*$B42),IF(U$27="kg/t SAR",(U$28*$B42),IF(U$27="kg/t DM",((U$28*($B$28/100))*$B42),IF(U$27="mg/kg SAR",((U$28*0.001)*$B42),IF(U$27="mg/kg DM",(((U$28*0.001)*($B$28/100))*$B42),0)))))) -> 0
A43: =O8 -> 13 | B43: 200 | C43: =IF(C$27="%w/w SAR",((C$28*10)*$B43),IF(C$27="%w/w DM",(((C$28*10)*($B$28/100))*$B43),IF(C$27="kg/t SAR",(C$28*$B43),IF(C$27="kg/t DM",((C$28*($B$28/100))*$B43),IF(C$27="mg/kg SAR",((C$28*0.001)*$B43),IF(C$27="mg/kg DM",(((C$28*0.001)*($B$28/100))*$B43),0)))))) -> 120 | D43: =(IF(D$27="%w/w SAR",((D$28*10)*$B43),IF(D$27="%w/w DM",(((D$28*10)*($B$28/100))*$B43),IF(D$27="kg/t SAR",(D$28*$B43),IF(D$27="kg/t DM",((D$28*($B$28/100))*$B43),IF(D$27="mg/kg SAR",((D$28*0.001)*$B43),IF(D$27="mg/kg DM",(((D$28*0.001)*($B$28/100))*$B43),"0")))))))*2.291 -> 45.27016 | E43: =(IF(E$27="%w/w SAR",((E$28*10)*$B43),IF(E$27="%w/w DM",(((E$28*10)*($B$28/100))*$B43),IF(E$27="kg/t SAR",(E$28*$B43),IF(E$27="kg/t DM",((E$28*($B$28/100))*$B43),IF(E$27="mg/kg SAR",((E$28*0.001)*$B43),IF(E$27="mg/kg DM",(((E$28*0.001)*($B$28/100))*$B43),"0")))))))*1.205 -> 40.729 | F43: =(IF(F$27="%w/w SAR",((F$28*10)*$B43),IF(F$27="%w/w DM",(((F$28*10)*($B$28/100))*$B43),IF(F$27="kg/t SAR",(F$28*$B43),IF(F$27="kg/t DM",((F$28*($B$28/100))*$B43),IF(F$27="mg/kg SAR",((F$28*0.001)*$B43),IF(F$27="mg/kg DM",(((F$28*0.001)*($B$28/100))*$B43),"0")))))))*1.658 -> 8.48896 | G43: =IF(G$27="%w/w SAR",((G$28*10)*$B43),IF(G$27="%w/w DM",(((G$28*10)*($B$28/100))*$B43),IF(G$27="kg/t SAR",(G$28*$B43),IF(G$27="kg/t DM",((G$28*($B$28/100))*$B43),IF(G$27="mg/kg SAR",((G$28*0.001)*$B43),IF(G$27="mg/kg DM",(((G$28*0.001)*($B$28/100))*$B43),0)))))) -> 0.0442 | H43: =IF(H$27="%w/w SAR",((H$28*10)*$B43),IF(H$27="%w/w DM",(((H$28*10)*($B$28/100))*$B43),IF(H$27="kg/t SAR",(H$28*$B43),IF(H$27="kg/t DM",((H$28*($B$28/100))*$B43),IF(H$27="mg/kg SAR",((H$28*0.001)*$B43),IF(H$27="mg/kg DM",(((H$28*0.001)*($B$28/100))*$B43),0)))))) -> 0.2 | I43: =IF(I$27="%w/w SAR",((I$28*10)*$B43),IF(I$27="%w/w DM",(((I$28*10)*($B$28/100))*$B43),IF(I$27="kg/t SAR",(I$28*$B43),IF(I$27="kg/t DM",((I$28*($B$28/100))*$B43),IF(I$27="mg/kg SAR",((I$28*0.001)*$B43),IF(I$27="mg/kg DM",(((I$28*0.001)*($B$28/100))*$B43),0)))))) -> 0.1 | J43: =IF(J$27="%w/w SAR",((J$28*10)*$B43),IF(J$27="%w/w DM",(((J$28*10)*($B$28/100))*$B43),IF(J$27="kg/t SAR",(J$28*$B43),IF(J$27="kg/t DM",((J$28*($B$28/100))*$B43),IF(J$27="mg/kg SAR",((J$28*0.001)*$B43),IF(J$27="mg/kg DM",(((J$28*0.001)*($B$28/100))*$B43),0)))))) -> 0.002 | K43: =IF(K$27="%w/w SAR",((K$28*10)*$B43),IF(K$27="%w/w DM",(((K$28*10)*($B$28/100))*$B43),IF(K$27="kg/t SAR",(K$28*$B43),IF(K$27="kg/t DM",((K$28*($B$28/100))*$B43),IF(K$27="mg/kg SAR",((K$28*0.001)*$B43),IF(K$27="mg/kg DM",(((K$28*0.001)*($B$28/100))*$B43),0)))))) -> 0.01 | L43: =IF(L$27="%w/w SAR",((L$28*10)*$B43),IF(L$27="%w/w DM",(((L$28*10)*($B$28/100))*$B43),IF(L$27="kg/t SAR",(L$28*$B43),IF(L$27="kg/t DM",((L$28*($B$28/100))*$B43),IF(L$27="mg/kg SAR",((L$28*0.001)*$B43),IF(L$27="mg/kg DM",(((L$28*0.001)*($B$28/100))*$B43),0)))))) -> 0.04 | M43: =IF(M$27="%w/w SAR",((M$28*10)*$B43),IF(M$27="%w/w DM",(((M$28*10)*($B$28/100))*$B43),IF(M$27="kg/t SAR",(M$28*$B43),IF(M$27="kg/t DM",((M$28*($B$28/100))*$B43),IF(M$27="mg/kg SAR",((M$28*0.001)*$B43),IF(M$27="mg/kg DM",(((M$28*0.001)*($B$28/100))*$B43),0)))))) -> 0.04 | N43: =IF(N$27="%w/w SAR",((N$28*10)*$B43),IF(N$27="%w/w DM",(((N$28*10)*($B$28/100))*$B43),IF(N$27="kg/t SAR",(N$28*$B43),IF(N$27="kg/t DM",((N$28*($B$28/100))*$B43),IF(N$27="mg/kg SAR",((N$28*0.001)*$B43),IF(N$27="mg/kg DM",(((N$28*0.001)*($B$28/100))*$B43),0)))))) -> 0 | ... P43: =IF(P$27="%w/w SAR",((P$28*10)*$B43),IF(P$27="%w/w DM",(((P$28*10)*($B$28/100))*$B43),IF(P$27="kg/t SAR",(P$28*$B43),IF(P$27="kg/t DM",((P$28*($B$28/100))*$B43),IF(P$27="mg/kg SAR",((P$28*0.001)*$B43),IF(P$27="mg/kg DM",(((P$28*0.001)*($B$28/100))*$B43),0)))))) -> 67.4 | Q43: =(IF(Q$27="%w/w SAR",((Q$28*10)*$B43),IF(Q$27="%w/w DM",(((Q$28*10)*($B$28/100))*$B43),IF(Q$27="kg/t SAR",(Q$28*$B43),IF(Q$27="kg/t DM",((Q$28*($B$28/100))*$B43),IF(Q$27="mg/kg SAR",((Q$28*0.001)*$B43),IF(Q$27="mg/kg DM",(((Q$28*0.001)*($B$28/100))*$B43),0)))))))*2.5 -> 38.95 | R43: =IF(R$27="%w/w SAR",((R$28*10)*$B43),IF(R$27="%w/w DM",(((R$28*10)*($B$28/100))*$B43),IF(R$27="kg/t SAR",(R$28*$B43),IF(R$27="kg/t DM",((R$28*($B$28/100))*$B43),IF(R$27="mg/kg SAR",((R$28*0.001)*$B43),IF(R$27="mg/kg DM",(((R$28*0.001)*($B$28/100))*$B43),0)))))) -> 0 | S43: =IF(S$27="%w/w SAR",((S$28*10)*$B43),IF(S$27="%w/w DM",(((S$28*10)*($B$28/100))*$B43),IF(S$27="kg/t SAR",(S$28*$B43),IF(S$27="kg/t DM",((S$28*($B$28/100))*$B43),IF(S$27="mg/kg SAR",((S$28*0.001)*$B43),IF(S$27="mg/kg DM",(((S$28*0.001)*($B$28/100))*$B43),0)))))) -> 0 | T43: =IF(T$27="%w/w SAR",((T$28*10)*$B43),IF(T$27="%w/w DM",(((T$28*10)*($B$28/100))*$B43),IF(T$27="kg/t SAR",(T$28*$B43),IF(T$27="kg/t DM",((T$28*($B$28/100))*$B43),IF(T$27="mg/kg SAR",((T$28*0.001)*$B43),IF(T$27="mg/kg DM",(((T$28*0.001)*($B$28/100))*$B43),0)))))) -> 0 | U43: =IF(U$27="%w/w SAR",((U$28*10)*$B43),IF(U$27="%w/w DM",(((U$28*10)*($B$28/100))*$B43),IF(U$27="kg/t SAR",(U$28*$B43),IF(U$27="kg/t DM",((U$28*($B$28/100))*$B43),IF(U$27="mg/kg SAR",((U$28*0.001)*$B43),IF(U$27="mg/kg DM",(((U$28*0.001)*($B$28/100))*$B43),0)))))) -> 0
A44: =P8 -> 14 | B44: 245 | C44: =IF(C$27="%w/w SAR",((C$28*10)*$B44),IF(C$27="%w/w DM",(((C$28*10)*($B$28/100))*$B44),IF(C$27="kg/t SAR",(C$28*$B44),IF(C$27="kg/t DM",((C$28*($B$28/100))*$B44),IF(C$27="mg/kg SAR",((C$28*0.001)*$B44),IF(C$27="mg/kg DM",(((C$28*0.001)*($B$28/100))*$B44),0)))))) -> 147 | D44: =(IF(D$27="%w/w SAR",((D$28*10)*$B44),IF(D$27="%w/w DM",(((D$28*10)*($B$28/100))*$B44),IF(D$27="kg/t SAR",(D$28*$B44),IF(D$27="kg/t DM",((D$28*($B$28/100))*$B44),IF(D$27="mg/kg SAR",((D$28*0.001)*$B44),IF(D$27="mg/kg DM",(((D$28*0.001)*($B$28/100))*$B44),"0")))))))*2.291 -> 55.455946 | E44: =(IF(E$27="%w/w SAR",((E$28*10)*$B44),IF(E$27="%w/w DM",(((E$28*10)*($B$28/100))*$B44),IF(E$27="kg/t SAR",(E$28*$B44),IF(E$27="kg/t DM",((E$28*($B$28/100))*$B44),IF(E$27="mg/kg SAR",((E$28*0.001)*$B44),IF(E$27="mg/kg DM",(((E$28*0.001)*($B$28/100))*$B44),"0")))))))*1.205 -> 49.893025 | F44: =(IF(F$27="%w/w SAR",((F$28*10)*$B44),IF(F$27="%w/w DM",(((F$28*10)*($B$28/100))*$B44),IF(F$27="kg/t SAR",(F$28*$B44),IF(F$27="kg/t DM",((F$28*($B$28/100))*$B44),IF(F$27="mg/kg SAR",((F$28*0.001)*$B44),IF(F$27="mg/kg DM",(((F$28*0.001)*($B$28/100))*$B44),"0")))))))*1.658 -> 10.398976 | G44: =IF(G$27="%w/w SAR",((G$28*10)*$B44),IF(G$27="%w/w DM",(((G$28*10)*($B$28/100))*$B44),IF(G$27="kg/t SAR",(G$28*$B44),IF(G$27="kg/t DM",((G$28*($B$28/100))*$B44),IF(G$27="mg/kg SAR",((G$28*0.001)*$B44),IF(G$27="mg/kg DM",(((G$28*0.001)*($B$28/100))*$B44),0)))))) -> 0.054145 | H44: =IF(H$27="%w/w SAR",((H$28*10)*$B44),IF(H$27="%w/w DM",(((H$28*10)*($B$28/100))*$B44),IF(H$27="kg/t SAR",(H$28*$B44),IF(H$27="kg/t DM",((H$28*($B$28/100))*$B44),IF(H$27="mg/kg SAR",((H$28*0.001)*$B44),IF(H$27="mg/kg DM",(((H$28*0.001)*($B$28/100))*$B44),0)))))) -> 0.245 | I44: =IF(I$27="%w/w SAR",((I$28*10)*$B44),IF(I$27="%w/w DM",(((I$28*10)*($B$28/100))*$B44),IF(I$27="kg/t SAR",(I$28*$B44),IF(I$27="kg/t DM",((I$28*($B$28/100))*$B44),IF(I$27="mg/kg SAR",((I$28*0.001)*$B44),IF(I$27="mg/kg DM",(((I$28*0.001)*($B$28/100))*$B44),0)))))) -> 0.1225 | J44: =IF(J$27="%w/w SAR",((J$28*10)*$B44),IF(J$27="%w/w DM",(((J$28*10)*($B$28/100))*$B44),IF(J$27="kg/t SAR",(J$28*$B44),IF(J$27="kg/t DM",((J$28*($B$28/100))*$B44),IF(J$27="mg/kg SAR",((J$28*0.001)*$B44),IF(J$27="mg/kg DM",(((J$28*0.001)*($B$28/100))*$B44),0)))))) -> 0.00245 | K44: =IF(K$27="%w/w SAR",((K$28*10)*$B44),IF(K$27="%w/w DM",(((K$28*10)*($B$28/100))*$B44),IF(K$27="kg/t SAR",(K$28*$B44),IF(K$27="kg/t DM",((K$28*($B$28/100))*$B44),IF(K$27="mg/kg SAR",((K$28*0.001)*$B44),IF(K$27="mg/kg DM",(((K$28*0.001)*($B$28/100))*$B44),0)))))) -> 0.01225 | L44: =IF(L$27="%w/w SAR",((L$28*10)*$B44),IF(L$27="%w/w DM",(((L$28*10)*($B$28/100))*$B44),IF(L$27="kg/t SAR",(L$28*$B44),IF(L$27="kg/t DM",((L$28*($B$28/100))*$B44),IF(L$27="mg/kg SAR",((L$28*0.001)*$B44),IF(L$27="mg/kg DM",(((L$28*0.001)*($B$28/100))*$B44),0)))))) -> 0.049 | M44: =IF(M$27="%w/w SAR",((M$28*10)*$B44),IF(M$27="%w/w DM",(((M$28*10)*($B$28/100))*$B44),IF(M$27="kg/t SAR",(M$28*$B44),IF(M$27="kg/t DM",((M$28*($B$28/100))*$B44),IF(M$27="mg/kg SAR",((M$28*0.001)*$B44),IF(M$27="mg/kg DM",(((M$28*0.001)*($B$28/100))*$B44),0)))))) -> 0.049 | N44: =IF(N$27="%w/w SAR",((N$28*10)*$B44),IF(N$27="%w/w DM",(((N$28*10)*($B$28/100))*$B44),IF(N$27="kg/t SAR",(N$28*$B44),IF(N$27="kg/t DM",((N$28*($B$28/100))*$B44),IF(N$27="mg/kg SAR",((N$28*0.001)*$B44),IF(N$27="mg/kg DM",(((N$28*0.001)*($B$28/100))*$B44),0)))))) -> 0 | ... P44: =IF(P$27="%w/w SAR",((P$28*10)*$B44),IF(P$27="%w/w DM",(((P$28*10)*($B$28/100))*$B44),IF(P$27="kg/t SAR",(P$28*$B44),IF(P$27="kg/t DM",((P$28*($B$28/100))*$B44),IF(P$27="mg/kg SAR",((P$28*0.001)*$B44),IF(P$27="mg/kg DM",(((P$28*0.001)*($B$28/100))*$B44),0)))))) -> 82.565 | Q44: =(IF(Q$27="%w/w SAR",((Q$28*10)*$B44),IF(Q$27="%w/w DM",(((Q$28*10)*($B$28/100))*$B44),IF(Q$27="kg/t SAR",(Q$28*$B44),IF(Q$27="kg/t DM",((Q$28*($B$28/100))*$B44),IF(Q$27="mg/kg SAR",((Q$28*0.001)*$B44),IF(Q$27="mg/kg DM",(((Q$28*0.001)*($B$28/100))*$B44),0)))))))*2.5 -> 47.71375 | R44: =IF(R$27="%w/w SAR",((R$28*10)*$B44),IF(R$27="%w/w DM",(((R$28*10)*($B$28/100))*$B44),IF(R$27="kg/t SAR",(R$28*$B44),IF(R$27="kg/t DM",((R$28*($B$28/100))*$B44),IF(R$27="mg/kg SAR",((R$28*0.001)*$B44),IF(R$27="mg/kg DM",(((R$28*0.001)*($B$28/100))*$B44),0)))))) -> 0 | S44: =IF(S$27="%w/w SAR",((S$28*10)*$B44),IF(S$27="%w/w DM",(((S$28*10)*($B$28/100))*$B44),IF(S$27="kg/t SAR",(S$28*$B44),IF(S$27="kg/t DM",((S$28*($B$28/100))*$B44),IF(S$27="mg/kg SAR",((S$28*0.001)*$B44),IF(S$27="mg/kg DM",(((S$28*0.001)*($B$28/100))*$B44),0)))))) -> 0 | T44: =IF(T$27="%w/w SAR",((T$28*10)*$B44),IF(T$27="%w/w DM",(((T$28*10)*($B$28/100))*$B44),IF(T$27="kg/t SAR",(T$28*$B44),IF(T$27="kg/t DM",((T$28*($B$28/100))*$B44),IF(T$27="mg/kg SAR",((T$28*0.001)*$B44),IF(T$27="mg/kg DM",(((T$28*0.001)*($B$28/100))*$B44),0)))))) -> 0 | U44: =IF(U$27="%w/w SAR",((U$28*10)*$B44),IF(U$27="%w/w DM",(((U$28*10)*($B$28/100))*$B44),IF(U$27="kg/t SAR",(U$28*$B44),IF(U$27="kg/t DM",((U$28*($B$28/100))*$B44),IF(U$27="mg/kg SAR",((U$28*0.001)*$B44),IF(U$27="mg/kg DM",(((U$28*0.001)*($B$28/100))*$B44),0)))))) -> 0
A45: =Q8 -> 15 | B45: 245 | C45: =IF(C$27="%w/w SAR",((C$28*10)*$B45),IF(C$27="%w/w DM",(((C$28*10)*($B$28/100))*$B45),IF(C$27="kg/t SAR",(C$28*$B45),IF(C$27="kg/t DM",((C$28*($B$28/100))*$B45),IF(C$27="mg/kg SAR",((C$28*0.001)*$B45),IF(C$27="mg/kg DM",(((C$28*0.001)*($B$28/100))*$B45),0)))))) -> 147 | D45: =(IF(D$27="%w/w SAR",((D$28*10)*$B45),IF(D$27="%w/w DM",(((D$28*10)*($B$28/100))*$B45),IF(D$27="kg/t SAR",(D$28*$B45),IF(D$27="kg/t DM",((D$28*($B$28/100))*$B45),IF(D$27="mg/kg SAR",((D$28*0.001)*$B45),IF(D$27="mg/kg DM",(((D$28*0.001)*($B$28/100))*$B45),"0")))))))*2.291 -> 55.455946 | E45: =(IF(E$27="%w/w SAR",((E$28*10)*$B45),IF(E$27="%w/w DM",(((E$28*10)*($B$28/100))*$B45),IF(E$27="kg/t SAR",(E$28*$B45),IF(E$27="kg/t DM",((E$28*($B$28/100))*$B45),IF(E$27="mg/kg SAR",((E$28*0.001)*$B45),IF(E$27="mg/kg DM",(((E$28*0.001)*($B$28/100))*$B45),"0")))))))*1.205 -> 49.893025 | F45: =(IF(F$27="%w/w SAR",((F$28*10)*$B45),IF(F$27="%w/w DM",(((F$28*10)*($B$28/100))*$B45),IF(F$27="kg/t SAR",(F$28*$B45),IF(F$27="kg/t DM",((F$28*($B$28/100))*$B45),IF(F$27="mg/kg SAR",((F$28*0.001)*$B45),IF(F$27="mg/kg DM",(((F$28*0.001)*($B$28/100))*$B45),"0")))))))*1.658 -> 10.398976 | G45: =IF(G$27="%w/w SAR",((G$28*10)*$B45),IF(G$27="%w/w DM",(((G$28*10)*($B$28/100))*$B45),IF(G$27="kg/t SAR",(G$28*$B45),IF(G$27="kg/t DM",((G$28*($B$28/100))*$B45),IF(G$27="mg/kg SAR",((G$28*0.001)*$B45),IF(G$27="mg/kg DM",(((G$28*0.001)*($B$28/100))*$B45),0)))))) -> 0.054145 | H45: =IF(H$27="%w/w SAR",((H$28*10)*$B45),IF(H$27="%w/w DM",(((H$28*10)*($B$28/100))*$B45),IF(H$27="kg/t SAR",(H$28*$B45),IF(H$27="kg/t DM",((H$28*($B$28/100))*$B45),IF(H$27="mg/kg SAR",((H$28*0.001)*$B45),IF(H$27="mg/kg DM",(((H$28*0.001)*($B$28/100))*$B45),0)))))) -> 0.245 | I45: =IF(I$27="%w/w SAR",((I$28*10)*$B45),IF(I$27="%w/w DM",(((I$28*10)*($B$28/100))*$B45),IF(I$27="kg/t SAR",(I$28*$B45),IF(I$27="kg/t DM",((I$28*($B$28/100))*$B45),IF(I$27="mg/kg SAR",((I$28*0.001)*$B45),IF(I$27="mg/kg DM",(((I$28*0.001)*($B$28/100))*$B45),0)))))) -> 0.1225 | J45: =IF(J$27="%w/w SAR",((J$28*10)*$B45),IF(J$27="%w/w DM",(((J$28*10)*($B$28/100))*$B45),IF(J$27="kg/t SAR",(J$28*$B45),IF(J$27="kg/t DM",((J$28*($B$28/100))*$B45),IF(J$27="mg/kg SAR",((J$28*0.001)*$B45),IF(J$27="mg/kg DM",(((J$28*0.001)*($B$28/100))*$B45),0)))))) -> 0.00245 | K45: =IF(K$27="%w/w SAR",((K$28*10)*$B45),IF(K$27="%w/w DM",(((K$28*10)*($B$28/100))*$B45),IF(K$27="kg/t SAR",(K$28*$B45),IF(K$27="kg/t DM",((K$28*($B$28/100))*$B45),IF(K$27="mg/kg SAR",((K$28*0.001)*$B45),IF(K$27="mg/kg DM",(((K$28*0.001)*($B$28/100))*$B45),0)))))) -> 0.01225 | L45: =IF(L$27="%w/w SAR",((L$28*10)*$B45),IF(L$27="%w/w DM",(((L$28*10)*($B$28/100))*$B45),IF(L$27="kg/t SAR",(L$28*$B45),IF(L$27="kg/t DM",((L$28*($B$28/100))*$B45),IF(L$27="mg/kg SAR",((L$28*0.001)*$B45),IF(L$27="mg/kg DM",(((L$28*0.001)*($B$28/100))*$B45),0)))))) -> 0.049 | M45: =IF(M$27="%w/w SAR",((M$28*10)*$B45),IF(M$27="%w/w DM",(((M$28*10)*($B$28/100))*$B45),IF(M$27="kg/t SAR",(M$28*$B45),IF(M$27="kg/t DM",((M$28*($B$28/100))*$B45),IF(M$27="mg/kg SAR",((M$28*0.001)*$B45),IF(M$27="mg/kg DM",(((M$28*0.001)*($B$28/100))*$B45),0)))))) -> 0.049 | N45: =IF(N$27="%w/w SAR",((N$28*10)*$B45),IF(N$27="%w/w DM",(((N$28*10)*($B$28/100))*$B45),IF(N$27="kg/t SAR",(N$28*$B45),IF(N$27="kg/t DM",((N$28*($B$28/100))*$B45),IF(N$27="mg/kg SAR",((N$28*0.001)*$B45),IF(N$27="mg/kg DM",(((N$28*0.001)*($B$28/100))*$B45),0)))))) -> 0 | ... P45: =IF(P$27="%w/w SAR",((P$28*10)*$B45),IF(P$27="%w/w DM",(((P$28*10)*($B$28/100))*$B45),IF(P$27="kg/t SAR",(P$28*$B45),IF(P$27="kg/t DM",((P$28*($B$28/100))*$B45),IF(P$27="mg/kg SAR",((P$28*0.001)*$B45),IF(P$27="mg/kg DM",(((P$28*0.001)*($B$28/100))*$B45),0)))))) -> 82.565 | Q45: =(IF(Q$27="%w/w SAR",((Q$28*10)*$B45),IF(Q$27="%w/w DM",(((Q$28*10)*($B$28/100))*$B45),IF(Q$27="kg/t SAR",(Q$28*$B45),IF(Q$27="kg/t DM",((Q$28*($B$28/100))*$B45),IF(Q$27="mg/kg SAR",((Q$28*0.001)*$B45),IF(Q$27="mg/kg DM",(((Q$28*0.001)*($B$28/100))*$B45),0)))))))*2.5 -> 47.71375 | R45: =IF(R$27="%w/w SAR",((R$28*10)*$B45),IF(R$27="%w/w DM",(((R$28*10)*($B$28/100))*$B45),IF(R$27="kg/t SAR",(R$28*$B45),IF(R$27="kg/t DM",((R$28*($B$28/100))*$B45),IF(R$27="mg/kg SAR",((R$28*0.001)*$B45),IF(R$27="mg/kg DM",(((R$28*0.001)*($B$28/100))*$B45),0)))))) -> 0 | S45: =IF(S$27="%w/w SAR",((S$28*10)*$B45),IF(S$27="%w/w DM",(((S$28*10)*($B$28/100))*$B45),IF(S$27="kg/t SAR",(S$28*$B45),IF(S$27="kg/t DM",((S$28*($B$28/100))*$B45),IF(S$27="mg/kg SAR",((S$28*0.001)*$B45),IF(S$27="mg/kg DM",(((S$28*0.001)*($B$28/100))*$B45),0)))))) -> 0 | T45: =IF(T$27="%w/w SAR",((T$28*10)*$B45),IF(T$27="%w/w DM",(((T$28*10)*($B$28/100))*$B45),IF(T$27="kg/t SAR",(T$28*$B45),IF(T$27="kg/t DM",((T$28*($B$28/100))*$B45),IF(T$27="mg/kg SAR",((T$28*0.001)*$B45),IF(T$27="mg/kg DM",(((T$28*0.001)*($B$28/100))*$B45),0)))))) -> 0 | U45: =IF(U$27="%w/w SAR",((U$28*10)*$B45),IF(U$27="%w/w DM",(((U$28*10)*($B$28/100))*$B45),IF(U$27="kg/t SAR",(U$28*$B45),IF(U$27="kg/t DM",((U$28*($B$28/100))*$B45),IF(U$27="mg/kg SAR",((U$28*0.001)*$B45),IF(U$27="mg/kg DM",(((U$28*0.001)*($B$28/100))*$B45),0)))))) -> 0
A46: =R8 -> 16 | B46: 245 | C46: =IF(C$27="%w/w SAR",((C$28*10)*$B46),IF(C$27="%w/w DM",(((C$28*10)*($B$28/100))*$B46),IF(C$27="kg/t SAR",(C$28*$B46),IF(C$27="kg/t DM",((C$28*($B$28/100))*$B46),IF(C$27="mg/kg SAR",((C$28*0.001)*$B46),IF(C$27="mg/kg DM",(((C$28*0.001)*($B$28/100))*$B46),0)))))) -> 147 | D46: =(IF(D$27="%w/w SAR",((D$28*10)*$B46),IF(D$27="%w/w DM",(((D$28*10)*($B$28/100))*$B46),IF(D$27="kg/t SAR",(D$28*$B46),IF(D$27="kg/t DM",((D$28*($B$28/100))*$B46),IF(D$27="mg/kg SAR",((D$28*0.001)*$B46),IF(D$27="mg/kg DM",(((D$28*0.001)*($B$28/100))*$B46),"0")))))))*2.291 -> 55.455946 | E46: =(IF(E$27="%w/w SAR",((E$28*10)*$B46),IF(E$27="%w/w DM",(((E$28*10)*($B$28/100))*$B46),IF(E$27="kg/t SAR",(E$28*$B46),IF(E$27="kg/t DM",((E$28*($B$28/100))*$B46),IF(E$27="mg/kg SAR",((E$28*0.001)*$B46),IF(E$27="mg/kg DM",(((E$28*0.001)*($B$28/100))*$B46),"0")))))))*1.205 -> 49.893025 | F46: =(IF(F$27="%w/w SAR",((F$28*10)*$B46),IF(F$27="%w/w DM",(((F$28*10)*($B$28/100))*$B46),IF(F$27="kg/t SAR",(F$28*$B46),IF(F$27="kg/t DM",((F$28*($B$28/100))*$B46),IF(F$27="mg/kg SAR",((F$28*0.001)*$B46),IF(F$27="mg/kg DM",(((F$28*0.001)*($B$28/100))*$B46),"0")))))))*1.658 -> 10.398976 | G46: =IF(G$27="%w/w SAR",((G$28*10)*$B46),IF(G$27="%w/w DM",(((G$28*10)*($B$28/100))*$B46),IF(G$27="kg/t SAR",(G$28*$B46),IF(G$27="kg/t DM",((G$28*($B$28/100))*$B46),IF(G$27="mg/kg SAR",((G$28*0.001)*$B46),IF(G$27="mg/kg DM",(((G$28*0.001)*($B$28/100))*$B46),0)))))) -> 0.054145 | H46: =IF(H$27="%w/w SAR",((H$28*10)*$B46),IF(H$27="%w/w DM",(((H$28*10)*($B$28/100))*$B46),IF(H$27="kg/t SAR",(H$28*$B46),IF(H$27="kg/t DM",((H$28*($B$28/100))*$B46),IF(H$27="mg/kg SAR",((H$28*0.001)*$B46),IF(H$27="mg/kg DM",(((H$28*0.001)*($B$28/100))*$B46),0)))))) -> 0.245 | I46: =IF(I$27="%w/w SAR",((I$28*10)*$B46),IF(I$27="%w/w DM",(((I$28*10)*($B$28/100))*$B46),IF(I$27="kg/t SAR",(I$28*$B46),IF(I$27="kg/t DM",((I$28*($B$28/100))*$B46),IF(I$27="mg/kg SAR",((I$28*0.001)*$B46),IF(I$27="mg/kg DM",(((I$28*0.001)*($B$28/100))*$B46),0)))))) -> 0.1225 | J46: =IF(J$27="%w/w SAR",((J$28*10)*$B46),IF(J$27="%w/w DM",(((J$28*10)*($B$28/100))*$B46),IF(J$27="kg/t SAR",(J$28*$B46),IF(J$27="kg/t DM",((J$28*($B$28/100))*$B46),IF(J$27="mg/kg SAR",((J$28*0.001)*$B46),IF(J$27="mg/kg DM",(((J$28*0.001)*($B$28/100))*$B46),0)))))) -> 0.00245 | K46: =IF(K$27="%w/w SAR",((K$28*10)*$B46),IF(K$27="%w/w DM",(((K$28*10)*($B$28/100))*$B46),IF(K$27="kg/t SAR",(K$28*$B46),IF(K$27="kg/t DM",((K$28*($B$28/100))*$B46),IF(K$27="mg/kg SAR",((K$28*0.001)*$B46),IF(K$27="mg/kg DM",(((K$28*0.001)*($B$28/100))*$B46),0)))))) -> 0.01225 | L46: =IF(L$27="%w/w SAR",((L$28*10)*$B46),IF(L$27="%w/w DM",(((L$28*10)*($B$28/100))*$B46),IF(L$27="kg/t SAR",(L$28*$B46),IF(L$27="kg/t DM",((L$28*($B$28/100))*$B46),IF(L$27="mg/kg SAR",((L$28*0.001)*$B46),IF(L$27="mg/kg DM",(((L$28*0.001)*($B$28/100))*$B46),0)))))) -> 0.049 | M46: =IF(M$27="%w/w SAR",((M$28*10)*$B46),IF(M$27="%w/w DM",(((M$28*10)*($B$28/100))*$B46),IF(M$27="kg/t SAR",(M$28*$B46),IF(M$27="kg/t DM",((M$28*($B$28/100))*$B46),IF(M$27="mg/kg SAR",((M$28*0.001)*$B46),IF(M$27="mg/kg DM",(((M$28*0.001)*($B$28/100))*$B46),0)))))) -> 0.049 | N46: =IF(N$27="%w/w SAR",((N$28*10)*$B46),IF(N$27="%w/w DM",(((N$28*10)*($B$28/100))*$B46),IF(N$27="kg/t SAR",(N$28*$B46),IF(N$27="kg/t DM",((N$28*($B$28/100))*$B46),IF(N$27="mg/kg SAR",((N$28*0.001)*$B46),IF(N$27="mg/kg DM",(((N$28*0.001)*($B$28/100))*$B46),0)))))) -> 0 | ... P46: =IF(P$27="%w/w SAR",((P$28*10)*$B46),IF(P$27="%w/w DM",(((P$28*10)*($B$28/100))*$B46),IF(P$27="kg/t SAR",(P$28*$B46),IF(P$27="kg/t DM",((P$28*($B$28/100))*$B46),IF(P$27="mg/kg SAR",((P$28*0.001)*$B46),IF(P$27="mg/kg DM",(((P$28*0.001)*($B$28/100))*$B46),0)))))) -> 82.565 | Q46: =(IF(Q$27="%w/w SAR",((Q$28*10)*$B46),IF(Q$27="%w/w DM",(((Q$28*10)*($B$28/100))*$B46),IF(Q$27="kg/t SAR",(Q$28*$B46),IF(Q$27="kg/t DM",((Q$28*($B$28/100))*$B46),IF(Q$27="mg/kg SAR",((Q$28*0.001)*$B46),IF(Q$27="mg/kg DM",(((Q$28*0.001)*($B$28/100))*$B46),0)))))))*2.5 -> 47.71375 | R46: =IF(R$27="%w/w SAR",((R$28*10)*$B46),IF(R$27="%w/w DM",(((R$28*10)*($B$28/100))*$B46),IF(R$27="kg/t SAR",(R$28*$B46),IF(R$27="kg/t DM",((R$28*($B$28/100))*$B46),IF(R$27="mg/kg SAR",((R$28*0.001)*$B46),IF(R$27="mg/kg DM",(((R$28*0.001)*($B$28/100))*$B46),0)))))) -> 0 | S46: =IF(S$27="%w/w SAR",((S$28*10)*$B46),IF(S$27="%w/w DM",(((S$28*10)*($B$28/100))*$B46),IF(S$27="kg/t SAR",(S$28*$B46),IF(S$27="kg/t DM",((S$28*($B$28/100))*$B46),IF(S$27="mg/kg SAR",((S$28*0.001)*$B46),IF(S$27="mg/kg DM",(((S$28*0.001)*($B$28/100))*$B46),0)))))) -> 0 | T46: =IF(T$27="%w/w SAR",((T$28*10)*$B46),IF(T$27="%w/w DM",(((T$28*10)*($B$28/100))*$B46),IF(T$27="kg/t SAR",(T$28*$B46),IF(T$27="kg/t DM",((T$28*($B$28/100))*$B46),IF(T$27="mg/kg SAR",((T$28*0.001)*$B46),IF(T$27="mg/kg DM",(((T$28*0.001)*($B$28/100))*$B46),0)))))) -> 0 | U46: =IF(U$27="%w/w SAR",((U$28*10)*$B46),IF(U$27="%w/w DM",(((U$28*10)*($B$28/100))*$B46),IF(U$27="kg/t SAR",(U$28*$B46),IF(U$27="kg/t DM",((U$28*($B$28/100))*$B46),IF(U$27="mg/kg SAR",((U$28*0.001)*$B46),IF(U$27="mg/kg DM",(((U$28*0.001)*($B$28/100))*$B46),0)))))) -> 0
A47: =S8 -> 17 | B47: 245 | C47: =IF(C$27="%w/w SAR",((C$28*10)*$B47),IF(C$27="%w/w DM",(((C$28*10)*($B$28/100))*$B47),IF(C$27="kg/t SAR",(C$28*$B47),IF(C$27="kg/t DM",((C$28*($B$28/100))*$B47),IF(C$27="mg/kg SAR",((C$28*0.001)*$B47),IF(C$27="mg/kg DM",(((C$28*0.001)*($B$28/100))*$B47),0)))))) -> 147 | D47: =(IF(D$27="%w/w SAR",((D$28*10)*$B47),IF(D$27="%w/w DM",(((D$28*10)*($B$28/100))*$B47),IF(D$27="kg/t SAR",(D$28*$B47),IF(D$27="kg/t DM",((D$28*($B$28/100))*$B47),IF(D$27="mg/kg SAR",((D$28*0.001)*$B47),IF(D$27="mg/kg DM",(((D$28*0.001)*($B$28/100))*$B47),"0")))))))*2.291 -> 55.455946 | E47: =(IF(E$27="%w/w SAR",((E$28*10)*$B47),IF(E$27="%w/w DM",(((E$28*10)*($B$28/100))*$B47),IF(E$27="kg/t SAR",(E$28*$B47),IF(E$27="kg/t DM",((E$28*($B$28/100))*$B47),IF(E$27="mg/kg SAR",((E$28*0.001)*$B47),IF(E$27="mg/kg DM",(((E$28*0.001)*($B$28/100))*$B47),"0")))))))*1.205 -> 49.893025 | F47: =(IF(F$27="%w/w SAR",((F$28*10)*$B47),IF(F$27="%w/w DM",(((F$28*10)*($B$28/100))*$B47),IF(F$27="kg/t SAR",(F$28*$B47),IF(F$27="kg/t DM",((F$28*($B$28/100))*$B47),IF(F$27="mg/kg SAR",((F$28*0.001)*$B47),IF(F$27="mg/kg DM",(((F$28*0.001)*($B$28/100))*$B47),"0")))))))*1.658 -> 10.398976 | G47: =IF(G$27="%w/w SAR",((G$28*10)*$B47),IF(G$27="%w/w DM",(((G$28*10)*($B$28/100))*$B47),IF(G$27="kg/t SAR",(G$28*$B47),IF(G$27="kg/t DM",((G$28*($B$28/100))*$B47),IF(G$27="mg/kg SAR",((G$28*0.001)*$B47),IF(G$27="mg/kg DM",(((G$28*0.001)*($B$28/100))*$B47),0)))))) -> 0.054145 | H47: =IF(H$27="%w/w SAR",((H$28*10)*$B47),IF(H$27="%w/w DM",(((H$28*10)*($B$28/100))*$B47),IF(H$27="kg/t SAR",(H$28*$B47),IF(H$27="kg/t DM",((H$28*($B$28/100))*$B47),IF(H$27="mg/kg SAR",((H$28*0.001)*$B47),IF(H$27="mg/kg DM",(((H$28*0.001)*($B$28/100))*$B47),0)))))) -> 0.245 | I47: =IF(I$27="%w/w SAR",((I$28*10)*$B47),IF(I$27="%w/w DM",(((I$28*10)*($B$28/100))*$B47),IF(I$27="kg/t SAR",(I$28*$B47),IF(I$27="kg/t DM",((I$28*($B$28/100))*$B47),IF(I$27="mg/kg SAR",((I$28*0.001)*$B47),IF(I$27="mg/kg DM",(((I$28*0.001)*($B$28/100))*$B47),0)))))) -> 0.1225 | J47: =IF(J$27="%w/w SAR",((J$28*10)*$B47),IF(J$27="%w/w DM",(((J$28*10)*($B$28/100))*$B47),IF(J$27="kg/t SAR",(J$28*$B47),IF(J$27="kg/t DM",((J$28*($B$28/100))*$B47),IF(J$27="mg/kg SAR",((J$28*0.001)*$B47),IF(J$27="mg/kg DM",(((J$28*0.001)*($B$28/100))*$B47),0)))))) -> 0.00245 | K47: =IF(K$27="%w/w SAR",((K$28*10)*$B47),IF(K$27="%w/w DM",(((K$28*10)*($B$28/100))*$B47),IF(K$27="kg/t SAR",(K$28*$B47),IF(K$27="kg/t DM",((K$28*($B$28/100))*$B47),IF(K$27="mg/kg SAR",((K$28*0.001)*$B47),IF(K$27="mg/kg DM",(((K$28*0.001)*($B$28/100))*$B47),0)))))) -> 0.01225 | L47: =IF(L$27="%w/w SAR",((L$28*10)*$B47),IF(L$27="%w/w DM",(((L$28*10)*($B$28/100))*$B47),IF(L$27="kg/t SAR",(L$28*$B47),IF(L$27="kg/t DM",((L$28*($B$28/100))*$B47),IF(L$27="mg/kg SAR",((L$28*0.001)*$B47),IF(L$27="mg/kg DM",(((L$28*0.001)*($B$28/100))*$B47),0)))))) -> 0.049 | M47: =IF(M$27="%w/w SAR",((M$28*10)*$B47),IF(M$27="%w/w DM",(((M$28*10)*($B$28/100))*$B47),IF(M$27="kg/t SAR",(M$28*$B47),IF(M$27="kg/t DM",((M$28*($B$28/100))*$B47),IF(M$27="mg/kg SAR",((M$28*0.001)*$B47),IF(M$27="mg/kg DM",(((M$28*0.001)*($B$28/100))*$B47),0)))))) -> 0.049 | N47: =IF(N$27="%w/w SAR",((N$28*10)*$B47),IF(N$27="%w/w DM",(((N$28*10)*($B$28/100))*$B47),IF(N$27="kg/t SAR",(N$28*$B47),IF(N$27="kg/t DM",((N$28*($B$28/100))*$B47),IF(N$27="mg/kg SAR",((N$28*0.001)*$B47),IF(N$27="mg/kg DM",(((N$28*0.001)*($B$28/100))*$B47),0)))))) -> 0 | ... P47: =IF(P$27="%w/w SAR",((P$28*10)*$B47),IF(P$27="%w/w DM",(((P$28*10)*($B$28/100))*$B47),IF(P$27="kg/t SAR",(P$28*$B47),IF(P$27="kg/t DM",((P$28*($B$28/100))*$B47),IF(P$27="mg/kg SAR",((P$28*0.001)*$B47),IF(P$27="mg/kg DM",(((P$28*0.001)*($B$28/100))*$B47),0)))))) -> 82.565 | Q47: =(IF(Q$27="%w/w SAR",((Q$28*10)*$B47),IF(Q$27="%w/w DM",(((Q$28*10)*($B$28/100))*$B47),IF(Q$27="kg/t SAR",(Q$28*$B47),IF(Q$27="kg/t DM",((Q$28*($B$28/100))*$B47),IF(Q$27="mg/kg SAR",((Q$28*0.001)*$B47),IF(Q$27="mg/kg DM",(((Q$28*0.001)*($B$28/100))*$B47),0)))))))*2.5 -> 47.71375 | R47: =IF(R$27="%w/w SAR",((R$28*10)*$B47),IF(R$27="%w/w DM",(((R$28*10)*($B$28/100))*$B47),IF(R$27="kg/t SAR",(R$28*$B47),IF(R$27="kg/t DM",((R$28*($B$28/100))*$B47),IF(R$27="mg/kg SAR",((R$28*0.001)*$B47),IF(R$27="mg/kg DM",(((R$28*0.001)*($B$28/100))*$B47),0)))))) -> 0 | S47: =IF(S$27="%w/w SAR",((S$28*10)*$B47),IF(S$27="%w/w DM",(((S$28*10)*($B$28/100))*$B47),IF(S$27="kg/t SAR",(S$28*$B47),IF(S$27="kg/t DM",((S$28*($B$28/100))*$B47),IF(S$27="mg/kg SAR",((S$28*0.001)*$B47),IF(S$27="mg/kg DM",(((S$28*0.001)*($B$28/100))*$B47),0)))))) -> 0 | T47: =IF(T$27="%w/w SAR",((T$28*10)*$B47),IF(T$27="%w/w DM",(((T$28*10)*($B$28/100))*$B47),IF(T$27="kg/t SAR",(T$28*$B47),IF(T$27="kg/t DM",((T$28*($B$28/100))*$B47),IF(T$27="mg/kg SAR",((T$28*0.001)*$B47),IF(T$27="mg/kg DM",(((T$28*0.001)*($B$28/100))*$B47),0)))))) -> 0 | U47: =IF(U$27="%w/w SAR",((U$28*10)*$B47),IF(U$27="%w/w DM",(((U$28*10)*($B$28/100))*$B47),IF(U$27="kg/t SAR",(U$28*$B47),IF(U$27="kg/t DM",((U$28*($B$28/100))*$B47),IF(U$27="mg/kg SAR",((U$28*0.001)*$B47),IF(U$27="mg/kg DM",(((U$28*0.001)*($B$28/100))*$B47),0)))))) -> 0
A48: =T8 -> 18 | B48: 245 | C48: =IF(C$27="%w/w SAR",((C$28*10)*$B48),IF(C$27="%w/w DM",(((C$28*10)*($B$28/100))*$B48),IF(C$27="kg/t SAR",(C$28*$B48),IF(C$27="kg/t DM",((C$28*($B$28/100))*$B48),IF(C$27="mg/kg SAR",((C$28*0.001)*$B48),IF(C$27="mg/kg DM",(((C$28*0.001)*($B$28/100))*$B48),0)))))) -> 147 | D48: =(IF(D$27="%w/w SAR",((D$28*10)*$B48),IF(D$27="%w/w DM",(((D$28*10)*($B$28/100))*$B48),IF(D$27="kg/t SAR",(D$28*$B48),IF(D$27="kg/t DM",((D$28*($B$28/100))*$B48),IF(D$27="mg/kg SAR",((D$28*0.001)*$B48),IF(D$27="mg/kg DM",(((D$28*0.001)*($B$28/100))*$B48),"0")))))))*2.291 -> 55.455946 | E48: =(IF(E$27="%w/w SAR",((E$28*10)*$B48),IF(E$27="%w/w DM",(((E$28*10)*($B$28/100))*$B48),IF(E$27="kg/t SAR",(E$28*$B48),IF(E$27="kg/t DM",((E$28*($B$28/100))*$B48),IF(E$27="mg/kg SAR",((E$28*0.001)*$B48),IF(E$27="mg/kg DM",(((E$28*0.001)*($B$28/100))*$B48),"0")))))))*1.205 -> 49.893025 | F48: =(IF(F$27="%w/w SAR",((F$28*10)*$B48),IF(F$27="%w/w DM",(((F$28*10)*($B$28/100))*$B48),IF(F$27="kg/t SAR",(F$28*$B48),IF(F$27="kg/t DM",((F$28*($B$28/100))*$B48),IF(F$27="mg/kg SAR",((F$28*0.001)*$B48),IF(F$27="mg/kg DM",(((F$28*0.001)*($B$28/100))*$B48),"0")))))))*1.658 -> 10.398976 | G48: =IF(G$27="%w/w SAR",((G$28*10)*$B48),IF(G$27="%w/w DM",(((G$28*10)*($B$28/100))*$B48),IF(G$27="kg/t SAR",(G$28*$B48),IF(G$27="kg/t DM",((G$28*($B$28/100))*$B48),IF(G$27="mg/kg SAR",((G$28*0.001)*$B48),IF(G$27="mg/kg DM",(((G$28*0.001)*($B$28/100))*$B48),0)))))) -> 0.054145 | H48: =IF(H$27="%w/w SAR",((H$28*10)*$B48),IF(H$27="%w/w DM",(((H$28*10)*($B$28/100))*$B48),IF(H$27="kg/t SAR",(H$28*$B48),IF(H$27="kg/t DM",((H$28*($B$28/100))*$B48),IF(H$27="mg/kg SAR",((H$28*0.001)*$B48),IF(H$27="mg/kg DM",(((H$28*0.001)*($B$28/100))*$B48),0)))))) -> 0.245 | I48: =IF(I$27="%w/w SAR",((I$28*10)*$B48),IF(I$27="%w/w DM",(((I$28*10)*($B$28/100))*$B48),IF(I$27="kg/t SAR",(I$28*$B48),IF(I$27="kg/t DM",((I$28*($B$28/100))*$B48),IF(I$27="mg/kg SAR",((I$28*0.001)*$B48),IF(I$27="mg/kg DM",(((I$28*0.001)*($B$28/100))*$B48),0)))))) -> 0.1225 | J48: =IF(J$27="%w/w SAR",((J$28*10)*$B48),IF(J$27="%w/w DM",(((J$28*10)*($B$28/100))*$B48),IF(J$27="kg/t SAR",(J$28*$B48),IF(J$27="kg/t DM",((J$28*($B$28/100))*$B48),IF(J$27="mg/kg SAR",((J$28*0.001)*$B48),IF(J$27="mg/kg DM",(((J$28*0.001)*($B$28/100))*$B48),0)))))) -> 0.00245 | K48: =IF(K$27="%w/w SAR",((K$28*10)*$B48),IF(K$27="%w/w DM",(((K$28*10)*($B$28/100))*$B48),IF(K$27="kg/t SAR",(K$28*$B48),IF(K$27="kg/t DM",((K$28*($B$28/100))*$B48),IF(K$27="mg/kg SAR",((K$28*0.001)*$B48),IF(K$27="mg/kg DM",(((K$28*0.001)*($B$28/100))*$B48),0)))))) -> 0.01225 | L48: =IF(L$27="%w/w SAR",((L$28*10)*$B48),IF(L$27="%w/w DM",(((L$28*10)*($B$28/100))*$B48),IF(L$27="kg/t SAR",(L$28*$B48),IF(L$27="kg/t DM",((L$28*($B$28/100))*$B48),IF(L$27="mg/kg SAR",((L$28*0.001)*$B48),IF(L$27="mg/kg DM",(((L$28*0.001)*($B$28/100))*$B48),0)))))) -> 0.049 | M48: =IF(M$27="%w/w SAR",((M$28*10)*$B48),IF(M$27="%w/w DM",(((M$28*10)*($B$28/100))*$B48),IF(M$27="kg/t SAR",(M$28*$B48),IF(M$27="kg/t DM",((M$28*($B$28/100))*$B48),IF(M$27="mg/kg SAR",((M$28*0.001)*$B48),IF(M$27="mg/kg DM",(((M$28*0.001)*($B$28/100))*$B48),0)))))) -> 0.049 | N48: =IF(N$27="%w/w SAR",((N$28*10)*$B48),IF(N$27="%w/w DM",(((N$28*10)*($B$28/100))*$B48),IF(N$27="kg/t SAR",(N$28*$B48),IF(N$27="kg/t DM",((N$28*($B$28/100))*$B48),IF(N$27="mg/kg SAR",((N$28*0.001)*$B48),IF(N$27="mg/kg DM",(((N$28*0.001)*($B$28/100))*$B48),0)))))) -> 0 | ... P48: =IF(P$27="%w/w SAR",((P$28*10)*$B48),IF(P$27="%w/w DM",(((P$28*10)*($B$28/100))*$B48),IF(P$27="kg/t SAR",(P$28*$B48),IF(P$27="kg/t DM",((P$28*($B$28/100))*$B48),IF(P$27="mg/kg SAR",((P$28*0.001)*$B48),IF(P$27="mg/kg DM",(((P$28*0.001)*($B$28/100))*$B48),0)))))) -> 82.565 | Q48: =(IF(Q$27="%w/w SAR",((Q$28*10)*$B48),IF(Q$27="%w/w DM",(((Q$28*10)*($B$28/100))*$B48),IF(Q$27="kg/t SAR",(Q$28*$B48),IF(Q$27="kg/t DM",((Q$28*($B$28/100))*$B48),IF(Q$27="mg/kg SAR",((Q$28*0.001)*$B48),IF(Q$27="mg/kg DM",(((Q$28*0.001)*($B$28/100))*$B48),0)))))))*2.5 -> 47.71375 | R48: =IF(R$27="%w/w SAR",((R$28*10)*$B48),IF(R$27="%w/w DM",(((R$28*10)*($B$28/100))*$B48),IF(R$27="kg/t SAR",(R$28*$B48),IF(R$27="kg/t DM",((R$28*($B$28/100))*$B48),IF(R$27="mg/kg SAR",((R$28*0.001)*$B48),IF(R$27="mg/kg DM",(((R$28*0.001)*($B$28/100))*$B48),0)))))) -> 0 | S48: =IF(S$27="%w/w SAR",((S$28*10)*$B48),IF(S$27="%w/w DM",(((S$28*10)*($B$28/100))*$B48),IF(S$27="kg/t SAR",(S$28*$B48),IF(S$27="kg/t DM",((S$28*($B$28/100))*$B48),IF(S$27="mg/kg SAR",((S$28*0.001)*$B48),IF(S$27="mg/kg DM",(((S$28*0.001)*($B$28/100))*$B48),0)))))) -> 0 | T48: =IF(T$27="%w/w SAR",((T$28*10)*$B48),IF(T$27="%w/w DM",(((T$28*10)*($B$28/100))*$B48),IF(T$27="kg/t SAR",(T$28*$B48),IF(T$27="kg/t DM",((T$28*($B$28/100))*$B48),IF(T$27="mg/kg SAR",((T$28*0.001)*$B48),IF(T$27="mg/kg DM",(((T$28*0.001)*($B$28/100))*$B48),0)))))) -> 0 | U48: =IF(U$27="%w/w SAR",((U$28*10)*$B48),IF(U$27="%w/w DM",(((U$28*10)*($B$28/100))*$B48),IF(U$27="kg/t SAR",(U$28*$B48),IF(U$27="kg/t DM",((U$28*($B$28/100))*$B48),IF(U$27="mg/kg SAR",((U$28*0.001)*$B48),IF(U$27="mg/kg DM",(((U$28*0.001)*($B$28/100))*$B48),0)))))) -> 0
A49: =U8 -> 19 | B49: 245 | C49: =IF(C$27="%w/w SAR",((C$28*10)*$B49),IF(C$27="%w/w DM",(((C$28*10)*($B$28/100))*$B49),IF(C$27="kg/t SAR",(C$28*$B49),IF(C$27="kg/t DM",((C$28*($B$28/100))*$B49),IF(C$27="mg/kg SAR",((C$28*0.001)*$B49),IF(C$27="mg/kg DM",(((C$28*0.001)*($B$28/100))*$B49),0)))))) -> 147 | D49: =(IF(D$27="%w/w SAR",((D$28*10)*$B49),IF(D$27="%w/w DM",(((D$28*10)*($B$28/100))*$B49),IF(D$27="kg/t SAR",(D$28*$B49),IF(D$27="kg/t DM",((D$28*($B$28/100))*$B49),IF(D$27="mg/kg SAR",((D$28*0.001)*$B49),IF(D$27="mg/kg DM",(((D$28*0.001)*($B$28/100))*$B49),"0")))))))*2.291 -> 55.455946 | E49: =(IF(E$27="%w/w SAR",((E$28*10)*$B49),IF(E$27="%w/w DM",(((E$28*10)*($B$28/100))*$B49),IF(E$27="kg/t SAR",(E$28*$B49),IF(E$27="kg/t DM",((E$28*($B$28/100))*$B49),IF(E$27="mg/kg SAR",((E$28*0.001)*$B49),IF(E$27="mg/kg DM",(((E$28*0.001)*($B$28/100))*$B49),"0")))))))*1.205 -> 49.893025 | F49: =(IF(F$27="%w/w SAR",((F$28*10)*$B49),IF(F$27="%w/w DM",(((F$28*10)*($B$28/100))*$B49),IF(F$27="kg/t SAR",(F$28*$B49),IF(F$27="kg/t DM",((F$28*($B$28/100))*$B49),IF(F$27="mg/kg SAR",((F$28*0.001)*$B49),IF(F$27="mg/kg DM",(((F$28*0.001)*($B$28/100))*$B49),"0")))))))*1.658 -> 10.398976 | G49: =IF(G$27="%w/w SAR",((G$28*10)*$B49),IF(G$27="%w/w DM",(((G$28*10)*($B$28/100))*$B49),IF(G$27="kg/t SAR",(G$28*$B49),IF(G$27="kg/t DM",((G$28*($B$28/100))*$B49),IF(G$27="mg/kg SAR",((G$28*0.001)*$B49),IF(G$27="mg/kg DM",(((G$28*0.001)*($B$28/100))*$B49),0)))))) -> 0.054145 | H49: =IF(H$27="%w/w SAR",((H$28*10)*$B49),IF(H$27="%w/w DM",(((H$28*10)*($B$28/100))*$B49),IF(H$27="kg/t SAR",(H$28*$B49),IF(H$27="kg/t DM",((H$28*($B$28/100))*$B49),IF(H$27="mg/kg SAR",((H$28*0.001)*$B49),IF(H$27="mg/kg DM",(((H$28*0.001)*($B$28/100))*$B49),0)))))) -> 0.245 | I49: =IF(I$27="%w/w SAR",((I$28*10)*$B49),IF(I$27="%w/w DM",(((I$28*10)*($B$28/100))*$B49),IF(I$27="kg/t SAR",(I$28*$B49),IF(I$27="kg/t DM",((I$28*($B$28/100))*$B49),IF(I$27="mg/kg SAR",((I$28*0.001)*$B49),IF(I$27="mg/kg DM",(((I$28*0.001)*($B$28/100))*$B49),0)))))) -> 0.1225 | J49: =IF(J$27="%w/w SAR",((J$28*10)*$B49),IF(J$27="%w/w DM",(((J$28*10)*($B$28/100))*$B49),IF(J$27="kg/t SAR",(J$28*$B49),IF(J$27="kg/t DM",((J$28*($B$28/100))*$B49),IF(J$27="mg/kg SAR",((J$28*0.001)*$B49),IF(J$27="mg/kg DM",(((J$28*0.001)*($B$28/100))*$B49),0)))))) -> 0.00245 | K49: =IF(K$27="%w/w SAR",((K$28*10)*$B49),IF(K$27="%w/w DM",(((K$28*10)*($B$28/100))*$B49),IF(K$27="kg/t SAR",(K$28*$B49),IF(K$27="kg/t DM",((K$28*($B$28/100))*$B49),IF(K$27="mg/kg SAR",((K$28*0.001)*$B49),IF(K$27="mg/kg DM",(((K$28*0.001)*($B$28/100))*$B49),0)))))) -> 0.01225 | L49: =IF(L$27="%w/w SAR",((L$28*10)*$B49),IF(L$27="%w/w DM",(((L$28*10)*($B$28/100))*$B49),IF(L$27="kg/t SAR",(L$28*$B49),IF(L$27="kg/t DM",((L$28*($B$28/100))*$B49),IF(L$27="mg/kg SAR",((L$28*0.001)*$B49),IF(L$27="mg/kg DM",(((L$28*0.001)*($B$28/100))*$B49),0)))))) -> 0.049 | M49: =IF(M$27="%w/w SAR",((M$28*10)*$B49),IF(M$27="%w/w DM",(((M$28*10)*($B$28/100))*$B49),IF(M$27="kg/t SAR",(M$28*$B49),IF(M$27="kg/t DM",((M$28*($B$28/100))*$B49),IF(M$27="mg/kg SAR",((M$28*0.001)*$B49),IF(M$27="mg/kg DM",(((M$28*0.001)*($B$28/100))*$B49),0)))))) -> 0.049 | N49: =IF(N$27="%w/w SAR",((N$28*10)*$B49),IF(N$27="%w/w DM",(((N$28*10)*($B$28/100))*$B49),IF(N$27="kg/t SAR",(N$28*$B49),IF(N$27="kg/t DM",((N$28*($B$28/100))*$B49),IF(N$27="mg/kg SAR",((N$28*0.001)*$B49),IF(N$27="mg/kg DM",(((N$28*0.001)*($B$28/100))*$B49),0)))))) -> 0 | ... P49: =IF(P$27="%w/w SAR",((P$28*10)*$B49),IF(P$27="%w/w DM",(((P$28*10)*($B$28/100))*$B49),IF(P$27="kg/t SAR",(P$28*$B49),IF(P$27="kg/t DM",((P$28*($B$28/100))*$B49),IF(P$27="mg/kg SAR",((P$28*0.001)*$B49),IF(P$27="mg/kg DM",(((P$28*0.001)*($B$28/100))*$B49),0)))))) -> 82.565 | Q49: =(IF(Q$27="%w/w SAR",((Q$28*10)*$B49),IF(Q$27="%w/w DM",(((Q$28*10)*($B$28/100))*$B49),IF(Q$27="kg/t SAR",(Q$28*$B49),IF(Q$27="kg/t DM",((Q$28*($B$28/100))*$B49),IF(Q$27="mg/kg SAR",((Q$28*0.001)*$B49),IF(Q$27="mg/kg DM",(((Q$28*0.001)*($B$28/100))*$B49),0)))))))*2.5 -> 47.71375 | R49: =IF(R$27="%w/w SAR",((R$28*10)*$B49),IF(R$27="%w/w DM",(((R$28*10)*($B$28/100))*$B49),IF(R$27="kg/t SAR",(R$28*$B49),IF(R$27="kg/t DM",((R$28*($B$28/100))*$B49),IF(R$27="mg/kg SAR",((R$28*0.001)*$B49),IF(R$27="mg/kg DM",(((R$28*0.001)*($B$28/100))*$B49),0)))))) -> 0 | S49: =IF(S$27="%w/w SAR",((S$28*10)*$B49),IF(S$27="%w/w DM",(((S$28*10)*($B$28/100))*$B49),IF(S$27="kg/t SAR",(S$28*$B49),IF(S$27="kg/t DM",((S$28*($B$28/100))*$B49),IF(S$27="mg/kg SAR",((S$28*0.001)*$B49),IF(S$27="mg/kg DM",(((S$28*0.001)*($B$28/100))*$B49),0)))))) -> 0 | T49: =IF(T$27="%w/w SAR",((T$28*10)*$B49),IF(T$27="%w/w DM",(((T$28*10)*($B$28/100))*$B49),IF(T$27="kg/t SAR",(T$28*$B49),IF(T$27="kg/t DM",((T$28*($B$28/100))*$B49),IF(T$27="mg/kg SAR",((T$28*0.001)*$B49),IF(T$27="mg/kg DM",(((T$28*0.001)*($B$28/100))*$B49),0)))))) -> 0 | U49: =IF(U$27="%w/w SAR",((U$28*10)*$B49),IF(U$27="%w/w DM",(((U$28*10)*($B$28/100))*$B49),IF(U$27="kg/t SAR",(U$28*$B49),IF(U$27="kg/t DM",((U$28*($B$28/100))*$B49),IF(U$27="mg/kg SAR",((U$28*0.001)*$B49),IF(U$27="mg/kg DM",(((U$28*0.001)*($B$28/100))*$B49),0)))))) -> 0
A50: =V8 -> 20 | B50: 245 | C50: =IF(C$27="%w/w SAR",((C$28*10)*$B50),IF(C$27="%w/w DM",(((C$28*10)*($B$28/100))*$B50),IF(C$27="kg/t SAR",(C$28*$B50),IF(C$27="kg/t DM",((C$28*($B$28/100))*$B50),IF(C$27="mg/kg SAR",((C$28*0.001)*$B50),IF(C$27="mg/kg DM",(((C$28*0.001)*($B$28/100))*$B50),0)))))) -> 147 | D50: =(IF(D$27="%w/w SAR",((D$28*10)*$B50),IF(D$27="%w/w DM",(((D$28*10)*($B$28/100))*$B50),IF(D$27="kg/t SAR",(D$28*$B50),IF(D$27="kg/t DM",((D$28*($B$28/100))*$B50),IF(D$27="mg/kg SAR",((D$28*0.001)*$B50),IF(D$27="mg/kg DM",(((D$28*0.001)*($B$28/100))*$B50),"0")))))))*2.291 -> 55.455946 | E50: =(IF(E$27="%w/w SAR",((E$28*10)*$B50),IF(E$27="%w/w DM",(((E$28*10)*($B$28/100))*$B50),IF(E$27="kg/t SAR",(E$28*$B50),IF(E$27="kg/t DM",((E$28*($B$28/100))*$B50),IF(E$27="mg/kg SAR",((E$28*0.001)*$B50),IF(E$27="mg/kg DM",(((E$28*0.001)*($B$28/100))*$B50),"0")))))))*1.205 -> 49.893025 | F50: =(IF(F$27="%w/w SAR",((F$28*10)*$B50),IF(F$27="%w/w DM",(((F$28*10)*($B$28/100))*$B50),IF(F$27="kg/t SAR",(F$28*$B50),IF(F$27="kg/t DM",((F$28*($B$28/100))*$B50),IF(F$27="mg/kg SAR",((F$28*0.001)*$B50),IF(F$27="mg/kg DM",(((F$28*0.001)*($B$28/100))*$B50),"0")))))))*1.658 -> 10.398976 | G50: =IF(G$27="%w/w SAR",((G$28*10)*$B50),IF(G$27="%w/w DM",(((G$28*10)*($B$28/100))*$B50),IF(G$27="kg/t SAR",(G$28*$B50),IF(G$27="kg/t DM",((G$28*($B$28/100))*$B50),IF(G$27="mg/kg SAR",((G$28*0.001)*$B50),IF(G$27="mg/kg DM",(((G$28*0.001)*($B$28/100))*$B50),0)))))) -> 0.054145 | H50: =IF(H$27="%w/w SAR",((H$28*10)*$B50),IF(H$27="%w/w DM",(((H$28*10)*($B$28/100))*$B50),IF(H$27="kg/t SAR",(H$28*$B50),IF(H$27="kg/t DM",((H$28*($B$28/100))*$B50),IF(H$27="mg/kg SAR",((H$28*0.001)*$B50),IF(H$27="mg/kg DM",(((H$28*0.001)*($B$28/100))*$B50),0)))))) -> 0.245 | I50: =IF(I$27="%w/w SAR",((I$28*10)*$B50),IF(I$27="%w/w DM",(((I$28*10)*($B$28/100))*$B50),IF(I$27="kg/t SAR",(I$28*$B50),IF(I$27="kg/t DM",((I$28*($B$28/100))*$B50),IF(I$27="mg/kg SAR",((I$28*0.001)*$B50),IF(I$27="mg/kg DM",(((I$28*0.001)*($B$28/100))*$B50),0)))))) -> 0.1225 | J50: =IF(J$27="%w/w SAR",((J$28*10)*$B50),IF(J$27="%w/w DM",(((J$28*10)*($B$28/100))*$B50),IF(J$27="kg/t SAR",(J$28*$B50),IF(J$27="kg/t DM",((J$28*($B$28/100))*$B50),IF(J$27="mg/kg SAR",((J$28*0.001)*$B50),IF(J$27="mg/kg DM",(((J$28*0.001)*($B$28/100))*$B50),0)))))) -> 0.00245 | K50: =IF(K$27="%w/w SAR",((K$28*10)*$B50),IF(K$27="%w/w DM",(((K$28*10)*($B$28/100))*$B50),IF(K$27="kg/t SAR",(K$28*$B50),IF(K$27="kg/t DM",((K$28*($B$28/100))*$B50),IF(K$27="mg/kg SAR",((K$28*0.001)*$B50),IF(K$27="mg/kg DM",(((K$28*0.001)*($B$28/100))*$B50),0)))))) -> 0.01225 | L50: =IF(L$27="%w/w SAR",((L$28*10)*$B50),IF(L$27="%w/w DM",(((L$28*10)*($B$28/100))*$B50),IF(L$27="kg/t SAR",(L$28*$B50),IF(L$27="kg/t DM",((L$28*($B$28/100))*$B50),IF(L$27="mg/kg SAR",((L$28*0.001)*$B50),IF(L$27="mg/kg DM",(((L$28*0.001)*($B$28/100))*$B50),0)))))) -> 0.049 | M50: =IF(M$27="%w/w SAR",((M$28*10)*$B50),IF(M$27="%w/w DM",(((M$28*10)*($B$28/100))*$B50),IF(M$27="kg/t SAR",(M$28*$B50),IF(M$27="kg/t DM",((M$28*($B$28/100))*$B50),IF(M$27="mg/kg SAR",((M$28*0.001)*$B50),IF(M$27="mg/kg DM",(((M$28*0.001)*($B$28/100))*$B50),0)))))) -> 0.049 | N50: =IF(N$27="%w/w SAR",((N$28*10)*$B50),IF(N$27="%w/w DM",(((N$28*10)*($B$28/100))*$B50),IF(N$27="kg/t SAR",(N$28*$B50),IF(N$27="kg/t DM",((N$28*($B$28/100))*$B50),IF(N$27="mg/kg SAR",((N$28*0.001)*$B50),IF(N$27="mg/kg DM",(((N$28*0.001)*($B$28/100))*$B50),0)))))) -> 0 | ... P50: =IF(P$27="%w/w SAR",((P$28*10)*$B50),IF(P$27="%w/w DM",(((P$28*10)*($B$28/100))*$B50),IF(P$27="kg/t SAR",(P$28*$B50),IF(P$27="kg/t DM",((P$28*($B$28/100))*$B50),IF(P$27="mg/kg SAR",((P$28*0.001)*$B50),IF(P$27="mg/kg DM",(((P$28*0.001)*($B$28/100))*$B50),0)))))) -> 82.565 | Q50: =(IF(Q$27="%w/w SAR",((Q$28*10)*$B50),IF(Q$27="%w/w DM",(((Q$28*10)*($B$28/100))*$B50),IF(Q$27="kg/t SAR",(Q$28*$B50),IF(Q$27="kg/t DM",((Q$28*($B$28/100))*$B50),IF(Q$27="mg/kg SAR",((Q$28*0.001)*$B50),IF(Q$27="mg/kg DM",(((Q$28*0.001)*($B$28/100))*$B50),0)))))))*2.5 -> 47.71375 | R50: =IF(R$27="%w/w SAR",((R$28*10)*$B50),IF(R$27="%w/w DM",(((R$28*10)*($B$28/100))*$B50),IF(R$27="kg/t SAR",(R$28*$B50),IF(R$27="kg/t DM",((R$28*($B$28/100))*$B50),IF(R$27="mg/kg SAR",((R$28*0.001)*$B50),IF(R$27="mg/kg DM",(((R$28*0.001)*($B$28/100))*$B50),0)))))) -> 0 | S50: =IF(S$27="%w/w SAR",((S$28*10)*$B50),IF(S$27="%w/w DM",(((S$28*10)*($B$28/100))*$B50),IF(S$27="kg/t SAR",(S$28*$B50),IF(S$27="kg/t DM",((S$28*($B$28/100))*$B50),IF(S$27="mg/kg SAR",((S$28*0.001)*$B50),IF(S$27="mg/kg DM",(((S$28*0.001)*($B$28/100))*$B50),0)))))) -> 0 | T50: =IF(T$27="%w/w SAR",((T$28*10)*$B50),IF(T$27="%w/w DM",(((T$28*10)*($B$28/100))*$B50),IF(T$27="kg/t SAR",(T$28*$B50),IF(T$27="kg/t DM",((T$28*($B$28/100))*$B50),IF(T$27="mg/kg SAR",((T$28*0.001)*$B50),IF(T$27="mg/kg DM",(((T$28*0.001)*($B$28/100))*$B50),0)))))) -> 0 | U50: =IF(U$27="%w/w SAR",((U$28*10)*$B50),IF(U$27="%w/w DM",(((U$28*10)*($B$28/100))*$B50),IF(U$27="kg/t SAR",(U$28*$B50),IF(U$27="kg/t DM",((U$28*($B$28/100))*$B50),IF(U$27="mg/kg SAR",((U$28*0.001)*$B50),IF(U$27="mg/kg DM",(((U$28*0.001)*($B$28/100))*$B50),0)))))) -> 0
A51: LIMIT | B51: 250 | C51: 250 | D51: Crop Requirement | E51: Crop Requirement | F51: Crop Requirement | G51: 7.5 | H51: 15 | I51: 15 | J51: 0.15 | K51: 0.1 | L51: 3 | M51: 15 | N51: TBC | O51: TBC | P51: 360 | Q51: Crop requirement x10 | R51: 0.15 | S51: 0.7 | T51: 0.2 | U51: 20
A53: Lime Calculation
B54: Dry Matter (if SAR use 100%) | C54: TNV of Waste as CaO (%) | D54: CaO Calculation | E54: CaO Conversion to CaCO3 | F54: TNV of Waste as CaCo3 (%) | G54: CaCo3 Calculation
D55: =(B55/100)*C55 -> 0 | E55: =G55 -> 0 | G55: =(B55/100)*F55 -> 0
A56: Field number | B56: 1 | C56: 2 | D56: 3 | E56: 4 | F56: 5 | G56: 6 | H56: 7 | I56: 8 | J56: 9 | K56: 10 | L56: 11 | M56: 12 | N56: 13 | O56: 14 | P56: 15 | Q56: 16 | R56: 17 | S56: 18 | T56: 19 | U56: 20
A57: Field Ref | B57: =C8 -> 1 | C57: =D8 -> 2 | D57: =E8 -> 3 | E57: =F8 -> 4 | F57: =G8 -> 5 | G57: =H8 -> 6 | H57: =I8 -> 7 | I57: =J8 -> 8 | ... U57: =V8 -> 20
A58: Soil Crop Type | B58: =C16&" I "&(VLOOKUP(C14,Table24[],6,FALSE)) -> Medium/Clay I Grass | C58: =D16&" I "&(VLOOKUP(D14,Table24[],6,FALSE)) -> Medium/Clay I Grass | D58: =E16&" I "&(VLOOKUP(E14,Table24[],6,FALSE)) -> Medium/Clay I Grass | E58: =F16&" I "&(VLOOKUP(F14,Table24[],6,FALSE)) -> Medium/Clay I Grass | F58: =G16&" I "&(VLOOKUP(G14,Table24[],6,FALSE)) -> Medium/Clay I Grass | G58: =H16&" I "&(VLOOKUP(H14,Table24[],6,FALSE)) -> Medium/Clay I Arable | H58: =I16&" I "&(VLOOKUP(I14,Table24[],6,FALSE)) -> Medium/Clay I Arable | I58: =J16&" I "&(VLOOKUP(J14,Table24[],6,FALSE)) -> Medium/Clay I Arable | ... U58: =V16&" I "&(VLOOKUP(V14,Table24[],6,FALSE)) -> Medium/Clay I Grass
A59: Cropping pH | B59: =VLOOKUP(C$14,Table24[],5,FALSE) -> 6.2 | C59: =VLOOKUP(D$14,Table24[],5,FALSE) -> 6.2 | D59: =VLOOKUP(E$14,Table24[],5,FALSE) -> 6.2 | E59: =VLOOKUP(F$14,Table24[],5,FALSE) -> 6.2 | F59: =VLOOKUP(G$14,Table24[],5,FALSE) -> 6.2 | G59: =VLOOKUP(H$14,Table24[],5,FALSE) -> 6.7 | H59: =VLOOKUP(I$14,Table24[],5,FALSE) -> 6.7 | I59: =VLOOKUP(J$14,Table24[],5,FALSE) -> 6.7 | ... U59: =VLOOKUP(V$14,Table24[],5,FALSE) -> 6.2
A60: Field pH | B60: =C10 -> 6.5 | C60: =D10 -> 7.4 | D60: =E10 -> 6.2 | E60: =F10 -> 5.8 | F60: =G10 -> 5.6 | G60: =H10 -> 6.4 | H60: =I10 -> 5.9 | I60: =J10 -> 6.4 | ... U60: =V10 -> 5.6
A61: Soil pH | B61: =VLOOKUP(B58,$AD9:$AE18,2,FALSE) -> 6 | C61: =VLOOKUP(C58,$AD9:$AE18,2,FALSE) -> 6 | D61: =VLOOKUP(D58,$AD9:$AE18,2,FALSE) -> 6 | E61: =VLOOKUP(E58,$AD9:$AE18,2,FALSE) -> 6 | F61: =VLOOKUP(F58,$AD9:$AE18,2,FALSE) -> 6 | G61: =VLOOKUP(G58,$AD9:$AE18,2,FALSE) -> 8 | H61: =VLOOKUP(H58,$AD9:$AE18,2,FALSE) -> 8 | I61: =VLOOKUP(I58,$AD9:$AE18,2,FALSE) -> 8 | ... U61: =VLOOKUP(U58,$AD9:$AE18,2,FALSE) -> 6
A62: App rate | B62: =B31 -> 245 | C62: =B32 -> 245 | D62: =B33 -> 245 | E62: =B34 -> 0 | F62: =B35 -> 245 | G62: =B36 -> 245 | H62: =B37 -> 245 | I62: =B38 -> 245 | J62: =B39 -> 245 | K62: =B40 -> 245 | L62: =B41 -> 200 | M62: =B42 -> 200 | N62: =B43 -> 200 | O62: =B44 -> 245 | P62: =B45 -> 245 | Q62: =B46 -> 245 | R62: =B47 -> 245 | S62: =B48 -> 245 | T62: =B49 -> 245 | U62: =B50 -> 245
A63: Lime applied in waste t/ha | B63: =$E55*(B62/100) -> 0 | C63: =$E55*(C62/100) -> 0 | D63: =$E55*(D62/100) -> 0 | E63: =$E55*(E62/100) -> 0 | F63: =$E55*(F62/100) -> 0 | G63: =$E55*(G62/100) -> 0 | H63: =$E55*(H62/100) -> 0 | I63: =$E55*(I62/100) -> 0 | ... U63: =$E55*(U62/100) -> 0
A64: Lime required to bring pH to target level t/a CaCo3 | B64: =(B59-B60)*B61 -> -1.8 | C64: =(C59-C60)*C61 -> -7.2 | D64: =(D59-D60)*D61 -> 0 | E64: =(E59-E60)*E61 -> 2.4 | F64: =(F59-F60)*F61 -> 3.6 | G64: =(G59-G60)*G61 -> 2.4 | H64: =(H59-H60)*H61 -> 6.4 | I64: =(I59-I60)*I61 -> 2.4 | ... U64: =(U59-U60)*U61 -> 3.6
A65: Difference between applied and required | B65: =B63-B64 -> 1.8 | C65: =C63-C64 -> 7.2 | D65: =D63-D64 -> 0 | E65: =E63-E64 -> -2.4 | F65: =F63-F64 -> -3.6 | G65: =G63-G64 -> -2.4 | H65: =H63-H64 -> -6.4 | I65: =I63-I64 -> -2.4 | ... U65: =U63-U64 -> -3.6
A66: Over or Under Applying? | B66: =IF(B64<=B63,"OVER","UNDER") -> OVER | C66: =IF(C64<=C63,"OVER","UNDER") -> OVER | D66: =IF(D64<=D63,"OVER","UNDER") -> OVER | E66: =IF(E64<=E63,"OVER","UNDER") -> UNDER | F66: =IF(F64<=F63,"OVER","UNDER") -> UNDER | G66: =IF(G64<=G63,"OVER","UNDER") -> UNDER | H66: =IF(H64<=H63,"OVER","UNDER") -> UNDER | I66: =IF(I64<=I63,"OVER","UNDER") -> UNDER | ... U66: =IF(U64<=U63,"OVER","UNDER") -> UNDER

Sheet Croda Goole
A1: PAN reference | C1: =Beechdean!C1:D1 -> PAN-017507 | E1: Total spread area | F1: =Beechdean!F1 -> 51.8 | G1: Waste pH | I1: 7.01 | J1: Ammonium Nitrogen (mg/kg) | L1: 57 | AD1: Choose | AI1: Crop | AJ1: P Offtake | AK1: K Offtake | AL1: Order | AM1: Lime pH requirement | AN1: Column1
A2: Permit reference | C2: =Beechdean!C2:D2 -> EPR- KP3594VE | E2: Waste type EWC | F2: 07 07 12 | G2: Conductivity µS/cm (limit 5000 µS/cm) | I2: 3261 | J2: Total Nitrogen (% w/w) | L2: 0.22 | AB2: %w/w SAR | AD2: Sandy | AG2: Solid | AI2: Choose | AJ2: 0 | AK2: 0 | AL2: 0 | AM2: 0 | AN2: 0
A3: Operator | C3: =Beechdean!C3:D3 -> Trade effluent services | E3: Waste physical form | F3: Sludge | G3: Fats & Oils (mg/kg) (limit 40,000 mg/kg or 4%) | J3: Readily available nitrogen content % | L3: =(L1/(L2*10000))*100 -> 2.5909091 | AB3: %w/w DM | AD3: Sandy Loam | AG3: Liquid | AI3: Grass Silage (25% DM) | AJ3: 1.7 | AK3: 6 | AL3: 1 | AM3: 6.2 | AN3: Grass
A4: Farm Address | C4: =Beechdean!C4:D4 -> Dyke Farm, Padeswood Lane, Mold, CH7 4HZ | E4: Waste Ref/Name | F4: Croda Goole | AB4: kg/t SAR | AD4: Medium/Clay | AG4: Sludge | AI4: Winter wheat- grain & straw | AJ4: 7 | AK4: 10.5 | AL4: 2 | AM4: 6.7 | AN4: Arable
A5: Assessed By | C5: =Beechdean!C5:D5 -> Ethan Banfield | AB5: kg/t DM | AD5: Organic | AG5: Sludge Cake | AI5: Winter wheat- grain only | AJ5: 6.5 | AK5: 5.5 | AL5: 3 | AM5: 6.7 | AN5: Arable
AB6: mg/kg SAR | AD6: Peat | AI6: Spring wheat/barley | AJ6: 8.5 | AK6: 12 | AL6: 4 | AM6: 6.7 | AN6: Arable
A7: Field number | C7: 1 | D7: 2 | E7: 3 | F7: 4 | G7: 5 | H7: 6 | I7: 7 | J7: 8 | K7: 9 | L7: 10 | M7: 11 | N7: 12 | O7: 13 | P7: 14 | Q7: 15 | R7: 16 | S7: 17 | T7: 18 | U7: 19 | V7: 20 | AB7: mg/kg DM | AI7: Winter barley/triticale/rye | AJ7: 8.5 | AK7: 10.5 | AL7: 5 | AM7: 6.7 | AN7: Arable
A8: Field Ref | C8: =Beechdean!C8 -> 1 | D8: =Beechdean!D8 -> 2 | E8: =Beechdean!E8 -> 3 | F8: =Beechdean!F8 -> 4 | G8: =Beechdean!G8 -> 5 | H8: =Beechdean!H8 -> 6 | I8: =Beechdean!I8 -> 7 | J8: =Beechdean!J8 -> 8 | ... V8: =Beechdean!V8 -> 20 | AE8: lime pH | AI8: Maize- Silage (30% DM) | AJ8: 1.4 | AK8: 4.4 | AL8: 6 | AM8: 6.7 | AN8: Arable
A9: SNS Index | C9: =Beechdean!C9 -> Moderate | D9: =Beechdean!D9 -> Moderate | E9: =Beechdean!E9 -> Moderate | F9: =Beechdean!F9 -> Moderate | G9: =Beechdean!G9 -> Moderate | H9: =Beechdean!H9 -> 1 | I9: =Beechdean!I9 -> 1 | J9: =Beechdean!J9 -> 1 | ... V9: =Beechdean!V9 -> Moderate | AD9: Sandy I Grass | AE9: 4.5 | AI9: Fodder beet (roots only) | AJ9: 0.7 | AK9: 4 | AL9: 7 | AM9: 6.7 | AN9: Arable
A10: Field pH | C10: =Beechdean!C10 -> 6.5 | D10: =Beechdean!D10 -> 7.4 | E10: =Beechdean!E10 -> 6.2 | F10: =Beechdean!F10 -> 5.8 | G10: =Beechdean!G10 -> 5.6 | H10: =Beechdean!H10 -> 6.4 | I10: =Beechdean!I10 -> 5.9 | J10: =Beechdean!J10 -> 6.4 | ... V10: =Beechdean!V10 -> 5.6 | AD10: Sandy Loam I Grass | AE10: 5 | AI10: Oats | AJ10: 9 | AK10: 16.5 | AL10: 8 | AM10: 6.7 | AN10: Arable
A11: Phosphorus Index | C11: =Beechdean!C11 -> 1 | D11: =Beechdean!D11 -> 3 | E11: =Beechdean!E11 -> 0 | F11: =Beechdean!F11 -> 0 | G11: =Beechdean!G11 -> 3 | H11: =Beechdean!H11 -> 2 | I11: =Beechdean!I11 -> 2 | J11: =Beechdean!J11 -> 3 | ... V11: =Beechdean!V11 -> 0 | AD11: Medium/Clay I Grass | AE11: 6 | AI11: Oilseed rape- seed & straw | AJ11: 15 | AK11: 17.5 | AL11: 9 | AM11: 7 | AN11: Arable
A12: Potassium Index | C12: =Beechdean!C12 -> 2 | D12: =Beechdean!D12 -> 3 | E12: =Beechdean!E12 -> 1 | F12: =Beechdean!F12 -> 0 | G12: =Beechdean!G12 -> 2 | H12: =Beechdean!H12 -> 1 | I12: =Beechdean!I12 -> 0 | J12: =Beechdean!J12 -> 0 | ... V12: =Beechdean!V12 -> 0 | AD12: Organic I Grass | AE12: 7.5 | AI12: Oilseed rape- seed only | AJ12: 14 | AK12: 11 | AL12: 10 | AM12: 7 | AN12: Arable
A13: Magnesium Index | C13: =Beechdean!C13 -> 3 | D13: =Beechdean!D13 -> 3 | E13: =Beechdean!E13 -> 2 | F13: =Beechdean!F13 -> 3 | G13: =Beechdean!G13 -> 2 | H13: =Beechdean!H13 -> 2 | I13: =Beechdean!I13 -> 1 | J13: =Beechdean!J13 -> 2 | ... V13: =Beechdean!V13 -> 2 | AD13: Peat I Grass | AE13: 12 | AI13: Sugar beet- roots & tops | AJ13: 1.9 | AK13: 7.5 | AL13: 11 | AM13: 6.7 | AN13: Arable
A14: Benefiting Crop | C14: =Beechdean!C14 -> Grass Silage (25% DM) | D14: =Beechdean!D14 -> Grass Silage (25% DM) | E14: =Beechdean!E14 -> Grass Silage (25% DM) | F14: =Beechdean!F14 -> Grass Silage (25% DM) | G14: =Beechdean!G14 -> Grass Silage (25% DM) | H14: =Beechdean!H14 -> Maize- Silage (30% DM) | I14: =Beechdean!I14 -> Maize- Silage (30% DM) | J14: =Beechdean!J14 -> Maize- Silage (30% DM) | ... V14: =Beechdean!V14 -> Grass Silage (25% DM) | AD14: Sandy I Arable | AE14: 6 | AI14: Sugar beet- roots only | AJ14: 0.8 | AK14: 1.7 | AL14: 12 | AM14: 6.7 | AN14: Arable
A15: Expected Yield | C15: =Beechdean!C15 -> 38 | D15: =Beechdean!D15 -> 38 | E15: =Beechdean!E15 -> 38 | F15: =Beechdean!F15 -> 38 | G15: =Beechdean!G15 -> 38 | H15: =Beechdean!H15 -> 40 | I15: =Beechdean!I15 -> 40 | J15: =Beechdean!J15 -> 40 | ... V15: =Beechdean!V15 -> 5.5 | AD15: Sandy Loam I Arable | AE15: 7 | AI15: Wholecrop cereals | AJ15: 1.8 | AK15: 5.4 | AL15: 13 | AM15: 6.7 | AN15: Arable
A16: Soil Type | C16: =Beechdean!C16 -> Medium/Clay | D16: =Beechdean!D16 -> Medium/Clay | E16: =Beechdean!E16 -> Medium/Clay | F16: =Beechdean!F16 -> Medium/Clay | G16: =Beechdean!G16 -> Medium/Clay | H16: =Beechdean!H16 -> Medium/Clay | I16: =Beechdean!I16 -> Medium/Clay | J16: =Beechdean!J16 -> Medium/Clay | ... V16: =Beechdean!V16 -> Medium/Clay | AD16: Medium/Clay I Arable | AE16: 8 | AI16: All other cereals- grain only | AJ16: 8 | AK16: 5.5 | AL16: 14 | AM16: 6.7 | AN16: Arable
A17: Phosphate Offtake | C17: =(VLOOKUP(C$14,$AI2:$AK26,2,FALSE))*C$15 -> 64.6 | D17: =(VLOOKUP(D$14,$AI2:$AK26,2,FALSE))*D$15 -> 64.6 | E17: =(VLOOKUP(E$14,$AI2:$AK26,2,FALSE))*E$15 -> 64.6 | F17: =(VLOOKUP(F$14,$AI2:$AK26,2,FALSE))*F$15 -> 64.6 | G17: =(VLOOKUP(G$14,$AI2:$AK26,2,FALSE))*G$15 -> 64.6 | H17: =(VLOOKUP(H$14,$AI2:$AK26,2,FALSE))*H$15 -> 56 | I17: =(VLOOKUP(I$14,$AI2:$AK26,2,FALSE))*I$15 -> 56 | J17: =(VLOOKUP(J$14,$AI2:$AK26,2,FALSE))*J$15 -> 56 | ... V17: =(VLOOKUP(V$14,$AI2:$AK26,2,FALSE))*V$15 -> 9.35 | AD17: Organic I Arable | AE17: 10 | AI17: Fresh grass (15-20% DM) | AJ17: 1.4 | AK17: 4.8 | AL17: 15 | AM17: 6.2 | AN17: Grass
A18: Phosphate Addition | C18: =$D31 -> 54.22797 | D18: =$D32 -> 54.22797 | E18: =$D33 -> 54.22797 | F18: =$D34 -> 0 | G18: =$D35 -> 54.22797 | H18: =$D36 -> 54.22797 | I18: =$D37 -> 54.22797 | J18: =$D38 -> 54.22797 | K18: =$D39 -> 54.22797 | L18: =$D40 -> 54.22797 | M18: =$D41 -> 44.587442 | N18: =$D42 -> 44.587442 | O18: =$D43 -> 44.587442 | P18: =$D44 -> 54.22797 | Q18: =$D45 -> 54.22797 | R18: =$D46 -> 54.22797 | S18: =$D47 -> 54.22797 | T18: =$D48 -> 54.22797 | U18: =$D49 -> 54.22797 | V18: =$D50 -> 54.22797 | AD18: Peat I Arable | AE18: 16 | AI18: Hay (86% DM) | AJ18: 5.9 | AK18: 18 | AL18: 16 | AM18: 6.2 | AN18: Grass
A19: Phosphate Difference | C19: =C18-C17 -> -10.37203 | D19: =D18-D17 -> -10.37203 | E19: =E18-E17 -> -10.37203 | F19: =F18-F17 -> -64.6 | G19: =G18-G17 -> -10.37203 | H19: =H18-H17 -> -1.77203 | I19: =I18-I17 -> -1.77203 | J19: =J18-J17 -> -1.77203 | ... V19: =V18-V17 -> 44.87797 | AI19: Haylage (45% DM) | AJ19: 3.2 | AK19: 10.5 | AL19: 17 | AM19: 6.2 | AN19: Grass
A20: Phosphate Increase/decrease | C20: =IF($B31="","",IF(C$19>=0,"INCREASE","DECREASE")) -> DECREASE | D20: =IF($B32="","",IF(D$19>=0,"INCREASE","DECREASE")) -> DECREASE | E20: =IF($B33="","",IF(E$19>=0,"INCREASE","DECREASE")) -> DECREASE | F20: =IF($B34="","",IF(F$19>=0,"INCREASE","DECREASE")) -> DECREASE | G20: =IF($B35="","",IF(G$19>=0,"INCREASE","DECREASE")) -> DECREASE | H20: =IF($B36="","",IF(H$19>=0,"INCREASE","DECREASE")) -> DECREASE | I20: =IF($B37="","",IF(I$19>=0,"INCREASE","DECREASE")) -> DECREASE | J20: =IF($B38="","",IF(J$19>=0,"INCREASE","DECREASE")) -> DECREASE | K20: =IF($B39="","",IF(K$19>=0,"INCREASE","DECREASE")) -> DECREASE | L20: =IF($B40="","",IF(L$19>=0,"INCREASE","DECREASE")) -> DECREASE | M20: =IF($B41="","",IF(M$19>=0,"INCREASE","DECREASE")) -> DECREASE | N20: =IF($B42="","",IF(N$19>=0,"INCREASE","DECREASE")) -> DECREASE | O20: =IF($B43="","",IF(O$19>=0,"INCREASE","DECREASE")) -> DECREASE | P20: =IF($B44="","",IF(P$19>=0,"INCREASE","DECREASE")) -> INCREASE | Q20: =IF($B45="","",IF(Q$19>=0,"INCREASE","DECREASE")) -> INCREASE | R20: =IF($B46="","",IF(R$19>=0,"INCREASE","DECREASE")) -> INCREASE | S20: =IF($B47="","",IF(S$19>=0,"INCREASE","DECREASE")) -> INCREASE | T20: =IF($B48="","",IF(T$19>=0,"INCREASE","DECREASE")) -> INCREASE | U20: =IF($B49="","",IF(U$19>=0,"INCREASE","DECREASE")) -> INCREASE | V20: =IF($B50="","",IF(V$19>=0,"INCREASE","DECREASE")) -> INCREASE | AI20: Grass Silage (30% DM) | AJ20: 2.1 | AK20: 7.2 | AL20: 18 | AM20: 6.2 | AN20: Grass
A21: Potash Offtake | C21: =(VLOOKUP(C$14,$AI2:$AK26,3,FALSE))*C$15 -> 228 | D21: =(VLOOKUP(D$14,$AI2:$AK26,3,FALSE))*D$15 -> 228 | E21: =(VLOOKUP(E$14,$AI2:$AK26,3,FALSE))*E$15 -> 228 | F21: =(VLOOKUP(F$14,$AI2:$AK26,3,FALSE))*F$15 -> 228 | G21: =(VLOOKUP(G$14,$AI2:$AK26,3,FALSE))*G$15 -> 228 | H21: =(VLOOKUP(H$14,$AI2:$AK26,3,FALSE))*H$15 -> 176 | I21: =(VLOOKUP(I$14,$AI2:$AK26,3,FALSE))*I$15 -> 176 | J21: =(VLOOKUP(J$14,$AI2:$AK26,3,FALSE))*J$15 -> 176 | ... V21: =(VLOOKUP(V$14,$AI2:$AK26,3,FALSE))*V$15 -> 33 | AI21: Field beans | AJ21: 11 | AK21: 12 | AL21: 19 | AM21: 6.7 | AN21: Arable
A22: Potash Addition | C22: =$E31 -> 11.60415 | D22: =$E32 -> 11.60415 | E22: =$E33 -> 11.60415 | F22: =$E34 -> 0 | G22: =$E35 -> 11.60415 | H22: =$E36 -> 11.60415 | I22: =$E37 -> 11.60415 | J22: =$E38 -> 11.60415 | K22: =$E39 -> 11.60415 | L22: =$E40 -> 11.60415 | M22: =$E41 -> 9.54119 | N22: =$E42 -> 9.54119 | O22: =$E43 -> 9.54119 | P22: =$E44 -> 11.60415 | Q22: =$E45 -> 11.60415 | R22: =$E46 -> 11.60415 | S22: =$E47 -> 11.60415 | T22: =$E48 -> 11.60415 | U22: =$E49 -> 11.60415 | V22: =$E50 -> 11.60415 | AI22: Kale | AJ22: 1.2 | AK22: 5 | AL22: 20 | AM22: 6.7 | AN22: Arable
A23: Potash Difference | C23: =C22-C21 -> -216.39585 | D23: =D22-D21 -> -216.39585 | E23: =E22-E21 -> -216.39585 | F23: =F22-F21 -> -228 | G23: =G22-G21 -> -216.39585 | H23: =H22-H21 -> -164.39585 | I23: =I22-I21 -> -164.39585 | J23: =J22-J21 -> -164.39585 | ... V23: =V22-V21 -> -21.39585 | AI23: Peas- Dried | AJ23: 9 | AK23: 10 | AL23: 21 | AM23: 6.7 | AN23: Arable
A24: Potash Increase/decrease | C24: =IF($B31="","",IF(C$23>=0,"INCREASE","DECREASE")) -> DECREASE | D24: =IF($B31="","",IF(D$23>=0,"INCREASE","DECREASE")) -> DECREASE | E24: =IF($B31="","",IF(E$23>=0,"INCREASE","DECREASE")) -> DECREASE | F24: =IF($B31="","",IF(F$23>=0,"INCREASE","DECREASE")) -> DECREASE | G24: =IF($B31="","",IF(G$23>=0,"INCREASE","DECREASE")) -> DECREASE | H24: =IF($B31="","",IF(H$23>=0,"INCREASE","DECREASE")) -> DECREASE | I24: =IF($B31="","",IF(I$23>=0,"INCREASE","DECREASE")) -> DECREASE | J24: =IF($B31="","",IF(J$23>=0,"INCREASE","DECREASE")) -> DECREASE | ... V24: =IF($B31="","",IF(V$23>=0,"INCREASE","DECREASE")) -> DECREASE | AI24: Peas- Vining | AJ24: 1.5 | AK24: 3 | AL24: 22 | AM24: 6.7 | AN24: Arable
AI25: Potatoes- tubers only | AJ25: 1 | AK25: 5.8 | AL25: 23 | AM25: 6.7 | AN25: Arable
B26: Dry Matter | C26: Total Nitrogen | D26: Total Phosphorus (P) | E26: Total Potassium (K) | F26: Total Magnesium (Mg) | G26: Total Copper | H26: Total Zinc | I26: Total Lead | J26: Total Cadmium | K26: Total Mercury | L26: Total Nickel | M26: Total Chromium | N26: Total Aluminium | O26: Total Iron | P26: Total Na (Sodium) | Q26: Total Sulphur (S) | R26: Total Selenium | S26: Total Arsenic | T26: Total Mo | U26: Total Fluoride | AI26: Swedes- roots only | AJ26: 0.7 | AK26: 2.4 | AL26: 24 | AM26: 6.7 | AN26: Arable
B27: % | C27: %w/w SAR | D27: mg/kg SAR | E27: mg/kg SAR | F27: mg/kg SAR | G27: mg/kg SAR | H27: mg/kg SAR | I27: mg/kg SAR | J27: mg/kg SAR | K27: mg/kg SAR | L27: mg/kg SAR | M27: mg/kg SAR | N27: mg/kg SAR | O27: mg/kg SAR | P27: mg/kg SAR | Q27: mg/kg SAR | R27: mg/kg SAR | S27: mg/kg SAR | T27: mg/kg SAR | U27: mg/kg SAR
B28: 3.24 | C28: 0.22 | D28: 526 | E28: 214 | F28: 92 | G28: 0.98 | H28: 11.1 | I28: 0.5 | J28: 0.01 | K28: 0.05 | L28: 0.653 | M28: 5.11 | P28: 4373 | Q28: 4373
A29: Field Ref | B29: Application Rate | C29: Nitrogen Addition | D29: Phosphate Addition | E29: Potash Addition | F29: Mg Oxide Addition | G29: Copper Addition | H29: Zinc Addition | I29: Lead Addition | J29: Cadmium Addition | K29: Mercury Addition | L29: Nickel Addition | M29: Chromium Addition | N29: Aluminium Addition | O29: Iron Addition | P29: Sodium Addition | Q29: SO3 Addition kg/ha | R29: Selenium Addition | S29: Arsenic Addition | T29: Molybdenum Addition | U29: Fluoride Addition
B30: tonnes/ha | C30: kg/ha | D30: P2O5 kg/ha | E30: K2O kg/ha | F30: MgO kg/ha | G30: kg/ha | H30: kg/ha | I30: kg/ha | J30: kg/ha | K30: kg/ha | L30: kg/ha | M30: kg/ha | N30: kg/ha | O30: kg/ha | P30: kg/ha | Q30: kg/ha | R30: kg/ha | S30: kg/ha | T30: kg/ha | U30: kg/ha
A31: =C8 -> 1 | B31: 45 | C31: =IF(C$27="%w/w SAR",((C$28*10)*$B31),IF(C$27="%w/w DM",(((C$28*10)*($B$28/100))*$B31),IF(C$27="kg/t SAR",(C$28*$B31),IF(C$27="kg/t DM",((C$28*($B$28/100))*$B31),IF(C$27="mg/kg SAR",((C$28*0.001)*$B31),IF(C$27="mg/kg DM",(((C$28*0.001)*($B$28/100))*$B31),0)))))) -> 99 | D31: =(IF(D$27="%w/w SAR",((D$28*10)*$B31),IF(D$27="%w/w DM",(((D$28*10)*($B$28/100))*$B31),IF(D$27="kg/t SAR",(D$28*$B31),IF(D$27="kg/t DM",((D$28*($B$28/100))*$B31),IF(D$27="mg/kg SAR",((D$28*0.001)*$B31),IF(D$27="mg/kg DM",(((D$28*0.001)*($B$28/100))*$B31),"0")))))))*2.291 -> 54.22797 | E31: =(IF(E$27="%w/w SAR",((E$28*10)*$B31),IF(E$27="%w/w DM",(((E$28*10)*($B$28/100))*$B31),IF(E$27="kg/t SAR",(E$28*$B31),IF(E$27="kg/t DM",((E$28*($B$28/100))*$B31),IF(E$27="mg/kg SAR",((E$28*0.001)*$B31),IF(E$27="mg/kg DM",(((E$28*0.001)*($B$28/100))*$B31),"0")))))))*1.205 -> 11.60415 | F31: =(IF(F$27="%w/w SAR",((F$28*10)*$B31),IF(F$27="%w/w DM",(((F$28*10)*($B$28/100))*$B31),IF(F$27="kg/t SAR",(F$28*$B31),IF(F$27="kg/t DM",((F$28*($B$28/100))*$B31),IF(F$27="mg/kg SAR",((F$28*0.001)*$B31),IF(F$27="mg/kg DM",(((F$28*0.001)*($B$28/100))*$B31),"0")))))))*1.658 -> 6.86412 | G31: =IF(G$27="%w/w SAR",((G$28*10)*$B31),IF(G$27="%w/w DM",(((G$28*10)*($B$28/100))*$B31),IF(G$27="kg/t SAR",(G$28*$B31),IF(G$27="kg/t DM",((G$28*($B$28/100))*$B31),IF(G$27="mg/kg SAR",((G$28*0.001)*$B31),IF(G$27="mg/kg DM",(((G$28*0.001)*($B$28/100))*$B31),0)))))) -> 0.0441 | H31: =IF(H$27="%w/w SAR",((H$28*10)*$B31),IF(H$27="%w/w DM",(((H$28*10)*($B$28/100))*$B31),IF(H$27="kg/t SAR",(H$28*$B31),IF(H$27="kg/t DM",((H$28*($B$28/100))*$B31),IF(H$27="mg/kg SAR",((H$28*0.001)*$B31),IF(H$27="mg/kg DM",(((H$28*0.001)*($B$28/100))*$B31),0)))))) -> 0.4995 | I31: =IF(I$27="%w/w SAR",((I$28*10)*$B31),IF(I$27="%w/w DM",(((I$28*10)*($B$28/100))*$B31),IF(I$27="kg/t SAR",(I$28*$B31),IF(I$27="kg/t DM",((I$28*($B$28/100))*$B31),IF(I$27="mg/kg SAR",((I$28*0.001)*$B31),IF(I$27="mg/kg DM",(((I$28*0.001)*($B$28/100))*$B31),0)))))) -> 0.0225 | J31: =IF(J$27="%w/w SAR",((J$28*10)*$B31),IF(J$27="%w/w DM",(((J$28*10)*($B$28/100))*$B31),IF(J$27="kg/t SAR",(J$28*$B31),IF(J$27="kg/t DM",((J$28*($B$28/100))*$B31),IF(J$27="mg/kg SAR",((J$28*0.001)*$B31),IF(J$27="mg/kg DM",(((J$28*0.001)*($B$28/100))*$B31),0)))))) -> 0.00045 | K31: =IF(K$27="%w/w SAR",((K$28*10)*$B31),IF(K$27="%w/w DM",(((K$28*10)*($B$28/100))*$B31),IF(K$27="kg/t SAR",(K$28*$B31),IF(K$27="kg/t DM",((K$28*($B$28/100))*$B31),IF(K$27="mg/kg SAR",((K$28*0.001)*$B31),IF(K$27="mg/kg DM",(((K$28*0.001)*($B$28/100))*$B31),0)))))) -> 0.00225 | L31: =IF(L$27="%w/w SAR",((L$28*10)*$B31),IF(L$27="%w/w DM",(((L$28*10)*($B$28/100))*$B31),IF(L$27="kg/t SAR",(L$28*$B31),IF(L$27="kg/t DM",((L$28*($B$28/100))*$B31),IF(L$27="mg/kg SAR",((L$28*0.001)*$B31),IF(L$27="mg/kg DM",(((L$28*0.001)*($B$28/100))*$B31),0)))))) -> 0.029385 | M31: =IF(M$27="%w/w SAR",((M$28*10)*$B31),IF(M$27="%w/w DM",(((M$28*10)*($B$28/100))*$B31),IF(M$27="kg/t SAR",(M$28*$B31),IF(M$27="kg/t DM",((M$28*($B$28/100))*$B31),IF(M$27="mg/kg SAR",((M$28*0.001)*$B31),IF(M$27="mg/kg DM",(((M$28*0.001)*($B$28/100))*$B31),0)))))) -> 0.22995 | N31: =IF(N$27="%w/w SAR",((N$28*10)*$B31),IF(N$27="%w/w DM",(((N$28*10)*($B$28/100))*$B31),IF(N$27="kg/t SAR",(N$28*$B31),IF(N$27="kg/t DM",((N$28*($B$28/100))*$B31),IF(N$27="mg/kg SAR",((N$28*0.001)*$B31),IF(N$27="mg/kg DM",(((N$28*0.001)*($B$28/100))*$B31),0)))))) -> 0 | ... P31: =IF(P$27="%w/w SAR",((P$28*10)*$B31),IF(P$27="%w/w DM",(((P$28*10)*($B$28/100))*$B31),IF(P$27="kg/t SAR",(P$28*$B31),IF(P$27="kg/t DM",((P$28*($B$28/100))*$B31),IF(P$27="mg/kg SAR",((P$28*0.001)*$B31),IF(P$27="mg/kg DM",(((P$28*0.001)*($B$28/100))*$B31),0)))))) -> 196.785 | Q31: =(IF(Q$27="%w/w SAR",((Q$28*10)*$B31),IF(Q$27="%w/w DM",(((Q$28*10)*($B$28/100))*$B31),IF(Q$27="kg/t SAR",(Q$28*$B31),IF(Q$27="kg/t DM",((Q$28*($B$28/100))*$B31),IF(Q$27="mg/kg SAR",((Q$28*0.001)*$B31),IF(Q$27="mg/kg DM",(((Q$28*0.001)*($B$28/100))*$B31),0)))))))*2.5 -> 491.9625 | R31: =IF(R$27="%w/w SAR",((R$28*10)*$B31),IF(R$27="%w/w DM",(((R$28*10)*($B$28/100))*$B31),IF(R$27="kg/t SAR",(R$28*$B31),IF(R$27="kg/t DM",((R$28*($B$28/100))*$B31),IF(R$27="mg/kg SAR",((R$28*0.001)*$B31),IF(R$27="mg/kg DM",(((R$28*0.001)*($B$28/100))*$B31),0)))))) -> 0 | S31: =IF(S$27="%w/w SAR",((S$28*10)*$B31),IF(S$27="%w/w DM",(((S$28*10)*($B$28/100))*$B31),IF(S$27="kg/t SAR",(S$28*$B31),IF(S$27="kg/t DM",((S$28*($B$28/100))*$B31),IF(S$27="mg/kg SAR",((S$28*0.001)*$B31),IF(S$27="mg/kg DM",(((S$28*0.001)*($B$28/100))*$B31),0)))))) -> 0 | T31: =IF(T$27="%w/w SAR",((T$28*10)*$B31),IF(T$27="%w/w DM",(((T$28*10)*($B$28/100))*$B31),IF(T$27="kg/t SAR",(T$28*$B31),IF(T$27="kg/t DM",((T$28*($B$28/100))*$B31),IF(T$27="mg/kg SAR",((T$28*0.001)*$B31),IF(T$27="mg/kg DM",(((T$28*0.001)*($B$28/100))*$B31),0)))))) -> 0 | U31: =IF(U$27="%w/w SAR",((U$28*10)*$B31),IF(U$27="%w/w DM",(((U$28*10)*($B$28/100))*$B31),IF(U$27="kg/t SAR",(U$28*$B31),IF(U$27="kg/t DM",((U$28*($B$28/100))*$B31),IF(U$27="mg/kg SAR",((U$28*0.001)*$B31),IF(U$27="mg/kg DM",(((U$28*0.001)*($B$28/100))*$B31),0)))))) -> 0
A32: =D8 -> 2 | B32: 45 | C32: =IF(C$27="%w/w SAR",((C$28*10)*$B32),IF(C$27="%w/w DM",(((C$28*10)*($B$28/100))*$B32),IF(C$27="kg/t SAR",(C$28*$B32),IF(C$27="kg/t DM",((C$28*($B$28/100))*$B32),IF(C$27="mg/kg SAR",((C$28*0.001)*$B32),IF(C$27="mg/kg DM",(((C$28*0.001)*($B$28/100))*$B32),0)))))) -> 99 | D32: =(IF(D$27="%w/w SAR",((D$28*10)*$B32),IF(D$27="%w/w DM",(((D$28*10)*($B$28/100))*$B32),IF(D$27="kg/t SAR",(D$28*$B32),IF(D$27="kg/t DM",((D$28*($B$28/100))*$B32),IF(D$27="mg/kg SAR",((D$28*0.001)*$B32),IF(D$27="mg/kg DM",(((D$28*0.001)*($B$28/100))*$B32),"0")))))))*2.291 -> 54.22797 | E32: =(IF(E$27="%w/w SAR",((E$28*10)*$B32),IF(E$27="%w/w DM",(((E$28*10)*($B$28/100))*$B32),IF(E$27="kg/t SAR",(E$28*$B32),IF(E$27="kg/t DM",((E$28*($B$28/100))*$B32),IF(E$27="mg/kg SAR",((E$28*0.001)*$B32),IF(E$27="mg/kg DM",(((E$28*0.001)*($B$28/100))*$B32),"0")))))))*1.205 -> 11.60415 | F32: =(IF(F$27="%w/w SAR",((F$28*10)*$B32),IF(F$27="%w/w DM",(((F$28*10)*($B$28/100))*$B32),IF(F$27="kg/t SAR",(F$28*$B32),IF(F$27="kg/t DM",((F$28*($B$28/100))*$B32),IF(F$27="mg/kg SAR",((F$28*0.001)*$B32),IF(F$27="mg/kg DM",(((F$28*0.001)*($B$28/100))*$B32),"0")))))))*1.658 -> 6.86412 | G32: =IF(G$27="%w/w SAR",((G$28*10)*$B32),IF(G$27="%w/w DM",(((G$28*10)*($B$28/100))*$B32),IF(G$27="kg/t SAR",(G$28*$B32),IF(G$27="kg/t DM",((G$28*($B$28/100))*$B32),IF(G$27="mg/kg SAR",((G$28*0.001)*$B32),IF(G$27="mg/kg DM",(((G$28*0.001)*($B$28/100))*$B32),0)))))) -> 0.0441 | H32: =IF(H$27="%w/w SAR",((H$28*10)*$B32),IF(H$27="%w/w DM",(((H$28*10)*($B$28/100))*$B32),IF(H$27="kg/t SAR",(H$28*$B32),IF(H$27="kg/t DM",((H$28*($B$28/100))*$B32),IF(H$27="mg/kg SAR",((H$28*0.001)*$B32),IF(H$27="mg/kg DM",(((H$28*0.001)*($B$28/100))*$B32),0)))))) -> 0.4995 | I32: =IF(I$27="%w/w SAR",((I$28*10)*$B32),IF(I$27="%w/w DM",(((I$28*10)*($B$28/100))*$B32),IF(I$27="kg/t SAR",(I$28*$B32),IF(I$27="kg/t DM",((I$28*($B$28/100))*$B32),IF(I$27="mg/kg SAR",((I$28*0.001)*$B32),IF(I$27="mg/kg DM",(((I$28*0.001)*($B$28/100))*$B32),0)))))) -> 0.0225 | J32: =IF(J$27="%w/w SAR",((J$28*10)*$B32),IF(J$27="%w/w DM",(((J$28*10)*($B$28/100))*$B32),IF(J$27="kg/t SAR",(J$28*$B32),IF(J$27="kg/t DM",((J$28*($B$28/100))*$B32),IF(J$27="mg/kg SAR",((J$28*0.001)*$B32),IF(J$27="mg/kg DM",(((J$28*0.001)*($B$28/100))*$B32),0)))))) -> 0.00045 | K32: =IF(K$27="%w/w SAR",((K$28*10)*$B32),IF(K$27="%w/w DM",(((K$28*10)*($B$28/100))*$B32),IF(K$27="kg/t SAR",(K$28*$B32),IF(K$27="kg/t DM",((K$28*($B$28/100))*$B32),IF(K$27="mg/kg SAR",((K$28*0.001)*$B32),IF(K$27="mg/kg DM",(((K$28*0.001)*($B$28/100))*$B32),0)))))) -> 0.00225 | L32: =IF(L$27="%w/w SAR",((L$28*10)*$B32),IF(L$27="%w/w DM",(((L$28*10)*($B$28/100))*$B32),IF(L$27="kg/t SAR",(L$28*$B32),IF(L$27="kg/t DM",((L$28*($B$28/100))*$B32),IF(L$27="mg/kg SAR",((L$28*0.001)*$B32),IF(L$27="mg/kg DM",(((L$28*0.001)*($B$28/100))*$B32),0)))))) -> 0.029385 | M32: =IF(M$27="%w/w SAR",((M$28*10)*$B32),IF(M$27="%w/w DM",(((M$28*10)*($B$28/100))*$B32),IF(M$27="kg/t SAR",(M$28*$B32),IF(M$27="kg/t DM",((M$28*($B$28/100))*$B32),IF(M$27="mg/kg SAR",((M$28*0.001)*$B32),IF(M$27="mg/kg DM",(((M$28*0.001)*($B$28/100))*$B32),0)))))) -> 0.22995 | N32: =IF(N$27="%w/w SAR",((N$28*10)*$B32),IF(N$27="%w/w DM",(((N$28*10)*($B$28/100))*$B32),IF(N$27="kg/t SAR",(N$28*$B32),IF(N$27="kg/t DM",((N$28*($B$28/100))*$B32),IF(N$27="mg/kg SAR",((N$28*0.001)*$B32),IF(N$27="mg/kg DM",(((N$28*0.001)*($B$28/100))*$B32),0)))))) -> 0 | ... P32: =IF(P$27="%w/w SAR",((P$28*10)*$B32),IF(P$27="%w/w DM",(((P$28*10)*($B$28/100))*$B32),IF(P$27="kg/t SAR",(P$28*$B32),IF(P$27="kg/t DM",((P$28*($B$28/100))*$B32),IF(P$27="mg/kg SAR",((P$28*0.001)*$B32),IF(P$27="mg/kg DM",(((P$28*0.001)*($B$28/100))*$B32),0)))))) -> 196.785 | Q32: =(IF(Q$27="%w/w SAR",((Q$28*10)*$B32),IF(Q$27="%w/w DM",(((Q$28*10)*($B$28/100))*$B32),IF(Q$27="kg/t SAR",(Q$28*$B32),IF(Q$27="kg/t DM",((Q$28*($B$28/100))*$B32),IF(Q$27="mg/kg SAR",((Q$28*0.001)*$B32),IF(Q$27="mg/kg DM",(((Q$28*0.001)*($B$28/100))*$B32),0)))))))*2.5 -> 491.9625 | R32: =IF(R$27="%w/w SAR",((R$28*10)*$B32),IF(R$27="%w/w DM",(((R$28*10)*($B$28/100))*$B32),IF(R$27="kg/t SAR",(R$28*$B32),IF(R$27="kg/t DM",((R$28*($B$28/100))*$B32),IF(R$27="mg/kg SAR",((R$28*0.001)*$B32),IF(R$27="mg/kg DM",(((R$28*0.001)*($B$28/100))*$B32),0)))))) -> 0 | S32: =IF(S$27="%w/w SAR",((S$28*10)*$B32),IF(S$27="%w/w DM",(((S$28*10)*($B$28/100))*$B32),IF(S$27="kg/t SAR",(S$28*$B32),IF(S$27="kg/t DM",((S$28*($B$28/100))*$B32),IF(S$27="mg/kg SAR",((S$28*0.001)*$B32),IF(S$27="mg/kg DM",(((S$28*0.001)*($B$28/100))*$B32),0)))))) -> 0 | T32: =IF(T$27="%w/w SAR",((T$28*10)*$B32),IF(T$27="%w/w DM",(((T$28*10)*($B$28/100))*$B32),IF(T$27="kg/t SAR",(T$28*$B32),IF(T$27="kg/t DM",((T$28*($B$28/100))*$B32),IF(T$27="mg/kg SAR",((T$28*0.001)*$B32),IF(T$27="mg/kg DM",(((T$28*0.001)*($B$28/100))*$B32),0)))))) -> 0 | U32: =IF(U$27="%w/w SAR",((U$28*10)*$B32),IF(U$27="%w/w DM",(((U$28*10)*($B$28/100))*$B32),IF(U$27="kg/t SAR",(U$28*$B32),IF(U$27="kg/t DM",((U$28*($B$28/100))*$B32),IF(U$27="mg/kg SAR",((U$28*0.001)*$B32),IF(U$27="mg/kg DM",(((U$28*0.001)*($B$28/100))*$B32),0)))))) -> 0
A33: =E8 -> 3 | B33: 45 | C33: =IF(C$27="%w/w SAR",((C$28*10)*$B33),IF(C$27="%w/w DM",(((C$28*10)*($B$28/100))*$B33),IF(C$27="kg/t SAR",(C$28*$B33),IF(C$27="kg/t DM",((C$28*($B$28/100))*$B33),IF(C$27="mg/kg SAR",((C$28*0.001)*$B33),IF(C$27="mg/kg DM",(((C$28*0.001)*($B$28/100))*$B33),0)))))) -> 99 | D33: =(IF(D$27="%w/w SAR",((D$28*10)*$B33),IF(D$27="%w/w DM",(((D$28*10)*($B$28/100))*$B33),IF(D$27="kg/t SAR",(D$28*$B33),IF(D$27="kg/t DM",((D$28*($B$28/100))*$B33),IF(D$27="mg/kg SAR",((D$28*0.001)*$B33),IF(D$27="mg/kg DM",(((D$28*0.001)*($B$28/100))*$B33),"0")))))))*2.291 -> 54.22797 | E33: =(IF(E$27="%w/w SAR",((E$28*10)*$B33),IF(E$27="%w/w DM",(((E$28*10)*($B$28/100))*$B33),IF(E$27="kg/t SAR",(E$28*$B33),IF(E$27="kg/t DM",((E$28*($B$28/100))*$B33),IF(E$27="mg/kg SAR",((E$28*0.001)*$B33),IF(E$27="mg/kg DM",(((E$28*0.001)*($B$28/100))*$B33),"0")))))))*1.205 -> 11.60415 | F33: =(IF(F$27="%w/w SAR",((F$28*10)*$B33),IF(F$27="%w/w DM",(((F$28*10)*($B$28/100))*$B33),IF(F$27="kg/t SAR",(F$28*$B33),IF(F$27="kg/t DM",((F$28*($B$28/100))*$B33),IF(F$27="mg/kg SAR",((F$28*0.001)*$B33),IF(F$27="mg/kg DM",(((F$28*0.001)*($B$28/100))*$B33),"0")))))))*1.658 -> 6.86412 | G33: =IF(G$27="%w/w SAR",((G$28*10)*$B33),IF(G$27="%w/w DM",(((G$28*10)*($B$28/100))*$B33),IF(G$27="kg/t SAR",(G$28*$B33),IF(G$27="kg/t DM",((G$28*($B$28/100))*$B33),IF(G$27="mg/kg SAR",((G$28*0.001)*$B33),IF(G$27="mg/kg DM",(((G$28*0.001)*($B$28/100))*$B33),0)))))) -> 0.0441 | H33: =IF(H$27="%w/w SAR",((H$28*10)*$B33),IF(H$27="%w/w DM",(((H$28*10)*($B$28/100))*$B33),IF(H$27="kg/t SAR",(H$28*$B33),IF(H$27="kg/t DM",((H$28*($B$28/100))*$B33),IF(H$27="mg/kg SAR",((H$28*0.001)*$B33),IF(H$27="mg/kg DM",(((H$28*0.001)*($B$28/100))*$B33),0)))))) -> 0.4995 | I33: =IF(I$27="%w/w SAR",((I$28*10)*$B33),IF(I$27="%w/w DM",(((I$28*10)*($B$28/100))*$B33),IF(I$27="kg/t SAR",(I$28*$B33),IF(I$27="kg/t DM",((I$28*($B$28/100))*$B33),IF(I$27="mg/kg SAR",((I$28*0.001)*$B33),IF(I$27="mg/kg DM",(((I$28*0.001)*($B$28/100))*$B33),0)))))) -> 0.0225 | J33: =IF(J$27="%w/w SAR",((J$28*10)*$B33),IF(J$27="%w/w DM",(((J$28*10)*($B$28/100))*$B33),IF(J$27="kg/t SAR",(J$28*$B33),IF(J$27="kg/t DM",((J$28*($B$28/100))*$B33),IF(J$27="mg/kg SAR",((J$28*0.001)*$B33),IF(J$27="mg/kg DM",(((J$28*0.001)*($B$28/100))*$B33),0)))))) -> 0.00045 | K33: =IF(K$27="%w/w SAR",((K$28*10)*$B33),IF(K$27="%w/w DM",(((K$28*10)*($B$28/100))*$B33),IF(K$27="kg/t SAR",(K$28*$B33),IF(K$27="kg/t DM",((K$28*($B$28/100))*$B33),IF(K$27="mg/kg SAR",((K$28*0.001)*$B33),IF(K$27="mg/kg DM",(((K$28*0.001)*($B$28/100))*$B33),0)))))) -> 0.00225 | L33: =IF(L$27="%w/w SAR",((L$28*10)*$B33),IF(L$27="%w/w DM",(((L$28*10)*($B$28/100))*$B33),IF(L$27="kg/t SAR",(L$28*$B33),IF(L$27="kg/t DM",((L$28*($B$28/100))*$B33),IF(L$27="mg/kg SAR",((L$28*0.001)*$B33),IF(L$27="mg/kg DM",(((L$28*0.001)*($B$28/100))*$B33),0)))))) -> 0.029385 | M33: =IF(M$27="%w/w SAR",((M$28*10)*$B33),IF(M$27="%w/w DM",(((M$28*10)*($B$28/100))*$B33),IF(M$27="kg/t SAR",(M$28*$B33),IF(M$27="kg/t DM",((M$28*($B$28/100))*$B33),IF(M$27="mg/kg SAR",((M$28*0.001)*$B33),IF(M$27="mg/kg DM",(((M$28*0.001)*($B$28/100))*$B33),0)))))) -> 0.22995 | N33: =IF(N$27="%w/w SAR",((N$28*10)*$B33),IF(N$27="%w/w DM",(((N$28*10)*($B$28/100))*$B33),IF(N$27="kg/t SAR",(N$28*$B33),IF(N$27="kg/t DM",((N$28*($B$28/100))*$B33),IF(N$27="mg/kg SAR",((N$28*0.001)*$B33),IF(N$27="mg/kg DM",(((N$28*0.001)*($B$28/100))*$B33),0)))))) -> 0 | ... P33: =IF(P$27="%w/w SAR",((P$28*10)*$B33),IF(P$27="%w/w DM",(((P$28*10)*($B$28/100))*$B33),IF(P$27="kg/t SAR",(P$28*$B33),IF(P$27="kg/t DM",((P$28*($B$28/100))*$B33),IF(P$27="mg/kg SAR",((P$28*0.001)*$B33),IF(P$27="mg/kg DM",(((P$28*0.001)*($B$28/100))*$B33),0)))))) -> 196.785 | Q33: =(IF(Q$27="%w/w SAR",((Q$28*10)*$B33),IF(Q$27="%w/w DM",(((Q$28*10)*($B$28/100))*$B33),IF(Q$27="kg/t SAR",(Q$28*$B33),IF(Q$27="kg/t DM",((Q$28*($B$28/100))*$B33),IF(Q$27="mg/kg SAR",((Q$28*0.001)*$B33),IF(Q$27="mg/kg DM",(((Q$28*0.001)*($B$28/100))*$B33),0)))))))*2.5 -> 491.9625 | R33: =IF(R$27="%w/w SAR",((R$28*10)*$B33),IF(R$27="%w/w DM",(((R$28*10)*($B$28/100))*$B33),IF(R$27="kg/t SAR",(R$28*$B33),IF(R$27="kg/t DM",((R$28*($B$28/100))*$B33),IF(R$27="mg/kg SAR",((R$28*0.001)*$B33),IF(R$27="mg/kg DM",(((R$28*0.001)*($B$28/100))*$B33),0)))))) -> 0 | S33: =IF(S$27="%w/w SAR",((S$28*10)*$B33),IF(S$27="%w/w DM",(((S$28*10)*($B$28/100))*$B33),IF(S$27="kg/t SAR",(S$28*$B33),IF(S$27="kg/t DM",((S$28*($B$28/100))*$B33),IF(S$27="mg/kg SAR",((S$28*0.001)*$B33),IF(S$27="mg/kg DM",(((S$28*0.001)*($B$28/100))*$B33),0)))))) -> 0 | T33: =IF(T$27="%w/w SAR",((T$28*10)*$B33),IF(T$27="%w/w DM",(((T$28*10)*($B$28/100))*$B33),IF(T$27="kg/t SAR",(T$28*$B33),IF(T$27="kg/t DM",((T$28*($B$28/100))*$B33),IF(T$27="mg/kg SAR",((T$28*0.001)*$B33),IF(T$27="mg/kg DM",(((T$28*0.001)*($B$28/100))*$B33),0)))))) -> 0 | U33: =IF(U$27="%w/w SAR",((U$28*10)*$B33),IF(U$27="%w/w DM",(((U$28*10)*($B$28/100))*$B33),IF(U$27="kg/t SAR",(U$28*$B33),IF(U$27="kg/t DM",((U$28*($B$28/100))*$B33),IF(U$27="mg/kg SAR",((U$28*0.001)*$B33),IF(U$27="mg/kg DM",(((U$28*0.001)*($B$28/100))*$B33),0)))))) -> 0
A34: =F8 -> 4 | B34: 0 | C34: =IF(C$27="%w/w SAR",((C$28*10)*$B34),IF(C$27="%w/w DM",(((C$28*10)*($B$28/100))*$B34),IF(C$27="kg/t SAR",(C$28*$B34),IF(C$27="kg/t DM",((C$28*($B$28/100))*$B34),IF(C$27="mg/kg SAR",((C$28*0.001)*$B34),IF(C$27="mg/kg DM",(((C$28*0.001)*($B$28/100))*$B34),0)))))) -> 0 | D34: =(IF(D$27="%w/w SAR",((D$28*10)*$B34),IF(D$27="%w/w DM",(((D$28*10)*($B$28/100))*$B34),IF(D$27="kg/t SAR",(D$28*$B34),IF(D$27="kg/t DM",((D$28*($B$28/100))*$B34),IF(D$27="mg/kg SAR",((D$28*0.001)*$B34),IF(D$27="mg/kg DM",(((D$28*0.001)*($B$28/100))*$B34),"0")))))))*2.291 -> 0 | E34: =(IF(E$27="%w/w SAR",((E$28*10)*$B34),IF(E$27="%w/w DM",(((E$28*10)*($B$28/100))*$B34),IF(E$27="kg/t SAR",(E$28*$B34),IF(E$27="kg/t DM",((E$28*($B$28/100))*$B34),IF(E$27="mg/kg SAR",((E$28*0.001)*$B34),IF(E$27="mg/kg DM",(((E$28*0.001)*($B$28/100))*$B34),"0")))))))*1.205 -> 0 | F34: =(IF(F$27="%w/w SAR",((F$28*10)*$B34),IF(F$27="%w/w DM",(((F$28*10)*($B$28/100))*$B34),IF(F$27="kg/t SAR",(F$28*$B34),IF(F$27="kg/t DM",((F$28*($B$28/100))*$B34),IF(F$27="mg/kg SAR",((F$28*0.001)*$B34),IF(F$27="mg/kg DM",(((F$28*0.001)*($B$28/100))*$B34),"0")))))))*1.658 -> 0 | G34: =IF(G$27="%w/w SAR",((G$28*10)*$B34),IF(G$27="%w/w DM",(((G$28*10)*($B$28/100))*$B34),IF(G$27="kg/t SAR",(G$28*$B34),IF(G$27="kg/t DM",((G$28*($B$28/100))*$B34),IF(G$27="mg/kg SAR",((G$28*0.001)*$B34),IF(G$27="mg/kg DM",(((G$28*0.001)*($B$28/100))*$B34),0)))))) -> 0 | H34: =IF(H$27="%w/w SAR",((H$28*10)*$B34),IF(H$27="%w/w DM",(((H$28*10)*($B$28/100))*$B34),IF(H$27="kg/t SAR",(H$28*$B34),IF(H$27="kg/t DM",((H$28*($B$28/100))*$B34),IF(H$27="mg/kg SAR",((H$28*0.001)*$B34),IF(H$27="mg/kg DM",(((H$28*0.001)*($B$28/100))*$B34),0)))))) -> 0 | I34: =IF(I$27="%w/w SAR",((I$28*10)*$B34),IF(I$27="%w/w DM",(((I$28*10)*($B$28/100))*$B34),IF(I$27="kg/t SAR",(I$28*$B34),IF(I$27="kg/t DM",((I$28*($B$28/100))*$B34),IF(I$27="mg/kg SAR",((I$28*0.001)*$B34),IF(I$27="mg/kg DM",(((I$28*0.001)*($B$28/100))*$B34),0)))))) -> 0 | J34: =IF(J$27="%w/w SAR",((J$28*10)*$B34),IF(J$27="%w/w DM",(((J$28*10)*($B$28/100))*$B34),IF(J$27="kg/t SAR",(J$28*$B34),IF(J$27="kg/t DM",((J$28*($B$28/100))*$B34),IF(J$27="mg/kg SAR",((J$28*0.001)*$B34),IF(J$27="mg/kg DM",(((J$28*0.001)*($B$28/100))*$B34),0)))))) -> 0 | K34: =IF(K$27="%w/w SAR",((K$28*10)*$B34),IF(K$27="%w/w DM",(((K$28*10)*($B$28/100))*$B34),IF(K$27="kg/t SAR",(K$28*$B34),IF(K$27="kg/t DM",((K$28*($B$28/100))*$B34),IF(K$27="mg/kg SAR",((K$28*0.001)*$B34),IF(K$27="mg/kg DM",(((K$28*0.001)*($B$28/100))*$B34),0)))))) -> 0 | L34: =IF(L$27="%w/w SAR",((L$28*10)*$B34),IF(L$27="%w/w DM",(((L$28*10)*($B$28/100))*$B34),IF(L$27="kg/t SAR",(L$28*$B34),IF(L$27="kg/t DM",((L$28*($B$28/100))*$B34),IF(L$27="mg/kg SAR",((L$28*0.001)*$B34),IF(L$27="mg/kg DM",(((L$28*0.001)*($B$28/100))*$B34),0)))))) -> 0 | M34: =IF(M$27="%w/w SAR",((M$28*10)*$B34),IF(M$27="%w/w DM",(((M$28*10)*($B$28/100))*$B34),IF(M$27="kg/t SAR",(M$28*$B34),IF(M$27="kg/t DM",((M$28*($B$28/100))*$B34),IF(M$27="mg/kg SAR",((M$28*0.001)*$B34),IF(M$27="mg/kg DM",(((M$28*0.001)*($B$28/100))*$B34),0)))))) -> 0 | N34: =IF(N$27="%w/w SAR",((N$28*10)*$B34),IF(N$27="%w/w DM",(((N$28*10)*($B$28/100))*$B34),IF(N$27="kg/t SAR",(N$28*$B34),IF(N$27="kg/t DM",((N$28*($B$28/100))*$B34),IF(N$27="mg/kg SAR",((N$28*0.001)*$B34),IF(N$27="mg/kg DM",(((N$28*0.001)*($B$28/100))*$B34),0)))))) -> 0 | ... P34: =IF(P$27="%w/w SAR",((P$28*10)*$B34),IF(P$27="%w/w DM",(((P$28*10)*($B$28/100))*$B34),IF(P$27="kg/t SAR",(P$28*$B34),IF(P$27="kg/t DM",((P$28*($B$28/100))*$B34),IF(P$27="mg/kg SAR",((P$28*0.001)*$B34),IF(P$27="mg/kg DM",(((P$28*0.001)*($B$28/100))*$B34),0)))))) -> 0 | Q34: =(IF(Q$27="%w/w SAR",((Q$28*10)*$B34),IF(Q$27="%w/w DM",(((Q$28*10)*($B$28/100))*$B34),IF(Q$27="kg/t SAR",(Q$28*$B34),IF(Q$27="kg/t DM",((Q$28*($B$28/100))*$B34),IF(Q$27="mg/kg SAR",((Q$28*0.001)*$B34),IF(Q$27="mg/kg DM",(((Q$28*0.001)*($B$28/100))*$B34),0)))))))*2.5 -> 0 | R34: =IF(R$27="%w/w SAR",((R$28*10)*$B34),IF(R$27="%w/w DM",(((R$28*10)*($B$28/100))*$B34),IF(R$27="kg/t SAR",(R$28*$B34),IF(R$27="kg/t DM",((R$28*($B$28/100))*$B34),IF(R$27="mg/kg SAR",((R$28*0.001)*$B34),IF(R$27="mg/kg DM",(((R$28*0.001)*($B$28/100))*$B34),0)))))) -> 0 | S34: =IF(S$27="%w/w SAR",((S$28*10)*$B34),IF(S$27="%w/w DM",(((S$28*10)*($B$28/100))*$B34),IF(S$27="kg/t SAR",(S$28*$B34),IF(S$27="kg/t DM",((S$28*($B$28/100))*$B34),IF(S$27="mg/kg SAR",((S$28*0.001)*$B34),IF(S$27="mg/kg DM",(((S$28*0.001)*($B$28/100))*$B34),0)))))) -> 0 | T34: =IF(T$27="%w/w SAR",((T$28*10)*$B34),IF(T$27="%w/w DM",(((T$28*10)*($B$28/100))*$B34),IF(T$27="kg/t SAR",(T$28*$B34),IF(T$27="kg/t DM",((T$28*($B$28/100))*$B34),IF(T$27="mg/kg SAR",((T$28*0.001)*$B34),IF(T$27="mg/kg DM",(((T$28*0.001)*($B$28/100))*$B34),0)))))) -> 0 | U34: =IF(U$27="%w/w SAR",((U$28*10)*$B34),IF(U$27="%w/w DM",(((U$28*10)*($B$28/100))*$B34),IF(U$27="kg/t SAR",(U$28*$B34),IF(U$27="kg/t DM",((U$28*($B$28/100))*$B34),IF(U$27="mg/kg SAR",((U$28*0.001)*$B34),IF(U$27="mg/kg DM",(((U$28*0.001)*($B$28/100))*$B34),0)))))) -> 0
A35: =G8 -> 5 | B35: 45 | C35: =IF(C$27="%w/w SAR",((C$28*10)*$B35),IF(C$27="%w/w DM",(((C$28*10)*($B$28/100))*$B35),IF(C$27="kg/t SAR",(C$28*$B35),IF(C$27="kg/t DM",((C$28*($B$28/100))*$B35),IF(C$27="mg/kg SAR",((C$28*0.001)*$B35),IF(C$27="mg/kg DM",(((C$28*0.001)*($B$28/100))*$B35),0)))))) -> 99 | D35: =(IF(D$27="%w/w SAR",((D$28*10)*$B35),IF(D$27="%w/w DM",(((D$28*10)*($B$28/100))*$B35),IF(D$27="kg/t SAR",(D$28*$B35),IF(D$27="kg/t DM",((D$28*($B$28/100))*$B35),IF(D$27="mg/kg SAR",((D$28*0.001)*$B35),IF(D$27="mg/kg DM",(((D$28*0.001)*($B$28/100))*$B35),"0")))))))*2.291 -> 54.22797 | E35: =(IF(E$27="%w/w SAR",((E$28*10)*$B35),IF(E$27="%w/w DM",(((E$28*10)*($B$28/100))*$B35),IF(E$27="kg/t SAR",(E$28*$B35),IF(E$27="kg/t DM",((E$28*($B$28/100))*$B35),IF(E$27="mg/kg SAR",((E$28*0.001)*$B35),IF(E$27="mg/kg DM",(((E$28*0.001)*($B$28/100))*$B35),"0")))))))*1.205 -> 11.60415 | F35: =(IF(F$27="%w/w SAR",((F$28*10)*$B35),IF(F$27="%w/w DM",(((F$28*10)*($B$28/100))*$B35),IF(F$27="kg/t SAR",(F$28*$B35),IF(F$27="kg/t DM",((F$28*($B$28/100))*$B35),IF(F$27="mg/kg SAR",((F$28*0.001)*$B35),IF(F$27="mg/kg DM",(((F$28*0.001)*($B$28/100))*$B35),"0")))))))*1.658 -> 6.86412 | G35: =IF(G$27="%w/w SAR",((G$28*10)*$B35),IF(G$27="%w/w DM",(((G$28*10)*($B$28/100))*$B35),IF(G$27="kg/t SAR",(G$28*$B35),IF(G$27="kg/t DM",((G$28*($B$28/100))*$B35),IF(G$27="mg/kg SAR",((G$28*0.001)*$B35),IF(G$27="mg/kg DM",(((G$28*0.001)*($B$28/100))*$B35),0)))))) -> 0.0441 | H35: =IF(H$27="%w/w SAR",((H$28*10)*$B35),IF(H$27="%w/w DM",(((H$28*10)*($B$28/100))*$B35),IF(H$27="kg/t SAR",(H$28*$B35),IF(H$27="kg/t DM",((H$28*($B$28/100))*$B35),IF(H$27="mg/kg SAR",((H$28*0.001)*$B35),IF(H$27="mg/kg DM",(((H$28*0.001)*($B$28/100))*$B35),0)))))) -> 0.4995 | I35: =IF(I$27="%w/w SAR",((I$28*10)*$B35),IF(I$27="%w/w DM",(((I$28*10)*($B$28/100))*$B35),IF(I$27="kg/t SAR",(I$28*$B35),IF(I$27="kg/t DM",((I$28*($B$28/100))*$B35),IF(I$27="mg/kg SAR",((I$28*0.001)*$B35),IF(I$27="mg/kg DM",(((I$28*0.001)*($B$28/100))*$B35),0)))))) -> 0.0225 | J35: =IF(J$27="%w/w SAR",((J$28*10)*$B35),IF(J$27="%w/w DM",(((J$28*10)*($B$28/100))*$B35),IF(J$27="kg/t SAR",(J$28*$B35),IF(J$27="kg/t DM",((J$28*($B$28/100))*$B35),IF(J$27="mg/kg SAR",((J$28*0.001)*$B35),IF(J$27="mg/kg DM",(((J$28*0.001)*($B$28/100))*$B35),0)))))) -> 0.00045 | K35: =IF(K$27="%w/w SAR",((K$28*10)*$B35),IF(K$27="%w/w DM",(((K$28*10)*($B$28/100))*$B35),IF(K$27="kg/t SAR",(K$28*$B35),IF(K$27="kg/t DM",((K$28*($B$28/100))*$B35),IF(K$27="mg/kg SAR",((K$28*0.001)*$B35),IF(K$27="mg/kg DM",(((K$28*0.001)*($B$28/100))*$B35),0)))))) -> 0.00225 | L35: =IF(L$27="%w/w SAR",((L$28*10)*$B35),IF(L$27="%w/w DM",(((L$28*10)*($B$28/100))*$B35),IF(L$27="kg/t SAR",(L$28*$B35),IF(L$27="kg/t DM",((L$28*($B$28/100))*$B35),IF(L$27="mg/kg SAR",((L$28*0.001)*$B35),IF(L$27="mg/kg DM",(((L$28*0.001)*($B$28/100))*$B35),0)))))) -> 0.029385 | M35: =IF(M$27="%w/w SAR",((M$28*10)*$B35),IF(M$27="%w/w DM",(((M$28*10)*($B$28/100))*$B35),IF(M$27="kg/t SAR",(M$28*$B35),IF(M$27="kg/t DM",((M$28*($B$28/100))*$B35),IF(M$27="mg/kg SAR",((M$28*0.001)*$B35),IF(M$27="mg/kg DM",(((M$28*0.001)*($B$28/100))*$B35),0)))))) -> 0.22995 | N35: =IF(N$27="%w/w SAR",((N$28*10)*$B35),IF(N$27="%w/w DM",(((N$28*10)*($B$28/100))*$B35),IF(N$27="kg/t SAR",(N$28*$B35),IF(N$27="kg/t DM",((N$28*($B$28/100))*$B35),IF(N$27="mg/kg SAR",((N$28*0.001)*$B35),IF(N$27="mg/kg DM",(((N$28*0.001)*($B$28/100))*$B35),0)))))) -> 0 | ... P35: =IF(P$27="%w/w SAR",((P$28*10)*$B35),IF(P$27="%w/w DM",(((P$28*10)*($B$28/100))*$B35),IF(P$27="kg/t SAR",(P$28*$B35),IF(P$27="kg/t DM",((P$28*($B$28/100))*$B35),IF(P$27="mg/kg SAR",((P$28*0.001)*$B35),IF(P$27="mg/kg DM",(((P$28*0.001)*($B$28/100))*$B35),0)))))) -> 196.785 | Q35: =(IF(Q$27="%w/w SAR",((Q$28*10)*$B35),IF(Q$27="%w/w DM",(((Q$28*10)*($B$28/100))*$B35),IF(Q$27="kg/t SAR",(Q$28*$B35),IF(Q$27="kg/t DM",((Q$28*($B$28/100))*$B35),IF(Q$27="mg/kg SAR",((Q$28*0.001)*$B35),IF(Q$27="mg/kg DM",(((Q$28*0.001)*($B$28/100))*$B35),0)))))))*2.5 -> 491.9625 | R35: =IF(R$27="%w/w SAR",((R$28*10)*$B35),IF(R$27="%w/w DM",(((R$28*10)*($B$28/100))*$B35),IF(R$27="kg/t SAR",(R$28*$B35),IF(R$27="kg/t DM",((R$28*($B$28/100))*$B35),IF(R$27="mg/kg SAR",((R$28*0.001)*$B35),IF(R$27="mg/kg DM",(((R$28*0.001)*($B$28/100))*$B35),0)))))) -> 0 | S35: =IF(S$27="%w/w SAR",((S$28*10)*$B35),IF(S$27="%w/w DM",(((S$28*10)*($B$28/100))*$B35),IF(S$27="kg/t SAR",(S$28*$B35),IF(S$27="kg/t DM",((S$28*($B$28/100))*$B35),IF(S$27="mg/kg SAR",((S$28*0.001)*$B35),IF(S$27="mg/kg DM",(((S$28*0.001)*($B$28/100))*$B35),0)))))) -> 0 | T35: =IF(T$27="%w/w SAR",((T$28*10)*$B35),IF(T$27="%w/w DM",(((T$28*10)*($B$28/100))*$B35),IF(T$27="kg/t SAR",(T$28*$B35),IF(T$27="kg/t DM",((T$28*($B$28/100))*$B35),IF(T$27="mg/kg SAR",((T$28*0.001)*$B35),IF(T$27="mg/kg DM",(((T$28*0.001)*($B$28/100))*$B35),0)))))) -> 0 | U35: =IF(U$27="%w/w SAR",((U$28*10)*$B35),IF(U$27="%w/w DM",(((U$28*10)*($B$28/100))*$B35),IF(U$27="kg/t SAR",(U$28*$B35),IF(U$27="kg/t DM",((U$28*($B$28/100))*$B35),IF(U$27="mg/kg SAR",((U$28*0.001)*$B35),IF(U$27="mg/kg DM",(((U$28*0.001)*($B$28/100))*$B35),0)))))) -> 0
A36: =H8 -> 6 | B36: 45 | C36: =IF(C$27="%w/w SAR",((C$28*10)*$B36),IF(C$27="%w/w DM",(((C$28*10)*($B$28/100))*$B36),IF(C$27="kg/t SAR",(C$28*$B36),IF(C$27="kg/t DM",((C$28*($B$28/100))*$B36),IF(C$27="mg/kg SAR",((C$28*0.001)*$B36),IF(C$27="mg/kg DM",(((C$28*0.001)*($B$28/100))*$B36),0)))))) -> 99 | D36: =(IF(D$27="%w/w SAR",((D$28*10)*$B36),IF(D$27="%w/w DM",(((D$28*10)*($B$28/100))*$B36),IF(D$27="kg/t SAR",(D$28*$B36),IF(D$27="kg/t DM",((D$28*($B$28/100))*$B36),IF(D$27="mg/kg SAR",((D$28*0.001)*$B36),IF(D$27="mg/kg DM",(((D$28*0.001)*($B$28/100))*$B36),"0")))))))*2.291 -> 54.22797 | E36: =(IF(E$27="%w/w SAR",((E$28*10)*$B36),IF(E$27="%w/w DM",(((E$28*10)*($B$28/100))*$B36),IF(E$27="kg/t SAR",(E$28*$B36),IF(E$27="kg/t DM",((E$28*($B$28/100))*$B36),IF(E$27="mg/kg SAR",((E$28*0.001)*$B36),IF(E$27="mg/kg DM",(((E$28*0.001)*($B$28/100))*$B36),"0")))))))*1.205 -> 11.60415 | F36: =(IF(F$27="%w/w SAR",((F$28*10)*$B36),IF(F$27="%w/w DM",(((F$28*10)*($B$28/100))*$B36),IF(F$27="kg/t SAR",(F$28*$B36),IF(F$27="kg/t DM",((F$28*($B$28/100))*$B36),IF(F$27="mg/kg SAR",((F$28*0.001)*$B36),IF(F$27="mg/kg DM",(((F$28*0.001)*($B$28/100))*$B36),"0")))))))*1.658 -> 6.86412 | G36: =IF(G$27="%w/w SAR",((G$28*10)*$B36),IF(G$27="%w/w DM",(((G$28*10)*($B$28/100))*$B36),IF(G$27="kg/t SAR",(G$28*$B36),IF(G$27="kg/t DM",((G$28*($B$28/100))*$B36),IF(G$27="mg/kg SAR",((G$28*0.001)*$B36),IF(G$27="mg/kg DM",(((G$28*0.001)*($B$28/100))*$B36),0)))))) -> 0.0441 | H36: =IF(H$27="%w/w SAR",((H$28*10)*$B36),IF(H$27="%w/w DM",(((H$28*10)*($B$28/100))*$B36),IF(H$27="kg/t SAR",(H$28*$B36),IF(H$27="kg/t DM",((H$28*($B$28/100))*$B36),IF(H$27="mg/kg SAR",((H$28*0.001)*$B36),IF(H$27="mg/kg DM",(((H$28*0.001)*($B$28/100))*$B36),0)))))) -> 0.4995 | I36: =IF(I$27="%w/w SAR",((I$28*10)*$B36),IF(I$27="%w/w DM",(((I$28*10)*($B$28/100))*$B36),IF(I$27="kg/t SAR",(I$28*$B36),IF(I$27="kg/t DM",((I$28*($B$28/100))*$B36),IF(I$27="mg/kg SAR",((I$28*0.001)*$B36),IF(I$27="mg/kg DM",(((I$28*0.001)*($B$28/100))*$B36),0)))))) -> 0.0225 | J36: =IF(J$27="%w/w SAR",((J$28*10)*$B36),IF(J$27="%w/w DM",(((J$28*10)*($B$28/100))*$B36),IF(J$27="kg/t SAR",(J$28*$B36),IF(J$27="kg/t DM",((J$28*($B$28/100))*$B36),IF(J$27="mg/kg SAR",((J$28*0.001)*$B36),IF(J$27="mg/kg DM",(((J$28*0.001)*($B$28/100))*$B36),0)))))) -> 0.00045 | K36: =IF(K$27="%w/w SAR",((K$28*10)*$B36),IF(K$27="%w/w DM",(((K$28*10)*($B$28/100))*$B36),IF(K$27="kg/t SAR",(K$28*$B36),IF(K$27="kg/t DM",((K$28*($B$28/100))*$B36),IF(K$27="mg/kg SAR",((K$28*0.001)*$B36),IF(K$27="mg/kg DM",(((K$28*0.001)*($B$28/100))*$B36),0)))))) -> 0.00225 | L36: =IF(L$27="%w/w SAR",((L$28*10)*$B36),IF(L$27="%w/w DM",(((L$28*10)*($B$28/100))*$B36),IF(L$27="kg/t SAR",(L$28*$B36),IF(L$27="kg/t DM",((L$28*($B$28/100))*$B36),IF(L$27="mg/kg SAR",((L$28*0.001)*$B36),IF(L$27="mg/kg DM",(((L$28*0.001)*($B$28/100))*$B36),0)))))) -> 0.029385 | M36: =IF(M$27="%w/w SAR",((M$28*10)*$B36),IF(M$27="%w/w DM",(((M$28*10)*($B$28/100))*$B36),IF(M$27="kg/t SAR",(M$28*$B36),IF(M$27="kg/t DM",((M$28*($B$28/100))*$B36),IF(M$27="mg/kg SAR",((M$28*0.001)*$B36),IF(M$27="mg/kg DM",(((M$28*0.001)*($B$28/100))*$B36),0)))))) -> 0.22995 | N36: =IF(N$27="%w/w SAR",((N$28*10)*$B36),IF(N$27="%w/w DM",(((N$28*10)*($B$28/100))*$B36),IF(N$27="kg/t SAR",(N$28*$B36),IF(N$27="kg/t DM",((N$28*($B$28/100))*$B36),IF(N$27="mg/kg SAR",((N$28*0.001)*$B36),IF(N$27="mg/kg DM",(((N$28*0.001)*($B$28/100))*$B36),0)))))) -> 0 | ... P36: =IF(P$27="%w/w SAR",((P$28*10)*$B36),IF(P$27="%w/w DM",(((P$28*10)*($B$28/100))*$B36),IF(P$27="kg/t SAR",(P$28*$B36),IF(P$27="kg/t DM",((P$28*($B$28/100))*$B36),IF(P$27="mg/kg SAR",((P$28*0.001)*$B36),IF(P$27="mg/kg DM",(((P$28*0.001)*($B$28/100))*$B36),0)))))) -> 196.785 | Q36: =(IF(Q$27="%w/w SAR",((Q$28*10)*$B36),IF(Q$27="%w/w DM",(((Q$28*10)*($B$28/100))*$B36),IF(Q$27="kg/t SAR",(Q$28*$B36),IF(Q$27="kg/t DM",((Q$28*($B$28/100))*$B36),IF(Q$27="mg/kg SAR",((Q$28*0.001)*$B36),IF(Q$27="mg/kg DM",(((Q$28*0.001)*($B$28/100))*$B36),0)))))))*2.5 -> 491.9625 | R36: =IF(R$27="%w/w SAR",((R$28*10)*$B36),IF(R$27="%w/w DM",(((R$28*10)*($B$28/100))*$B36),IF(R$27="kg/t SAR",(R$28*$B36),IF(R$27="kg/t DM",((R$28*($B$28/100))*$B36),IF(R$27="mg/kg SAR",((R$28*0.001)*$B36),IF(R$27="mg/kg DM",(((R$28*0.001)*($B$28/100))*$B36),0)))))) -> 0 | S36: =IF(S$27="%w/w SAR",((S$28*10)*$B36),IF(S$27="%w/w DM",(((S$28*10)*($B$28/100))*$B36),IF(S$27="kg/t SAR",(S$28*$B36),IF(S$27="kg/t DM",((S$28*($B$28/100))*$B36),IF(S$27="mg/kg SAR",((S$28*0.001)*$B36),IF(S$27="mg/kg DM",(((S$28*0.001)*($B$28/100))*$B36),0)))))) -> 0 | T36: =IF(T$27="%w/w SAR",((T$28*10)*$B36),IF(T$27="%w/w DM",(((T$28*10)*($B$28/100))*$B36),IF(T$27="kg/t SAR",(T$28*$B36),IF(T$27="kg/t DM",((T$28*($B$28/100))*$B36),IF(T$27="mg/kg SAR",((T$28*0.001)*$B36),IF(T$27="mg/kg DM",(((T$28*0.001)*($B$28/100))*$B36),0)))))) -> 0 | U36: =IF(U$27="%w/w SAR",((U$28*10)*$B36),IF(U$27="%w/w DM",(((U$28*10)*($B$28/100))*$B36),IF(U$27="kg/t SAR",(U$28*$B36),IF(U$27="kg/t DM",((U$28*($B$28/100))*$B36),IF(U$27="mg/kg SAR",((U$28*0.001)*$B36),IF(U$27="mg/kg DM",(((U$28*0.001)*($B$28/100))*$B36),0)))))) -> 0
A37: =I8 -> 7 | B37: 45 | C37: =IF(C$27="%w/w SAR",((C$28*10)*$B37),IF(C$27="%w/w DM",(((C$28*10)*($B$28/100))*$B37),IF(C$27="kg/t SAR",(C$28*$B37),IF(C$27="kg/t DM",((C$28*($B$28/100))*$B37),IF(C$27="mg/kg SAR",((C$28*0.001)*$B37),IF(C$27="mg/kg DM",(((C$28*0.001)*($B$28/100))*$B37),0)))))) -> 99 | D37: =(IF(D$27="%w/w SAR",((D$28*10)*$B37),IF(D$27="%w/w DM",(((D$28*10)*($B$28/100))*$B37),IF(D$27="kg/t SAR",(D$28*$B37),IF(D$27="kg/t DM",((D$28*($B$28/100))*$B37),IF(D$27="mg/kg SAR",((D$28*0.001)*$B37),IF(D$27="mg/kg DM",(((D$28*0.001)*($B$28/100))*$B37),"0")))))))*2.291 -> 54.22797 | E37: =(IF(E$27="%w/w SAR",((E$28*10)*$B37),IF(E$27="%w/w DM",(((E$28*10)*($B$28/100))*$B37),IF(E$27="kg/t SAR",(E$28*$B37),IF(E$27="kg/t DM",((E$28*($B$28/100))*$B37),IF(E$27="mg/kg SAR",((E$28*0.001)*$B37),IF(E$27="mg/kg DM",(((E$28*0.001)*($B$28/100))*$B37),"0")))))))*1.205 -> 11.60415 | F37: =(IF(F$27="%w/w SAR",((F$28*10)*$B37),IF(F$27="%w/w DM",(((F$28*10)*($B$28/100))*$B37),IF(F$27="kg/t SAR",(F$28*$B37),IF(F$27="kg/t DM",((F$28*($B$28/100))*$B37),IF(F$27="mg/kg SAR",((F$28*0.001)*$B37),IF(F$27="mg/kg DM",(((F$28*0.001)*($B$28/100))*$B37),"0")))))))*1.658 -> 6.86412 | G37: =IF(G$27="%w/w SAR",((G$28*10)*$B37),IF(G$27="%w/w DM",(((G$28*10)*($B$28/100))*$B37),IF(G$27="kg/t SAR",(G$28*$B37),IF(G$27="kg/t DM",((G$28*($B$28/100))*$B37),IF(G$27="mg/kg SAR",((G$28*0.001)*$B37),IF(G$27="mg/kg DM",(((G$28*0.001)*($B$28/100))*$B37),0)))))) -> 0.0441 | H37: =IF(H$27="%w/w SAR",((H$28*10)*$B37),IF(H$27="%w/w DM",(((H$28*10)*($B$28/100))*$B37),IF(H$27="kg/t SAR",(H$28*$B37),IF(H$27="kg/t DM",((H$28*($B$28/100))*$B37),IF(H$27="mg/kg SAR",((H$28*0.001)*$B37),IF(H$27="mg/kg DM",(((H$28*0.001)*($B$28/100))*$B37),0)))))) -> 0.4995 | I37: =IF(I$27="%w/w SAR",((I$28*10)*$B37),IF(I$27="%w/w DM",(((I$28*10)*($B$28/100))*$B37),IF(I$27="kg/t SAR",(I$28*$B37),IF(I$27="kg/t DM",((I$28*($B$28/100))*$B37),IF(I$27="mg/kg SAR",((I$28*0.001)*$B37),IF(I$27="mg/kg DM",(((I$28*0.001)*($B$28/100))*$B37),0)))))) -> 0.0225 | J37: =IF(J$27="%w/w SAR",((J$28*10)*$B37),IF(J$27="%w/w DM",(((J$28*10)*($B$28/100))*$B37),IF(J$27="kg/t SAR",(J$28*$B37),IF(J$27="kg/t DM",((J$28*($B$28/100))*$B37),IF(J$27="mg/kg SAR",((J$28*0.001)*$B37),IF(J$27="mg/kg DM",(((J$28*0.001)*($B$28/100))*$B37),0)))))) -> 0.00045 | K37: =IF(K$27="%w/w SAR",((K$28*10)*$B37),IF(K$27="%w/w DM",(((K$28*10)*($B$28/100))*$B37),IF(K$27="kg/t SAR",(K$28*$B37),IF(K$27="kg/t DM",((K$28*($B$28/100))*$B37),IF(K$27="mg/kg SAR",((K$28*0.001)*$B37),IF(K$27="mg/kg DM",(((K$28*0.001)*($B$28/100))*$B37),0)))))) -> 0.00225 | L37: =IF(L$27="%w/w SAR",((L$28*10)*$B37),IF(L$27="%w/w DM",(((L$28*10)*($B$28/100))*$B37),IF(L$27="kg/t SAR",(L$28*$B37),IF(L$27="kg/t DM",((L$28*($B$28/100))*$B37),IF(L$27="mg/kg SAR",((L$28*0.001)*$B37),IF(L$27="mg/kg DM",(((L$28*0.001)*($B$28/100))*$B37),0)))))) -> 0.029385 | M37: =IF(M$27="%w/w SAR",((M$28*10)*$B37),IF(M$27="%w/w DM",(((M$28*10)*($B$28/100))*$B37),IF(M$27="kg/t SAR",(M$28*$B37),IF(M$27="kg/t DM",((M$28*($B$28/100))*$B37),IF(M$27="mg/kg SAR",((M$28*0.001)*$B37),IF(M$27="mg/kg DM",(((M$28*0.001)*($B$28/100))*$B37),0)))))) -> 0.22995 | N37: =IF(N$27="%w/w SAR",((N$28*10)*$B37),IF(N$27="%w/w DM",(((N$28*10)*($B$28/100))*$B37),IF(N$27="kg/t SAR",(N$28*$B37),IF(N$27="kg/t DM",((N$28*($B$28/100))*$B37),IF(N$27="mg/kg SAR",((N$28*0.001)*$B37),IF(N$27="mg/kg DM",(((N$28*0.001)*($B$28/100))*$B37),0)))))) -> 0 | ... P37: =IF(P$27="%w/w SAR",((P$28*10)*$B37),IF(P$27="%w/w DM",(((P$28*10)*($B$28/100))*$B37),IF(P$27="kg/t SAR",(P$28*$B37),IF(P$27="kg/t DM",((P$28*($B$28/100))*$B37),IF(P$27="mg/kg SAR",((P$28*0.001)*$B37),IF(P$27="mg/kg DM",(((P$28*0.001)*($B$28/100))*$B37),0)))))) -> 196.785 | Q37: =(IF(Q$27="%w/w SAR",((Q$28*10)*$B37),IF(Q$27="%w/w DM",(((Q$28*10)*($B$28/100))*$B37),IF(Q$27="kg/t SAR",(Q$28*$B37),IF(Q$27="kg/t DM",((Q$28*($B$28/100))*$B37),IF(Q$27="mg/kg SAR",((Q$28*0.001)*$B37),IF(Q$27="mg/kg DM",(((Q$28*0.001)*($B$28/100))*$B37),0)))))))*2.5 -> 491.9625 | R37: =IF(R$27="%w/w SAR",((R$28*10)*$B37),IF(R$27="%w/w DM",(((R$28*10)*($B$28/100))*$B37),IF(R$27="kg/t SAR",(R$28*$B37),IF(R$27="kg/t DM",((R$28*($B$28/100))*$B37),IF(R$27="mg/kg SAR",((R$28*0.001)*$B37),IF(R$27="mg/kg DM",(((R$28*0.001)*($B$28/100))*$B37),0)))))) -> 0 | S37: =IF(S$27="%w/w SAR",((S$28*10)*$B37),IF(S$27="%w/w DM",(((S$28*10)*($B$28/100))*$B37),IF(S$27="kg/t SAR",(S$28*$B37),IF(S$27="kg/t DM",((S$28*($B$28/100))*$B37),IF(S$27="mg/kg SAR",((S$28*0.001)*$B37),IF(S$27="mg/kg DM",(((S$28*0.001)*($B$28/100))*$B37),0)))))) -> 0 | T37: =IF(T$27="%w/w SAR",((T$28*10)*$B37),IF(T$27="%w/w DM",(((T$28*10)*($B$28/100))*$B37),IF(T$27="kg/t SAR",(T$28*$B37),IF(T$27="kg/t DM",((T$28*($B$28/100))*$B37),IF(T$27="mg/kg SAR",((T$28*0.001)*$B37),IF(T$27="mg/kg DM",(((T$28*0.001)*($B$28/100))*$B37),0)))))) -> 0 | U37: =IF(U$27="%w/w SAR",((U$28*10)*$B37),IF(U$27="%w/w DM",(((U$28*10)*($B$28/100))*$B37),IF(U$27="kg/t SAR",(U$28*$B37),IF(U$27="kg/t DM",((U$28*($B$28/100))*$B37),IF(U$27="mg/kg SAR",((U$28*0.001)*$B37),IF(U$27="mg/kg DM",(((U$28*0.001)*($B$28/100))*$B37),0)))))) -> 0
A38: =J8 -> 8 | B38: 45 | C38: =IF(C$27="%w/w SAR",((C$28*10)*$B38),IF(C$27="%w/w DM",(((C$28*10)*($B$28/100))*$B38),IF(C$27="kg/t SAR",(C$28*$B38),IF(C$27="kg/t DM",((C$28*($B$28/100))*$B38),IF(C$27="mg/kg SAR",((C$28*0.001)*$B38),IF(C$27="mg/kg DM",(((C$28*0.001)*($B$28/100))*$B38),0)))))) -> 99 | D38: =(IF(D$27="%w/w SAR",((D$28*10)*$B38),IF(D$27="%w/w DM",(((D$28*10)*($B$28/100))*$B38),IF(D$27="kg/t SAR",(D$28*$B38),IF(D$27="kg/t DM",((D$28*($B$28/100))*$B38),IF(D$27="mg/kg SAR",((D$28*0.001)*$B38),IF(D$27="mg/kg DM",(((D$28*0.001)*($B$28/100))*$B38),"0")))))))*2.291 -> 54.22797 | E38: =(IF(E$27="%w/w SAR",((E$28*10)*$B38),IF(E$27="%w/w DM",(((E$28*10)*($B$28/100))*$B38),IF(E$27="kg/t SAR",(E$28*$B38),IF(E$27="kg/t DM",((E$28*($B$28/100))*$B38),IF(E$27="mg/kg SAR",((E$28*0.001)*$B38),IF(E$27="mg/kg DM",(((E$28*0.001)*($B$28/100))*$B38),"0")))))))*1.205 -> 11.60415 | F38: =(IF(F$27="%w/w SAR",((F$28*10)*$B38),IF(F$27="%w/w DM",(((F$28*10)*($B$28/100))*$B38),IF(F$27="kg/t SAR",(F$28*$B38),IF(F$27="kg/t DM",((F$28*($B$28/100))*$B38),IF(F$27="mg/kg SAR",((F$28*0.001)*$B38),IF(F$27="mg/kg DM",(((F$28*0.001)*($B$28/100))*$B38),"0")))))))*1.658 -> 6.86412 | G38: =IF(G$27="%w/w SAR",((G$28*10)*$B38),IF(G$27="%w/w DM",(((G$28*10)*($B$28/100))*$B38),IF(G$27="kg/t SAR",(G$28*$B38),IF(G$27="kg/t DM",((G$28*($B$28/100))*$B38),IF(G$27="mg/kg SAR",((G$28*0.001)*$B38),IF(G$27="mg/kg DM",(((G$28*0.001)*($B$28/100))*$B38),0)))))) -> 0.0441 | H38: =IF(H$27="%w/w SAR",((H$28*10)*$B38),IF(H$27="%w/w DM",(((H$28*10)*($B$28/100))*$B38),IF(H$27="kg/t SAR",(H$28*$B38),IF(H$27="kg/t DM",((H$28*($B$28/100))*$B38),IF(H$27="mg/kg SAR",((H$28*0.001)*$B38),IF(H$27="mg/kg DM",(((H$28*0.001)*($B$28/100))*$B38),0)))))) -> 0.4995 | I38: =IF(I$27="%w/w SAR",((I$28*10)*$B38),IF(I$27="%w/w DM",(((I$28*10)*($B$28/100))*$B38),IF(I$27="kg/t SAR",(I$28*$B38),IF(I$27="kg/t DM",((I$28*($B$28/100))*$B38),IF(I$27="mg/kg SAR",((I$28*0.001)*$B38),IF(I$27="mg/kg DM",(((I$28*0.001)*($B$28/100))*$B38),0)))))) -> 0.0225 | J38: =IF(J$27="%w/w SAR",((J$28*10)*$B38),IF(J$27="%w/w DM",(((J$28*10)*($B$28/100))*$B38),IF(J$27="kg/t SAR",(J$28*$B38),IF(J$27="kg/t DM",((J$28*($B$28/100))*$B38),IF(J$27="mg/kg SAR",((J$28*0.001)*$B38),IF(J$27="mg/kg DM",(((J$28*0.001)*($B$28/100))*$B38),0)))))) -> 0.00045 | K38: =IF(K$27="%w/w SAR",((K$28*10)*$B38),IF(K$27="%w/w DM",(((K$28*10)*($B$28/100))*$B38),IF(K$27="kg/t SAR",(K$28*$B38),IF(K$27="kg/t DM",((K$28*($B$28/100))*$B38),IF(K$27="mg/kg SAR",((K$28*0.001)*$B38),IF(K$27="mg/kg DM",(((K$28*0.001)*($B$28/100))*$B38),0)))))) -> 0.00225 | L38: =IF(L$27="%w/w SAR",((L$28*10)*$B38),IF(L$27="%w/w DM",(((L$28*10)*($B$28/100))*$B38),IF(L$27="kg/t SAR",(L$28*$B38),IF(L$27="kg/t DM",((L$28*($B$28/100))*$B38),IF(L$27="mg/kg SAR",((L$28*0.001)*$B38),IF(L$27="mg/kg DM",(((L$28*0.001)*($B$28/100))*$B38),0)))))) -> 0.029385 | M38: =IF(M$27="%w/w SAR",((M$28*10)*$B38),IF(M$27="%w/w DM",(((M$28*10)*($B$28/100))*$B38),IF(M$27="kg/t SAR",(M$28*$B38),IF(M$27="kg/t DM",((M$28*($B$28/100))*$B38),IF(M$27="mg/kg SAR",((M$28*0.001)*$B38),IF(M$27="mg/kg DM",(((M$28*0.001)*($B$28/100))*$B38),0)))))) -> 0.22995 | N38: =IF(N$27="%w/w SAR",((N$28*10)*$B38),IF(N$27="%w/w DM",(((N$28*10)*($B$28/100))*$B38),IF(N$27="kg/t SAR",(N$28*$B38),IF(N$27="kg/t DM",((N$28*($B$28/100))*$B38),IF(N$27="mg/kg SAR",((N$28*0.001)*$B38),IF(N$27="mg/kg DM",(((N$28*0.001)*($B$28/100))*$B38),0)))))) -> 0 | ... P38: =IF(P$27="%w/w SAR",((P$28*10)*$B38),IF(P$27="%w/w DM",(((P$28*10)*($B$28/100))*$B38),IF(P$27="kg/t SAR",(P$28*$B38),IF(P$27="kg/t DM",((P$28*($B$28/100))*$B38),IF(P$27="mg/kg SAR",((P$28*0.001)*$B38),IF(P$27="mg/kg DM",(((P$28*0.001)*($B$28/100))*$B38),0)))))) -> 196.785 | Q38: =(IF(Q$27="%w/w SAR",((Q$28*10)*$B38),IF(Q$27="%w/w DM",(((Q$28*10)*($B$28/100))*$B38),IF(Q$27="kg/t SAR",(Q$28*$B38),IF(Q$27="kg/t DM",((Q$28*($B$28/100))*$B38),IF(Q$27="mg/kg SAR",((Q$28*0.001)*$B38),IF(Q$27="mg/kg DM",(((Q$28*0.001)*($B$28/100))*$B38),0)))))))*2.5 -> 491.9625 | R38: =IF(R$27="%w/w SAR",((R$28*10)*$B38),IF(R$27="%w/w DM",(((R$28*10)*($B$28/100))*$B38),IF(R$27="kg/t SAR",(R$28*$B38),IF(R$27="kg/t DM",((R$28*($B$28/100))*$B38),IF(R$27="mg/kg SAR",((R$28*0.001)*$B38),IF(R$27="mg/kg DM",(((R$28*0.001)*($B$28/100))*$B38),0)))))) -> 0 | S38: =IF(S$27="%w/w SAR",((S$28*10)*$B38),IF(S$27="%w/w DM",(((S$28*10)*($B$28/100))*$B38),IF(S$27="kg/t SAR",(S$28*$B38),IF(S$27="kg/t DM",((S$28*($B$28/100))*$B38),IF(S$27="mg/kg SAR",((S$28*0.001)*$B38),IF(S$27="mg/kg DM",(((S$28*0.001)*($B$28/100))*$B38),0)))))) -> 0 | T38: =IF(T$27="%w/w SAR",((T$28*10)*$B38),IF(T$27="%w/w DM",(((T$28*10)*($B$28/100))*$B38),IF(T$27="kg/t SAR",(T$28*$B38),IF(T$27="kg/t DM",((T$28*($B$28/100))*$B38),IF(T$27="mg/kg SAR",((T$28*0.001)*$B38),IF(T$27="mg/kg DM",(((T$28*0.001)*($B$28/100))*$B38),0)))))) -> 0 | U38: =IF(U$27="%w/w SAR",((U$28*10)*$B38),IF(U$27="%w/w DM",(((U$28*10)*($B$28/100))*$B38),IF(U$27="kg/t SAR",(U$28*$B38),IF(U$27="kg/t DM",((U$28*($B$28/100))*$B38),IF(U$27="mg/kg SAR",((U$28*0.001)*$B38),IF(U$27="mg/kg DM",(((U$28*0.001)*($B$28/100))*$B38),0)))))) -> 0
A39: =K8 -> 9 | B39: 45 | C39: =IF(C$27="%w/w SAR",((C$28*10)*$B39),IF(C$27="%w/w DM",(((C$28*10)*($B$28/100))*$B39),IF(C$27="kg/t SAR",(C$28*$B39),IF(C$27="kg/t DM",((C$28*($B$28/100))*$B39),IF(C$27="mg/kg SAR",((C$28*0.001)*$B39),IF(C$27="mg/kg DM",(((C$28*0.001)*($B$28/100))*$B39),0)))))) -> 99 | D39: =(IF(D$27="%w/w SAR",((D$28*10)*$B39),IF(D$27="%w/w DM",(((D$28*10)*($B$28/100))*$B39),IF(D$27="kg/t SAR",(D$28*$B39),IF(D$27="kg/t DM",((D$28*($B$28/100))*$B39),IF(D$27="mg/kg SAR",((D$28*0.001)*$B39),IF(D$27="mg/kg DM",(((D$28*0.001)*($B$28/100))*$B39),"0")))))))*2.291 -> 54.22797 | E39: =(IF(E$27="%w/w SAR",((E$28*10)*$B39),IF(E$27="%w/w DM",(((E$28*10)*($B$28/100))*$B39),IF(E$27="kg/t SAR",(E$28*$B39),IF(E$27="kg/t DM",((E$28*($B$28/100))*$B39),IF(E$27="mg/kg SAR",((E$28*0.001)*$B39),IF(E$27="mg/kg DM",(((E$28*0.001)*($B$28/100))*$B39),"0")))))))*1.205 -> 11.60415 | F39: =(IF(F$27="%w/w SAR",((F$28*10)*$B39),IF(F$27="%w/w DM",(((F$28*10)*($B$28/100))*$B39),IF(F$27="kg/t SAR",(F$28*$B39),IF(F$27="kg/t DM",((F$28*($B$28/100))*$B39),IF(F$27="mg/kg SAR",((F$28*0.001)*$B39),IF(F$27="mg/kg DM",(((F$28*0.001)*($B$28/100))*$B39),"0")))))))*1.658 -> 6.86412 | G39: =IF(G$27="%w/w SAR",((G$28*10)*$B39),IF(G$27="%w/w DM",(((G$28*10)*($B$28/100))*$B39),IF(G$27="kg/t SAR",(G$28*$B39),IF(G$27="kg/t DM",((G$28*($B$28/100))*$B39),IF(G$27="mg/kg SAR",((G$28*0.001)*$B39),IF(G$27="mg/kg DM",(((G$28*0.001)*($B$28/100))*$B39),0)))))) -> 0.0441 | H39: =IF(H$27="%w/w SAR",((H$28*10)*$B39),IF(H$27="%w/w DM",(((H$28*10)*($B$28/100))*$B39),IF(H$27="kg/t SAR",(H$28*$B39),IF(H$27="kg/t DM",((H$28*($B$28/100))*$B39),IF(H$27="mg/kg SAR",((H$28*0.001)*$B39),IF(H$27="mg/kg DM",(((H$28*0.001)*($B$28/100))*$B39),0)))))) -> 0.4995 | I39: =IF(I$27="%w/w SAR",((I$28*10)*$B39),IF(I$27="%w/w DM",(((I$28*10)*($B$28/100))*$B39),IF(I$27="kg/t SAR",(I$28*$B39),IF(I$27="kg/t DM",((I$28*($B$28/100))*$B39),IF(I$27="mg/kg SAR",((I$28*0.001)*$B39),IF(I$27="mg/kg DM",(((I$28*0.001)*($B$28/100))*$B39),0)))))) -> 0.0225 | J39: =IF(J$27="%w/w SAR",((J$28*10)*$B39),IF(J$27="%w/w DM",(((J$28*10)*($B$28/100))*$B39),IF(J$27="kg/t SAR",(J$28*$B39),IF(J$27="kg/t DM",((J$28*($B$28/100))*$B39),IF(J$27="mg/kg SAR",((J$28*0.001)*$B39),IF(J$27="mg/kg DM",(((J$28*0.001)*($B$28/100))*$B39),0)))))) -> 0.00045 | K39: =IF(K$27="%w/w SAR",((K$28*10)*$B39),IF(K$27="%w/w DM",(((K$28*10)*($B$28/100))*$B39),IF(K$27="kg/t SAR",(K$28*$B39),IF(K$27="kg/t DM",((K$28*($B$28/100))*$B39),IF(K$27="mg/kg SAR",((K$28*0.001)*$B39),IF(K$27="mg/kg DM",(((K$28*0.001)*($B$28/100))*$B39),0)))))) -> 0.00225 | L39: =IF(L$27="%w/w SAR",((L$28*10)*$B39),IF(L$27="%w/w DM",(((L$28*10)*($B$28/100))*$B39),IF(L$27="kg/t SAR",(L$28*$B39),IF(L$27="kg/t DM",((L$28*($B$28/100))*$B39),IF(L$27="mg/kg SAR",((L$28*0.001)*$B39),IF(L$27="mg/kg DM",(((L$28*0.001)*($B$28/100))*$B39),0)))))) -> 0.029385 | M39: =IF(M$27="%w/w SAR",((M$28*10)*$B39),IF(M$27="%w/w DM",(((M$28*10)*($B$28/100))*$B39),IF(M$27="kg/t SAR",(M$28*$B39),IF(M$27="kg/t DM",((M$28*($B$28/100))*$B39),IF(M$27="mg/kg SAR",((M$28*0.001)*$B39),IF(M$27="mg/kg DM",(((M$28*0.001)*($B$28/100))*$B39),0)))))) -> 0.22995 | N39: =IF(N$27="%w/w SAR",((N$28*10)*$B39),IF(N$27="%w/w DM",(((N$28*10)*($B$28/100))*$B39),IF(N$27="kg/t SAR",(N$28*$B39),IF(N$27="kg/t DM",((N$28*($B$28/100))*$B39),IF(N$27="mg/kg SAR",((N$28*0.001)*$B39),IF(N$27="mg/kg DM",(((N$28*0.001)*($B$28/100))*$B39),0)))))) -> 0 | ... P39: =IF(P$27="%w/w SAR",((P$28*10)*$B39),IF(P$27="%w/w DM",(((P$28*10)*($B$28/100))*$B39),IF(P$27="kg/t SAR",(P$28*$B39),IF(P$27="kg/t DM",((P$28*($B$28/100))*$B39),IF(P$27="mg/kg SAR",((P$28*0.001)*$B39),IF(P$27="mg/kg DM",(((P$28*0.001)*($B$28/100))*$B39),0)))))) -> 196.785 | Q39: =(IF(Q$27="%w/w SAR",((Q$28*10)*$B39),IF(Q$27="%w/w DM",(((Q$28*10)*($B$28/100))*$B39),IF(Q$27="kg/t SAR",(Q$28*$B39),IF(Q$27="kg/t DM",((Q$28*($B$28/100))*$B39),IF(Q$27="mg/kg SAR",((Q$28*0.001)*$B39),IF(Q$27="mg/kg DM",(((Q$28*0.001)*($B$28/100))*$B39),0)))))))*2.5 -> 491.9625 | R39: =IF(R$27="%w/w SAR",((R$28*10)*$B39),IF(R$27="%w/w DM",(((R$28*10)*($B$28/100))*$B39),IF(R$27="kg/t SAR",(R$28*$B39),IF(R$27="kg/t DM",((R$28*($B$28/100))*$B39),IF(R$27="mg/kg SAR",((R$28*0.001)*$B39),IF(R$27="mg/kg DM",(((R$28*0.001)*($B$28/100))*$B39),0)))))) -> 0 | S39: =IF(S$27="%w/w SAR",((S$28*10)*$B39),IF(S$27="%w/w DM",(((S$28*10)*($B$28/100))*$B39),IF(S$27="kg/t SAR",(S$28*$B39),IF(S$27="kg/t DM",((S$28*($B$28/100))*$B39),IF(S$27="mg/kg SAR",((S$28*0.001)*$B39),IF(S$27="mg/kg DM",(((S$28*0.001)*($B$28/100))*$B39),0)))))) -> 0 | T39: =IF(T$27="%w/w SAR",((T$28*10)*$B39),IF(T$27="%w/w DM",(((T$28*10)*($B$28/100))*$B39),IF(T$27="kg/t SAR",(T$28*$B39),IF(T$27="kg/t DM",((T$28*($B$28/100))*$B39),IF(T$27="mg/kg SAR",((T$28*0.001)*$B39),IF(T$27="mg/kg DM",(((T$28*0.001)*($B$28/100))*$B39),0)))))) -> 0 | U39: =IF(U$27="%w/w SAR",((U$28*10)*$B39),IF(U$27="%w/w DM",(((U$28*10)*($B$28/100))*$B39),IF(U$27="kg/t SAR",(U$28*$B39),IF(U$27="kg/t DM",((U$28*($B$28/100))*$B39),IF(U$27="mg/kg SAR",((U$28*0.001)*$B39),IF(U$27="mg/kg DM",(((U$28*0.001)*($B$28/100))*$B39),0)))))) -> 0
A40: =L8 -> 10 | B40: 45 | C40: =IF(C$27="%w/w SAR",((C$28*10)*$B40),IF(C$27="%w/w DM",(((C$28*10)*($B$28/100))*$B40),IF(C$27="kg/t SAR",(C$28*$B40),IF(C$27="kg/t DM",((C$28*($B$28/100))*$B40),IF(C$27="mg/kg SAR",((C$28*0.001)*$B40),IF(C$27="mg/kg DM",(((C$28*0.001)*($B$28/100))*$B40),0)))))) -> 99 | D40: =(IF(D$27="%w/w SAR",((D$28*10)*$B40),IF(D$27="%w/w DM",(((D$28*10)*($B$28/100))*$B40),IF(D$27="kg/t SAR",(D$28*$B40),IF(D$27="kg/t DM",((D$28*($B$28/100))*$B40),IF(D$27="mg/kg SAR",((D$28*0.001)*$B40),IF(D$27="mg/kg DM",(((D$28*0.001)*($B$28/100))*$B40),"0")))))))*2.291 -> 54.22797 | E40: =(IF(E$27="%w/w SAR",((E$28*10)*$B40),IF(E$27="%w/w DM",(((E$28*10)*($B$28/100))*$B40),IF(E$27="kg/t SAR",(E$28*$B40),IF(E$27="kg/t DM",((E$28*($B$28/100))*$B40),IF(E$27="mg/kg SAR",((E$28*0.001)*$B40),IF(E$27="mg/kg DM",(((E$28*0.001)*($B$28/100))*$B40),"0")))))))*1.205 -> 11.60415 | F40: =(IF(F$27="%w/w SAR",((F$28*10)*$B40),IF(F$27="%w/w DM",(((F$28*10)*($B$28/100))*$B40),IF(F$27="kg/t SAR",(F$28*$B40),IF(F$27="kg/t DM",((F$28*($B$28/100))*$B40),IF(F$27="mg/kg SAR",((F$28*0.001)*$B40),IF(F$27="mg/kg DM",(((F$28*0.001)*($B$28/100))*$B40),"0")))))))*1.658 -> 6.86412 | G40: =IF(G$27="%w/w SAR",((G$28*10)*$B40),IF(G$27="%w/w DM",(((G$28*10)*($B$28/100))*$B40),IF(G$27="kg/t SAR",(G$28*$B40),IF(G$27="kg/t DM",((G$28*($B$28/100))*$B40),IF(G$27="mg/kg SAR",((G$28*0.001)*$B40),IF(G$27="mg/kg DM",(((G$28*0.001)*($B$28/100))*$B40),0)))))) -> 0.0441 | H40: =IF(H$27="%w/w SAR",((H$28*10)*$B40),IF(H$27="%w/w DM",(((H$28*10)*($B$28/100))*$B40),IF(H$27="kg/t SAR",(H$28*$B40),IF(H$27="kg/t DM",((H$28*($B$28/100))*$B40),IF(H$27="mg/kg SAR",((H$28*0.001)*$B40),IF(H$27="mg/kg DM",(((H$28*0.001)*($B$28/100))*$B40),0)))))) -> 0.4995 | I40: =IF(I$27="%w/w SAR",((I$28*10)*$B40),IF(I$27="%w/w DM",(((I$28*10)*($B$28/100))*$B40),IF(I$27="kg/t SAR",(I$28*$B40),IF(I$27="kg/t DM",((I$28*($B$28/100))*$B40),IF(I$27="mg/kg SAR",((I$28*0.001)*$B40),IF(I$27="mg/kg DM",(((I$28*0.001)*($B$28/100))*$B40),0)))))) -> 0.0225 | J40: =IF(J$27="%w/w SAR",((J$28*10)*$B40),IF(J$27="%w/w DM",(((J$28*10)*($B$28/100))*$B40),IF(J$27="kg/t SAR",(J$28*$B40),IF(J$27="kg/t DM",((J$28*($B$28/100))*$B40),IF(J$27="mg/kg SAR",((J$28*0.001)*$B40),IF(J$27="mg/kg DM",(((J$28*0.001)*($B$28/100))*$B40),0)))))) -> 0.00045 | K40: =IF(K$27="%w/w SAR",((K$28*10)*$B40),IF(K$27="%w/w DM",(((K$28*10)*($B$28/100))*$B40),IF(K$27="kg/t SAR",(K$28*$B40),IF(K$27="kg/t DM",((K$28*($B$28/100))*$B40),IF(K$27="mg/kg SAR",((K$28*0.001)*$B40),IF(K$27="mg/kg DM",(((K$28*0.001)*($B$28/100))*$B40),0)))))) -> 0.00225 | L40: =IF(L$27="%w/w SAR",((L$28*10)*$B40),IF(L$27="%w/w DM",(((L$28*10)*($B$28/100))*$B40),IF(L$27="kg/t SAR",(L$28*$B40),IF(L$27="kg/t DM",((L$28*($B$28/100))*$B40),IF(L$27="mg/kg SAR",((L$28*0.001)*$B40),IF(L$27="mg/kg DM",(((L$28*0.001)*($B$28/100))*$B40),0)))))) -> 0.029385 | M40: =IF(M$27="%w/w SAR",((M$28*10)*$B40),IF(M$27="%w/w DM",(((M$28*10)*($B$28/100))*$B40),IF(M$27="kg/t SAR",(M$28*$B40),IF(M$27="kg/t DM",((M$28*($B$28/100))*$B40),IF(M$27="mg/kg SAR",((M$28*0.001)*$B40),IF(M$27="mg/kg DM",(((M$28*0.001)*($B$28/100))*$B40),0)))))) -> 0.22995 | N40: =IF(N$27="%w/w SAR",((N$28*10)*$B40),IF(N$27="%w/w DM",(((N$28*10)*($B$28/100))*$B40),IF(N$27="kg/t SAR",(N$28*$B40),IF(N$27="kg/t DM",((N$28*($B$28/100))*$B40),IF(N$27="mg/kg SAR",((N$28*0.001)*$B40),IF(N$27="mg/kg DM",(((N$28*0.001)*($B$28/100))*$B40),0)))))) -> 0 | ... P40: =IF(P$27="%w/w SAR",((P$28*10)*$B40),IF(P$27="%w/w DM",(((P$28*10)*($B$28/100))*$B40),IF(P$27="kg/t SAR",(P$28*$B40),IF(P$27="kg/t DM",((P$28*($B$28/100))*$B40),IF(P$27="mg/kg SAR",((P$28*0.001)*$B40),IF(P$27="mg/kg DM",(((P$28*0.001)*($B$28/100))*$B40),0)))))) -> 196.785 | Q40: =(IF(Q$27="%w/w SAR",((Q$28*10)*$B40),IF(Q$27="%w/w DM",(((Q$28*10)*($B$28/100))*$B40),IF(Q$27="kg/t SAR",(Q$28*$B40),IF(Q$27="kg/t DM",((Q$28*($B$28/100))*$B40),IF(Q$27="mg/kg SAR",((Q$28*0.001)*$B40),IF(Q$27="mg/kg DM",(((Q$28*0.001)*($B$28/100))*$B40),0)))))))*2.5 -> 491.9625 | R40: =IF(R$27="%w/w SAR",((R$28*10)*$B40),IF(R$27="%w/w DM",(((R$28*10)*($B$28/100))*$B40),IF(R$27="kg/t SAR",(R$28*$B40),IF(R$27="kg/t DM",((R$28*($B$28/100))*$B40),IF(R$27="mg/kg SAR",((R$28*0.001)*$B40),IF(R$27="mg/kg DM",(((R$28*0.001)*($B$28/100))*$B40),0)))))) -> 0 | S40: =IF(S$27="%w/w SAR",((S$28*10)*$B40),IF(S$27="%w/w DM",(((S$28*10)*($B$28/100))*$B40),IF(S$27="kg/t SAR",(S$28*$B40),IF(S$27="kg/t DM",((S$28*($B$28/100))*$B40),IF(S$27="mg/kg SAR",((S$28*0.001)*$B40),IF(S$27="mg/kg DM",(((S$28*0.001)*($B$28/100))*$B40),0)))))) -> 0 | T40: =IF(T$27="%w/w SAR",((T$28*10)*$B40),IF(T$27="%w/w DM",(((T$28*10)*($B$28/100))*$B40),IF(T$27="kg/t SAR",(T$28*$B40),IF(T$27="kg/t DM",((T$28*($B$28/100))*$B40),IF(T$27="mg/kg SAR",((T$28*0.001)*$B40),IF(T$27="mg/kg DM",(((T$28*0.001)*($B$28/100))*$B40),0)))))) -> 0 | U40: =IF(U$27="%w/w SAR",((U$28*10)*$B40),IF(U$27="%w/w DM",(((U$28*10)*($B$28/100))*$B40),IF(U$27="kg/t SAR",(U$28*$B40),IF(U$27="kg/t DM",((U$28*($B$28/100))*$B40),IF(U$27="mg/kg SAR",((U$28*0.001)*$B40),IF(U$27="mg/kg DM",(((U$28*0.001)*($B$28/100))*$B40),0)))))) -> 0
A41: =M8 -> 11 | B41: 37 | C41: =IF(C$27="%w/w SAR",((C$28*10)*$B41),IF(C$27="%w/w DM",(((C$28*10)*($B$28/100))*$B41),IF(C$27="kg/t SAR",(C$28*$B41),IF(C$27="kg/t DM",((C$28*($B$28/100))*$B41),IF(C$27="mg/kg SAR",((C$28*0.001)*$B41),IF(C$27="mg/kg DM",(((C$28*0.001)*($B$28/100))*$B41),0)))))) -> 81.4 | D41: =(IF(D$27="%w/w SAR",((D$28*10)*$B41),IF(D$27="%w/w DM",(((D$28*10)*($B$28/100))*$B41),IF(D$27="kg/t SAR",(D$28*$B41),IF(D$27="kg/t DM",((D$28*($B$28/100))*$B41),IF(D$27="mg/kg SAR",((D$28*0.001)*$B41),IF(D$27="mg/kg DM",(((D$28*0.001)*($B$28/100))*$B41),"0")))))))*2.291 -> 44.587442 | E41: =(IF(E$27="%w/w SAR",((E$28*10)*$B41),IF(E$27="%w/w DM",(((E$28*10)*($B$28/100))*$B41),IF(E$27="kg/t SAR",(E$28*$B41),IF(E$27="kg/t DM",((E$28*($B$28/100))*$B41),IF(E$27="mg/kg SAR",((E$28*0.001)*$B41),IF(E$27="mg/kg DM",(((E$28*0.001)*($B$28/100))*$B41),"0")))))))*1.205 -> 9.54119 | F41: =(IF(F$27="%w/w SAR",((F$28*10)*$B41),IF(F$27="%w/w DM",(((F$28*10)*($B$28/100))*$B41),IF(F$27="kg/t SAR",(F$28*$B41),IF(F$27="kg/t DM",((F$28*($B$28/100))*$B41),IF(F$27="mg/kg SAR",((F$28*0.001)*$B41),IF(F$27="mg/kg DM",(((F$28*0.001)*($B$28/100))*$B41),"0")))))))*1.658 -> 5.643832 | G41: =IF(G$27="%w/w SAR",((G$28*10)*$B41),IF(G$27="%w/w DM",(((G$28*10)*($B$28/100))*$B41),IF(G$27="kg/t SAR",(G$28*$B41),IF(G$27="kg/t DM",((G$28*($B$28/100))*$B41),IF(G$27="mg/kg SAR",((G$28*0.001)*$B41),IF(G$27="mg/kg DM",(((G$28*0.001)*($B$28/100))*$B41),0)))))) -> 0.03626 | H41: =IF(H$27="%w/w SAR",((H$28*10)*$B41),IF(H$27="%w/w DM",(((H$28*10)*($B$28/100))*$B41),IF(H$27="kg/t SAR",(H$28*$B41),IF(H$27="kg/t DM",((H$28*($B$28/100))*$B41),IF(H$27="mg/kg SAR",((H$28*0.001)*$B41),IF(H$27="mg/kg DM",(((H$28*0.001)*($B$28/100))*$B41),0)))))) -> 0.4107 | I41: =IF(I$27="%w/w SAR",((I$28*10)*$B41),IF(I$27="%w/w DM",(((I$28*10)*($B$28/100))*$B41),IF(I$27="kg/t SAR",(I$28*$B41),IF(I$27="kg/t DM",((I$28*($B$28/100))*$B41),IF(I$27="mg/kg SAR",((I$28*0.001)*$B41),IF(I$27="mg/kg DM",(((I$28*0.001)*($B$28/100))*$B41),0)))))) -> 0.0185 | J41: =IF(J$27="%w/w SAR",((J$28*10)*$B41),IF(J$27="%w/w DM",(((J$28*10)*($B$28/100))*$B41),IF(J$27="kg/t SAR",(J$28*$B41),IF(J$27="kg/t DM",((J$28*($B$28/100))*$B41),IF(J$27="mg/kg SAR",((J$28*0.001)*$B41),IF(J$27="mg/kg DM",(((J$28*0.001)*($B$28/100))*$B41),0)))))) -> 0.00037 | K41: =IF(K$27="%w/w SAR",((K$28*10)*$B41),IF(K$27="%w/w DM",(((K$28*10)*($B$28/100))*$B41),IF(K$27="kg/t SAR",(K$28*$B41),IF(K$27="kg/t DM",((K$28*($B$28/100))*$B41),IF(K$27="mg/kg SAR",((K$28*0.001)*$B41),IF(K$27="mg/kg DM",(((K$28*0.001)*($B$28/100))*$B41),0)))))) -> 0.00185 | L41: =IF(L$27="%w/w SAR",((L$28*10)*$B41),IF(L$27="%w/w DM",(((L$28*10)*($B$28/100))*$B41),IF(L$27="kg/t SAR",(L$28*$B41),IF(L$27="kg/t DM",((L$28*($B$28/100))*$B41),IF(L$27="mg/kg SAR",((L$28*0.001)*$B41),IF(L$27="mg/kg DM",(((L$28*0.001)*($B$28/100))*$B41),0)))))) -> 0.024161 | M41: =IF(M$27="%w/w SAR",((M$28*10)*$B41),IF(M$27="%w/w DM",(((M$28*10)*($B$28/100))*$B41),IF(M$27="kg/t SAR",(M$28*$B41),IF(M$27="kg/t DM",((M$28*($B$28/100))*$B41),IF(M$27="mg/kg SAR",((M$28*0.001)*$B41),IF(M$27="mg/kg DM",(((M$28*0.001)*($B$28/100))*$B41),0)))))) -> 0.18907 | N41: =IF(N$27="%w/w SAR",((N$28*10)*$B41),IF(N$27="%w/w DM",(((N$28*10)*($B$28/100))*$B41),IF(N$27="kg/t SAR",(N$28*$B41),IF(N$27="kg/t DM",((N$28*($B$28/100))*$B41),IF(N$27="mg/kg SAR",((N$28*0.001)*$B41),IF(N$27="mg/kg DM",(((N$28*0.001)*($B$28/100))*$B41),0)))))) -> 0 | ... P41: =IF(P$27="%w/w SAR",((P$28*10)*$B41),IF(P$27="%w/w DM",(((P$28*10)*($B$28/100))*$B41),IF(P$27="kg/t SAR",(P$28*$B41),IF(P$27="kg/t DM",((P$28*($B$28/100))*$B41),IF(P$27="mg/kg SAR",((P$28*0.001)*$B41),IF(P$27="mg/kg DM",(((P$28*0.001)*($B$28/100))*$B41),0)))))) -> 161.801 | Q41: =(IF(Q$27="%w/w SAR",((Q$28*10)*$B41),IF(Q$27="%w/w DM",(((Q$28*10)*($B$28/100))*$B41),IF(Q$27="kg/t SAR",(Q$28*$B41),IF(Q$27="kg/t DM",((Q$28*($B$28/100))*$B41),IF(Q$27="mg/kg SAR",((Q$28*0.001)*$B41),IF(Q$27="mg/kg DM",(((Q$28*0.001)*($B$28/100))*$B41),0)))))))*2.5 -> 404.5025 | R41: =IF(R$27="%w/w SAR",((R$28*10)*$B41),IF(R$27="%w/w DM",(((R$28*10)*($B$28/100))*$B41),IF(R$27="kg/t SAR",(R$28*$B41),IF(R$27="kg/t DM",((R$28*($B$28/100))*$B41),IF(R$27="mg/kg SAR",((R$28*0.001)*$B41),IF(R$27="mg/kg DM",(((R$28*0.001)*($B$28/100))*$B41),0)))))) -> 0 | S41: =IF(S$27="%w/w SAR",((S$28*10)*$B41),IF(S$27="%w/w DM",(((S$28*10)*($B$28/100))*$B41),IF(S$27="kg/t SAR",(S$28*$B41),IF(S$27="kg/t DM",((S$28*($B$28/100))*$B41),IF(S$27="mg/kg SAR",((S$28*0.001)*$B41),IF(S$27="mg/kg DM",(((S$28*0.001)*($B$28/100))*$B41),0)))))) -> 0 | T41: =IF(T$27="%w/w SAR",((T$28*10)*$B41),IF(T$27="%w/w DM",(((T$28*10)*($B$28/100))*$B41),IF(T$27="kg/t SAR",(T$28*$B41),IF(T$27="kg/t DM",((T$28*($B$28/100))*$B41),IF(T$27="mg/kg SAR",((T$28*0.001)*$B41),IF(T$27="mg/kg DM",(((T$28*0.001)*($B$28/100))*$B41),0)))))) -> 0 | U41: =IF(U$27="%w/w SAR",((U$28*10)*$B41),IF(U$27="%w/w DM",(((U$28*10)*($B$28/100))*$B41),IF(U$27="kg/t SAR",(U$28*$B41),IF(U$27="kg/t DM",((U$28*($B$28/100))*$B41),IF(U$27="mg/kg SAR",((U$28*0.001)*$B41),IF(U$27="mg/kg DM",(((U$28*0.001)*($B$28/100))*$B41),0)))))) -> 0
A42: =N8 -> 12 | B42: 37 | C42: =IF(C$27="%w/w SAR",((C$28*10)*$B42),IF(C$27="%w/w DM",(((C$28*10)*($B$28/100))*$B42),IF(C$27="kg/t SAR",(C$28*$B42),IF(C$27="kg/t DM",((C$28*($B$28/100))*$B42),IF(C$27="mg/kg SAR",((C$28*0.001)*$B42),IF(C$27="mg/kg DM",(((C$28*0.001)*($B$28/100))*$B42),0)))))) -> 81.4 | D42: =(IF(D$27="%w/w SAR",((D$28*10)*$B42),IF(D$27="%w/w DM",(((D$28*10)*($B$28/100))*$B42),IF(D$27="kg/t SAR",(D$28*$B42),IF(D$27="kg/t DM",((D$28*($B$28/100))*$B42),IF(D$27="mg/kg SAR",((D$28*0.001)*$B42),IF(D$27="mg/kg DM",(((D$28*0.001)*($B$28/100))*$B42),"0")))))))*2.291 -> 44.587442 | E42: =(IF(E$27="%w/w SAR",((E$28*10)*$B42),IF(E$27="%w/w DM",(((E$28*10)*($B$28/100))*$B42),IF(E$27="kg/t SAR",(E$28*$B42),IF(E$27="kg/t DM",((E$28*($B$28/100))*$B42),IF(E$27="mg/kg SAR",((E$28*0.001)*$B42),IF(E$27="mg/kg DM",(((E$28*0.001)*($B$28/100))*$B42),"0")))))))*1.205 -> 9.54119 | F42: =(IF(F$27="%w/w SAR",((F$28*10)*$B42),IF(F$27="%w/w DM",(((F$28*10)*($B$28/100))*$B42),IF(F$27="kg/t SAR",(F$28*$B42),IF(F$27="kg/t DM",((F$28*($B$28/100))*$B42),IF(F$27="mg/kg SAR",((F$28*0.001)*$B42),IF(F$27="mg/kg DM",(((F$28*0.001)*($B$28/100))*$B42),"0")))))))*1.658 -> 5.643832 | G42: =IF(G$27="%w/w SAR",((G$28*10)*$B42),IF(G$27="%w/w DM",(((G$28*10)*($B$28/100))*$B42),IF(G$27="kg/t SAR",(G$28*$B42),IF(G$27="kg/t DM",((G$28*($B$28/100))*$B42),IF(G$27="mg/kg SAR",((G$28*0.001)*$B42),IF(G$27="mg/kg DM",(((G$28*0.001)*($B$28/100))*$B42),0)))))) -> 0.03626 | H42: =IF(H$27="%w/w SAR",((H$28*10)*$B42),IF(H$27="%w/w DM",(((H$28*10)*($B$28/100))*$B42),IF(H$27="kg/t SAR",(H$28*$B42),IF(H$27="kg/t DM",((H$28*($B$28/100))*$B42),IF(H$27="mg/kg SAR",((H$28*0.001)*$B42),IF(H$27="mg/kg DM",(((H$28*0.001)*($B$28/100))*$B42),0)))))) -> 0.4107 | I42: =IF(I$27="%w/w SAR",((I$28*10)*$B42),IF(I$27="%w/w DM",(((I$28*10)*($B$28/100))*$B42),IF(I$27="kg/t SAR",(I$28*$B42),IF(I$27="kg/t DM",((I$28*($B$28/100))*$B42),IF(I$27="mg/kg SAR",((I$28*0.001)*$B42),IF(I$27="mg/kg DM",(((I$28*0.001)*($B$28/100))*$B42),0)))))) -> 0.0185 | J42: =IF(J$27="%w/w SAR",((J$28*10)*$B42),IF(J$27="%w/w DM",(((J$28*10)*($B$28/100))*$B42),IF(J$27="kg/t SAR",(J$28*$B42),IF(J$27="kg/t DM",((J$28*($B$28/100))*$B42),IF(J$27="mg/kg SAR",((J$28*0.001)*$B42),IF(J$27="mg/kg DM",(((J$28*0.001)*($B$28/100))*$B42),0)))))) -> 0.00037 | K42: =IF(K$27="%w/w SAR",((K$28*10)*$B42),IF(K$27="%w/w DM",(((K$28*10)*($B$28/100))*$B42),IF(K$27="kg/t SAR",(K$28*$B42),IF(K$27="kg/t DM",((K$28*($B$28/100))*$B42),IF(K$27="mg/kg SAR",((K$28*0.001)*$B42),IF(K$27="mg/kg DM",(((K$28*0.001)*($B$28/100))*$B42),0)))))) -> 0.00185 | L42: =IF(L$27="%w/w SAR",((L$28*10)*$B42),IF(L$27="%w/w DM",(((L$28*10)*($B$28/100))*$B42),IF(L$27="kg/t SAR",(L$28*$B42),IF(L$27="kg/t DM",((L$28*($B$28/100))*$B42),IF(L$27="mg/kg SAR",((L$28*0.001)*$B42),IF(L$27="mg/kg DM",(((L$28*0.001)*($B$28/100))*$B42),0)))))) -> 0.024161 | M42: =IF(M$27="%w/w SAR",((M$28*10)*$B42),IF(M$27="%w/w DM",(((M$28*10)*($B$28/100))*$B42),IF(M$27="kg/t SAR",(M$28*$B42),IF(M$27="kg/t DM",((M$28*($B$28/100))*$B42),IF(M$27="mg/kg SAR",((M$28*0.001)*$B42),IF(M$27="mg/kg DM",(((M$28*0.001)*($B$28/100))*$B42),0)))))) -> 0.18907 | N42: =IF(N$27="%w/w SAR",((N$28*10)*$B42),IF(N$27="%w/w DM",(((N$28*10)*($B$28/100))*$B42),IF(N$27="kg/t SAR",(N$28*$B42),IF(N$27="kg/t DM",((N$28*($B$28/100))*$B42),IF(N$27="mg/kg SAR",((N$28*0.001)*$B42),IF(N$27="mg/kg DM",(((N$28*0.001)*($B$28/100))*$B42),0)))))) -> 0 | ... P42: =IF(P$27="%w/w SAR",((P$28*10)*$B42),IF(P$27="%w/w DM",(((P$28*10)*($B$28/100))*$B42),IF(P$27="kg/t SAR",(P$28*$B42),IF(P$27="kg/t DM",((P$28*($B$28/100))*$B42),IF(P$27="mg/kg SAR",((P$28*0.001)*$B42),IF(P$27="mg/kg DM",(((P$28*0.001)*($B$28/100))*$B42),0)))))) -> 161.801 | Q42: =(IF(Q$27="%w/w SAR",((Q$28*10)*$B42),IF(Q$27="%w/w DM",(((Q$28*10)*($B$28/100))*$B42),IF(Q$27="kg/t SAR",(Q$28*$B42),IF(Q$27="kg/t DM",((Q$28*($B$28/100))*$B42),IF(Q$27="mg/kg SAR",((Q$28*0.001)*$B42),IF(Q$27="mg/kg DM",(((Q$28*0.001)*($B$28/100))*$B42),0)))))))*2.5 -> 404.5025 | R42: =IF(R$27="%w/w SAR",((R$28*10)*$B42),IF(R$27="%w/w DM",(((R$28*10)*($B$28/100))*$B42),IF(R$27="kg/t SAR",(R$28*$B42),IF(R$27="kg/t DM",((R$28*($B$28/100))*$B42),IF(R$27="mg/kg SAR",((R$28*0.001)*$B42),IF(R$27="mg/kg DM",(((R$28*0.001)*($B$28/100))*$B42),0)))))) -> 0 | S42: =IF(S$27="%w/w SAR",((S$28*10)*$B42),IF(S$27="%w/w DM",(((S$28*10)*($B$28/100))*$B42),IF(S$27="kg/t SAR",(S$28*$B42),IF(S$27="kg/t DM",((S$28*($B$28/100))*$B42),IF(S$27="mg/kg SAR",((S$28*0.001)*$B42),IF(S$27="mg/kg DM",(((S$28*0.001)*($B$28/100))*$B42),0)))))) -> 0 | T42: =IF(T$27="%w/w SAR",((T$28*10)*$B42),IF(T$27="%w/w DM",(((T$28*10)*($B$28/100))*$B42),IF(T$27="kg/t SAR",(T$28*$B42),IF(T$27="kg/t DM",((T$28*($B$28/100))*$B42),IF(T$27="mg/kg SAR",((T$28*0.001)*$B42),IF(T$27="mg/kg DM",(((T$28*0.001)*($B$28/100))*$B42),0)))))) -> 0 | U42: =IF(U$27="%w/w SAR",((U$28*10)*$B42),IF(U$27="%w/w DM",(((U$28*10)*($B$28/100))*$B42),IF(U$27="kg/t SAR",(U$28*$B42),IF(U$27="kg/t DM",((U$28*($B$28/100))*$B42),IF(U$27="mg/kg SAR",((U$28*0.001)*$B42),IF(U$27="mg/kg DM",(((U$28*0.001)*($B$28/100))*$B42),0)))))) -> 0
A43: =O8 -> 13 | B43: 37 | C43: =IF(C$27="%w/w SAR",((C$28*10)*$B43),IF(C$27="%w/w DM",(((C$28*10)*($B$28/100))*$B43),IF(C$27="kg/t SAR",(C$28*$B43),IF(C$27="kg/t DM",((C$28*($B$28/100))*$B43),IF(C$27="mg/kg SAR",((C$28*0.001)*$B43),IF(C$27="mg/kg DM",(((C$28*0.001)*($B$28/100))*$B43),0)))))) -> 81.4 | D43: =(IF(D$27="%w/w SAR",((D$28*10)*$B43),IF(D$27="%w/w DM",(((D$28*10)*($B$28/100))*$B43),IF(D$27="kg/t SAR",(D$28*$B43),IF(D$27="kg/t DM",((D$28*($B$28/100))*$B43),IF(D$27="mg/kg SAR",((D$28*0.001)*$B43),IF(D$27="mg/kg DM",(((D$28*0.001)*($B$28/100))*$B43),"0")))))))*2.291 -> 44.587442 | E43: =(IF(E$27="%w/w SAR",((E$28*10)*$B43),IF(E$27="%w/w DM",(((E$28*10)*($B$28/100))*$B43),IF(E$27="kg/t SAR",(E$28*$B43),IF(E$27="kg/t DM",((E$28*($B$28/100))*$B43),IF(E$27="mg/kg SAR",((E$28*0.001)*$B43),IF(E$27="mg/kg DM",(((E$28*0.001)*($B$28/100))*$B43),"0")))))))*1.205 -> 9.54119 | F43: =(IF(F$27="%w/w SAR",((F$28*10)*$B43),IF(F$27="%w/w DM",(((F$28*10)*($B$28/100))*$B43),IF(F$27="kg/t SAR",(F$28*$B43),IF(F$27="kg/t DM",((F$28*($B$28/100))*$B43),IF(F$27="mg/kg SAR",((F$28*0.001)*$B43),IF(F$27="mg/kg DM",(((F$28*0.001)*($B$28/100))*$B43),"0")))))))*1.658 -> 5.643832 | G43: =IF(G$27="%w/w SAR",((G$28*10)*$B43),IF(G$27="%w/w DM",(((G$28*10)*($B$28/100))*$B43),IF(G$27="kg/t SAR",(G$28*$B43),IF(G$27="kg/t DM",((G$28*($B$28/100))*$B43),IF(G$27="mg/kg SAR",((G$28*0.001)*$B43),IF(G$27="mg/kg DM",(((G$28*0.001)*($B$28/100))*$B43),0)))))) -> 0.03626 | H43: =IF(H$27="%w/w SAR",((H$28*10)*$B43),IF(H$27="%w/w DM",(((H$28*10)*($B$28/100))*$B43),IF(H$27="kg/t SAR",(H$28*$B43),IF(H$27="kg/t DM",((H$28*($B$28/100))*$B43),IF(H$27="mg/kg SAR",((H$28*0.001)*$B43),IF(H$27="mg/kg DM",(((H$28*0.001)*($B$28/100))*$B43),0)))))) -> 0.4107 | I43: =IF(I$27="%w/w SAR",((I$28*10)*$B43),IF(I$27="%w/w DM",(((I$28*10)*($B$28/100))*$B43),IF(I$27="kg/t SAR",(I$28*$B43),IF(I$27="kg/t DM",((I$28*($B$28/100))*$B43),IF(I$27="mg/kg SAR",((I$28*0.001)*$B43),IF(I$27="mg/kg DM",(((I$28*0.001)*($B$28/100))*$B43),0)))))) -> 0.0185 | J43: =IF(J$27="%w/w SAR",((J$28*10)*$B43),IF(J$27="%w/w DM",(((J$28*10)*($B$28/100))*$B43),IF(J$27="kg/t SAR",(J$28*$B43),IF(J$27="kg/t DM",((J$28*($B$28/100))*$B43),IF(J$27="mg/kg SAR",((J$28*0.001)*$B43),IF(J$27="mg/kg DM",(((J$28*0.001)*($B$28/100))*$B43),0)))))) -> 0.00037 | K43: =IF(K$27="%w/w SAR",((K$28*10)*$B43),IF(K$27="%w/w DM",(((K$28*10)*($B$28/100))*$B43),IF(K$27="kg/t SAR",(K$28*$B43),IF(K$27="kg/t DM",((K$28*($B$28/100))*$B43),IF(K$27="mg/kg SAR",((K$28*0.001)*$B43),IF(K$27="mg/kg DM",(((K$28*0.001)*($B$28/100))*$B43),0)))))) -> 0.00185 | L43: =IF(L$27="%w/w SAR",((L$28*10)*$B43),IF(L$27="%w/w DM",(((L$28*10)*($B$28/100))*$B43),IF(L$27="kg/t SAR",(L$28*$B43),IF(L$27="kg/t DM",((L$28*($B$28/100))*$B43),IF(L$27="mg/kg SAR",((L$28*0.001)*$B43),IF(L$27="mg/kg DM",(((L$28*0.001)*($B$28/100))*$B43),0)))))) -> 0.024161 | M43: =IF(M$27="%w/w SAR",((M$28*10)*$B43),IF(M$27="%w/w DM",(((M$28*10)*($B$28/100))*$B43),IF(M$27="kg/t SAR",(M$28*$B43),IF(M$27="kg/t DM",((M$28*($B$28/100))*$B43),IF(M$27="mg/kg SAR",((M$28*0.001)*$B43),IF(M$27="mg/kg DM",(((M$28*0.001)*($B$28/100))*$B43),0)))))) -> 0.18907 | N43: =IF(N$27="%w/w SAR",((N$28*10)*$B43),IF(N$27="%w/w DM",(((N$28*10)*($B$28/100))*$B43),IF(N$27="kg/t SAR",(N$28*$B43),IF(N$27="kg/t DM",((N$28*($B$28/100))*$B43),IF(N$27="mg/kg SAR",((N$28*0.001)*$B43),IF(N$27="mg/kg DM",(((N$28*0.001)*($B$28/100))*$B43),0)))))) -> 0 | ... P43: =IF(P$27="%w/w SAR",((P$28*10)*$B43),IF(P$27="%w/w DM",(((P$28*10)*($B$28/100))*$B43),IF(P$27="kg/t SAR",(P$28*$B43),IF(P$27="kg/t DM",((P$28*($B$28/100))*$B43),IF(P$27="mg/kg SAR",((P$28*0.001)*$B43),IF(P$27="mg/kg DM",(((P$28*0.001)*($B$28/100))*$B43),0)))))) -> 161.801 | Q43: =(IF(Q$27="%w/w SAR",((Q$28*10)*$B43),IF(Q$27="%w/w DM",(((Q$28*10)*($B$28/100))*$B43),IF(Q$27="kg/t SAR",(Q$28*$B43),IF(Q$27="kg/t DM",((Q$28*($B$28/100))*$B43),IF(Q$27="mg/kg SAR",((Q$28*0.001)*$B43),IF(Q$27="mg/kg DM",(((Q$28*0.001)*($B$28/100))*$B43),0)))))))*2.5 -> 404.5025 | R43: =IF(R$27="%w/w SAR",((R$28*10)*$B43),IF(R$27="%w/w DM",(((R$28*10)*($B$28/100))*$B43),IF(R$27="kg/t SAR",(R$28*$B43),IF(R$27="kg/t DM",((R$28*($B$28/100))*$B43),IF(R$27="mg/kg SAR",((R$28*0.001)*$B43),IF(R$27="mg/kg DM",(((R$28*0.001)*($B$28/100))*$B43),0)))))) -> 0 | S43: =IF(S$27="%w/w SAR",((S$28*10)*$B43),IF(S$27="%w/w DM",(((S$28*10)*($B$28/100))*$B43),IF(S$27="kg/t SAR",(S$28*$B43),IF(S$27="kg/t DM",((S$28*($B$28/100))*$B43),IF(S$27="mg/kg SAR",((S$28*0.001)*$B43),IF(S$27="mg/kg DM",(((S$28*0.001)*($B$28/100))*$B43),0)))))) -> 0 | T43: =IF(T$27="%w/w SAR",((T$28*10)*$B43),IF(T$27="%w/w DM",(((T$28*10)*($B$28/100))*$B43),IF(T$27="kg/t SAR",(T$28*$B43),IF(T$27="kg/t DM",((T$28*($B$28/100))*$B43),IF(T$27="mg/kg SAR",((T$28*0.001)*$B43),IF(T$27="mg/kg DM",(((T$28*0.001)*($B$28/100))*$B43),0)))))) -> 0 | U43: =IF(U$27="%w/w SAR",((U$28*10)*$B43),IF(U$27="%w/w DM",(((U$28*10)*($B$28/100))*$B43),IF(U$27="kg/t SAR",(U$28*$B43),IF(U$27="kg/t DM",((U$28*($B$28/100))*$B43),IF(U$27="mg/kg SAR",((U$28*0.001)*$B43),IF(U$27="mg/kg DM",(((U$28*0.001)*($B$28/100))*$B43),0)))))) -> 0
