Workbook

Sheet DAF Sludge Cake
A1: PAN reference | C1: PAN-017546 | E1: Total spread area | F1: 44.2 | G1: Waste pH | I1: 7.32 | J1: Ammonium Nitrogen (mg/kg) | L1: 15760 | AD1: Choose | AI1: Crop | AJ1: P Offtake | AK1: K Offtake | AL1: Order | AM1: Lime pH requirement | AN1: Column1
A2: Permit reference | C2: EPR-GP3792SK | E2: Waste type EWC | F2: 02 02 04 | G2: Conductivity µS/cm (limit 5000 µS/cm) | I2: 1916 | J2: Total Nitrogen (% w/w) | L2: 5.92 | AB2: %w/w SAR | AD2: Sandy | AG2: Solid | AI2: Choose | AJ2: 0 | AK2: 0 | AL2: 0 | AM2: 0 | AN2: 0
A3: Operator | C3: Byproduct | E3: Waste physical form | F3: Sludge Cake | G3: Fats & Oils (mg/kg) (limit 40,000 mg/kg or 4%) | I3: 6085 | J3: Readily available nitrogen content % | L3: =(L1/(L2*10000))*100 -> 26.621622 | AB3: %w/w DM | AD3: Sandy Loam | AG3: Liquid | AI3: Grass Silage (25% DM) | AJ3: 1.7 | AK3: 6 | AL3: 1 | AM3: 6.2 | AN3: Grass
A4: Farm Address | C4: Bwlchmawr farm, Brynteg, Llanybydder, Carmarthenshire SA40 9XA | E4: Waste Ref/Name | F4: Dunbia Daf Cake Sludge | AB4: kg/t SAR | AD4: Medium/Clay | AG4: Sludge | AI4: Winter wheat- grain & straw | AJ4: 7 | AK4: 10.5 | AL4: 2 | AM4: 6.7 | AN4: Arable
A5: Assessed By | C5: Ethan Banfield | AB5: kg/t DM | AD5: Organic | AG5: Sludge Cake | AI5: Winter wheat- grain only | AJ5: 6.5 | AK5: 5.5 | AL5: 3 | AM5: 6.7 | AN5: Arable
AB6: mg/kg SAR | AD6: Peat | AI6: Spring wheat/barley | AJ6: 8.5 | AK6: 12 | AL6: 4 | AM6: 6.7 | AN6: Arable
A7: Field number | C7: 1 | D7: 2 | E7: 3 | F7: 4 | G7: 5 | H7: 6 | I7: 7 | J7: 8 | K7: 9 | L7: 10 | M7: 11 | N7: 12 | O7: 13 | P7: 14 | Q7: 15 | R7: 16 | S7: 17 | T7: 18 | U7: 19 | V7: 20 | AB7: mg/kg DM | AI7: Winter barley/triticale/rye | AJ7: 8.5 | AK7: 10.5 | AL7: 5 | AM7: 6.7 | AN7: Arable
A8: Field Ref | C8: 5569 | D8: 6858 | E8: 8153 | F8: 9748 | G8: 1057 | H8: 3854 | I8: 6042 | J8: 2345 | K8: 9808 | L8: 1325 | M8: 4105 | N8: 6810 | O8: 8614 | P8: 4289 | Q8: 3901 | AE8: lime pH | AI8: Maize- Silage (30% DM) | AJ8: 1.4 | AK8: 4.4 | AL8: 6 | AM8: 6.7 | AN8: Arable
A9: SNS Index | C9: Moderate | D9: Moderate | E9: Moderate | F9: Moderate | G9: Moderate | H9: Moderate | I9: Moderate | J9: Moderate | M9: Moderate | N9: Moderate | O9: Moderate | P9: Moderate | Q9: Moderate | AD9: Sandy I Grass | AE9: 4.5 | AI9: Fodder beet (roots only) | AJ9: 0.7 | AK9: 4 | AL9: 7 | AM9: 6.7 | AN9: Arable
A10: Field pH | C10: 5.7 | D10: 6 | E10: 5.7 | F10: 5.6 | G10: 5.7 | H10: 5.7 | I10: 5.9 | J10: 5.8 | M10: 6.2 | N10: 6.2 | O10: 7 | P10: 5.2 | Q10: 5 | AD10: Sandy Loam I Grass | AE10: 5 | AI10: Oats | AJ10: 9 | AK10: 16.5 | AL10: 8 | AM10: 6.7 | AN10: Arable
A11: Phosphorus Index | C11: 2 | D11: 2 | E11: 2 | F11: 1 | G11: 2 | H11: 3 | I11: 2 | J11: 3 | M11: 2 | N11: 2 | O11: 3 | P11: 1 | Q11: 1 | AD11: Medium/Clay I Grass | AE11: 6 | AI11: Oilseed rape- seed & straw | AJ11: 15 | AK11: 17.5 | AL11: 9 | AM11: 7 | AN11: Arable
A12: Potassium Index | C12: 1 | D12: 0 | E12: 0 | F12: 2 | G12: 1 | H12: 1 | I12: 1 | J12: 1 | M12: 1 | N12: 0 | O12: 0 | P12: 1 | Q12: 1 | AD12: Organic I Grass | AE12: 7.5 | AI12: Oilseed rape- seed only | AJ12: 14 | AK12: 11 | AL12: 10 | AM12: 7 | AN12: Arable
A13: Magnesium Index | C13: 2 | D13: 3 | E13: 2 | F13: 2 | G13: 2 | H13: 2 | I13: 2 | J13: 2 | M13: 3 | N13: 2 | O13: 3 | P13: 2 | Q13: 3 | AD13: Peat I Grass | AE13: 12 | AI13: Sugar beet- roots & tops | AJ13: 1.9 | AK13: 7.5 | AL13: 11 | AM13: 6.7 | AN13: Arable
A14: Benefiting Crop | C14: Grass Silage (25% DM) | D14: Grass Silage (25% DM) | E14: Grass Silage (25% DM) | F14: Grass Silage (25% DM) | G14: Grass Silage (25% DM) | H14: Grass Silage (25% DM) | I14: Grass Silage (25% DM) | J14: Grass Silage (25% DM) | M14: Grass Silage (25% DM) | N14: Grass Silage (25% DM) | O14: Grass Silage (25% DM) | P14: Grass Silage (25% DM) | Q14: Grass Silage (25% DM) | AD14: Sandy I Arable | AE14: 6 | AI14: Sugar beet- roots only | AJ14: 0.8 | AK14: 1.7 | AL14: 12 | AM14: 6.7 | AN14: Arable
A15: Expected Yield | C15: 38 | D15: 38 | E15: 38 | F15: 38 | G15: 38 | H15: 38 | I15: 38 | J15: 38 | M15: 38 | N15: 38 | O15: 38 | P15: 38 | Q15: 38 | AD15: Sandy Loam I Arable | AE15: 7 | AI15: Wholecrop cereals | AJ15: 1.8 | AK15: 5.4 | AL15: 13 | AM15: 6.7 | AN15: Arable
A16: Soil Type | C16: Medium/Clay | D16: Medium/Clay | E16: Medium/Clay | F16: Medium/Clay | G16: Medium/Clay | H16: Medium/Clay | I16: Medium/Clay | J16: Medium/Clay | M16: Medium/Clay | N16: Medium/Clay | O16: Medium/Clay | P16: Medium/Clay | Q16: Medium/Clay | AD16: Medium/Clay I Arable | AE16: 8 | AI16: All other cereals- grain only | AJ16: 8 | AK16: 5.5 | AL16: 14 | AM16: 6.7 | AN16: Arable
A17: Phosphate Offtake | C17: =(VLOOKUP(C$14,$AI2:$AK26,2,FALSE))*C$15 -> 64.6 | D17: =(VLOOKUP(D$14,$AI2:$AK26,2,FALSE))*D$15 -> 64.6 | E17: =(VLOOKUP(E$14,$AI2:$AK26,2,FALSE))*E$15 -> 64.6 | F17: =(VLOOKUP(F$14,$AI2:$AK26,2,FALSE))*F$15 -> 64.6 | G17: =(VLOOKUP(G$14,$AI2:$AK26,2,FALSE))*G$15 -> 64.6 | H17: =(VLOOKUP(H$14,$AI2:$AK26,2,FALSE))*H$15 -> 64.6 | I17: =(VLOOKUP(I$14,$AI2:$AK26,2,FALSE))*I$15 -> 64.6 | J17: =(VLOOKUP(J$14,$AI2:$AK26,2,FALSE))*J$15 -> 64.6 | ... V17: =(VLOOKUP(V$14,$AI2:$AK26,2,FALSE))*V$15 -> #N/A | AD17: Organic I Arable | AE17: 10 | AI17: Fresh grass (15-20% DM) | AJ17: 1.4 | AK17: 4.8 | AL17: 15 | AM17: 6.2 | AN17: Grass
A18: Phosphate Addition | C18: =$D31 -> 57.372203 | D18: =$D32 -> 57.372203 | E18: =$D33 -> 57.372203 | F18: =$D34 -> 191.24068 | G18: =$D35 -> 57.372203 | H18: =$D36 -> 57.372203 | I18: =$D37 -> 57.372203 | J18: =$D38 -> 57.372203 | K18: =$D39 -> 0 | L18: =$D40 -> 0 | M18: =$D41 -> 57.372203 | N18: =$D42 -> 57.372203 | O18: =$D43 -> 57.372203 | P18: =$D44 -> 191.24068 | Q18: =$D45 -> 191.24068 | R18: =$D46 -> 0 | S18: =$D47 -> 0 | T18: =$D48 -> 0 | U18: =$D49 -> 0 | V18: =$D50 -> 0 | AD18: Peat I Arable | AE18: 16 | AI18: Hay (86% DM) | AJ18: 5.9 | AK18: 18 | AL18: 16 | AM18: 6.2 | AN18: Grass
A19: Phosphate Difference | C19: =C18-C17 -> -7.2277975 | D19: =D18-D17 -> -7.2277975 | E19: =E18-E17 -> -7.2277975 | F19: =F18-F17 -> 126.64068 | G19: =G18-G17 -> -7.2277975 | H19: =H18-H17 -> -7.2277975 | I19: =I18-I17 -> -7.2277975 | J19: =J18-J17 -> -7.2277975 | ... V19: =V18-V17 -> #N/A | AI19: Haylage (45% DM) | AJ19: 3.2 | AK19: 10.5 | AL19: 17 | AM19: 6.2 | AN19: Grass
A20: Phosphate Increase/decrease | C20: =IF($B31="","",IF(C$19>=0,"INCREASE","DECREASE")) -> DECREASE | D20: =IF($B32="","",IF(D$19>=0,"INCREASE","DECREASE")) -> DECREASE | E20: =IF($B33="","",IF(E$19>=0,"INCREASE","DECREASE")) -> DECREASE | F20: =IF($B34="","",IF(F$19>=0,"INCREASE","DECREASE")) -> INCREASE | G20: =IF($B35="","",IF(G$19>=0,"INCREASE","DECREASE")) -> DECREASE | H20: =IF($B36="","",IF(H$19>=0,"INCREASE","DECREASE")) -> DECREASE | I20: =IF($B37="","",IF(I$19>=0,"INCREASE","DECREASE")) -> DECREASE | J20: =IF($B38="","",IF(J$19>=0,"INCREASE","DECREASE")) -> DECREASE | K20: =IF($B39="","",IF(K$19>=0,"INCREASE","DECREASE")) | L20: =IF($B40="","",IF(L$19>=0,"INCREASE","DECREASE")) | M20: =IF($B41="","",IF(M$19>=0,"INCREASE","DECREASE")) -> DECREASE | N20: =IF($B42="","",IF(N$19>=0,"INCREASE","DECREASE")) -> DECREASE | O20: =IF($B43="","",IF(O$19>=0,"INCREASE","DECREASE")) -> DECREASE | P20: =IF($B44="","",IF(P$19>=0,"INCREASE","DECREASE")) -> INCREASE | Q20: =IF($B45="","",IF(Q$19>=0,"INCREASE","DECREASE")) -> INCREASE | R20: =IF($B46="","",IF(R$19>=0,"INCREASE","DECREASE")) | S20: =IF($B47="","",IF(S$19>=0,"INCREASE","DECREASE")) | T20: =IF($B48="","",IF(T$19>=0,"INCREASE","DECREASE")) | U20: =IF($B49="","",IF(U$19>=0,"INCREASE","DECREASE")) | V20: =IF($B50="","",IF(V$19>=0,"INCREASE","DECREASE")) | AI20: Grass Silage (30% DM) | AJ20: 2.1 | AK20: 7.2 | AL20: 18 | AM20: 6.2 | AN20: Grass
A21: Potash Offtake | C21: =(VLOOKUP(C$14,$AI2:$AK26,3,FALSE))*C$15 -> 228 | D21: =(VLOOKUP(D$14,$AI2:$AK26,3,FALSE))*D$15 -> 228 | E21: =(VLOOKUP(E$14,$AI2:$AK26,3,FALSE))*E$15 -> 228 | F21: =(VLOOKUP(F$14,$AI2:$AK26,3,FALSE))*F$15 -> 228 | G21: =(VLOOKUP(G$14,$AI2:$AK26,3,FALSE))*G$15 -> 228 | H21: =(VLOOKUP(H$14,$AI2:$AK26,3,FALSE))*H$15 -> 228 | I21: =(VLOOKUP(I$14,$AI2:$AK26,3,FALSE))*I$15 -> 228 | J21: =(VLOOKUP(J$14,$AI2:$AK26,3,FALSE))*J$15 -> 228 | ... V21: =(VLOOKUP(V$14,$AI2:$AK26,3,FALSE))*V$15 -> #N/A | AI21: Field beans | AJ21: 11 | AK21: 12 | AL21: 19 | AM21: 6.7 | AN21: Arable
A22: Potash Addition | C22: =$E31 -> 2.8255129 | D22: =$E32 -> 2.8255129 | E22: =$E33 -> 2.8255129 | F22: =$E34 -> 9.4183764 | G22: =$E35 -> 2.8255129 | H22: =$E36 -> 2.8255129 | I22: =$E37 -> 2.8255129 | J22: =$E38 -> 2.8255129 | K22: =$E39 -> 0 | L22: =$E40 -> 0 | M22: =$E41 -> 2.8255129 | N22: =$E42 -> 2.8255129 | O22: =$E43 -> 2.8255129 | P22: =$E44 -> 9.4183764 | Q22: =$E45 -> 9.4183764 | R22: =$E46 -> 0 | S22: =$E47 -> 0 | T22: =$E48 -> 0 | U22: =$E49 -> 0 | V22: =$E50 -> 0 | AI22: Kale | AJ22: 1.2 | AK22: 5 | AL22: 20 | AM22: 6.7 | AN22: Arable
A23: Potash Difference | C23: =C22-C21 -> -225.17449 | D23: =D22-D21 -> -225.17449 | E23: =E22-E21 -> -225.17449 | F23: =F22-F21 -> -218.58162 | G23: =G22-G21 -> -225.17449 | H23: =H22-H21 -> -225.17449 | I23: =I22-I21 -> -225.17449 | J23: =J22-J21 -> -225.17449 | ... V23: =V22-V21 -> #N/A | AI23: Peas- Dried | AJ23: 9 | AK23: 10 | AL23: 21 | AM23: 6.7 | AN23: Arable
A24: Potash Increase/decrease | C24: =IF($B31="","",IF(C$23>=0,"INCREASE","DECREASE")) -> DECREASE | D24: =IF($B31="","",IF(D$23>=0,"INCREASE","DECREASE")) -> DECREASE | E24: =IF($B31="","",IF(E$23>=0,"INCREASE","DECREASE")) -> DECREASE | F24: =IF($B31="","",IF(F$23>=0,"INCREASE","DECREASE")) -> DECREASE | G24: =IF($B31="","",IF(G$23>=0,"INCREASE","DECREASE")) -> DECREASE | H24: =IF($B31="","",IF(H$23>=0,"INCREASE","DECREASE")) -> DECREASE | I24: =IF($B31="","",IF(I$23>=0,"INCREASE","DECREASE")) -> DECREASE | J24: =IF($B31="","",IF(J$23>=0,"INCREASE","DECREASE")) -> DECREASE | ... V24: =IF($B31="","",IF(V$23>=0,"INCREASE","DECREASE")) -> #N/A | AI24: Peas- Vining | AJ24: 1.5 | AK24: 3 | AL24: 22 | AM24: 6.7 | AN24: Arable
AI25: Potatoes- tubers only | AJ25: 1 | AK25: 5.8 | AL25: 23 | AM25: 6.7 | AN25: Arable
B26: Dry Matter | C26: Total Nitrogen | D26: Total Phosphorus (P) | E26: Total Potassium (K) | F26: Total Magnesium (Mg) | G26: Total Copper | H26: Total Zinc | I26: Total Lead | J26: Total Cadmium | K26: Total Mercury | L26: Total Nickel | M26: Total Chromium | N26: Total Aluminium | O26: Total Iron | P26: Total Na (Sodium) | Q26: Total Sulphur (S) | R26: Total Selenium | S26: Total Arsenic | T26: Total Mo | U26: Total Fluoride | AI26: Swedes- roots only | AJ26: 0.7 | AK26: 2.4 | AL26: 24 | AM26: 6.7 | AN26: Arable
B27: % | C27: %w/w DM | D27: mg/kg DM | E27: mg/kg DM | F27: mg/kg DM | G27: mg/kg DM | H27: mg/kg DM | I27: mg/kg DM | J27: mg/kg DM | K27: mg/kg DM | L27: mg/kg DM | M27: mg/kg DM | N27: mg/kg DM | O27: mg/kg DM | P27: mg/kg DM | Q27: mg/kg DM | R27: mg/kg DM | S27: mg/kg DM | T27: mg/kg DM | U27: mg/kg DM
B28: 17.4 | C28: 5.92 | D28: 23987 | E28: 2246 | F28: 1062 | G28: 107 | H28: 284 | I28: 4.02 | J28: 0.18 | K28: 0.1 | L28: 14.1 | M28: 29.7 | P28: 2658 | Q28: 4511 | R28: 1.43 | S28: 0.99 | T28: 2.58 | U28: 22.2
A29: Field Ref | B29: Application Rate | C29: Nitrogen Addition | D29: Phosphate Addition | E29: Potash Addition | F29: Mg Oxide Addition | G29: Copper Addition | H29: Zinc Addition | I29: Lead Addition | J29: Cadmium Addition | K29: Mercury Addition | L29: Nickel Addition | M29: Chromium Addition | N29: Aluminium Addition | O29: Iron Addition | P29: Sodium Addition | Q29: SO3 Addition kg/ha | R29: Selenium Addition | S29: Arsenic Addition | T29: Molybdenum Addition | U29: Fluoride Addition
B30: tonnes/ha | C30: kg/ha | D30: P2O5 kg/ha | E30: K2O kg/ha | F30: MgO kg/ha | G30: kg/ha | H30: kg/ha | I30: kg/ha | J30: kg/ha | K30: kg/ha | L30: kg/ha | M30: kg/ha | N30: kg/ha | O30: kg/ha | P30: kg/ha | Q30: kg/ha | R30: kg/ha | S30: kg/ha | T30: kg/ha | U30: kg/ha
A31: =C8 -> 5569 | B31: 6 | C31: =IF(C$27="%w/w SAR",((C$28*10)*$B31),IF(C$27="%w/w DM",(((C$28*10)*($B$28/100))*$B31),IF(C$27="kg/t SAR",(C$28*$B31),IF(C$27="kg/t DM",((C$28*($B$28/100))*$B31),IF(C$27="mg/kg SAR",((C$28*0.001)*$B31),IF(C$27="mg/kg DM",(((C$28*0.001)*($B$28/100))*$B31),0)))))) -> 61.8048 | D31: =(IF(D$27="%w/w SAR",((D$28*10)*$B31),IF(D$27="%w/w DM",(((D$28*10)*($B$28/100))*$B31),IF(D$27="kg/t SAR",(D$28*$B31),IF(D$27="kg/t DM",((D$28*($B$28/100))*$B31),IF(D$27="mg/kg SAR",((D$28*0.001)*$B31),IF(D$27="mg/kg DM",(((D$28*0.001)*($B$28/100))*$B31),"0")))))))*2.291 -> 57.372203 | E31: =(IF(E$27="%w/w SAR",((E$28*10)*$B31),IF(E$27="%w/w DM",(((E$28*10)*($B$28/100))*$B31),IF(E$27="kg/t SAR",(E$28*$B31),IF(E$27="kg/t DM",((E$28*($B$28/100))*$B31),IF(E$27="mg/kg SAR",((E$28*0.001)*$B31),IF(E$27="mg/kg DM",(((E$28*0.001)*($B$28/100))*$B31),"0")))))))*1.205 -> 2.8255129 | F31: =(IF(F$27="%w/w SAR",((F$28*10)*$B31),IF(F$27="%w/w DM",(((F$28*10)*($B$28/100))*$B31),IF(F$27="kg/t SAR",(F$28*$B31),IF(F$27="kg/t DM",((F$28*($B$28/100))*$B31),IF(F$27="mg/kg SAR",((F$28*0.001)*$B31),IF(F$27="mg/kg DM",(((F$28*0.001)*($B$28/100))*$B31),"0")))))))*1.658 -> 1.838271 | G31: =IF(G$27="%w/w SAR",((G$28*10)*$B31),IF(G$27="%w/w DM",(((G$28*10)*($B$28/100))*$B31),IF(G$27="kg/t SAR",(G$28*$B31),IF(G$27="kg/t DM",((G$28*($B$28/100))*$B31),IF(G$27="mg/kg SAR",((G$28*0.001)*$B31),IF(G$27="mg/kg DM",(((G$28*0.001)*($B$28/100))*$B31),0)))))) -> 0.111708 | H31: =IF(H$27="%w/w SAR",((H$28*10)*$B31),IF(H$27="%w/w DM",(((H$28*10)*($B$28/100))*$B31),IF(H$27="kg/t SAR",(H$28*$B31),IF(H$27="kg/t DM",((H$28*($B$28/100))*$B31),IF(H$27="mg/kg SAR",((H$28*0.001)*$B31),IF(H$27="mg/kg DM",(((H$28*0.001)*($B$28/100))*$B31),0)))))) -> 0.296496 | I31: =IF(I$27="%w/w SAR",((I$28*10)*$B31),IF(I$27="%w/w DM",(((I$28*10)*($B$28/100))*$B31),IF(I$27="kg/t SAR",(I$28*$B31),IF(I$27="kg/t DM",((I$28*($B$28/100))*$B31),IF(I$27="mg/kg SAR",((I$28*0.001)*$B31),IF(I$27="mg/kg DM",(((I$28*0.001)*($B$28/100))*$B31),0)))))) -> 0.00419688 | J31: =IF(J$27="%w/w SAR",((J$28*10)*$B31),IF(J$27="%w/w DM",(((J$28*10)*($B$28/100))*$B31),IF(J$27="kg/t SAR",(J$28*$B31),IF(J$27="kg/t DM",((J$28*($B$28/100))*$B31),IF(J$27="mg/kg SAR",((J$28*0.001)*$B31),IF(J$27="mg/kg DM",(((J$28*0.001)*($B$28/100))*$B31),0)))))) -> 0.00018792 | K31: =IF(K$27="%w/w SAR",((K$28*10)*$B31),IF(K$27="%w/w DM",(((K$28*10)*($B$28/100))*$B31),IF(K$27="kg/t SAR",(K$28*$B31),IF(K$27="kg/t DM",((K$28*($B$28/100))*$B31),IF(K$27="mg/kg SAR",((K$28*0.001)*$B31),IF(K$27="mg/kg DM",(((K$28*0.001)*($B$28/100))*$B31),0)))))) -> 0.0001044 | L31: =IF(L$27="%w/w SAR",((L$28*10)*$B31),IF(L$27="%w/w DM",(((L$28*10)*($B$28/100))*$B31),IF(L$27="kg/t SAR",(L$28*$B31),IF(L$27="kg/t DM",((L$28*($B$28/100))*$B31),IF(L$27="mg/kg SAR",((L$28*0.001)*$B31),IF(L$27="mg/kg DM",(((L$28*0.001)*($B$28/100))*$B31),0)))))) -> 0.0147204 | M31: =IF(M$27="%w/w SAR",((M$28*10)*$B31),IF(M$27="%w/w DM",(((M$28*10)*($B$28/100))*$B31),IF(M$27="kg/t SAR",(M$28*$B31),IF(M$27="kg/t DM",((M$28*($B$28/100))*$B31),IF(M$27="mg/kg SAR",((M$28*0.001)*$B31),IF(M$27="mg/kg DM",(((M$28*0.001)*($B$28/100))*$B31),0)))))) -> 0.0310068 | N31: =IF(N$27="%w/w SAR",((N$28*10)*$B31),IF(N$27="%w/w DM",(((N$28*10)*($B$28/100))*$B31),IF(N$27="kg/t SAR",(N$28*$B31),IF(N$27="kg/t DM",((N$28*($B$28/100))*$B31),IF(N$27="mg/kg SAR",((N$28*0.001)*$B31),IF(N$27="mg/kg DM",(((N$28*0.001)*($B$28/100))*$B31),0)))))) -> 0 | ... P31: =IF(P$27="%w/w SAR",((P$28*10)*$B31),IF(P$27="%w/w DM",(((P$28*10)*($B$28/100))*$B31),IF(P$27="kg/t SAR",(P$28*$B31),IF(P$27="kg/t DM",((P$28*($B$28/100))*$B31),IF(P$27="mg/kg SAR",((P$28*0.001)*$B31),IF(P$27="mg/kg DM",(((P$28*0.001)*($B$28/100))*$B31),0)))))) -> 2.774952 | Q31: =(IF(Q$27="%w/w SAR",((Q$28*10)*$B31),IF(Q$27="%w/w DM",(((Q$28*10)*($B$28/100))*$B31),IF(Q$27="kg/t SAR",(Q$28*$B31),IF(Q$27="kg/t DM",((Q$28*($B$28/100))*$B31),IF(Q$27="mg/kg SAR",((Q$28*0.001)*$B31),IF(Q$27="mg/kg DM",(((Q$28*0.001)*($B$28/100))*$B31),0)))))))*2.5 -> 11.77371 | R31: =IF(R$27="%w/w SAR",((R$28*10)*$B31),IF(R$27="%w/w DM",(((R$28*10)*($B$28/100))*$B31),IF(R$27="kg/t SAR",(R$28*$B31),IF(R$27="kg/t DM",((R$28*($B$28/100))*$B31),IF(R$27="mg/kg SAR",((R$28*0.001)*$B31),IF(R$27="mg/kg DM",(((R$28*0.001)*($B$28/100))*$B31),0)))))) -> 0.00149292 | S31: =IF(S$27="%w/w SAR",((S$28*10)*$B31),IF(S$27="%w/w DM",(((S$28*10)*($B$28/100))*$B31),IF(S$27="kg/t SAR",(S$28*$B31),IF(S$27="kg/t DM",((S$28*($B$28/100))*$B31),IF(S$27="mg/kg SAR",((S$28*0.001)*$B31),IF(S$27="mg/kg DM",(((S$28*0.001)*($B$28/100))*$B31),0)))))) -> 0.00103356 | T31: =IF(T$27="%w/w SAR",((T$28*10)*$B31),IF(T$27="%w/w DM",(((T$28*10)*($B$28/100))*$B31),IF(T$27="kg/t SAR",(T$28*$B31),IF(T$27="kg/t DM",((T$28*($B$28/100))*$B31),IF(T$27="mg/kg SAR",((T$28*0.001)*$B31),IF(T$27="mg/kg DM",(((T$28*0.001)*($B$28/100))*$B31),0)))))) -> 0.00269352 | U31: =IF(U$27="%w/w SAR",((U$28*10)*$B31),IF(U$27="%w/w DM",(((U$28*10)*($B$28/100))*$B31),IF(U$27="kg/t SAR",(U$28*$B31),IF(U$27="kg/t DM",((U$28*($B$28/100))*$B31),IF(U$27="mg/kg SAR",((U$28*0.001)*$B31),IF(U$27="mg/kg DM",(((U$28*0.001)*($B$28/100))*$B31),0)))))) -> 0.0231768
A32: =D8 -> 6858 | B32: 6 | C32: =IF(C$27="%w/w SAR",((C$28*10)*$B32),IF(C$27="%w/w DM",(((C$28*10)*($B$28/100))*$B32),IF(C$27="kg/t SAR",(C$28*$B32),IF(C$27="kg/t DM",((C$28*($B$28/100))*$B32),IF(C$27="mg/kg SAR",((C$28*0.001)*$B32),IF(C$27="mg/kg DM",(((C$28*0.001)*($B$28/100))*$B32),0)))))) -> 61.8048 | D32: =(IF(D$27="%w/w SAR",((D$28*10)*$B32),IF(D$27="%w/w DM",(((D$28*10)*($B$28/100))*$B32),IF(D$27="kg/t SAR",(D$28*$B32),IF(D$27="kg/t DM",((D$28*($B$28/100))*$B32),IF(D$27="mg/kg SAR",((D$28*0.001)*$B32),IF(D$27="mg/kg DM",(((D$28*0.001)*($B$28/100))*$B32),"0")))))))*2.291 -> 57.372203 | E32: =(IF(E$27="%w/w SAR",((E$28*10)*$B32),IF(E$27="%w/w DM",(((E$28*10)*($B$28/100))*$B32),IF(E$27="kg/t SAR",(E$28*$B32),IF(E$27="kg/t DM",((E$28*($B$28/100))*$B32),IF(E$27="mg/kg SAR",((E$28*0.001)*$B32),IF(E$27="mg/kg DM",(((E$28*0.001)*($B$28/100))*$B32),"0")))))))*1.205 -> 2.8255129 | F32: =(IF(F$27="%w/w SAR",((F$28*10)*$B32),IF(F$27="%w/w DM",(((F$28*10)*($B$28/100))*$B32),IF(F$27="kg/t SAR",(F$28*$B32),IF(F$27="kg/t DM",((F$28*($B$28/100))*$B32),IF(F$27="mg/kg SAR",((F$28*0.001)*$B32),IF(F$27="mg/kg DM",(((F$28*0.001)*($B$28/100))*$B32),"0")))))))*1.658 -> 1.838271 | G32: =IF(G$27="%w/w SAR",((G$28*10)*$B32),IF(G$27="%w/w DM",(((G$28*10)*($B$28/100))*$B32),IF(G$27="kg/t SAR",(G$28*$B32),IF(G$27="kg/t DM",((G$28*($B$28/100))*$B32),IF(G$27="mg/kg SAR",((G$28*0.001)*$B32),IF(G$27="mg/kg DM",(((G$28*0.001)*($B$28/100))*$B32),0)))))) -> 0.111708 | H32: =IF(H$27="%w/w SAR",((H$28*10)*$B32),IF(H$27="%w/w DM",(((H$28*10)*($B$28/100))*$B32),IF(H$27="kg/t SAR",(H$28*$B32),IF(H$27="kg/t DM",((H$28*($B$28/100))*$B32),IF(H$27="mg/kg SAR",((H$28*0.001)*$B32),IF(H$27="mg/kg DM",(((H$28*0.001)*($B$28/100))*$B32),0)))))) -> 0.296496 | I32: =IF(I$27="%w/w SAR",((I$28*10)*$B32),IF(I$27="%w/w DM",(((I$28*10)*($B$28/100))*$B32),IF(I$27="kg/t SAR",(I$28*$B32),IF(I$27="kg/t DM",((I$28*($B$28/100))*$B32),IF(I$27="mg/kg SAR",((I$28*0.001)*$B32),IF(I$27="mg/kg DM",(((I$28*0.001)*($B$28/100))*$B32),0)))))) -> 0.00419688 | J32: =IF(J$27="%w/w SAR",((J$28*10)*$B32),IF(J$27="%w/w DM",(((J$28*10)*($B$28/100))*$B32),IF(J$27="kg/t SAR",(J$28*$B32),IF(J$27="kg/t DM",((J$28*($B$28/100))*$B32),IF(J$27="mg/kg SAR",((J$28*0.001)*$B32),IF(J$27="mg/kg DM",(((J$28*0.001)*($B$28/100))*$B32),0)))))) -> 0.00018792 | K32: =IF(K$27="%w/w SAR",((K$28*10)*$B32),IF(K$27="%w/w DM",(((K$28*10)*($B$28/100))*$B32),IF(K$27="kg/t SAR",(K$28*$B32),IF(K$27="kg/t DM",((K$28*($B$28/100))*$B32),IF(K$27="mg/kg SAR",((K$28*0.001)*$B32),IF(K$27="mg/kg DM",(((K$28*0.001)*($B$28/100))*$B32),0)))))) -> 0.0001044 | L32: =IF(L$27="%w/w SAR",((L$28*10)*$B32),IF(L$27="%w/w DM",(((L$28*10)*($B$28/100))*$B32),IF(L$27="kg/t SAR",(L$28*$B32),IF(L$27="kg/t DM",((L$28*($B$28/100))*$B32),IF(L$27="mg/kg SAR",((L$28*0.001)*$B32),IF(L$27="mg/kg DM",(((L$28*0.001)*($B$28/100))*$B32),0)))))) -> 0.0147204 | M32: =IF(M$27="%w/w SAR",((M$28*10)*$B32),IF(M$27="%w/w DM",(((M$28*10)*($B$28/100))*$B32),IF(M$27="kg/t SAR",(M$28*$B32),IF(M$27="kg/t DM",((M$28*($B$28/100))*$B32),IF(M$27="mg/kg SAR",((M$28*0.001)*$B32),IF(M$27="mg/kg DM",(((M$28*0.001)*($B$28/100))*$B32),0)))))) -> 0.0310068 | N32: =IF(N$27="%w/w SAR",((N$28*10)*$B32),IF(N$27="%w/w DM",(((N$28*10)*($B$28/100))*$B32),IF(N$27="kg/t SAR",(N$28*$B32),IF(N$27="kg/t DM",((N$28*($B$28/100))*$B32),IF(N$27="mg/kg SAR",((N$28*0.001)*$B32),IF(N$27="mg/kg DM",(((N$28*0.001)*($B$28/100))*$B32),0)))))) -> 0 | ... P32: =IF(P$27="%w/w SAR",((P$28*10)*$B32),IF(P$27="%w/w DM",(((P$28*10)*($B$28/100))*$B32),IF(P$27="kg/t SAR",(P$28*$B32),IF(P$27="kg/t DM",((P$28*($B$28/100))*$B32),IF(P$27="mg/kg SAR",((P$28*0.001)*$B32),IF(P$27="mg/kg DM",(((P$28*0.001)*($B$28/100))*$B32),0)))))) -> 2.774952 | Q32: =(IF(Q$27="%w/w SAR",((Q$28*10)*$B32),IF(Q$27="%w/w DM",(((Q$28*10)*($B$28/100))*$B32),IF(Q$27="kg/t SAR",(Q$28*$B32),IF(Q$27="kg/t DM",((Q$28*($B$28/100))*$B32),IF(Q$27="mg/kg SAR",((Q$28*0.001)*$B32),IF(Q$27="mg/kg DM",(((Q$28*0.001)*($B$28/100))*$B32),0)))))))*2.5 -> 11.77371 | R32: =IF(R$27="%w/w SAR",((R$28*10)*$B32),IF(R$27="%w/w DM",(((R$28*10)*($B$28/100))*$B32),IF(R$27="kg/t SAR",(R$28*$B32),IF(R$27="kg/t DM",((R$28*($B$28/100))*$B32),IF(R$27="mg/kg SAR",((R$28*0.001)*$B32),IF(R$27="mg/kg DM",(((R$28*0.001)*($B$28/100))*$B32),0)))))) -> 0.00149292 | S32: =IF(S$27="%w/w SAR",((S$28*10)*$B32),IF(S$27="%w/w DM",(((S$28*10)*($B$28/100))*$B32),IF(S$27="kg/t SAR",(S$28*$B32),IF(S$27="kg/t DM",((S$28*($B$28/100))*$B32),IF(S$27="mg/kg SAR",((S$28*0.001)*$B32),IF(S$27="mg/kg DM",(((S$28*0.001)*($B$28/100))*$B32),0)))))) -> 0.00103356 | T32: =IF(T$27="%w/w SAR",((T$28*10)*$B32),IF(T$27="%w/w DM",(((T$28*10)*($B$28/100))*$B32),IF(T$27="kg/t SAR",(T$28*$B32),IF(T$27="kg/t DM",((T$28*($B$28/100))*$B32),IF(T$27="mg/kg SAR",((T$28*0.001)*$B32),IF(T$27="mg/kg DM",(((T$28*0.001)*($B$28/100))*$B32),0)))))) -> 0.00269352 | U32: =IF(U$27="%w/w SAR",((U$28*10)*$B32),IF(U$27="%w/w DM",(((U$28*10)*($B$28/100))*$B32),IF(U$27="kg/t SAR",(U$28*$B32),IF(U$27="kg/t DM",((U$28*($B$28/100))*$B32),IF(U$27="mg/kg SAR",((U$28*0.001)*$B32),IF(U$27="mg/kg DM",(((U$28*0.001)*($B$28/100))*$B32),0)))))) -> 0.0231768
A33: =E8 -> 8153 | B33: 6 | C33: =IF(C$27="%w/w SAR",((C$28*10)*$B33),IF(C$27="%w/w DM",(((C$28*10)*($B$28/100))*$B33),IF(C$27="kg/t SAR",(C$28*$B33),IF(C$27="kg/t DM",((C$28*($B$28/100))*$B33),IF(C$27="mg/kg SAR",((C$28*0.001)*$B33),IF(C$27="mg/kg DM",(((C$28*0.001)*($B$28/100))*$B33),0)))))) -> 61.8048 | D33: =(IF(D$27="%w/w SAR",((D$28*10)*$B33),IF(D$27="%w/w DM",(((D$28*10)*($B$28/100))*$B33),IF(D$27="kg/t SAR",(D$28*$B33),IF(D$27="kg/t DM",((D$28*($B$28/100))*$B33),IF(D$27="mg/kg SAR",((D$28*0.001)*$B33),IF(D$27="mg/kg DM",(((D$28*0.001)*($B$28/100))*$B33),"0")))))))*2.291 -> 57.372203 | E33: =(IF(E$27="%w/w SAR",((E$28*10)*$B33),IF(E$27="%w/w DM",(((E$28*10)*($B$28/100))*$B33),IF(E$27="kg/t SAR",(E$28*$B33),IF(E$27="kg/t DM",((E$28*($B$28/100))*$B33),IF(E$27="mg/kg SAR",((E$28*0.001)*$B33),IF(E$27="mg/kg DM",(((E$28*0.001)*($B$28/100))*$B33),"0")))))))*1.205 -> 2.8255129 | F33: =(IF(F$27="%w/w SAR",((F$28*10)*$B33),IF(F$27="%w/w DM",(((F$28*10)*($B$28/100))*$B33),IF(F$27="kg/t SAR",(F$28*$B33),IF(F$27="kg/t DM",((F$28*($B$28/100))*$B33),IF(F$27="mg/kg SAR",((F$28*0.001)*$B33),IF(F$27="mg/kg DM",(((F$28*0.001)*($B$28/100))*$B33),"0")))))))*1.658 -> 1.838271 | G33: =IF(G$27="%w/w SAR",((G$28*10)*$B33),IF(G$27="%w/w DM",(((G$28*10)*($B$28/100))*$B33),IF(G$27="kg/t SAR",(G$28*$B33),IF(G$27="kg/t DM",((G$28*($B$28/100))*$B33),IF(G$27="mg/kg SAR",((G$28*0.001)*$B33),IF(G$27="mg/kg DM",(((G$28*0.001)*($B$28/100))*$B33),0)))))) -> 0.111708 | H33: =IF(H$27="%w/w SAR",((H$28*10)*$B33),IF(H$27="%w/w DM",(((H$28*10)*($B$28/100))*$B33),IF(H$27="kg/t SAR",(H$28*$B33),IF(H$27="kg/t DM",((H$28*($B$28/100))*$B33),IF(H$27="mg/kg SAR",((H$28*0.001)*$B33),IF(H$27="mg/kg DM",(((H$28*0.001)*($B$28/100))*$B33),0)))))) -> 0.296496 | I33: =IF(I$27="%w/w SAR",((I$28*10)*$B33),IF(I$27="%w/w DM",(((I$28*10)*($B$28/100))*$B33),IF(I$27="kg/t SAR",(I$28*$B33),IF(I$27="kg/t DM",((I$28*($B$28/100))*$B33),IF(I$27="mg/kg SAR",((I$28*0.001)*$B33),IF(I$27="mg/kg DM",(((I$28*0.001)*($B$28/100))*$B33),0)))))) -> 0.00419688 | J33: =IF(J$27="%w/w SAR",((J$28*10)*$B33),IF(J$27="%w/w DM",(((J$28*10)*($B$28/100))*$B33),IF(J$27="kg/t SAR",(J$28*$B33),IF(J$27="kg/t DM",((J$28*($B$28/100))*$B33),IF(J$27="mg/kg SAR",((J$28*0.001)*$B33),IF(J$27="mg/kg DM",(((J$28*0.001)*($B$28/100))*$B33),0)))))) -> 0.00018792 | K33: =IF(K$27="%w/w SAR",((K$28*10)*$B33),IF(K$27="%w/w DM",(((K$28*10)*($B$28/100))*$B33),IF(K$27="kg/t SAR",(K$28*$B33),IF(K$27="kg/t DM",((K$28*($B$28/100))*$B33),IF(K$27="mg/kg SAR",((K$28*0.001)*$B33),IF(K$27="mg/kg DM",(((K$28*0.001)*($B$28/100))*$B33),0)))))) -> 0.0001044 | L33: =IF(L$27="%w/w SAR",((L$28*10)*$B33),IF(L$27="%w/w DM",(((L$28*10)*($B$28/100))*$B33),IF(L$27="kg/t SAR",(L$28*$B33),IF(L$27="kg/t DM",((L$28*($B$28/100))*$B33),IF(L$27="mg/kg SAR",((L$28*0.001)*$B33),IF(L$27="mg/kg DM",(((L$28*0.001)*($B$28/100))*$B33),0)))))) -> 0.0147204 | M33: =IF(M$27="%w/w SAR",((M$28*10)*$B33),IF(M$27="%w/w DM",(((M$28*10)*($B$28/100))*$B33),IF(M$27="kg/t SAR",(M$28*$B33),IF(M$27="kg/t DM",((M$28*($B$28/100))*$B33),IF(M$27="mg/kg SAR",((M$28*0.001)*$B33),IF(M$27="mg/kg DM",(((M$28*0.001)*($B$28/100))*$B33),0)))))) -> 0.0310068 | N33: =IF(N$27="%w/w SAR",((N$28*10)*$B33),IF(N$27="%w/w DM",(((N$28*10)*($B$28/100))*$B33),IF(N$27="kg/t SAR",(N$28*$B33),IF(N$27="kg/t DM",((N$28*($B$28/100))*$B33),IF(N$27="mg/kg SAR",((N$28*0.001)*$B33),IF(N$27="mg/kg DM",(((N$28*0.001)*($B$28/100))*$B33),0)))))) -> 0 | ... P33: =IF(P$27="%w/w SAR",((P$28*10)*$B33),IF(P$27="%w/w DM",(((P$28*10)*($B$28/100))*$B33),IF(P$27="kg/t SAR",(P$28*$B33),IF(P$27="kg/t DM",((P$28*($B$28/100))*$B33),IF(P$27="mg/kg SAR",((P$28*0.001)*$B33),IF(P$27="mg/kg DM",(((P$28*0.001)*($B$28/100))*$B33),0)))))) -> 2.774952 | Q33: =(IF(Q$27="%w/w SAR",((Q$28*10)*$B33),IF(Q$27="%w/w DM",(((Q$28*10)*($B$28/100))*$B33),IF(Q$27="kg/t SAR",(Q$28*$B33),IF(Q$27="kg/t DM",((Q$28*($B$28/100))*$B33),IF(Q$27="mg/kg SAR",((Q$28*0.001)*$B33),IF(Q$27="mg/kg DM",(((Q$28*0.001)*($B$28/100))*$B33),0)))))))*2.5 -> 11.77371 | R33: =IF(R$27="%w/w SAR",((R$28*10)*$B33),IF(R$27="%w/w DM",(((R$28*10)*($B$28/100))*$B33),IF(R$27="kg/t SAR",(R$28*$B33),IF(R$27="kg/t DM",((R$28*($B$28/100))*$B33),IF(R$27="mg/kg SAR",((R$28*0.001)*$B33),IF(R$27="mg/kg DM",(((R$28*0.001)*($B$28/100))*$B33),0)))))) -> 0.00149292 | S33: =IF(S$27="%w/w SAR",((S$28*10)*$B33),IF(S$27="%w/w DM",(((S$28*10)*($B$28/100))*$B33),IF(S$27="kg/t SAR",(S$28*$B33),IF(S$27="kg/t DM",((S$28*($B$28/100))*$B33),IF(S$27="mg/kg SAR",((S$28*0.001)*$B33),IF(S$27="mg/kg DM",(((S$28*0.001)*($B$28/100))*$B33),0)))))) -> 0.00103356 | T33: =IF(T$27="%w/w SAR",((T$28*10)*$B33),IF(T$27="%w/w DM",(((T$28*10)*($B$28/100))*$B33),IF(T$27="kg/t SAR",(T$28*$B33),IF(T$27="kg/t DM",((T$28*($B$28/100))*$B33),IF(T$27="mg/kg SAR",((T$28*0.001)*$B33),IF(T$27="mg/kg DM",(((T$28*0.001)*($B$28/100))*$B33),0)))))) -> 0.00269352 | U33: =IF(U$27="%w/w SAR",((U$28*10)*$B33),IF(U$27="%w/w DM",(((U$28*10)*($B$28/100))*$B33),IF(U$27="kg/t SAR",(U$28*$B33),IF(U$27="kg/t DM",((U$28*($B$28/100))*$B33),IF(U$27="mg/kg SAR",((U$28*0.001)*$B33),IF(U$27="mg/kg DM",(((U$28*0.001)*($B$28/100))*$B33),0)))))) -> 0.0231768
A34: =F8 -> 9748 | B34: 20 | C34: =IF(C$27="%w/w SAR",((C$28*10)*$B34),IF(C$27="%w/w DM",(((C$28*10)*($B$28/100))*$B34),IF(C$27="kg/t SAR",(C$28*$B34),IF(C$27="kg/t DM",((C$28*($B$28/100))*$B34),IF(C$27="mg/kg SAR",((C$28*0.001)*$B34),IF(C$27="mg/kg DM",(((C$28*0.001)*($B$28/100))*$B34),0)))))) -> 206.016 | D34: =(IF(D$27="%w/w SAR",((D$28*10)*$B34),IF(D$27="%w/w DM",(((D$28*10)*($B$28/100))*$B34),IF(D$27="kg/t SAR",(D$28*$B34),IF(D$27="kg/t DM",((D$28*($B$28/100))*$B34),IF(D$27="mg/kg SAR",((D$28*0.001)*$B34),IF(D$27="mg/kg DM",(((D$28*0.001)*($B$28/100))*$B34),"0")))))))*2.291 -> 191.24068 | E34: =(IF(E$27="%w/w SAR",((E$28*10)*$B34),IF(E$27="%w/w DM",(((E$28*10)*($B$28/100))*$B34),IF(E$27="kg/t SAR",(E$28*$B34),IF(E$27="kg/t DM",((E$28*($B$28/100))*$B34),IF(E$27="mg/kg SAR",((E$28*0.001)*$B34),IF(E$27="mg/kg DM",(((E$28*0.001)*($B$28/100))*$B34),"0")))))))*1.205 -> 9.4183764 | F34: =(IF(F$27="%w/w SAR",((F$28*10)*$B34),IF(F$27="%w/w DM",(((F$28*10)*($B$28/100))*$B34),IF(F$27="kg/t SAR",(F$28*$B34),IF(F$27="kg/t DM",((F$28*($B$28/100))*$B34),IF(F$27="mg/kg SAR",((F$28*0.001)*$B34),IF(F$27="mg/kg DM",(((F$28*0.001)*($B$28/100))*$B34),"0")))))))*1.658 -> 6.1275701 | G34: =IF(G$27="%w/w SAR",((G$28*10)*$B34),IF(G$27="%w/w DM",(((G$28*10)*($B$28/100))*$B34),IF(G$27="kg/t SAR",(G$28*$B34),IF(G$27="kg/t DM",((G$28*($B$28/100))*$B34),IF(G$27="mg/kg SAR",((G$28*0.001)*$B34),IF(G$27="mg/kg DM",(((G$28*0.001)*($B$28/100))*$B34),0)))))) -> 0.37236 | H34: =IF(H$27="%w/w SAR",((H$28*10)*$B34),IF(H$27="%w/w DM",(((H$28*10)*($B$28/100))*$B34),IF(H$27="kg/t SAR",(H$28*$B34),IF(H$27="kg/t DM",((H$28*($B$28/100))*$B34),IF(H$27="mg/kg SAR",((H$28*0.001)*$B34),IF(H$27="mg/kg DM",(((H$28*0.001)*($B$28/100))*$B34),0)))))) -> 0.98832 | I34: =IF(I$27="%w/w SAR",((I$28*10)*$B34),IF(I$27="%w/w DM",(((I$28*10)*($B$28/100))*$B34),IF(I$27="kg/t SAR",(I$28*$B34),IF(I$27="kg/t DM",((I$28*($B$28/100))*$B34),IF(I$27="mg/kg SAR",((I$28*0.001)*$B34),IF(I$27="mg/kg DM",(((I$28*0.001)*($B$28/100))*$B34),0)))))) -> 0.0139896 | J34: =IF(J$27="%w/w SAR",((J$28*10)*$B34),IF(J$27="%w/w DM",(((J$28*10)*($B$28/100))*$B34),IF(J$27="kg/t SAR",(J$28*$B34),IF(J$27="kg/t DM",((J$28*($B$28/100))*$B34),IF(J$27="mg/kg SAR",((J$28*0.001)*$B34),IF(J$27="mg/kg DM",(((J$28*0.001)*($B$28/100))*$B34),0)))))) -> 0.0006264 | K34: =IF(K$27="%w/w SAR",((K$28*10)*$B34),IF(K$27="%w/w DM",(((K$28*10)*($B$28/100))*$B34),IF(K$27="kg/t SAR",(K$28*$B34),IF(K$27="kg/t DM",((K$28*($B$28/100))*$B34),IF(K$27="mg/kg SAR",((K$28*0.001)*$B34),IF(K$27="mg/kg DM",(((K$28*0.001)*($B$28/100))*$B34),0)))))) -> 0.000348 | L34: =IF(L$27="%w/w SAR",((L$28*10)*$B34),IF(L$27="%w/w DM",(((L$28*10)*($B$28/100))*$B34),IF(L$27="kg/t SAR",(L$28*$B34),IF(L$27="kg/t DM",((L$28*($B$28/100))*$B34),IF(L$27="mg/kg SAR",((L$28*0.001)*$B34),IF(L$27="mg/kg DM",(((L$28*0.001)*($B$28/100))*$B34),0)))))) -> 0.049068 | M34: =IF(M$27="%w/w SAR",((M$28*10)*$B34),IF(M$27="%w/w DM",(((M$28*10)*($B$28/100))*$B34),IF(M$27="kg/t SAR",(M$28*$B34),IF(M$27="kg/t DM",((M$28*($B$28/100))*$B34),IF(M$27="mg/kg SAR",((M$28*0.001)*$B34),IF(M$27="mg/kg DM",(((M$28*0.001)*($B$28/100))*$B34),0)))))) -> 0.103356 | N34: =IF(N$27="%w/w SAR",((N$28*10)*$B34),IF(N$27="%w/w DM",(((N$28*10)*($B$28/100))*$B34),IF(N$27="kg/t SAR",(N$28*$B34),IF(N$27="kg/t DM",((N$28*($B$28/100))*$B34),IF(N$27="mg/kg SAR",((N$28*0.001)*$B34),IF(N$27="mg/kg DM",(((N$28*0.001)*($B$28/100))*$B34),0)))))) -> 0 | ... P34: =IF(P$27="%w/w SAR",((P$28*10)*$B34),IF(P$27="%w/w DM",(((P$28*10)*($B$28/100))*$B34),IF(P$27="kg/t SAR",(P$28*$B34),IF(P$27="kg/t DM",((P$28*($B$28/100))*$B34),IF(P$27="mg/kg SAR",((P$28*0.001)*$B34),IF(P$27="mg/kg DM",(((P$28*0.001)*($B$28/100))*$B34),0)))))) -> 9.24984 | Q34: =(IF(Q$27="%w/w SAR",((Q$28*10)*$B34),IF(Q$27="%w/w DM",(((Q$28*10)*($B$28/100))*$B34),IF(Q$27="kg/t SAR",(Q$28*$B34),IF(Q$27="kg/t DM",((Q$28*($B$28/100))*$B34),IF(Q$27="mg/kg SAR",((Q$28*0.001)*$B34),IF(Q$27="mg/kg DM",(((Q$28*0.001)*($B$28/100))*$B34),0)))))))*2.5 -> 39.2457 | R34: =IF(R$27="%w/w SAR",((R$28*10)*$B34),IF(R$27="%w/w DM",(((R$28*10)*($B$28/100))*$B34),IF(R$27="kg/t SAR",(R$28*$B34),IF(R$27="kg/t DM",((R$28*($B$28/100))*$B34),IF(R$27="mg/kg SAR",((R$28*0.001)*$B34),IF(R$27="mg/kg DM",(((R$28*0.001)*($B$28/100))*$B34),0)))))) -> 0.0049764 | S34: =IF(S$27="%w/w SAR",((S$28*10)*$B34),IF(S$27="%w/w DM",(((S$28*10)*($B$28/100))*$B34),IF(S$27="kg/t SAR",(S$28*$B34),IF(S$27="kg/t DM",((S$28*($B$28/100))*$B34),IF(S$27="mg/kg SAR",((S$28*0.001)*$B34),IF(S$27="mg/kg DM",(((S$28*0.001)*($B$28/100))*$B34),0)))))) -> 0.0034452 | T34: =IF(T$27="%w/w SAR",((T$28*10)*$B34),IF(T$27="%w/w DM",(((T$28*10)*($B$28/100))*$B34),IF(T$27="kg/t SAR",(T$28*$B34),IF(T$27="kg/t DM",((T$28*($B$28/100))*$B34),IF(T$27="mg/kg SAR",((T$28*0.001)*$B34),IF(T$27="mg/kg DM",(((T$28*0.001)*($B$28/100))*$B34),0)))))) -> 0.0089784 | U34: =IF(U$27="%w/w SAR",((U$28*10)*$B34),IF(U$27="%w/w DM",(((U$28*10)*($B$28/100))*$B34),IF(U$27="kg/t SAR",(U$28*$B34),IF(U$27="kg/t DM",((U$28*($B$28/100))*$B34),IF(U$27="mg/kg SAR",((U$28*0.001)*$B34),IF(U$27="mg/kg DM",(((U$28*0.001)*($B$28/100))*$B34),0)))))) -> 0.077256
A35: =G8 -> 1057 | B35: 6 | C35: =IF(C$27="%w/w SAR",((C$28*10)*$B35),IF(C$27="%w/w DM",(((C$28*10)*($B$28/100))*$B35),IF(C$27="kg/t SAR",(C$28*$B35),IF(C$27="kg/t DM",((C$28*($B$28/100))*$B35),IF(C$27="mg/kg SAR",((C$28*0.001)*$B35),IF(C$27="mg/kg DM",(((C$28*0.001)*($B$28/100))*$B35),0)))))) -> 61.8048 | D35: =(IF(D$27="%w/w SAR",((D$28*10)*$B35),IF(D$27="%w/w DM",(((D$28*10)*($B$28/100))*$B35),IF(D$27="kg/t SAR",(D$28*$B35),IF(D$27="kg/t DM",((D$28*($B$28/100))*$B35),IF(D$27="mg/kg SAR",((D$28*0.001)*$B35),IF(D$27="mg/kg DM",(((D$28*0.001)*($B$28/100))*$B35),"0")))))))*2.291 -> 57.372203 | E35: =(IF(E$27="%w/w SAR",((E$28*10)*$B35),IF(E$27="%w/w DM",(((E$28*10)*($B$28/100))*$B35),IF(E$27="kg/t SAR",(E$28*$B35),IF(E$27="kg/t DM",((E$28*($B$28/100))*$B35),IF(E$27="mg/kg SAR",((E$28*0.001)*$B35),IF(E$27="mg/kg DM",(((E$28*0.001)*($B$28/100))*$B35),"0")))))))*1.205 -> 2.8255129 | F35: =(IF(F$27="%w/w SAR",((F$28*10)*$B35),IF(F$27="%w/w DM",(((F$28*10)*($B$28/100))*$B35),IF(F$27="kg/t SAR",(F$28*$B35),IF(F$27="kg/t DM",((F$28*($B$28/100))*$B35),IF(F$27="mg/kg SAR",((F$28*0.001)*$B35),IF(F$27="mg/kg DM",(((F$28*0.001)*($B$28/100))*$B35),"0")))))))*1.658 -> 1.838271 | G35: =IF(G$27="%w/w SAR",((G$28*10)*$B35),IF(G$27="%w/w DM",(((G$28*10)*($B$28/100))*$B35),IF(G$27="kg/t SAR",(G$28*$B35),IF(G$27="kg/t DM",((G$28*($B$28/100))*$B35),IF(G$27="mg/kg SAR",((G$28*0.001)*$B35),IF(G$27="mg/kg DM",(((G$28*0.001)*($B$28/100))*$B35),0)))))) -> 0.111708 | H35: =IF(H$27="%w/w SAR",((H$28*10)*$B35),IF(H$27="%w/w DM",(((H$28*10)*($B$28/100))*$B35),IF(H$27="kg/t SAR",(H$28*$B35),IF(H$27="kg/t DM",((H$28*($B$28/100))*$B35),IF(H$27="mg/kg SAR",((H$28*0.001)*$B35),IF(H$27="mg/kg DM",(((H$28*0.001)*($B$28/100))*$B35),0)))))) -> 0.296496 | I35: =IF(I$27="%w/w SAR",((I$28*10)*$B35),IF(I$27="%w/w DM",(((I$28*10)*($B$28/100))*$B35),IF(I$27="kg/t SAR",(I$28*$B35),IF(I$27="kg/t DM",((I$28*($B$28/100))*$B35),IF(I$27="mg/kg SAR",((I$28*0.001)*$B35),IF(I$27="mg/kg DM",(((I$28*0.001)*($B$28/100))*$B35),0)))))) -> 0.00419688 | J35: =IF(J$27="%w/w SAR",((J$28*10)*$B35),IF(J$27="%w/w DM",(((J$28*10)*($B$28/100))*$B35),IF(J$27="kg/t SAR",(J$28*$B35),IF(J$27="kg/t DM",((J$28*($B$28/100))*$B35),IF(J$27="mg/kg SAR",((J$28*0.001)*$B35),IF(J$27="mg/kg DM",(((J$28*0.001)*($B$28/100))*$B35),0)))))) -> 0.00018792 | K35: =IF(K$27="%w/w SAR",((K$28*10)*$B35),IF(K$27="%w/w DM",(((K$28*10)*($B$28/100))*$B35),IF(K$27="kg/t SAR",(K$28*$B35),IF(K$27="kg/t DM",((K$28*($B$28/100))*$B35),IF(K$27="mg/kg SAR",((K$28*0.001)*$B35),IF(K$27="mg/kg DM",(((K$28*0.001)*($B$28/100))*$B35),0)))))) -> 0.0001044 | L35: =IF(L$27="%w/w SAR",((L$28*10)*$B35),IF(L$27="%w/w DM",(((L$28*10)*($B$28/100))*$B35),IF(L$27="kg/t SAR",(L$28*$B35),IF(L$27="kg/t DM",((L$28*($B$28/100))*$B35),IF(L$27="mg/kg SAR",((L$28*0.001)*$B35),IF(L$27="mg/kg DM",(((L$28*0.001)*($B$28/100))*$B35),0)))))) -> 0.0147204 | M35: =IF(M$27="%w/w SAR",((M$28*10)*$B35),IF(M$27="%w/w DM",(((M$28*10)*($B$28/100))*$B35),IF(M$27="kg/t SAR",(M$28*$B35),IF(M$27="kg/t DM",((M$28*($B$28/100))*$B35),IF(M$27="mg/kg SAR",((M$28*0.001)*$B35),IF(M$27="mg/kg DM",(((M$28*0.001)*($B$28/100))*$B35),0)))))) -> 0.0310068 | N35: =IF(N$27="%w/w SAR",((N$28*10)*$B35),IF(N$27="%w/w DM",(((N$28*10)*($B$28/100))*$B35),IF(N$27="kg/t SAR",(N$28*$B35),IF(N$27="kg/t DM",((N$28*($B$28/100))*$B35),IF(N$27="mg/kg SAR",((N$28*0.001)*$B35),IF(N$27="mg/kg DM",(((N$28*0.001)*($B$28/100))*$B35),0)))))) -> 0 | ... P35: =IF(P$27="%w/w SAR",((P$28*10)*$B35),IF(P$27="%w/w DM",(((P$28*10)*($B$28/100))*$B35),IF(P$27="kg/t SAR",(P$28*$B35),IF(P$27="kg/t DM",((P$28*($B$28/100))*$B35),IF(P$27="mg/kg SAR",((P$28*0.001)*$B35),IF(P$27="mg/kg DM",(((P$28*0.001)*($B$28/100))*$B35),0)))))) -> 2.774952 | Q35: =(IF(Q$27="%w/w SAR",((Q$28*10)*$B35),IF(Q$27="%w/w DM",(((Q$28*10)*($B$28/100))*$B35),IF(Q$27="kg/t SAR",(Q$28*$B35),IF(Q$27="kg/t DM",((Q$28*($B$28/100))*$B35),IF(Q$27="mg/kg SAR",((Q$28*0.001)*$B35),IF(Q$27="mg/kg DM",(((Q$28*0.001)*($B$28/100))*$B35),0)))))))*2.5 -> 11.77371 | R35: =IF(R$27="%w/w SAR",((R$28*10)*$B35),IF(R$27="%w/w DM",(((R$28*10)*($B$28/100))*$B35),IF(R$27="kg/t SAR",(R$28*$B35),IF(R$27="kg/t DM",((R$28*($B$28/100))*$B35),IF(R$27="mg/kg SAR",((R$28*0.001)*$B35),IF(R$27="mg/kg DM",(((R$28*0.001)*($B$28/100))*$B35),0)))))) -> 0.00149292 | S35: =IF(S$27="%w/w SAR",((S$28*10)*$B35),IF(S$27="%w/w DM",(((S$28*10)*($B$28/100))*$B35),IF(S$27="kg/t SAR",(S$28*$B35),IF(S$27="kg/t DM",((S$28*($B$28/100))*$B35),IF(S$27="mg/kg SAR",((S$28*0.001)*$B35),IF(S$27="mg/kg DM",(((S$28*0.001)*($B$28/100))*$B35),0)))))) -> 0.00103356 | T35: =IF(T$27="%w/w SAR",((T$28*10)*$B35),IF(T$27="%w/w DM",(((T$28*10)*($B$28/100))*$B35),IF(T$27="kg/t SAR",(T$28*$B35),IF(T$27="kg/t DM",((T$28*($B$28/100))*$B35),IF(T$27="mg/kg SAR",((T$28*0.001)*$B35),IF(T$27="mg/kg DM",(((T$28*0.001)*($B$28/100))*$B35),0)))))) -> 0.00269352 | U35: =IF(U$27="%w/w SAR",((U$28*10)*$B35),IF(U$27="%w/w DM",(((U$28*10)*($B$28/100))*$B35),IF(U$27="kg/t SAR",(U$28*$B35),IF(U$27="kg/t DM",((U$28*($B$28/100))*$B35),IF(U$27="mg/kg SAR",((U$28*0.001)*$B35),IF(U$27="mg/kg DM",(((U$28*0.001)*($B$28/100))*$B35),0)))))) -> 0.0231768
A36: =H8 -> 3854 | B36: 6 | C36: =IF(C$27="%w/w SAR",((C$28*10)*$B36),IF(C$27="%w/w DM",(((C$28*10)*($B$28/100))*$B36),IF(C$27="kg/t SAR",(C$28*$B36),IF(C$27="kg/t DM",((C$28*($B$28/100))*$B36),IF(C$27="mg/kg SAR",((C$28*0.001)*$B36),IF(C$27="mg/kg DM",(((C$28*0.001)*($B$28/100))*$B36),0)))))) -> 61.8048 | D36: =(IF(D$27="%w/w SAR",((D$28*10)*$B36),IF(D$27="%w/w DM",(((D$28*10)*($B$28/100))*$B36),IF(D$27="kg/t SAR",(D$28*$B36),IF(D$27="kg/t DM",((D$28*($B$28/100))*$B36),IF(D$27="mg/kg SAR",((D$28*0.001)*$B36),IF(D$27="mg/kg DM",(((D$28*0.001)*($B$28/100))*$B36),"0")))))))*2.291 -> 57.372203 | E36: =(IF(E$27="%w/w SAR",((E$28*10)*$B36),IF(E$27="%w/w DM",(((E$28*10)*($B$28/100))*$B36),IF(E$27="kg/t SAR",(E$28*$B36),IF(E$27="kg/t DM",((E$28*($B$28/100))*$B36),IF(E$27="mg/kg SAR",((E$28*0.001)*$B36),IF(E$27="mg/kg DM",(((E$28*0.001)*($B$28/100))*$B36),"0")))))))*1.205 -> 2.8255129 | F36: =(IF(F$27="%w/w SAR",((F$28*10)*$B36),IF(F$27="%w/w DM",(((F$28*10)*($B$28/100))*$B36),IF(F$27="kg/t SAR",(F$28*$B36),IF(F$27="kg/t DM",((F$28*($B$28/100))*$B36),IF(F$27="mg/kg SAR",((F$28*0.001)*$B36),IF(F$27="mg/kg DM",(((F$28*0.001)*($B$28/100))*$B36),"0")))))))*1.658 -> 1.838271 | G36: =IF(G$27="%w/w SAR",((G$28*10)*$B36),IF(G$27="%w/w DM",(((G$28*10)*($B$28/100))*$B36),IF(G$27="kg/t SAR",(G$28*$B36),IF(G$27="kg/t DM",((G$28*($B$28/100))*$B36),IF(G$27="mg/kg SAR",((G$28*0.001)*$B36),IF(G$27="mg/kg DM",(((G$28*0.001)*($B$28/100))*$B36),0)))))) -> 0.111708 | H36: =IF(H$27="%w/w SAR",((H$28*10)*$B36),IF(H$27="%w/w DM",(((H$28*10)*($B$28/100))*$B36),IF(H$27="kg/t SAR",(H$28*$B36),IF(H$27="kg/t DM",((H$28*($B$28/100))*$B36),IF(H$27="mg/kg SAR",((H$28*0.001)*$B36),IF(H$27="mg/kg DM",(((H$28*0.001)*($B$28/100))*$B36),0)))))) -> 0.296496 | I36: =IF(I$27="%w/w SAR",((I$28*10)*$B36),IF(I$27="%w/w DM",(((I$28*10)*($B$28/100))*$B36),IF(I$27="kg/t SAR",(I$28*$B36),IF(I$27="kg/t DM",((I$28*($B$28/100))*$B36),IF(I$27="mg/kg SAR",((I$28*0.001)*$B36),IF(I$27="mg/kg DM",(((I$28*0.001)*($B$28/100))*$B36),0)))))) -> 0.00419688 | J36: =IF(J$27="%w/w SAR",((J$28*10)*$B36),IF(J$27="%w/w DM",(((J$28*10)*($B$28/100))*$B36),IF(J$27="kg/t SAR",(J$28*$B36),IF(J$27="kg/t DM",((J$28*($B$28/100))*$B36),IF(J$27="mg/kg SAR",((J$28*0.001)*$B36),IF(J$27="mg/kg DM",(((J$28*0.001)*($B$28/100))*$B36),0)))))) -> 0.00018792 | K36: =IF(K$27="%w/w SAR",((K$28*10)*$B36),IF(K$27="%w/w DM",(((K$28*10)*($B$28/100))*$B36),IF(K$27="kg/t SAR",(K$28*$B36),IF(K$27="kg/t DM",((K$28*($B$28/100))*$B36),IF(K$27="mg/kg SAR",((K$28*0.001)*$B36),IF(K$27="mg/kg DM",(((K$28*0.001)*($B$28/100))*$B36),0)))))) -> 0.0001044 | L36: =IF(L$27="%w/w SAR",((L$28*10)*$B36),IF(L$27="%w/w DM",(((L$28*10)*($B$28/100))*$B36),IF(L$27="kg/t SAR",(L$28*$B36),IF(L$27="kg/t DM",((L$28*($B$28/100))*$B36),IF(L$27="mg/kg SAR",((L$28*0.001)*$B36),IF(L$27="mg/kg DM",(((L$28*0.001)*($B$28/100))*$B36),0)))))) -> 0.0147204 | M36: =IF(M$27="%w/w SAR",((M$28*10)*$B36),IF(M$27="%w/w DM",(((M$28*10)*($B$28/100))*$B36),IF(M$27="kg/t SAR",(M$28*$B36),IF(M$27="kg/t DM",((M$28*($B$28/100))*$B36),IF(M$27="mg/kg SAR",((M$28*0.001)*$B36),IF(M$27="mg/kg DM",(((M$28*0.001)*($B$28/100))*$B36),0)))))) -> 0.0310068 | N36: =IF(N$27="%w/w SAR",((N$28*10)*$B36),IF(N$27="%w/w DM",(((N$28*10)*($B$28/100))*$B36),IF(N$27="kg/t SAR",(N$28*$B36),IF(N$27="kg/t DM",((N$28*($B$28/100))*$B36),IF(N$27="mg/kg SAR",((N$28*0.001)*$B36),IF(N$27="mg/kg DM",(((N$28*0.001)*($B$28/100))*$B36),0)))))) -> 0 | ... P36: =IF(P$27="%w/w SAR",((P$28*10)*$B36),IF(P$27="%w/w DM",(((P$28*10)*($B$28/100))*$B36),IF(P$27="kg/t SAR",(P$28*$B36),IF(P$27="kg/t DM",((P$28*($B$28/100))*$B36),IF(P$27="mg/kg SAR",((P$28*0.001)*$B36),IF(P$27="mg/kg DM",(((P$28*0.001)*($B$28/100))*$B36),0)))))) -> 2.774952 | Q36: =(IF(Q$27="%w/w SAR",((Q$28*10)*$B36),IF(Q$27="%w/w DM",(((Q$28*10)*($B$28/100))*$B36),IF(Q$27="kg/t SAR",(Q$28*$B36),IF(Q$27="kg/t DM",((Q$28*($B$28/100))*$B36),IF(Q$27="mg/kg SAR",((Q$28*0.001)*$B36),IF(Q$27="mg/kg DM",(((Q$28*0.001)*($B$28/100))*$B36),0)))))))*2.5 -> 11.77371 | R36: =IF(R$27="%w/w SAR",((R$28*10)*$B36),IF(R$27="%w/w DM",(((R$28*10)*($B$28/100))*$B36),IF(R$27="kg/t SAR",(R$28*$B36),IF(R$27="kg/t DM",((R$28*($B$28/100))*$B36),IF(R$27="mg/kg SAR",((R$28*0.001)*$B36),IF(R$27="mg/kg DM",(((R$28*0.001)*($B$28/100))*$B36),0)))))) -> 0.00149292 | S36: =IF(S$27="%w/w SAR",((S$28*10)*$B36),IF(S$27="%w/w DM",(((S$28*10)*($B$28/100))*$B36),IF(S$27="kg/t SAR",(S$28*$B36),IF(S$27="kg/t DM",((S$28*($B$28/100))*$B36),IF(S$27="mg/kg SAR",((S$28*0.001)*$B36),IF(S$27="mg/kg DM",(((S$28*0.001)*($B$28/100))*$B36),0)))))) -> 0.00103356 | T36: =IF(T$27="%w/w SAR",((T$28*10)*$B36),IF(T$27="%w/w DM",(((T$28*10)*($B$28/100))*$B36),IF(T$27="kg/t SAR",(T$28*$B36),IF(T$27="kg/t DM",((T$28*($B$28/100))*$B36),IF(T$27="mg/kg SAR",((T$28*0.001)*$B36),IF(T$27="mg/kg DM",(((T$28*0.001)*($B$28/100))*$B36),0)))))) -> 0.00269352 | U36: =IF(U$27="%w/w SAR",((U$28*10)*$B36),IF(U$27="%w/w DM",(((U$28*10)*($B$28/100))*$B36),IF(U$27="kg/t SAR",(U$28*$B36),IF(U$27="kg/t DM",((U$28*($B$28/100))*$B36),IF(U$27="mg/kg SAR",((U$28*0.001)*$B36),IF(U$27="mg/kg DM",(((U$28*0.001)*($B$28/100))*$B36),0)))))) -> 0.0231768
A37: =I8 -> 6042 | B37: 6 | C37: =IF(C$27="%w/w SAR",((C$28*10)*$B37),IF(C$27="%w/w DM",(((C$28*10)*($B$28/100))*$B37),IF(C$27="kg/t SAR",(C$28*$B37),IF(C$27="kg/t DM",((C$28*($B$28/100))*$B37),IF(C$27="mg/kg SAR",((C$28*0.001)*$B37),IF(C$27="mg/kg DM",(((C$28*0.001)*($B$28/100))*$B37),0)))))) -> 61.8048 | D37: =(IF(D$27="%w/w SAR",((D$28*10)*$B37),IF(D$27="%w/w DM",(((D$28*10)*($B$28/100))*$B37),IF(D$27="kg/t SAR",(D$28*$B37),IF(D$27="kg/t DM",((D$28*($B$28/100))*$B37),IF(D$27="mg/kg SAR",((D$28*0.001)*$B37),IF(D$27="mg/kg DM",(((D$28*0.001)*($B$28/100))*$B37),"0")))))))*2.291 -> 57.372203 | E37: =(IF(E$27="%w/w SAR",((E$28*10)*$B37),IF(E$27="%w/w DM",(((E$28*10)*($B$28/100))*$B37),IF(E$27="kg/t SAR",(E$28*$B37),IF(E$27="kg/t DM",((E$28*($B$28/100))*$B37),IF(E$27="mg/kg SAR",((E$28*0.001)*$B37),IF(E$27="mg/kg DM",(((E$28*0.001)*($B$28/100))*$B37),"0")))))))*1.205 -> 2.8255129 | F37: =(IF(F$27="%w/w SAR",((F$28*10)*$B37),IF(F$27="%w/w DM",(((F$28*10)*($B$28/100))*$B37),IF(F$27="kg/t SAR",(F$28*$B37),IF(F$27="kg/t DM",((F$28*($B$28/100))*$B37),IF(F$27="mg/kg SAR",((F$28*0.001)*$B37),IF(F$27="mg/kg DM",(((F$28*0.001)*($B$28/100))*$B37),"0")))))))*1.658 -> 1.838271 | G37: =IF(G$27="%w/w SAR",((G$28*10)*$B37),IF(G$27="%w/w DM",(((G$28*10)*($B$28/100))*$B37),IF(G$27="kg/t SAR",(G$28*$B37),IF(G$27="kg/t DM",((G$28*($B$28/100))*$B37),IF(G$27="mg/kg SAR",((G$28*0.001)*$B37),IF(G$27="mg/kg DM",(((G$28*0.001)*($B$28/100))*$B37),0)))))) -> 0.111708 | H37: =IF(H$27="%w/w SAR",((H$28*10)*$B37),IF(H$27="%w/w DM",(((H$28*10)*($B$28/100))*$B37),IF(H$27="kg/t SAR",(H$28*$B37),IF(H$27="kg/t DM",((H$28*($B$28/100))*$B37),IF(H$27="mg/kg SAR",((H$28*0.001)*$B37),IF(H$27="mg/kg DM",(((H$28*0.001)*($B$28/100))*$B37),0)))))) -> 0.296496 | I37: =IF(I$27="%w/w SAR",((I$28*10)*$B37),IF(I$27="%w/w DM",(((I$28*10)*($B$28/100))*$B37),IF(I$27="kg/t SAR",(I$28*$B37),IF(I$27="kg/t DM",((I$28*($B$28/100))*$B37),IF(I$27="mg/kg SAR",((I$28*0.001)*$B37),IF(I$27="mg/kg DM",(((I$28*0.001)*($B$28/100))*$B37),0)))))) -> 0.00419688 | J37: =IF(J$27="%w/w SAR",((J$28*10)*$B37),IF(J$27="%w/w DM",(((J$28*10)*($B$28/100))*$B37),IF(J$27="kg/t SAR",(J$28*$B37),IF(J$27="kg/t DM",((J$28*($B$28/100))*$B37),IF(J$27="mg/kg SAR",((J$28*0.001)*$B37),IF(J$27="mg/kg DM",(((J$28*0.001)*($B$28/100))*$B37),0)))))) -> 0.00018792 | K37: =IF(K$27="%w/w SAR",((K$28*10)*$B37),IF(K$27="%w/w DM",(((K$28*10)*($B$28/100))*$B37),IF(K$27="kg/t SAR",(K$28*$B37),IF(K$27="kg/t DM",((K$28*($B$28/100))*$B37),IF(K$27="mg/kg SAR",((K$28*0.001)*$B37),IF(K$27="mg/kg DM",(((K$28*0.001)*($B$28/100))*$B37),0)))))) -> 0.0001044 | L37: =IF(L$27="%w/w SAR",((L$28*10)*$B37),IF(L$27="%w/w DM",(((L$28*10)*($B$28/100))*$B37),IF(L$27="kg/t SAR",(L$28*$B37),IF(L$27="kg/t DM",((L$28*($B$28/100))*$B37),IF(L$27="mg/kg SAR",((L$28*0.001)*$B37),IF(L$27="mg/kg DM",(((L$28*0.001)*($B$28/100))*$B37),0)))))) -> 0.0147204 | M37: =IF(M$27="%w/w SAR",((M$28*10)*$B37),IF(M$27="%w/w DM",(((M$28*10)*($B$28/100))*$B37),IF(M$27="kg/t SAR",(M$28*$B37),IF(M$27="kg/t DM",((M$28*($B$28/100))*$B37),IF(M$27="mg/kg SAR",((M$28*0.001)*$B37),IF(M$27="mg/kg DM",(((M$28*0.001)*($B$28/100))*$B37),0)))))) -> 0.0310068 | N37: =IF(N$27="%w/w SAR",((N$28*10)*$B37),IF(N$27="%w/w DM",(((N$28*10)*($B$28/100))*$B37),IF(N$27="kg/t SAR",(N$28*$B37),IF(N$27="kg/t DM",((N$28*($B$28/100))*$B37),IF(N$27="mg/kg SAR",((N$28*0.001)*$B37),IF(N$27="mg/kg DM",(((N$28*0.001)*($B$28/100))*$B37),0)))))) -> 0 | ... P37: =IF(P$27="%w/w SAR",((P$28*10)*$B37),IF(P$27="%w/w DM",(((P$28*10)*($B$28/100))*$B37),IF(P$27="kg/t SAR",(P$28*$B37),IF(P$27="kg/t DM",((P$28*($B$28/100))*$B37),IF(P$27="mg/kg SAR",((P$28*0.001)*$B37),IF(P$27="mg/kg DM",(((P$28*0.001)*($B$28/100))*$B37),0)))))) -> 2.774952 | Q37: =(IF(Q$27="%w/w SAR",((Q$28*10)*$B37),IF(Q$27="%w/w DM",(((Q$28*10)*($B$28/100))*$B37),IF(Q$27="kg/t SAR",(Q$28*$B37),IF(Q$27="kg/t DM",((Q$28*($B$28/100))*$B37),IF(Q$27="mg/kg SAR",((Q$28*0.001)*$B37),IF(Q$27="mg/kg DM",(((Q$28*0.001)*($B$28/100))*$B37),0)))))))*2.5 -> 11.77371 | R37: =IF(R$27="%w/w SAR",((R$28*10)*$B37),IF(R$27="%w/w DM",(((R$28*10)*($B$28/100))*$B37),IF(R$27="kg/t SAR",(R$28*$B37),IF(R$27="kg/t DM",((R$28*($B$28/100))*$B37),IF(R$27="mg/kg SAR",((R$28*0.001)*$B37),IF(R$27="mg/kg DM",(((R$28*0.001)*($B$28/100))*$B37),0)))))) -> 0.00149292 | S37: =IF(S$27="%w/w SAR",((S$28*10)*$B37),IF(S$27="%w/w DM",(((S$28*10)*($B$28/100))*$B37),IF(S$27="kg/t SAR",(S$28*$B37),IF(S$27="kg/t DM",((S$28*($B$28/100))*$B37),IF(S$27="mg/kg SAR",((S$28*0.001)*$B37),IF(S$27="mg/kg DM",(((S$28*0.001)*($B$28/100))*$B37),0)))))) -> 0.00103356 | T37: =IF(T$27="%w/w SAR",((T$28*10)*$B37),IF(T$27="%w/w DM",(((T$28*10)*($B$28/100))*$B37),IF(T$27="kg/t SAR",(T$28*$B37),IF(T$27="kg/t DM",((T$28*($B$28/100))*$B37),IF(T$27="mg/kg SAR",((T$28*0.001)*$B37),IF(T$27="mg/kg DM",(((T$28*0.001)*($B$28/100))*$B37),0)))))) -> 0.00269352 | U37: =IF(U$27="%w/w SAR",((U$28*10)*$B37),IF(U$27="%w/w DM",(((U$28*10)*($B$28/100))*$B37),IF(U$27="kg/t SAR",(U$28*$B37),IF(U$27="kg/t DM",((U$28*($B$28/100))*$B37),IF(U$27="mg/kg SAR",((U$28*0.001)*$B37),IF(U$27="mg/kg DM",(((U$28*0.001)*($B$28/100))*$B37),0)))))) -> 0.0231768
A38: =J8 -> 2345 | B38: 6 | C38: =IF(C$27="%w/w SAR",((C$28*10)*$B38),IF(C$27="%w/w DM",(((C$28*10)*($B$28/100))*$B38),IF(C$27="kg/t SAR",(C$28*$B38),IF(C$27="kg/t DM",((C$28*($B$28/100))*$B38),IF(C$27="mg/kg SAR",((C$28*0.001)*$B38),IF(C$27="mg/kg DM",(((C$28*0.001)*($B$28/100))*$B38),0)))))) -> 61.8048 | D38: =(IF(D$27="%w/w SAR",((D$28*10)*$B38),IF(D$27="%w/w DM",(((D$28*10)*($B$28/100))*$B38),IF(D$27="kg/t SAR",(D$28*$B38),IF(D$27="kg/t DM",((D$28*($B$28/100))*$B38),IF(D$27="mg/kg SAR",((D$28*0.001)*$B38),IF(D$27="mg/kg DM",(((D$28*0.001)*($B$28/100))*$B38),"0")))))))*2.291 -> 57.372203 | E38: =(IF(E$27="%w/w SAR",((E$28*10)*$B38),IF(E$27="%w/w DM",(((E$28*10)*($B$28/100))*$B38),IF(E$27="kg/t SAR",(E$28*$B38),IF(E$27="kg/t DM",((E$28*($B$28/100))*$B38),IF(E$27="mg/kg SAR",((E$28*0.001)*$B38),IF(E$27="mg/kg DM",(((E$28*0.001)*($B$28/100))*$B38),"0")))))))*1.205 -> 2.8255129 | F38: =(IF(F$27="%w/w SAR",((F$28*10)*$B38),IF(F$27="%w/w DM",(((F$28*10)*($B$28/100))*$B38),IF(F$27="kg/t SAR",(F$28*$B38),IF(F$27="kg/t DM",((F$28*($B$28/100))*$B38),IF(F$27="mg/kg SAR",((F$28*0.001)*$B38),IF(F$27="mg/kg DM",(((F$28*0.001)*($B$28/100))*$B38),"0")))))))*1.658 -> 1.838271 | G38: =IF(G$27="%w/w SAR",((G$28*10)*$B38),IF(G$27="%w/w DM",(((G$28*10)*($B$28/100))*$B38),IF(G$27="kg/t SAR",(G$28*$B38),IF(G$27="kg/t DM",((G$28*($B$28/100))*$B38),IF(G$27="mg/kg SAR",((G$28*0.001)*$B38),IF(G$27="mg/kg DM",(((G$28*0.001)*($B$28/100))*$B38),0)))))) -> 0.111708 | H38: =IF(H$27="%w/w SAR",((H$28*10)*$B38),IF(H$27="%w/w DM",(((H$28*10)*($B$28/100))*$B38),IF(H$27="kg/t SAR",(H$28*$B38),IF(H$27="kg/t DM",((H$28*($B$28/100))*$B38),IF(H$27="mg/kg SAR",((H$28*0.001)*$B38),IF(H$27="mg/kg DM",(((H$28*0.001)*($B$28/100))*$B38),0)))))) -> 0.296496 | I38: =IF(I$27="%w/w SAR",((I$28*10)*$B38),IF(I$27="%w/w DM",(((I$28*10)*($B$28/100))*$B38),IF(I$27="kg/t SAR",(I$28*$B38),IF(I$27="kg/t DM",((I$28*($B$28/100))*$B38),IF(I$27="mg/kg SAR",((I$28*0.001)*$B38),IF(I$27="mg/kg DM",(((I$28*0.001)*($B$28/100))*$B38),0)))))) -> 0.00419688 | J38: =IF(J$27="%w/w SAR",((J$28*10)*$B38),IF(J$27="%w/w DM",(((J$28*10)*($B$28/100))*$B38),IF(J$27="kg/t SAR",(J$28*$B38),IF(J$27="kg/t DM",((J$28*($B$28/100))*$B38),IF(J$27="mg/kg SAR",((J$28*0.001)*$B38),IF(J$27="mg/kg DM",(((J$28*0.001)*($B$28/100))*$B38),0)))))) -> 0.00018792 | K38: =IF(K$27="%w/w SAR",((K$28*10)*$B38),IF(K$27="%w/w DM",(((K$28*10)*($B$28/100))*$B38),IF(K$27="kg/t SAR",(K$28*$B38),IF(K$27="kg/t DM",((K$28*($B$28/100))*$B38),IF(K$27="mg/kg SAR",((K$28*0.001)*$B38),IF(K$27="mg/kg DM",(((K$28*0.001)*($B$28/100))*$B38),0)))))) -> 0.0001044 | L38: =IF(L$27="%w/w SAR",((L$28*10)*$B38),IF(L$27="%w/w DM",(((L$28*10)*($B$28/100))*$B38),IF(L$27="kg/t SAR",(L$28*$B38),IF(L$27="kg/t DM",((L$28*($B$28/100))*$B38),IF(L$27="mg/kg SAR",((L$28*0.001)*$B38),IF(L$27="mg/kg DM",(((L$28*0.001)*($B$28/100))*$B38),0)))))) -> 0.0147204 | M38: =IF(M$27="%w/w SAR",((M$28*10)*$B38),IF(M$27="%w/w DM",(((M$28*10)*($B$28/100))*$B38),IF(M$27="kg/t SAR",(M$28*$B38),IF(M$27="kg/t DM",((M$28*($B$28/100))*$B38),IF(M$27="mg/kg SAR",((M$28*0.001)*$B38),IF(M$27="mg/kg DM",(((M$28*0.001)*($B$28/100))*$B38),0)))))) -> 0.0310068 | N38: =IF(N$27="%w/w SAR",((N$28*10)*$B38),IF(N$27="%w/w DM",(((N$28*10)*($B$28/100))*$B38),IF(N$27="kg/t SAR",(N$28*$B38),IF(N$27="kg/t DM",((N$28*($B$28/100))*$B38),IF(N$27="mg/kg SAR",((N$28*0.001)*$B38),IF(N$27="mg/kg DM",(((N$28*0.001)*($B$28/100))*$B38),0)))))) -> 0 | ... P38: =IF(P$27="%w/w SAR",((P$28*10)*$B38),IF(P$27="%w/w DM",(((P$28*10)*($B$28/100))*$B38),IF(P$27="kg/t SAR",(P$28*$B38),IF(P$27="kg/t DM",((P$28*($B$28/100))*$B38),IF(P$27="mg/kg SAR",((P$28*0.001)*$B38),IF(P$27="mg/kg DM",(((P$28*0.001)*($B$28/100))*$B38),0)))))) -> 2.774952 | Q38: =(IF(Q$27="%w/w SAR",((Q$28*10)*$B38),IF(Q$27="%w/w DM",(((Q$28*10)*($B$28/100))*$B38),IF(Q$27="kg/t SAR",(Q$28*$B38),IF(Q$27="kg/t DM",((Q$28*($B$28/100))*$B38),IF(Q$27="mg/kg SAR",((Q$28*0.001)*$B38),IF(Q$27="mg/kg DM",(((Q$28*0.001)*($B$28/100))*$B38),0)))))))*2.5 -> 11.77371 | R38: =IF(R$27="%w/w SAR",((R$28*10)*$B38),IF(R$27="%w/w DM",(((R$28*10)*($B$28/100))*$B38),IF(R$27="kg/t SAR",(R$28*$B38),IF(R$27="kg/t DM",((R$28*($B$28/100))*$B38),IF(R$27="mg/kg SAR",((R$28*0.001)*$B38),IF(R$27="mg/kg DM",(((R$28*0.001)*($B$28/100))*$B38),0)))))) -> 0.00149292 | S38: =IF(S$27="%w/w SAR",((S$28*10)*$B38),IF(S$27="%w/w DM",(((S$28*10)*($B$28/100))*$B38),IF(S$27="kg/t SAR",(S$28*$B38),IF(S$27="kg/t DM",((S$28*($B$28/100))*$B38),IF(S$27="mg/kg SAR",((S$28*0.001)*$B38),IF(S$27="mg/kg DM",(((S$28*0.001)*($B$28/100))*$B38),0)))))) -> 0.00103356 | T38: =IF(T$27="%w/w SAR",((T$28*10)*$B38),IF(T$27="%w/w DM",(((T$28*10)*($B$28/100))*$B38),IF(T$27="kg/t SAR",(T$28*$B38),IF(T$27="kg/t DM",((T$28*($B$28/100))*$B38),IF(T$27="mg/kg SAR",((T$28*0.001)*$B38),IF(T$27="mg/kg DM",(((T$28*0.001)*($B$28/100))*$B38),0)))))) -> 0.00269352 | U38: =IF(U$27="%w/w SAR",((U$28*10)*$B38),IF(U$27="%w/w DM",(((U$28*10)*($B$28/100))*$B38),IF(U$27="kg/t SAR",(U$28*$B38),IF(U$27="kg/t DM",((U$28*($B$28/100))*$B38),IF(U$27="mg/kg SAR",((U$28*0.001)*$B38),IF(U$27="mg/kg DM",(((U$28*0.001)*($B$28/100))*$B38),0)))))) -> 0.0231768
A39: =K8 -> 9808 | C39: =IF(C$27="%w/w SAR",((C$28*10)*$B39),IF(C$27="%w/w DM",(((C$28*10)*($B$28/100))*$B39),IF(C$27="kg/t SAR",(C$28*$B39),IF(C$27="kg/t DM",((C$28*($B$28/100))*$B39),IF(C$27="mg/kg SAR",((C$28*0.001)*$B39),IF(C$27="mg/kg DM",(((C$28*0.001)*($B$28/100))*$B39),0)))))) -> 0 | D39: =(IF(D$27="%w/w SAR",((D$28*10)*$B39),IF(D$27="%w/w DM",(((D$28*10)*($B$28/100))*$B39),IF(D$27="kg/t SAR",(D$28*$B39),IF(D$27="kg/t DM",((D$28*($B$28/100))*$B39),IF(D$27="mg/kg SAR",((D$28*0.001)*$B39),IF(D$27="mg/kg DM",(((D$28*0.001)*($B$28/100))*$B39),"0")))))))*2.291 -> 0 | E39: =(IF(E$27="%w/w SAR",((E$28*10)*$B39),IF(E$27="%w/w DM",(((E$28*10)*($B$28/100))*$B39),IF(E$27="kg/t SAR",(E$28*$B39),IF(E$27="kg/t DM",((E$28*($B$28/100))*$B39),IF(E$27="mg/kg SAR",((E$28*0.001)*$B39),IF(E$27="mg/kg DM",(((E$28*0.001)*($B$28/100))*$B39),"0")))))))*1.205 -> 0 | F39: =(IF(F$27="%w/w SAR",((F$28*10)*$B39),IF(F$27="%w/w DM",(((F$28*10)*($B$28/100))*$B39),IF(F$27="kg/t SAR",(F$28*$B39),IF(F$27="kg/t DM",((F$28*($B$28/100))*$B39),IF(F$27="mg/kg SAR",((F$28*0.001)*$B39),IF(F$27="mg/kg DM",(((F$28*0.001)*($B$28/100))*$B39),"0")))))))*1.658 -> 0 | G39: =IF(G$27="%w/w SAR",((G$28*10)*$B39),IF(G$27="%w/w DM",(((G$28*10)*($B$28/100))*$B39),IF(G$27="kg/t SAR",(G$28*$B39),IF(G$27="kg/t DM",((G$28*($B$28/100))*$B39),IF(G$27="mg/kg SAR",((G$28*0.001)*$B39),IF(G$27="mg/kg DM",(((G$28*0.001)*($B$28/100))*$B39),0)))))) -> 0 | H39: =IF(H$27="%w/w SAR",((H$28*10)*$B39),IF(H$27="%w/w DM",(((H$28*10)*($B$28/100))*$B39),IF(H$27="kg/t SAR",(H$28*$B39),IF(H$27="kg/t DM",((H$28*($B$28/100))*$B39),IF(H$27="mg/kg SAR",((H$28*0.001)*$B39),IF(H$27="mg/kg DM",(((H$28*0.001)*($B$28/100))*$B39),0)))))) -> 0 | I39: =IF(I$27="%w/w SAR",((I$28*10)*$B39),IF(I$27="%w/w DM",(((I$28*10)*($B$28/100))*$B39),IF(I$27="kg/t SAR",(I$28*$B39),IF(I$27="kg/t DM",((I$28*($B$28/100))*$B39),IF(I$27="mg/kg SAR",((I$28*0.001)*$B39),IF(I$27="mg/kg DM",(((I$28*0.001)*($B$28/100))*$B39),0)))))) -> 0 | J39: =IF(J$27="%w/w SAR",((J$28*10)*$B39),IF(J$27="%w/w DM",(((J$28*10)*($B$28/100))*$B39),IF(J$27="kg/t SAR",(J$28*$B39),IF(J$27="kg/t DM",((J$28*($B$28/100))*$B39),IF(J$27="mg/kg SAR",((J$28*0.001)*$B39),IF(J$27="mg/kg DM",(((J$28*0.001)*($B$28/100))*$B39),0)))))) -> 0 | K39: =IF(K$27="%w/w SAR",((K$28*10)*$B39),IF(K$27="%w/w DM",(((K$28*10)*($B$28/100))*$B39),IF(K$27="kg/t SAR",(K$28*$B39),IF(K$27="kg/t DM",((K$28*($B$28/100))*$B39),IF(K$27="mg/kg SAR",((K$28*0.001)*$B39),IF(K$27="mg/kg DM",(((K$28*0.001)*($B$28/100))*$B39),0)))))) -> 0 | L39: =IF(L$27="%w/w SAR",((L$28*10)*$B39),IF(L$27="%w/w DM",(((L$28*10)*($B$28/100))*$B39),IF(L$27="kg/t SAR",(L$28*$B39),IF(L$27="kg/t DM",((L$28*($B$28/100))*$B39),IF(L$27="mg/kg SAR",((L$28*0.001)*$B39),IF(L$27="mg/kg DM",(((L$28*0.001)*($B$28/100))*$B39),0)))))) -> 0 | M39: =IF(M$27="%w/w SAR",((M$28*10)*$B39),IF(M$27="%w/w DM",(((M$28*10)*($B$28/100))*$B39),IF(M$27="kg/t SAR",(M$28*$B39),IF(M$27="kg/t DM",((M$28*($B$28/100))*$B39),IF(M$27="mg/kg SAR",((M$28*0.001)*$B39),IF(M$27="mg/kg DM",(((M$28*0.001)*($B$28/100))*$B39),0)))))) -> 0 | N39: =IF(N$27="%w/w SAR",((N$28*10)*$B39),IF(N$27="%w/w DM",(((N$28*10)*($B$28/100))*$B39),IF(N$27="kg/t SAR",(N$28*$B39),IF(N$27="kg/t DM",((N$28*($B$28/100))*$B39),IF(N$27="mg/kg SAR",((N$28*0.001)*$B39),IF(N$27="mg/kg DM",(((N$28*0.001)*($B$28/100))*$B39),0)))))) -> 0 | ... P39: =IF(P$27="%w/w SAR",((P$28*10)*$B39),IF(P$27="%w/w DM",(((P$28*10)*($B$28/100))*$B39),IF(P$27="kg/t SAR",(P$28*$B39),IF(P$27="kg/t DM",((P$28*($B$28/100))*$B39),IF(P$27="mg/kg SAR",((P$28*0.001)*$B39),IF(P$27="mg/kg DM",(((P$28*0.001)*($B$28/100))*$B39),0)))))) -> 0 | Q39: =(IF(Q$27="%w/w SAR",((Q$28*10)*$B39),IF(Q$27="%w/w DM",(((Q$28*10)*($B$28/100))*$B39),IF(Q$27="kg/t SAR",(Q$28*$B39),IF(Q$27="kg/t DM",((Q$28*($B$28/100))*$B39),IF(Q$27="mg/kg SAR",((Q$28*0.001)*$B39),IF(Q$27="mg/kg DM",(((Q$28*0.001)*($B$28/100))*$B39),0)))))))*2.5 -> 0 | R39: =IF(R$27="%w/w SAR",((R$28*10)*$B39),IF(R$27="%w/w DM",(((R$28*10)*($B$28/100))*$B39),IF(R$27="kg/t SAR",(R$28*$B39),IF(R$27="kg/t DM",((R$28*($B$28/100))*$B39),IF(R$27="mg/kg SAR",((R$28*0.001)*$B39),IF(R$27="mg/kg DM",(((R$28*0.001)*($B$28/100))*$B39),0)))))) -> 0 | S39: =IF(S$27="%w/w SAR",((S$28*10)*$B39),IF(S$27="%w/w DM",(((S$28*10)*($B$28/100))*$B39),IF(S$27="kg/t SAR",(S$28*$B39),IF(S$27="kg/t DM",((S$28*($B$28/100))*$B39),IF(S$27="mg/kg SAR",((S$28*0.001)*$B39),IF(S$27="mg/kg DM",(((S$28*0.001)*($B$28/100))*$B39),0)))))) -> 0 | T39: =IF(T$27="%w/w SAR",((T$28*10)*$B39),IF(T$27="%w/w DM",(((T$28*10)*($B$28/100))*$B39),IF(T$27="kg/t SAR",(T$28*$B39),IF(T$27="kg/t DM",((T$28*($B$28/100))*$B39),IF(T$27="mg/kg SAR",((T$28*0.001)*$B39),IF(T$27="mg/kg DM",(((T$28*0.001)*($B$28/100))*$B39),0)))))) -> 0 | U39: =IF(U$27="%w/w SAR",((U$28*10)*$B39),IF(U$27="%w/w DM",(((U$28*10)*($B$28/100))*$B39),IF(U$27="kg/t SAR",(U$28*$B39),IF(U$27="kg/t DM",((U$28*($B$28/100))*$B39),IF(U$27="mg/kg SAR",((U$28*0.001)*$B39),IF(U$27="mg/kg DM",(((U$28*0.001)*($B$28/100))*$B39),0)))))) -> 0
A40: =L8 -> 1325 | C40: =IF(C$27="%w/w SAR",((C$28*10)*$B40),IF(C$27="%w/w DM",(((C$28*10)*($B$28/100))*$B40),IF(C$27="kg/t SAR",(C$28*$B40),IF(C$27="kg/t DM",((C$28*($B$28/100))*$B40),IF(C$27="mg/kg SAR",((C$28*0.001)*$B40),IF(C$27="mg/kg DM",(((C$28*0.001)*($B$28/100))*$B40),0)))))) -> 0 | D40: =(IF(D$27="%w/w SAR",((D$28*10)*$B40),IF(D$27="%w/w DM",(((D$28*10)*($B$28/100))*$B40),IF(D$27="kg/t SAR",(D$28*$B40),IF(D$27="kg/t DM",((D$28*($B$28/100))*$B40),IF(D$27="mg/kg SAR",((D$28*0.001)*$B40),IF(D$27="mg/kg DM",(((D$28*0.001)*($B$28/100))*$B40),"0")))))))*2.291 -> 0 | E40: =(IF(E$27="%w/w SAR",((E$28*10)*$B40),IF(E$27="%w/w DM",(((E$28*10)*($B$28/100))*$B40),IF(E$27="kg/t SAR",(E$28*$B40),IF(E$27="kg/t DM",((E$28*($B$28/100))*$B40),IF(E$27="mg/kg SAR",((E$28*0.001)*$B40),IF(E$27="mg/kg DM",(((E$28*0.001)*($B$28/100))*$B40),"0")))))))*1.205 -> 0 | F40: =(IF(F$27="%w/w SAR",((F$28*10)*$B40),IF(F$27="%w/w DM",(((F$28*10)*($B$28/100))*$B40),IF(F$27="kg/t SAR",(F$28*$B40),IF(F$27="kg/t DM",((F$28*($B$28/100))*$B40),IF(F$27="mg/kg SAR",((F$28*0.001)*$B40),IF(F$27="mg/kg DM",(((F$28*0.001)*($B$28/100))*$B40),"0")))))))*1.658 -> 0 | G40: =IF(G$27="%w/w SAR",((G$28*10)*$B40),IF(G$27="%w/w DM",(((G$28*10)*($B$28/100))*$B40),IF(G$27="kg/t SAR",(G$28*$B40),IF(G$27="kg/t DM",((G$28*($B$28/100))*$B40),IF(G$27="mg/kg SAR",((G$28*0.001)*$B40),IF(G$27="mg/kg DM",(((G$28*0.001)*($B$28/100))*$B40),0)))))) -> 0 | H40: =IF(H$27="%w/w SAR",((H$28*10)*$B40),IF(H$27="%w/w DM",(((H$28*10)*($B$28/100))*$B40),IF(H$27="kg/t SAR",(H$28*$B40),IF(H$27="kg/t DM",((H$28*($B$28/100))*$B40),IF(H$27="mg/kg SAR",((H$28*0.001)*$B40),IF(H$27="mg/kg DM",(((H$28*0.001)*($B$28/100))*$B40),0)))))) -> 0 | I40: =IF(I$27="%w/w SAR",((I$28*10)*$B40),IF(I$27="%w/w DM",(((I$28*10)*($B$28/100))*$B40),IF(I$27="kg/t SAR",(I$28*$B40),IF(I$27="kg/t DM",((I$28*($B$28/100))*$B40),IF(I$27="mg/kg SAR",((I$28*0.001)*$B40),IF(I$27="mg/kg DM",(((I$28*0.001)*($B$28/100))*$B40),0)))))) -> 0 | J40: =IF(J$27="%w/w SAR",((J$28*10)*$B40),IF(J$27="%w/w DM",(((J$28*10)*($B$28/100))*$B40),IF(J$27="kg/t SAR",(J$28*$B40),IF(J$27="kg/t DM",((J$28*($B$28/100))*$B40),IF(J$27="mg/kg SAR",((J$28*0.001)*$B40),IF(J$27="mg/kg DM",(((J$28*0.001)*($B$28/100))*$B40),0)))))) -> 0 | K40: =IF(K$27="%w/w SAR",((K$28*10)*$B40),IF(K$27="%w/w DM",(((K$28*10)*($B$28/100))*$B40),IF(K$27="kg/t SAR",(K$28*$B40),IF(K$27="kg/t DM",((K$28*($B$28/100))*$B40),IF(K$27="mg/kg SAR",((K$28*0.001)*$B40),IF(K$27="mg/kg DM",(((K$28*0.001)*($B$28/100))*$B40),0)))))) -> 0 | L40: =IF(L$27="%w/w SAR",((L$28*10)*$B40),IF(L$27="%w/w DM",(((L$28*10)*($B$28/100))*$B40),IF(L$27="kg/t SAR",(L$28*$B40),IF(L$27="kg/t DM",((L$28*($B$28/100))*$B40),IF(L$27="mg/kg SAR",((L$28*0.001)*$B40),IF(L$27="mg/kg DM",(((L$28*0.001)*($B$28/100))*$B40),0)))))) -> 0 | M40: =IF(M$27="%w/w SAR",((M$28*10)*$B40),IF(M$27="%w/w DM",(((M$28*10)*($B$28/100))*$B40),IF(M$27="kg/t SAR",(M$28*$B40),IF(M$27="kg/t DM",((M$28*($B$28/100))*$B40),IF(M$27="mg/kg SAR",((M$28*0.001)*$B40),IF(M$27="mg/kg DM",(((M$28*0.001)*($B$28/100))*$B40),0)))))) -> 0 | N40: =IF(N$27="%w/w SAR",((N$28*10)*$B40),IF(N$27="%w/w DM",(((N$28*10)*($B$28/100))*$B40),IF(N$27="kg/t SAR",(N$28*$B40),IF(N$27="kg/t DM",((N$28*($B$28/100))*$B40),IF(N$27="mg/kg SAR",((N$28*0.001)*$B40),IF(N$27="mg/kg DM",(((N$28*0.001)*($B$28/100))*$B40),0)))))) -> 0 | ... P40: =IF(P$27="%w/w SAR",((P$28*10)*$B40),IF(P$27="%w/w DM",(((P$28*10)*($B$28/100))*$B40),IF(P$27="kg/t SAR",(P$28*$B40),IF(P$27="kg/t DM",((P$28*($B$28/100))*$B40),IF(P$27="mg/kg SAR",((P$28*0.001)*$B40),IF(P$27="mg/kg DM",(((P$28*0.001)*($B$28/100))*$B40),0)))))) -> 0 | Q40: =(IF(Q$27="%w/w SAR",((Q$28*10)*$B40),IF(Q$27="%w/w DM",(((Q$28*10)*($B$28/100))*$B40),IF(Q$27="kg/t SAR",(Q$28*$B40),IF(Q$27="kg/t DM",((Q$28*($B$28/100))*$B40),IF(Q$27="mg/kg SAR",((Q$28*0.001)*$B40),IF(Q$27="mg/kg DM",(((Q$28*0.001)*($B$28/100))*$B40),0)))))))*2.5 -> 0 | R40: =IF(R$27="%w/w SAR",((R$28*10)*$B40),IF(R$27="%w/w DM",(((R$28*10)*($B$28/100))*$B40),IF(R$27="kg/t SAR",(R$28*$B40),IF(R$27="kg/t DM",((R$28*($B$28/100))*$B40),IF(R$27="mg/kg SAR",((R$28*0.001)*$B40),IF(R$27="mg/kg DM",(((R$28*0.001)*($B$28/100))*$B40),0)))))) -> 0 | S40: =IF(S$27="%w/w SAR",((S$28*10)*$B40),IF(S$27="%w/w DM",(((S$28*10)*($B$28/100))*$B40),IF(S$27="kg/t SAR",(S$28*$B40),IF(S$27="kg/t DM",((S$28*($B$28/100))*$B40),IF(S$27="mg/kg SAR",((S$28*0.001)*$B40),IF(S$27="mg/kg DM",(((S$28*0.001)*($B$28/100))*$B40),0)))))) -> 0 | T40: =IF(T$27="%w/w SAR",((T$28*10)*$B40),IF(T$27="%w/w DM",(((T$28*10)*($B$28/100))*$B40),IF(T$27="kg/t SAR",(T$28*$B40),IF(T$27="kg/t DM",((T$28*($B$28/100))*$B40),IF(T$27="mg/kg SAR",((T$28*0.001)*$B40),IF(T$27="mg/kg DM",(((T$28*0.001)*($B$28/100))*$B40),0)))))) -> 0 | U40: =IF(U$27="%w/w SAR",((U$28*10)*$B40),IF(U$27="%w/w DM",(((U$28*10)*($B$28/100))*$B40),IF(U$27="kg/t SAR",(U$28*$B40),IF(U$27="kg/t DM",((U$28*($B$28/100))*$B40),IF(U$27="mg/kg SAR",((U$28*0.001)*$B40),IF(U$27="mg/kg DM",(((U$28*0.001)*($B$28/100))*$B40),0)))))) -> 0
A41: =M8 -> 4105 | B41: 6 | C41: =IF(C$27="%w/w SAR",((C$28*10)*$B41),IF(C$27="%w/w DM",(((C$28*10)*($B$28/100))*$B41),IF(C$27="kg/t SAR",(C$28*$B41),IF(C$27="kg/t DM",((C$28*($B$28/100))*$B41),IF(C$27="mg/kg SAR",((C$28*0.001)*$B41),IF(C$27="mg/kg DM",(((C$28*0.001)*($B$28/100))*$B41),0)))))) -> 61.8048 | D41: =(IF(D$27="%w/w SAR",((D$28*10)*$B41),IF(D$27="%w/w DM",(((D$28*10)*($B$28/100))*$B41),IF(D$27="kg/t SAR",(D$28*$B41),IF(D$27="kg/t DM",((D$28*($B$28/100))*$B41),IF(D$27="mg/kg SAR",((D$28*0.001)*$B41),IF(D$27="mg/kg DM",(((D$28*0.001)*($B$28/100))*$B41),"0")))))))*2.291 -> 57.372203 | E41: =(IF(E$27="%w/w SAR",((E$28*10)*$B41),IF(E$27="%w/w DM",(((E$28*10)*($B$28/100))*$B41),IF(E$27="kg/t SAR",(E$28*$B41),IF(E$27="kg/t DM",((E$28*($B$28/100))*$B41),IF(E$27="mg/kg SAR",((E$28*0.001)*$B41),IF(E$27="mg/kg DM",(((E$28*0.001)*($B$28/100))*$B41),"0")))))))*1.205 -> 2.8255129 | F41: =(IF(F$27="%w/w SAR",((F$28*10)*$B41),IF(F$27="%w/w DM",(((F$28*10)*($B$28/100))*$B41),IF(F$27="kg/t SAR",(F$28*$B41),IF(F$27="kg/t DM",((F$28*($B$28/100))*$B41),IF(F$27="mg/kg SAR",((F$28*0.001)*$B41),IF(F$27="mg/kg DM",(((F$28*0.001)*($B$28/100))*$B41),"0")))))))*1.658 -> 1.838271 | G41: =IF(G$27="%w/w SAR",((G$28*10)*$B41),IF(G$27="%w/w DM",(((G$28*10)*($B$28/100))*$B41),IF(G$27="kg/t SAR",(G$28*$B41),IF(G$27="kg/t DM",((G$28*($B$28/100))*$B41),IF(G$27="mg/kg SAR",((G$28*0.001)*$B41),IF(G$27="mg/kg DM",(((G$28*0.001)*($B$28/100))*$B41),0)))))) -> 0.111708 | H41: =IF(H$27="%w/w SAR",((H$28*10)*$B41),IF(H$27="%w/w DM",(((H$28*10)*($B$28/100))*$B41),IF(H$27="kg/t SAR",(H$28*$B41),IF(H$27="kg/t DM",((H$28*($B$28/100))*$B41),IF(H$27="mg/kg SAR",((H$28*0.001)*$B41),IF(H$27="mg/kg DM",(((H$28*0.001)*($B$28/100))*$B41),0)))))) -> 0.296496 | I41: =IF(I$27="%w/w SAR",((I$28*10)*$B41),IF(I$27="%w/w DM",(((I$28*10)*($B$28/100))*$B41),IF(I$27="kg/t SAR",(I$28*$B41),IF(I$27="kg/t DM",((I$28*($B$28/100))*$B41),IF(I$27="mg/kg SAR",((I$28*0.001)*$B41),IF(I$27="mg/kg DM",(((I$28*0.001)*($B$28/100))*$B41),0)))))) -> 0.00419688 | J41: =IF(J$27="%w/w SAR",((J$28*10)*$B41),IF(J$27="%w/w DM",(((J$28*10)*($B$28/100))*$B41),IF(J$27="kg/t SAR",(J$28*$B41),IF(J$27="kg/t DM",((J$28*($B$28/100))*$B41),IF(J$27="mg/kg SAR",((J$28*0.001)*$B41),IF(J$27="mg/kg DM",(((J$28*0.001)*($B$28/100))*$B41),0)))))) -> 0.00018792 | K41: =IF(K$27="%w/w SAR",((K$28*10)*$B41),IF(K$27="%w/w DM",(((K$28*10)*($B$28/100))*$B41),IF(K$27="kg/t SAR",(K$28*$B41),IF(K$27="kg/t DM",((K$28*($B$28/100))*$B41),IF(K$27="mg/kg SAR",((K$28*0.001)*$B41),IF(K$27="mg/kg DM",(((K$28*0.001)*($B$28/100))*$B41),0)))))) -> 0.0001044 | L41: =IF(L$27="%w/w SAR",((L$28*10)*$B41),IF(L$27="%w/w DM",(((L$28*10)*($B$28/100))*$B41),IF(L$27="kg/t SAR",(L$28*$B41),IF(L$27="kg/t DM",((L$28*($B$28/100))*$B41),IF(L$27="mg/kg SAR",((L$28*0.001)*$B41),IF(L$27="mg/kg DM",(((L$28*0.001)*($B$28/100))*$B41),0)))))) -> 0.0147204 | M41: =IF(M$27="%w/w SAR",((M$28*10)*$B41),IF(M$27="%w/w DM",(((M$28*10)*($B$28/100))*$B41),IF(M$27="kg/t SAR",(M$28*$B41),IF(M$27="kg/t DM",((M$28*($B$28/100))*$B41),IF(M$27="mg/kg SAR",((M$28*0.001)*$B41),IF(M$27="mg/kg DM",(((M$28*0.001)*($B$28/100))*$B41),0)))))) -> 0.0310068 | N41: =IF(N$27="%w/w SAR",((N$28*10)*$B41),IF(N$27="%w/w DM",(((N$28*10)*($B$28/100))*$B41),IF(N$27="kg/t SAR",(N$28*$B41),IF(N$27="kg/t DM",((N$28*($B$28/100))*$B41),IF(N$27="mg/kg SAR",((N$28*0.001)*$B41),IF(N$27="mg/kg DM",(((N$28*0.001)*($B$28/100))*$B41),0)))))) -> 0 | ... P41: =IF(P$27="%w/w SAR",((P$28*10)*$B41),IF(P$27="%w/w DM",(((P$28*10)*($B$28/100))*$B41),IF(P$27="kg/t SAR",(P$28*$B41),IF(P$27="kg/t DM",((P$28*($B$28/100))*$B41),IF(P$27="mg/kg SAR",((P$28*0.001)*$B41),IF(P$27="mg/kg DM",(((P$28*0.001)*($B$28/100))*$B41),0)))))) -> 2.774952 | Q41: =(IF(Q$27="%w/w SAR",((Q$28*10)*$B41),IF(Q$27="%w/w DM",(((Q$28*10)*($B$28/100))*$B41),IF(Q$27="kg/t SAR",(Q$28*$B41),IF(Q$27="kg/t DM",((Q$28*($B$28/100))*$B41),IF(Q$27="mg/kg SAR",((Q$28*0.001)*$B41),IF(Q$27="mg/kg DM",(((Q$28*0.001)*($B$28/100))*$B41),0)))))))*2.5 -> 11.77371 | R41: =IF(R$27="%w/w SAR",((R$28*10)*$B41),IF(R$27="%w/w DM",(((R$28*10)*($B$28/100))*$B41),IF(R$27="kg/t SAR",(R$28*$B41),IF(R$27="kg/t DM",((R$28*($B$28/100))*$B41),IF(R$27="mg/kg SAR",((R$28*0.001)*$B41),IF(R$27="mg/kg DM",(((R$28*0.001)*($B$28/100))*$B41),0)))))) -> 0.00149292 | S41: =IF(S$27="%w/w SAR",((S$28*10)*$B41),IF(S$27="%w/w DM",(((S$28*10)*($B$28/100))*$B41),IF(S$27="kg/t SAR",(S$28*$B41),IF(S$27="kg/t DM",((S$28*($B$28/100))*$B41),IF(S$27="mg/kg SAR",((S$28*0.001)*$B41),IF(S$27="mg/kg DM",(((S$28*0.001)*($B$28/100))*$B41),0)))))) -> 0.00103356 | T41: =IF(T$27="%w/w SAR",((T$28*10)*$B41),IF(T$27="%w/w DM",(((T$28*10)*($B$28/100))*$B41),IF(T$27="kg/t SAR",(T$28*$B41),IF(T$27="kg/t DM",((T$28*($B$28/100))*$B41),IF(T$27="mg/kg SAR",((T$28*0.001)*$B41),IF(T$27="mg/kg DM",(((T$28*0.001)*($B$28/100))*$B41),0)))))) -> 0.00269352 | U41: =IF(U$27="%w/w SAR",((U$28*10)*$B41),IF(U$27="%w/w DM",(((U$28*10)*($B$28/100))*$B41),IF(U$27="kg/t SAR",(U$28*$B41),IF(U$27="kg/t DM",((U$28*($B$28/100))*$B41),IF(U$27="mg/kg SAR",((U$28*0.001)*$B41),IF(U$27="mg/kg DM",(((U$28*0.001)*($B$28/100))*$B41),0)))))) -> 0.0231768
A42: =N8 -> 6810 | B42: 6 | C42: =IF(C$27="%w/w SAR",((C$28*10)*$B42),IF(C$27="%w/w DM",(((C$28*10)*($B$28/100))*$B42),IF(C$27="kg/t SAR",(C$28*$B42),IF(C$27="kg/t DM",((C$28*($B$28/100))*$B42),IF(C$27="mg/kg SAR",((C$28*0.001)*$B42),IF(C$27="mg/kg DM",(((C$28*0.001)*($B$28/100))*$B42),0)))))) -> 61.8048 | D42: =(IF(D$27="%w/w SAR",((D$28*10)*$B42),IF(D$27="%w/w DM",(((D$28*10)*($B$28/100))*$B42),IF(D$27="kg/t SAR",(D$28*$B42),IF(D$27="kg/t DM",((D$28*($B$28/100))*$B42),IF(D$27="mg/kg SAR",((D$28*0.001)*$B42),IF(D$27="mg/kg DM",(((D$28*0.001)*($B$28/100))*$B42),"0")))))))*2.291 -> 57.372203 | E42: =(IF(E$27="%w/w SAR",((E$28*10)*$B42),IF(E$27="%w/w DM",(((E$28*10)*($B$28/100))*$B42),IF(E$27="kg/t SAR",(E$28*$B42),IF(E$27="kg/t DM",((E$28*($B$28/100))*$B42),IF(E$27="mg/kg SAR",((E$28*0.001)*$B42),IF(E$27="mg/kg DM",(((E$28*0.001)*($B$28/100))*$B42),"0")))))))*1.205 -> 2.8255129 | F42: =(IF(F$27="%w/w SAR",((F$28*10)*$B42),IF(F$27="%w/w DM",(((F$28*10)*($B$28/100))*$B42),IF(F$27="kg/t SAR",(F$28*$B42),IF(F$27="kg/t DM",((F$28*($B$28/100))*$B42),IF(F$27="mg/kg SAR",((F$28*0.001)*$B42),IF(F$27="mg/kg DM",(((F$28*0.001)*($B$28/100))*$B42),"0")))))))*1.658 -> 1.838271 | G42: =IF(G$27="%w/w SAR",((G$28*10)*$B42),IF(G$27="%w/w DM",(((G$28*10)*($B$28/100))*$B42),IF(G$27="kg/t SAR",(G$28*$B42),IF(G$27="kg/t DM",((G$28*($B$28/100))*$B42),IF(G$27="mg/kg SAR",((G$28*0.001)*$B42),IF(G$27="mg/kg DM",(((G$28*0.001)*($B$28/100))*$B42),0)))))) -> 0.111708 | H42: =IF(H$27="%w/w SAR",((H$28*10)*$B42),IF(H$27="%w/w DM",(((H$28*10)*($B$28/100))*$B42),IF(H$27="kg/t SAR",(H$28*$B42),IF(H$27="kg/t DM",((H$28*($B$28/100))*$B42),IF(H$27="mg/kg SAR",((H$28*0.001)*$B42),IF(H$27="mg/kg DM",(((H$28*0.001)*($B$28/100))*$B42),0)))))) -> 0.296496 | I42: =IF(I$27="%w/w SAR",((I$28*10)*$B42),IF(I$27="%w/w DM",(((I$28*10)*($B$28/100))*$B42),IF(I$27="kg/t SAR",(I$28*$B42),IF(I$27="kg/t DM",((I$28*($B$28/100))*$B42),IF(I$27="mg/kg SAR",((I$28*0.001)*$B42),IF(I$27="mg/kg DM",(((I$28*0.001)*($B$28/100))*$B42),0)))))) -> 0.00419688 | J42: =IF(J$27="%w/w SAR",((J$28*10)*$B42),IF(J$27="%w/w DM",(((J$28*10)*($B$28/100))*$B42),IF(J$27="kg/t SAR",(J$28*$B42),IF(J$27="kg/t DM",((J$28*($B$28/100))*$B42),IF(J$27="mg/kg SAR",((J$28*0.001)*$B42),IF(J$27="mg/kg DM",(((J$28*0.001)*($B$28/100))*$B42),0)))))) -> 0.00018792 | K42: =IF(K$27="%w/w SAR",((K$28*10)*$B42),IF(K$27="%w/w DM",(((K$28*10)*($B$28/100))*$B42),IF(K$27="kg/t SAR",(K$28*$B42),IF(K$27="kg/t DM",((K$28*($B$28/100))*$B42),IF(K$27="mg/kg SAR",((K$28*0.001)*$B42),IF(K$27="mg/kg DM",(((K$28*0.001)*($B$28/100))*$B42),0)))))) -> 0.0001044 | L42: =IF(L$27="%w/w SAR",((L$28*10)*$B42),IF(L$27="%w/w DM",(((L$28*10)*($B$28/100))*$B42),IF(L$27="kg/t SAR",(L$28*$B42),IF(L$27="kg/t DM",((L$28*($B$28/100))*$B42),IF(L$27="mg/kg SAR",((L$28*0.001)*$B42),IF(L$27="mg/kg DM",(((L$28*0.001)*($B$28/100))*$B42),0)))))) -> 0.0147204 | M42: =IF(M$27="%w/w SAR",((M$28*10)*$B42),IF(M$27="%w/w DM",(((M$28*10)*($B$28/100))*$B42),IF(M$27="kg/t SAR",(M$28*$B42),IF(M$27="kg/t DM",((M$28*($B$28/100))*$B42),IF(M$27="mg/kg SAR",((M$28*0.001)*$B42),IF(M$27="mg/kg DM",(((M$28*0.001)*($B$28/100))*$B42),0)))))) -> 0.0310068 | N42: =IF(N$27="%w/w SAR",((N$28*10)*$B42),IF(N$27="%w/w DM",(((N$28*10)*($B$28/100))*$B42),IF(N$27="kg/t SAR",(N$28*$B42),IF(N$27="kg/t DM",((N$28*($B$28/100))*$B42),IF(N$27="mg/kg SAR",((N$28*0.001)*$B42),IF(N$27="mg/kg DM",(((N$28*0.001)*($B$28/100))*$B42),0)))))) -> 0 | ... P42: =IF(P$27="%w/w SAR",((P$28*10)*$B42),IF(P$27="%w/w DM",(((P$28*10)*($B$28/100))*$B42),IF(P$27="kg/t SAR",(P$28*$B42),IF(P$27="kg/t DM",((P$28*($B$28/100))*$B42),IF(P$27="mg/kg SAR",((P$28*0.001)*$B42),IF(P$27="mg/kg DM",(((P$28*0.001)*($B$28/100))*$B42),0)))))) -> 2.774952 | Q42: =(IF(Q$27="%w/w SAR",((Q$28*10)*$B42),IF(Q$27="%w/w DM",(((Q$28*10)*($B$28/100))*$B42),IF(Q$27="kg/t SAR",(Q$28*$B42),IF(Q$27="kg/t DM",((Q$28*($B$28/100))*$B42),IF(Q$27="mg/kg SAR",((Q$28*0.001)*$B42),IF(Q$27="mg/kg DM",(((Q$28*0.001)*($B$28/100))*$B42),0)))))))*2.5 -> 11.77371 | R42: =IF(R$27="%w/w SAR",((R$28*10)*$B42),IF(R$27="%w/w DM",(((R$28*10)*($B$28/100))*$B42),IF(R$27="kg/t SAR",(R$28*$B42),IF(R$27="kg/t DM",((R$28*($B$28/100))*$B42),IF(R$27="mg/kg SAR",((R$28*0.001)*$B42),IF(R$27="mg/kg DM",(((R$28*0.001)*($B$28/100))*$B42),0)))))) -> 0.00149292 | S42: =IF(S$27="%w/w SAR",((S$28*10)*$B42),IF(S$27="%w/w DM",(((S$28*10)*($B$28/100))*$B42),IF(S$27="kg/t SAR",(S$28*$B42),IF(S$27="kg/t DM",((S$28*($B$28/100))*$B42),IF(S$27="mg/kg SAR",((S$28*0.001)*$B42),IF(S$27="mg/kg DM",(((S$28*0.001)*($B$28/100))*$B42),0)))))) -> 0.00103356 | T42: =IF(T$27="%w/w SAR",((T$28*10)*$B42),IF(T$27="%w/w DM",(((T$28*10)*($B$28/100))*$B42),IF(T$27="kg/t SAR",(T$28*$B42),IF(T$27="kg/t DM",((T$28*($B$28/100))*$B42),IF(T$27="mg/kg SAR",((T$28*0.001)*$B42),IF(T$27="mg/kg DM",(((T$28*0.001)*($B$28/100))*$B42),0)))))) -> 0.00269352 | U42: =IF(U$27="%w/w SAR",((U$28*10)*$B42),IF(U$27="%w/w DM",(((U$28*10)*($B$28/100))*$B42),IF(U$27="kg/t SAR",(U$28*$B42),IF(U$27="kg/t DM",((U$28*($B$28/100))*$B42),IF(U$27="mg/kg SAR",((U$28*0.001)*$B42),IF(U$27="mg/kg DM",(((U$28*0.001)*($B$28/100))*$B42),0)))))) -> 0.0231768
A43: =O8 -> 8614 | B43: 6 | C43: =IF(C$27="%w/w SAR",((C$28*10)*$B43),IF(C$27="%w/w DM",(((C$28*10)*($B$28/100))*$B43),IF(C$27="kg/t SAR",(C$28*$B43),IF(C$27="kg/t DM",((C$28*($B$28/100))*$B43),IF(C$27="mg/kg SAR",((C$28*0.001)*$B43),IF(C$27="mg/kg DM",(((C$28*0.001)*($B$28/100))*$B43),0)))))) -> 61.8048 | D43: =(IF(D$27="%w/w SAR",((D$28*10)*$B43),IF(D$27="%w/w DM",(((D$28*10)*($B$28/100))*$B43),IF(D$27="kg/t SAR",(D$28*$B43),IF(D$27="kg/t DM",((D$28*($B$28/100))*$B43),IF(D$27="mg/kg SAR",((D$28*0.001)*$B43),IF(D$27="mg/kg DM",(((D$28*0.001)*($B$28/100))*$B43),"0")))))))*2.291 -> 57.372203 | E43: =(IF(E$27="%w/w SAR",((E$28*10)*$B43),IF(E$27="%w/w DM",(((E$28*10)*($B$28/100))*$B43),IF(E$27="kg/t SAR",(E$28*$B43),IF(E$27="kg/t DM",((E$28*($B$28/100))*$B43),IF(E$27="mg/kg SAR",((E$28*0.001)*$B43),IF(E$27="mg/kg DM",(((E$28*0.001)*($B$28/100))*$B43),"0")))))))*1.205 -> 2.8255129 | F43: =(IF(F$27="%w/w SAR",((F$28*10)*$B43),IF(F$27="%w/w DM",(((F$28*10)*($B$28/100))*$B43),IF(F$27="kg/t SAR",(F$28*$B43),IF(F$27="kg/t DM",((F$28*($B$28/100))*$B43),IF(F$27="mg/kg SAR",((F$28*0.001)*$B43),IF(F$27="mg/kg DM",(((F$28*0.001)*($B$28/100))*$B43),"0")))))))*1.658 -> 1.838271 | G43: =IF(G$27="%w/w SAR",((G$28*10)*$B43),IF(G$27="%w/w DM",(((G$28*10)*($B$28/100))*$B43),IF(G$27="kg/t SAR",(G$28*$B43),IF(G$27="kg/t DM",((G$28*($B$28/100))*$B43),IF(G$27="mg/kg SAR",((G$28*0.001)*$B43),IF(G$27="mg/kg DM",(((G$28*0.001)*($B$28/100))*$B43),0)))))) -> 0.111708 | H43: =IF(H$27="%w/w SAR",((H$28*10)*$B43),IF(H$27="%w/w DM",(((H$28*10)*($B$28/100))*$B43),IF(H$27="kg/t SAR",(H$28*$B43),IF(H$27="kg/t DM",((H$28*($B$28/100))*$B43),IF(H$27="mg/kg SAR",((H$28*0.001)*$B43),IF(H$27="mg/kg DM",(((H$28*0.001)*($B$28/100))*$B43),0)))))) -> 0.296496 | I43: =IF(I$27="%w/w SAR",((I$28*10)*$B43),IF(I$27="%w/w DM",(((I$28*10)*($B$28/100))*$B43),IF(I$27="kg/t SAR",(I$28*$B43),IF(I$27="kg/t DM",((I$28*($B$28/100))*$B43),IF(I$27="mg/kg SAR",((I$28*0.001)*$B43),IF(I$27="mg/kg DM",(((I$28*0.001)*($B$28/100))*$B43),0)))))) -> 0.00419688 | J43: =IF(J$27="%w/w SAR",((J$28*10)*$B43),IF(J$27="%w/w DM",(((J$28*10)*($B$28/100))*$B43),IF(J$27="kg/t SAR",(J$28*$B43),IF(J$27="kg/t DM",((J$28*($B$28/100))*$B43),IF(J$27="mg/kg SAR",((J$28*0.001)*$B43),IF(J$27="mg/kg DM",(((J$28*0.001)*($B$28/100))*$B43),0)))))) -> 0.00018792 | K43: =IF(K$27="%w/w SAR",((K$28*10)*$B43),IF(K$27="%w/w DM",(((K$28*10)*($B$28/100))*$B43),IF(K$27="kg/t SAR",(K$28*$B43),IF(K$27="kg/t DM",((K$28*($B$28/100))*$B43),IF(K$27="mg/kg SAR",((K$28*0.001)*$B43),IF(K$27="mg/kg DM",(((K$28*0.001)*($B$28/100))*$B43),0)))))) -> 0.0001044 | L43: =IF(L$27="%w/w SAR",((L$28*10)*$B43),IF(L$27="%w/w DM",(((L$28*10)*($B$28/100))*$B43),IF(L$27="kg/t SAR",(L$28*$B43),IF(L$27="kg/t DM",((L$28*($B$28/100))*$B43),IF(L$27="mg/kg SAR",((L$28*0.001)*$B43),IF(L$27="mg/kg DM",(((L$28*0.001)*($B$28/100))*$B43),0)))))) -> 0.0147204 | M43: =IF(M$27="%w/w SAR",((M$28*10)*$B43),IF(M$27="%w/w DM",(((M$28*10)*($B$28/100))*$B43),IF(M$27="kg/t SAR",(M$28*$B43),IF(M$27="kg/t DM",((M$28*($B$28/100))*$B43),IF(M$27="mg/kg SAR",((M$28*0.001)*$B43),IF(M$27="mg/kg DM",(((M$28*0.001)*($B$28/100))*$B43),0)))))) -> 0.0310068 | N43: =IF(N$27="%w/w SAR",((N$28*10)*$B43),IF(N$27="%w/w DM",(((N$28*10)*($B$28/100))*$B43),IF(N$27="kg/t SAR",(N$28*$B43),IF(N$27="kg/t DM",((N$28*($B$28/100))*$B43),IF(N$27="mg/kg SAR",((N$28*0.001)*$B43),IF(N$27="mg/kg DM",(((N$28*0.001)*($B$28/100))*$B43),0)))))) -> 0 | ... P43: =IF(P$27="%w/w SAR",((P$28*10)*$B43),IF(P$27="%w/w DM",(((P$28*10)*($B$28/100))*$B43),IF(P$27="kg/t SAR",(P$28*$B43),IF(P$27="kg/t DM",((P$28*($B$28/100))*$B43),IF(P$27="mg/kg SAR",((P$28*0.001)*$B43),IF(P$27="mg/kg DM",(((P$28*0.001)*($B$28/100))*$B43),0)))))) -> 2.774952 | Q43: =(IF(Q$27="%w/w SAR",((Q$28*10)*$B43),IF(Q$27="%w/w DM",(((Q$28*10)*($B$28/100))*$B43),IF(Q$27="kg/t SAR",(Q$28*$B43),IF(Q$27="kg/t DM",((Q$28*($B$28/100))*$B43),IF(Q$27="mg/kg SAR",((Q$28*0.001)*$B43),IF(Q$27="mg/kg DM",(((Q$28*0.001)*($B$28/100))*$B43),0)))))))*2.5 -> 11.77371 | R43: =IF(R$27="%w/w SAR",((R$28*10)*$B43),IF(R$27="%w/w DM",(((R$28*10)*($B$28/100))*$B43),IF(R$27="kg/t SAR",(R$28*$B43),IF(R$27="kg/t DM",((R$28*($B$28/100))*$B43),IF(R$27="mg/kg SAR",((R$28*0.001)*$B43),IF(R$27="mg/kg DM",(((R$28*0.001)*($B$28/100))*$B43),0)))))) -> 0.00149292 | S43: =IF(S$27="%w/w SAR",((S$28*10)*$B43),IF(S$27="%w/w DM",(((S$28*10)*($B$28/100))*$B43),IF(S$27="kg/t SAR",(S$28*$B43),IF(S$27="kg/t DM",((S$28*($B$28/100))*$B43),IF(S$27="mg/kg SAR",((S$28*0.001)*$B43),IF(S$27="mg/kg DM",(((S$28*0.001)*($B$28/100))*$B43),0)))))) -> 0.00103356 | T43: =IF(T$27="%w/w SAR",((T$28*10)*$B43),IF(T$27="%w/w DM",(((T$28*10)*($B$28/100))*$B43),IF(T$27="kg/t SAR",(T$28*$B43),IF(T$27="kg/t DM",((T$28*($B$28/100))*$B43),IF(T$27="mg/kg SAR",((T$28*0.001)*$B43),IF(T$27="mg/kg DM",(((T$28*0.001)*($B$28/100))*$B43),0)))))) -> 0.00269352 | U43: =IF(U$27="%w/w SAR",((U$28*10)*$B43),IF(U$27="%w/w DM",(((U$28*10)*($B$28/100))*$B43),IF(U$27="kg/t SAR",(U$28*$B43),IF(U$27="kg/t DM",((U$28*($B$28/100))*$B43),IF(U$27="mg/kg SAR",((U$28*0.001)*$B43),IF(U$27="mg/kg DM",(((U$28*0.001)*($B$28/100))*$B43),0)))))) -> 0.0231768
A44: =P8 -> 4289 | B44: 20 | C44: =IF(C$27="%w/w SAR",((C$28*10)*$B44),IF(C$27="%w/w DM",(((C$28*10)*($B$28/100))*$B44),IF(C$27="kg/t SAR",(C$28*$B44),IF(C$27="kg/t DM",((C$28*($B$28/100))*$B44),IF(C$27="mg/kg SAR",((C$28*0.001)*$B44),IF(C$27="mg/kg DM",(((C$28*0.001)*($B$28/100))*$B44),0)))))) -> 206.016 | D44: =(IF(D$27="%w/w SAR",((D$28*10)*$B44),IF(D$27="%w/w DM",(((D$28*10)*($B$28/100))*$B44),IF(D$27="kg/t SAR",(D$28*$B44),IF(D$27="kg/t DM",((D$28*($B$28/100))*$B44),IF(D$27="mg/kg SAR",((D$28*0.001)*$B44),IF(D$27="mg/kg DM",(((D$28*0.001)*($B$28/100))*$B44),"0")))))))*2.291 -> 191.24068 | E44: =(IF(E$27="%w/w SAR",((E$28*10)*$B44),IF(E$27="%w/w DM",(((E$28*10)*($B$28/100))*$B44),IF(E$27="kg/t SAR",(E$28*$B44),IF(E$27="kg/t DM",((E$28*($B$28/100))*$B44),IF(E$27="mg/kg SAR",((E$28*0.001)*$B44),IF(E$27="mg/kg DM",(((E$28*0.001)*($B$28/100))*$B44),"0")))))))*1.205 -> 9.4183764 | F44: =(IF(F$27="%w/w SAR",((F$28*10)*$B44),IF(F$27="%w/w DM",(((F$28*10)*($B$28/100))*$B44),IF(F$27="kg/t SAR",(F$28*$B44),IF(F$27="kg/t DM",((F$28*($B$28/100))*$B44),IF(F$27="mg/kg SAR",((F$28*0.001)*$B44),IF(F$27="mg/kg DM",(((F$28*0.001)*($B$28/100))*$B44),"0")))))))*1.658 -> 6.1275701 | G44: =IF(G$27="%w/w SAR",((G$28*10)*$B44),IF(G$27="%w/w DM",(((G$28*10)*($B$28/100))*$B44),IF(G$27="kg/t SAR",(G$28*$B44),IF(G$27="kg/t DM",((G$28*($B$28/100))*$B44),IF(G$27="mg/kg SAR",((G$28*0.001)*$B44),IF(G$27="mg/kg DM",(((G$28*0.001)*($B$28/100))*$B44),0)))))) -> 0.37236 | H44: =IF(H$27="%w/w SAR",((H$28*10)*$B44),IF(H$27="%w/w DM",(((H$28*10)*($B$28/100))*$B44),IF(H$27="kg/t SAR",(H$28*$B44),IF(H$27="kg/t DM",((H$28*($B$28/100))*$B44),IF(H$27="mg/kg SAR",((H$28*0.001)*$B44),IF(H$27="mg/kg DM",(((H$28*0.001)*($B$28/100))*$B44),0)))))) -> 0.98832 | I44: =IF(I$27="%w/w SAR",((I$28*10)*$B44),IF(I$27="%w/w DM",(((I$28*10)*($B$28/100))*$B44),IF(I$27="kg/t SAR",(I$28*$B44),IF(I$27="kg/t DM",((I$28*($B$28/100))*$B44),IF(I$27="mg/kg SAR",((I$28*0.001)*$B44),IF(I$27="mg/kg DM",(((I$28*0.001)*($B$28/100))*$B44),0)))))) -> 0.0139896 | J44: =IF(J$27="%w/w SAR",((J$28*10)*$B44),IF(J$27="%w/w DM",(((J$28*10)*($B$28/100))*$B44),IF(J$27="kg/t SAR",(J$28*$B44),IF(J$27="kg/t DM",((J$28*($B$28/100))*$B44),IF(J$27="mg/kg SAR",((J$28*0.001)*$B44),IF(J$27="mg/kg DM",(((J$28*0.001)*($B$28/100))*$B44),0)))))) -> 0.0006264 | K44: =IF(K$27="%w/w SAR",((K$28*10)*$B44),IF(K$27="%w/w DM",(((K$28*10)*($B$28/100))*$B44),IF(K$27="kg/t SAR",(K$28*$B44),IF(K$27="kg/t DM",((K$28*($B$28/100))*$B44),IF(K$27="mg/kg SAR",((K$28*0.001)*$B44),IF(K$27="mg/kg DM",(((K$28*0.001)*($B$28/100))*$B44),0)))))) -> 0.000348 | L44: =IF(L$27="%w/w SAR",((L$28*10)*$B44),IF(L$27="%w/w DM",(((L$28*10)*($B$28/100))*$B44),IF(L$27="kg/t SAR",(L$28*$B44),IF(L$27="kg/t DM",((L$28*($B$28/100))*$B44),IF(L$27="mg/kg SAR",((L$28*0.001)*$B44),IF(L$27="mg/kg DM",(((L$28*0.001)*($B$28/100))*$B44),0)))))) -> 0.049068 | M44: =IF(M$27="%w/w SAR",((M$28*10)*$B44),IF(M$27="%w/w DM",(((M$28*10)*($B$28/100))*$B44),IF(M$27="kg/t SAR",(M$28*$B44),IF(M$27="kg/t DM",((M$28*($B$28/100))*$B44),IF(M$27="mg/kg SAR",((M$28*0.001)*$B44),IF(M$27="mg/kg DM",(((M$28*0.001)*($B$28/100))*$B44),0)))))) -> 0.103356 | N44: =IF(N$27="%w/w SAR",((N$28*10)*$B44),IF(N$27="%w/w DM",(((N$28*10)*($B$28/100))*$B44),IF(N$27="kg/t SAR",(N$28*$B44),IF(N$27="kg/t DM",((N$28*($B$28/100))*$B44),IF(N$27="mg/kg SAR",((N$28*0.001)*$B44),IF(N$27="mg/kg DM",(((N$28*0.001)*($B$28/100))*$B44),0)))))) -> 0 | ... P44: =IF(P$27="%w/w SAR",((P$28*10)*$B44),IF(P$27="%w/w DM",(((P$28*10)*($B$28/100))*$B44),IF(P$27="kg/t SAR",(P$28*$B44),IF(P$27="kg/t DM",((P$28*($B$28/100))*$B44),IF(P$27="mg/kg SAR",((P$28*0.001)*$B44),IF(P$27="mg/kg DM",(((P$28*0.001)*($B$28/100))*$B44),0)))))) -> 9.24984 | Q44: =(IF(Q$27="%w/w SAR",((Q$28*10)*$B44),IF(Q$27="%w/w DM",(((Q$28*10)*($B$28/100))*$B44),IF(Q$27="kg/t SAR",(Q$28*$B44),IF(Q$27="kg/t DM",((Q$28*($B$28/100))*$B44),IF(Q$27="mg/kg SAR",((Q$28*0.001)*$B44),IF(Q$27="mg/kg DM",(((Q$28*0.001)*($B$28/100))*$B44),0)))))))*2.5 -> 39.2457 | R44: =IF(R$27="%w/w SAR",((R$28*10)*$B44),IF(R$27="%w/w DM",(((R$28*10)*($B$28/100))*$B44),IF(R$27="kg/t SAR",(R$28*$B44),IF(R$27="kg/t DM",((R$28*($B$28/100))*$B44),IF(R$27="mg/kg SAR",((R$28*0.001)*$B44),IF(R$27="mg/kg DM",(((R$28*0.001)*($B$28/100))*$B44),0)))))) -> 0.0049764 | S44: =IF(S$27="%w/w SAR",((S$28*10)*$B44),IF(S$27="%w/w DM",(((S$28*10)*($B$28/100))*$B44),IF(S$27="kg/t SAR",(S$28*$B44),IF(S$27="kg/t DM",((S$28*($B$28/100))*$B44),IF(S$27="mg/kg SAR",((S$28*0.001)*$B44),IF(S$27="mg/kg DM",(((S$28*0.001)*($B$28/100))*$B44),0)))))) -> 0.0034452 | T44: =IF(T$27="%w/w SAR",((T$28*10)*$B44),IF(T$27="%w/w DM",(((T$28*10)*($B$28/100))*$B44),IF(T$27="kg/t SAR",(T$28*$B44),IF(T$27="kg/t DM",((T$28*($B$28/100))*$B44),IF(T$27="mg/kg SAR",((T$28*0.001)*$B44),IF(T$27="mg/kg DM",(((T$28*0.001)*($B$28/100))*$B44),0)))))) -> 0.0089784 | U44: =IF(U$27="%w/w SAR",((U$28*10)*$B44),IF(U$27="%w/w DM",(((U$28*10)*($B$28/100))*$B44),IF(U$27="kg/t SAR",(U$28*$B44),IF(U$27="kg/t DM",((U$28*($B$28/100))*$B44),IF(U$27="mg/kg SAR",((U$28*0.001)*$B44),IF(U$27="mg/kg DM",(((U$28*0.001)*($B$28/100))*$B44),0)))))) -> 0.077256
A45: =Q8 -> 3901 | B45: 20 | C45: =IF(C$27="%w/w SAR",((C$28*10)*$B45),IF(C$27="%w/w DM",(((C$28*10)*($B$28/100))*$B45),IF(C$27="kg/t SAR",(C$28*$B45),IF(C$27="kg/t DM",((C$28*($B$28/100))*$B45),IF(C$27="mg/kg SAR",((C$28*0.001)*$B45),IF(C$27="mg/kg DM",(((C$28*0.001)*($B$28/100))*$B45),0)))))) -> 206.016 | D45: =(IF(D$27="%w/w SAR",((D$28*10)*$B45),IF(D$27="%w/w DM",(((D$28*10)*($B$28/100))*$B45),IF(D$27="kg/t SAR",(D$28*$B45),IF(D$27="kg/t DM",((D$28*($B$28/100))*$B45),IF(D$27="mg/kg SAR",((D$28*0.001)*$B45),IF(D$27="mg/kg DM",(((D$28*0.001)*($B$28/100))*$B45),"0")))))))*2.291 -> 191.24068 | E45: =(IF(E$27="%w/w SAR",((E$28*10)*$B45),IF(E$27="%w/w DM",(((E$28*10)*($B$28/100))*$B45),IF(E$27="kg/t SAR",(E$28*$B45),IF(E$27="kg/t DM",((E$28*($B$28/100))*$B45),IF(E$27="mg/kg SAR",((E$28*0.001)*$B45),IF(E$27="mg/kg DM",(((E$28*0.001)*($B$28/100))*$B45),"0")))))))*1.205 -> 9.4183764 | F45: =(IF(F$27="%w/w SAR",((F$28*10)*$B45),IF(F$27="%w/w DM",(((F$28*10)*($B$28/100))*$B45),IF(F$27="kg/t SAR",(F$28*$B45),IF(F$27="kg/t DM",((F$28*($B$28/100))*$B45),IF(F$27="mg/kg SAR",((F$28*0.001)*$B45),IF(F$27="mg/kg DM",(((F$28*0.001)*($B$28/100))*$B45),"0")))))))*1.658 -> 6.1275701 | G45: =IF(G$27="%w/w SAR",((G$28*10)*$B45),IF(G$27="%w/w DM",(((G$28*10)*($B$28/100))*$B45),IF(G$27="kg/t SAR",(G$28*$B45),IF(G$27="kg/t DM",((G$28*($B$28/100))*$B45),IF(G$27="mg/kg SAR",((G$28*0.001)*$B45),IF(G$27="mg/kg DM",(((G$28*0.001)*($B$28/100))*$B45),0)))))) -> 0.37236 | H45: =IF(H$27="%w/w SAR",((H$28*10)*$B45),IF(H$27="%w/w DM",(((H$28*10)*($B$28/100))*$B45),IF(H$27="kg/t SAR",(H$28*$B45),IF(H$27="kg/t DM",((H$28*($B$28/100))*$B45),IF(H$27="mg/kg SAR",((H$28*0.001)*$B45),IF(H$27="mg/kg DM",(((H$28*0.001)*($B$28/100))*$B45),0)))))) -> 0.98832 | I45: =IF(I$27="%w/w SAR",((I$28*10)*$B45),IF(I$27="%w/w DM",(((I$28*10)*($B$28/100))*$B45),IF(I$27="kg/t SAR",(I$28*$B45),IF(I$27="kg/t DM",((I$28*($B$28/100))*$B45),IF(I$27="mg/kg SAR",((I$28*0.001)*$B45),IF(I$27="mg/kg DM",(((I$28*0.001)*($B$28/100))*$B45),0)))))) -> 0.0139896 | J45: =IF(J$27="%w/w SAR",((J$28*10)*$B45),IF(J$27="%w/w DM",(((J$28*10)*($B$28/100))*$B45),IF(J$27="kg/t SAR",(J$28*$B45),IF(J$27="kg/t DM",((J$28*($B$28/100))*$B45),IF(J$27="mg/kg SAR",((J$28*0.001)*$B45),IF(J$27="mg/kg DM",(((J$28*0.001)*($B$28/100))*$B45),0)))))) -> 0.0006264 | K45: =IF(K$27="%w/w SAR",((K$28*10)*$B45),IF(K$27="%w/w DM",(((K$28*10)*($B$28/100))*$B45),IF(K$27="kg/t SAR",(K$28*$B45),IF(K$27="kg/t DM",((K$28*($B$28/100))*$B45),IF(K$27="mg/kg SAR",((K$28*0.001)*$B45),IF(K$27="mg/kg DM",(((K$28*0.001)*($B$28/100))*$B45),0)))))) -> 0.000348 | L45: =IF(L$27="%w/w SAR",((L$28*10)*$B45),IF(L$27="%w/w DM",(((L$28*10)*($B$28/100))*$B45),IF(L$27="kg/t SAR",(L$28*$B45),IF(L$27="kg/t DM",((L$28*($B$28/100))*$B45),IF(L$27="mg/kg SAR",((L$28*0.001)*$B45),IF(L$27="mg/kg DM",(((L$28*0.001)*($B$28/100))*$B45),0)))))) -> 0.049068 | M45: =IF(M$27="%w/w SAR",((M$28*10)*$B45),IF(M$27="%w/w DM",(((M$28*10)*($B$28/100))*$B45),IF(M$27="kg/t SAR",(M$28*$B45),IF(M$27="kg/t DM",((M$28*($B$28/100))*$B45),IF(M$27="mg/kg SAR",((M$28*0.001)*$B45),IF(M$27="mg/kg DM",(((M$28*0.001)*($B$28/100))*$B45),0)))))) -> 0.103356 | N45: =IF(N$27="%w/w SAR",((N$28*10)*$B45),IF(N$27="%w/w DM",(((N$28*10)*($B$28/100))*$B45),IF(N$27="kg/t SAR",(N$28*$B45),IF(N$27="kg/t DM",((N$28*($B$28/100))*$B45),IF(N$27="mg/kg SAR",((N$28*0.001)*$B45),IF(N$27="mg/kg DM",(((N$28*0.001)*($B$28/100))*$B45),0)))))) -> 0 | ... P45: =IF(P$27="%w/w SAR",((P$28*10)*$B45),IF(P$27="%w/w DM",(((P$28*10)*($B$28/100))*$B45),IF(P$27="kg/t SAR",(P$28*$B45),IF(P$27="kg/t DM",((P$28*($B$28/100))*$B45),IF(P$27="mg/kg SAR",((P$28*0.001)*$B45),IF(P$27="mg/kg DM",(((P$28*0.001)*($B$28/100))*$B45),0)))))) -> 9.24984 | Q45: =(IF(Q$27="%w/w SAR",((Q$28*10)*$B45),IF(Q$27="%w/w DM",(((Q$28*10)*($B$28/100))*$B45),IF(Q$27="kg/t SAR",(Q$28*$B45),IF(Q$27="kg/t DM",((Q$28*($B$28/100))*$B45),IF(Q$27="mg/kg SAR",((Q$28*0.001)*$B45),IF(Q$27="mg/kg DM",(((Q$28*0.001)*($B$28/100))*$B45),0)))))))*2.5 -> 39.2457 | R45: =IF(R$27="%w/w SAR",((R$28*10)*$B45),IF(R$27="%w/w DM",(((R$28*10)*($B$28/100))*$B45),IF(R$27="kg/t SAR",(R$28*$B45),IF(R$27="kg/t DM",((R$28*($B$28/100))*$B45),IF(R$27="mg/kg SAR",((R$28*0.001)*$B45),IF(R$27="mg/kg DM",(((R$28*0.001)*($B$28/100))*$B45),0)))))) -> 0.0049764 | S45: =IF(S$27="%w/w SAR",((S$28*10)*$B45),IF(S$27="%w/w DM",(((S$28*10)*($B$28/100))*$B45),IF(S$27="kg/t SAR",(S$28*$B45),IF(S$27="kg/t DM",((S$28*($B$28/100))*$B45),IF(S$27="mg/kg SAR",((S$28*0.001)*$B45),IF(S$27="mg/kg DM",(((S$28*0.001)*($B$28/100))*$B45),0)))))) -> 0.0034452 | T45: =IF(T$27="%w/w SAR",((T$28*10)*$B45),IF(T$27="%w/w DM",(((T$28*10)*($B$28/100))*$B45),IF(T$27="kg/t SAR",(T$28*$B45),IF(T$27="kg/t DM",((T$28*($B$28/100))*$B45),IF(T$27="mg/kg SAR",((T$28*0.001)*$B45),IF(T$27="mg/kg DM",(((T$28*0.001)*($B$28/100))*$B45),0)))))) -> 0.0089784 | U45: =IF(U$27="%w/w SAR",((U$28*10)*$B45),IF(U$27="%w/w DM",(((U$28*10)*($B$28/100))*$B45),IF(U$27="kg/t SAR",(U$28*$B45),IF(U$27="kg/t DM",((U$28*($B$28/100))*$B45),IF(U$27="mg/kg SAR",((U$28*0.001)*$B45),IF(U$27="mg/kg DM",(((U$28*0.001)*($B$28/100))*$B45),0)))))) -> 0.077256
A46: =R8 -> 0 | C46: =IF(C$27="%w/w SAR",((C$28*10)*$B46),IF(C$27="%w/w DM",(((C$28*10)*($B$28/100))*$B46),IF(C$27="kg/t SAR",(C$28*$B46),IF(C$27="kg/t DM",((C$28*($B$28/100))*$B46),IF(C$27="mg/kg SAR",((C$28*0.001)*$B46),IF(C$27="mg/kg DM",(((C$28*0.001)*($B$28/100))*$B46),0)))))) -> 0 | D46: =(IF(D$27="%w/w SAR",((D$28*10)*$B46),IF(D$27="%w/w DM",(((D$28*10)*($B$28/100))*$B46),IF(D$27="kg/t SAR",(D$28*$B46),IF(D$27="kg/t DM",((D$28*($B$28/100))*$B46),IF(D$27="mg/kg SAR",((D$28*0.001)*$B46),IF(D$27="mg/kg DM",(((D$28*0.001)*($B$28/100))*$B46),"0")))))))*2.291 -> 0 | E46: =(IF(E$27="%w/w SAR",((E$28*10)*$B46),IF(E$27="%w/w DM",(((E$28*10)*($B$28/100))*$B46),IF(E$27="kg/t SAR",(E$28*$B46),IF(E$27="kg/t DM",((E$28*($B$28/100))*$B46),IF(E$27="mg/kg SAR",((E$28*0.001)*$B46),IF(E$27="mg/kg DM",(((E$28*0.001)*($B$28/100))*$B46),"0")))))))*1.205 -> 0 | F46: =(IF(F$27="%w/w SAR",((F$28*10)*$B46),IF(F$27="%w/w DM",(((F$28*10)*($B$28/100))*$B46),IF(F$27="kg/t SAR",(F$28*$B46),IF(F$27="kg/t DM",((F$28*($B$28/100))*$B46),IF(F$27="mg/kg SAR",((F$28*0.001)*$B46),IF(F$27="mg/kg DM",(((F$28*0.001)*($B$28/100))*$B46),"0")))))))*1.658 -> 0 | G46: =IF(G$27="%w/w SAR",((G$28*10)*$B46),IF(G$27="%w/w DM",(((G$28*10)*($B$28/100))*$B46),IF(G$27="kg/t SAR",(G$28*$B46),IF(G$27="kg/t DM",((G$28*($B$28/100))*$B46),IF(G$27="mg/kg SAR",((G$28*0.001)*$B46),IF(G$27="mg/kg DM",(((G$28*0.001)*($B$28/100))*$B46),0)))))) -> 0 | H46: =IF(H$27="%w/w SAR",((H$28*10)*$B46),IF(H$27="%w/w DM",(((H$28*10)*($B$28/100))*$B46),IF(H$27="kg/t SAR",(H$28*$B46),IF(H$27="kg/t DM",((H$28*($B$28/100))*$B46),IF(H$27="mg/kg SAR",((H$28*0.001)*$B46),IF(H$27="mg/kg DM",(((H$28*0.001)*($B$28/100))*$B46),0)))))) -> 0 | I46: =IF(I$27="%w/w SAR",((I$28*10)*$B46),IF(I$27="%w/w DM",(((I$28*10)*($B$28/100))*$B46),IF(I$27="kg/t SAR",(I$28*$B46),IF(I$27="kg/t DM",((I$28*($B$28/100))*$B46),IF(I$27="mg/kg SAR",((I$28*0.001)*$B46),IF(I$27="mg/kg DM",(((I$28*0.001)*($B$28/100))*$B46),0)))))) -> 0 | J46: =IF(J$27="%w/w SAR",((J$28*10)*$B46),IF(J$27="%w/w DM",(((J$28*10)*($B$28/100))*$B46),IF(J$27="kg/t SAR",(J$28*$B46),IF(J$27="kg/t DM",((J$28*($B$28/100))*$B46),IF(J$27="mg/kg SAR",((J$28*0.001)*$B46),IF(J$27="mg/kg DM",(((J$28*0.001)*($B$28/100))*$B46),0)))))) -> 0 | K46: =IF(K$27="%w/w SAR",((K$28*10)*$B46),IF(K$27="%w/w DM",(((K$28*10)*($B$28/100))*$B46),IF(K$27="kg/t SAR",(K$28*$B46),IF(K$27="kg/t DM",((K$28*($B$28/100))*$B46),IF(K$27="mg/kg SAR",((K$28*0.001)*$B46),IF(K$27="mg/kg DM",(((K$28*0.001)*($B$28/100))*$B46),0)))))) -> 0 | L46: =IF(L$27="%w/w SAR",((L$28*10)*$B46),IF(L$27="%w/w DM",(((L$28*10)*($B$28/100))*$B46),IF(L$27="kg/t SAR",(L$28*$B46),IF(L$27="kg/t DM",((L$28*($B$28/100))*$B46),IF(L$27="mg/kg SAR",((L$28*0.001)*$B46),IF(L$27="mg/kg DM",(((L$28*0.001)*($B$28/100))*$B46),0)))))) -> 0 | M46: =IF(M$27="%w/w SAR",((M$28*10)*$B46),IF(M$27="%w/w DM",(((M$28*10)*($B$28/100))*$B46),IF(M$27="kg/t SAR",(M$28*$B46),IF(M$27="kg/t DM",((M$28*($B$28/100))*$B46),IF(M$27="mg/kg SAR",((M$28*0.001)*$B46),IF(M$27="mg/kg DM",(((M$28*0.001)*($B$28/100))*$B46),0)))))) -> 0 | N46: =IF(N$27="%w/w SAR",((N$28*10)*$B46),IF(N$27="%w/w DM",(((N$28*10)*($B$28/100))*$B46),IF(N$27="kg/t SAR",(N$28*$B46),IF(N$27="kg/t DM",((N$28*($B$28/100))*$B46),IF(N$27="mg/kg SAR",((N$28*0.001)*$B46),IF(N$27="mg/kg DM",(((N$28*0.001)*($B$28/100))*$B46),0)))))) -> 0 | ... P46: =IF(P$27="%w/w SAR",((P$28*10)*$B46),IF(P$27="%w/w DM",(((P$28*10)*($B$28/100))*$B46),IF(P$27="kg/t SAR",(P$28*$B46),IF(P$27="kg/t DM",((P$28*($B$28/100))*$B46),IF(P$27="mg/kg SAR",((P$28*0.001)*$B46),IF(P$27="mg/kg DM",(((P$28*0.001)*($B$28/100))*$B46),0)))))) -> 0 | Q46: =(IF(Q$27="%w/w SAR",((Q$28*10)*$B46),IF(Q$27="%w/w DM",(((Q$28*10)*($B$28/100))*$B46),IF(Q$27="kg/t SAR",(Q$28*$B46),IF(Q$27="kg/t DM",((Q$28*($B$28/100))*$B46),IF(Q$27="mg/kg SAR",((Q$28*0.001)*$B46),IF(Q$27="mg/kg DM",(((Q$28*0.001)*($B$28/100))*$B46),0)))))))*2.5 -> 0 | R46: =IF(R$27="%w/w SAR",((R$28*10)*$B46),IF(R$27="%w/w DM",(((R$28*10)*($B$28/100))*$B46),IF(R$27="kg/t SAR",(R$28*$B46),IF(R$27="kg/t DM",((R$28*($B$28/100))*$B46),IF(R$27="mg/kg SAR",((R$28*0.001)*$B46),IF(R$27="mg/kg DM",(((R$28*0.001)*($B$28/100))*$B46),0)))))) -> 0 | S46: =IF(S$27="%w/w SAR",((S$28*10)*$B46),IF(S$27="%w/w DM",(((S$28*10)*($B$28/100))*$B46),IF(S$27="kg/t SAR",(S$28*$B46),IF(S$27="kg/t DM",((S$28*($B$28/100))*$B46),IF(S$27="mg/kg SAR",((S$28*0.001)*$B46),IF(S$27="mg/kg DM",(((S$28*0.001)*($B$28/100))*$B46),0)))))) -> 0 | T46: =IF(T$27="%w/w SAR",((T$28*10)*$B46),IF(T$27="%w/w DM",(((T$28*10)*($B$28/100))*$B46),IF(T$27="kg/t SAR",(T$28*$B46),IF(T$27="kg/t DM",((T$28*($B$28/100))*$B46),IF(T$27="mg/kg SAR",((T$28*0.001)*$B46),IF(T$27="mg/kg DM",(((T$28*0.001)*($B$28/100))*$B46),0)))))) -> 0 | U46: =IF(U$27="%w/w SAR",((U$28*10)*$B46),IF(U$27="%w/w DM",(((U$28*10)*($B$28/100))*$B46),IF(U$27="kg/t SAR",(U$28*$B46),IF(U$27="kg/t DM",((U$28*($B$28/100))*$B46),IF(U$27="mg/kg SAR",((U$28*0.001)*$B46),IF(U$27="mg/kg DM",(((U$28*0.001)*($B$28/100))*$B46),0)))))) -> 0
A47: =S8 -> 0 | C47: =IF(C$27="%w/w SAR",((C$28*10)*$B47),IF(C$27="%w/w DM",(((C$28*10)*($B$28/100))*$B47),IF(C$27="kg/t SAR",(C$28*$B47),IF(C$27="kg/t DM",((C$28*($B$28/100))*$B47),IF(C$27="mg/kg SAR",((C$28*0.001)*$B47),IF(C$27="mg/kg DM",(((C$28*0.001)*($B$28/100))*$B47),0)))))) -> 0 | D47: =(IF(D$27="%w/w SAR",((D$28*10)*$B47),IF(D$27="%w/w DM",(((D$28*10)*($B$28/100))*$B47),IF(D$27="kg/t SAR",(D$28*$B47),IF(D$27="kg/t DM",((D$28*($B$28/100))*$B47),IF(D$27="mg/kg SAR",((D$28*0.001)*$B47),IF(D$27="mg/kg DM",(((D$28*0.001)*($B$28/100))*$B47),"0")))))))*2.291 -> 0 | E47: =(IF(E$27="%w/w SAR",((E$28*10)*$B47),IF(E$27="%w/w DM",(((E$28*10)*($B$28/100))*$B47),IF(E$27="kg/t SAR",(E$28*$B47),IF(E$27="kg/t DM",((E$28*($B$28/100))*$B47),IF(E$27="mg/kg SAR",((E$28*0.001)*$B47),IF(E$27="mg/kg DM",(((E$28*0.001)*($B$28/100))*$B47),"0")))))))*1.205 -> 0 | F47: =(IF(F$27="%w/w SAR",((F$28*10)*$B47),IF(F$27="%w/w DM",(((F$28*10)*($B$28/100))*$B47),IF(F$27="kg/t SAR",(F$28*$B47),IF(F$27="kg/t DM",((F$28*($B$28/100))*$B47),IF(F$27="mg/kg SAR",((F$28*0.001)*$B47),IF(F$27="mg/kg DM",(((F$28*0.001)*($B$28/100))*$B47),"0")))))))*1.658 -> 0 | G47: =IF(G$27="%w/w SAR",((G$28*10)*$B47),IF(G$27="%w/w DM",(((G$28*10)*($B$28/100))*$B47),IF(G$27="kg/t SAR",(G$28*$B47),IF(G$27="kg/t DM",((G$28*($B$28/100))*$B47),IF(G$27="mg/kg SAR",((G$28*0.001)*$B47),IF(G$27="mg/kg DM",(((G$28*0.001)*($B$28/100))*$B47),0)))))) -> 0 | H47: =IF(H$27="%w/w SAR",((H$28*10)*$B47),IF(H$27="%w/w DM",(((H$28*10)*($B$28/100))*$B47),IF(H$27="kg/t SAR",(H$28*$B47),IF(H$27="kg/t DM",((H$28*($B$28/100))*$B47),IF(H$27="mg/kg SAR",((H$28*0.001)*$B47),IF(H$27="mg/kg DM",(((H$28*0.001)*($B$28/100))*$B47),0)))))) -> 0 | I47: =IF(I$27="%w/w SAR",((I$28*10)*$B47),IF(I$27="%w/w DM",(((I$28*10)*($B$28/100))*$B47),IF(I$27="kg/t SAR",(I$28*$B47),IF(I$27="kg/t DM",((I$28*($B$28/100))*$B47),IF(I$27="mg/kg SAR",((I$28*0.001)*$B47),IF(I$27="mg/kg DM",(((I$28*0.001)*($B$28/100))*$B47),0)))))) -> 0 | J47: =IF(J$27="%w/w SAR",((J$28*10)*$B47),IF(J$27="%w/w DM",(((J$28*10)*($B$28/100))*$B47),IF(J$27="kg/t SAR",(J$28*$B47),IF(J$27="kg/t DM",((J$28*($B$28/100))*$B47),IF(J$27="mg/kg SAR",((J$28*0.001)*$B47),IF(J$27="mg/kg DM",(((J$28*0.001)*($B$28/100))*$B47),0)))))) -> 0 | K47: =IF(K$27="%w/w SAR",((K$28*10)*$B47),IF(K$27="%w/w DM",(((K$28*10)*($B$28/100))*$B47),IF(K$27="kg/t SAR",(K$28*$B47),IF(K$27="kg/t DM",((K$28*($B$28/100))*$B47),IF(K$27="mg/kg SAR",((K$28*0.001)*$B47),IF(K$27="mg/kg DM",(((K$28*0.001)*($B$28/100))*$B47),0)))))) -> 0 | L47: =IF(L$27="%w/w SAR",((L$28*10)*$B47),IF(L$27="%w/w DM",(((L$28*10)*($B$28/100))*$B47),IF(L$27="kg/t SAR",(L$28*$B47),IF(L$27="kg/t DM",((L$28*($B$28/100))*$B47),IF(L$27="mg/kg SAR",((L$28*0.001)*$B47),IF(L$27="mg/kg DM",(((L$28*0.001)*($B$28/100))*$B47),0)))))) -> 0 | M47: =IF(M$27="%w/w SAR",((M$28*10)*$B47),IF(M$27="%w/w DM",(((M$28*10)*($B$28/100))*$B47),IF(M$27="kg/t SAR",(M$28*$B47),IF(M$27="kg/t DM",((M$28*($B$28/100))*$B47),IF(M$27="mg/kg SAR",((M$28*0.001)*$B47),IF(M$27="mg/kg DM",(((M$28*0.001)*($B$28/100))*$B47),0)))))) -> 0 | N47: =IF(N$27="%w/w SAR",((N$28*10)*$B47),IF(N$27="%w/w DM",(((N$28*10)*($B$28/100))*$B47),IF(N$27="kg/t SAR",(N$28*$B47),IF(N$27="kg/t DM",((N$28*($B$28/100))*$B47),IF(N$27="mg/kg SAR",((N$28*0.001)*$B47),IF(N$27="mg/kg DM",(((N$28*0.001)*($B$28/100))*$B47),0)))))) -> 0 | ... P47: =IF(P$27="%w/w SAR",((P$28*10)*$B47),IF(P$27="%w/w DM",(((P$28*10)*($B$28/100))*$B47),IF(P$27="kg/t SAR",(P$28*$B47),IF(P$27="kg/t DM",((P$28*($B$28/100))*$B47),IF(P$27="mg/kg SAR",((P$28*0.001)*$B47),IF(P$27="mg/kg DM",(((P$28*0.001)*($B$28/100))*$B47),0)))))) -> 0 | Q47: =(IF(Q$27="%w/w SAR",((Q$28*10)*$B47),IF(Q$27="%w/w DM",(((Q$28*10)*($B$28/100))*$B47),IF(Q$27="kg/t SAR",(Q$28*$B47),IF(Q$27="kg/t DM",((Q$28*($B$28/100))*$B47),IF(Q$27="mg/kg SAR",((Q$28*0.001)*$B47),IF(Q$27="mg/kg DM",(((Q$28*0.001)*($B$28/100))*$B47),0)))))))*2.5 -> 0 | R47: =IF(R$27="%w/w SAR",((R$28*10)*$B47),IF(R$27="%w/w DM",(((R$28*10)*($B$28/100))*$B47),IF(R$27="kg/t SAR",(R$28*$B47),IF(R$27="kg/t DM",((R$28*($B$28/100))*$B47),IF(R$27="mg/kg SAR",((R$28*0.001)*$B47),IF(R$27="mg/kg DM",(((R$28*0.001)*($B$28/100))*$B47),0)))))) -> 0 | S47: =IF(S$27="%w/w SAR",((S$28*10)*$B47),IF(S$27="%w/w DM",(((S$28*10)*($B$28/100))*$B47),IF(S$27="kg/t SAR",(S$28*$B47),IF(S$27="kg/t DM",((S$28*($B$28/100))*$B47),IF(S$27="mg/kg SAR",((S$28*0.001)*$B47),IF(S$27="mg/kg DM",(((S$28*0.001)*($B$28/100))*$B47),0)))))) -> 0 | T47: =IF(T$27="%w/w SAR",((T$28*10)*$B47),IF(T$27="%w/w DM",(((T$28*10)*($B$28/100))*$B47),IF(T$27="kg/t SAR",(T$28*$B47),IF(T$27="kg/t DM",((T$28*($B$28/100))*$B47),IF(T$27="mg/kg SAR",((T$28*0.001)*$B47),IF(T$27="mg/kg DM",(((T$28*0.001)*($B$28/100))*$B47),0)))))) -> 0 | U47: =IF(U$27="%w/w SAR",((U$28*10)*$B47),IF(U$27="%w/w DM",(((U$28*10)*($B$28/100))*$B47),IF(U$27="kg/t SAR",(U$28*$B47),IF(U$27="kg/t DM",((U$28*($B$28/100))*$B47),IF(U$27="mg/kg SAR",((U$28*0.001)*$B47),IF(U$27="mg/kg DM",(((U$28*0.001)*($B$28/100))*$B47),0)))))) -> 0
A48: =T8 -> 0 | C48: =IF(C$27="%w/w SAR",((C$28*10)*$B48),IF(C$27="%w/w DM",(((C$28*10)*($B$28/100))*$B48),IF(C$27="kg/t SAR",(C$28*$B48),IF(C$27="kg/t DM",((C$28*($B$28/100))*$B48),IF(C$27="mg/kg SAR",((C$28*0.001)*$B48),IF(C$27="mg/kg DM",(((C$28*0.001)*($B$28/100))*$B48),0)))))) -> 0 | D48: =(IF(D$27="%w/w SAR",((D$28*10)*$B48),IF(D$27="%w/w DM",(((D$28*10)*($B$28/100))*$B48),IF(D$27="kg/t SAR",(D$28*$B48),IF(D$27="kg/t DM",((D$28*($B$28/100))*$B48),IF(D$27="mg/kg SAR",((D$28*0.001)*$B48),IF(D$27="mg/kg DM",(((D$28*0.001)*($B$28/100))*$B48),"0")))))))*2.291 -> 0 | E48: =(IF(E$27="%w/w SAR",((E$28*10)*$B48),IF(E$27="%w/w DM",(((E$28*10)*($B$28/100))*$B48),IF(E$27="kg/t SAR",(E$28*$B48),IF(E$27="kg/t DM",((E$28*($B$28/100))*$B48),IF(E$27="mg/kg SAR",((E$28*0.001)*$B48),IF(E$27="mg/kg DM",(((E$28*0.001)*($B$28/100))*$B48),"0")))))))*1.205 -> 0 | F48: =(IF(F$27="%w/w SAR",((F$28*10)*$B48),IF(F$27="%w/w DM",(((F$28*10)*($B$28/100))*$B48),IF(F$27="kg/t SAR",(F$28*$B48),IF(F$27="kg/t DM",((F$28*($B$28/100))*$B48),IF(F$27="mg/kg SAR",((F$28*0.001)*$B48),IF(F$27="mg/kg DM",(((F$28*0.001)*($B$28/100))*$B48),"0")))))))*1.658 -> 0 | G48: =IF(G$27="%w/w SAR",((G$28*10)*$B48),IF(G$27="%w/w DM",(((G$28*10)*($B$28/100))*$B48),IF(G$27="kg/t SAR",(G$28*$B48),IF(G$27="kg/t DM",((G$28*($B$28/100))*$B48),IF(G$27="mg/kg SAR",((G$28*0.001)*$B48),IF(G$27="mg/kg DM",(((G$28*0.001)*($B$28/100))*$B48),0)))))) -> 0 | H48: =IF(H$27="%w/w SAR",((H$28*10)*$B48),IF(H$27="%w/w DM",(((H$28*10)*($B$28/100))*$B48),IF(H$27="kg/t SAR",(H$28*$B48),IF(H$27="kg/t DM",((H$28*($B$28/100))*$B48),IF(H$27="mg/kg SAR",((H$28*0.001)*$B48),IF(H$27="mg/kg DM",(((H$28*0.001)*($B$28/100))*$B48),0)))))) -> 0 | I48: =IF(I$27="%w/w SAR",((I$28*10)*$B48),IF(I$27="%w/w DM",(((I$28*10)*($B$28/100))*$B48),IF(I$27="kg/t SAR",(I$28*$B48),IF(I$27="kg/t DM",((I$28*($B$28/100))*$B48),IF(I$27="mg/kg SAR",((I$28*0.001)*$B48),IF(I$27="mg/kg DM",(((I$28*0.001)*($B$28/100))*$B48),0)))))) -> 0 | J48: =IF(J$27="%w/w SAR",((J$28*10)*$B48),IF(J$27="%w/w DM",(((J$28*10)*($B$28/100))*$B48),IF(J$27="kg/t SAR",(J$28*$B48),IF(J$27="kg/t DM",((J$28*($B$28/100))*$B48),IF(J$27="mg/kg SAR",((J$28*0.001)*$B48),IF(J$27="mg/kg DM",(((J$28*0.001)*($B$28/100))*$B48),0)))))) -> 0 | K48: =IF(K$27="%w/w SAR",((K$28*10)*$B48),IF(K$27="%w/w DM",(((K$28*10)*($B$28/100))*$B48),IF(K$27="kg/t SAR",(K$28*$B48),IF(K$27="kg/t DM",((K$28*($B$28/100))*$B48),IF(K$27="mg/kg SAR",((K$28*0.001)*$B48),IF(K$27="mg/kg DM",(((K$28*0.001)*($B$28/100))*$B48),0)))))) -> 0 | L48: =IF(L$27="%w/w SAR",((L$28*10)*$B48),IF(L$27="%w/w DM",(((L$28*10)*($B$28/100))*$B48),IF(L$27="kg/t SAR",(L$28*$B48),IF(L$27="kg/t DM",((L$28*($B$28/100))*$B48),IF(L$27="mg/kg SAR",((L$28*0.001)*$B48),IF(L$27="mg/kg DM",(((L$28*0.001)*($B$28/100))*$B48),0)))))) -> 0 | M48: =IF(M$27="%w/w SAR",((M$28*10)*$B48),IF(M$27="%w/w DM",(((M$28*10)*($B$28/100))*$B48),IF(M$27="kg/t SAR",(M$28*$B48),IF(M$27="kg/t DM",((M$28*($B$28/100))*$B48),IF(M$27="mg/kg SAR",((M$28*0.001)*$B48),IF(M$27="mg/kg DM",(((M$28*0.001)*($B$28/100))*$B48),0)))))) -> 0 | N48: =IF(N$27="%w/w SAR",((N$28*10)*$B48),IF(N$27="%w/w DM",(((N$28*10)*($B$28/100))*$B48),IF(N$27="kg/t SAR",(N$28*$B48),IF(N$27="kg/t DM",((N$28*($B$28/100))*$B48),IF(N$27="mg/kg SAR",((N$28*0.001)*$B48),IF(N$27="mg/kg DM",(((N$28*0.001)*($B$28/100))*$B48),0)))))) -> 0 | ... P48: =IF(P$27="%w/w SAR",((P$28*10)*$B48),IF(P$27="%w/w DM",(((P$28*10)*($B$28/100))*$B48),IF(P$27="kg/t SAR",(P$28*$B48),IF(P$27="kg/t DM",((P$28*($B$28/100))*$B48),IF(P$27="mg/kg SAR",((P$28*0.001)*$B48),IF(P$27="mg/kg DM",(((P$28*0.001)*($B$28/100))*$B48),0)))))) -> 0 | Q48: =(IF(Q$27="%w/w SAR",((Q$28*10)*$B48),IF(Q$27="%w/w DM",(((Q$28*10)*($B$28/100))*$B48),IF(Q$27="kg/t SAR",(Q$28*$B48),IF(Q$27="kg/t DM",((Q$28*($B$28/100))*$B48),IF(Q$27="mg/kg SAR",((Q$28*0.001)*$B48),IF(Q$27="mg/kg DM",(((Q$28*0.001)*($B$28/100))*$B48),0)))))))*2.5 -> 0 | R48: =IF(R$27="%w/w SAR",((R$28*10)*$B48),IF(R$27="%w/w DM",(((R$28*10)*($B$28/100))*$B48),IF(R$27="kg/t SAR",(R$28*$B48),IF(R$27="kg/t DM",((R$28*($B$28/100))*$B48),IF(R$27="mg/kg SAR",((R$28*0.001)*$B48),IF(R$27="mg/kg DM",(((R$28*0.001)*($B$28/100))*$B48),0)))))) -> 0 | S48: =IF(S$27="%w/w SAR",((S$28*10)*$B48),IF(S$27="%w/w DM",(((S$28*10)*($B$28/100))*$B48),IF(S$27="kg/t SAR",(S$28*$B48),IF(S$27="kg/t DM",((S$28*($B$28/100))*$B48),IF(S$27="mg/kg SAR",((S$28*0.001)*$B48),IF(S$27="mg/kg DM",(((S$28*0.001)*($B$28/100))*$B48),0)))))) -> 0 | T48: =IF(T$27="%w/w SAR",((T$28*10)*$B48),IF(T$27="%w/w DM",(((T$28*10)*($B$28/100))*$B48),IF(T$27="kg/t SAR",(T$28*$B48),IF(T$27="kg/t DM",((T$28*($B$28/100))*$B48),IF(T$27="mg/kg SAR",((T$28*0.001)*$B48),IF(T$27="mg/kg DM",(((T$28*0.001)*($B$28/100))*$B48),0)))))) -> 0 | U48: =IF(U$27="%w/w SAR",((U$28*10)*$B48),IF(U$27="%w/w DM",(((U$28*10)*($B$28/100))*$B48),IF(U$27="kg/t SAR",(U$28*$B48),IF(U$27="kg/t DM",((U$28*($B$28/100))*$B48),IF(U$27="mg/kg SAR",((U$28*0.001)*$B48),IF(U$27="mg/kg DM",(((U$28*0.001)*($B$28/100))*$B48),0)))))) -> 0
A49: =U8 -> 0 | C49: =IF(C$27="%w/w SAR",((C$28*10)*$B49),IF(C$27="%w/w DM",(((C$28*10)*($B$28/100))*$B49),IF(C$27="kg/t SAR",(C$28*$B49),IF(C$27="kg/t DM",((C$28*($B$28/100))*$B49),IF(C$27="mg/kg SAR",((C$28*0.001)*$B49),IF(C$27="mg/kg DM",(((C$28*0.001)*($B$28/100))*$B49),0)))))) -> 0 | D49: =(IF(D$27="%w/w SAR",((D$28*10)*$B49),IF(D$27="%w/w DM",(((D$28*10)*($B$28/100))*$B49),IF(D$27="kg/t SAR",(D$28*$B49),IF(D$27="kg/t DM",((D$28*($B$28/100))*$B49),IF(D$27="mg/kg SAR",((D$28*0.001)*$B49),IF(D$27="mg/kg DM",(((D$28*0.001)*($B$28/100))*$B49),"0")))))))*2.291 -> 0 | E49: =(IF(E$27="%w/w SAR",((E$28*10)*$B49),IF(E$27="%w/w DM",(((E$28*10)*($B$28/100))*$B49),IF(E$27="kg/t SAR",(E$28*$B49),IF(E$27="kg/t DM",((E$28*($B$28/100))*$B49),IF(E$27="mg/kg SAR",((E$28*0.001)*$B49),IF(E$27="mg/kg DM",(((E$28*0.001)*($B$28/100))*$B49),"0")))))))*1.205 -> 0 | F49: =(IF(F$27="%w/w SAR",((F$28*10)*$B49),IF(F$27="%w/w DM",(((F$28*10)*($B$28/100))*$B49),IF(F$27="kg/t SAR",(F$28*$B49),IF(F$27="kg/t DM",((F$28*($B$28/100))*$B49),IF(F$27="mg/kg SAR",((F$28*0.001)*$B49),IF(F$27="mg/kg DM",(((F$28*0.001)*($B$28/100))*$B49),"0")))))))*1.658 -> 0 | G49: =IF(G$27="%w/w SAR",((G$28*10)*$B49),IF(G$27="%w/w DM",(((G$28*10)*($B$28/100))*$B49),IF(G$27="kg/t SAR",(G$28*$B49),IF(G$27="kg/t DM",((G$28*($B$28/100))*$B49),IF(G$27="mg/kg SAR",((G$28*0.001)*$B49),IF(G$27="mg/kg DM",(((G$28*0.001)*($B$28/100))*$B49),0)))))) -> 0 | H49: =IF(H$27="%w/w SAR",((H$28*10)*$B49),IF(H$27="%w/w DM",(((H$28*10)*($B$28/100))*$B49),IF(H$27="kg/t SAR",(H$28*$B49),IF(H$27="kg/t DM",((H$28*($B$28/100))*$B49),IF(H$27="mg/kg SAR",((H$28*0.001)*$B49),IF(H$27="mg/kg DM",(((H$28*0.001)*($B$28/100))*$B49),0)))))) -> 0 | I49: =IF(I$27="%w/w SAR",((I$28*10)*$B49),IF(I$27="%w/w DM",(((I$28*10)*($B$28/100))*$B49),IF(I$27="kg/t SAR",(I$28*$B49),IF(I$27="kg/t DM",((I$28*($B$28/100))*$B49),IF(I$27="mg/kg SAR",((I$28*0.001)*$B49),IF(I$27="mg/kg DM",(((I$28*0.001)*($B$28/100))*$B49),0)))))) -> 0 | J49: =IF(J$27="%w/w SAR",((J$28*10)*$B49),IF(J$27="%w/w DM",(((J$28*10)*($B$28/100))*$B49),IF(J$27="kg/t SAR",(J$28*$B49),IF(J$27="kg/t DM",((J$28*($B$28/100))*$B49),IF(J$27="mg/kg SAR",((J$28*0.001)*$B49),IF(J$27="mg/kg DM",(((J$28*0.001)*($B$28/100))*$B49),0)))))) -> 0 | K49: =IF(K$27="%w/w SAR",((K$28*10)*$B49),IF(K$27="%w/w DM",(((K$28*10)*($B$28/100))*$B49),IF(K$27="kg/t SAR",(K$28*$B49),IF(K$27="kg/t DM",((K$28*($B$28/100))*$B49),IF(K$27="mg/kg SAR",((K$28*0.001)*$B49),IF(K$27="mg/kg DM",(((K$28*0.001)*($B$28/100))*$B49),0)))))) -> 0 | L49: =IF(L$27="%w/w SAR",((L$28*10)*$B49),IF(L$27="%w/w DM",(((L$28*10)*($B$28/100))*$B49),IF(L$27="kg/t SAR",(L$28*$B49),IF(L$27="kg/t DM",((L$28*($B$28/100))*$B49),IF(L$27="mg/kg SAR",((L$28*0.001)*$B49),IF(L$27="mg/kg DM",(((L$28*0.001)*($B$28/100))*$B49),0)))))) -> 0 | M49: =IF(M$27="%w/w SAR",((M$28*10)*$B49),IF(M$27="%w/w DM",(((M$28*10)*($B$28/100))*$B49),IF(M$27="kg/t SAR",(M$28*$B49),IF(M$27="kg/t DM",((M$28*($B$28/100))*$B49),IF(M$27="mg/kg SAR",((M$28*0.001)*$B49),IF(M$27="mg/kg DM",(((M$28*0.001)*($B$28/100))*$B49),0)))))) -> 0 | N49: =IF(N$27="%w/w SAR",((N$28*10)*$B49),IF(N$27="%w/w DM",(((N$28*10)*($B$28/100))*$B49),IF(N$27="kg/t SAR",(N$28*$B49),IF(N$27="kg/t DM",((N$28*($B$28/100))*$B49),IF(N$27="mg/kg SAR",((N$28*0.001)*$B49),IF(N$27="mg/kg DM",(((N$28*0.001)*($B$28/100))*$B49),0)))))) -> 0 | ... P49: =IF(P$27="%w/w SAR",((P$28*10)*$B49),IF(P$27="%w/w DM",(((P$28*10)*($B$28/100))*$B49),IF(P$27="kg/t SAR",(P$28*$B49),IF(P$27="kg/t DM",((P$28*($B$28/100))*$B49),IF(P$27="mg/kg SAR",((P$28*0.001)*$B49),IF(P$27="mg/kg DM",(((P$28*0.001)*($B$28/100))*$B49),0)))))) -> 0 | Q49: =(IF(Q$27="%w/w SAR",((Q$28*10)*$B49),IF(Q$27="%w/w DM",(((Q$28*10)*($B$28/100))*$B49),IF(Q$27="kg/t SAR",(Q$28*$B49),IF(Q$27="kg/t DM",((Q$28*($B$28/100))*$B49),IF(Q$27="mg/kg SAR",((Q$28*0.001)*$B49),IF(Q$27="mg/kg DM",(((Q$28*0.001)*($B$28/100))*$B49),0)))))))*2.5 -> 0 | R49: =IF(R$27="%w/w SAR",((R$28*10)*$B49),IF(R$27="%w/w DM",(((R$28*10)*($B$28/100))*$B49),IF(R$27="kg/t SAR",(R$28*$B49),IF(R$27="kg/t DM",((R$28*($B$28/100))*$B49),IF(R$27="mg/kg SAR",((R$28*0.001)*$B49),IF(R$27="mg/kg DM",(((R$28*0.001)*($B$28/100))*$B49),0)))))) -> 0 | S49: =IF(S$27="%w/w SAR",((S$28*10)*$B49),IF(S$27="%w/w DM",(((S$28*10)*($B$28/100))*$B49),IF(S$27="kg/t SAR",(S$28*$B49),IF(S$27="kg/t DM",((S$28*($B$28/100))*$B49),IF(S$27="mg/kg SAR",((S$28*0.001)*$B49),IF(S$27="mg/kg DM",(((S$28*0.001)*($B$28/100))*$B49),0)))))) -> 0 | T49: =IF(T$27="%w/w SAR",((T$28*10)*$B49),IF(T$27="%w/w DM",(((T$28*10)*($B$28/100))*$B49),IF(T$27="kg/t SAR",(T$28*$B49),IF(T$27="kg/t DM",((T$28*($B$28/100))*$B49),IF(T$27="mg/kg SAR",((T$28*0.001)*$B49),IF(T$27="mg/kg DM",(((T$28*0.001)*($B$28/100))*$B49),0)))))) -> 0 | U49: =IF(U$27="%w/w SAR",((U$28*10)*$B49),IF(U$27="%w/w DM",(((U$28*10)*($B$28/100))*$B49),IF(U$27="kg/t SAR",(U$28*$B49),IF(U$27="kg/t DM",((U$28*($B$28/100))*$B49),IF(U$27="mg/kg SAR",((U$28*0.001)*$B49),IF(U$27="mg/kg DM",(((U$28*0.001)*($B$28/100))*$B49),0)))))) -> 0
A50: =V8 -> 0 | C50: =IF(C$27="%w/w SAR",((C$28*10)*$B50),IF(C$27="%w/w DM",(((C$28*10)*($B$28/100))*$B50),IF(C$27="kg/t SAR",(C$28*$B50),IF(C$27="kg/t DM",((C$28*($B$28/100))*$B50),IF(C$27="mg/kg SAR",((C$28*0.001)*$B50),IF(C$27="mg/kg DM",(((C$28*0.001)*($B$28/100))*$B50),0)))))) -> 0 | D50: =(IF(D$27="%w/w SAR",((D$28*10)*$B50),IF(D$27="%w/w DM",(((D$28*10)*($B$28/100))*$B50),IF(D$27="kg/t SAR",(D$28*$B50),IF(D$27="kg/t DM",((D$28*($B$28/100))*$B50),IF(D$27="mg/kg SAR",((D$28*0.001)*$B50),IF(D$27="mg/kg DM",(((D$28*0.001)*($B$28/100))*$B50),"0")))))))*2.291 -> 0 | E50: =(IF(E$27="%w/w SAR",((E$28*10)*$B50),IF(E$27="%w/w DM",(((E$28*10)*($B$28/100))*$B50),IF(E$27="kg/t SAR",(E$28*$B50),IF(E$27="kg/t DM",((E$28*($B$28/100))*$B50),IF(E$27="mg/kg SAR",((E$28*0.001)*$B50),IF(E$27="mg/kg DM",(((E$28*0.001)*($B$28/100))*$B50),"0")))))))*1.205 -> 0 | F50: =(IF(F$27="%w/w SAR",((F$28*10)*$B50),IF(F$27="%w/w DM",(((F$28*10)*($B$28/100))*$B50),IF(F$27="kg/t SAR",(F$28*$B50),IF(F$27="kg/t DM",((F$28*($B$28/100))*$B50),IF(F$27="mg/kg SAR",((F$28*0.001)*$B50),IF(F$27="mg/kg DM",(((F$28*0.001)*($B$28/100))*$B50),"0")))))))*1.658 -> 0 | G50: =IF(G$27="%w/w SAR",((G$28*10)*$B50),IF(G$27="%w/w DM",(((G$28*10)*($B$28/100))*$B50),IF(G$27="kg/t SAR",(G$28*$B50),IF(G$27="kg/t DM",((G$28*($B$28/100))*$B50),IF(G$27="mg/kg SAR",((G$28*0.001)*$B50),IF(G$27="mg/kg DM",(((G$28*0.001)*($B$28/100))*$B50),0)))))) -> 0 | H50: =IF(H$27="%w/w SAR",((H$28*10)*$B50),IF(H$27="%w/w DM",(((H$28*10)*($B$28/100))*$B50),IF(H$27="kg/t SAR",(H$28*$B50),IF(H$27="kg/t DM",((H$28*($B$28/100))*$B50),IF(H$27="mg/kg SAR",((H$28*0.001)*$B50),IF(H$27="mg/kg DM",(((H$28*0.001)*($B$28/100))*$B50),0)))))) -> 0 | I50: =IF(I$27="%w/w SAR",((I$28*10)*$B50),IF(I$27="%w/w DM",(((I$28*10)*($B$28/100))*$B50),IF(I$27="kg/t SAR",(I$28*$B50),IF(I$27="kg/t DM",((I$28*($B$28/100))*$B50),IF(I$27="mg/kg SAR",((I$28*0.001)*$B50),IF(I$27="mg/kg DM",(((I$28*0.001)*($B$28/100))*$B50),0)))))) -> 0 | J50: =IF(J$27="%w/w SAR",((J$28*10)*$B50),IF(J$27="%w/w DM",(((J$28*10)*($B$28/100))*$B50),IF(J$27="kg/t SAR",(J$28*$B50),IF(J$27="kg/t DM",((J$28*($B$28/100))*$B50),IF(J$27="mg/kg SAR",((J$28*0.001)*$B50),IF(J$27="mg/kg DM",(((J$28*0.001)*($B$28/100))*$B50),0)))))) -> 0 | K50: =IF(K$27="%w/w SAR",((K$28*10)*$B50),IF(K$27="%w/w DM",(((K$28*10)*($B$28/100))*$B50),IF(K$27="kg/t SAR",(K$28*$B50),IF(K$27="kg/t DM",((K$28*($B$28/100))*$B50),IF(K$27="mg/kg SAR",((K$28*0.001)*$B50),IF(K$27="mg/kg DM",(((K$28*0.001)*($B$28/100))*$B50),0)))))) -> 0 | L50: =IF(L$27="%w/w SAR",((L$28*10)*$B50),IF(L$27="%w/w DM",(((L$28*10)*($B$28/100))*$B50),IF(L$27="kg/t SAR",(L$28*$B50),IF(L$27="kg/t DM",((L$28*($B$28/100))*$B50),IF(L$27="mg/kg SAR",((L$28*0.001)*$B50),IF(L$27="mg/kg DM",(((L$28*0.001)*($B$28/100))*$B50),0)))))) -> 0 | M50: =IF(M$27="%w/w SAR",((M$28*10)*$B50),IF(M$27="%w/w DM",(((M$28*10)*($B$28/100))*$B50),IF(M$27="kg/t SAR",(M$28*$B50),IF(M$27="kg/t DM",((M$28*($B$28/100))*$B50),IF(M$27="mg/kg SAR",((M$28*0.001)*$B50),IF(M$27="mg/kg DM",(((M$28*0.001)*($B$28/100))*$B50),0)))))) -> 0 | N50: =IF(N$27="%w/w SAR",((N$28*10)*$B50),IF(N$27="%w/w DM",(((N$28*10)*($B$28/100))*$B50),IF(N$27="kg/t SAR",(N$28*$B50),IF(N$27="kg/t DM",((N$28*($B$28/100))*$B50),IF(N$27="mg/kg SAR",((N$28*0.001)*$B50),IF(N$27="mg/kg DM",(((N$28*0.001)*($B$28/100))*$B50),0)))))) -> 0 | ... P50: =IF(P$27="%w/w SAR",((P$28*10)*$B50),IF(P$27="%w/w DM",(((P$28*10)*($B$28/100))*$B50),IF(P$27="kg/t SAR",(P$28*$B50),IF(P$27="kg/t DM",((P$28*($B$28/100))*$B50),IF(P$27="mg/kg SAR",((P$28*0.001)*$B50),IF(P$27="mg/kg DM",(((P$28*0.001)*($B$28/100))*$B50),0)))))) -> 0 | Q50: =(IF(Q$27="%w/w SAR",((Q$28*10)*$B50),IF(Q$27="%w/w DM",(((Q$28*10)*($B$28/100))*$B50),IF(Q$27="kg/t SAR",(Q$28*$B50),IF(Q$27="kg/t DM",((Q$28*($B$28/100))*$B50),IF(Q$27="mg/kg SAR",((Q$28*0.001)*$B50),IF(Q$27="mg/kg DM",(((Q$28*0.001)*($B$28/100))*$B50),0)))))))*2.5 -> 0 | R50: =IF(R$27="%w/w SAR",((R$28*10)*$B50),IF(R$27="%w/w DM",(((R$28*10)*($B$28/100))*$B50),IF(R$27="kg/t SAR",(R$28*$B50),IF(R$27="kg/t DM",((R$28*($B$28/100))*$B50),IF(R$27="mg/kg SAR",((R$28*0.001)*$B50),IF(R$27="mg/kg DM",(((R$28*0.001)*($B$28/100))*$B50),0)))))) -> 0 | S50: =IF(S$27="%w/w SAR",((S$28*10)*$B50),IF(S$27="%w/w DM",(((S$28*10)*($B$28/100))*$B50),IF(S$27="kg/t SAR",(S$28*$B50),IF(S$27="kg/t DM",((S$28*($B$28/100))*$B50),IF(S$27="mg/kg SAR",((S$28*0.001)*$B50),IF(S$27="mg/kg DM",(((S$28*0.001)*($B$28/100))*$B50),0)))))) -> 0 | T50: =IF(T$27="%w/w SAR",((T$28*10)*$B50),IF(T$27="%w/w DM",(((T$28*10)*($B$28/100))*$B50),IF(T$27="kg/t SAR",(T$28*$B50),IF(T$27="kg/t DM",((T$28*($B$28/100))*$B50),IF(T$27="mg/kg SAR",((T$28*0.001)*$B50),IF(T$27="mg/kg DM",(((T$28*0.001)*($B$28/100))*$B50),0)))))) -> 0 | U50: =IF(U$27="%w/w SAR",((U$28*10)*$B50),IF(U$27="%w/w DM",(((U$28*10)*($B$28/100))*$B50),IF(U$27="kg/t SAR",(U$28*$B50),IF(U$27="kg/t DM",((U$28*($B$28/100))*$B50),IF(U$27="mg/kg SAR",((U$28*0.001)*$B50),IF(U$27="mg/kg DM",(((U$28*0.001)*($B$28/100))*$B50),0)))))) -> 0
A51: LIMIT | B51: 250 | C51: 250 | D51: Crop Requirement | E51: Crop Requirement | F51: Crop Requirement | G51: 7.5 | H51: 15 | I51: 15 | J51: 0.15 | K51: 0.1 | L51: 3 | M51: 15 | N51: TBC | O51: TBC | P51: 360 | Q51: Crop requirement x10 | R51: 0.15 | S51: 0.7 | T51: 0.2 | U51: 20
A53: Lime Calculation
B54: Dry Matter (if SAR use 100%) | C54: TNV of Waste as CaO (%) | D54: CaO Calculation | E54: CaO Conversion to CaCO3 | F54: TNV of Waste as CaCo3 (%) | G54: CaCo3 Calculation
B55: 17.4 | C55: 1.3 | D55: =(B55/100)*C55 -> 0.2262 | E55: =G55 -> 0.4002 | F55: 2.3 | G55: =(B55/100)*F55 -> 0.4002
A56: Field number | B56: 1 | C56: 2 | D56: 3 | E56: 4 | F56: 5 | G56: 6 | H56: 7 | I56: 8 | J56: 9 | K56: 10 | L56: 11 | M56: 12 | N56: 13 | O56: 14 | P56: 15 | Q56: 16 | R56: 17 | S56: 18 | T56: 19 | U56: 20
A57: Field Ref | B57: =C8 -> 5569 | C57: =D8 -> 6858 | D57: =E8 -> 8153 | E57: =F8 -> 9748 | F57: =G8 -> 1057 | G57: =H8 -> 3854 | H57: =I8 -> 6042 | I57: =J8 -> 2345 | ... U57: =V8 -> 0
A58: Soil Crop Type | B58: =C16&" I "&(VLOOKUP(C14,Table24[],6,FALSE)) -> Medium/Clay I Grass | C58: =D16&" I "&(VLOOKUP(D14,Table24[],6,FALSE)) -> Medium/Clay I Grass | D58: =E16&" I "&(VLOOKUP(E14,Table24[],6,FALSE)) -> Medium/Clay I Grass | E58: =F16&" I "&(VLOOKUP(F14,Table24[],6,FALSE)) -> Medium/Clay I Grass | F58: =G16&" I "&(VLOOKUP(G14,Table24[],6,FALSE)) -> Medium/Clay I Grass | G58: =H16&" I "&(VLOOKUP(H14,Table24[],6,FALSE)) -> Medium/Clay I Grass | H58: =I16&" I "&(VLOOKUP(I14,Table24[],6,FALSE)) -> Medium/Clay I Grass | I58: =J16&" I "&(VLOOKUP(J14,Table24[],6,FALSE)) -> Medium/Clay I Grass | ... U58: =V16&" I "&(VLOOKUP(V14,Table24[],6,FALSE)) -> #N/A
A59: Cropping pH | B59: =VLOOKUP(C$14,Table24[],5,FALSE) -> 6.2 | C59: =VLOOKUP(D$14,Table24[],5,FALSE) -> 6.2 | D59: =VLOOKUP(E$14,Table24[],5,FALSE) -> 6.2 | E59: =VLOOKUP(F$14,Table24[],5,FALSE) -> 6.2 | F59: =VLOOKUP(G$14,Table24[],5,FALSE) -> 6.2 | G59: =VLOOKUP(H$14,Table24[],5,FALSE) -> 6.2 | H59: =VLOOKUP(I$14,Table24[],5,FALSE) -> 6.2 | I59: =VLOOKUP(J$14,Table24[],5,FALSE) -> 6.2 | ... U59: =VLOOKUP(V$14,Table24[],5,FALSE) -> #N/A
A60: Field pH | B60: =C10 -> 5.7 | C60: =D10 -> 6 | D60: =E10 -> 5.7 | E60: =F10 -> 5.6 | F60: =G10 -> 5.7 | G60: =H10 -> 5.7 | H60: =I10 -> 5.9 | I60: =J10 -> 5.8 | ... U60: =V10 -> 0
A61: Soil pH | B61: =VLOOKUP(B58,$AD9:$AE18,2,FALSE) -> 6 | C61: =VLOOKUP(C58,$AD9:$AE18,2,FALSE) -> 6 | D61: =VLOOKUP(D58,$AD9:$AE18,2,FALSE) -> 6 | E61: =VLOOKUP(E58,$AD9:$AE18,2,FALSE) -> 6 | F61: =VLOOKUP(F58,$AD9:$AE18,2,FALSE) -> 6 | G61: =VLOOKUP(G58,$AD9:$AE18,2,FALSE) -> 6 | H61: =VLOOKUP(H58,$AD9:$AE18,2,FALSE) -> 6 | I61: =VLOOKUP(I58,$AD9:$AE18,2,FALSE) -> 6 | ... U61: =VLOOKUP(U58,$AD9:$AE18,2,FALSE) -> #N/A
A62: App rate | B62: =B31 -> 6 | C62: =B32 -> 6 | D62: =B33 -> 6 | E62: =B34 -> 20 | F62: =B35 -> 6 | G62: =B36 -> 6 | H62: =B37 -> 6 | I62: =B38 -> 6 | J62: =B39 -> 0 | K62: =B40 -> 0 | L62: =B41 -> 6 | M62: =B42 -> 6 | N62: =B43 -> 6 | O62: =B44 -> 20 | P62: =B45 -> 20 | Q62: =B46 -> 0 | R62: =B47 -> 0 | S62: =B48 -> 0 | T62: =B49 -> 0 | U62: =B50 -> 0
A63: Lime applied in waste t/ha | B63: =$E55*(B62/100) -> 0.024012 | C63: =$E55*(C62/100) -> 0.024012 | D63: =$E55*(D62/100) -> 0.024012 | E63: =$E55*(E62/100) -> 0.08004 | F63: =$E55*(F62/100) -> 0.024012 | G63: =$E55*(G62/100) -> 0.024012 | H63: =$E55*(H62/100) -> 0.024012 | I63: =$E55*(I62/100) -> 0.024012 | ... U63: =$E55*(U62/100) -> 0
A64: Lime required to bring pH to target level t/a CaCo3 | B64: =(B59-B60)*B61 -> 3 | C64: =(C59-C60)*C61 -> 1.2 | D64: =(D59-D60)*D61 -> 3 | E64: =(E59-E60)*E61 -> 3.6 | F64: =(F59-F60)*F61 -> 3 | G64: =(G59-G60)*G61 -> 3 | H64: =(H59-H60)*H61 -> 1.8 | I64: =(I59-I60)*I61 -> 2.4 | ... U64: =(U59-U60)*U61 -> #N/A
A65: Difference between applied and required | B65: =B63-B64 -> -2.975988 | C65: =C63-C64 -> -1.175988 | D65: =D63-D64 -> -2.975988 | E65: =E63-E64 -> -3.51996 | F65: =F63-F64 -> -2.975988 | G65: =G63-G64 -> -2.975988 | H65: =H63-H64 -> -1.775988 | I65: =I63-I64 -> -2.375988 | ... U65: =U63-U64 -> #N/A
A66: Over or Under Applying? | B66: =IF(B64<=B63,"OVER","UNDER") -> UNDER | C66: =IF(C64<=C63,"OVER","UNDER") -> UNDER | D66: =IF(D64<=D63,"OVER","UNDER") -> UNDER | E66: =IF(E64<=E63,"OVER","UNDER") -> UNDER | F66: =IF(F64<=F63,"OVER","UNDER") -> UNDER | G66: =IF(G64<=G63,"OVER","UNDER") -> UNDER | H66: =IF(H64<=H63,"OVER","UNDER") -> UNDER | I66: =IF(I64<=I63,"OVER","UNDER") -> UNDER | ... U66: =IF(U64<=U63,"OVER","UNDER") -> #N/A

Sheet Liquid DAF sludge
A1: PAN reference | C1: ='DAF Sludge Cake'!C1:D1 -> PAN-017546 | E1: Total spread area | F1: ='DAF Sludge Cake'!F1 -> 44.2 | G1: Waste pH | I1: 6.76 | J1: Ammonium Nitrogen (mg/kg) | L1: 590 | AD1: Choose | AI1: Crop | AJ1: P Offtake | AK1: K Offtake | AL1: Order | AM1: Lime pH requirement | AN1: Column1
A2: Permit reference | C2: ='DAF Sludge Cake'!C2:D2 -> EPR-GP3792SK | E2: Waste type EWC | F2: 02 02 01 | G2: Conductivity µS/cm (limit 5000 µS/cm) | I2: 1416 | J2: Total Nitrogen (% w/w) | L2: 0.24 | AB2: %w/w SAR | AD2: Sandy | AG2: Solid | AI2: Choose | AJ2: 0 | AK2: 0 | AL2: 0 | AM2: 0 | AN2: 0
A3: Operator | C3: ='DAF Sludge Cake'!C3:D3 -> Byproduct | E3: Waste physical form | F3: Liquid | G3: Fats & Oils (mg/kg) (limit 40,000 mg/kg or 4%) | I3: 760 | J3: Readily available nitrogen content % | L3: =(L1/(L2*10000))*100 -> 24.583333 | AB3: %w/w DM | AD3: Sandy Loam | AG3: Liquid | AI3: Grass Silage (25% DM) | AJ3: 1.7 | AK3: 6 | AL3: 1 | AM3: 6.2 | AN3: Grass
A4: Farm Address | C4: ='DAF Sludge Cake'!C4:D4 -> Bwlchmawr farm, Brynteg, Llanybydder, Carmarthenshire SA40 9XA | E4: Waste Ref/Name | F4: Dunbia | AB4: kg/t SAR | AD4: Medium/Clay | AG4: Sludge | AI4: Winter wheat- grain & straw | AJ4: 7 | AK4: 10.5 | AL4: 2 | AM4: 6.7 | AN4: Arable
A5: Assessed By | C5: ='DAF Sludge Cake'!C5:D5 -> Ethan Banfield | AB5: kg/t DM | AD5: Organic | AG5: Sludge Cake | AI5: Winter wheat- grain only | AJ5: 6.5 | AK5: 5.5 | AL5: 3 | AM5: 6.7 | AN5: Arable
AB6: mg/kg SAR | AD6: Peat | AI6: Spring wheat/barley | AJ6: 8.5 | AK6: 12 | AL6: 4 | AM6: 6.7 | AN6: Arable
A7: Field number | C7: 1 | D7: 2 | E7: 3 | F7: 4 | G7: 5 | H7: 6 | I7: 7 | J7: 8 | K7: 9 | L7: 10 | M7: 11 | N7: 12 | O7: 13 | P7: 14 | Q7: 15 | R7: 16 | S7: 17 | T7: 18 | U7: 19 | V7: 20 | AB7: mg/kg DM | AI7: Winter barley/triticale/rye | AJ7: 8.5 | AK7: 10.5 | AL7: 5 | AM7: 6.7 | AN7: Arable
A8: Field Ref | C8: ='DAF Sludge Cake'!C8 -> 5569 | D8: ='DAF Sludge Cake'!D8 -> 6858 | E8: ='DAF Sludge Cake'!E8 -> 8153 | F8: ='DAF Sludge Cake'!F8 -> 9748 | G8: ='DAF Sludge Cake'!G8 -> 1057 | H8: ='DAF Sludge Cake'!H8 -> 3854 | I8: ='DAF Sludge Cake'!I8 -> 6042 | J8: ='DAF Sludge Cake'!J8 -> 2345 | ... V8: ='DAF Sludge Cake'!V8 -> 0 | AE8: lime pH | AI8: Maize- Silage (30% DM) | AJ8: 1.4 | AK8: 4.4 | AL8: 6 | AM8: 6.7 | AN8: Arable
A9: SNS Index | C9: ='DAF Sludge Cake'!C9 -> Moderate | D9: ='DAF Sludge Cake'!D9 -> Moderate | E9: ='DAF Sludge Cake'!E9 -> Moderate | F9: ='DAF Sludge Cake'!F9 -> Moderate | G9: ='DAF Sludge Cake'!G9 -> Moderate | H9: ='DAF Sludge Cake'!H9 -> Moderate | I9: ='DAF Sludge Cake'!I9 -> Moderate | J9: ='DAF Sludge Cake'!J9 -> Moderate | ... V9: ='DAF Sludge Cake'!V9 -> 0 | AD9: Sandy I Grass | AE9: 4.5 | AI9: Fodder beet (roots only) | AJ9: 0.7 | AK9: 4 | AL9: 7 | AM9: 6.7 | AN9: Arable
A10: Field pH | C10: ='DAF Sludge Cake'!C10 -> 5.7 | D10: ='DAF Sludge Cake'!D10 -> 6 | E10: ='DAF Sludge Cake'!E10 -> 5.7 | F10: ='DAF Sludge Cake'!F10 -> 5.6 | G10: ='DAF Sludge Cake'!G10 -> 5.7 | H10: ='DAF Sludge Cake'!H10 -> 5.7 | I10: ='DAF Sludge Cake'!I10 -> 5.9 | J10: ='DAF Sludge Cake'!J10 -> 5.8 | ... V10: ='DAF Sludge Cake'!V10 -> 0 | AD10: Sandy Loam I Grass | AE10: 5 | AI10: Oats | AJ10: 9 | AK10: 16.5 | AL10: 8 | AM10: 6.7 | AN10: Arable
A11: Phosphorus Index | C11: ='DAF Sludge Cake'!C11 -> 2 | D11: ='DAF Sludge Cake'!D11 -> 2 | E11: ='DAF Sludge Cake'!E11 -> 2 | F11: ='DAF Sludge Cake'!F11 -> 1 | G11: ='DAF Sludge Cake'!G11 -> 2 | H11: ='DAF Sludge Cake'!H11 -> 3 | I11: ='DAF Sludge Cake'!I11 -> 2 | J11: ='DAF Sludge Cake'!J11 -> 3 | ... V11: ='DAF Sludge Cake'!V11 -> 0 | AD11: Medium/Clay I Grass | AE11: 6 | AI11: Oilseed rape- seed & straw | AJ11: 15 | AK11: 17.5 | AL11: 9 | AM11: 7 | AN11: Arable
A12: Potassium Index | C12: ='DAF Sludge Cake'!C12 -> 1 | D12: ='DAF Sludge Cake'!D12 -> 0 | E12: ='DAF Sludge Cake'!E12 -> 0 | F12: ='DAF Sludge Cake'!F12 -> 2 | G12: ='DAF Sludge Cake'!G12 -> 1 | H12: ='DAF Sludge Cake'!H12 -> 1 | I12: ='DAF Sludge Cake'!I12 -> 1 | J12: ='DAF Sludge Cake'!J12 -> 1 | ... V12: ='DAF Sludge Cake'!V12 -> 0 | AD12: Organic I Grass | AE12: 7.5 | AI12: Oilseed rape- seed only | AJ12: 14 | AK12: 11 | AL12: 10 | AM12: 7 | AN12: Arable
A13: Magnesium Index | C13: ='DAF Sludge Cake'!C13 -> 2 | D13: ='DAF Sludge Cake'!D13 -> 3 | E13: ='DAF Sludge Cake'!E13 -> 2 | F13: ='DAF Sludge Cake'!F13 -> 2 | G13: ='DAF Sludge Cake'!G13 -> 2 | H13: ='DAF Sludge Cake'!H13 -> 2 | I13: ='DAF Sludge Cake'!I13 -> 2 | J13: ='DAF Sludge Cake'!J13 -> 2 | ... V13: ='DAF Sludge Cake'!V13 -> 0 | AD13: Peat I Grass | AE13: 12 | AI13: Sugar beet- roots & tops | AJ13: 1.9 | AK13: 7.5 | AL13: 11 | AM13: 6.7 | AN13: Arable
A14: Benefiting Crop | C14: ='DAF Sludge Cake'!C14 -> Grass Silage (25% DM) | D14: ='DAF Sludge Cake'!D14 -> Grass Silage (25% DM) | E14: ='DAF Sludge Cake'!E14 -> Grass Silage (25% DM) | F14: ='DAF Sludge Cake'!F14 -> Grass Silage (25% DM) | G14: ='DAF Sludge Cake'!G14 -> Grass Silage (25% DM) | H14: ='DAF Sludge Cake'!H14 -> Grass Silage (25% DM) | I14: ='DAF Sludge Cake'!I14 -> Grass Silage (25% DM) | J14: ='DAF Sludge Cake'!J14 -> Grass Silage (25% DM) | ... V14: ='DAF Sludge Cake'!V14 -> 0 | AD14: Sandy I Arable | AE14: 6 | AI14: Sugar beet- roots only | AJ14: 0.8 | AK14: 1.7 | AL14: 12 | AM14: 6.7 | AN14: Arable
A15: Expected Yield | C15: ='DAF Sludge Cake'!C15 -> 38 | D15: ='DAF Sludge Cake'!D15 -> 38 | E15: ='DAF Sludge Cake'!E15 -> 38 | F15: ='DAF Sludge Cake'!F15 -> 38 | G15: ='DAF Sludge Cake'!G15 -> 38 | H15: ='DAF Sludge Cake'!H15 -> 38 | I15: ='DAF Sludge Cake'!I15 -> 38 | J15: ='DAF Sludge Cake'!J15 -> 38 | ... V15: ='DAF Sludge Cake'!V15 -> 0 | AD15: Sandy Loam I Arable | AE15: 7 | AI15: Wholecrop cereals | AJ15: 1.8 | AK15: 5.4 | AL15: 13 | AM15: 6.7 | AN15: Arable
A16: Soil Type | C16: ='DAF Sludge Cake'!C16 -> Medium/Clay | D16: ='DAF Sludge Cake'!D16 -> Medium/Clay | E16: ='DAF Sludge Cake'!E16 -> Medium/Clay | F16: ='DAF Sludge Cake'!F16 -> Medium/Clay | G16: ='DAF Sludge Cake'!G16 -> Medium/Clay | H16: ='DAF Sludge Cake'!H16 -> Medium/Clay | I16: ='DAF Sludge Cake'!I16 -> Medium/Clay | J16: ='DAF Sludge Cake'!J16 -> Medium/Clay | ... V16: ='DAF Sludge Cake'!V16 -> 0 | AD16: Medium/Clay I Arable | AE16: 8 | AI16: All other cereals- grain only | AJ16: 8 | AK16: 5.5 | AL16: 14 | AM16: 6.7 | AN16: Arable
A17: Phosphate Offtake | C17: =(VLOOKUP(C$14,$AI2:$AK26,2,FALSE))*C$15 -> 64.6 | D17: =(VLOOKUP(D$14,$AI2:$AK26,2,FALSE))*D$15 -> 64.6 | E17: =(VLOOKUP(E$14,$AI2:$AK26,2,FALSE))*E$15 -> 64.6 | F17: =(VLOOKUP(F$14,$AI2:$AK26,2,FALSE))*F$15 -> 64.6 | G17: =(VLOOKUP(G$14,$AI2:$AK26,2,FALSE))*G$15 -> 64.6 | H17: =(VLOOKUP(H$14,$AI2:$AK26,2,FALSE))*H$15 -> 64.6 | I17: =(VLOOKUP(I$14,$AI2:$AK26,2,FALSE))*I$15 -> 64.6 | J17: =(VLOOKUP(J$14,$AI2:$AK26,2,FALSE))*J$15 -> 64.6 | ... V17: =(VLOOKUP(V$14,$AI2:$AK26,2,FALSE))*V$15 -> #N/A | AD17: Organic I Arable | AE17: 10 | AI17: Fresh grass (15-20% DM) | AJ17: 1.4 | AK17: 4.8 | AL17: 15 | AM17: 6.2 | AN17: Grass
A18: Phosphate Addition | C18: =$D31 -> 64.65202 | D18: =$D32 -> 64.65202 | E18: =$D33 -> 64.65202 | F18: =$D34 -> 190.153 | G18: =$D35 -> 64.65202 | H18: =$D36 -> 64.65202 | I18: =$D37 -> 64.65202 | J18: =$D38 -> 64.65202 | K18: =$D39 -> 0 | L18: =$D40 -> 0 | M18: =$D41 -> 64.65202 | N18: =$D42 -> 64.65202 | O18: =$D43 -> 64.65202 | P18: =$D44 -> 190.153 | Q18: =$D45 -> 190.153 | R18: =$D46 -> 0 | S18: =$D47 -> 0 | T18: =$D48 -> 0 | U18: =$D49 -> 0 | V18: =$D50 -> 0 | AD18: Peat I Arable | AE18: 16 | AI18: Hay (86% DM) | AJ18: 5.9 | AK18: 18 | AL18: 16 | AM18: 6.2 | AN18: Grass
A19: Phosphate Difference | C19: =C18-C17 -> 0.05202 | D19: =D18-D17 -> 0.05202 | E19: =E18-E17 -> 0.05202 | F19: =F18-F17 -> 125.553 | G19: =G18-G17 -> 0.05202 | H19: =H18-H17 -> 0.05202 | I19: =I18-I17 -> 0.05202 | J19: =J18-J17 -> 0.05202 | ... V19: =V18-V17 -> #N/A | AI19: Haylage (45% DM) | AJ19: 3.2 | AK19: 10.5 | AL19: 17 | AM19: 6.2 | AN19: Grass
A20: Phosphate Increase/decrease | C20: =IF($B31="","",IF(C$19>=0,"INCREASE","DECREASE")) -> INCREASE | D20: =IF($B32="","",IF(D$19>=0,"INCREASE","DECREASE")) -> INCREASE | E20: =IF($B33="","",IF(E$19>=0,"INCREASE","DECREASE")) -> INCREASE | F20: =IF($B34="","",IF(F$19>=0,"INCREASE","DECREASE")) -> INCREASE | G20: =IF($B35="","",IF(G$19>=0,"INCREASE","DECREASE")) -> INCREASE | H20: =IF($B36="","",IF(H$19>=0,"INCREASE","DECREASE")) -> INCREASE | I20: =IF($B37="","",IF(I$19>=0,"INCREASE","DECREASE")) -> INCREASE | J20: =IF($B38="","",IF(J$19>=0,"INCREASE","DECREASE")) -> INCREASE | K20: =IF($B39="","",IF(K$19>=0,"INCREASE","DECREASE")) | L20: =IF($B40="","",IF(L$19>=0,"INCREASE","DECREASE")) | M20: =IF($B41="","",IF(M$19>=0,"INCREASE","DECREASE")) -> INCREASE | N20: =IF($B42="","",IF(N$19>=0,"INCREASE","DECREASE")) -> INCREASE | O20: =IF($B43="","",IF(O$19>=0,"INCREASE","DECREASE")) -> INCREASE | P20: =IF($B44="","",IF(P$19>=0,"INCREASE","DECREASE")) -> INCREASE | Q20: =IF($B45="","",IF(Q$19>=0,"INCREASE","DECREASE")) -> INCREASE | R20: =IF($B46="","",IF(R$19>=0,"INCREASE","DECREASE")) | S20: =IF($B47="","",IF(S$19>=0,"INCREASE","DECREASE")) | T20: =IF($B48="","",IF(T$19>=0,"INCREASE","DECREASE")) | U20: =IF($B49="","",IF(U$19>=0,"INCREASE","DECREASE")) | V20: =IF($B50="","",IF(V$19>=0,"INCREASE","DECREASE")) | AI20: Grass Silage (30% DM) | AJ20: 2.1 | AK20: 7.2 | AL20: 18 | AM20: 6.2 | AN20: Grass
A21: Potash Offtake | C21: =(VLOOKUP(C$14,$AI2:$AK26,3,FALSE))*C$15 -> 228 | D21: =(VLOOKUP(D$14,$AI2:$AK26,3,FALSE))*D$15 -> 228 | E21: =(VLOOKUP(E$14,$AI2:$AK26,3,FALSE))*E$15 -> 228 | F21: =(VLOOKUP(F$14,$AI2:$AK26,3,FALSE))*F$15 -> 228 | G21: =(VLOOKUP(G$14,$AI2:$AK26,3,FALSE))*G$15 -> 228 | H21: =(VLOOKUP(H$14,$AI2:$AK26,3,FALSE))*H$15 -> 228 | I21: =(VLOOKUP(I$14,$AI2:$AK26,3,FALSE))*I$15 -> 228 | J21: =(VLOOKUP(J$14,$AI2:$AK26,3,FALSE))*J$15 -> 228 | ... V21: =(VLOOKUP(V$14,$AI2:$AK26,3,FALSE))*V$15 -> #N/A | AI21: Field beans | AJ21: 11 | AK21: 12 | AL21: 19 | AM21: 6.7 | AN21: Arable
A22: Potash Addition | C22: =$E31 -> 9.70989 | D22: =$E32 -> 9.70989 | E22: =$E33 -> 9.70989 | F22: =$E34 -> 28.5585 | G22: =$E35 -> 9.70989 | H22: =$E36 -> 9.70989 | I22: =$E37 -> 9.70989 | J22: =$E38 -> 9.70989 | K22: =$E39 -> 0 | L22: =$E40 -> 0 | M22: =$E41 -> 9.70989 | N22: =$E42 -> 9.70989 | O22: =$E43 -> 9.70989 | P22: =$E44 -> 28.5585 | Q22: =$E45 -> 28.5585 | R22: =$E46 -> 0 | S22: =$E47 -> 0 | T22: =$E48 -> 0 | U22: =$E49 -> 0 | V22: =$E50 -> 0 | AI22: Kale | AJ22: 1.2 | AK22: 5 | AL22: 20 | AM22: 6.7 | AN22: Arable
A23: Potash Difference | C23: =C22-C21 -> -218.29011 | D23: =D22-D21 -> -218.29011 | E23: =E22-E21 -> -218.29011 | F23: =F22-F21 -> -199.4415 | G23: =G22-G21 -> -218.29011 | H23: =H22-H21 -> -218.29011 | I23: =I22-I21 -> -218.29011 | J23: =J22-J21 -> -218.29011 | ... V23: =V22-V21 -> #N/A | AI23: Peas- Dried | AJ23: 9 | AK23: 10 | AL23: 21 | AM23: 6.7 | AN23: Arable
A24: Potash Increase/decrease | C24: =IF($B31="","",IF(C$23>=0,"INCREASE","DECREASE")) -> DECREASE | D24: =IF($B31="","",IF(D$23>=0,"INCREASE","DECREASE")) -> DECREASE | E24: =IF($B31="","",IF(E$23>=0,"INCREASE","DECREASE")) -> DECREASE | F24: =IF($B31="","",IF(F$23>=0,"INCREASE","DECREASE")) -> DECREASE | G24: =IF($B31="","",IF(G$23>=0,"INCREASE","DECREASE")) -> DECREASE | H24: =IF($B31="","",IF(H$23>=0,"INCREASE","DECREASE")) -> DECREASE | I24: =IF($B31="","",IF(I$23>=0,"INCREASE","DECREASE")) -> DECREASE | J24: =IF($B31="","",IF(J$23>=0,"INCREASE","DECREASE")) -> DECREASE | ... V24: =IF($B31="","",IF(V$23>=0,"INCREASE","DECREASE")) -> #N/A | AI24: Peas- Vining | AJ24: 1.5 | AK24: 3 | AL24: 22 | AM24: 6.7 | AN24: Arable
AI25: Potatoes- tubers only | AJ25: 1 | AK25: 5.8 | AL25: 23 | AM25: 6.7 | AN25: Arable
B26: Dry Matter | C26: Total Nitrogen | D26: Total Phosphorus (P) | E26: Total Potassium (K) | F26: Total Magnesium (Mg) | G26: Total Copper | H26: Total Zinc | I26: Total Lead | J26: Total Cadmium | K26: Total Mercury | L26: Total Nickel | M26: Total Chromium | N26: Total Aluminium | O26: Total Iron | P26: Total Na (Sodium) | Q26: Total Sulphur (S) | R26: Total Selenium | S26: Total Arsenic | T26: Total Mo | U26: Total Fluoride | AI26: Swedes- roots only | AJ26: 0.7 | AK26: 2.4 | AL26: 24 | AM26: 6.7 | AN26: Arable
B27: % | C27: %w/w SAR | D27: mg/kg SAR | E27: mg/kg SAR | F27: mg/kg SAR | G27: mg/kg SAR | H27: mg/kg SAR | I27: mg/kg SAR | J27: mg/kg SAR | K27: mg/kg SAR | L27: mg/kg SAR | M27: mg/kg SAR | N27: mg/kg SAR | O27: mg/kg SAR | P27: mg/kg SAR | Q27: mg/kg SAR | R27: mg/kg SAR | S27: mg/kg SAR | T27: mg/kg SAR | U27: mg/kg SAR
B28: 3.65 | C28: 0.24 | D28: 830 | E28: 237 | F28: 61.9 | G28: 4.64 | H28: 52.1 | I28: 0.5 | J28: 0.01 | K28: 0.05 | L28: 0.36 | M28: 0.7 | P28: 1036 | Q28: 237 | R28: 0.05 | S28: 0.5 | T28: 0.11 | U28: 10
A29: Field Ref | B29: Application Rate | C29: Nitrogen Addition | D29: Phosphate Addition | E29: Potash Addition | F29: Mg Oxide Addition | G29: Copper Addition | H29: Zinc Addition | I29: Lead Addition | J29: Cadmium Addition | K29: Mercury Addition | L29: Nickel Addition | M29: Chromium Addition | N29: Aluminium Addition | O29: Iron Addition | P29: Sodium Addition | Q29: SO3 Addition kg/ha | R29: Selenium Addition | S29: Arsenic Addition | T29: Molybdenum Addition | U29: Fluoride Addition
B30: tonnes/ha | C30: kg/ha | D30: P2O5 kg/ha | E30: K2O kg/ha | F30: MgO kg/ha | G30: kg/ha | H30: kg/ha | I30: kg/ha | J30: kg/ha | K30: kg/ha | L30: kg/ha | M30: kg/ha | N30: kg/ha | O30: kg/ha | P30: kg/ha | Q30: kg/ha | R30: kg/ha | S30: kg/ha | T30: kg/ha | U30: kg/ha
A31: =C8 -> 5569 | B31: 34 | C31: =IF(C$27="%w/w SAR",((C$28*10)*$B31),IF(C$27="%w/w DM",(((C$28*10)*($B$28/100))*$B31),IF(C$27="kg/t SAR",(C$28*$B31),IF(C$27="kg/t DM",((C$28*($B$28/100))*$B31),IF(C$27="mg/kg SAR",((C$28*0.001)*$B31),IF(C$27="mg/kg DM",(((C$28*0.001)*($B$28/100))*$B31),0)))))) -> 81.6 | D31: =(IF(D$27="%w/w SAR",((D$28*10)*$B31),IF(D$27="%w/w DM",(((D$28*10)*($B$28/100))*$B31),IF(D$27="kg/t SAR",(D$28*$B31),IF(D$27="kg/t DM",((D$28*($B$28/100))*$B31),IF(D$27="mg/kg SAR",((D$28*0.001)*$B31),IF(D$27="mg/kg DM",(((D$28*0.001)*($B$28/100))*$B31),"0")))))))*2.291 -> 64.65202 | E31: =(IF(E$27="%w/w SAR",((E$28*10)*$B31),IF(E$27="%w/w DM",(((E$28*10)*($B$28/100))*$B31),IF(E$27="kg/t SAR",(E$28*$B31),IF(E$27="kg/t DM",((E$28*($B$28/100))*$B31),IF(E$27="mg/kg SAR",((E$28*0.001)*$B31),IF(E$27="mg/kg DM",(((E$28*0.001)*($B$28/100))*$B31),"0")))))))*1.205 -> 9.70989 | F31: =(IF(F$27="%w/w SAR",((F$28*10)*$B31),IF(F$27="%w/w DM",(((F$28*10)*($B$28/100))*$B31),IF(F$27="kg/t SAR",(F$28*$B31),IF(F$27="kg/t DM",((F$28*($B$28/100))*$B31),IF(F$27="mg/kg SAR",((F$28*0.001)*$B31),IF(F$27="mg/kg DM",(((F$28*0.001)*($B$28/100))*$B31),"0")))))))*1.658 -> 3.4894268 | G31: =IF(G$27="%w/w SAR",((G$28*10)*$B31),IF(G$27="%w/w DM",(((G$28*10)*($B$28/100))*$B31),IF(G$27="kg/t SAR",(G$28*$B31),IF(G$27="kg/t DM",((G$28*($B$28/100))*$B31),IF(G$27="mg/kg SAR",((G$28*0.001)*$B31),IF(G$27="mg/kg DM",(((G$28*0.001)*($B$28/100))*$B31),0)))))) -> 0.15776 | H31: =IF(H$27="%w/w SAR",((H$28*10)*$B31),IF(H$27="%w/w DM",(((H$28*10)*($B$28/100))*$B31),IF(H$27="kg/t SAR",(H$28*$B31),IF(H$27="kg/t DM",((H$28*($B$28/100))*$B31),IF(H$27="mg/kg SAR",((H$28*0.001)*$B31),IF(H$27="mg/kg DM",(((H$28*0.001)*($B$28/100))*$B31),0)))))) -> 1.7714 | I31: =IF(I$27="%w/w SAR",((I$28*10)*$B31),IF(I$27="%w/w DM",(((I$28*10)*($B$28/100))*$B31),IF(I$27="kg/t SAR",(I$28*$B31),IF(I$27="kg/t DM",((I$28*($B$28/100))*$B31),IF(I$27="mg/kg SAR",((I$28*0.001)*$B31),IF(I$27="mg/kg DM",(((I$28*0.001)*($B$28/100))*$B31),0)))))) -> 0.017 | J31: =IF(J$27="%w/w SAR",((J$28*10)*$B31),IF(J$27="%w/w DM",(((J$28*10)*($B$28/100))*$B31),IF(J$27="kg/t SAR",(J$28*$B31),IF(J$27="kg/t DM",((J$28*($B$28/100))*$B31),IF(J$27="mg/kg SAR",((J$28*0.001)*$B31),IF(J$27="mg/kg DM",(((J$28*0.001)*($B$28/100))*$B31),0)))))) -> 0.00034 | K31: =IF(K$27="%w/w SAR",((K$28*10)*$B31),IF(K$27="%w/w DM",(((K$28*10)*($B$28/100))*$B31),IF(K$27="kg/t SAR",(K$28*$B31),IF(K$27="kg/t DM",((K$28*($B$28/100))*$B31),IF(K$27="mg/kg SAR",((K$28*0.001)*$B31),IF(K$27="mg/kg DM",(((K$28*0.001)*($B$28/100))*$B31),0)))))) -> 0.0017 | L31: =IF(L$27="%w/w SAR",((L$28*10)*$B31),IF(L$27="%w/w DM",(((L$28*10)*($B$28/100))*$B31),IF(L$27="kg/t SAR",(L$28*$B31),IF(L$27="kg/t DM",((L$28*($B$28/100))*$B31),IF(L$27="mg/kg SAR",((L$28*0.001)*$B31),IF(L$27="mg/kg DM",(((L$28*0.001)*($B$28/100))*$B31),0)))))) -> 0.01224 | M31: =IF(M$27="%w/w SAR",((M$28*10)*$B31),IF(M$27="%w/w DM",(((M$28*10)*($B$28/100))*$B31),IF(M$27="kg/t SAR",(M$28*$B31),IF(M$27="kg/t DM",((M$28*($B$28/100))*$B31),IF(M$27="mg/kg SAR",((M$28*0.001)*$B31),IF(M$27="mg/kg DM",(((M$28*0.001)*($B$28/100))*$B31),0)))))) -> 0.0238 | N31: =IF(N$27="%w/w SAR",((N$28*10)*$B31),IF(N$27="%w/w DM",(((N$28*10)*($B$28/100))*$B31),IF(N$27="kg/t SAR",(N$28*$B31),IF(N$27="kg/t DM",((N$28*($B$28/100))*$B31),IF(N$27="mg/kg SAR",((N$28*0.001)*$B31),IF(N$27="mg/kg DM",(((N$28*0.001)*($B$28/100))*$B31),0)))))) -> 0 | ... P31: =IF(P$27="%w/w SAR",((P$28*10)*$B31),IF(P$27="%w/w DM",(((P$28*10)*($B$28/100))*$B31),IF(P$27="kg/t SAR",(P$28*$B31),IF(P$27="kg/t DM",((P$28*($B$28/100))*$B31),IF(P$27="mg/kg SAR",((P$28*0.001)*$B31),IF(P$27="mg/kg DM",(((P$28*0.001)*($B$28/100))*$B31),0)))))) -> 35.224 | Q31: =(IF(Q$27="%w/w SAR",((Q$28*10)*$B31),IF(Q$27="%w/w DM",(((Q$28*10)*($B$28/100))*$B31),IF(Q$27="kg/t SAR",(Q$28*$B31),IF(Q$27="kg/t DM",((Q$28*($B$28/100))*$B31),IF(Q$27="mg/kg SAR",((Q$28*0.001)*$B31),IF(Q$27="mg/kg DM",(((Q$28*0.001)*($B$28/100))*$B31),0)))))))*2.5 -> 20.145 | R31: =IF(R$27="%w/w SAR",((R$28*10)*$B31),IF(R$27="%w/w DM",(((R$28*10)*($B$28/100))*$B31),IF(R$27="kg/t SAR",(R$28*$B31),IF(R$27="kg/t DM",((R$28*($B$28/100))*$B31),IF(R$27="mg/kg SAR",((R$28*0.001)*$B31),IF(R$27="mg/kg DM",(((R$28*0.001)*($B$28/100))*$B31),0)))))) -> 0.0017 | S31: =IF(S$27="%w/w SAR",((S$28*10)*$B31),IF(S$27="%w/w DM",(((S$28*10)*($B$28/100))*$B31),IF(S$27="kg/t SAR",(S$28*$B31),IF(S$27="kg/t DM",((S$28*($B$28/100))*$B31),IF(S$27="mg/kg SAR",((S$28*0.001)*$B31),IF(S$27="mg/kg DM",(((S$28*0.001)*($B$28/100))*$B31),0)))))) -> 0.017 | T31: =IF(T$27="%w/w SAR",((T$28*10)*$B31),IF(T$27="%w/w DM",(((T$28*10)*($B$28/100))*$B31),IF(T$27="kg/t SAR",(T$28*$B31),IF(T$27="kg/t DM",((T$28*($B$28/100))*$B31),IF(T$27="mg/kg SAR",((T$28*0.001)*$B31),IF(T$27="mg/kg DM",(((T$28*0.001)*($B$28/100))*$B31),0)))))) -> 0.00374 | U31: =IF(U$27="%w/w SAR",((U$28*10)*$B31),IF(U$27="%w/w DM",(((U$28*10)*($B$28/100))*$B31),IF(U$27="kg/t SAR",(U$28*$B31),IF(U$27="kg/t DM",((U$28*($B$28/100))*$B31),IF(U$27="mg/kg SAR",((U$28*0.001)*$B31),IF(U$27="mg/kg DM",(((U$28*0.001)*($B$28/100))*$B31),0)))))) -> 0.34
A32: =D8 -> 6858 | B32: 34 | C32: =IF(C$27="%w/w SAR",((C$28*10)*$B32),IF(C$27="%w/w DM",(((C$28*10)*($B$28/100))*$B32),IF(C$27="kg/t SAR",(C$28*$B32),IF(C$27="kg/t DM",((C$28*($B$28/100))*$B32),IF(C$27="mg/kg SAR",((C$28*0.001)*$B32),IF(C$27="mg/kg DM",(((C$28*0.001)*($B$28/100))*$B32),0)))))) -> 81.6 | D32: =(IF(D$27="%w/w SAR",((D$28*10)*$B32),IF(D$27="%w/w DM",(((D$28*10)*($B$28/100))*$B32),IF(D$27="kg/t SAR",(D$28*$B32),IF(D$27="kg/t DM",((D$28*($B$28/100))*$B32),IF(D$27="mg/kg SAR",((D$28*0.001)*$B32),IF(D$27="mg/kg DM",(((D$28*0.001)*($B$28/100))*$B32),"0")))))))*2.291 -> 64.65202 | E32: =(IF(E$27="%w/w SAR",((E$28*10)*$B32),IF(E$27="%w/w DM",(((E$28*10)*($B$28/100))*$B32),IF(E$27="kg/t SAR",(E$28*$B32),IF(E$27="kg/t DM",((E$28*($B$28/100))*$B32),IF(E$27="mg/kg SAR",((E$28*0.001)*$B32),IF(E$27="mg/kg DM",(((E$28*0.001)*($B$28/100))*$B32),"0")))))))*1.205 -> 9.70989 | F32: =(IF(F$27="%w/w SAR",((F$28*10)*$B32),IF(F$27="%w/w DM",(((F$28*10)*($B$28/100))*$B32),IF(F$27="kg/t SAR",(F$28*$B32),IF(F$27="kg/t DM",((F$28*($B$28/100))*$B32),IF(F$27="mg/kg SAR",((F$28*0.001)*$B32),IF(F$27="mg/kg DM",(((F$28*0.001)*($B$28/100))*$B32),"0")))))))*1.658 -> 3.4894268 | G32: =IF(G$27="%w/w SAR",((G$28*10)*$B32),IF(G$27="%w/w DM",(((G$28*10)*($B$28/100))*$B32),IF(G$27="kg/t SAR",(G$28*$B32),IF(G$27="kg/t DM",((G$28*($B$28/100))*$B32),IF(G$27="mg/kg SAR",((G$28*0.001)*$B32),IF(G$27="mg/kg DM",(((G$28*0.001)*($B$28/100))*$B32),0)))))) -> 0.15776 | H32: =IF(H$27="%w/w SAR",((H$28*10)*$B32),IF(H$27="%w/w DM",(((H$28*10)*($B$28/100))*$B32),IF(H$27="kg/t SAR",(H$28*$B32),IF(H$27="kg/t DM",((H$28*($B$28/100))*$B32),IF(H$27="mg/kg SAR",((H$28*0.001)*$B32),IF(H$27="mg/kg DM",(((H$28*0.001)*($B$28/100))*$B32),0)))))) -> 1.7714 | I32: =IF(I$27="%w/w SAR",((I$28*10)*$B32),IF(I$27="%w/w DM",(((I$28*10)*($B$28/100))*$B32),IF(I$27="kg/t SAR",(I$28*$B32),IF(I$27="kg/t DM",((I$28*($B$28/100))*$B32),IF(I$27="mg/kg SAR",((I$28*0.001)*$B32),IF(I$27="mg/kg DM",(((I$28*0.001)*($B$28/100))*$B32),0)))))) -> 0.017 | J32: =IF(J$27="%w/w SAR",((J$28*10)*$B32),IF(J$27="%w/w DM",(((J$28*10)*($B$28/100))*$B32),IF(J$27="kg/t SAR",(J$28*$B32),IF(J$27="kg/t DM",((J$28*($B$28/100))*$B32),IF(J$27="mg/kg SAR",((J$28*0.001)*$B32),IF(J$27="mg/kg DM",(((J$28*0.001)*($B$28/100))*$B32),0)))))) -> 0.00034 | K32: =IF(K$27="%w/w SAR",((K$28*10)*$B32),IF(K$27="%w/w DM",(((K$28*10)*($B$28/100))*$B32),IF(K$27="kg/t SAR",(K$28*$B32),IF(K$27="kg/t DM",((K$28*($B$28/100))*$B32),IF(K$27="mg/kg SAR",((K$28*0.001)*$B32),IF(K$27="mg/kg DM",(((K$28*0.001)*($B$28/100))*$B32),0)))))) -> 0.0017 | L32: =IF(L$27="%w/w SAR",((L$28*10)*$B32),IF(L$27="%w/w DM",(((L$28*10)*($B$28/100))*$B32),IF(L$27="kg/t SAR",(L$28*$B32),IF(L$27="kg/t DM",((L$28*($B$28/100))*$B32),IF(L$27="mg/kg SAR",((L$28*0.001)*$B32),IF(L$27="mg/kg DM",(((L$28*0.001)*($B$28/100))*$B32),0)))))) -> 0.01224 | M32: =IF(M$27="%w/w SAR",((M$28*10)*$B32),IF(M$27="%w/w DM",(((M$28*10)*($B$28/100))*$B32),IF(M$27="kg/t SAR",(M$28*$B32),IF(M$27="kg/t DM",((M$28*($B$28/100))*$B32),IF(M$27="mg/kg SAR",((M$28*0.001)*$B32),IF(M$27="mg/kg DM",(((M$28*0.001)*($B$28/100))*$B32),0)))))) -> 0.0238 | N32: =IF(N$27="%w/w SAR",((N$28*10)*$B32),IF(N$27="%w/w DM",(((N$28*10)*($B$28/100))*$B32),IF(N$27="kg/t SAR",(N$28*$B32),IF(N$27="kg/t DM",((N$28*($B$28/100))*$B32),IF(N$27="mg/kg SAR",((N$28*0.001)*$B32),IF(N$27="mg/kg DM",(((N$28*0.001)*($B$28/100))*$B32),0)))))) -> 0 | ... P32: =IF(P$27="%w/w SAR",((P$28*10)*$B32),IF(P$27="%w/w DM",(((P$28*10)*($B$28/100))*$B32),IF(P$27="kg/t SAR",(P$28*$B32),IF(P$27="kg/t DM",((P$28*($B$28/100))*$B32),IF(P$27="mg/kg SAR",((P$28*0.001)*$B32),IF(P$27="mg/kg DM",(((P$28*0.001)*($B$28/100))*$B32),0)))))) -> 35.224 | Q32: =(IF(Q$27="%w/w SAR",((Q$28*10)*$B32),IF(Q$27="%w/w DM",(((Q$28*10)*($B$28/100))*$B32),IF(Q$27="kg/t SAR",(Q$28*$B32),IF(Q$27="kg/t DM",((Q$28*($B$28/100))*$B32),IF(Q$27="mg/kg SAR",((Q$28*0.001)*$B32),IF(Q$27="mg/kg DM",(((Q$28*0.001)*($B$28/100))*$B32),0)))))))*2.5 -> 20.145 | R32: =IF(R$27="%w/w SAR",((R$28*10)*$B32),IF(R$27="%w/w DM",(((R$28*10)*($B$28/100))*$B32),IF(R$27="kg/t SAR",(R$28*$B32),IF(R$27="kg/t DM",((R$28*($B$28/100))*$B32),IF(R$27="mg/kg SAR",((R$28*0.001)*$B32),IF(R$27="mg/kg DM",(((R$28*0.001)*($B$28/100))*$B32),0)))))) -> 0.0017 | S32: =IF(S$27="%w/w SAR",((S$28*10)*$B32),IF(S$27="%w/w DM",(((S$28*10)*($B$28/100))*$B32),IF(S$27="kg/t SAR",(S$28*$B32),IF(S$27="kg/t DM",((S$28*($B$28/100))*$B32),IF(S$27="mg/kg SAR",((S$28*0.001)*$B32),IF(S$27="mg/kg DM",(((S$28*0.001)*($B$28/100))*$B32),0)))))) -> 0.017 | T32: =IF(T$27="%w/w SAR",((T$28*10)*$B32),IF(T$27="%w/w DM",(((T$28*10)*($B$28/100))*$B32),IF(T$27="kg/t SAR",(T$28*$B32),IF(T$27="kg/t DM",((T$28*($B$28/100))*$B32),IF(T$27="mg/kg SAR",((T$28*0.001)*$B32),IF(T$27="mg/kg DM",(((T$28*0.001)*($B$28/100))*$B32),0)))))) -> 0.00374 | U32: =IF(U$27="%w/w SAR",((U$28*10)*$B32),IF(U$27="%w/w DM",(((U$28*10)*($B$28/100))*$B32),IF(U$27="kg/t SAR",(U$28*$B32),IF(U$27="kg/t DM",((U$28*($B$28/100))*$B32),IF(U$27="mg/kg SAR",((U$28*0.001)*$B32),IF(U$27="mg/kg DM",(((U$28*0.001)*($B$28/100))*$B32),0)))))) -> 0.34
A33: =E8 -> 8153 | B33: 34 | C33: =IF(C$27="%w/w SAR",((C$28*10)*$B33),IF(C$27="%w/w DM",(((C$28*10)*($B$28/100))*$B33),IF(C$27="kg/t SAR",(C$28*$B33),IF(C$27="kg/t DM",((C$28*($B$28/100))*$B33),IF(C$27="mg/kg SAR",((C$28*0.001)*$B33),IF(C$27="mg/kg DM",(((C$28*0.001)*($B$28/100))*$B33),0)))))) -> 81.6 | D33: =(IF(D$27="%w/w SAR",((D$28*10)*$B33),IF(D$27="%w/w DM",(((D$28*10)*($B$28/100))*$B33),IF(D$27="kg/t SAR",(D$28*$B33),IF(D$27="kg/t DM",((D$28*($B$28/100))*$B33),IF(D$27="mg/kg SAR",((D$28*0.001)*$B33),IF(D$27="mg/kg DM",(((D$28*0.001)*($B$28/100))*$B33),"0")))))))*2.291 -> 64.65202 | E33: =(IF(E$27="%w/w SAR",((E$28*10)*$B33),IF(E$27="%w/w DM",(((E$28*10)*($B$28/100))*$B33),IF(E$27="kg/t SAR",(E$28*$B33),IF(E$27="kg/t DM",((E$28*($B$28/100))*$B33),IF(E$27="mg/kg SAR",((E$28*0.001)*$B33),IF(E$27="mg/kg DM",(((E$28*0.001)*($B$28/100))*$B33),"0")))))))*1.205 -> 9.70989 | F33: =(IF(F$27="%w/w SAR",((F$28*10)*$B33),IF(F$27="%w/w DM",(((F$28*10)*($B$28/100))*$B33),IF(F$27="kg/t SAR",(F$28*$B33),IF(F$27="kg/t DM",((F$28*($B$28/100))*$B33),IF(F$27="mg/kg SAR",((F$28*0.001)*$B33),IF(F$27="mg/kg DM",(((F$28*0.001)*($B$28/100))*$B33),"0")))))))*1.658 -> 3.4894268 | G33: =IF(G$27="%w/w SAR",((G$28*10)*$B33),IF(G$27="%w/w DM",(((G$28*10)*($B$28/100))*$B33),IF(G$27="kg/t SAR",(G$28*$B33),IF(G$27="kg/t DM",((G$28*($B$28/100))*$B33),IF(G$27="mg/kg SAR",((G$28*0.001)*$B33),IF(G$27="mg/kg DM",(((G$28*0.001)*($B$28/100))*$B33),0)))))) -> 0.15776 | H33: =IF(H$27="%w/w SAR",((H$28*10)*$B33),IF(H$27="%w/w DM",(((H$28*10)*($B$28/100))*$B33),IF(H$27="kg/t SAR",(H$28*$B33),IF(H$27="kg/t DM",((H$28*($B$28/100))*$B33),IF(H$27="mg/kg SAR",((H$28*0.001)*$B33),IF(H$27="mg/kg DM",(((H$28*0.001)*($B$28/100))*$B33),0)))))) -> 1.7714 | I33: =IF(I$27="%w/w SAR",((I$28*10)*$B33),IF(I$27="%w/w DM",(((I$28*10)*($B$28/100))*$B33),IF(I$27="kg/t SAR",(I$28*$B33),IF(I$27="kg/t DM",((I$28*($B$28/100))*$B33),IF(I$27="mg/kg SAR",((I$28*0.001)*$B33),IF(I$27="mg/kg DM",(((I$28*0.001)*($B$28/100))*$B33),0)))))) -> 0.017 | J33: =IF(J$27="%w/w SAR",((J$28*10)*$B33),IF(J$27="%w/w DM",(((J$28*10)*($B$28/100))*$B33),IF(J$27="kg/t SAR",(J$28*$B33),IF(J$27="kg/t DM",((J$28*($B$28/100))*$B33),IF(J$27="mg/kg SAR",((J$28*0.001)*$B33),IF(J$27="mg/kg DM",(((J$28*0.001)*($B$28/100))*$B33),0)))))) -> 0.00034 | K33: =IF(K$27="%w/w SAR",((K$28*10)*$B33),IF(K$27="%w/w DM",(((K$28*10)*($B$28/100))*$B33),IF(K$27="kg/t SAR",(K$28*$B33),IF(K$27="kg/t DM",((K$28*($B$28/100))*$B33),IF(K$27="mg/kg SAR",((K$28*0.001)*$B33),IF(K$27="mg/kg DM",(((K$28*0.001)*($B$28/100))*$B33),0)))))) -> 0.0017 | L33: =IF(L$27="%w/w SAR",((L$28*10)*$B33),IF(L$27="%w/w DM",(((L$28*10)*($B$28/100))*$B33),IF(L$27="kg/t SAR",(L$28*$B33),IF(L$27="kg/t DM",((L$28*($B$28/100))*$B33),IF(L$27="mg/kg SAR",((L$28*0.001)*$B33),IF(L$27="mg/kg DM",(((L$28*0.001)*($B$28/100))*$B33),0)))))) -> 0.01224 | M33: =IF(M$27="%w/w SAR",((M$28*10)*$B33),IF(M$27="%w/w DM",(((M$28*10)*($B$28/100))*$B33),IF(M$27="kg/t SAR",(M$28*$B33),IF(M$27="kg/t DM",((M$28*($B$28/100))*$B33),IF(M$27="mg/kg SAR",((M$28*0.001)*$B33),IF(M$27="mg/kg DM",(((M$28*0.001)*($B$28/100))*$B33),0)))))) -> 0.0238 | N33: =IF(N$27="%w/w SAR",((N$28*10)*$B33),IF(N$27="%w/w DM",(((N$28*10)*($B$28/100))*$B33),IF(N$27="kg/t SAR",(N$28*$B33),IF(N$27="kg/t DM",((N$28*($B$28/100))*$B33),IF(N$27="mg/kg SAR",((N$28*0.001)*$B33),IF(N$27="mg/kg DM",(((N$28*0.001)*($B$28/100))*$B33),0)))))) -> 0 | ... P33: =IF(P$27="%w/w SAR",((P$28*10)*$B33),IF(P$27="%w/w DM",(((P$28*10)*($B$28/100))*$B33),IF(P$27="kg/t SAR",(P$28*$B33),IF(P$27="kg/t DM",((P$28*($B$28/100))*$B33),IF(P$27="mg/kg SAR",((P$28*0.001)*$B33),IF(P$27="mg/kg DM",(((P$28*0.001)*($B$28/100))*$B33),0)))))) -> 35.224 | Q33: =(IF(Q$27="%w/w SAR",((Q$28*10)*$B33),IF(Q$27="%w/w DM",(((Q$28*10)*($B$28/100))*$B33),IF(Q$27="kg/t SAR",(Q$28*$B33),IF(Q$27="kg/t DM",((Q$28*($B$28/100))*$B33),IF(Q$27="mg/kg SAR",((Q$28*0.001)*$B33),IF(Q$27="mg/kg DM",(((Q$28*0.001)*($B$28/100))*$B33),0)))))))*2.5 -> 20.145 | R33: =IF(R$27="%w/w SAR",((R$28*10)*$B33),IF(R$27="%w/w DM",(((R$28*10)*($B$28/100))*$B33),IF(R$27="kg/t SAR",(R$28*$B33),IF(R$27="kg/t DM",((R$28*($B$28/100))*$B33),IF(R$27="mg/kg SAR",((R$28*0.001)*$B33),IF(R$27="mg/kg DM",(((R$28*0.001)*($B$28/100))*$B33),0)))))) -> 0.0017 | S33: =IF(S$27="%w/w SAR",((S$28*10)*$B33),IF(S$27="%w/w DM",(((S$28*10)*($B$28/100))*$B33),IF(S$27="kg/t SAR",(S$28*$B33),IF(S$27="kg/t DM",((S$28*($B$28/100))*$B33),IF(S$27="mg/kg SAR",((S$28*0.001)*$B33),IF(S$27="mg/kg DM",(((S$28*0.001)*($B$28/100))*$B33),0)))))) -> 0.017 | T33: =IF(T$27="%w/w SAR",((T$28*10)*$B33),IF(T$27="%w/w DM",(((T$28*10)*($B$28/100))*$B33),IF(T$27="kg/t SAR",(T$28*$B33),IF(T$27="kg/t DM",((T$28*($B$28/100))*$B33),IF(T$27="mg/kg SAR",((T$28*0.001)*$B33),IF(T$27="mg/kg DM",(((T$28*0.001)*($B$28/100))*$B33),0)))))) -> 0.00374 | U33: =IF(U$27="%w/w SAR",((U$28*10)*$B33),IF(U$27="%w/w DM",(((U$28*10)*($B$28/100))*$B33),IF(U$27="kg/t SAR",(U$28*$B33),IF(U$27="kg/t DM",((U$28*($B$28/100))*$B33),IF(U$27="mg/kg SAR",((U$28*0.001)*$B33),IF(U$27="mg/kg DM",(((U$28*0.001)*($B$28/100))*$B33),0)))))) -> 0.34
A34: =F8 -> 9748 | B34: 100 | C34: =IF(C$27="%w/w SAR",((C$28*10)*$B34),IF(C$27="%w/w DM",(((C$28*10)*($B$28/100))*$B34),IF(C$27="kg/t SAR",(C$28*$B34),IF(C$27="kg/t DM",((C$28*($B$28/100))*$B34),IF(C$27="mg/kg SAR",((C$28*0.001)*$B34),IF(C$27="mg/kg DM",(((C$28*0.001)*($B$28/100))*$B34),0)))))) -> 240 | D34: =(IF(D$27="%w/w SAR",((D$28*10)*$B34),IF(D$27="%w/w DM",(((D$28*10)*($B$28/100))*$B34),IF(D$27="kg/t SAR",(D$28*$B34),IF(D$27="kg/t DM",((D$28*($B$28/100))*$B34),IF(D$27="mg/kg SAR",((D$28*0.001)*$B34),IF(D$27="mg/kg DM",(((D$28*0.001)*($B$28/100))*$B34),"0")))))))*2.291 -> 190.153 | E34: =(IF(E$27="%w/w SAR",((E$28*10)*$B34),IF(E$27="%w/w DM",(((E$28*10)*($B$28/100))*$B34),IF(E$27="kg/t SAR",(E$28*$B34),IF(E$27="kg/t DM",((E$28*($B$28/100))*$B34),IF(E$27="mg/kg SAR",((E$28*0.001)*$B34),IF(E$27="mg/kg DM",(((E$28*0.001)*($B$28/100))*$B34),"0")))))))*1.205 -> 28.5585 | F34: =(IF(F$27="%w/w SAR",((F$28*10)*$B34),IF(F$27="%w/w DM",(((F$28*10)*($B$28/100))*$B34),IF(F$27="kg/t SAR",(F$28*$B34),IF(F$27="kg/t DM",((F$28*($B$28/100))*$B34),IF(F$27="mg/kg SAR",((F$28*0.001)*$B34),IF(F$27="mg/kg DM",(((F$28*0.001)*($B$28/100))*$B34),"0")))))))*1.658 -> 10.26302 | G34: =IF(G$27="%w/w SAR",((G$28*10)*$B34),IF(G$27="%w/w DM",(((G$28*10)*($B$28/100))*$B34),IF(G$27="kg/t SAR",(G$28*$B34),IF(G$27="kg/t DM",((G$28*($B$28/100))*$B34),IF(G$27="mg/kg SAR",((G$28*0.001)*$B34),IF(G$27="mg/kg DM",(((G$28*0.001)*($B$28/100))*$B34),0)))))) -> 0.464 | H34: =IF(H$27="%w/w SAR",((H$28*10)*$B34),IF(H$27="%w/w DM",(((H$28*10)*($B$28/100))*$B34),IF(H$27="kg/t SAR",(H$28*$B34),IF(H$27="kg/t DM",((H$28*($B$28/100))*$B34),IF(H$27="mg/kg SAR",((H$28*0.001)*$B34),IF(H$27="mg/kg DM",(((H$28*0.001)*($B$28/100))*$B34),0)))))) -> 5.21 | I34: =IF(I$27="%w/w SAR",((I$28*10)*$B34),IF(I$27="%w/w DM",(((I$28*10)*($B$28/100))*$B34),IF(I$27="kg/t SAR",(I$28*$B34),IF(I$27="kg/t DM",((I$28*($B$28/100))*$B34),IF(I$27="mg/kg SAR",((I$28*0.001)*$B34),IF(I$27="mg/kg DM",(((I$28*0.001)*($B$28/100))*$B34),0)))))) -> 0.05 | J34: =IF(J$27="%w/w SAR",((J$28*10)*$B34),IF(J$27="%w/w DM",(((J$28*10)*($B$28/100))*$B34),IF(J$27="kg/t SAR",(J$28*$B34),IF(J$27="kg/t DM",((J$28*($B$28/100))*$B34),IF(J$27="mg/kg SAR",((J$28*0.001)*$B34),IF(J$27="mg/kg DM",(((J$28*0.001)*($B$28/100))*$B34),0)))))) -> 0.001 | K34: =IF(K$27="%w/w SAR",((K$28*10)*$B34),IF(K$27="%w/w DM",(((K$28*10)*($B$28/100))*$B34),IF(K$27="kg/t SAR",(K$28*$B34),IF(K$27="kg/t DM",((K$28*($B$28/100))*$B34),IF(K$27="mg/kg SAR",((K$28*0.001)*$B34),IF(K$27="mg/kg DM",(((K$28*0.001)*($B$28/100))*$B34),0)))))) -> 0.005 | L34: =IF(L$27="%w/w SAR",((L$28*10)*$B34),IF(L$27="%w/w DM",(((L$28*10)*($B$28/100))*$B34),IF(L$27="kg/t SAR",(L$28*$B34),IF(L$27="kg/t DM",((L$28*($B$28/100))*$B34),IF(L$27="mg/kg SAR",((L$28*0.001)*$B34),IF(L$27="mg/kg DM",(((L$28*0.001)*($B$28/100))*$B34),0)))))) -> 0.036 | M34: =IF(M$27="%w/w SAR",((M$28*10)*$B34),IF(M$27="%w/w DM",(((M$28*10)*($B$28/100))*$B34),IF(M$27="kg/t SAR",(M$28*$B34),IF(M$27="kg/t DM",((M$28*($B$28/100))*$B34),IF(M$27="mg/kg SAR",((M$28*0.001)*$B34),IF(M$27="mg/kg DM",(((M$28*0.001)*($B$28/100))*$B34),0)))))) -> 0.07 | N34: =IF(N$27="%w/w SAR",((N$28*10)*$B34),IF(N$27="%w/w DM",(((N$28*10)*($B$28/100))*$B34),IF(N$27="kg/t SAR",(N$28*$B34),IF(N$27="kg/t DM",((N$28*($B$28/100))*$B34),IF(N$27="mg/kg SAR",((N$28*0.001)*$B34),IF(N$27="mg/kg DM",(((N$28*0.001)*($B$28/100))*$B34),0)))))) -> 0 | ... P34: =IF(P$27="%w/w SAR",((P$28*10)*$B34),IF(P$27="%w/w DM",(((P$28*10)*($B$28/100))*$B34),IF(P$27="kg/t SAR",(P$28*$B34),IF(P$27="kg/t DM",((P$28*($B$28/100))*$B34),IF(P$27="mg/kg SAR",((P$28*0.001)*$B34),IF(P$27="mg/kg DM",(((P$28*0.001)*($B$28/100))*$B34),0)))))) -> 103.6 | Q34: =(IF(Q$27="%w/w SAR",((Q$28*10)*$B34),IF(Q$27="%w/w DM",(((Q$28*10)*($B$28/100))*$B34),IF(Q$27="kg/t SAR",(Q$28*$B34),IF(Q$27="kg/t DM",((Q$28*($B$28/100))*$B34),IF(Q$27="mg/kg SAR",((Q$28*0.001)*$B34),IF(Q$27="mg/kg DM",(((Q$28*0.001)*($B$28/100))*$B34),0)))))))*2.5 -> 59.25 | R34: =IF(R$27="%w/w SAR",((R$28*10)*$B34),IF(R$27="%w/w DM",(((R$28*10)*($B$28/100))*$B34),IF(R$27="kg/t SAR",(R$28*$B34),IF(R$27="kg/t DM",((R$28*($B$28/100))*$B34),IF(R$27="mg/kg SAR",((R$28*0.001)*$B34),IF(R$27="mg/kg DM",(((R$28*0.001)*($B$28/100))*$B34),0)))))) -> 0.005 | S34: =IF(S$27="%w/w SAR",((S$28*10)*$B34),IF(S$27="%w/w DM",(((S$28*10)*($B$28/100))*$B34),IF(S$27="kg/t SAR",(S$28*$B34),IF(S$27="kg/t DM",((S$28*($B$28/100))*$B34),IF(S$27="mg/kg SAR",((S$28*0.001)*$B34),IF(S$27="mg/kg DM",(((S$28*0.001)*($B$28/100))*$B34),0)))))) -> 0.05 | T34: =IF(T$27="%w/w SAR",((T$28*10)*$B34),IF(T$27="%w/w DM",(((T$28*10)*($B$28/100))*$B34),IF(T$27="kg/t SAR",(T$28*$B34),IF(T$27="kg/t DM",((T$28*($B$28/100))*$B34),IF(T$27="mg/kg SAR",((T$28*0.001)*$B34),IF(T$27="mg/kg DM",(((T$28*0.001)*($B$28/100))*$B34),0)))))) -> 0.011 | U34: =IF(U$27="%w/w SAR",((U$28*10)*$B34),IF(U$27="%w/w DM",(((U$28*10)*($B$28/100))*$B34),IF(U$27="kg/t SAR",(U$28*$B34),IF(U$27="kg/t DM",((U$28*($B$28/100))*$B34),IF(U$27="mg/kg SAR",((U$28*0.001)*$B34),IF(U$27="mg/kg DM",(((U$28*0.001)*($B$28/100))*$B34),0)))))) -> 1
A35: =G8 -> 1057 | B35: 34 | C35: =IF(C$27="%w/w SAR",((C$28*10)*$B35),IF(C$27="%w/w DM",(((C$28*10)*($B$28/100))*$B35),IF(C$27="kg/t SAR",(C$28*$B35),IF(C$27="kg/t DM",((C$28*($B$28/100))*$B35),IF(C$27="mg/kg SAR",((C$28*0.001)*$B35),IF(C$27="mg/kg DM",(((C$28*0.001)*($B$28/100))*$B35),0)))))) -> 81.6 | D35: =(IF(D$27="%w/w SAR",((D$28*10)*$B35),IF(D$27="%w/w DM",(((D$28*10)*($B$28/100))*$B35),IF(D$27="kg/t SAR",(D$28*$B35),IF(D$27="kg/t DM",((D$28*($B$28/100))*$B35),IF(D$27="mg/kg SAR",((D$28*0.001)*$B35),IF(D$27="mg/kg DM",(((D$28*0.001)*($B$28/100))*$B35),"0")))))))*2.291 -> 64.65202 | E35: =(IF(E$27="%w/w SAR",((E$28*10)*$B35),IF(E$27="%w/w DM",(((E$28*10)*($B$28/100))*$B35),IF(E$27="kg/t SAR",(E$28*$B35),IF(E$27="kg/t DM",((E$28*($B$28/100))*$B35),IF(E$27="mg/kg SAR",((E$28*0.001)*$B35),IF(E$27="mg/kg DM",(((E$28*0.001)*($B$28/100))*$B35),"0")))))))*1.205 -> 9.70989 | F35: =(IF(F$27="%w/w SAR",((F$28*10)*$B35),IF(F$27="%w/w DM",(((F$28*10)*($B$28/100))*$B35),IF(F$27="kg/t SAR",(F$28*$B35),IF(F$27="kg/t DM",((F$28*($B$28/100))*$B35),IF(F$27="mg/kg SAR",((F$28*0.001)*$B35),IF(F$27="mg/kg DM",(((F$28*0.001)*($B$28/100))*$B35),"0")))))))*1.658 -> 3.4894268 | G35: =IF(G$27="%w/w SAR",((G$28*10)*$B35),IF(G$27="%w/w DM",(((G$28*10)*($B$28/100))*$B35),IF(G$27="kg/t SAR",(G$28*$B35),IF(G$27="kg/t DM",((G$28*($B$28/100))*$B35),IF(G$27="mg/kg SAR",((G$28*0.001)*$B35),IF(G$27="mg/kg DM",(((G$28*0.001)*($B$28/100))*$B35),0)))))) -> 0.15776 | H35: =IF(H$27="%w/w SAR",((H$28*10)*$B35),IF(H$27="%w/w DM",(((H$28*10)*($B$28/100))*$B35),IF(H$27="kg/t SAR",(H$28*$B35),IF(H$27="kg/t DM",((H$28*($B$28/100))*$B35),IF(H$27="mg/kg SAR",((H$28*0.001)*$B35),IF(H$27="mg/kg DM",(((H$28*0.001)*($B$28/100))*$B35),0)))))) -> 1.7714 | I35: =IF(I$27="%w/w SAR",((I$28*10)*$B35),IF(I$27="%w/w DM",(((I$28*10)*($B$28/100))*$B35),IF(I$27="kg/t SAR",(I$28*$B35),IF(I$27="kg/t DM",((I$28*($B$28/100))*$B35),IF(I$27="mg/kg SAR",((I$28*0.001)*$B35),IF(I$27="mg/kg DM",(((I$28*0.001)*($B$28/100))*$B35),0)))))) -> 0.017 | J35: =IF(J$27="%w/w SAR",((J$28*10)*$B35),IF(J$27="%w/w DM",(((J$28*10)*($B$28/100))*$B35),IF(J$27="kg/t SAR",(J$28*$B35),IF(J$27="kg/t DM",((J$28*($B$28/100))*$B35),IF(J$27="mg/kg SAR",((J$28*0.001)*$B35),IF(J$27="mg/kg DM",(((J$28*0.001)*($B$28/100))*$B35),0)))))) -> 0.00034 | K35: =IF(K$27="%w/w SAR",((K$28*10)*$B35),IF(K$27="%w/w DM",(((K$28*10)*($B$28/100))*$B35),IF(K$27="kg/t SAR",(K$28*$B35),IF(K$27="kg/t DM",((K$28*($B$28/100))*$B35),IF(K$27="mg/kg SAR",((K$28*0.001)*$B35),IF(K$27="mg/kg DM",(((K$28*0.001)*($B$28/100))*$B35),0)))))) -> 0.0017 | L35: =IF(L$27="%w/w SAR",((L$28*10)*$B35),IF(L$27="%w/w DM",(((L$28*10)*($B$28/100))*$B35),IF(L$27="kg/t SAR",(L$28*$B35),IF(L$27="kg/t DM",((L$28*($B$28/100))*$B35),IF(L$27="mg/kg SAR",((L$28*0.001)*$B35),IF(L$27="mg/kg DM",(((L$28*0.001)*($B$28/100))*$B35),0)))))) -> 0.01224 | M35: =IF(M$27="%w/w SAR",((M$28*10)*$B35),IF(M$27="%w/w DM",(((M$28*10)*($B$28/100))*$B35),IF(M$27="kg/t SAR",(M$28*$B35),IF(M$27="kg/t DM",((M$28*($B$28/100))*$B35),IF(M$27="mg/kg SAR",((M$28*0.001)*$B35),IF(M$27="mg/kg DM",(((M$28*0.001)*($B$28/100))*$B35),0)))))) -> 0.0238 | N35: =IF(N$27="%w/w SAR",((N$28*10)*$B35),IF(N$27="%w/w DM",(((N$28*10)*($B$28/100))*$B35),IF(N$27="kg/t SAR",(N$28*$B35),IF(N$27="kg/t DM",((N$28*($B$28/100))*$B35),IF(N$27="mg/kg SAR",((N$28*0.001)*$B35),IF(N$27="mg/kg DM",(((N$28*0.001)*($B$28/100))*$B35),0)))))) -> 0 | ... P35: =IF(P$27="%w/w SAR",((P$28*10)*$B35),IF(P$27="%w/w DM",(((P$28*10)*($B$28/100))*$B35),IF(P$27="kg/t SAR",(P$28*$B35),IF(P$27="kg/t DM",((P$28*($B$28/100))*$B35),IF(P$27="mg/kg SAR",((P$28*0.001)*$B35),IF(P$27="mg/kg DM",(((P$28*0.001)*($B$28/100))*$B35),0)))))) -> 35.224 | Q35: =(IF(Q$27="%w/w SAR",((Q$28*10)*$B35),IF(Q$27="%w/w DM",(((Q$28*10)*($B$28/100))*$B35),IF(Q$27="kg/t SAR",(Q$28*$B35),IF(Q$27="kg/t DM",((Q$28*($B$28/100))*$B35),IF(Q$27="mg/kg SAR",((Q$28*0.001)*$B35),IF(Q$27="mg/kg DM",(((Q$28*0.001)*($B$28/100))*$B35),0)))))))*2.5 -> 20.145 | R35: =IF(R$27="%w/w SAR",((R$28*10)*$B35),IF(R$27="%w/w DM",(((R$28*10)*($B$28/100))*$B35),IF(R$27="kg/t SAR",(R$28*$B35),IF(R$27="kg/t DM",((R$28*($B$28/100))*$B35),IF(R$27="mg/kg SAR",((R$28*0.001)*$B35),IF(R$27="mg/kg DM",(((R$28*0.001)*($B$28/100))*$B35),0)))))) -> 0.0017 | S35: =IF(S$27="%w/w SAR",((S$28*10)*$B35),IF(S$27="%w/w DM",(((S$28*10)*($B$28/100))*$B35),IF(S$27="kg/t SAR",(S$28*$B35),IF(S$27="kg/t DM",((S$28*($B$28/100))*$B35),IF(S$27="mg/kg SAR",((S$28*0.001)*$B35),IF(S$27="mg/kg DM",(((S$28*0.001)*($B$28/100))*$B35),0)))))) -> 0.017 | T35: =IF(T$27="%w/w SAR",((T$28*10)*$B35),IF(T$27="%w/w DM",(((T$28*10)*($B$28/100))*$B35),IF(T$27="kg/t SAR",(T$28*$B35),IF(T$27="kg/t DM",((T$28*($B$28/100))*$B35),IF(T$27="mg/kg SAR",((T$28*0.001)*$B35),IF(T$27="mg/kg DM",(((T$28*0.001)*($B$28/100))*$B35),0)))))) -> 0.00374 | U35: =IF(U$27="%w/w SAR",((U$28*10)*$B35),IF(U$27="%w/w DM",(((U$28*10)*($B$28/100))*$B35),IF(U$27="kg/t SAR",(U$28*$B35),IF(U$27="kg/t DM",((U$28*($B$28/100))*$B35),IF(U$27="mg/kg SAR",((U$28*0.001)*$B35),IF(U$27="mg/kg DM",(((U$28*0.001)*($B$28/100))*$B35),0)))))) -> 0.34
A36: =H8 -> 3854 | B36: 34 | C36: =IF(C$27="%w/w SAR",((C$28*10)*$B36),IF(C$27="%w/w DM",(((C$28*10)*($B$28/100))*$B36),IF(C$27="kg/t SAR",(C$28*$B36),IF(C$27="kg/t DM",((C$28*($B$28/100))*$B36),IF(C$27="mg/kg SAR",((C$28*0.001)*$B36),IF(C$27="mg/kg DM",(((C$28*0.001)*($B$28/100))*$B36),0)))))) -> 81.6 | D36: =(IF(D$27="%w/w SAR",((D$28*10)*$B36),IF(D$27="%w/w DM",(((D$28*10)*($B$28/100))*$B36),IF(D$27="kg/t SAR",(D$28*$B36),IF(D$27="kg/t DM",((D$28*($B$28/100))*$B36),IF(D$27="mg/kg SAR",((D$28*0.001)*$B36),IF(D$27="mg/kg DM",(((D$28*0.001)*($B$28/100))*$B36),"0")))))))*2.291 -> 64.65202 | E36: =(IF(E$27="%w/w SAR",((E$28*10)*$B36),IF(E$27="%w/w DM",(((E$28*10)*($B$28/100))*$B36),IF(E$27="kg/t SAR",(E$28*$B36),IF(E$27="kg/t DM",((E$28*($B$28/100))*$B36),IF(E$27="mg/kg SAR",((E$28*0.001)*$B36),IF(E$27="mg/kg DM",(((E$28*0.001)*($B$28/100))*$B36),"0")))))))*1.205 -> 9.70989 | F36: =(IF(F$27="%w/w SAR",((F$28*10)*$B36),IF(F$27="%w/w DM",(((F$28*10)*($B$28/100))*$B36),IF(F$27="kg/t SAR",(F$28*$B36),IF(F$27="kg/t DM",((F$28*($B$28/100))*$B36),IF(F$27="mg/kg SAR",((F$28*0.001)*$B36),IF(F$27="mg/kg DM",(((F$28*0.001)*($B$28/100))*$B36),"0")))))))*1.658 -> 3.4894268 | G36: =IF(G$27="%w/w SAR",((G$28*10)*$B36),IF(G$27="%w/w DM",(((G$28*10)*($B$28/100))*$B36),IF(G$27="kg/t SAR",(G$28*$B36),IF(G$27="kg/t DM",((G$28*($B$28/100))*$B36),IF(G$27="mg/kg SAR",((G$28*0.001)*$B36),IF(G$27="mg/kg DM",(((G$28*0.001)*($B$28/100))*$B36),0)))))) -> 0.15776 | H36: =IF(H$27="%w/w SAR",((H$28*10)*$B36),IF(H$27="%w/w DM",(((H$28*10)*($B$28/100))*$B36),IF(H$27="kg/t SAR",(H$28*$B36),IF(H$27="kg/t DM",((H$28*($B$28/100))*$B36),IF(H$27="mg/kg SAR",((H$28*0.001)*$B36),IF(H$27="mg/kg DM",(((H$28*0.001)*($B$28/100))*$B36),0)))))) -> 1.7714 | I36: =IF(I$27="%w/w SAR",((I$28*10)*$B36),IF(I$27="%w/w DM",(((I$28*10)*($B$28/100))*$B36),IF(I$27="kg/t SAR",(I$28*$B36),IF(I$27="kg/t DM",((I$28*($B$28/100))*$B36),IF(I$27="mg/kg SAR",((I$28*0.001)*$B36),IF(I$27="mg/kg DM",(((I$28*0.001)*($B$28/100))*$B36),0)))))) -> 0.017 | J36: =IF(J$27="%w/w SAR",((J$28*10)*$B36),IF(J$27="%w/w DM",(((J$28*10)*($B$28/100))*$B36),IF(J$27="kg/t SAR",(J$28*$B36),IF(J$27="kg/t DM",((J$28*($B$28/100))*$B36),IF(J$27="mg/kg SAR",((J$28*0.001)*$B36),IF(J$27="mg/kg DM",(((J$28*0.001)*($B$28/100))*$B36),0)))))) -> 0.00034 | K36: =IF(K$27="%w/w SAR",((K$28*10)*$B36),IF(K$27="%w/w DM",(((K$28*10)*($B$28/100))*$B36),IF(K$27="kg/t SAR",(K$28*$B36),IF(K$27="kg/t DM",((K$28*($B$28/100))*$B36),IF(K$27="mg/kg SAR",((K$28*0.001)*$B36),IF(K$27="mg/kg DM",(((K$28*0.001)*($B$28/100))*$B36),0)))))) -> 0.0017 | L36: =IF(L$27="%w/w SAR",((L$28*10)*$B36),IF(L$27="%w/w DM",(((L$28*10)*($B$28/100))*$B36),IF(L$27="kg/t SAR",(L$28*$B36),IF(L$27="kg/t DM",((L$28*($B$28/100))*$B36),IF(L$27="mg/kg SAR",((L$28*0.001)*$B36),IF(L$27="mg/kg DM",(((L$28*0.001)*($B$28/100))*$B36),0)))))) -> 0.01224 | M36: =IF(M$27="%w/w SAR",((M$28*10)*$B36),IF(M$27="%w/w DM",(((M$28*10)*($B$28/100))*$B36),IF(M$27="kg/t SAR",(M$28*$B36),IF(M$27="kg/t DM",((M$28*($B$28/100))*$B36),IF(M$27="mg/kg SAR",((M$28*0.001)*$B36),IF(M$27="mg/kg DM",(((M$28*0.001)*($B$28/100))*$B36),0)))))) -> 0.0238 | N36: =IF(N$27="%w/w SAR",((N$28*10)*$B36),IF(N$27="%w/w DM",(((N$28*10)*($B$28/100))*$B36),IF(N$27="kg/t SAR",(N$28*$B36),IF(N$27="kg/t DM",((N$28*($B$28/100))*$B36),IF(N$27="mg/kg SAR",((N$28*0.001)*$B36),IF(N$27="mg/kg DM",(((N$28*0.001)*($B$28/100))*$B36),0)))))) -> 0 | ... P36: =IF(P$27="%w/w SAR",((P$28*10)*$B36),IF(P$27="%w/w DM",(((P$28*10)*($B$28/100))*$B36),IF(P$27="kg/t SAR",(P$28*$B36),IF(P$27="kg/t DM",((P$28*($B$28/100))*$B36),IF(P$27="mg/kg SAR",((P$28*0.001)*$B36),IF(P$27="mg/kg DM",(((P$28*0.001)*($B$28/100))*$B36),0)))))) -> 35.224 | Q36: =(IF(Q$27="%w/w SAR",((Q$28*10)*$B36),IF(Q$27="%w/w DM",(((Q$28*10)*($B$28/100))*$B36),IF(Q$27="kg/t SAR",(Q$28*$B36),IF(Q$27="kg/t DM",((Q$28*($B$28/100))*$B36),IF(Q$27="mg/kg SAR",((Q$28*0.001)*$B36),IF(Q$27="mg/kg DM",(((Q$28*0.001)*($B$28/100))*$B36),0)))))))*2.5 -> 20.145 | R36: =IF(R$27="%w/w SAR",((R$28*10)*$B36),IF(R$27="%w/w DM",(((R$28*10)*($B$28/100))*$B36),IF(R$27="kg/t SAR",(R$28*$B36),IF(R$27="kg/t DM",((R$28*($B$28/100))*$B36),IF(R$27="mg/kg SAR",((R$28*0.001)*$B36),IF(R$27="mg/kg DM",(((R$28*0.001)*($B$28/100))*$B36),0)))))) -> 0.0017 | S36: =IF(S$27="%w/w SAR",((S$28*10)*$B36),IF(S$27="%w/w DM",(((S$28*10)*($B$28/100))*$B36),IF(S$27="kg/t SAR",(S$28*$B36),IF(S$27="kg/t DM",((S$28*($B$28/100))*$B36),IF(S$27="mg/kg SAR",((S$28*0.001)*$B36),IF(S$27="mg/kg DM",(((S$28*0.001)*($B$28/100))*$B36),0)))))) -> 0.017 | T36: =IF(T$27="%w/w SAR",((T$28*10)*$B36),IF(T$27="%w/w DM",(((T$28*10)*($B$28/100))*$B36),IF(T$27="kg/t SAR",(T$28*$B36),IF(T$27="kg/t DM",((T$28*($B$28/100))*$B36),IF(T$27="mg/kg SAR",((T$28*0.001)*$B36),IF(T$27="mg/kg DM",(((T$28*0.001)*($B$28/100))*$B36),0)))))) -> 0.00374 | U36: =IF(U$27="%w/w SAR",((U$28*10)*$B36),IF(U$27="%w/w DM",(((U$28*10)*($B$28/100))*$B36),IF(U$27="kg/t SAR",(U$28*$B36),IF(U$27="kg/t DM",((U$28*($B$28/100))*$B36),IF(U$27="mg/kg SAR",((U$28*0.001)*$B36),IF(U$27="mg/kg DM",(((U$28*0.001)*($B$28/100))*$B36),0)))))) -> 0.34
A37: =I8 -> 6042 | B37: 34 | C37: =IF(C$27="%w/w SAR",((C$28*10)*$B37),IF(C$27="%w/w DM",(((C$28*10)*($B$28/100))*$B37),IF(C$27="kg/t SAR",(C$28*$B37),IF(C$27="kg/t DM",((C$28*($B$28/100))*$B37),IF(C$27="mg/kg SAR",((C$28*0.001)*$B37),IF(C$27="mg/kg DM",(((C$28*0.001)*($B$28/100))*$B37),0)))))) -> 81.6 | D37: =(IF(D$27="%w/w SAR",((D$28*10)*$B37),IF(D$27="%w/w DM",(((D$28*10)*($B$28/100))*$B37),IF(D$27="kg/t SAR",(D$28*$B37),IF(D$27="kg/t DM",((D$28*($B$28/100))*$B37),IF(D$27="mg/kg SAR",((D$28*0.001)*$B37),IF(D$27="mg/kg DM",(((D$28*0.001)*($B$28/100))*$B37),"0")))))))*2.291 -> 64.65202 | E37: =(IF(E$27="%w/w SAR",((E$28*10)*$B37),IF(E$27="%w/w DM",(((E$28*10)*($B$28/100))*$B37),IF(E$27="kg/t SAR",(E$28*$B37),IF(E$27="kg/t DM",((E$28*($B$28/100))*$B37),IF(E$27="mg/kg SAR",((E$28*0.001)*$B37),IF(E$27="mg/kg DM",(((E$28*0.001)*($B$28/100))*$B37),"0")))))))*1.205 -> 9.70989 | F37: =(IF(F$27="%w/w SAR",((F$28*10)*$B37),IF(F$27="%w/w DM",(((F$28*10)*($B$28/100))*$B37),IF(F$27="kg/t SAR",(F$28*$B37),IF(F$27="kg/t DM",((F$28*($B$28/100))*$B37),IF(F$27="mg/kg SAR",((F$28*0.001)*$B37),IF(F$27="mg/kg DM",(((F$28*0.001)*($B$28/100))*$B37),"0")))))))*1.658 -> 3.4894268 | G37: =IF(G$27="%w/w SAR",((G$28*10)*$B37),IF(G$27="%w/w DM",(((G$28*10)*($B$28/100))*$B37),IF(G$27="kg/t SAR",(G$28*$B37),IF(G$27="kg/t DM",((G$28*($B$28/100))*$B37),IF(G$27="mg/kg SAR",((G$28*0.001)*$B37),IF(G$27="mg/kg DM",(((G$28*0.001)*($B$28/100))*$B37),0)))))) -> 0.15776 | H37: =IF(H$27="%w/w SAR",((H$28*10)*$B37),IF(H$27="%w/w DM",(((H$28*10)*($B$28/100))*$B37),IF(H$27="kg/t SAR",(H$28*$B37),IF(H$27="kg/t DM",((H$28*($B$28/100))*$B37),IF(H$27="mg/kg SAR",((H$28*0.001)*$B37),IF(H$27="mg/kg DM",(((H$28*0.001)*($B$28/100))*$B37),0)))))) -> 1.7714 | I37: =IF(I$27="%w/w SAR",((I$28*10)*$B37),IF(I$27="%w/w DM",(((I$28*10)*($B$28/100))*$B37),IF(I$27="kg/t SAR",(I$28*$B37),IF(I$27="kg/t DM",((I$28*($B$28/100))*$B37),IF(I$27="mg/kg SAR",((I$28*0.001)*$B37),IF(I$27="mg/kg DM",(((I$28*0.001)*($B$28/100))*$B37),0)))))) -> 0.017 | J37: =IF(J$27="%w/w SAR",((J$28*10)*$B37),IF(J$27="%w/w DM",(((J$28*10)*($B$28/100))*$B37),IF(J$27="kg/t SAR",(J$28*$B37),IF(J$27="kg/t DM",((J$28*($B$28/100))*$B37),IF(J$27="mg/kg SAR",((J$28*0.001)*$B37),IF(J$27="mg/kg DM",(((J$28*0.001)*($B$28/100))*$B37),0)))))) -> 0.00034 | K37: =IF(K$27="%w/w SAR",((K$28*10)*$B37),IF(K$27="%w/w DM",(((K$28*10)*($B$28/100))*$B37),IF(K$27="kg/t SAR",(K$28*$B37),IF(K$27="kg/t DM",((K$28*($B$28/100))*$B37),IF(K$27="mg/kg SAR",((K$28*0.001)*$B37),IF(K$27="mg/kg DM",(((K$28*0.001)*($B$28/100))*$B37),0)))))) -> 0.0017 | L37: =IF(L$27="%w/w SAR",((L$28*10)*$B37),IF(L$27="%w/w DM",(((L$28*10)*($B$28/100))*$B37),IF(L$27="kg/t SAR",(L$28*$B37),IF(L$27="kg/t DM",((L$28*($B$28/100))*$B37),IF(L$27="mg/kg SAR",((L$28*0.001)*$B37),IF(L$27="mg/kg DM",(((L$28*0.001)*($B$28/100))*$B37),0)))))) -> 0.01224 | M37: =IF(M$27="%w/w SAR",((M$28*10)*$B37),IF(M$27="%w/w DM",(((M$28*10)*($B$28/100))*$B37),IF(M$27="kg/t SAR",(M$28*$B37),IF(M$27="kg/t DM",((M$28*($B$28/100))*$B37),IF(M$27="mg/kg SAR",((M$28*0.001)*$B37),IF(M$27="mg/kg DM",(((M$28*0.001)*($B$28/100))*$B37),0)))))) -> 0.0238 | N37: =IF(N$27="%w/w SAR",((N$28*10)*$B37),IF(N$27="%w/w DM",(((N$28*10)*($B$28/100))*$B37),IF(N$27="kg/t SAR",(N$28*$B37),IF(N$27="kg/t DM",((N$28*($B$28/100))*$B37),IF(N$27="mg/kg SAR",((N$28*0.001)*$B37),IF(N$27="mg/kg DM",(((N$28*0.001)*($B$28/100))*$B37),0)))))) -> 0 | ... P37: =IF(P$27="%w/w SAR",((P$28*10)*$B37),IF(P$27="%w/w DM",(((P$28*10)*($B$28/100))*$B37),IF(P$27="kg/t SAR",(P$28*$B37),IF(P$27="kg/t DM",((P$28*($B$28/100))*$B37),IF(P$27="mg/kg SAR",((P$28*0.001)*$B37),IF(P$27="mg/kg DM",(((P$28*0.001)*($B$28/100))*$B37),0)))))) -> 35.224 | Q37: =(IF(Q$27="%w/w SAR",((Q$28*10)*$B37),IF(Q$27="%w/w DM",(((Q$28*10)*($B$28/100))*$B37),IF(Q$27="kg/t SAR",(Q$28*$B37),IF(Q$27="kg/t DM",((Q$28*($B$28/100))*$B37),IF(Q$27="mg/kg SAR",((Q$28*0.001)*$B37),IF(Q$27="mg/kg DM",(((Q$28*0.001)*($B$28/100))*$B37),0)))))))*2.5 -> 20.145 | R37: =IF(R$27="%w/w SAR",((R$28*10)*$B37),IF(R$27="%w/w DM",(((R$28*10)*($B$28/100))*$B37),IF(R$27="kg/t SAR",(R$28*$B37),IF(R$27="kg/t DM",((R$28*($B$28/100))*$B37),IF(R$27="mg/kg SAR",((R$28*0.001)*$B37),IF(R$27="mg/kg DM",(((R$28*0.001)*($B$28/100))*$B37),0)))))) -> 0.0017 | S37: =IF(S$27="%w/w SAR",((S$28*10)*$B37),IF(S$27="%w/w DM",(((S$28*10)*($B$28/100))*$B37),IF(S$27="kg/t SAR",(S$28*$B37),IF(S$27="kg/t DM",((S$28*($B$28/100))*$B37),IF(S$27="mg/kg SAR",((S$28*0.001)*$B37),IF(S$27="mg/kg DM",(((S$28*0.001)*($B$28/100))*$B37),0)))))) -> 0.017 | T37: =IF(T$27="%w/w SAR",((T$28*10)*$B37),IF(T$27="%w/w DM",(((T$28*10)*($B$28/100))*$B37),IF(T$27="kg/t SAR",(T$28*$B37),IF(T$27="kg/t DM",((T$28*($B$28/100))*$B37),IF(T$27="mg/kg SAR",((T$28*0.001)*$B37),IF(T$27="mg/kg DM",(((T$28*0.001)*($B$28/100))*$B37),0)))))) -> 0.00374 | U37: =IF(U$27="%w/w SAR",((U$28*10)*$B37),IF(U$27="%w/w DM",(((U$28*10)*($B$28/100))*$B37),IF(U$27="kg/t SAR",(U$28*$B37),IF(U$27="kg/t DM",((U$28*($B$28/100))*$B37),IF(U$27="mg/kg SAR",((U$28*0.001)*$B37),IF(U$27="mg/kg DM",(((U$28*0.001)*($B$28/100))*$B37),0)))))) -> 0.34
A38: =J8 -> 2345 | B38: 34 | C38: =IF(C$27="%w/w SAR",((C$28*10)*$B38),IF(C$27="%w/w DM",(((C$28*10)*($B$28/100))*$B38),IF(C$27="kg/t SAR",(C$28*$B38),IF(C$27="kg/t DM",((C$28*($B$28/100))*$B38),IF(C$27="mg/kg SAR",((C$28*0.001)*$B38),IF(C$27="mg/kg DM",(((C$28*0.001)*($B$28/100))*$B38),0)))))) -> 81.6 | D38: =(IF(D$27="%w/w SAR",((D$28*10)*$B38),IF(D$27="%w/w DM",(((D$28*10)*($B$28/100))*$B38),IF(D$27="kg/t SAR",(D$28*$B38),IF(D$27="kg/t DM",((D$28*($B$28/100))*$B38),IF(D$27="mg/kg SAR",((D$28*0.001)*$B38),IF(D$27="mg/kg DM",(((D$28*0.001)*($B$28/100))*$B38),"0")))))))*2.291 -> 64.65202 | E38: =(IF(E$27="%w/w SAR",((E$28*10)*$B38),IF(E$27="%w/w DM",(((E$28*10)*($B$28/100))*$B38),IF(E$27="kg/t SAR",(E$28*$B38),IF(E$27="kg/t DM",((E$28*($B$28/100))*$B38),IF(E$27="mg/kg SAR",((E$28*0.001)*$B38),IF(E$27="mg/kg DM",(((E$28*0.001)*($B$28/100))*$B38),"0")))))))*1.205 -> 9.70989 | F38: =(IF(F$27="%w/w SAR",((F$28*10)*$B38),IF(F$27="%w/w DM",(((F$28*10)*($B$28/100))*$B38),IF(F$27="kg/t SAR",(F$28*$B38),IF(F$27="kg/t DM",((F$28*($B$28/100))*$B38),IF(F$27="mg/kg SAR",((F$28*0.001)*$B38),IF(F$27="mg/kg DM",(((F$28*0.001)*($B$28/100))*$B38),"0")))))))*1.658 -> 3.4894268 | G38: =IF(G$27="%w/w SAR",((G$28*10)*$B38),IF(G$27="%w/w DM",(((G$28*10)*($B$28/100))*$B38),IF(G$27="kg/t SAR",(G$28*$B38),IF(G$27="kg/t DM",((G$28*($B$28/100))*$B38),IF(G$27="mg/kg SAR",((G$28*0.001)*$B38),IF(G$27="mg/kg DM",(((G$28*0.001)*($B$28/100))*$B38),0)))))) -> 0.15776 | H38: =IF(H$27="%w/w SAR",((H$28*10)*$B38),IF(H$27="%w/w DM",(((H$28*10)*($B$28/100))*$B38),IF(H$27="kg/t SAR",(H$28*$B38),IF(H$27="kg/t DM",((H$28*($B$28/100))*$B38),IF(H$27="mg/kg SAR",((H$28*0.001)*$B38),IF(H$27="mg/kg DM",(((H$28*0.001)*($B$28/100))*$B38),0)))))) -> 1.7714 | I38: =IF(I$27="%w/w SAR",((I$28*10)*$B38),IF(I$27="%w/w DM",(((I$28*10)*($B$28/100))*$B38),IF(I$27="kg/t SAR",(I$28*$B38),IF(I$27="kg/t DM",((I$28*($B$28/100))*$B38),IF(I$27="mg/kg SAR",((I$28*0.001)*$B38),IF(I$27="mg/kg DM",(((I$28*0.001)*($B$28/100))*$B38),0)))))) -> 0.017 | J38: =IF(J$27="%w/w SAR",((J$28*10)*$B38),IF(J$27="%w/w DM",(((J$28*10)*($B$28/100))*$B38),IF(J$27="kg/t SAR",(J$28*$B38),IF(J$27="kg/t DM",((J$28*($B$28/100))*$B38),IF(J$27="mg/kg SAR",((J$28*0.001)*$B38),IF(J$27="mg/kg DM",(((J$28*0.001)*($B$28/100))*$B38),0)))))) -> 0.00034 | K38: =IF(K$27="%w/w SAR",((K$28*10)*$B38),IF(K$27="%w/w DM",(((K$28*10)*($B$28/100))*$B38),IF(K$27="kg/t SAR",(K$28*$B38),IF(K$27="kg/t DM",((K$28*($B$28/100))*$B38),IF(K$27="mg/kg SAR",((K$28*0.001)*$B38),IF(K$27="mg/kg DM",(((K$28*0.001)*($B$28/100))*$B38),0)))))) -> 0.0017 | L38: =IF(L$27="%w/w SAR",((L$28*10)*$B38),IF(L$27="%w/w DM",(((L$28*10)*($B$28/100))*$B38),IF(L$27="kg/t SAR",(L$28*$B38),IF(L$27="kg/t DM",((L$28*($B$28/100))*$B38),IF(L$27="mg/kg SAR",((L$28*0.001)*$B38),IF(L$27="mg/kg DM",(((L$28*0.001)*($B$28/100))*$B38),0)))))) -> 0.01224 | M38: =IF(M$27="%w/w SAR",((M$28*10)*$B38),IF(M$27="%w/w DM",(((M$28*10)*($B$28/100))*$B38),IF(M$27="kg/t SAR",(M$28*$B38),IF(M$27="kg/t DM",((M$28*($B$28/100))*$B38),IF(M$27="mg/kg SAR",((M$28*0.001)*$B38),IF(M$27="mg/kg DM",(((M$28*0.001)*($B$28/100))*$B38),0)))))) -> 0.0238 | N38: =IF(N$27="%w/w SAR",((N$28*10)*$B38),IF(N$27="%w/w DM",(((N$28*10)*($B$28/100))*$B38),IF(N$27="kg/t SAR",(N$28*$B38),IF(N$27="kg/t DM",((N$28*($B$28/100))*$B38),IF(N$27="mg/kg SAR",((N$28*0.001)*$B38),IF(N$27="mg/kg DM",(((N$28*0.001)*($B$28/100))*$B38),0)))))) -> 0 | ... P38: =IF(P$27="%w/w SAR",((P$28*10)*$B38),IF(P$27="%w/w DM",(((P$28*10)*($B$28/100))*$B38),IF(P$27="kg/t SAR",(P$28*$B38),IF(P$27="kg/t DM",((P$28*($B$28/100))*$B38),IF(P$27="mg/kg SAR",((P$28*0.001)*$B38),IF(P$27="mg/kg DM",(((P$28*0.001)*($B$28/100))*$B38),0)))))) -> 35.224 | Q38: =(IF(Q$27="%w/w SAR",((Q$28*10)*$B38),IF(Q$27="%w/w DM",(((Q$28*10)*($B$28/100))*$B38),IF(Q$27="kg/t SAR",(Q$28*$B38),IF(Q$27="kg/t DM",((Q$28*($B$28/100))*$B38),IF(Q$27="mg/kg SAR",((Q$28*0.001)*$B38),IF(Q$27="mg/kg DM",(((Q$28*0.001)*($B$28/100))*$B38),0)))))))*2.5 -> 20.145 | R38: =IF(R$27="%w/w SAR",((R$28*10)*$B38),IF(R$27="%w/w DM",(((R$28*10)*($B$28/100))*$B38),IF(R$27="kg/t SAR",(R$28*$B38),IF(R$27="kg/t DM",((R$28*($B$28/100))*$B38),IF(R$27="mg/kg SAR",((R$28*0.001)*$B38),IF(R$27="mg/kg DM",(((R$28*0.001)*($B$28/100))*$B38),0)))))) -> 0.0017 | S38: =IF(S$27="%w/w SAR",((S$28*10)*$B38),IF(S$27="%w/w DM",(((S$28*10)*($B$28/100))*$B38),IF(S$27="kg/t SAR",(S$28*$B38),IF(S$27="kg/t DM",((S$28*($B$28/100))*$B38),IF(S$27="mg/kg SAR",((S$28*0.001)*$B38),IF(S$27="mg/kg DM",(((S$28*0.001)*($B$28/100))*$B38),0)))))) -> 0.017 | T38: =IF(T$27="%w/w SAR",((T$28*10)*$B38),IF(T$27="%w/w DM",(((T$28*10)*($B$28/100))*$B38),IF(T$27="kg/t SAR",(T$28*$B38),IF(T$27="kg/t DM",((T$28*($B$28/100))*$B38),IF(T$27="mg/kg SAR",((T$28*0.001)*$B38),IF(T$27="mg/kg DM",(((T$28*0.001)*($B$28/100))*$B38),0)))))) -> 0.00374 | U38: =IF(U$27="%w/w SAR",((U$28*10)*$B38),IF(U$27="%w/w DM",(((U$28*10)*($B$28/100))*$B38),IF(U$27="kg/t SAR",(U$28*$B38),IF(U$27="kg/t DM",((U$28*($B$28/100))*$B38),IF(U$27="mg/kg SAR",((U$28*0.001)*$B38),IF(U$27="mg/kg DM",(((U$28*0.001)*($B$28/100))*$B38),0)))))) -> 0.34
A39: =K8 -> 9808 | C39: =IF(C$27="%w/w SAR",((C$28*10)*$B39),IF(C$27="%w/w DM",(((C$28*10)*($B$28/100))*$B39),IF(C$27="kg/t SAR",(C$28*$B39),IF(C$27="kg/t DM",((C$28*($B$28/100))*$B39),IF(C$27="mg/kg SAR",((C$28*0.001)*$B39),IF(C$27="mg/kg DM",(((C$28*0.001)*($B$28/100))*$B39),0)))))) -> 0 | D39: =(IF(D$27="%w/w SAR",((D$28*10)*$B39),IF(D$27="%w/w DM",(((D$28*10)*($B$28/100))*$B39),IF(D$27="kg/t SAR",(D$28*$B39),IF(D$27="kg/t DM",((D$28*($B$28/100))*$B39),IF(D$27="mg/kg SAR",((D$28*0.001)*$B39),IF(D$27="mg/kg DM",(((D$28*0.001)*($B$28/100))*$B39),"0")))))))*2.291 -> 0 | E39: =(IF(E$27="%w/w SAR",((E$28*10)*$B39),IF(E$27="%w/w DM",(((E$28*10)*($B$28/100))*$B39),IF(E$27="kg/t SAR",(E$28*$B39),IF(E$27="kg/t DM",((E$28*($B$28/100))*$B39),IF(E$27="mg/kg SAR",((E$28*0.001)*$B39),IF(E$27="mg/kg DM",(((E$28*0.001)*($B$28/100))*$B39),"0")))))))*1.205 -> 0 | F39: =(IF(F$27="%w/w SAR",((F$28*10)*$B39),IF(F$27="%w/w DM",(((F$28*10)*($B$28/100))*$B39),IF(F$27="kg/t SAR",(F$28*$B39),IF(F$27="kg/t DM",((F$28*($B$28/100))*$B39),IF(F$27="mg/kg SAR",((F$28*0.001)*$B39),IF(F$27="mg/kg DM",(((F$28*0.001)*($B$28/100))*$B39),"0")))))))*1.658 -> 0 | G39: =IF(G$27="%w/w SAR",((G$28*10)*$B39),IF(G$27="%w/w DM",(((G$28*10)*($B$28/100))*$B39),IF(G$27="kg/t SAR",(G$28*$B39),IF(G$27="kg/t DM",((G$28*($B$28/100))*$B39),IF(G$27="mg/kg SAR",((G$28*0.001)*$B39),IF(G$27="mg/kg DM",(((G$28*0.001)*($B$28/100))*$B39),0)))))) -> 0 | H39: =IF(H$27="%w/w SAR",((H$28*10)*$B39),IF(H$27="%w/w DM",(((H$28*10)*($B$28/100))*$B39),IF(H$27="kg/t SAR",(H$28*$B39),IF(H$27="kg/t DM",((H$28*($B$28/100))*$B39),IF(H$27="mg/kg SAR",((H$28*0.001)*$B39),IF(H$27="mg/kg DM",(((H$28*0.001)*($B$28/100))*$B39),0)))))) -> 0 | I39: =IF(I$27="%w/w SAR",((I$28*10)*$B39),IF(I$27="%w/w DM",(((I$28*10)*($B$28/100))*$B39),IF(I$27="kg/t SAR",(I$28*$B39),IF(I$27="kg/t DM",((I$28*($B$28/100))*$B39),IF(I$27="mg/kg SAR",((I$28*0.001)*$B39),IF(I$27="mg/kg DM",(((I$28*0.001)*($B$28/100))*$B39),0)))))) -> 0 | J39: =IF(J$27="%w/w SAR",((J$28*10)*$B39),IF(J$27="%w/w DM",(((J$28*10)*($B$28/100))*$B39),IF(J$27="kg/t SAR",(J$28*$B39),IF(J$27="kg/t DM",((J$28*($B$28/100))*$B39),IF(J$27="mg/kg SAR",((J$28*0.001)*$B39),IF(J$27="mg/kg DM",(((J$28*0.001)*($B$28/100))*$B39),0)))))) -> 0 | K39: =IF(K$27="%w/w SAR",((K$28*10)*$B39),IF(K$27="%w/w DM",(((K$28*10)*($B$28/100))*$B39),IF(K$27="kg/t SAR",(K$28*$B39),IF(K$27="kg/t DM",((K$28*($B$28/100))*$B39),IF(K$27="mg/kg SAR",((K$28*0.001)*$B39),IF(K$27="mg/kg DM",(((K$28*0.001)*($B$28/100))*$B39),0)))))) -> 0 | L39: =IF(L$27="%w/w SAR",((L$28*10)*$B39),IF(L$27="%w/w DM",(((L$28*10)*($B$28/100))*$B39),IF(L$27="kg/t SAR",(L$28*$B39),IF(L$27="kg/t DM",((L$28*($B$28/100))*$B39),IF(L$27="mg/kg SAR",((L$28*0.001)*$B39),IF(L$27="mg/kg DM",(((L$28*0.001)*($B$28/100))*$B39),0)))))) -> 0 | M39: =IF(M$27="%w/w SAR",((M$28*10)*$B39),IF(M$27="%w/w DM",(((M$28*10)*($B$28/100))*$B39),IF(M$27="kg/t SAR",(M$28*$B39),IF(M$27="kg/t DM",((M$28*($B$28/100))*$B39),IF(M$27="mg/kg SAR",((M$28*0.001)*$B39),IF(M$27="mg/kg DM",(((M$28*0.001)*($B$28/100))*$B39),0)))))) -> 0 | N39: =IF(N$27="%w/w SAR",((N$28*10)*$B39),IF(N$27="%w/w DM",(((N$28*10)*($B$28/100))*$B39),IF(N$27="kg/t SAR",(N$28*$B39),IF(N$27="kg/t DM",((N$28*($B$28/100))*$B39),IF(N$27="mg/kg SAR",((N$28*0.001)*$B39),IF(N$27="mg/kg DM",(((N$28*0.001)*($B$28/100))*$B39),0)))))) -> 0 | ... P39: =IF(P$27="%w/w SAR",((P$28*10)*$B39),IF(P$27="%w/w DM",(((P$28*10)*($B$28/100))*$B39),IF(P$27="kg/t SAR",(P$28*$B39),IF(P$27="kg/t DM",((P$28*($B$28/100))*$B39),IF(P$27="mg/kg SAR",((P$28*0.001)*$B39),IF(P$27="mg/kg DM",(((P$28*0.001)*($B$28/100))*$B39),0)))))) -> 0 | Q39: =(IF(Q$27="%w/w SAR",((Q$28*10)*$B39),IF(Q$27="%w/w DM",(((Q$28*10)*($B$28/100))*$B39),IF(Q$27="kg/t SAR",(Q$28*$B39),IF(Q$27="kg/t DM",((Q$28*($B$28/100))*$B39),IF(Q$27="mg/kg SAR",((Q$28*0.001)*$B39),IF(Q$27="mg/kg DM",(((Q$28*0.001)*($B$28/100))*$B39),0)))))))*2.5 -> 0 | R39: =IF(R$27="%w/w SAR",((R$28*10)*$B39),IF(R$27="%w/w DM",(((R$28*10)*($B$28/100))*$B39),IF(R$27="kg/t SAR",(R$28*$B39),IF(R$27="kg/t DM",((R$28*($B$28/100))*$B39),IF(R$27="mg/kg SAR",((R$28*0.001)*$B39),IF(R$27="mg/kg DM",(((R$28*0.001)*($B$28/100))*$B39),0)))))) -> 0 | S39: =IF(S$27="%w/w SAR",((S$28*10)*$B39),IF(S$27="%w/w DM",(((S$28*10)*($B$28/100))*$B39),IF(S$27="kg/t SAR",(S$28*$B39),IF(S$27="kg/t DM",((S$28*($B$28/100))*$B39),IF(S$27="mg/kg SAR",((S$28*0.001)*$B39),IF(S$27="mg/kg DM",(((S$28*0.001)*($B$28/100))*$B39),0)))))) -> 0 | T39: =IF(T$27="%w/w SAR",((T$28*10)*$B39),IF(T$27="%w/w DM",(((T$28*10)*($B$28/100))*$B39),IF(T$27="kg/t SAR",(T$28*$B39),IF(T$27="kg/t DM",((T$28*($B$28/100))*$B39),IF(T$27="mg/kg SAR",((T$28*0.001)*$B39),IF(T$27="mg/kg DM",(((T$28*0.001)*($B$28/100))*$B39),0)))))) -> 0 | U39: =IF(U$27="%w/w SAR",((U$28*10)*$B39),IF(U$27="%w/w DM",(((U$28*10)*($B$28/100))*$B39),IF(U$27="kg/t SAR",(U$28*$B39),IF(U$27="kg/t DM",((U$28*($B$28/100))*$B39),IF(U$27="mg/kg SAR",((U$28*0.001)*$B39),IF(U$27="mg/kg DM",(((U$28*0.001)*($B$28/100))*$B39),0)))))) -> 0
A40: =L8 -> 1325 | C40: =IF(C$27="%w/w SAR",((C$28*10)*$B40),IF(C$27="%w/w DM",(((C$28*10)*($B$28/100))*$B40),IF(C$27="kg/t SAR",(C$28*$B40),IF(C$27="kg/t DM",((C$28*($B$28/100))*$B40),IF(C$27="mg/kg SAR",((C$28*0.001)*$B40),IF(C$27="mg/kg DM",(((C$28*0.001)*($B$28/100))*$B40),0)))))) -> 0 | D40: =(IF(D$27="%w/w SAR",((D$28*10)*$B40),IF(D$27="%w/w DM",(((D$28*10)*($B$28/100))*$B40),IF(D$27="kg/t SAR",(D$28*$B40),IF(D$27="kg/t DM",((D$28*($B$28/100))*$B40),IF(D$27="mg/kg SAR",((D$28*0.001)*$B40),IF(D$27="mg/kg DM",(((D$28*0.001)*($B$28/100))*$B40),"0")))))))*2.291 -> 0 | E40: =(IF(E$27="%w/w SAR",((E$28*10)*$B40),IF(E$27="%w/w DM",(((E$28*10)*($B$28/100))*$B40),IF(E$27="kg/t SAR",(E$28*$B40),IF(E$27="kg/t DM",((E$28*($B$28/100))*$B40),IF(E$27="mg/kg SAR",((E$28*0.001)*$B40),IF(E$27="mg/kg DM",(((E$28*0.001)*($B$28/100))*$B40),"0")))))))*1.205 -> 0 | F40: =(IF(F$27="%w/w SAR",((F$28*10)*$B40),IF(F$27="%w/w DM",(((F$28*10)*($B$28/100))*$B40),IF(F$27="kg/t SAR",(F$28*$B40),IF(F$27="kg/t DM",((F$28*($B$28/100))*$B40),IF(F$27="mg/kg SAR",((F$28*0.001)*$B40),IF(F$27="mg/kg DM",(((F$28*0.001)*($B$28/100))*$B40),"0")))))))*1.658 -> 0 | G40: =IF(G$27="%w/w SAR",((G$28*10)*$B40),IF(G$27="%w/w DM",(((G$28*10)*($B$28/100))*$B40),IF(G$27="kg/t SAR",(G$28*$B40),IF(G$27="kg/t DM",((G$28*($B$28/100))*$B40),IF(G$27="mg/kg SAR",((G$28*0.001)*$B40),IF(G$27="mg/kg DM",(((G$28*0.001)*($B$28/100))*$B40),0)))))) -> 0 | H40: =IF(H$27="%w/w SAR",((H$28*10)*$B40),IF(H$27="%w/w DM",(((H$28*10)*($B$28/100))*$B40),IF(H$27="kg/t SAR",(H$28*$B40),IF(H$27="kg/t DM",((H$28*($B$28/100))*$B40),IF(H$27="mg/kg SAR",((H$28*0.001)*$B40),IF(H$27="mg/kg DM",(((H$28*0.001)*($B$28/100))*$B40),0)))))) -> 0 | I40: =IF(I$27="%w/w SAR",((I$28*10)*$B40),IF(I$27="%w/w DM",(((I$28*10)*($B$28/100))*$B40),IF(I$27="kg/t SAR",(I$28*$B40),IF(I$27="kg/t DM",((I$28*($B$28/100))*$B40),IF(I$27="mg/kg SAR",((I$28*0.001)*$B40),IF(I$27="mg/kg DM",(((I$28*0.001)*($B$28/100))*$B40),0)))))) -> 0 | J40: =IF(J$27="%w/w SAR",((J$28*10)*$B40),IF(J$27="%w/w DM",(((J$28*10)*($B$28/100))*$B40),IF(J$27="kg/t SAR",(J$28*$B40),IF(J$27="kg/t DM",((J$28*($B$28/100))*$B40),IF(J$27="mg/kg SAR",((J$28*0.001)*$B40),IF(J$27="mg/kg DM",(((J$28*0.001)*($B$28/100))*$B40),0)))))) -> 0 | K40: =IF(K$27="%w/w SAR",((K$28*10)*$B40),IF(K$27="%w/w DM",(((K$28*10)*($B$28/100))*$B40),IF(K$27="kg/t SAR",(K$28*$B40),IF(K$27="kg/t DM",((K$28*($B$28/100))*$B40),IF(K$27="mg/kg SAR",((K$28*0.001)*$B40),IF(K$27="mg/kg DM",(((K$28*0.001)*($B$28/100))*$B40),0)))))) -> 0 | L40: =IF(L$27="%w/w SAR",((L$28*10)*$B40),IF(L$27="%w/w DM",(((L$28*10)*($B$28/100))*$B40),IF(L$27="kg/t SAR",(L$28*$B40),IF(L$27="kg/t DM",((L$28*($B$28/100))*$B40),IF(L$27="mg/kg SAR",((L$28*0.001)*$B40),IF(L$27="mg/kg DM",(((L$28*0.001)*($B$28/100))*$B40),0)))))) -> 0 | M40: =IF(M$27="%w/w SAR",((M$28*10)*$B40),IF(M$27="%w/w DM",(((M$28*10)*($B$28/100))*$B40),IF(M$27="kg/t SAR",(M$28*$B40),IF(M$27="kg/t DM",((M$28*($B$28/100))*$B40),IF(M$27="mg/kg SAR",((M$28*0.001)*$B40),IF(M$27="mg/kg DM",(((M$28*0.001)*($B$28/100))*$B40),0)))))) -> 0 | N40: =IF(N$27="%w/w SAR",((N$28*10)*$B40),IF(N$27="%w/w DM",(((N$28*10)*($B$28/100))*$B40),IF(N$27="kg/t SAR",(N$28*$B40),IF(N$27="kg/t DM",((N$28*($B$28/100))*$B40),IF(N$27="mg/kg SAR",((N$28*0.001)*$B40),IF(N$27="mg/kg DM",(((N$28*0.001)*($B$28/100))*$B40),0)))))) -> 0 | ... P40: =IF(P$27="%w/w SAR",((P$28*10)*$B40),IF(P$27="%w/w DM",(((P$28*10)*($B$28/100))*$B40),IF(P$27="kg/t SAR",(P$28*$B40),IF(P$27="kg/t DM",((P$28*($B$28/100))*$B40),IF(P$27="mg/kg SAR",((P$28*0.001)*$B40),IF(P$27="mg/kg DM",(((P$28*0.001)*($B$28/100))*$B40),0)))))) -> 0 | Q40: =(IF(Q$27="%w/w SAR",((Q$28*10)*$B40),IF(Q$27="%w/w DM",(((Q$28*10)*($B$28/100))*$B40),IF(Q$27="kg/t SAR",(Q$28*$B40),IF(Q$27="kg/t DM",((Q$28*($B$28/100))*$B40),IF(Q$27="mg/kg SAR",((Q$28*0.001)*$B40),IF(Q$27="mg/kg DM",(((Q$28*0.001)*($B$28/100))*$B40),0)))))))*2.5 -> 0 | R40: =IF(R$27="%w/w SAR",((R$28*10)*$B40),IF(R$27="%w/w DM",(((R$28*10)*($B$28/100))*$B40),IF(R$27="kg/t SAR",(R$28*$B40),IF(R$27="kg/t DM",((R$28*($B$28/100))*$B40),IF(R$27="mg/kg SAR",((R$28*0.001)*$B40),IF(R$27="mg/kg DM",(((R$28*0.001)*($B$28/100))*$B40),0)))))) -> 0 | S40: =IF(S$27="%w/w SAR",((S$28*10)*$B40),IF(S$27="%w/w DM",(((S$28*10)*($B$28/100))*$B40),IF(S$27="kg/t SAR",(S$28*$B40),IF(S$27="kg/t DM",((S$28*($B$28/100))*$B40),IF(S$27="mg/kg SAR",((S$28*0.001)*$B40),IF(S$27="mg/kg DM",(((S$28*0.001)*($B$28/100))*$B40),0)))))) -> 0 | T40: =IF(T$27="%w/w SAR",((T$28*10)*$B40),IF(T$27="%w/w DM",(((T$28*10)*($B$28/100))*$B40),IF(T$27="kg/t SAR",(T$28*$B40),IF(T$27="kg/t DM",((T$28*($B$28/100))*$B40),IF(T$27="mg/kg SAR",((T$28*0.001)*$B40),IF(T$27="mg/kg DM",(((T$28*0.001)*($B$28/100))*$B40),0)))))) -> 0 | U40: =IF(U$27="%w/w SAR",((U$28*10)*$B40),IF(U$27="%w/w DM",(((U$28*10)*($B$28/100))*$B40),IF(U$27="kg/t SAR",(U$28*$B40),IF(U$27="kg/t DM",((U$28*($B$28/100))*$B40),IF(U$27="mg/kg SAR",((U$28*0.001)*$B40),IF(U$27="mg/kg DM",(((U$28*0.001)*($B$28/100))*$B40),0)))))) -> 0
A41: =M8 -> 4105 | B41: 34 | C41: =IF(C$27="%w/w SAR",((C$28*10)*$B41),IF(C$27="%w/w DM",(((C$28*10)*($B$28/100))*$B41),IF(C$27="kg/t SAR",(C$28*$B41),IF(C$27="kg/t DM",((C$28*($B$28/100))*$B41),IF(C$27="mg/kg SAR",((C$28*0.001)*$B41),IF(C$27="mg/kg DM",(((C$28*0.001)*($B$28/100))*$B41),0)))))) -> 81.6 | D41: =(IF(D$27="%w/w SAR",((D$28*10)*$B41),IF(D$27="%w/w DM",(((D$28*10)*($B$28/100))*$B41),IF(D$27="kg/t SAR",(D$28*$B41),IF(D$27="kg/t DM",((D$28*($B$28/100))*$B41),IF(D$27="mg/kg SAR",((D$28*0.001)*$B41),IF(D$27="mg/kg DM",(((D$28*0.001)*($B$28/100))*$B41),"0")))))))*2.291 -> 64.65202 | E41: =(IF(E$27="%w/w SAR",((E$28*10)*$B41),IF(E$27="%w/w DM",(((E$28*10)*($B$28/100))*$B41),IF(E$27="kg/t SAR",(E$28*$B41),IF(E$27="kg/t DM",((E$28*($B$28/100))*$B41),IF(E$27="mg/kg SAR",((E$28*0.001)*$B41),IF(E$27="mg/kg DM",(((E$28*0.001)*($B$28/100))*$B41),"0")))))))*1.205 -> 9.70989 | F41: =(IF(F$27="%w/w SAR",((F$28*10)*$B41),IF(F$27="%w/w DM",(((F$28*10)*($B$28/100))*$B41),IF(F$27="kg/t SAR",(F$28*$B41),IF(F$27="kg/t DM",((F$28*($B$28/100))*$B41),IF(F$27="mg/kg SAR",((F$28*0.001)*$B41),IF(F$27="mg/kg DM",(((F$28*0.001)*($B$28/100))*$B41),"0")))))))*1.658 -> 3.4894268 | G41: =IF(G$27="%w/w SAR",((G$28*10)*$B41),IF(G$27="%w/w DM",(((G$28*10)*($B$28/100))*$B41),IF(G$27="kg/t SAR",(G$28*$B41),IF(G$27="kg/t DM",((G$28*($B$28/100))*$B41),IF(G$27="mg/kg SAR",((G$28*0.001)*$B41),IF(G$27="mg/kg DM",(((G$28*0.001)*($B$28/100))*$B41),0)))))) -> 0.15776 | H41: =IF(H$27="%w/w SAR",((H$28*10)*$B41),IF(H$27="%w/w DM",(((H$28*10)*($B$28/100))*$B41),IF(H$27="kg/t SAR",(H$28*$B41),IF(H$27="kg/t DM",((H$28*($B$28/100))*$B41),IF(H$27="mg/kg SAR",((H$28*0.001)*$B41),IF(H$27="mg/kg DM",(((H$28*0.001)*($B$28/100))*$B41),0)))))) -> 1.7714 | I41: =IF(I$27="%w/w SAR",((I$28*10)*$B41),IF(I$27="%w/w DM",(((I$28*10)*($B$28/100))*$B41),IF(I$27="kg/t SAR",(I$28*$B41),IF(I$27="kg/t DM",((I$28*($B$28/100))*$B41),IF(I$27="mg/kg SAR",((I$28*0.001)*$B41),IF(I$27="mg/kg DM",(((I$28*0.001)*($B$28/100))*$B41),0)))))) -> 0.017 | J41: =IF(J$27="%w/w SAR",((J$28*10)*$B41),IF(J$27="%w/w DM",(((J$28*10)*($B$28/100))*$B41),IF(J$27="kg/t SAR",(J$28*$B41),IF(J$27="kg/t DM",((J$28*($B$28/100))*$B41),IF(J$27="mg/kg SAR",((J$28*0.001)*$B41),IF(J$27="mg/kg DM",(((J$28*0.001)*($B$28/100))*$B41),0)))))) -> 0.00034 | K41: =IF(K$27="%w/w SAR",((K$28*10)*$B41),IF(K$27="%w/w DM",(((K$28*10)*($B$28/100))*$B41),IF(K$27="kg/t SAR",(K$28*$B41),IF(K$27="kg/t DM",((K$28*($B$28/100))*$B41),IF(K$27="mg/kg SAR",((K$28*0.001)*$B41),IF(K$27="mg/kg DM",(((K$28*0.001)*($B$28/100))*$B41),0)))))) -> 0.0017 | L41: =IF(L$27="%w/w SAR",((L$28*10)*$B41),IF(L$27="%w/w DM",(((L$28*10)*($B$28/100))*$B41),IF(L$27="kg/t SAR",(L$28*$B41),IF(L$27="kg/t DM",((L$28*($B$28/100))*$B41),IF(L$27="mg/kg SAR",((L$28*0.001)*$B41),IF(L$27="mg/kg DM",(((L$28*0.001)*($B$28/100))*$B41),0)))))) -> 0.01224 | M41: =IF(M$27="%w/w SAR",((M$28*10)*$B41),IF(M$27="%w/w DM",(((M$28*10)*($B$28/100))*$B41),IF(M$27="kg/t SAR",(M$28*$B41),IF(M$27="kg/t DM",((M$28*($B$28/100))*$B41),IF(M$27="mg/kg SAR",((M$28*0.001)*$B41),IF(M$27="mg/kg DM",(((M$28*0.001)*($B$28/100))*$B41),0)))))) -> 0.0238 | N41: =IF(N$27="%w/w SAR",((N$28*10)*$B41),IF(N$27="%w/w DM",(((N$28*10)*($B$28/100))*$B41),IF(N$27="kg/t SAR",(N$28*$B41),IF(N$27="kg/t DM",((N$28*($B$28/100))*$B41),IF(N$27="mg/kg SAR",((N$28*0.001)*$B41),IF(N$27="mg/kg DM",(((N$28*0.001)*($B$28/100))*$B41),0)))))) -> 0 | ... P41: =IF(P$27="%w/w SAR",((P$28*10)*$B41),IF(P$27="%w/w DM",(((P$28*10)*($B$28/100))*$B41),IF(P$27="kg/t SAR",(P$28*$B41),IF(P$27="kg/t DM",((P$28*($B$28/100))*$B41),IF(P$27="mg/kg SAR",((P$28*0.001)*$B41),IF(P$27="mg/kg DM",(((P$28*0.001)*($B$28/100))*$B41),0)))))) -> 35.224 | Q41: =(IF(Q$27="%w/w SAR",((Q$28*10)*$B41),IF(Q$27="%w/w DM",(((Q$28*10)*($B$28/100))*$B41),IF(Q$27="kg/t SAR",(Q$28*$B41),IF(Q$27="kg/t DM",((Q$28*($B$28/100))*$B41),IF(Q$27="mg/kg SAR",((Q$28*0.001)*$B41),IF(Q$27="mg/kg DM",(((Q$28*0.001)*($B$28/100))*$B41),0)))))))*2.5 -> 20.145 | R41: =IF(R$27="%w/w SAR",((R$28*10)*$B41),IF(R$27="%w/w DM",(((R$28*10)*($B$28/100))*$B41),IF(R$27="kg/t SAR",(R$28*$B41),IF(R$27="kg/t DM",((R$28*($B$28/100))*$B41),IF(R$27="mg/kg SAR",((R$28*0.001)*$B41),IF(R$27="mg/kg DM",(((R$28*0.001)*($B$28/100))*$B41),0)))))) -> 0.0017 | S41: =IF(S$27="%w/w SAR",((S$28*10)*$B41),IF(S$27="%w/w DM",(((S$28*10)*($B$28/100))*$B41),IF(S$27="kg/t SAR",(S$28*$B41),IF(S$27="kg/t DM",((S$28*($B$28/100))*$B41),IF(S$27="mg/kg SAR",((S$28*0.001)*$B41),IF(S$27="mg/kg DM",(((S$28*0.001)*($B$28/100))*$B41),0)))))) -> 0.017 | T41: =IF(T$27="%w/w SAR",((T$28*10)*$B41),IF(T$27="%w/w DM",(((T$28*10)*($B$28/100))*$B41),IF(T$27="kg/t SAR",(T$28*$B41),IF(T$27="kg/t DM",((T$28*($B$28/100))*$B41),IF(T$27="mg/kg SAR",((T$28*0.001)*$B41),IF(T$27="mg/kg DM",(((T$28*0.001)*($B$28/100))*$B41),0)))))) -> 0.00374 | U41: =IF(U$27="%w/w SAR",((U$28*10)*$B41),IF(U$27="%w/w DM",(((U$28*10)*($B$28/100))*$B41),IF(U$27="kg/t SAR",(U$28*$B41),IF(U$27="kg/t DM",((U$28*($B$28/100))*$B41),IF(U$27="mg/kg SAR",((U$28*0.001)*$B41),IF(U$27="mg/kg DM",(((U$28*0.001)*($B$28/100))*$B41),0)))))) -> 0.34
A42: =N8 -> 6810 | B42: 34 | C42: =IF(C$27="%w/w SAR",((C$28*10)*$B42),IF(C$27="%w/w DM",(((C$28*10)*($B$28/100))*$B42),IF(C$27="kg/t SAR",(C$28*$B42),IF(C$27="kg/t DM",((C$28*($B$28/100))*$B42),IF(C$27="mg/kg SAR",((C$28*0.001)*$B42),IF(C$27="mg/kg DM",(((C$28*0.001)*($B$28/100))*$B42),0)))))) -> 81.6 | D42: =(IF(D$27="%w/w SAR",((D$28*10)*$B42),IF(D$27="%w/w DM",(((D$28*10)*($B$28/100))*$B42),IF(D$27="kg/t SAR",(D$28*$B42),IF(D$27="kg/t DM",((D$28*($B$28/100))*$B42),IF(D$27="mg/kg SAR",((D$28*0.001)*$B42),IF(D$27="mg/kg DM",(((D$28*0.001)*($B$28/100))*$B42),"0")))))))*2.291 -> 64.65202 | E42: =(IF(E$27="%w/w SAR",((E$28*10)*$B42),IF(E$27="%w/w DM",(((E$28*10)*($B$28/100))*$B42),IF(E$27="kg/t SAR",(E$28*$B42),IF(E$27="kg/t DM",((E$28*($B$28/100))*$B42),IF(E$27="mg/kg SAR",((E$28*0.001)*$B42),IF(E$27="mg/kg DM",(((E$28*0.001)*($B$28/100))*$B42),"0")))))))*1.205 -> 9.70989 | F42: =(IF(F$27="%w/w SAR",((F$28*10)*$B42),IF(F$27="%w/w DM",(((F$28*10)*($B$28/100))*$B42),IF(F$27="kg/t SAR",(F$28*$B42),IF(F$27="kg/t DM",((F$28*($B$28/100))*$B42),IF(F$27="mg/kg SAR",((F$28*0.001)*$B42),IF(F$27="mg/kg DM",(((F$28*0.001)*($B$28/100))*$B42),"0")))))))*1.658 -> 3.4894268 | G42: =IF(G$27="%w/w SAR",((G$28*10)*$B42),IF(G$27="%w/w DM",(((G$28*10)*($B$28/100))*$B42),IF(G$27="kg/t SAR",(G$28*$B42),IF(G$27="kg/t DM",((G$28*($B$28/100))*$B42),IF(G$27="mg/kg SAR",((G$28*0.001)*$B42),IF(G$27="mg/kg DM",(((G$28*0.001)*($B$28/100))*$B42),0)))))) -> 0.15776 | H42: =IF(H$27="%w/w SAR",((H$28*10)*$B42),IF(H$27="%w/w DM",(((H$28*10)*($B$28/100))*$B42),IF(H$27="kg/t SAR",(H$28*$B42),IF(H$27="kg/t DM",((H$28*($B$28/100))*$B42),IF(H$27="mg/kg SAR",((H$28*0.001)*$B42),IF(H$27="mg/kg DM",(((H$28*0.001)*($B$28/100))*$B42),0)))))) -> 1.7714 | I42: =IF(I$27="%w/w SAR",((I$28*10)*$B42),IF(I$27="%w/w DM",(((I$28*10)*($B$28/100))*$B42),IF(I$27="kg/t SAR",(I$28*$B42),IF(I$27="kg/t DM",((I$28*($B$28/100))*$B42),IF(I$27="mg/kg SAR",((I$28*0.001)*$B42),IF(I$27="mg/kg DM",(((I$28*0.001)*($B$28/100))*$B42),0)))))) -> 0.017 | J42: =IF(J$27="%w/w SAR",((J$28*10)*$B42),IF(J$27="%w/w DM",(((J$28*10)*($B$28/100))*$B42),IF(J$27="kg/t SAR",(J$28*$B42),IF(J$27="kg/t DM",((J$28*($B$28/100))*$B42),IF(J$27="mg/kg SAR",((J$28*0.001)*$B42),IF(J$27="mg/kg DM",(((J$28*0.001)*($B$28/100))*$B42),0)))))) -> 0.00034 | K42: =IF(K$27="%w/w SAR",((K$28*10)*$B42),IF(K$27="%w/w DM",(((K$28*10)*($B$28/100))*$B42),IF(K$27="kg/t SAR",(K$28*$B42),IF(K$27="kg/t DM",((K$28*($B$28/100))*$B42),IF(K$27="mg/kg SAR",((K$28*0.001)*$B42),IF(K$27="mg/kg DM",(((K$28*0.001)*($B$28/100))*$B42),0)))))) -> 0.0017 | L42: =IF(L$27="%w/w SAR",((L$28*10)*$B42),IF(L$27="%w/w DM",(((L$28*10)*($B$28/100))*$B42),IF(L$27="kg/t SAR",(L$28*$B42),IF(L$27="kg/t DM",((L$28*($B$28/100))*$B42),IF(L$27="mg/kg SAR",((L$28*0.001)*$B42),IF(L$27="mg/kg DM",(((L$28*0.001)*($B$28/100))*$B42),0)))))) -> 0.01224 | M42: =IF(M$27="%w/w SAR",((M$28*10)*$B42),IF(M$27="%w/w DM",(((M$28*10)*($B$28/100))*$B42),IF(M$27="kg/t SAR",(M$28*$B42),IF(M$27="kg/t DM",((M$28*($B$28/100))*$B42),IF(M$27="mg/kg SAR",((M$28*0.001)*$B42),IF(M$27="mg/kg DM",(((M$28*0.001)*($B$28/100))*$B42),0)))))) -> 0.0238 | N42: =IF(N$27="%w/w SAR",((N$28*10)*$B42),IF(N$27="%w/w DM",(((N$28*10)*($B$28/100))*$B42),IF(N$27="kg/t SAR",(N$28*$B42),IF(N$27="kg/t DM",((N$28*($B$28/100))*$B42),IF(N$27="mg/kg SAR",((N$28*0.001)*$B42),IF(N$27="mg/kg DM",(((N$28*0.001)*($B$28/100))*$B42),0)))))) -> 0 | ... P42: =IF(P$27="%w/w SAR",((P$28*10)*$B42),IF(P$27="%w/w DM",(((P$28*10)*($B$28/100))*$B42),IF(P$27="kg/t SAR",(P$28*$B42),IF(P$27="kg/t DM",((P$28*($B$28/100))*$B42),IF(P$27="mg/kg SAR",((P$28*0.001)*$B42),IF(P$27="mg/kg DM",(((P$28*0.001)*($B$28/100))*$B42),0)))))) -> 35.224 | Q42: =(IF(Q$27="%w/w SAR",((Q$28*10)*$B42),IF(Q$27="%w/w DM",(((Q$28*10)*($B$28/100))*$B42),IF(Q$27="kg/t SAR",(Q$28*$B42),IF(Q$27="kg/t DM",((Q$28*($B$28/100))*$B42),IF(Q$27="mg/kg SAR",((Q$28*0.001)*$B42),IF(Q$27="mg/kg DM",(((Q$28*0.001)*($B$28/100))*$B42),0)))))))*2.5 -> 20.145 | R42: =IF(R$27="%w/w SAR",((R$28*10)*$B42),IF(R$27="%w/w DM",(((R$28*10)*($B$28/100))*$B42),IF(R$27="kg/t SAR",(R$28*$B42),IF(R$27="kg/t DM",((R$28*($B$28/100))*$B42),IF(R$27="mg/kg SAR",((R$28*0.001)*$B42),IF(R$27="mg/kg DM",(((R$28*0.001)*($B$28/100))*$B42),0)))))) -> 0.0017 | S42: =IF(S$27="%w/w SAR",((S$28*10)*$B42),IF(S$27="%w/w DM",(((S$28*10)*($B$28/100))*$B42),IF(S$27="kg/t SAR",(S$28*$B42),IF(S$27="kg/t DM",((S$28*($B$28/100))*$B42),IF(S$27="mg/kg SAR",((S$28*0.001)*$B42),IF(S$27="mg/kg DM",(((S$28*0.001)*($B$28/100))*$B42),0)))))) -> 0.017 | T42: =IF(T$27="%w/w SAR",((T$28*10)*$B42),IF(T$27="%w/w DM",(((T$28*10)*($B$28/100))*$B42),IF(T$27="kg/t SAR",(T$28*$B42),IF(T$27="kg/t DM",((T$28*($B$28/100))*$B42),IF(T$27="mg/kg SAR",((T$28*0.001)*$B42),IF(T$27="mg/kg DM",(((T$28*0.001)*($B$28/100))*$B42),0)))))) -> 0.00374 | U42: =IF(U$27="%w/w SAR",((U$28*10)*$B42),IF(U$27="%w/w DM",(((U$28*10)*($B$28/100))*$B42),IF(U$27="kg/t SAR",(U$28*$B42),IF(U$27="kg/t DM",((U$28*($B$28/100))*$B42),IF(U$27="mg/kg SAR",((U$28*0.001)*$B42),IF(U$27="mg/kg DM",(((U$28*0.001)*($B$28/100))*$B42),0)))))) -> 0.34
A43: =O8 -> 8614 | B43: 34 | C43: =IF(C$27="%w/w SAR",((C$28*10)*$B43),IF(C$27="%w/w DM",(((C$28*10)*($B$28/100))*$B43),IF(C$27="kg/t SAR",(C$28*$B43),IF(C$27="kg/t DM",((C$28*($B$28/100))*$B43),IF(C$27="mg/kg SAR",((C$28*0.001)*$B43),IF(C$27="mg/kg DM",(((C$28*0.001)*($B$28/100))*$B43),0)))))) -> 81.6 | D43: =(IF(D$27="%w/w SAR",((D$28*10)*$B43),IF(D$27="%w/w DM",(((D$28*10)*($B$28/100))*$B43),IF(D$27="kg/t SAR",(D$28*$B43),IF(D$27="kg/t DM",((D$28*($B$28/100))*$B43),IF(D$27="mg/kg SAR",((D$28*0.001)*$B43),IF(D$27="mg/kg DM",(((D$28*0.001)*($B$28/100))*$B43),"0")))))))*2.291 -> 64.65202 | E43: =(IF(E$27="%w/w SAR",((E$28*10)*$B43),IF(E$27="%w/w DM",(((E$28*10)*($B$28/100))*$B43),IF(E$27="kg/t SAR",(E$28*$B43),IF(E$27="kg/t DM",((E$28*($B$28/100))*$B43),IF(E$27="mg/kg SAR",((E$28*0.001)*$B43),IF(E$27="mg/kg DM",(((E$28*0.001)*($B$28/100))*$B43),"0")))))))*1.205 -> 9.70989 | F43: =(IF(F$27="%w/w SAR",((F$28*10)*$B43),IF(F$27="%w/w DM",(((F$28*10)*($B$28/100))*$B43),IF(F$27="kg/t SAR",(F$28*$B43),IF(F$27="kg/t DM",((F$28*($B$28/100))*$B43),IF(F$27="mg/kg SAR",((F$28*0.001)*$B43),IF(F$27="mg/kg DM",(((F$28*0.001)*($B$28/100))*$B43),"0")))))))*1.658 -> 3.4894268 | G43: =IF(G$27="%w/w SAR",((G$28*10)*$B43),IF(G$27="%w/w DM",(((G$28*10)*($B$28/100))*$B43),IF(G$27="kg/t SAR",(G$28*$B43),IF(G$27="kg/t DM",((G$28*($B$28/100))*$B43),IF(G$27="mg/kg SAR",((G$28*0.001)*$B43),IF(G$27="mg/kg DM",(((G$28*0.001)*($B$28/100))*$B43),0)))))) -> 0.15776 | H43: =IF(H$27="%w/w SAR",((H$28*10)*$B43),IF(H$27="%w/w DM",(((H$28*10)*($B$28/100))*$B43),IF(H$27="kg/t SAR",(H$28*$B43),IF(H$27="kg/t DM",((H$28*($B$28/100))*$B43),IF(H$27="mg/kg SAR",((H$28*0.001)*$B43),IF(H$27="mg/kg DM",(((H$28*0.001)*($B$28/100))*$B43),0)))))) -> 1.7714 | I43: =IF(I$27="%w/w SAR",((I$28*10)*$B43),IF(I$27="%w/w DM",(((I$28*10)*($B$28/100))*$B43),IF(I$27="kg/t SAR",(I$28*$B43),IF(I$27="kg/t DM",((I$28*($B$28/100))*$B43),IF(I$27="mg/kg SAR",((I$28*0.001)*$B43),IF(I$27="mg/kg DM",(((I$28*0.001)*($B$28/100))*$B43),0)))))) -> 0.017 | J43: =IF(J$27="%w/w SAR",((J$28*10)*$B43),IF(J$27="%w/w DM",(((J$28*10)*($B$28/100))*$B43),IF(J$27="kg/t SAR",(J$28*$B43),IF(J$27="kg/t DM",((J$28*($B$28/100))*$B43),IF(J$27="mg/kg SAR",((J$28*0.001)*$B43),IF(J$27="mg/kg DM",(((J$28*0.001)*($B$28/100))*$B43),0)))))) -> 0.00034 | K43: =IF(K$27="%w/w SAR",((K$28*10)*$B43),IF(K$27="%w/w DM",(((K$28*10)*($B$28/100))*$B43),IF(K$27="kg/t SAR",(K$28*$B43),IF(K$27="kg/t DM",((K$28*($B$28/100))*$B43),IF(K$27="mg/kg SAR",((K$28*0.001)*$B43),IF(K$27="mg/kg DM",(((K$28*0.001)*($B$28/100))*$B43),0)))))) -> 0.0017 | L43: =IF(L$27="%w/w SAR",((L$28*10)*$B43),IF(L$27="%w/w DM",(((L$28*10)*($B$28/100))*$B43),IF(L$27="kg/t SAR",(L$28*$B43),IF(L$27="kg/t DM",((L$28*($B$28/100))*$B43),IF(L$27="mg/kg SAR",((L$28*0.001)*$B43),IF(L$27="mg/kg DM",(((L$28*0.001)*($B$28/100))*$B43),0)))))) -> 0.01224 | M43: =IF(M$27="%w/w SAR",((M$28*10)*$B43),IF(M$27="%w/w DM",(((M$28*10)*($B$28/100))*$B43),IF(M$27="kg/t SAR",(M$28*$B43),IF(M$27="kg/t DM",((M$28*($B$28/100))*$B43),IF(M$27="mg/kg SAR",((M$28*0.001)*$B43),IF(M$27="mg/kg DM",(((M$28*0.001)*($B$28/100))*$B43),0)))))) -> 0.0238 | N43: =IF(N$27="%w/w SAR",((N$28*10)*$B43),IF(N$27="%w/w DM",(((N$28*10)*($B$28/100))*$B43),IF(N$27="kg/t SAR",(N$28*$B43),IF(N$27="kg/t DM",((N$28*($B$28/100))*$B43),IF(N$27="mg/kg SAR",((N$28*0.001)*$B43),IF(N$27="mg/kg DM",(((N$28*0.001)*($B$28/100))*$B43),0)))))) -> 0 | ... P43: =IF(P$27="%w/w SAR",((P$28*10)*$B43),IF(P$27="%w/w DM",(((P$28*10)*($B$28/100))*$B43),IF(P$27="kg/t SAR",(P$28*$B43),IF(P$27="kg/t DM",((P$28*($B$28/100))*$B43),IF(P$27="mg/kg SAR",((P$28*0.001)*$B43),IF(P$27="mg/kg DM",(((P$28*0.001)*($B$28/100))*$B43),0)))))) -> 35.224 | Q43: =(IF(Q$27="%w/w SAR",((Q$28*10)*$B43),IF(Q$27="%w/w DM",(((Q$28*10)*($B$28/100))*$B43),IF(Q$27="kg/t SAR",(Q$28*$B43),IF(Q$27="kg/t DM",((Q$28*($B$28/100))*$B43),IF(Q$27="mg/kg SAR",((Q$28*0.001)*$B43),IF(Q$27="mg/kg DM",(((Q$28*0.001)*($B$28/100))*$B43),0)))))))*2.5 -> 20.145 | R43: =IF(R$27="%w/w SAR",((R$28*10)*$B43),IF(R$27="%w/w DM",(((R$28*10)*($B$28/100))*$B43),IF(R$27="kg/t SAR",(R$28*$B43),IF(R$27="kg/t DM",((R$28*($B$28/100))*$B43),IF(R$27="mg/kg SAR",((R$28*0.001)*$B43),IF(R$27="mg/kg DM",(((R$28*0.001)*($B$28/100))*$B43),0)))))) -> 0.0017 | S43: =IF(S$27="%w/w SAR",((S$28*10)*$B43),IF(S$27="%w/w DM",(((S$28*10)*($B$28/100))*$B43),IF(S$27="kg/t SAR",(S$28*$B43),IF(S$27="kg/t DM",((S$28*($B$28/100))*$B43),IF(S$27="mg/kg SAR",((S$28*0.001)*$B43),IF(S$27="mg/kg DM",(((S$28*0.001)*($B$28/100))*$B43),0)))))) -> 0.017 | T43: =IF(T$27="%w/w SAR",((T$28*10)*$B43),IF(T$27="%w/w DM",(((T$28*10)*($B$28/100))*$B43),IF(T$27="kg/t SAR",(T$28*$B43),IF(T$27="kg/t DM",((T$28*($B$28/100))*$B43),IF(T$27="mg/kg SAR",((T$28*0.001)*$B43),IF(T$27="mg/kg DM",(((T$28*0.001)*($B$28/100))*$B43),0)))))) -> 0.00374 | U43: =IF(U$27="%w/w SAR",((U$28*10)*$B43),IF(U$27="%w/w DM",(((U$28*10)*($B$28/100))*$B43),IF(U$27="kg/t SAR",(U$28*$B43),IF(U$27="kg/t DM",((U$28*($B$28/100))*$B43),IF(U$27="mg/kg SAR",((U$28*0.001)*$B43),IF(U$27="mg/kg DM",(((U$28*0.001)*($B$28/100))*$B43),0)))))) -> 0.34
