Workbook
Name Loccol: Sheet1!$B$1:$B$42
Name Opcol: Sheet1!$A$1:$A$42
Name Oplist: Sheet1!$K$2:$K$17
Name Opstart: Sheet1!$A$1
Name PlantDetails: '[1]Plant Details'!$A$4:$F$100
Name Q1_NOx: 'IED ANNUAL'!$D$26
Name Q1_PM: 'IED ANNUAL'!$E$26
Name Q1_SO2: 'IED ANNUAL'!$C$26
Name Q2_NOx: 'IED ANNUAL'!$D$30
Name Q2_PM: 'IED ANNUAL'!$E$30
Name Q2_SO2: 'IED ANNUAL'!$C$30
Name Q3_NOx: 'IED ANNUAL'!$D$34
Name Q3_PM: 'IED ANNUAL'!$E$34
Name Q3_SO2: 'IED ANNUAL'!$C$34
Name Q4_NOx: 'IED ANNUAL'!$D$38
Name Q4_PM: 'IED ANNUAL'!$E$38
Name Q4_SO2: 'IED ANNUAL'!$C$38
Name Sites: [1]Lists!$G$9:$G$19
Name TheOperator: 'IED AR1'!$B$7
Name TheOperator: #REF!
Name TheSite: 'IED AR1'!$B$11
Name TheSite: #REF!
Name Years: [1]Lists!$A$5:$A$17

Sheet List of forms concise
B3: Permit | C3: Original | D3: Title
B4: IED HR1 | C4: ESI/01 | D4: ANNUAL OPERATING HOURS RETURN
D5: Annual operating hours return. For each LCP: Annual operating hours. For each LCP with a Limited Lifetime Derogation or a 10,000h monitoring derogation: cumulative operating hours from 1 Jan 2016. For each LCP with a 1,500h derogation: annual derogated operating hours (from entry month in first year) and 5 year running average from entry date. For a combined cycle gas turbine that operates with a bypass stack in normal operation, the bypass hours during normal operation are included in the plant hours but are also reported separately.
B6: IED RTA1 | C6: ESI/02 | D6: QUARTERLY RETURN OF MONTHLY SO2, NOx AND DUST MASS RELEASE DATA
D7: Quarterly mass emissions return for TNP plant and plant with a Site Specific NOx limit. TNP mass emissions (TNP plant only; applicable pollutants only): excluding start-up and shut-down emissions Site Specific NOx limits (additional report if applicable): including start-up and shut-down emissions
B8: IED Annual | D8: ANNUAL RETURN OF MONTHLY SO2, NOx AND DUST MASS RELEASE DATA
D9: Annual mass emissions return for Non-TNP plant and plant with a Site Specific NOx limit. Non-TNP mass emissions (Non-TNP plant only; applicable pollutants only): excluding start-up and shut-down emissions Site Specific NOx limits (additional report if applicable): including start-up and shut-down emissions
B10: IED CON1/2 | C10: ESI/03 | D10: QUARTERLY RETURN OF MONTHLY MEAN, MONTHLY MAXIMUM DAILY MEAN AND ANNUAL RETURN OF HOURLY CONCENTRATION PERCENTILES
D11: Quarterly return for each LCP (noting that Unit(s) with a 1,500h derogation are regarded as a separate LCP). Validated concentration data: Monthly mean; Maximum daily mean within month (applied as 95th percentile in the interim BAT period for some plant); Annual 95th percentile of hourly averages. Version 1 (IED CON1) Boilers; Version 2 (IED CON2 ) Gas turbines.
B12: IED AR1 | C12: ESI/04 | D12: ANNUAL RETURN OF ENERGY INPUT AND TOTAL EMISSIONS
D13: IED Inventory: annual energy and annual mass emissions return. Annual declaration of rated thermal input.
B14: IED PM1 | C14: ESI/05 | D14: SIX-MONTHLY RETURN OF DISCONTINUOUS MONITORING RESULTS (AS REQUIRED)
D15: Periodic monitoring return (e.g., annual mercury test) or Alternative monitoring return (as required by the Competent Authority).
B16: IED BD1 | C16: ESI/06 | D16: QUARTERLY RETURN OF CUMULATIVE ANNUAL ROLLING MALFUNCTION AND BREAKDOWN HOURS
D17: For each LCP fitted with abatement, return the cumulative Malfunction and Breakdown hours as a rolling average (12 monthly period) that is updated on a monthly basis.
B18: IED MF1 | C18: ESI/07 | D18: RETURN OF MALFUNCTION AND BREAKDOWN DATA (AS REQUIRED)
D19: Validated concentration data for each day affected by Malfunction or Breakdown.
B20: IED AQRA | C20: ESI/08 | D20: AIR QUALITY RISK ASSESSMENT FOR MALFUNCTION AND BREAKDOWN (AS REQUIRED)
D21: Basic air quality risk assessment for valid concentration excursions related to Malfunction or Breakdown.

Sheet IED HR1
B1: RELEASES TO AIR
B2: ANNUAL RETURN
B3: OPERATING HOURS
B4: Operator: | C4: Tata Steel | F4: Select Operator | H4: Form: | I4: IED HR1
B5: Location: | C5: Port Talbot Boiler 8 (A68) | F5: Select Site Location | H5: Version/date: | I5: V.11 Mar 2016
B6: Permit/Variation Number: | C6: =VLOOKUP(C5,Sheet1!B2:D42,2,0) -> BL7108IM
B8: Year: | C8: B8 (hours) | D8: Bypass (hours) | E8: LCP2 (hours) | F8: Bypass (hours) | G8: LCP3 (hours) | H8: Bypass (hours) | I8: LCP4 (hours) | J8: Bypass (hours)
B10: Annual Operating Hours (a), (b) | C10: 0
B11: Cumulative Operating Hours (c),(d)
B12: Derogated annual hours (e)
B13: Five year rolling average (f)
B15: NOTES:
B16: (a) Annual operating hours for every LCP from 1-Jan in calendar year. (For gas turbines with a Bypass stack, include the Bypass stack operating hours during normal operation even though these are reported separately).
B17: (b) For gas turbines with a Bypass stack, report Bypass operating hours from 1-Jan in calendar year, excluding Start-Up and Shut-down, in the adjacent column (labelled Bypass) which may be deleted if not applicable.
B18: (c) Cumulative operating hours from 1-Jan-2016 for LCP subject to a Limited Lifetime Derogation or a 10,000h monitoring derogation. (For gas turbines with a Bypass stack, include the Bypass stack operating hours during normal operation even though these are reported separately).
B19: (d) For gas turbines with a Bypass stack, report Bypass Cumulative operating hours from 1-Jan-2016 if subject to a separate 10,000h monitoring derogation, in the adjacent column (labelled Bypass).
B20: (e) Annual operating hours in calendar year from entry date (in first year as applicable) or from 1-Jan in calendar year, for each 1,500h ELV derogated Unit/LCP only.
B21: (f) Five year running average from entry date for each 1,500h derogated Unit/LCP only.
B22: (g) General note: hours are reported as a decimal number to two decimal places.
B24: Signed on behalf of the Operator by: | C24: …………….Michael Launder.……………………………………..
B26: Date of return: | C26: ……………..……07/02/2019……………………………..

Sheet Sheet1
A1: Operator | B1: Location | C1: Permit number | D1: Plant ID | K1: Operators | M1: Operator | N1: sites | O1: Permit | P1: plantid | R1: Gases
A2: Baglan Operations | B2: Baglan Operations, Baglan CCGT | C2: BJ7891IT | D2: 15 | K2: Baglan Operations | N2: indirect($a$1) | R2: Blast furnace gas (BFG)
A3: Centrica | B3: Centrica Barry Power Station | D3: 43 | K3: Centrica | R3: Basic Oxygen Steel (BOS) Gas
A4: Cofely Industrial Energy Services | B4: Cofely Industrial Energy Services - Dow Corning Barry Cogeneration Plant | D4: 60 | K4: Cofely Industrial Energy Services | R4: Coke oven gas (COG)
A5: Deeside Power | B5: Flintshire CCGT (GT 1) | D5: 83 | K5: Deeside Power | R5: Refinery Fuel Gas (RFG)
A6: Deeside Power | B6: Flintshire CCGT (GT 2) | D6: 84 | K6: Dragon LNG
A7: Dragon LNG | B7: Dragon LNG, WaterstonExisting GTs | C7: AP3135UA | D7: 90 | K7: E.ON
A8: E.ON | B8: Connah's Quay CCGT (A1) | D8: 96 | K8: Ford Engine Plant
A9: E.ON | B9: Connah's Quay CCGT (A2) | D9: 97 | K9: Gaz de France
A10: E.ON | B10: Connah's Quay CCGT (A3) | D10: 98 | K10: Murco Petroleum Limtied
A11: E.ON | B11: Connah's Quay CCGT (A4) | D11: 99 | K11: RWE npower
A12: Ford Engine Plant | B12: Ford Engine Plant, Bridgend Boilers | C12: BL2548IF | D12: 157 | K12: Scotish and Southern Energy
A13: Gaz de France | B13: Gaz de France, Deeside, Flintshire GT (A1) | D13: 169 | K13: Severn Power
A14: Gaz de France | B14: Gaz de France, Deeside, Flintshire GT (A2) | D14: 170 | K14: South Hook CHP
A15: Murco Petroleum Limtied | B15: Murco Petroleum Limited Milford Haven Refinery 1 (Duct A) | D15: 228 | K15: Tata Steel
A16: Murco Petroleum Limtied | B16: Murco Petroleum Limited Milford Haven Refinery 2 (Duct B,C,D) | D16: 229 | K16: UPM-Kymmene UK Limited
A17: RWE npower | B17: RWE npower Aberthaw PS | D17: 283 | K17: Valero Energy Limited
A18: RWE npower | B18: Pembroke Power Station Unit 11 | C18: DP3333TA | D18: 286
A19: RWE npower | B19: Pembroke Power Station Unit 21 | C19: DP3333TA | D19: 382
A20: RWE npower | B20: Pembroke Power Station Unit 31 | C20: DP3333TA | D20: 383
A21: RWE npower | B21: Pembroke Power Station Unit 41 | C21: DP3333TA | D21: 384
A22: RWE npower | B22: Pembroke Power Station Unit 51 | C22: DP3333TA | D22: 385
A23: RWE npower | B23: Aberthaw Power Station OCGT | D23: 423
A24: Scotish and Southern Energy | B24: Uskmouth PS | D24: 312
A25: Severn Power | B25: Unit 10 | D25: 324
A26: Severn Power | B26: Unit 20 | D26: 325
A27: South Hook CHP | B27: South Hook CHP (A1) | D27: 424
A28: Tata Steel | B28: Llanwern 3 package boilers | D28: 72
A29: Tata Steel | B29: PT Works NP (ICL5) | C29: BL7108IM | D29: 73
A30: Tata Steel | B30: Port Talbot 1 (Service Boilers) | C30: BL7108IM | D30: 337
A31: Tata Steel | B31: Port Talbot 2 (Mitchell Boiler) | C31: BL7108IM | D31: 338
A32: Tata Steel | B32: Port Talbot 3 (A5 Boiler) | C32: BL7108IM | D32: 339
A33: Tata Steel | B33: Port Talbot 4 (6&7 Boiler) | C33: BL7108IM | D33: 340
A34: Tata Steel | B34: Port Talbot Boiler 8 (A68) | C34: BL7108IM | D34: 425
A35: Tata Steel | B35: Port Talbot Boiler 3 (A62) | C35: BL7108IM | D35: Not IED
A36: Tata Steel | B36: Port Talbot Boiler 9 (A69) | C36: BL7108IM | D36: 426
A37: UPM-Kymmene UK Limited | B37: UPM-Kymmene UK Limited Shotton Paper Mill | D37: 368
A38: Valero Energy Limited | B38: Pembroke Plant (A1/A2) | C38: YP3930EX | D38: 371
A39: Valero Energy Limited | B39: Pembroke Plant (A11/A12) | C39: YP3930EX | D39: 372
A40: Valero Energy Limited | B40: Pembroke Plant (A3/A4) | C40: YP3930EX | D40: 373
...

Sheet IED RTA1
C2: TNP quarterly mass emissions return
C3: https://www.gov.uk/government/publications/transitional-national-plan-tnp-guidance-on-the-trading-scheme
A48: NOTES:

Sheet IED ANNUAL
B7: Releases of IED Pollutants to Air
B10: Operational Summary for the year: | C10: 2016 | D10: Select Reporting Year
B12: Operator: | F12: Select Operator
B15: Site Location: | F15: Select Site Location
B17: Permit Number: | C17: =VLOOKUP(C15,Sheet1!B13:D53,2,0) -> #N/A | D17: LCP Reference: | E17: =VLOOKUP(C15,Sheet1!B2:D42,3,0) -> #N/A
B19: Note: beginning 1 January 2016, a return is required for each LCP within 28 days of the end of each quarter
B21: Air Emissions: | C21: SO2 | D21: NOx (tonnes) | E21: Dust (tonnes)
C22: (tonnes)
B23: January
B24: February
B25: March
B26: Total for Quarter 1 | C26: =SUM(C23:C25) -> 0 | D26: =SUM(D23:D25) -> 0 | E26: =SUM(E23:E25) -> 0
B27: April
B28: May
B29: June
B30: Total for Quarter 2 | C30: =SUM(C27:C29) -> 0 | D30: =SUM(D27:D29) -> 0 | E30: =SUM(E27:E29) -> 0
B31: July
B32: August
B33: September
B34: Total for Quarter 3 | C34: =SUM(C31:C33) -> 0 | D34: =SUM(D31:D33) -> 0 | E34: =SUM(E31:E33) -> 0
B35: October
B36: November
B37: December
B38: Total for Quarter 4 | C38: =SUM(C35:C37) -> 0 | D38: =SUM(D35:D37) -> 0 | E38: =SUM(E35:E37) -> 0
B40: Annual Total | C40: =SUM(Q4_SO2+Q3_SO2+Q2_SO2+Q1_SO2) -> 0 | D40: =SUM(Q4_NOx+Q3_NOx+Q2_NOx+Q1_NOx) -> 0 | E40: =SUM(Q4_PM+Q3_PM+Q2_PM+Q1_PM) -> 0
B41: =IF(SUMPRODUCT(ISTEXT($C$23:$E$29)+ISTEXT($C$31:$E$37))>0,"Please do not use text in place of numbers","")
B42: Please do not enter text
B43: I confirm that this data is not knowingly reported with any omissions, errors or misrepresentation. All measurement equipment used to generate the data has been appropriately calibrated and maintained regularly; this includes calibration against traceable international measurement standards where available. The data is supported by appropriate record keeping. IT is designed, documented, tested, implemented, controlled and maintained to ensure reliable, accurate and timely processing of data; data handling and calculations have been appropriate; data has been checked for false and unusual measurements. The annual report of emissions for the above participating large combustion plant has been verified in accordance with the requirements of the Large Combustion Plants (Transitional National Plan) Regulations 2015.
B45: Name of the operator staff responsible for the quality of data supplied to the Register in accordance with the principles above. | E45: Date:
B47: 1. Data must be reported in tonnes to 2 decimal places
B48: 2. All forms must be saved in the format IED_RTA1_Quarter-Inventory_Year_LCP Reference i.e. IED_RTA1_Q1_2016_LCPxxx
B49: 3. No PDF documents shall be accepted
B50: 4. Upload Forms held on GOV.UK will be accepted other variants of the forms will be automatically rejected which may impact statutory obligations to report on time.

Sheet IED CON1
B1: RELEASES TO AIR
B2: QUARTERLY RETURN
B3: MONTHLY MEAN, MAXIMUM DAILY MEAN AND ANNUAL PERCENTILE CONCENTRATIONS (a),(b),(c)
B4: Operator: | H4: Form: | I4: IED CON1 (Utility boilers)
B5: Location: | H5: Version/date: | I5: V.11 Mar 2016
B6: Permit/Variation Number: | C6: =VLOOKUP(C5,Sheet1!B2:D42,2,0) -> #N/A
B8: Year: LCP: | C8: SO2 (mg/m3) | E8: NOx (mg/m3) | G8: Dust (mg/m3) | I8: Monthly (d)
B9: Month | C9: Monthly Mean | D9: Max Daily Mean | E9: Monthly Mean | F9: Max Daily Mean | G9: Monthly Mean | H9: Max Daily Mean (f) | I9: Fuel S % | J9: FGD Eff %
B10: January
B11: February
B12: March
B13: April
B14: May
B15: June
B16: July
B17: August
B18: September
B19: October
B20: November
B21: December
... B33: (g) For each pollutant, report Annual 95th percentile ELV for hourly averages in the first column and, if applicable, Annual 95th percentile ELV for daily means in the second column
B35: Signed on behalf of the Operator by: | E35: ……………..………………………………………………..
B37: Date of return: | E37: ……………..………………………………………………..

Sheet IED CON2
B1: RELEASES TO AIR
B2: QUARTERLY RETURN
B3: MONTHLY MEAN, MAXIMUM DAILY MEAN AND ANNUAL PERCENTILE CONCENTRATIONS (a),(b),(c)
B4: OPERATING MODE:
B5: Operator: | F5: Form: | G5: IED CON2 (Gas Turbines)
B6: Location: | F6: Version/date: | G6: V.11 Mar 2016
B7: Permit/Variation Number: | C7: =VLOOKUP(C6,Sheet1!B3:D43,2,0) -> #N/A
B9: Year: | C9: LCP:
C10: NOx (mg/m3) | F10: CO (mg/m3)
B11: Month | C11: Monthly Mean (d) | D11: Max Daily Mean (d) | E11: Part Load Max Daily Mean (e) | F11: Monthly Mean (d) | G11: Max Daily Mean (d) | H11: Part Load Max Daily Mean (e)
B12: January
B13: February
B14: March
B15: April
B16: May
B17: June
B18: July
B19: August
B20: September
B21: October
B22: November
B23: December
... B36: (h) For each pollutant, report the Annual 95th percentile ELV for hourly averages in the first column and, if applicable, the Annual 95th percentile ELV for daily means in the second column
B38: Signed on behalf of the Operator by: | E38: ……………..………………………………………………..
B40: Date of return: | E40: ……………..………………………………………………..

Sheet IED AR1
A1: Form Name
A2: IED AR1
A3: IED Reporting - Energy Usage & Emissions for the year: | B3: 2017 | C3: Select Reporting Year
A7: Operator: | B7: Tata Steel | E7: Select Operator
A11: Site Location: | B11: Port Talbot Boiler 3 (A62) | E11: Select Site Location
A13: Permit/Variation number: | B13: =VLOOKUP(B11,Sheet1!B2:ID42,2,0) -> BL7108IM | C13: LCP: | D13: =VLOOKUP(B11,Sheet1!B2:D42,3,0) -> Not IED
A15: LCP Net Rated Thermal Input Capacity (MW): | B15: N/A
C18: By Fuel
A19: Parameter | B19: TOTAL | C19: Coal | D19: Lignite | E19: Peat | F19: Biomass | G19: Other solid fuels | H19: Liquid fuels | I19: Natural gas | J19: Other gases
A20: Annual energy input (TJ) | B20: =SUM(C20:J20) -> 2107.476 | G20: =+B46 -> 0 | H20: 0 | I20: =(160828)/1000 -> 160.828 | J20: =+B58 -> 1946.648
A21: Total Annual SO2 emission (tonnes) | B21: 6.2371944
A22: Total Annual NOx emission (tonnes) | B22: 6.6280332
A23: Total Annual Dust (PM) emission (tonnes) | B23: 0.33510602
A27: Signed on behalf of the Operator | B27: Michael Launder | D27: Date | E27: 43250
A30: NOTES:
A31: (a) Annual energy input must be reported in TJ to 1 decimal places
A32: (b) Annual emissions to air must be reported to 2 decimal places and exclude start-up and shut-down
A33: (c) All forms must be saved in the format IED AR1—DEFRA IED LCP Number - Inventory Year i.e. IED AR1-XXX-2013
A34: (d) No PDF documents shall be accepted
A35: (e) Upload Forms held on GOV.UK will be accepted other variants of the forms will be automatically rejected which may impact their statutory obligations to report on time
A37: Breakdown of Other solid fuels (if applicable)
A38: Fuel Name | B38: Annual Energy Input (TJ)
A46: TOTAL | B46: =SUM(B39:B45) -> 0
A49: Breakdown of Other gaseous fuels (if applicable)
A50: Fuel Name | B50: Annual Energy Input (TJ)
A51: Blast furnace gas (BFG) | B51: =(1940417)/1000 -> 1940.417 | C51: Select fuel from picklist
A52: Basic Oxygen Steel (BOS) Gas | B52: =6231/1000 -> 6.231
A53: Coke oven gas (COG) | B53: =0 -> 0
A58: TOTAL | B58: =SUM(B51:B57) -> 1946.648

Sheet IED PM1
B1: RELEASES TO AIR
B2: RETURN OF DISCONTINUOUS MONITORING RESULTS
B3: Operator
B4: Location: | E4: Form: | F4: IED PM1
B5: Permit/Variation Number: | C5: =VLOOKUP(C4,Sheet1!B1:D41,2,0) -> #N/A | E5: Version: | F5: V.11 Mar 2016
B7: Year: | C7: LCP
B8: Six months to -
B9: Measurement approach | C9: NOx | D9: SO2 | E9: CO | F9: Hg | G9: Dust
B10: Time
B11: Date
B12: Measurement 1 (mg/m3)(b)
B13: Measurement 2 (mg/m3)(b)
B14: Measurement 3 (mg/m3)(b)
B15: Alternative approach(c)
B16: Method(d)
B17: Calculation (mg/m3)
B18: Operational data(a)
B19: Load (%MCR)
B20: Fuel 1 name (%)
B21: Fuel 2 name (%)
... B30: (d) Use abbreviation: NF for agreed NOx factor, FS for fuel sulphur content, CS for agreed CO factor, DF for agreed dust factor
B32: Signed on behalf of the Operator by: | E32: ……………..……………………………………..
B34: Date of return: | E34: ……………..……………………………………..

Sheet IED BD1
B1: RELEASES TO AIR
B2: QUARTERLY RETURN
B3: CUMULATIVE ROLLING MALFUNCTION AND BREAKDOWN HOURS (12 MONTH PERIOD)(a)
B4: Operator: | E4: Select Operator | F4: Form: | G4: IED BD1
B5: Location: | E5: Select Site Location | F5: Version/date: | G5: V.11 Mar 2016
B6: Permit/Variation Number: | D6: =VLOOKUP(C5,Sheet1!C2:E42,2,0) -> #N/A
B8: Year: LCP: | C8: SO2 | E8: NOx | G8: Dust | I8: CO(c)
B9: Month(b) | C9: Malfunction (hours) | D9: Breakdown (hours) | E9: Malfunction (hours) | F9: Breakdown (hours) | G9: Malfunction (hours) | H9: Breakdown (hours) | I9: Malfunction (hours) | J9: Breakdown (hours)
B10: Month 1
B11: Month 2
B12: Month 3
B13: Month 4
B14: Month 5
B15: Month 6
B16: Month 7
B17: Month 8
B18: Month 9
B19: Month 10
B20: Month 11
B21: Month 12
B22: Annual cap (hours) | C22: 120 | D22: 120 | E22: 120 | F22: 120 | G22: 120 | H22: 120 | I22: 120 | J22: 120
B24: NOTES:
B25: (a) Cumulative rolling malfunction and breakdown hours (12 month period) updated monthly
B26: (b) Insert the relevant months for the preceding 12 month period, e.g., starting with March 2016
B27: (c) Gas turbines with CO abatement only (columns may be deleted)
B29: Signed on behalf of the Operator by: | E29: ……………..………………………………………………..
B31: Date of return: | E31: ……………..………………………………………………..

Sheet IED MF1
B1: RELEASES TO AIR
B2: RETURN OF DAILY MALFUNCTION AND BREAKDOWN DATA (a), (b), (c)
B3: Operator: | D3: Tata Steel
B4: Location: | D4: PT Works NP (ICL5) | H4: Form: | I4: IED MF1
B5: Permit/Variation Number: | D5: =VLOOKUP(D4,Sheet1!B1:D41,2,0) -> BL7108IM | H5: Version: | I5: V.11 Mar 2016
B6: LCP:
B7: Type: | C7: Malfunction/Breakdown /Normal Operation
B8: Date: | D8: SO2 | E8: Excluded? | F8: NOx | G8: Excluded? | H8: Dust | I8: Excluded? | J8: CO (d) | K8: Excluded?
B9: Hour | C9: Start time | D9: mg/m3 | E9: Y/N | F9: mg/m3 | G9: Y/N | H9: mg/m3 | I9: Y/N | J9: mg/m3 | K9: Y/N
B10: 1 | C10: 0
B11: 2 | C11: 0.041666667
B12: 3 | C12: 0.083333333
B13: 4 | C13: 0.125
B14: 5 | C14: 0.16666667
B15: 6 | C15: 0.20833333
B16: 7 | C16: 0.25
B17: 8 | C17: 0.29166667
B18: 9 | C18: 0.33333333
B19: 10 | C19: 0.375
B20: 11 | C20: 0.41666667
B21: 12 | C21: 0.45833333
... B33: 24 | C33: 0.95833333
C34: Daily | D34: Average | E34: No. Hours | F34: Average | G34: No. Hours | H34: Average | I34: No. Hours | J34: Average | K34: No. Hours
C35: Without data exclusion (All of the above data)
C36: With data exclusion (Reportable data only)
B38: Notes: | C38: (a) Produce a return for each day which has data exclusion due to Malfunction or Breakdown
C39: (b) All data based on hourly average validated concentrations (confidence interval subtracted)
C40: (c) Reference conditions: mg/m3 dry, 273.15K, 101.325 kPa; Solid fuels 6% O2; Liquid and Gaseous fuels 3% O2; Gas turbines 15% O2
C41: (d) Gas turbines with abatement only (columns may be deleted)
B43: Signed on behalf of the Operator by: | E43: ……………..………………………………………………..
B45: Date of return: | E45: ……………..………………………………………………..

Sheet IED AQRA
B1: Air Quality Risk Assessment | C1: Form: IED AQRA (V.11 Mar 2016)
B2: Operator:
B3: Contact:
B4: Location:
B5: Permit number: | C5: =VLOOKUP(C4,Sheet1!B2:D42,2) -> #N/A
B6: Pollutant(s) (SO2, NOx, Dust):
B7: Sulphur Dioxide (SO2) | C7: SO2
B8: First excluded hour (DD-MM-YYYY HH:MM):
B9: Last excluded hour (DD-MM-YYYY HH:MM):
B10: Notification period commenced (DD-MM-YYYY 00:00):
B11: Number of excluded hours
B12: Maximum hourly average valid concentration (mg/m3):
B13: Maximum daily average valid concentration (mg/m3):
B14: Daily Emission Limit Value (mg/m3):
B15: Number of running units:
B16: Local Air Quality Assessment: Note any relevant observations from local air quality monitoring stations and comment on weather conditions, including prevailing wind speed (maximum and average) and direction.
B17: Dispersion Assessment: Comment on the magnitude of the maximum hourly average concentration in relation to previous dispersion modelling studies.
B18: Further dispersion modelling required (Y/N)?
B19: Nitrogen Oxides (NOx as NO2) | C19: NO2
B20: First excluded hour (DD-MM-YYYY HH:MM):
B21: Last excluded hour (DD-MM-YYYY HH:MM):
B22: Notification period commenced (DD-MM-YYYY 00:00):
B23: Number of excluded hours
B24: Maximum hourly average valid concentration (mg/m3):
B25: Maximum daily average valid concentration (mg/m3):
B26: Daily Emission Limit Value (mg/m3):
B27: Number of running units:
B28: Local Air Quality Assessment: Note any relevant observations from local air quality monitoring stations and comment on weather conditions, including prevailing wind speed (maximum and average) and direction.
B29: Dispersion Assessment: Comment on the magnitude of the maximum hourly average concentration in relation to previous dispersion modelling studies.
B30: Further dispersion modelling required (Y/N)?
B31: DUST (as PM10) | C31: PM10
B32: First excluded hour (DD-MM-YYYY HH:MM):
B33: Last excluded hour (DD-MM-YYYY HH:MM):
B34: Notification period commenced (DD-MM-YYYY 00:00):
B35: Number of excluded hours
B36: Maximum hourly average valid concentration (mg/m3):
B37: Maximum daily average valid concentration (mg/m3):
B38: Daily Emission Limit Value (mg/m3):
B39: Number of running units:
B40: Local Air Quality Assessment: Note any relevant observations from local air quality monitoring stations and comment on weather conditions, including prevailing wind speed (maximum and average) and direction.
...
