Workbook

Sheet SW MONTHLY CWMS01-S4.3
A1: Permit Number: TP3835LV | E1: Operator: | F1: SI Green UK Limited
A3: Installation: | B3: Cwmrhydyceirw Quarry | E3: Form Number: | F3: Water 1 -15th October 2008
A5: Reporting of emissions to water (other than to sewer) for the period from 01 Jan 2013……to……31 Mar 2013
A7: Emission Point | B7: Substance /Parameter | C7: Emission Limit Value | D7: Reference Period | E7: Result [1] | F7: Test Method [2] | G7: Sample Date and Times [3] | H7: Uncertainty [4]
A8: CWMS01 | B8: Suspended Solids | C8: 40 mg/litre | D8: Spot Sample | E8: 30 | F8: Methods used shall be in accordance with Agency guidance document ‘Guidance on monitoring of landfill leachate, groundwater and surface water (LFTGN02) | G8: 31/01/2013 | H8: Accuracy of testing equipment
E9: 4 | G9: 27/02/2013
E10: 2 | G10: 20/03/2013
A11: CWMS01 | B11: pH | C11: >6 and <9 pH units | D11: Spot Sample | E11: 7.7 | F11: Methods used shall be in accordance with Agency guidance document ‘Guidance on monitoring of landfill leachate, groundwater and surface water (LFTGN02) | G11: =G8 -> 31/01/2013 | H11: Accuracy of testing equipment
E12: 7.8 | G12: =G9 -> 27/02/2013
E13: 7.9 | G13: =G10 -> 20/03/2013
A14: CWMS01 | B14: Ammoniacal Nitrogen | C14: 1 mg/litre | D14: Spot Sample | E14: <0.27 | F14: Methods used shall be in accordance with Agency guidance document ‘Guidance on monitoring of landfill leachate, groundwater and surface water (LFTGN02) | G14: =G8 -> 31/01/2013 | H14: Accuracy of testing equipment
E15: <0.27 | G15: =G9 -> 27/02/2013
E16: <0.27 | G16: =G10 -> 20/03/2013
A17: CWMS01 | B17: Chloride | C17: 100 mg/litre | D17: Spot Sample | E17: 46 | F17: Methods used shall be in accordance with Agency guidance document ‘Guidance on monitoring of landfill leachate, groundwater and surface water (LFTGN02) | G17: =G8 -> 31/01/2013 | H17: Accuracy of testing equipment
E18: 42.6 | G18: =G9 -> 27/02/2013
E19: 41.6 | G19: =G10 -> 20/03/2013
A20: CWMS01 | B20: Electrical Conductivity | D20: Spot Sample | E20: 291 | F20: Methods used shall be in accordance with Agency guidance document ‘Guidance on monitoring of landfill leachate, groundwater and surface water (LFTGN02) | G20: =G8 -> 31/01/2013 | H20: Accuracy of testing equipment
E21: 328 | G21: =G9 -> 27/02/2013
E22: 299 | G22: =G10 -> 20/03/2013
A23: CWMS01 | B23: Dissolved Oxygen | D23: Spot Sample | E23: 7.2 | F23: Methods used shall be in accordance with Agency guidance document ‘Guidance on monitoring of landfill leachate, groundwater and surface water (LFTGN02) | G23: =G8 -> 31/01/2013 | H23: Accuracy of testing equipment
E24: 7.2 | G24: =G9 -> 27/02/2013
E25: 8.1 | G25: =G10 -> 20/03/2013
A26: CWMS01 | B26: BOD+ATU (5Day) | D26: Spot Sample | E26: <1 | F26: Methods used shall be in accordance with Agency guidance document ‘Guidance on monitoring of landfill leachate, groundwater and surface water (LFTGN02) | G26: =G8 -> 31/01/2013 | H26: Accuracy of testing equipment
E27: <1 | G27: =G9 -> 27/02/2013
E28: <1 | G28: =G10 -> 20/03/2013
A29: CWMS01 | B29: COD (total) | D29: Spot Sample | E29: 21 | F29: Methods used shall be in accordance with Agency guidance document ‘Guidance on monitoring of landfill leachate, groundwater and surface water (LFTGN02) | G29: =G8 -> 31/01/2013 | H29: Accuracy of testing equipment
E30: <11 | G30: =G9 -> 27/02/2013
E31: 11 | G31: =G10 -> 20/03/2013
A32: [1] The result given is the maximum value (or the minimum value in the case of a limit that is expressed as a minimum) obtained during the reporting period, expressed in the same terms as the emission limit value. Where the emission limit value is expressed as a range, the result is given as the ‘minimum – maximum’ measured values.
A33: [2] Where an internationally recognised standard test method is used the reference number is given. Where another method that has been formally agreed with the Agency is used, then the appropriate identifier is given. In other cases the principal technique is stated, e.g. gas chromatography.
A34: [3] For non-continuous measurements the date and time of the sample that produced the result is given. For continuous measurements the percentage of the process operating time covered by the result is given.
A35: [4] The uncertainty associated with the quoted result at the 95% confidence interval, unless otherwise stated.
B36: Signed …Antonio Montinaro…………………. ………. | E36: Date……08.04.2013…………………..
B37: (Authorised to sign as representative of Operator)

Sheet SW MONTHLY CWMS02-S4.3
A1: Permit Number: TP3835LV | E1: Operator: | F1: SI Green UK Limited
A3: Installation: | B3: Cwmrhydyceirw Quarry | E3: Form Number: | F3: Water 1 -15th October 2008
A5: ='SW MONTHLY CWMS01-S4.3'!A5:H5 -> Reporting of emissions to water (other than to sewer) for the period from 01 Jan 2013……to……31 Mar 2013
A7: Emission Point | B7: Substance /Parameter | C7: Emission Limit Value/Unit | D7: Reference Period | E7: Result [1] | F7: Test Method [2] | G7: Sample Date and Times [3] | H7: Uncertainty [4]
A8: CWMS02 | B8: Suspended Solids | C8: 40 mg/litre | D8: Spot Sample | E8: 6 | F8: Methods used shall be in accordance with Agency guidance document ‘Guidance on monitoring of landfill leachate, groundwater and surface water (LFTGN02) | G8: ='SW MONTHLY CWMS01-S4.3'!G8 -> 31/01/2013 | H8: Accuracy of testing equipment
E9: 8 | G9: ='SW MONTHLY CWMS01-S4.3'!G9 -> 27/02/2013
E10: 9 | G10: ='SW MONTHLY CWMS01-S4.3'!G10 -> 20/03/2013
A11: CWMS02 | B11: pH | C11: >6 and <9 pH units | D11: Spot Sample | E11: 7.7 | F11: Methods used shall be in accordance with Agency guidance document ‘Guidance on monitoring of landfill leachate, groundwater and surface water (LFTGN02) | G11: ='SW MONTHLY CWMS01-S4.3'!G11 -> 31/01/2013 | H11: Accuracy of testing equipment
E12: 7.4 | G12: ='SW MONTHLY CWMS01-S4.3'!G9 -> 27/02/2013
E13: 7.7 | G13: ='SW MONTHLY CWMS01-S4.3'!G10 -> 20/03/2013
A14: CWMS02 | B14: Ammoniacal Nitrogen | C14: 1 mg/litre | D14: Spot Sample | E14: <0.27 | F14: Methods used shall be in accordance with Agency guidance document ‘Guidance on monitoring of landfill leachate, groundwater and surface water (LFTGN02) | G14: ='SW MONTHLY CWMS01-S4.3'!G14 -> 31/01/2013 | H14: Accuracy of testing equipment
E15: 0.72 | G15: ='SW MONTHLY CWMS01-S4.3'!G9 -> 27/02/2013
E16: <0.27 | G16: ='SW MONTHLY CWMS01-S4.3'!G10 -> 20/03/2013
A17: CWMS02 | B17: Chloride | C17: 100 mg/litre | D17: Spot Sample | E17: 44.4 | F17: Methods used shall be in accordance with Agency guidance document ‘Guidance on monitoring of landfill leachate, groundwater and surface water (LFTGN02) | G17: ='SW MONTHLY CWMS01-S4.3'!G17 -> 31/01/2013 | H17: Accuracy of testing equipment
E18: 168 | G18: ='SW MONTHLY CWMS01-S4.3'!G9 -> 27/02/2013
E19: 102 | G19: ='SW MONTHLY CWMS01-S4.3'!G10 -> 20/03/2013
A20: CWMS02 | B20: Electrical Conductivity | D20: Spot Sample | E20: 343 | F20: Methods used shall be in accordance with Agency guidance document ‘Guidance on monitoring of landfill leachate, groundwater and surface water (LFTGN02) | G20: ='SW MONTHLY CWMS01-S4.3'!G20 -> 31/01/2013 | H20: Accuracy of testing equipment
E21: 919 | G21: ='SW MONTHLY CWMS01-S4.3'!G9 -> 27/02/2013
E22: 629 | G22: ='SW MONTHLY CWMS01-S4.3'!G10 -> 20/03/2013
A23: CWMS02 | B23: Dissolved Oxygen | D23: Spot Sample | E23: 8.4 | F23: Methods used shall be in accordance with Agency guidance document ‘Guidance on monitoring of landfill leachate, groundwater and surface water (LFTGN02) | G23: ='SW MONTHLY CWMS01-S4.3'!G23 -> 31/01/2013 | H23: Accuracy of testing equipment
E24: 4 | G24: ='SW MONTHLY CWMS01-S4.3'!G9 -> 27/02/2013
E25: 6.8 | G25: ='SW MONTHLY CWMS01-S4.3'!G10 -> 20/03/2013
A26: CWMS02 | B26: BOD+ATU (5Day) | D26: Spot Sample | E26: <1 | F26: Methods used shall be in accordance with Agency guidance document ‘Guidance on monitoring of landfill leachate, groundwater and surface water (LFTGN02) | G26: ='SW MONTHLY CWMS01-S4.3'!G26 -> 31/01/2013 | H26: Accuracy of testing equipment
E27: <1 | G27: ='SW MONTHLY CWMS01-S4.3'!G9 -> 27/02/2013
E28: 2 | G28: ='SW MONTHLY CWMS01-S4.3'!G10 -> 20/03/2013
A29: CWMS02 | B29: COD (total) | D29: Spot Sample | E29: 23 | F29: Methods used shall be in accordance with Agency guidance document ‘Guidance on monitoring of landfill leachate, groundwater and surface water (LFTGN02) | G29: ='SW MONTHLY CWMS01-S4.3'!G29 -> 31/01/2013 | H29: Accuracy of testing equipment
E30: 16 | G30: ='SW MONTHLY CWMS01-S4.3'!G9 -> 27/02/2013
E31: 20 | G31: ='SW MONTHLY CWMS01-S4.3'!G10 -> 20/03/2013
A32: CWMS02 | B32: Water Level | C32: m | D32: Spot Sample | E32: 30 | F32: Methods used shall be in accordance with Agency guidance document ‘Guidance on monitoring of landfill leachate, groundwater and surface water (LFTGN02) | G32: =G29 -> 31/01/2013 | H32: Accuracy of testing equipment
E33: 30 | G33: =G30 -> 27/02/2013
E34: 30 | G34: =G31 -> 20/03/2013
A35: CWMS02 | B35: Discharge volume | C35: m3 | D35: Spot Sample | E35: 11876 | F35: Methods used shall be in accordance with Agency guidance document ‘Guidance on monitoring of landfill leachate, groundwater and surface water (LFTGN02) | G35: =G32 -> 31/01/2013 | H35: Accuracy of testing equipment
E36: 18308 | G36: =G33 -> 27/02/2013
E37: 9442 | G37: =G34 -> 20/03/2013
A38: CWMS02 | B38: Flow Rate | C38: m3/hr | D38: Spot Sample | E38: =(E35/31)/24 -> 15.962366 | F38: Methods used shall be in accordance with Agency guidance document ‘Guidance on monitoring of landfill leachate, groundwater and surface water (LFTGN02) | G38: =G35 -> 31/01/2013 | H38: Accuracy of testing equipment
E39: =(E36/28)/24 -> 27.244048 | G39: =G36 -> 27/02/2013
E40: =(E37/31)/24 -> 12.69086 | G40: =G37 -> 20/03/2013
A41: [1] The result given is the maximum value (or the minimum value in the case of a limit that is expressed as a minimum) obtained during the reporting period, expressed in the same terms as the emission limit value. Where the emission limit value is expressed as a range, the result is given as the ‘minimum – maximum’ measured values.
A42: [2] Where an internationally recognised standard test method is used the reference number is given. Where another method that has been formally agreed with the Agency is used, then the appropriate identifier is given. In other cases the principal technique is stated, e.g. gas chromatography.
A43: [3] For non-continuous measurements the date and time of the sample that produced the result is given. For continuous measurements the percentage of the process operating time covered by the result is given.
A44: [4] The uncertainty associated with the quoted result at the 95% confidence interval, unless otherwise stated.
B45: Signed …Antonio Montinaro…………………. ………. | E45: ='SW MONTHLY CWMS01-S4.3'!E36 -> Date……08.04.2013…………………..
B46: (Authorised to sign as representative of Operator)

Sheet SW MONTHLY CWMS03A-S4.3
A1: Permit Number: TP3835LV | E1: Operator: | F1: SI Green UK Limited
A3: Installation: | B3: Cwmrhydyceirw Quarry | E3: Form Number: | F3: Water 1 -15th October 2008
A5: ='SW MONTHLY CWMS01-S4.3'!A5:H5 -> Reporting of emissions to water (other than to sewer) for the period from 01 Jan 2013……to……31 Mar 2013
A7: Emission Point | B7: Substance /Parameter | C7: Emission Limit Value | D7: Reference Period | E7: Result [1] | F7: Test Method [2] | G7: Sample Date and Times [3] | H7: Uncertainty [4]
A8: CWMS03A | B8: Suspended Solids | C8: 40 mg/litre | D8: Spot Sample | E8: 9 | F8: Methods used shall be in accordance with Agency guidance document ‘Guidance on monitoring of landfill leachate, groundwater and surface water (LFTGN02) | G8: ='SW MONTHLY CWMS01-S4.3'!G8 -> 31/01/2013 | H8: Accuracy of testing equipment
E9: 4 | G9: ='SW MONTHLY CWMS01-S4.3'!G9 -> 27/02/2013
E10: 2 | G10: ='SW MONTHLY CWMS01-S4.3'!G10 -> 20/03/2013
A11: CWMS03A | B11: pH | C11: >6 and <9 pH units | D11: Spot Sample | E11: 7.8 | F11: Methods used shall be in accordance with Agency guidance document ‘Guidance on monitoring of landfill leachate, groundwater and surface water (LFTGN02) | G11: ='SW MONTHLY CWMS01-S4.3'!G8 -> 31/01/2013 | H11: Accuracy of testing equipment
E12: 8 | G12: ='SW MONTHLY CWMS01-S4.3'!G9 -> 27/02/2013
E13: 8 | G13: ='SW MONTHLY CWMS01-S4.3'!G10 -> 20/03/2013
A14: CWMS03A | B14: Ammoniacal Nitrogen | C14: 1 mg/litre | D14: Spot Sample | E14: <0.27 | F14: Methods used shall be in accordance with Agency guidance document ‘Guidance on monitoring of landfill leachate, groundwater and surface water (LFTGN02) | G14: ='SW MONTHLY CWMS01-S4.3'!G8 -> 31/01/2013 | H14: Accuracy of testing equipment
E15: <0.27 | G15: ='SW MONTHLY CWMS01-S4.3'!G9 -> 27/02/2013
E16: <0.27 | G16: ='SW MONTHLY CWMS01-S4.3'!G10 -> 20/03/2013
A17: CWMS03A | B17: Chloride | C17: 100 mg/litre | D17: Spot Sample | E17: 38.5 | F17: Methods used shall be in accordance with Agency guidance document ‘Guidance on monitoring of landfill leachate, groundwater and surface water (LFTGN02) | G17: ='SW MONTHLY CWMS01-S4.3'!G8 -> 31/01/2013 | H17: Accuracy of testing equipment
E18: 43.5 | G18: ='SW MONTHLY CWMS01-S4.3'!G9 -> 27/02/2013
E19: 32.1 | G19: ='SW MONTHLY CWMS01-S4.3'!G10 -> 20/03/2013
A20: CWMS03A | B20: Electrical Conductivity | D20: Spot Sample | E20: 264 | F20: Methods used shall be in accordance with Agency guidance document ‘Guidance on monitoring of landfill leachate, groundwater and surface water (LFTGN02) | G20: ='SW MONTHLY CWMS01-S4.3'!G8 -> 31/01/2013 | H20: Accuracy of testing equipment
E21: 330 | G21: ='SW MONTHLY CWMS01-S4.3'!G9 -> 27/02/2013
E22: 267 | G22: ='SW MONTHLY CWMS01-S4.3'!G10 -> 20/03/2013
A23: CWMS03A | B23: Dissolved Oxygen | D23: Spot Sample | E23: 5.5 | F23: Methods used shall be in accordance with Agency guidance document ‘Guidance on monitoring of landfill leachate, groundwater and surface water (LFTGN02) | G23: ='SW MONTHLY CWMS01-S4.3'!G8 -> 31/01/2013 | H23: Accuracy of testing equipment
E24: 8.6 | G24: ='SW MONTHLY CWMS01-S4.3'!G9 -> 27/02/2013
E25: 6.9 | G25: ='SW MONTHLY CWMS01-S4.3'!G10 -> 20/03/2013
A26: CWMS03A | B26: BOD+ATU (5Day) | D26: Spot Sample | E26: <1 | F26: Methods used shall be in accordance with Agency guidance document ‘Guidance on monitoring of landfill leachate, groundwater and surface water (LFTGN02) | G26: ='SW MONTHLY CWMS01-S4.3'!G8 -> 31/01/2013 | H26: Accuracy of testing equipment
E27: <1 | G27: ='SW MONTHLY CWMS01-S4.3'!G9 -> 27/02/2013
E28: <1 | G28: ='SW MONTHLY CWMS01-S4.3'!G10 -> 20/03/2013
A29: CWMS03A | B29: COD (total) | D29: Spot Sample | E29: 18 | F29: Methods used shall be in accordance with Agency guidance document ‘Guidance on monitoring of landfill leachate, groundwater and surface water (LFTGN02) | G29: ='SW MONTHLY CWMS01-S4.3'!G8 -> 31/01/2013 | H29: Accuracy of testing equipment
E30: 12 | G30: ='SW MONTHLY CWMS01-S4.3'!G9 -> 27/02/2013
E31: 14 | G31: ='SW MONTHLY CWMS01-S4.3'!G10 -> 20/03/2013
A32: [1] The result given is the maximum value (or the minimum value in the case of a limit that is expressed as a minimum) obtained during the reporting period, expressed in the same terms as the emission limit value. Where the emission limit value is expressed as a range, the result is given as the ‘minimum – maximum’ measured values.
A33: [2] Where an internationally recognised standard test method is used the reference number is given. Where another method that has been formally agreed with the Agency is used, then the appropriate identifier is given. In other cases the principal technique is stated, e.g. gas chromatography.
A34: [3] For non-continuous measurements the date and time of the sample that produced the result is given. For continuous measurements the percentage of the process operating time covered by the result is given.
A35: [4] The uncertainty associated with the quoted result at the 95% confidence interval, unless otherwise stated.
B36: Signed …Antonio Montinaro…………………. ………. | E36: ='SW MONTHLY CWMS01-S4.3'!E36 -> Date……08.04.2013…………………..
B37: (Authorised to sign as representative of Operator)

Sheet SW MONTHLY CWMS03B-S4.3
A1: Permit Number: TP3835LV | E1: Operator: | F1: SI Green UK Limited
A3: Installation: | B3: Cwmrhydyceirw Quarry | E3: Form Number: | F3: Water 1 -15th October 2008
A5: ='SW MONTHLY CWMS01-S4.3'!A5:H5 -> Reporting of emissions to water (other than to sewer) for the period from 01 Jan 2013……to……31 Mar 2013
A7: Emission Point | B7: Substance /Parameter | C7: Emission Limit Value | D7: Reference Period | E7: Result [1] | F7: Test Method [2] | G7: Sample Date and Times [3] | H7: Uncertainty [4]
A8: CWMS03B | B8: Suspended Solids | C8: 40 mg/litre | D8: Spot Sample | E8: 10 | F8: Methods used shall be in accordance with Agency guidance document ‘Guidance on monitoring of landfill leachate, groundwater and surface water (LFTGN02) | G8: ='SW MONTHLY CWMS01-S4.3'!G8 -> 31/01/2013 | H8: Accuracy of testing equipment
E9: 5 | G9: ='SW MONTHLY CWMS01-S4.3'!G9 -> 27/02/2013
E10: 2 | G10: ='SW MONTHLY CWMS01-S4.3'!G10 -> 20/03/2013
A11: CWMS03B | B11: pH | C11: >6 and <9 pH units | D11: Spot Sample | E11: 7.9 | F11: Methods used shall be in accordance with Agency guidance document ‘Guidance on monitoring of landfill leachate, groundwater and surface water (LFTGN02) | G11: ='SW MONTHLY CWMS01-S4.3'!G8 -> 31/01/2013 | H11: Accuracy of testing equipment
E12: 8 | G12: ='SW MONTHLY CWMS01-S4.3'!G9 -> 27/02/2013
E13: 8 | G13: ='SW MONTHLY CWMS01-S4.3'!G10 -> 20/03/2013
A14: CWMS03B | B14: Ammoniacal Nitrogen | C14: 1 mg/litre | D14: Spot Sample | E14: <0.27 | F14: Methods used shall be in accordance with Agency guidance document ‘Guidance on monitoring of landfill leachate, groundwater and surface water (LFTGN02) | G14: ='SW MONTHLY CWMS01-S4.3'!G8 -> 31/01/2013 | H14: Accuracy of testing equipment
E15: <0.27 | G15: ='SW MONTHLY CWMS01-S4.3'!G9 -> 27/02/2013
E16: <0.27 | G16: ='SW MONTHLY CWMS01-S4.3'!G10 -> 20/03/2013
A17: CWMS03B | B17: Chloride | C17: 100 mg/litre | D17: Spot Sample | E17: 38.1 | F17: Methods used shall be in accordance with Agency guidance document ‘Guidance on monitoring of landfill leachate, groundwater and surface water (LFTGN02) | G17: ='SW MONTHLY CWMS01-S4.3'!G8 -> 31/01/2013 | H17: Accuracy of testing equipment
E18: 46 | G18: ='SW MONTHLY CWMS01-S4.3'!G9 -> 27/02/2013
E19: 31.9 | G19: ='SW MONTHLY CWMS01-S4.3'!G10 -> 20/03/2013
A20: CWMS03B | B20: Electrical Conductivity | D20: Spot Sample | E20: 265 | F20: Methods used shall be in accordance with Agency guidance document ‘Guidance on monitoring of landfill leachate, groundwater and surface water (LFTGN02) | G20: ='SW MONTHLY CWMS01-S4.3'!G8 -> 31/01/2013 | H20: Accuracy of testing equipment
E21: 342 | G21: ='SW MONTHLY CWMS01-S4.3'!G9 -> 27/02/2013
E22: 265 | G22: ='SW MONTHLY CWMS01-S4.3'!G10 -> 20/03/2013
A23: CWMS03B | B23: Dissolved Oxygen | D23: Spot Sample | E23: 7.3 | F23: Methods used shall be in accordance with Agency guidance document ‘Guidance on monitoring of landfill leachate, groundwater and surface water (LFTGN02) | G23: ='SW MONTHLY CWMS01-S4.3'!G8 -> 31/01/2013 | H23: Accuracy of testing equipment
E24: 9.7 | G24: ='SW MONTHLY CWMS01-S4.3'!G9 -> 27/02/2013
E25: 6.4 | G25: ='SW MONTHLY CWMS01-S4.3'!G10 -> 20/03/2013
A26: CWMS03B | B26: BOD+ATU (5Day) | D26: Spot Sample | E26: <1 | F26: Methods used shall be in accordance with Agency guidance document ‘Guidance on monitoring of landfill leachate, groundwater and surface water (LFTGN02) | G26: ='SW MONTHLY CWMS01-S4.3'!G8 -> 31/01/2013 | H26: Accuracy of testing equipment
E27: <1 | G27: ='SW MONTHLY CWMS01-S4.3'!G9 -> 27/02/2013
E28: 1 | G28: ='SW MONTHLY CWMS01-S4.3'!G10 -> 20/03/2013
A29: CWMS03B | B29: COD (total) | D29: Spot Sample | E29: 18 | F29: Methods used shall be in accordance with Agency guidance document ‘Guidance on monitoring of landfill leachate, groundwater and surface water (LFTGN02) | G29: ='SW MONTHLY CWMS01-S4.3'!G8 -> 31/01/2013 | H29: Accuracy of testing equipment
E30: 18 | G30: ='SW MONTHLY CWMS01-S4.3'!G9 -> 27/02/2013
E31: <11 | G31: ='SW MONTHLY CWMS01-S4.3'!G10 -> 20/03/2013
A32: [1] The result given is the maximum value (or the minimum value in the case of a limit that is expressed as a minimum) obtained during the reporting period, expressed in the same terms as the emission limit value. Where the emission limit value is expressed as a range, the result is given as the ‘minimum – maximum’ measured values.
A33: [2] Where an internationally recognised standard test method is used the reference number is given. Where another method that has been formally agreed with the Agency is used, then the appropriate identifier is given. In other cases the principal technique is stated, e.g. gas chromatography.
A34: [3] For non-continuous measurements the date and time of the sample that produced the result is given. For continuous measurements the percentage of the process operating time covered by the result is given.
A35: [4] The uncertainty associated with the quoted result at the 95% confidence interval, unless otherwise stated.
B36: Signed …Antonio Montinaro…………………. ………. | E36: ='SW MONTHLY CWMS01-S4.3'!E36 -> Date……08.04.2013…………………..
B37: (Authorised to sign as representative of Operator)

Sheet SW MONTHLY CWMS05-S4.3
A1: Permit Number: TP3835LV | E1: Operator: | F1: SI Green UK Limited
A3: Installation: | B3: Cwmrhydyceirw Quarry | E3: Form Number: | F3: Water 1 -15th October 2008
A5: ='SW MONTHLY CWMS01-S4.3'!A5:H5 -> Reporting of emissions to water (other than to sewer) for the period from 01 Jan 2013……to……31 Mar 2013
A10: Emission Point | B10: Substance /Parameter | C10: Emission Limit Value | D10: Reference Period | E10: Result [1] | F10: Test Method [2] | G10: Sample Date and Times [3] | H10: Uncertainty [4]
A11: CWMS05 | B11: Suspended Solids | C11: 40 mg/litre | D11: Spot Sample | E11: 1 | F11: Methods used shall be in accordance with Agency guidance document ‘Guidance on monitoring of landfill leachate, groundwater and surface water (LFTGN02) | G11: ='SW MONTHLY CWMS01-S4.3'!G8 -> 31/01/2013 | H11: Accuracy of testing equipment
E12: 5 | G12: ='SW MONTHLY CWMS01-S4.3'!G9 -> 27/02/2013
E13: 5 | G13: ='SW MONTHLY CWMS01-S4.3'!G10 -> 20/03/2013
A14: CWMS05 | B14: pH | C14: >6 and <9 pH units | D14: Spot Sample | E14: 7.8 | F14: Methods used shall be in accordance with Agency guidance document ‘Guidance on monitoring of landfill leachate, groundwater and surface water (LFTGN02) | G14: ='SW MONTHLY CWMS01-S4.3'!G8 -> 31/01/2013 | H14: Accuracy of testing equipment
E15: 7.9 | G15: ='SW MONTHLY CWMS01-S4.3'!G9 -> 27/02/2013
E16: 7.9 | G16: ='SW MONTHLY CWMS01-S4.3'!G10 -> 20/03/2013
A17: CWMS05 | B17: Ammoniacal Nitrogen | C17: 1 mg/litre | D17: Spot Sample | E17: <0.27 | F17: Methods used shall be in accordance with Agency guidance document ‘Guidance on monitoring of landfill leachate, groundwater and surface water (LFTGN02) | G17: ='SW MONTHLY CWMS01-S4.3'!G8 -> 31/01/2013 | H17: Accuracy of testing equipment
E18: <0.27 | G18: ='SW MONTHLY CWMS01-S4.3'!G9 -> 27/02/2013
E19: <0.27 | G19: ='SW MONTHLY CWMS01-S4.3'!G10 -> 20/03/2013
A20: CWMS05 | B20: Chloride | C20: 100 mg/litre | D20: Spot Sample | E20: 13.9 | F20: Methods used shall be in accordance with Agency guidance document ‘Guidance on monitoring of landfill leachate, groundwater and surface water (LFTGN02) | G20: ='SW MONTHLY CWMS01-S4.3'!G8 -> 31/01/2013 | H20: Accuracy of testing equipment
E21: 12.9 | G21: ='SW MONTHLY CWMS01-S4.3'!G9 -> 27/02/2013
E22: 10.4 | G22: ='SW MONTHLY CWMS01-S4.3'!G10 -> 20/03/2013
A23: CWMS05 | B23: Electrical Conductivity | D23: Spot Sample | E23: 182 | F23: Methods used shall be in accordance with Agency guidance document ‘Guidance on monitoring of landfill leachate, groundwater and surface water (LFTGN02) | G23: ='SW MONTHLY CWMS01-S4.3'!G8 -> 31/01/2013 | H23: Accuracy of testing equipment
E24: 181 | G24: ='SW MONTHLY CWMS01-S4.3'!G9 -> 27/02/2013
E25: 173 | G25: ='SW MONTHLY CWMS01-S4.3'!G10 -> 20/03/2013
A26: CWMS05 | B26: Dissolved Oxygen | D26: Spot Sample | E26: 6.9 | F26: Methods used shall be in accordance with Agency guidance document ‘Guidance on monitoring of landfill leachate, groundwater and surface water (LFTGN02) | G26: ='SW MONTHLY CWMS01-S4.3'!G8 -> 31/01/2013 | H26: Accuracy of testing equipment
E27: 6.5 | G27: ='SW MONTHLY CWMS01-S4.3'!G9 -> 27/02/2013
E28: 7.1 | G28: ='SW MONTHLY CWMS01-S4.3'!G10 -> 20/03/2013
A29: CWMS05 | B29: BOD+ATU (5Day) | D29: Spot Sample | E29: <1 | F29: Methods used shall be in accordance with Agency guidance document ‘Guidance on monitoring of landfill leachate, groundwater and surface water (LFTGN02) | G29: ='SW MONTHLY CWMS01-S4.3'!G8 -> 31/01/2013 | H29: Accuracy of testing equipment
E30: <1 | G30: ='SW MONTHLY CWMS01-S4.3'!G9 -> 27/02/2013
E31: <1 | G31: ='SW MONTHLY CWMS01-S4.3'!G10 -> 20/03/2013
A32: CWMS05 | B32: COD (total) | D32: Spot Sample | E32: 14 | F32: Methods used shall be in accordance with Agency guidance document ‘Guidance on monitoring of landfill leachate, groundwater and surface water (LFTGN02) | G32: ='SW MONTHLY CWMS01-S4.3'!G8 -> 31/01/2013 | H32: Accuracy of testing equipment
E33: 12 | G33: ='SW MONTHLY CWMS01-S4.3'!G9 -> 27/02/2013
E34: <11 | G34: ='SW MONTHLY CWMS01-S4.3'!G10 -> 20/03/2013
A35: [1] The result given is the maximum value (or the minimum value in the case of a limit that is expressed as a minimum) obtained during the reporting period, expressed in the same terms as the emission limit value. Where the emission limit value is expressed as a range, the result is given as the ‘minimum – maximum’ measured values.
A36: [2] Where an internationally recognised standard test method is used the reference number is given. Where another method that has been formally agreed with the Agency is used, then the appropriate identifier is given. In other cases the principal technique is stated, e.g. gas chromatography.
A37: [3] For non-continuous measurements the date and time of the sample that produced the result is given. For continuous measurements the percentage of the process operating time covered by the result is given.
A38: [4] The uncertainty associated with the quoted result at the 95% confidence interval, unless otherwise stated.
B39: Signed …Antonio Montinaro………………. ………. | E39: ='SW MONTHLY CWMS01-S4.3'!E36 -> Date……08.04.2013…………………..
B40: (Authorised to sign as representative of Operator)

Sheet SW QUARTERLY CWMS01 S4.3
A1: Permit Number: | B1: TP3835LV | E1: Operator: | F1: SI Green UK Limited
A3: Installation: | B3: Cwmrhydyceirw Quarry | E3: Form Number: | F3: Water 1 -15th October 2008
A5: ='SW MONTHLY CWMS01-S4.3'!A5:H5 -> Reporting of emissions to water (other than to sewer) for the period from 01 Jan 2013……to……31 Mar 2013
A7: Emission Point | B7: Substance /Parameter | C7: Emission Limit Value | D7: Reference Period | E7: Result [1] | F7: Test Method [2] | G7: Sample Date and Times [3] | H7: Uncertainty [4]
A8: CWMS01 | B8: Cadmium | C8: mg/l | D8: Quarterly | E8: 0.0006 | G8: ='SW MONTHLY CWMS01-S4.3'!G10 -> 20/03/2013
B9: Calcium | C9: mg/l | D9: Quarterly | E9: 32 | G9: =G8 -> 20/03/2013
B10: Chromium | C10: mg/l | D10: Quarterly | E10: <0.002 | G10: =G9 -> 20/03/2013
B11: Copper | C11: mg/l | D11: Quarterly | E11: <0.009 | G11: =G10 -> 20/03/2013
B12: Iron | C12: mg/l | D12: Quarterly | E12: <0.23 | G12: =G11 -> 20/03/2013
B13: Lead | C13: mg/l | D13: Quarterly | E13: <0.006 | G13: =G12 -> 20/03/2013
B14: Magnesium | C14: mg/l | D14: Quarterly | E14: 4.02 | G14: =G13 -> 20/03/2013
B15: Manganese | C15: mg/l | D15: Quarterly | E15: 0.079 | G15: =G14 -> 20/03/2013
B16: Mercury | C16: mg/l | D16: Quarterly | E16: <0.0001 | G16: =G15 -> 20/03/2013
B17: Nickel | C17: mg/l | D17: Quarterly | E17: 0.004 | G17: =G16 -> 20/03/2013
B18: Potassium | C18: mg/l | D18: Quarterly | E18: 1.51 | G18: =G17 -> 20/03/2013
B19: Sodium | C19: mg/l | D19: Quarterly | E19: 21.9 | G19: =G18 -> 20/03/2013
B20: Zinc | C20: mg/l | D20: Quarterly | E20: 0.02 | G20: =G19 -> 20/03/2013
B21: Alkalinity as CaCO3 | C21: mg/l | D21: Quarterly | E21: 66 | G21: =G20 -> 20/03/2013
B22: TON as N | C22: mg/l | D22: Quarterly | E22: 1.35 | G22: =G21 -> 20/03/2013
B23: Sulphate | C23: mg/l | D23: Quarterly | E23: 30.4 | G23: =G22 -> 20/03/2013
B24: TOC as C | C24: mg/l | D24: Quarterly | E24: 2 | G24: =G23 -> 20/03/2013
B25: Cyanide, Total as CN | C25: mg/l | D25: Quarterly | E25: <0.009 | G25: =G24 -> 20/03/2013
B26: Phenols Mono | C26: mg/l | D26: Quarterly | E26: <0.15 | G26: =G25 -> 20/03/2013
B27: TPH >C6-C40 | C27: mg/l | D27: Quarterly | E27: <0.01 | G27: =G26 -> 20/03/2013
B28: TPH >C6-C8 | C28: mg/l | D28: Quarterly | E28: <10X10-3 | G28: =G27 -> 20/03/2013
B29: TPH> C8-C10 | C29: mg/l | D29: Quarterly | E29: <10X10-3 | G29: =G28 -> 20/03/2013
B30: TPH> C16-C24 | C30: mg/l | D30: Quarterly | E30: <10X10-3 | G30: =G29 -> 20/03/2013
B31: TPH> C24-C40 | C31: mg/l | D31: Quarterly | E31: <10X10-3 | G31: =G30 -> 20/03/2013
B32: TPH> C10-C16 | C32: mg/l | D32: Quarterly | E32: <10X10-3 | G32: =G31 -> 20/03/2013
A34: [1] The result given is the maximum value (or the minimum value in the case of a limit that is expressed as a minimum) obtained during the reporting period, expressed in the same terms as the emission limit value. Where the emission limit value is expressed as a range, the result is given as the ‘minimum – maximum’ measured values.
A36: [2] Where an internationally recognised standard test method is used the reference number is given. Where another method that has been formally agreed with the Agency is used, then the appropriate identifier is given. In other cases the principal technique is stated, e.g. gas chromatography.
A38: [3] For non-continuous measurements the date and time of the sample that produced the result is given. For continuous measurements the percentage of the process operating time covered by the result is given.
A40: [4] The uncertainty associated with the quoted result at the 95% confidence interval, unless otherwise stated.
B42: Signed …antonio Montinaro……………………………….. | D42: ='SW MONTHLY CWMS01-S4.3'!E36 -> Date……08.04.2013…………………..
B43: (Authorised to sign as representative of Operator)

Sheet SW QUARTERLY CWMS02 S4.3
A1: Permit Number: | B1: TP3835LV | E1: Operator: | F1: SI Green UK Limited
A3: Installation: | B3: Cwmrhydyceirw Quarry | E3: Form Number: | F3: Water 1 -15th October 2008
A5: ='SW MONTHLY CWMS01-S4.3'!A5:H5 -> Reporting of emissions to water (other than to sewer) for the period from 01 Jan 2013……to……31 Mar 2013
A7: Emission Point | B7: Substance /Parameter | C7: Emission Limit Value | D7: Reference Period | E7: Result [1] | F7: Test Method [2] | G7: Sample Date and Times [3] | H7: Uncertainty [4]
A8: CWMS02 | B8: Cadmium | C8: mg/l | D8: Quarterly | E8: <0.0006 | G8: ='SW QUARTERLY CWMS01 S4.3'!G8 -> 20/03/2013
B9: Calcium | C9: mg/l | D9: Quarterly | E9: 79.2 | G9: ='SW QUARTERLY CWMS01 S4.3'!G9 -> 20/03/2013
B10: Chromium | C10: mg/l | D10: Quarterly | E10: <0.0020 | G10: ='SW QUARTERLY CWMS01 S4.3'!G10 -> 20/03/2013
B11: Copper | C11: mg/l | D11: Quarterly | E11: <0.009 | G11: ='SW QUARTERLY CWMS01 S4.3'!G11 -> 20/03/2013
B12: Iron | C12: mg/l | D12: Quarterly | E12: 0.56 | G12: ='SW QUARTERLY CWMS01 S4.3'!G12 -> 20/03/2013
B13: Lead | C13: mg/l | D13: Quarterly | E13: <0.006 | G13: ='SW QUARTERLY CWMS01 S4.3'!G13 -> 20/03/2013
B14: Magnesium | C14: mg/l | D14: Quarterly | E14: 15.5 | G14: ='SW QUARTERLY CWMS01 S4.3'!G14 -> 20/03/2013
B15: Manganese | C15: mg/l | D15: Quarterly | E15: 0.134 | G15: ='SW QUARTERLY CWMS01 S4.3'!G15 -> 20/03/2013
B16: Mercury | C16: mg/l | D16: Quarterly | E16: <0.0001 | G16: ='SW QUARTERLY CWMS01 S4.3'!G16 -> 20/03/2013
B17: Nickel | C17: mg/l | D17: Quarterly | E17: <0.003 | G17: ='SW QUARTERLY CWMS01 S4.3'!G17 -> 20/03/2013
B18: Potassium | C18: mg/l | D18: Quarterly | E18: 11.8 | G18: ='SW QUARTERLY CWMS01 S4.3'!G18 -> 20/03/2013
B19: Sodium | C19: mg/l | D19: Quarterly | E19: 22.1 | G19: ='SW QUARTERLY CWMS01 S4.3'!G19 -> 20/03/2013
B20: Zinc | C20: mg/l | D20: Quarterly | E20: <0.018 | G20: ='SW QUARTERLY CWMS01 S4.3'!G20 -> 20/03/2013
B21: Alkalinity as CaCO3 | C21: mg/l | D21: Quarterly | E21: 160 | G21: ='SW QUARTERLY CWMS01 S4.3'!G21 -> 20/03/2013
B22: TON as N | C22: mg/l | D22: Quarterly | E22: <0.42 | G22: ='SW QUARTERLY CWMS01 S4.3'!G22 -> 20/03/2013
B23: Sulphate | C23: mg/l | D23: Quarterly | E23: 37.4 | G23: ='SW QUARTERLY CWMS01 S4.3'!G23 -> 20/03/2013
B24: TOC as C | C24: mg/l | D24: Quarterly | E24: 1.9 | G24: ='SW QUARTERLY CWMS01 S4.3'!G24 -> 20/03/2013
B25: Cyanide, Total as CN | C25: mg/l | D25: Quarterly | E25: <0.009 | G25: ='SW QUARTERLY CWMS01 S4.3'!G25 -> 20/03/2013
B26: Phenols Mono | C26: mg/l | D26: Quarterly | E26: <0.15 | G26: ='SW QUARTERLY CWMS01 S4.3'!G26 -> 20/03/2013
B27: TPH >C6-C40 | C27: mg/l | D27: Quarterly | E27: <10X10-3 | G27: ='SW QUARTERLY CWMS01 S4.3'!G27 -> 20/03/2013
B28: TPH >C6-C8 | C28: mg/l | D28: Quarterly | E28: <10X10-3 | G28: ='SW QUARTERLY CWMS01 S4.3'!G28 -> 20/03/2013
B29: TPH> C8-C10 | C29: mg/l | D29: Quarterly | E29: <10X10-3 | G29: ='SW QUARTERLY CWMS01 S4.3'!G29 -> 20/03/2013
B30: TPH> C16-C24 | C30: mg/l | D30: Quarterly | E30: <10X10-3 | G30: ='SW QUARTERLY CWMS01 S4.3'!G30 -> 20/03/2013
B31: TPH> C24-C40 | C31: mg/l | D31: Quarterly | E31: <10X10-3 | G31: ='SW QUARTERLY CWMS01 S4.3'!G31 -> 20/03/2013
B32: TPH> C10-C16 | C32: mg/l | D32: Quarterly | E32: <10X10-3 | G32: ='SW QUARTERLY CWMS01 S4.3'!G32 -> 20/03/2013
A34: [1] The result given is the maximum value (or the minimum value in the case of a limit that is expressed as a minimum) obtained during the reporting period, expressed in the same terms as the emission limit value. Where the emission limit value is expressed as a range, the result is given as the ‘minimum – maximum’ measured values.
A36: [2] Where an internationally recognised standard test method is used the reference number is given. Where another method that has been formally agreed with the Agency is used, then the appropriate identifier is given. In other cases the principal technique is stated, e.g. gas chromatography.
A38: [3] For non-continuous measurements the date and time of the sample that produced the result is given. For continuous measurements the percentage of the process operating time covered by the result is given.
A40: [4] The uncertainty associated with the quoted result at the 95% confidence interval, unless otherwise stated.
B42: Signed …Antonio Montinaro……………………………….. | D42: ='SW MONTHLY CWMS01-S4.3'!E36 -> Date……08.04.2013…………………..
B43: (Authorised to sign as representative of Operator)

Sheet SW QUARTERLY CWMS03A S4.3
A1: Permit Number: | B1: TP3835LV | E1: Operator: | F1: SI Green UK Limited
A3: Installation: | B3: Cwmrhydyceirw Quarry | E3: Form Number: | F3: Water 1 -15th October 2008
A5: ='SW MONTHLY CWMS01-S4.3'!A5:H5 -> Reporting of emissions to water (other than to sewer) for the period from 01 Jan 2013……to……31 Mar 2013
A7: Emission Point | B7: Substance /Parameter | C7: Emission Limit Value | D7: Reference Period | E7: Result [1] | F7: Test Method [2] | G7: Sample Date and Times [3] | H7: Uncertainty [4]
A8: CWMS03A | B8: Cadmium | C8: mg/l | D8: Quarterly | E8: <0.0006 | G8: ='SW QUARTERLY CWMS01 S4.3'!G8 -> 20/03/2013
B9: Calcium | C9: mg/l | D9: Quarterly | E9: 30 | G9: ='SW QUARTERLY CWMS01 S4.3'!G9 -> 20/03/2013
B10: Chromium | C10: mg/l | D10: Quarterly | E10: <0.002 | G10: ='SW QUARTERLY CWMS01 S4.3'!G10 -> 20/03/2013
B11: Copper | C11: mg/l | D11: Quarterly | E11: <0.009 | G11: ='SW QUARTERLY CWMS01 S4.3'!G11 -> 20/03/2013
B12: Iron | C12: mg/l | D12: Quarterly | E12: <0.23 | G12: ='SW QUARTERLY CWMS01 S4.3'!G12 -> 20/03/2013
B13: Lead | C13: mg/l | D13: Quarterly | E13: <0.006 | G13: ='SW QUARTERLY CWMS01 S4.3'!G13 -> 20/03/2013
B14: Magnesium | C14: mg/l | D14: Quarterly | E14: 3.48 | G14: ='SW QUARTERLY CWMS01 S4.3'!G14 -> 20/03/2013
B15: Manganese | C15: mg/l | D15: Quarterly | E15: 0.054 | G15: ='SW QUARTERLY CWMS01 S4.3'!G15 -> 20/03/2013
B16: Mercury | C16: mg/l | D16: Quarterly | E16: <0.0001 | G16: ='SW QUARTERLY CWMS01 S4.3'!G16 -> 20/03/2013
B17: Nickel | C17: mg/l | D17: Quarterly | E17: 0.004 | G17: ='SW QUARTERLY CWMS01 S4.3'!G17 -> 20/03/2013
B18: Potassium | C18: mg/l | D18: Quarterly | E18: 1.4 | G18: ='SW QUARTERLY CWMS01 S4.3'!G18 -> 20/03/2013
B19: Sodium | C19: mg/l | D19: Quarterly | E19: 16.9 | G19: ='SW QUARTERLY CWMS01 S4.3'!G19 -> 20/03/2013
B20: Zinc | C20: mg/l | D20: Quarterly | E20: 0.02 | G20: ='SW QUARTERLY CWMS01 S4.3'!G20 -> 20/03/2013
B21: Alkalinity as CaCO3 | C21: mg/l | D21: Quarterly | E21: 65.8 | G21: ='SW QUARTERLY CWMS01 S4.3'!G21 -> 20/03/2013
B22: TON as N | C22: mg/l | D22: Quarterly | E22: 1.23 | G22: ='SW QUARTERLY CWMS01 S4.3'!G22 -> 20/03/2013
B23: Sulphate | C23: mg/l | D23: Quarterly | E23: 25.4 | G23: ='SW QUARTERLY CWMS01 S4.3'!G23 -> 20/03/2013
B24: TOC as C | C24: mg/l | D24: Quarterly | E24: 1.8 | G24: ='SW QUARTERLY CWMS01 S4.3'!G24 -> 20/03/2013
B25: Cyanide, Total as CN | C25: mg/l | D25: Quarterly | E25: <0.009 | G25: ='SW QUARTERLY CWMS01 S4.3'!G25 -> 20/03/2013
B26: Phenols Mono | C26: mg/l | D26: Quarterly | E26: <0.15 | G26: ='SW QUARTERLY CWMS01 S4.3'!G26 -> 20/03/2013
B27: TPH >C6-C40 | C27: mg/l | D27: Quarterly | E27: <10X10-3 | G27: ='SW QUARTERLY CWMS01 S4.3'!G27 -> 20/03/2013
B28: TPH >C6-C8 | C28: mg/l | D28: Quarterly | E28: <10X10-3 | G28: ='SW QUARTERLY CWMS01 S4.3'!G28 -> 20/03/2013
B29: TPH> C8-C10 | C29: mg/l | D29: Quarterly | E29: <10X10-3 | G29: ='SW QUARTERLY CWMS01 S4.3'!G29 -> 20/03/2013
B30: TPH> C16-C24 | C30: mg/l | D30: Quarterly | E30: <10X10-3 | G30: ='SW QUARTERLY CWMS01 S4.3'!G30 -> 20/03/2013
B31: TPH> C24-C40 | C31: mg/l | D31: Quarterly | E31: <10X10-3 | G31: ='SW QUARTERLY CWMS01 S4.3'!G31 -> 20/03/2013
B32: TPH> C10-C16 | C32: mg/l | D32: Quarterly | E32: <10X10-3 | G32: ='SW QUARTERLY CWMS01 S4.3'!G32 -> 20/03/2013
A34: [1] The result given is the maximum value (or the minimum value in the case of a limit that is expressed as a minimum) obtained during the reporting period, expressed in the same terms as the emission limit value. Where the emission limit value is expressed as a range, the result is given as the ‘minimum – maximum’ measured values.
A36: [2] Where an internationally recognised standard test method is used the reference number is given. Where another method that has been formally agreed with the Agency is used, then the appropriate identifier is given. In other cases the principal technique is stated, e.g. gas chromatography.
A38: [3] For non-continuous measurements the date and time of the sample that produced the result is given. For continuous measurements the percentage of the process operating time covered by the result is given.
A40: [4] The uncertainty associated with the quoted result at the 95% confidence interval, unless otherwise stated.
B42: Signed ……Antonio Montinaro…………………………….. | D42: ='SW MONTHLY CWMS01-S4.3'!E36 -> Date……08.04.2013…………………..
B43: (Authorised to sign as representative of Operator)

Sheet SW QUARTERLY CWMS03B S4.3
A1: Permit Number: | B1: TP3835LV | E1: Operator: | F1: SI Green UK Limited
A3: Installation: | B3: Cwmrhydyceirw Quarry | E3: Form Number: | F3: Water 1 -15th October 2008
A5: ='SW MONTHLY CWMS01-S4.3'!A5:H5 -> Reporting of emissions to water (other than to sewer) for the period from 01 Jan 2013……to……31 Mar 2013
A7: Emission Point | B7: Substance /Parameter | C7: Emission Limit Value | D7: Reference Period | E7: Result [1] | F7: Test Method [2] | G7: Sample Date and Times [3] | H7: Uncertainty [4]
A8: CWMS03B | B8: Cadmium | C8: mg/l | D8: Quarterly | E8: <0.0006 | G8: ='SW QUARTERLY CWMS01 S4.3'!G8 -> 20/03/2013
B9: Calcium | C9: mg/l | D9: Quarterly | E9: 30.9 | G9: ='SW QUARTERLY CWMS01 S4.3'!G9 -> 20/03/2013
B10: Chromium | C10: mg/l | D10: Quarterly | E10: <0.002 | G10: ='SW QUARTERLY CWMS01 S4.3'!G10 -> 20/03/2013
B11: Copper | C11: mg/l | D11: Quarterly | E11: <0.009 | G11: ='SW QUARTERLY CWMS01 S4.3'!G11 -> 20/03/2013
B12: Iron | C12: mg/l | D12: Quarterly | E12: <0.23 | G12: ='SW QUARTERLY CWMS01 S4.3'!G12 -> 20/03/2013
B13: Lead | C13: mg/l | D13: Quarterly | E13: <0.006 | G13: ='SW QUARTERLY CWMS01 S4.3'!G13 -> 20/03/2013
B14: Magnesium | C14: mg/l | D14: Quarterly | E14: 3.86 | G14: ='SW QUARTERLY CWMS01 S4.3'!G14 -> 20/03/2013
B15: Manganese | C15: mg/l | D15: Quarterly | E15: 0.055 | G15: ='SW QUARTERLY CWMS01 S4.3'!G15 -> 20/03/2013
B16: Mercury | C16: mg/l | D16: Quarterly | E16: <0.0001 | G16: ='SW QUARTERLY CWMS01 S4.3'!G16 -> 20/03/2013
B17: Nickel | C17: mg/l | D17: Quarterly | E17: 0.004 | G17: ='SW QUARTERLY CWMS01 S4.3'!G17 -> 20/03/2013
B18: Potassium | C18: mg/l | D18: Quarterly | E18: 1.37 | G18: ='SW QUARTERLY CWMS01 S4.3'!G18 -> 20/03/2013
B19: Sodium | C19: mg/l | D19: Quarterly | E19: 19.3 | G19: ='SW QUARTERLY CWMS01 S4.3'!G19 -> 20/03/2013
B20: Zinc | C20: mg/l | D20: Quarterly | E20: <0.018 | G20: ='SW QUARTERLY CWMS01 S4.3'!G20 -> 20/03/2013
B21: Alkalinity as CaCO3 | C21: mg/l | D21: Quarterly | E21: 65.2 | G21: ='SW QUARTERLY CWMS01 S4.3'!G21 -> 20/03/2013
B22: TON as N | C22: mg/l | D22: Quarterly | E22: 1.2 | G22: ='SW QUARTERLY CWMS01 S4.3'!G22 -> 20/03/2013
B23: Sulphate | C23: mg/l | D23: Quarterly | E23: 25.7 | G23: ='SW QUARTERLY CWMS01 S4.3'!G23 -> 20/03/2013
B24: TOC as C | C24: mg/l | D24: Quarterly | E24: 1.7 | G24: ='SW QUARTERLY CWMS01 S4.3'!G24 -> 20/03/2013
B25: Cyanide, Total as CN | C25: mg/l | D25: Quarterly | E25: <0.009 | G25: ='SW QUARTERLY CWMS01 S4.3'!G25 -> 20/03/2013
B26: Phenols Mono | C26: mg/l | D26: Quarterly | E26: <0.15 | G26: ='SW QUARTERLY CWMS01 S4.3'!G26 -> 20/03/2013
B27: TPH >C6-C40 | C27: mg/l | D27: Quarterly | E27: <10X10-3 | G27: ='SW QUARTERLY CWMS01 S4.3'!G27 -> 20/03/2013
B28: TPH >C6-C8 | C28: mg/l | D28: Quarterly | E28: <10X10-3 | G28: ='SW QUARTERLY CWMS01 S4.3'!G28 -> 20/03/2013
B29: TPH> C8-C10 | C29: mg/l | D29: Quarterly | E29: <10X10-3 | G29: ='SW QUARTERLY CWMS01 S4.3'!G29 -> 20/03/2013
B30: TPH> C16-C24 | C30: mg/l | D30: Quarterly | E30: <10X10-3 | G30: ='SW QUARTERLY CWMS01 S4.3'!G30 -> 20/03/2013
B31: TPH> C24-C40 | C31: mg/l | D31: Quarterly | E31: <10X10-3 | G31: ='SW QUARTERLY CWMS01 S4.3'!G31 -> 20/03/2013
B32: TPH> C10-C16 | C32: mg/l | D32: Quarterly | E32: <10X10-3 | G32: ='SW QUARTERLY CWMS01 S4.3'!G32 -> 20/03/2013
A34: [1] The result given is the maximum value (or the minimum value in the case of a limit that is expressed as a minimum) obtained during the reporting period, expressed in the same terms as the emission limit value. Where the emission limit value is expressed as a range, the result is given as the ‘minimum – maximum’ measured values.
A36: [2] Where an internationally recognised standard test method is used the reference number is given. Where another method that has been formally agreed with the Agency is used, then the appropriate identifier is given. In other cases the principal technique is stated, e.g. gas chromatography.
A38: [3] For non-continuous measurements the date and time of the sample that produced the result is given. For continuous measurements the percentage of the process operating time covered by the result is given.
A40: [4] The uncertainty associated with the quoted result at the 95% confidence interval, unless otherwise stated.
B42: Signed …Antonio Montinaro……………………………….. | D42: ='SW MONTHLY CWMS01-S4.3'!E36 -> Date……08.04.2013…………………..
B43: (Authorised to sign as representative of Operator)

Sheet SW QUARTERLY CWMS05 S4.3
A1: Permit Number: | B1: TP3835LV | E1: Operator: | F1: SI Green UK Limited
A3: Installation: | B3: Cwmrhydyceirw Quarry | E3: Form Number: | F3: Water 1 -15th October 2008
A5: ='SW MONTHLY CWMS01-S4.3'!A5:H5 -> Reporting of emissions to water (other than to sewer) for the period from 01 Jan 2013……to……31 Mar 2013
A7: Emission Point | B7: Substance /Parameter | C7: Emission Limit Value | D7: Reference Period | E7: Result [1] | F7: Test Method [2] | G7: Sample Date and Times [3] | H7: Uncertainty [4]
A8: CWMS05 | B8: Cadmium | C8: mg/l | D8: Quarterly | E8: <0.0006 | G8: ='SW QUARTERLY CWMS01 S4.3'!G8 -> 20/03/2013
B9: Calcium | C9: mg/l | D9: Quarterly | E9: 24.7 | G9: ='SW QUARTERLY CWMS01 S4.3'!G9 -> 20/03/2013
B10: Chromium | C10: mg/l | D10: Quarterly | E10: <0.0020 | G10: ='SW QUARTERLY CWMS01 S4.3'!G10 -> 20/03/2013
B11: Copper | C11: mg/l | D11: Quarterly | E11: <0.009 | G11: ='SW QUARTERLY CWMS01 S4.3'!G11 -> 20/03/2013
B12: Iron | C12: mg/l | D12: Quarterly | E12: <0.23 | G12: ='SW QUARTERLY CWMS01 S4.3'!G12 -> 20/03/2013
B13: Lead | C13: mg/l | D13: Quarterly | E13: <0.006 | G13: ='SW QUARTERLY CWMS01 S4.3'!G13 -> 20/03/2013
B14: Magnesium | C14: mg/l | D14: Quarterly | E14: 1.87 | G14: ='SW QUARTERLY CWMS01 S4.3'!G14 -> 20/03/2013
B15: Manganese | C15: mg/l | D15: Quarterly | E15: 0.027 | G15: ='SW QUARTERLY CWMS01 S4.3'!G15 -> 20/03/2013
B16: Mercury | C16: mg/l | D16: Quarterly | E16: <0.0001 | G16: ='SW QUARTERLY CWMS01 S4.3'!G16 -> 20/03/2013
B17: Nickel | C17: mg/l | D17: Quarterly | E17: <0.003 | G17: ='SW QUARTERLY CWMS01 S4.3'!G17 -> 20/03/2013
B18: Potassium | C18: mg/l | D18: Quarterly | E18: 1 | G18: ='SW QUARTERLY CWMS01 S4.3'!G18 -> 20/03/2013
B19: Sodium | C19: mg/l | D19: Quarterly | E19: 6.39 | G19: ='SW QUARTERLY CWMS01 S4.3'!G19 -> 20/03/2013
B20: Zinc | C20: mg/l | D20: Quarterly | E20: <0.018 | G20: ='SW QUARTERLY CWMS01 S4.3'!G20 -> 20/03/2013
B21: Alkalinity as CaCO3 | C21: mg/l | D21: Quarterly | E21: 59.9 | G21: ='SW QUARTERLY CWMS01 S4.3'!G21 -> 20/03/2013
B22: TON as N | C22: mg/l | D22: Quarterly | E22: 1.07 | G22: ='SW QUARTERLY CWMS01 S4.3'!G22 -> 20/03/2013
B23: Sulphate | C23: mg/l | D23: Quarterly | E23: 12.1 | G23: ='SW QUARTERLY CWMS01 S4.3'!G23 -> 20/03/2013
B24: TOC as C | C24: mg/l | D24: Quarterly | E24: 1.7 | G24: ='SW QUARTERLY CWMS01 S4.3'!G24 -> 20/03/2013
B25: Cyanide, Total as CN | C25: mg/l | D25: Quarterly | E25: <0.009 | G25: ='SW QUARTERLY CWMS01 S4.3'!G25 -> 20/03/2013
B26: Phenols Mono | C26: mg/l | D26: Quarterly | E26: <0.15 | G26: ='SW QUARTERLY CWMS01 S4.3'!G26 -> 20/03/2013
B27: TPH >C6-C40 | C27: mg/l | D27: Quarterly | E27: <10X10-3 | G27: ='SW QUARTERLY CWMS01 S4.3'!G27 -> 20/03/2013
B28: TPH >C6-C8 | C28: mg/l | D28: Quarterly | E28: <10X10-3 | G28: ='SW QUARTERLY CWMS01 S4.3'!G28 -> 20/03/2013
B29: TPH> C8-C10 | C29: mg/l | D29: Quarterly | E29: <10X10-3 | G29: ='SW QUARTERLY CWMS01 S4.3'!G29 -> 20/03/2013
B30: TPH> C16-C24 | C30: mg/l | D30: Quarterly | E30: <10X10-3 | G30: ='SW QUARTERLY CWMS01 S4.3'!G30 -> 20/03/2013
B31: TPH> C24-C40 | C31: mg/l | D31: Quarterly | E31: <10X10-3 | G31: ='SW QUARTERLY CWMS01 S4.3'!G31 -> 20/03/2013
B32: TPH> C10-C16 | C32: mg/l | D32: Quarterly | E32: <10X10-3 | G32: ='SW QUARTERLY CWMS01 S4.3'!G32 -> 20/03/2013
A34: [1] The result given is the maximum value (or the minimum value in the case of a limit that is expressed as a minimum) obtained during the reporting period, expressed in the same terms as the emission limit value. Where the emission limit value is expressed as a range, the result is given as the ‘minimum – maximum’ measured values.
A36: [2] Where an internationally recognised standard test method is used the reference number is given. Where another method that has been formally agreed with the Agency is used, then the appropriate identifier is given. In other cases the principal technique is stated, e.g. gas chromatography.
A38: [3] For non-continuous measurements the date and time of the sample that produced the result is given. For continuous measurements the percentage of the process operating time covered by the result is given.
A40: [4] The uncertainty associated with the quoted result at the 95% confidence interval, unless otherwise stated.
B42: Signed …Antonio Montinaro……………………………….. | D42: ='SW MONTHLY CWMS01-S4.3'!E36 -> Date……08.04.2013…………………..
B43: (Authorised to sign as representative of Operator)

Sheet Emissions to Sewer Cond 2.5.1
A1: Permit Number: | B1: TP3835LV | E1: Operator: | F1: SI Green UK Limited
A3: Installation: | B3: Cwmrhydyceirw Quarry | E3: Form Number: | F3: Sewer 1 - 15th October 2008
A5: ='SW MONTHLY CWMS01-S4.3'!A5:H5 -> Reporting of emissions to water (other than to sewer) for the period from 01 Jan 2013……to……31 Mar 2013
A7: Emission Point | B7: Substance /Parameter | C7: Emission Limit Value | D7: Reference Period | E7: Result [1] | F7: Test Method [2] | G7: Sample Date and Times [3] | H7: Uncertainty [4]
A8: Discharge Point to Foul Sewer Treated Leachate | B8: Volume | C8: 440.29 m3/day | D8: Daily total m3 | E8: 39626 | F8: To Be Agreed With The Agency | G8: n/a | H8: flow meter
B9: Rate of discharge | C9: 18.35 m3/hour | D9: Daily maximum
A11: [1] The result given is the maximum value (or the minimum value in the case of a limit that is expressed as a minimum) obtained during the reporting period, expressed in the same terms as the emission limit value. Where the emission limit value is expressed as a range, the result is given as the ‘minimum – maximum’ measured values.
A13: [2] Where an internationally recognised standard test method is used the reference number is given. Where another method that has been formally agreed with the Agency is used, then the appropriate identifier is given. In other cases the principal technique is stated, e.g. gas chromatography.
A15: [3] For non-continuous measurements the date and time of the sample that produced the result is given. For continuous measurements the percentage of the process operating time covered by the result is given.
A17: [4] The uncertainty associated with the quoted result at the 95% confidence interval, unless otherwise stated.
B19: Signed …Antonio Montinaro……………………………….. | E19: ='SW MONTHLY CWMS01-S4.3'!E36 -> Date……08.04.2013…………………..
B20: (Authorised to sign as representative of Operator)

Sheet Sheet1
