Workbook

Sheet GW MONTHLY S4.5 CWMGW01B
A1: Permit Number: | B1: TP3835LV | E1: Operator: | F1: SI Green UK Limited
A3: Installation: | B3: Cwmrhydyceirw Quarry | E3: Form Number: | F3: Ground Water 1 - 15 October 2008
A5: Reporting of emissions to water (other than to sewer) for the period from 01 Jan 2013 - 31 Mar 2013
A7: Emission Point | B7: Substance /Parameter | C7: Emission Limit Value | D7: Reference Period | E7: Result [1] | F7: Test Method [2] | G7: Sample Date and Times [3] | H7: Uncertainty [4]
A8: CWMGW01 (SHALLOW) | B8: Water Level | C8: m | D8: Spot sample | E8: 70.05 | F8: Methods used shall be in accordance with Agency guidance document ‘Guidance on monitoring of landfill leachate, groundwater and surface water (LFTGN02) | G8: 31/01/2013 | H8: Accuracy of testing equipment
B9: pH | C9: >6 , <9 | D9: Spot sample | E9: 7.2 | G9: =G8 -> 31/01/2013
B10: Electrical Conductivity | C10: not set | D10: Spot sample | E10: 246 | G10: =G9 -> 31/01/2013
B11: Dissolved Oxygen | C11: not set | D11: Spot sample | E11: 4.2 | G11: =G10 -> 31/01/2013
B12: Ammoniacal Nitorgen | C12: 393 mg/l | D12: Spot sample | E12: <0,27 | G12: =G11 -> 31/01/2013
B13: Chloride | C13: 11900 mg/l | D13: Spot sample | E13: 19.5 | G13: =G12 -> 31/01/2013
A18: CWMGW01 (SHALLOW) | B18: Water Level | C18: m | D18: Spot sample | E18: 62.17 | F18: Methods used shall be in accordance with Agency guidance document ‘Guidance on monitoring of landfill leachate, groundwater and surface water (LFTGN02) | G18: 27/02/2013 | H18: Accuracy of testing equipment
B19: pH | C19: >6 , <9 | D19: Spot sample | E19: 7.3 | G19: =G18 -> 27/02/2013
B20: Electrical Conductivity | C20: not set | D20: Spot sample | E20: 258 | G20: =G18 -> 27/02/2013
B21: Dissolved Oxygen | C21: not set | D21: Spot sample | E21: 4.3 | G21: =G18 -> 27/02/2013
B22: Ammoniacal Nitorgen | C22: 393 mg/l | D22: Spot sample | E22: <0.27 | G22: =G18 -> 27/02/2013
B23: Chloride | C23: 11900 mg/l | D23: Spot sample | E23: 21.6 | G23: =G18 -> 27/02/2013
A28: CWMGW01 (SHALLOW) | B28: Water Level | C28: m | D28: Spot sample | E28: 61.35 | F28: Methods used shall be in accordance with Agency guidance document ‘Guidance on monitoring of landfill leachate, groundwater and surface water (LFTGN02) | G28: 20/03/2013 | H28: Accuracy of testing equipment
B29: pH | C29: >6 , <9 | D29: Spot sample | E29: 7.3 | G29: =G28 -> 20/03/2013
B30: Electrical Conductivity | C30: not set | D30: Spot sample | E30: 253 | G30: =G29 -> 20/03/2013
B31: Dissolved Oxygen | C31: not set | D31: Spot sample | E31: 2.9 | G31: =G30 -> 20/03/2013
B32: Ammoniacal Nitorgen | C32: 393 mg/l | D32: Spot sample | E32: <0.27 | G32: =G31 -> 20/03/2013
B33: Chloride | C33: 11900 mg/l | D33: Spot sample | E33: 20.3 | G33: =G32 -> 20/03/2013
A40: [1] The result given is the maximum value (or the minimum value in the case of a limit that is expressed as a minimum) obtained during the reporting period, expressed in the same terms as the emission limit value. Where the emission limit value is expressed as a range, the result is given as the ‘minimum – maximum’ measured values.
A42: [2] Where an internationally recognised standard test method is used the reference number is given. Where another method that has been formally agreed with the Agency is used, then the appropriate identifier is given. In other cases the principal technique is stated, e.g. gas chromatography.
A44: [3] For non-continuous measurements the date and time of the sample that produced the result is given. For continuous measurements the percentage of the process operating time covered by the result is given.
A46: [4] The uncertainty associated with the quoted result at the 95% confidence interval, unless otherwise stated.
B48: Signed …Antonio Montinaro……………………………….. | E48: Date…08.04.2013……………………..
B49: (Authorised to sign as representative of Operator)

Sheet GW MONTHLY S4.5 CWMGW03
A1: Permit Number: | B1: TP3835LV | E1: Operator: | F1: SI Green UK Limited
A3: Installation: | B3: Cwmrhydyceirw Quarry | E3: Form Number: | F3: Ground Water 1 - 15 October 2008
A5: ='GW MONTHLY S4.5 CWMGW01B'!A5:H5 -> Reporting of emissions to water (other than to sewer) for the period from 01 Jan 2013 - 31 Mar 2013
A7: Emission Point | B7: Substance /Parameter | C7: Emission Limit Value | D7: Reference Period | E7: Result [1] | F7: Test Method [2] | G7: Sample Date and Times [3] | H7: Uncertainty [4]
A8: CWMGW03 REPLACEMENT | B8: Water Level | C8: m | D8: Spot sample | E8: 35.27 | F8: Methods used shall be in accordance with Agency guidance document ‘Guidance on monitoring of landfill leachate, groundwater and surface water (LFTGN02) | G8: 31/01/2013 | H8: Accuracy of testing equipment
B9: pH | C9: >6 , <9 | D9: Spot sample | E9: 7.1 | G9: =G8 -> 31/01/2013
B10: Electrical Conductivity | C10: not set | D10: Spot sample | E10: 469 | G10: =G9 -> 31/01/2013
B11: Dissolved Oxygen | C11: not set | D11: Spot sample | E11: 1.4 | G11: =G10 -> 31/01/2013
B12: Cadmium | C12: 0.075 mg/l | D12: Spot sample | E12: 0.0009 | G12: =G11 -> 31/01/2013
B13: Nickel | C13: 2.6 mg/l | D13: Spot sample | E13: 0.007 | G13: =G12 -> 31/01/2013
B14: Ammoniacal Nitorgen | C14: 393 mg/l | D14: Spot sample | E14: <0,27 | G14: =G13 -> 31/01/2013
B15: Chloride | C15: 11900 mg/l | D15: Spot sample | E15: 19 | G15: =G14 -> 31/01/2013
B16: Napthalene | C16: 0.062 mg/l | D16: Spot sample | E16: <2.0 x 10-3 | G16: =G15 -> 31/01/2013
B17: Pentachlorophenol | C17: 1 mg/l | D17: Spot sample | E17: <1.0 x 10-3 | G17: =G8 -> 31/01/2013
A18: CWMGW03 REPLACEMENT | B18: Water Level (mAOD) | C18: m | D18: Spot sample | E18: 34.82 | F18: Methods used shall be in accordance with Agency guidance document ‘Guidance on monitoring of landfill leachate, groundwater and surface water (LFTGN02) | G18: 27/02/2013 | H18: Accuracy of testing equipment
B19: pH | C19: >6 , <9 | D19: Spot sample | E19: 7.1 | G19: =G18 -> 27/02/2013
B20: Electrical Conductivity | C20: not set | D20: Spot sample | E20: 473 | G20: =G19 -> 27/02/2013
B21: Dissolved Oxygen | C21: not set | D21: Spot sample | E21: 1.8 | G21: =G20 -> 27/02/2013
B22: Cadmium | C22: 0.075 mg/l | D22: Spot sample | E22: <0.0006 | G22: =G21 -> 27/02/2013
B23: Nickel | C23: 2.6 mg/l | D23: Spot sample | E23: <0.003 | G23: =G22 -> 27/02/2013
B24: Ammoniacal Nitorgen | C24: 393 mg/l | D24: Spot sample | E24: <0,27 | G24: =G23 -> 27/02/2013
B25: Chloride | C25: 11900 mg/l | D25: Spot sample | E25: 22.8 | G25: =G24 -> 27/02/2013
B26: Napthalene | C26: 0.062 mg/l | D26: Spot sample | E26: <2.0 x 10-3 | G26: =G25 -> 27/02/2013
B27: Pentachlorophenol | C27: 1 mg/l | D27: Spot sample | E27: <1.0 x 10-3 | G27: =G26 -> 27/02/2013
A28: CWMGW03 REPLACEMENT | B28: Water Level (mAOD) | D28: Spot sample | E28: 34.77 | F28: Methods used shall be in accordance with Agency guidance document ‘Guidance on monitoring of landfill leachate, groundwater and surface water (LFTGN02) | G28: 20/03/2013 | H28: Accuracy of testing equipment
B29: pH | C29: >6 , <9 | D29: Spot sample | E29: 7 | G29: =G28 -> 20/03/2013
B30: Electrical Conductivity | C30: not set | D30: Spot sample | E30: 461 | G30: =G29 -> 20/03/2013
B31: Dissolved Oxygen | C31: not set | D31: Spot sample | E31: <0.5 | G31: =G30 -> 20/03/2013
B32: Cadmium | C32: 0.075 mg/l | D32: Spot sample | E32: 0.01 | G32: =G31 -> 20/03/2013
B33: Nickel | C33: 2.6 mg/l | D33: Spot sample | E33: 0.188 | G33: =G32 -> 20/03/2013
B34: Ammoniacal Nitorgen | C34: 393 mg/l | D34: Spot sample | E34: <0.27 | G34: =G33 -> 20/03/2013
B35: Chloride | C35: 11900 mg/l | D35: Spot sample | E35: 15.4 | G35: =G34 -> 20/03/2013
B36: Napthalene | C36: 0.062 mg/l | D36: Spot sample | E36: <2.0 x 10-3 | G36: =G35 -> 20/03/2013
B37: Pentachlorophenol | C37: 1 mg/l | D37: Spot sample | E37: <1.0 x 10-3 | G37: =G36 -> 20/03/2013
A40: [1] The result given is the maximum value (or the minimum value in the case of a limit that is expressed as a minimum) obtained during the reporting period, expressed in the same terms as the emission limit value. Where the emission limit value is expressed as a range, the result is given as the ‘minimum – maximum’ measured values.
A42: [2] Where an internationally recognised standard test method is used the reference number is given. Where another method that has been formally agreed with the Agency is used, then the appropriate identifier is given. In other cases the principal technique is stated, e.g. gas chromatography.
A44: [3] For non-continuous measurements the date and time of the sample that produced the result is given. For continuous measurements the percentage of the process operating time covered by the result is given.
A46: [4] The uncertainty associated with the quoted result at the 95% confidence interval, unless otherwise stated.
B48: Signed ……Antonio Montinaro…………………………….. | E48: ='GW MONTHLY S4.5 CWMGW01B'!E48:G48 -> Date…08.04.2013……………………..
B49: (Authorised to sign as representative of Operator)

Sheet GW MONTHLY S4.5 CWMGW04
A1: Permit Number: | B1: TP3835LV | E1: Operator: | F1: SI Green UK Limited
A3: Installation: | B3: Cwmrhydyceirw Quarry | E3: Form Number: | F3: Ground Water 1 - 15 October 2008
A5: ='GW MONTHLY S4.5 CWMGW01B'!A5:H5 -> Reporting of emissions to water (other than to sewer) for the period from 01 Jan 2013 - 31 Mar 2013
A7: Emission Point | B7: Substance /Parameter | C7: Emission Limit Value | D7: Reference Period | E7: Result [1] | F7: Test Method [2] | G7: Sample Date and Times [3] | H7: Uncertainty [4]
A8: CWMGW04 (REPLACEMENT) | B8: Water Level | C8: m | D8: Spot sample | E8: 38.19 | F8: Methods used shall be in accordance with Agency guidance document ‘Guidance on monitoring of landfill leachate, groundwater and surface water (LFTGN02) | G8: 31/01/2013 | H8: Accuracy of testing equipment
B9: pH | C9: >6 , <9 | D9: Spot sample | E9: 7 | G9: =G8 -> 31/01/2013
B10: Electrical Conductivity | C10: not set | D10: Spot sample | E10: 336 | G10: =G9 -> 31/01/2013
B11: Dissolved Oxygen | C11: not set | D11: Spot sample | E11: 1.3 | G11: =G10 -> 31/01/2013
B12: Ammoniacal Nitorgen | C12: 393 mg/l | D12: Spot sample | E12: <0,27 | G12: =G11 -> 31/01/2013
B13: Chloride | C13: 11900 mg/l | D13: Spot sample | E13: 27.3 | G13: =G12 -> 31/01/2013
A18: CWMGW04 (REPLACEMENT) | B18: Water Level | C18: m | D18: Spot sample | E18: 37.34 | F18: Methods used shall be in accordance with Agency guidance document ‘Guidance on monitoring of landfill leachate, groundwater and surface water (LFTGN02) | G18: 27/02/2013 | H18: Accuracy of testing equipment
B19: pH | C19: >6 , <9 | D19: Spot sample | E19: 7 | G19: =G18 -> 27/02/2013
B20: Electrical Conductivity | C20: not set | D20: Spot sample | E20: 338 | G20: =G19 -> 27/02/2013
B21: Dissolved Oxygen | C21: not set | D21: Spot sample | E21: 1 | G21: =G20 -> 27/02/2013
B22: Ammoniacal Nitorgen | C22: 393 mg/l | D22: Spot sample | E22: <0.27 | G22: =G21 -> 27/02/2013
B23: Chloride | C23: 11900 mg/l | D23: Spot sample | E23: 25.2 | G23: =G22 -> 27/02/2013
A28: CWMGW04 (REPLACEMENT) | B28: Water Level | C28: m | D28: Spot sample | E28: 37.49 | F28: Methods used shall be in accordance with Agency guidance document ‘Guidance on monitoring of landfill leachate, groundwater and surface water (LFTGN02) | G28: 20/03/2013 | H28: Accuracy of testing equipment
B29: pH | C29: >6 , <9 | D29: Spot sample | E29: 7 | G29: =G28 -> 20/03/2013
B30: Electrical Conductivity | C30: not set | D30: Spot sample | E30: 294 | G30: =G29 -> 20/03/2013
B31: Dissolved Oxygen | C31: not set | D31: Spot sample | E31: 1.5 | G31: =G30 -> 20/03/2013
B32: Ammoniacal Nitorgen | C32: 393 mg/l | D32: Spot sample | E32: <0.27 | G32: =G31 -> 20/03/2013
B33: Chloride | C33: 11900 mg/l | D33: Spot sample | E33: 14.5 | G33: =G32 -> 20/03/2013
A40: [1] The result given is the maximum value (or the minimum value in the case of a limit that is expressed as a minimum) obtained during the reporting period, expressed in the same terms as the emission limit value. Where the emission limit value is expressed as a range, the result is given as the ‘minimum – maximum’ measured values.
A42: [2] Where an internationally recognised standard test method is used the reference number is given. Where another method that has been formally agreed with the Agency is used, then the appropriate identifier is given. In other cases the principal technique is stated, e.g. gas chromatography.
A44: [3] For non-continuous measurements the date and time of the sample that produced the result is given. For continuous measurements the percentage of the process operating time covered by the result is given.
A46: [4] The uncertainty associated with the quoted result at the 95% confidence interval, unless otherwise stated.
B48: Signed ……Antonio Montinaro…………………………….. | E48: ='GW MONTHLY S4.5 CWMGW01B'!E48:G48 -> Date…08.04.2013……………………..
B49: (Authorised to sign as representative of Operator)

Sheet GW MONTHLY S4.5 CWMGW06A
A1: Permit Number: | B1: TP3835LV | E1: Operator: | F1: SI Green UK Limited
A3: Installation: | B3: Cwmrhydyceirw Quarry | E3: Form Number: | F3: Ground Water 1 - 15 October 2008
A5: ='GW MONTHLY S4.5 CWMGW01B'!A5:H5 -> Reporting of emissions to water (other than to sewer) for the period from 01 Jan 2013 - 31 Mar 2013
A7: Emission Point | B7: Substance /Parameter | C7: Emission Limit Value | D7: Reference Period | E7: Result [1] | F7: Test Method [2] | G7: Sample Date and Times [3] | H7: Uncertainty [4]
A8: CWMGW06A (SHALLOW) | B8: Water Level | C8: m | D8: Spot sample | E8: 50.65 | F8: Methods used shall be in accordance with Agency guidance document ‘Guidance on monitoring of landfill leachate, groundwater and surface water (LFTGN02) | G8: 31/01/2013 | H8: Accuracy of testing equipment
B9: pH | C9: >6 , <9 | D9: Spot sample | E9: 7.5 | G9: =G8 -> 31/01/2013
B10: Electrical Conductivity | C10: not set | D10: Spot sample | E10: 404 | G10: =G9 -> 31/01/2013
B11: Dissolved Oxygen | C11: not set | D11: Spot sample | E11: 3.7 | G11: =G10 -> 31/01/2013
B12: Ammoniacal Nitorgen | C12: 393 mg/l | D12: Spot sample | E12: <0.27 | G12: =G11 -> 31/01/2013
B13: Chloride | C13: 11900 mg/l | D13: Spot sample | E13: 16 | G13: =G12 -> 31/01/2013
A18: CWMGW06A (SHALLOW) | B18: Water Level | C18: m | D18: Spot sample | E18: 50.11 | F18: Methods used shall be in accordance with Agency guidance document ‘Guidance on monitoring of landfill leachate, groundwater and surface water (LFTGN02) | G18: 27/02/2013 | H18: Accuracy of testing equipment
B19: pH | C19: >6 , <9 | D19: Spot sample | E19: 7.6 | G19: =G18 -> 27/02/2013
B20: Electrical Conductivity | C20: not set | D20: Spot sample | E20: 409 | G20: =G19 -> 27/02/2013
B21: Dissolved Oxygen | C21: not set | D21: Spot sample | E21: 6.4 | G21: =G20 -> 27/02/2013
B22: Ammoniacal Nitorgen | C22: 393 mg/l | D22: Spot sample | E22: <0.27 | G22: =G21 -> 27/02/2013
B23: Chloride | C23: 11900 mg/l | D23: Spot sample | E23: 15.6 | G23: =G22 -> 27/02/2013
A28: CWMGW06A (SHALLOW) | B28: Water Level | C28: m | D28: Spot sample | E28: 49.75 | F28: Methods used shall be in accordance with Agency guidance document ‘Guidance on monitoring of landfill leachate, groundwater and surface water (LFTGN02) | G28: 20/03/2013 | H28: Accuracy of testing equipment
B29: pH | C29: >6 , <9 | D29: Spot sample | E29: 7.6 | G29: =G28 -> 20/03/2013
B30: Electrical Conductivity | C30: not set | D30: Spot sample | E30: 389 | G30: =G29 -> 20/03/2013
B31: Dissolved Oxygen | C31: not set | D31: Spot sample | E31: 2.1 | G31: =G30 -> 20/03/2013
B32: Ammoniacal Nitorgen | C32: 393 mg/l | D32: Spot sample | E32: <0.27 | G32: =G31 -> 20/03/2013
B33: Chloride | C33: 11900 mg/l | D33: Spot sample | E33: 14.1 | G33: =G32 -> 20/03/2013
A40: [1] The result given is the maximum value (or the minimum value in the case of a limit that is expressed as a minimum) obtained during the reporting period, expressed in the same terms as the emission limit value. Where the emission limit value is expressed as a range, the result is given as the ‘minimum – maximum’ measured values.
A42: [2] Where an internationally recognised standard test method is used the reference number is given. Where another method that has been formally agreed with the Agency is used, then the appropriate identifier is given. In other cases the principal technique is stated, e.g. gas chromatography.
A44: [3] For non-continuous measurements the date and time of the sample that produced the result is given. For continuous measurements the percentage of the process operating time covered by the result is given.
A46: [4] The uncertainty associated with the quoted result at the 95% confidence interval, unless otherwise stated.
B48: Signed ……Antonio Montinaro…………………………….. | E48: ='GW MONTHLY S4.5 CWMGW01B'!E48:G48 -> Date…08.04.2013……………………..
B49: (Authorised to sign as representative of Operator)

Sheet GW MONTHLY S4.5 CWMGW07A
A1: Permit Number: | B1: TP3835LV | E1: Operator: | F1: SI Green UK Limited
A3: Installation: | B3: Cwmrhydyceirw Quarry | E3: Form Number: | F3: Ground Water 1 - 15 October 2008
A5: ='GW MONTHLY S4.5 CWMGW01B'!A5:H5 -> Reporting of emissions to water (other than to sewer) for the period from 01 Jan 2013 - 31 Mar 2013
A7: Emission Point | B7: Substance /Parameter | C7: Emission Limit Value | D7: Reference Period | E7: Result [1] | F7: Test Method [2] | G7: Sample Date and Times [3] | H7: Uncertainty [4]
A8: CWMGW07A | B8: Water Level | C8: m | D8: Spot sample | E8: 41.68 | F8: Methods used shall be in accordance with Agency guidance document ‘Guidance on monitoring of landfill leachate, groundwater and surface water (LFTGN02) | G8: 31/01/2013 | H8: Accuracy of testing equipment
B9: pH | C9: >6 , <9 | D9: Spot sample | E9: 7.9 | G9: =G8 -> 31/01/2013
B10: Electrical Conductivity | C10: not set | D10: Spot sample | E10: 545 | G10: =G9 -> 31/01/2013
B11: Dissolved Oxygen | C11: not set | D11: Spot sample | E11: 1.5 | G11: =G10 -> 31/01/2013
B12: Ammoniacal Nitorgen | C12: 393 mg/l | D12: Spot sample | E12: <0.27 | G12: =G11 -> 31/01/2013
B13: Chloride | C13: 11900 mg/l | D13: Spot sample | E13: 19.7 | G13: =G12 -> 31/01/2013
A18: CWMGW07A | B18: Water Level | C18: m | D18: Spot sample | E18: 43.12 | F18: Methods used shall be in accordance with Agency guidance document ‘Guidance on monitoring of landfill leachate, groundwater and surface water (LFTGN02) | G18: 27/02/2013 | H18: Accuracy of testing equipment
B19: pH | C19: >6 , <9 | D19: Spot sample | E19: 7.9 | G19: =G18 -> 27/02/2013
B20: Electrical Conductivity | C20: not set | D20: Spot sample | E20: 568 | G20: =G19 -> 27/02/2013
B21: Dissolved Oxygen | C21: not set | D21: Spot sample | E21: 2.4 | G21: =G20 -> 27/02/2013
B22: Ammoniacal Nitorgen | C22: 393 mg/l | D22: Spot sample | E22: <0.27 | G22: =G21 -> 27/02/2013
B23: Chloride | C23: 11900 mg/l | D23: Spot sample | E23: 18.8 | G23: =G22 -> 27/02/2013
A28: CWMGW07A | B28: Water Level | C28: m | D28: Spot sample | E28: 41.68 | F28: Methods used shall be in accordance with Agency guidance document ‘Guidance on monitoring of landfill leachate, groundwater and surface water (LFTGN02) | G28: 20/03/2013 | H28: Accuracy of testing equipment
B29: pH | C29: >6 , <9 | D29: Spot sample | E29: 7.8 | G29: =G28 -> 20/03/2013
B30: Electrical Conductivity | C30: not set | D30: Spot sample | E30: 548 | G30: =G29 -> 20/03/2013
B31: Dissolved Oxygen | C31: not set | D31: Spot sample | E31: 1.4 | G31: =G30 -> 20/03/2013
B32: Ammoniacal Nitorgen | C32: 393 mg/l | D32: Spot sample | E32: <0.27 | G32: =G31 -> 20/03/2013
B33: Chloride | C33: 11900 mg/l | D33: Spot sample | E33: 16.5 | G33: =G32 -> 20/03/2013
A40: [1] The result given is the maximum value (or the minimum value in the case of a limit that is expressed as a minimum) obtained during the reporting period, expressed in the same terms as the emission limit value. Where the emission limit value is expressed as a range, the result is given as the ‘minimum – maximum’ measured values.
A42: [2] Where an internationally recognised standard test method is used the reference number is given. Where another method that has been formally agreed with the Agency is used, then the appropriate identifier is given. In other cases the principal technique is stated, e.g. gas chromatography.
A44: [3] For non-continuous measurements the date and time of the sample that produced the result is given. For continuous measurements the percentage of the process operating time covered by the result is given.
A46: [4] The uncertainty associated with the quoted result at the 95% confidence interval, unless otherwise stated.
B48: Signed …Antonio Montinaro……………………………….. | E48: ='GW MONTHLY S4.5 CWMGW01B'!E48:G48 -> Date…08.04.2013……………………..
B49: (Authorised to sign as representative of Operator)

Sheet GW MONTHLY S4.5 CWMGW07B
A1: Permit Number: | B1: TP3835LV | E1: Operator: | F1: SI Green UK Limited
A3: Installation: | B3: Cwmrhydyceirw Quarry | E3: Form Number: | F3: Ground Water 1 - 15 October 2008
A5: ='GW MONTHLY S4.5 CWMGW01B'!A5:H5 -> Reporting of emissions to water (other than to sewer) for the period from 01 Jan 2013 - 31 Mar 2013
A7: Emission Point | B7: Substance /Parameter | C7: Emission Limit Value | D7: Reference Period | E7: Result [1] | F7: Test Method [2] | G7: Sample Date and Times [3] | H7: Uncertainty [4]
A8: CWMGW07B | B8: Water Level | C8: m | D8: Spot sample | E8: 41.85 | F8: Methods used shall be in accordance with Agency guidance document ‘Guidance on monitoring of landfill leachate, groundwater and surface water (LFTGN02) | G8: 31/01/2013 | H8: Accuracy of testing equipment
B9: pH | C9: >6 , <9 | D9: Spot sample | E9: 7.6 | G9: =G8 -> 31/01/2013
B10: Electrical Conductivity | C10: not set | D10: Spot sample | E10: 222 | G10: =G9 -> 31/01/2013
B11: Dissolved Oxygen | C11: not set | D11: Spot sample | E11: 3.5 | G11: =G10 -> 31/01/2013
B12: Ammoniacal Nitorgen | C12: 393 mg/l | D12: Spot sample | E12: <0,27 | G12: =G11 -> 31/01/2013
B13: Chloride | C13: 11900 mg/l | D13: Spot sample | E13: 10.3 | G13: =G12 -> 31/01/2013
A18: CWMGW07B | B18: Water Level | C18: m | D18: Spot sample | E18: 43.11 | F18: Methods used shall be in accordance with Agency guidance document ‘Guidance on monitoring of landfill leachate, groundwater and surface water (LFTGN02) | G18: 27/02/2013 | H18: Accuracy of testing equipment
B19: pH | C19: >6 , <9 | D19: Spot sample | E19: 7 | G19: =G18 -> 27/02/2013
B20: Electrical Conductivity | C20: not set | D20: Spot sample | E20: 206 | G20: =G19 -> 27/02/2013
B21: Dissolved Oxygen | C21: not set | D21: Spot sample | E21: 2.4 | G21: =G20 -> 27/02/2013
B22: Ammoniacal Nitorgen | C22: 393 mg/l | D22: Spot sample | E22: <0.27 | G22: =G21 -> 27/02/2013
B23: Chloride | C23: 11900 mg/l | D23: Spot sample | E23: 8.24 | G23: =G22 -> 27/02/2013
A28: CWMGW07B | B28: Water Level | C28: m | D28: Spot sample | E28: 41.76 | F28: Methods used shall be in accordance with Agency guidance document ‘Guidance on monitoring of landfill leachate, groundwater and surface water (LFTGN02) | G28: ='GW MONTHLY S4.5 CWMGW01B'!G28 -> 20/03/2013 | H28: Accuracy of testing equipment
B29: pH | C29: >6 , <9 | D29: Spot sample | E29: 7.9 | G29: =G28 -> 20/03/2013
B30: Electrical Conductivity | C30: not set | D30: Spot sample | E30: 202 | G30: =G29 -> 20/03/2013
B31: Dissolved Oxygen | C31: not set | D31: Spot sample | E31: 3 | G31: =G30 -> 20/03/2013
B32: Ammoniacal Nitorgen | C32: 393 mg/l | D32: Spot sample | E32: 0.62 | G32: =G31 -> 20/03/2013
B33: Chloride | C33: 11900 mg/l | D33: Spot sample | E33: 7.43 | G33: =G32 -> 20/03/2013
A40: [1] The result given is the maximum value (or the minimum value in the case of a limit that is expressed as a minimum) obtained during the reporting period, expressed in the same terms as the emission limit value. Where the emission limit value is expressed as a range, the result is given as the ‘minimum – maximum’ measured values.
A42: [2] Where an internationally recognised standard test method is used the reference number is given. Where another method that has been formally agreed with the Agency is used, then the appropriate identifier is given. In other cases the principal technique is stated, e.g. gas chromatography.
A44: [3] For non-continuous measurements the date and time of the sample that produced the result is given. For continuous measurements the percentage of the process operating time covered by the result is given.
A46: [4] The uncertainty associated with the quoted result at the 95% confidence interval, unless otherwise stated.
B48: Signed ……Antonio Montinaro…………………………….. | E48: ='GW MONTHLY S4.5 CWMGW01B'!E48:G48 -> Date…08.04.2013……………………..
B49: (Authorised to sign as representative of Operator)

Sheet GW MONTHLY S4.5 CWMGW08
A1: Permit Number: | B1: TP3835LV | E1: Operator: | F1: SI Green UK Limited
A3: Installation: | B3: Cwmrhydyceirw Quarry | E3: Form Number: | F3: Ground Water 1 - 15 October 2008
A5: ='GW MONTHLY S4.5 CWMGW01B'!A5:H5 -> Reporting of emissions to water (other than to sewer) for the period from 01 Jan 2013 - 31 Mar 2013
A7: Emission Point | B7: Substance /Parameter | C7: Emission Limit Value | D7: Reference Period | E7: Result [1] | F7: Test Method [2] | G7: Sample Date and Times [3] | H7: Uncertainty [4]
A8: CWMGW08 | B8: Water Level | C8: m | D8: Spot sample | E8: 33.35 | F8: Methods used shall be in accordance with Agency guidance document ‘Guidance on monitoring of landfill leachate, groundwater and surface water (LFTGN02) | G8: 31/01/2013 | H8: Accuracy of testing equipment
B9: pH | C9: >6 , <9 | D9: Spot sample | E9: 7.1 | G9: =G8 -> 31/01/2013
B10: Electrical Conductivity | C10: not set | D10: Spot sample | E10: 479 | G10: =G9 -> 31/01/2013
B11: Dissolved Oxygen | C11: not set | D11: Spot sample | E11: 0.6 | G11: =G10 -> 31/01/2013
B12: Cadmium | C12: 0.075 mg/l | D12: Spot sample | E12: <0.0006 | G12: =G11 -> 31/01/2013
B13: Nickel | C13: 2.6 mg/l | D13: Spot sample | E13: <0.003 | G13: =G12 -> 31/01/2013
B14: Ammoniacal Nitorgen | C14: 393 mg/l | D14: Spot sample | E14: 1.6 | G14: =G13 -> 31/01/2013
B15: Chloride | C15: 11900 mg/l | D15: Spot sample | E15: 13.4 | G15: =G14 -> 31/01/2013
B16: Napthalene | C16: 0.062 mg/l | D16: Spot sample | E16: <4.0 x 10-3 | G16: =G15 -> 31/01/2013
B17: Pentachlorophenol | C17: 1 mg/l | D17: Spot sample | E17: <2.0 x 10-3 | G17: 31/01/2013
A18: CWMGW08 | B18: Water Level (mAOD) | C18: m | D18: Spot sample | E18: 34.41 | F18: Methods used shall be in accordance with Agency guidance document ‘Guidance on monitoring of landfill leachate, groundwater and surface water (LFTGN02) | G18: 27/02/2013 | H18: Accuracy of testing equipment
B19: pH | C19: >6 , <9 | D19: Spot sample | E19: 7 | G19: =G18 -> 27/02/2013
B20: Electrical Conductivity | C20: not set | D20: Spot sample | E20: 440 | G20: =G19 -> 27/02/2013
B21: Dissolved Oxygen | C21: not set | D21: Spot sample | E21: 0.6 | G21: =G20 -> 27/02/2013
B22: Cadmium | C22: 0.075 mg/l | D22: Spot sample | E22: <0.0006 | G22: =G21 -> 27/02/2013
B23: Nickel | C23: 2.6 mg/l | D23: Spot sample | E23: <0.003 | G23: =G22 -> 27/02/2013
B24: Ammoniacal Nitorgen | C24: 393 mg/l | D24: Spot sample | E24: <0,27 | G24: =G23 -> 27/02/2013
B25: Chloride | C25: 11900 mg/l | D25: Spot sample | E25: 14.2 | G25: =G24 -> 27/02/2013
B26: Napthalene | C26: 0.062 mg/l | D26: Spot sample | E26: <2.0 x 10-3 | G26: =G25 -> 27/02/2013
B27: Pentachlorophenol | C27: 1 mg/l | D27: Spot sample | E27: <1.0 x 10-3 | G27: =G26 -> 27/02/2013
A28: CWMGW08 | B28: Water Level (mAOD) | C28: m | D28: Spot sample | E28: 33.46 | F28: Methods used shall be in accordance with Agency guidance document ‘Guidance on monitoring of landfill leachate, groundwater and surface water (LFTGN02) | G28: ='GW MONTHLY S4.5 CWMGW01B'!G28 -> 20/03/2013 | H28: Accuracy of testing equipment
B29: pH | C29: >6 , <9 | D29: Spot sample | E29: 7 | G29: =G28 -> 20/03/2013
B30: Electrical Conductivity | C30: not set | D30: Spot sample | E30: 448 | G30: =G29 -> 20/03/2013
B31: Dissolved Oxygen | C31: not set | D31: Spot sample | E31: 0.5 | G31: =G30 -> 20/03/2013
B32: Cadmium | C32: 0.075 mg/l | D32: Spot sample | E32: <0.0006 | G32: =G31 -> 20/03/2013
B33: Nickel | C33: 2.6 mg/l | D33: Spot sample | E33: 0.0093 | G33: =G32 -> 20/03/2013
B34: Ammoniacal Nitorgen | C34: 393 mg/l | D34: Spot sample | E34: <0.27 | G34: =G33 -> 20/03/2013
B35: Chloride | C35: 11900 mg/l | D35: Spot sample | E35: 14 | G35: =G34 -> 20/03/2013
B36: Napthalene | C36: 0.062 mg/l | D36: Spot sample | E36: <2.0 x 10-3 | G36: =G35 -> 20/03/2013
B37: Pentachlorophenol | C37: 1 mg/l | D37: Spot sample | E37: <1.0 x 10-3 | G37: =G36 -> 20/03/2013
A40: [1] The result given is the maximum value (or the minimum value in the case of a limit that is expressed as a minimum) obtained during the reporting period, expressed in the same terms as the emission limit value. Where the emission limit value is expressed as a range, the result is given as the ‘minimum – maximum’ measured values.
A42: [2] Where an internationally recognised standard test method is used the reference number is given. Where another method that has been formally agreed with the Agency is used, then the appropriate identifier is given. In other cases the principal technique is stated, e.g. gas chromatography.
A44: [3] For non-continuous measurements the date and time of the sample that produced the result is given. For continuous measurements the percentage of the process operating time covered by the result is given.
A46: [4] The uncertainty associated with the quoted result at the 95% confidence interval, unless otherwise stated.
B48: Signed ……Antonio Montinaro…………………………….. | E48: ='GW MONTHLY S4.5 CWMGW01B'!E48:G48 -> Date…08.04.2013……………………..
B49: (Authorised to sign as representative of Operator)

Sheet GW MONTHLY S4.5 CWMGW09
A1: Permit Number: | B1: TP3835LV | E1: Operator: | F1: SI Green UK Limited
A3: Installation: | B3: Cwmrhydyceirw Quarry | E3: Form Number: | F3: Ground Water 1 - 15 October 2008
A5: ='GW MONTHLY S4.5 CWMGW01B'!A5:H5 -> Reporting of emissions to water (other than to sewer) for the period from 01 Jan 2013 - 31 Mar 2013
A7: Emission Point | B7: Substance /Parameter | C7: Emission Limit Value | D7: Reference Period | E7: Result [1] | F7: Test Method [2] | G7: Sample Date and Times [3] | H7: Uncertainty [4]
A8: CWMGW09 | B8: Water Level | C8: m | D8: Spot sample | E8: 36.18 | F8: Methods used shall be in accordance with Agency guidance document ‘Guidance on monitoring of landfill leachate, groundwater and surface water (LFTGN02) | G8: 31/01/2013 | H8: Accuracy of testing equipment
B9: pH | C9: >6 , <9 | D9: Spot sample | E9: 7 | G9: =G8 -> 31/01/2013
B10: Electrical Conductivity | C10: not set | D10: Spot sample | E10: 513 | G10: =G9 -> 31/01/2013
B11: Dissolved Oxygen | C11: not set | D11: Spot sample | E11: 4.6 | G11: =G10 -> 31/01/2013
B12: Ammoniacal Nitorgen | C12: 393 mg/l | D12: Spot sample | E12: <0,27 | G12: =G11 -> 31/01/2013
B13: Chloride | C13: 11900 mg/l | D13: Spot sample | E13: 23.5 | G13: =G12 -> 31/01/2013
A18: CWMGW09 | B18: Water Level | C18: m | D18: Spot sample | E18: 36.57 | F18: Methods used shall be in accordance with Agency guidance document ‘Guidance on monitoring of landfill leachate, groundwater and surface water (LFTGN02) | G18: 27/02/2013 | H18: Accuracy of testing equipment
B19: pH | C19: >6 , <9 | D19: Spot sample | E19: 6.8 | G19: =G18 -> 27/02/2013
B20: Electrical Conductivity | C20: not set | D20: Spot sample | E20: 565 | G20: =G19 -> 27/02/2013
B21: Dissolved Oxygen | C21: not set | D21: Spot sample | E21: 4.4 | G21: =G20 -> 27/02/2013
B22: Ammoniacal Nitorgen | C22: 393 mg/l | D22: Spot sample | E22: <0.27 | G22: =G21 -> 27/02/2013
B23: Chloride | C23: 11900 mg/l | D23: Spot sample | E23: 24.1 | G23: =G22 -> 27/02/2013
A28: CWMGW09 | B28: Water Level | C28: m | D28: Spot sample | E28: 37.07 | F28: Methods used shall be in accordance with Agency guidance document ‘Guidance on monitoring of landfill leachate, groundwater and surface water (LFTGN02) | G28: ='GW MONTHLY S4.5 CWMGW01B'!G28 -> 20/03/2013 | H28: Accuracy of testing equipment
B29: pH | C29: >6 , <9 | D29: Spot sample | E29: 7 | G29: =G28 -> 20/03/2013
B30: Electrical Conductivity | C30: not set | D30: Spot sample | E30: 534 | G30: =G29 -> 20/03/2013
B31: Dissolved Oxygen | C31: not set | D31: Spot sample | E31: 3.4 | G31: =G30 -> 20/03/2013
B32: Ammoniacal Nitorgen | C32: 393 mg/l | D32: Spot sample | E32: <0.27 | G32: =G31 -> 20/03/2013
B33: Chloride | C33: 11900 mg/l | D33: Spot sample | E33: 15.4 | G33: =G32 -> 20/03/2013
A40: [1] The result given is the maximum value (or the minimum value in the case of a limit that is expressed as a minimum) obtained during the reporting period, expressed in the same terms as the emission limit value. Where the emission limit value is expressed as a range, the result is given as the ‘minimum – maximum’ measured values.
A42: [2] Where an internationally recognised standard test method is used the reference number is given. Where another method that has been formally agreed with the Agency is used, then the appropriate identifier is given. In other cases the principal technique is stated, e.g. gas chromatography.
A44: [3] For non-continuous measurements the date and time of the sample that produced the result is given. For continuous measurements the percentage of the process operating time covered by the result is given.
A46: [4] The uncertainty associated with the quoted result at the 95% confidence interval, unless otherwise stated.
B48: Signed ……Antonio Montinaro…………………………….. | E48: ='GW MONTHLY S4.5 CWMGW01B'!E48:G48 -> Date…08.04.2013……………………..
B49: (Authorised to sign as representative of Operator)

Sheet GW MONTHLY S4.5 LFG2
A1: Permit Number: | B1: TP3835LV | E1: Operator: | F1: SI Green UK Limited
A3: Installation: | B3: Cwmrhydyceirw Quarry | E3: Form Number: | F3: Ground Water 1 - 15 October 2008
A5: ='GW MONTHLY S4.5 CWMGW01B'!A5:H5 -> Reporting of emissions to water (other than to sewer) for the period from 01 Jan 2013 - 31 Mar 2013
A7: Emission Point | B7: Substance /Parameter | C7: Emission Limit Value | D7: Reference Period | E7: Result [1] | F7: Test Method [2] | G7: Sample Date and Times [3] | H7: Uncertainty [4]
A8: LFG2 | B8: Water Level | C8: m | D8: Spot sample | E8: 48.65 | F8: Methods used shall be in accordance with Agency guidance document ‘Guidance on monitoring of landfill leachate, groundwater and surface water (LFTGN02) | G8: 31/01/2013 | H8: Accuracy of testing equipment
B9: pH | C9: >6 , <9 | D9: Spot sample | E9: 7.4 | G9: =G8 -> 31/01/2013
B10: Electrical Conductivity | C10: not set | D10: Spot sample | E10: 413 | G10: =G9 -> 31/01/2013
B11: Dissolved Oxygen | C11: not set | D11: Spot sample | E11: 9.2 | G11: =G10 -> 31/01/2013
B12: Cadmium | C12: 0.075 mg/l | D12: Spot sample | E12: <0.0006 | G12: =G11 -> 31/01/2013
B13: Nickel | C13: 2.6 mg/l | D13: Spot sample | E13: 0.014 | G13: =G12 -> 31/01/2013
B14: Ammoniacal Nitorgen | C14: 393 mg/l | D14: Spot sample | E14: <0.27 | G14: =G13 -> 31/01/2013
B15: Chloride | C15: 11900 mg/l | D15: Spot sample | E15: 12 | G15: =G14 -> 31/01/2013
B16: Napthalene | C16: 0.062 mg/l | D16: Spot sample | E16: <2.0 x 10-3 | G16: =G15 -> 31/01/2013
B17: Pentachlorophenol | C17: 1 mg/l | D17: Spot sample | E17: <1.0 x 10-3 | G17: 31/01/2013
A18: LFG2 | B18: Water Level (mAOD) | C18: m | D18: Spot sample | E18: 49.37 | F18: Methods used shall be in accordance with Agency guidance document ‘Guidance on monitoring of landfill leachate, groundwater and surface water (LFTGN02) | G18: 27/02/2013 | H18: Accuracy of testing equipment
B19: pH | C19: >6 , <9 | D19: Spot sample | E19: 7.4 | G19: =G18 -> 27/02/2013
B20: Electrical Conductivity | C20: not set | D20: Spot sample | E20: 448 | G20: =G19 -> 27/02/2013
B21: Dissolved Oxygen | C21: not set | D21: Spot sample | E21: 3 | G21: =G20 -> 27/02/2013
B22: Cadmium | C22: 0.075 mg/l | D22: Spot sample | E22: 0.001 | G22: =G21 -> 27/02/2013
B23: Nickel | C23: 2.6 mg/l | D23: Spot sample | E23: 0.026 | G23: =G22 -> 27/02/2013
B24: Ammoniacal Nitorgen | C24: 393 mg/l | D24: Spot sample | E24: <0.27 | G24: =G23 -> 27/02/2013
B25: Chloride | C25: 11900 mg/l | D25: Spot sample | E25: 18.6 | G25: =G24 -> 27/02/2013
B26: Napthalene | C26: 0.062 mg/l | D26: Spot sample | E26: <2.0 x 10-3 | G26: =G25 -> 27/02/2013
B27: Pentachlorophenol | C27: 1 mg/l | D27: Spot sample | E27: <1.0 x 10-3 | G27: =G26 -> 27/02/2013
A28: LFG2 | B28: Water Level (mAOD) | C28: m | D28: Spot sample | E28: 48.81 | F28: Methods used shall be in accordance with Agency guidance document ‘Guidance on monitoring of landfill leachate, groundwater and surface water (LFTGN02) | G28: ='GW MONTHLY S4.5 CWMGW01B'!G28 -> 20/03/2013 | H28: Accuracy of testing equipment
B29: pH | C29: >6 , <9 | D29: Spot sample | E29: 7.3 | G29: =G28 -> 20/03/2013
B30: Electrical Conductivity | C30: not set | D30: Spot sample | E30: 399 | G30: =G29 -> 20/03/2013
B31: Dissolved Oxygen | C31: not set | D31: Spot sample | E31: 6.8 | G31: =G30 -> 20/03/2013
B32: Cadmium | C32: 0.075 mg/l | D32: Spot sample | E32: 0.0031 | G32: =G31 -> 20/03/2013
B33: Nickel | C33: 2.6 mg/l | D33: Spot sample | E33: 0.0464 | G33: =G32 -> 20/03/2013
B34: Ammoniacal Nitorgen | C34: 393 mg/l | D34: Spot sample | E34: <0.27 | G34: =G33 -> 20/03/2013
B35: Chloride | C35: 11900 mg/l | D35: Spot sample | E35: 9.14 | G35: =G34 -> 20/03/2013
B36: Napthalene | C36: 0.062 mg/l | D36: Spot sample | E36: <2.0 x 10-3 | G36: =G35 -> 20/03/2013
B37: Pentachlorophenol | C37: 1 mg/l | D37: Spot sample | E37: <1.0 x 10-3 | G37: =G36 -> 20/03/2013
A40: [1] The result given is the maximum value (or the minimum value in the case of a limit that is expressed as a minimum) obtained during the reporting period, expressed in the same terms as the emission limit value. Where the emission limit value is expressed as a range, the result is given as the ‘minimum – maximum’ measured values.
A42: [2] Where an internationally recognised standard test method is used the reference number is given. Where another method that has been formally agreed with the Agency is used, then the appropriate identifier is given. In other cases the principal technique is stated, e.g. gas chromatography.
A44: [3] For non-continuous measurements the date and time of the sample that produced the result is given. For continuous measurements the percentage of the process operating time covered by the result is given.
A46: [4] The uncertainty associated with the quoted result at the 95% confidence interval, unless otherwise stated.
B48: Signed ……Antonio Montinaro…………………………….. | E48: ='GW MONTHLY S4.5 CWMGW01B'!E48:G48 -> Date…08.04.2013……………………..
B49: (Authorised to sign as representative of Operator)

Sheet GW MONTHLY S4.5 LFG6
A1: Permit Number: | B1: TP3835LV | E1: Operator: | F1: SI Green UK Limited
A3: Installation: | B3: Cwmrhydyceirw Quarry | E3: Form Number: | F3: Ground Water 1 - 15 October 2008
A5: ='GW MONTHLY S4.5 CWMGW01B'!A5:H5 -> Reporting of emissions to water (other than to sewer) for the period from 01 Jan 2013 - 31 Mar 2013
A7: Emission Point | B7: Substance /Parameter | C7: Emission Limit Value | D7: Reference Period | E7: Result [1] | F7: Test Method [2] | G7: Sample Date and Times [3] | H7: Uncertainty [4]
A8: LFG6 | B8: Water Level | C8: m | D8: Spot sample | E8: 53.56 | F8: Methods used shall be in accordance with Agency guidance document ‘Guidance on monitoring of landfill leachate, groundwater and surface water (LFTGN02) | G8: 31/01/2013 | H8: Accuracy of testing equipment
B9: pH | C9: >6 , <9 | D9: Spot sample | E9: 6.7 | G9: =G8 -> 31/01/2013
B10: Electrical Conductivity | C10: not set | D10: Spot sample | E10: 193 | G10: =G9 -> 31/01/2013
B11: Dissolved Oxygen | C11: not set | D11: Spot sample | E11: <0.5 | G11: =G10 -> 31/01/2013
B12: Ammoniacal Nitorgen | C12: 393 mg/l | D12: Spot sample | E12: <0.27 | G12: =G11 -> 31/01/2013
B13: Chloride | C13: 11900 mg/l | D13: Spot sample | E13: 20.2 | G13: =G12 -> 31/01/2013
K16: m
A18: LFG6 | B18: Water Level | C18: m | D18: Spot sample | E18: 54.66 | F18: Methods used shall be in accordance with Agency guidance document ‘Guidance on monitoring of landfill leachate, groundwater and surface water (LFTGN02) | G18: 27/02/2013 | H18: Accuracy of testing equipment
B19: pH | C19: >6 , <9 | D19: Spot sample | E19: 6.8 | G19: =G18 -> 27/02/2013
B20: Electrical Conductivity | C20: not set | D20: Spot sample | E20: 200 | G20: =G19 -> 27/02/2013
B21: Dissolved Oxygen | C21: not set | D21: Spot sample | E21: 0.6 | G21: =G20 -> 27/02/2013
B22: Ammoniacal Nitorgen | C22: 393 mg/l | D22: Spot sample | E22: <0.27 | G22: =G21 -> 27/02/2013
B23: Chloride | C23: 11900 mg/l | D23: Spot sample | E23: 18.1 | G23: =G22 -> 27/02/2013
A28: LFG6 | B28: Water Level | C28: m | D28: Spot sample | E28: 53.36 | F28: Methods used shall be in accordance with Agency guidance document ‘Guidance on monitoring of landfill leachate, groundwater and surface water (LFTGN02) | G28: ='GW MONTHLY S4.5 CWMGW01B'!G28 -> 20/03/2013 | H28: Accuracy of testing equipment
B29: pH | C29: >6 , <9 | D29: Spot sample | E29: 6.4 | G29: =G28 -> 20/03/2013
B30: Electrical Conductivity | C30: not set | D30: Spot sample | E30: 211 | G30: =G29 -> 20/03/2013
B31: Dissolved Oxygen | C31: not set | D31: Spot sample | E31: <0.5 | G31: =G30 -> 20/03/2013
B32: Ammoniacal Nitorgen | C32: 393 mg/l | D32: Spot sample | E32: <0.27 | G32: =G31 -> 20/03/2013
B33: Chloride | C33: 11900 mg/l | D33: Spot sample | E33: 17.4 | G33: =G32 -> 20/03/2013
A40: [1] The result given is the maximum value (or the minimum value in the case of a limit that is expressed as a minimum) obtained during the reporting period, expressed in the same terms as the emission limit value. Where the emission limit value is expressed as a range, the result is given as the ‘minimum – maximum’ measured values.
A42: [2] Where an internationally recognised standard test method is used the reference number is given. Where another method that has been formally agreed with the Agency is used, then the appropriate identifier is given. In other cases the principal technique is stated, e.g. gas chromatography.
A44: [3] For non-continuous measurements the date and time of the sample that produced the result is given. For continuous measurements the percentage of the process operating time covered by the result is given.
A46: [4] The uncertainty associated with the quoted result at the 95% confidence interval, unless otherwise stated.
B48: Signed ……Antonio Montinaro…………………………….. | E48: ='GW MONTHLY S4.5 CWMGW01B'!E48:G48 -> Date…08.04.2013……………………..
B49: (Authorised to sign as representative of Operator)

Sheet GW MONTHLY S4.5 LFG9
A1: Permit Number: | B1: TP3835LV | E1: Operator: | F1: SI Green UK Limited
A3: Installation: | B3: Cwmrhydyceirw Quarry | E3: Form Number: | F3: Ground Water 1 - 15 October 2008
A5: ='GW MONTHLY S4.5 CWMGW01B'!A5:H5 -> Reporting of emissions to water (other than to sewer) for the period from 01 Jan 2013 - 31 Mar 2013
A7: Emission Point | B7: Substance /Parameter | C7: Emission Limit Value | D7: Reference Period | E7: Result [1] | F7: Test Method [2] | G7: Sample Date and Times [3] | H7: Uncertainty [4]
A8: LFG9 | B8: Water Level | C8: m | D8: Spot sample | E8: 36.58 | F8: Methods used shall be in accordance with Agency guidance document ‘Guidance on monitoring of landfill leachate, groundwater and surface water (LFTGN02) | G8: 31/01/2013 | H8: Accuracy of testing equipment
B9: pH | C9: >6 , <9 | D9: Spot sample | E9: 6.6 | G9: =G8 -> 31/01/2013
B10: Electrical Conductivity | C10: not set | D10: Spot sample | E10: 285 | G10: =G9 -> 31/01/2013
B11: Dissolved Oxygen | C11: not set | D11: Spot sample | E11: 3.4 | G11: =G10 -> 31/01/2013
B12: Ammoniacal Nitorgen | C12: 393 mg/l | D12: Spot sample | E12: <0,27 | G12: =G11 -> 31/01/2013
B13: Chloride | C13: 11900 mg/l | D13: Spot sample | E13: 11.4 | G13: =G12 -> 31/01/2013
A18: LFG9 | B18: Water Level | C18: m | D18: Spot sample | E18: 37.68 | F18: Methods used shall be in accordance with Agency guidance document ‘Guidance on monitoring of landfill leachate, groundwater and surface water (LFTGN02) | G18: 27/02/2013 | H18: Accuracy of testing equipment
B19: pH | C19: >6 , <9 | D19: Spot sample | E19: 6.7 | G19: =G18 -> 27/02/2013
B20: Electrical Conductivity | C20: not set | D20: Spot sample | E20: 4.9 | G20: =G19 -> 27/02/2013
B21: Dissolved Oxygen | C21: not set | D21: Spot sample | E21: 1.8 | G21: =G20 -> 27/02/2013
B22: Ammoniacal Nitorgen | C22: 393 mg/l | D22: Spot sample | E22: <0.27 | G22: =G21 -> 27/02/2013
B23: Chloride | C23: 11900 mg/l | D23: Spot sample | E23: 18.9 | G23: =G22 -> 27/02/2013
A28: LFG9 | B28: Water Level | C28: m | D28: Spot sample | E28: 36.67 | F28: Methods used shall be in accordance with Agency guidance document ‘Guidance on monitoring of landfill leachate, groundwater and surface water (LFTGN02) | G28: ='GW MONTHLY S4.5 CWMGW01B'!G28 -> 20/03/2013 | H28: Accuracy of testing equipment
B29: pH | C29: >6 , <9 | D29: Spot sample | E29: 6.5 | G29: =G28 -> 20/03/2013
B30: Electrical Conductivity | C30: not set | D30: Spot sample | E30: 355 | G30: =G29 -> 20/03/2013
B31: Dissolved Oxygen | C31: not set | D31: Spot sample | E31: 2.1 | G31: =G30 -> 20/03/2013
B32: Ammoniacal Nitorgen | C32: 393 mg/l | D32: Spot sample | E32: <0.27 | G32: =G31 -> 20/03/2013
B33: Chloride | C33: 11900 mg/l | D33: Spot sample | E33: 16.4 | G33: =G32 -> 20/03/2013
A40: [1] The result given is the maximum value (or the minimum value in the case of a limit that is expressed as a minimum) obtained during the reporting period, expressed in the same terms as the emission limit value. Where the emission limit value is expressed as a range, the result is given as the ‘minimum – maximum’ measured values.
A42: [2] Where an internationally recognised standard test method is used the reference number is given. Where another method that has been formally agreed with the Agency is used, then the appropriate identifier is given. In other cases the principal technique is stated, e.g. gas chromatography.
A44: [3] For non-continuous measurements the date and time of the sample that produced the result is given. For continuous measurements the percentage of the process operating time covered by the result is given.
A46: [4] The uncertainty associated with the quoted result at the 95% confidence interval, unless otherwise stated.
B48: Signed ……Antonio Montinaro…………………………….. | E48: ='GW MONTHLY S4.5 CWMGW01B'!E48:G48 -> Date…08.04.2013……………………..
B49: (Authorised to sign as representative of Operator)

Sheet GW MONTHLY S4.5 LFG12BG
A1: Permit Number: | B1: TP3835LV | E1: Operator: | F1: SI Green UK Limited
A3: Installation: | B3: Cwmrhydyceirw Quarry | E3: Form Number: | F3: Ground Water 1 - 15 October 2008
A5: ='GW MONTHLY S4.5 CWMGW01B'!A5:H5 -> Reporting of emissions to water (other than to sewer) for the period from 01 Jan 2013 - 31 Mar 2013
A7: Emission Point | B7: Substance /Parameter | C7: Emission Limit Value | D7: Reference Period | E7: Result [1] | F7: Test Method [2] | G7: Sample Date and Times [3] | H7: Uncertainty [4]
A8: LFG12BG | B8: Water Level | C8: m | D8: Spot sample | E8: 38.03 | F8: Methods used shall be in accordance with Agency guidance document ‘Guidance on monitoring of landfill leachate, groundwater and surface water (LFTGN02) | G8: 31/01/2013 | H8: Accuracy of testing equipment
B9: pH | C9: >6 , <9 | D9: Spot sample | E9: 6.6 | G9: =G8 -> 31/01/2013
B10: Electrical Conductivity | C10: not set | D10: Spot sample | E10: 311 | G10: =G9 -> 31/01/2013
B11: Dissolved Oxygen | C11: not set | D11: Spot sample | E11: 3.8 | G11: =G10 -> 31/01/2013
B12: Ammoniacal Nitorgen | C12: 393 mg/l | D12: Spot sample | E12: <0.27 | G12: =G11 -> 31/01/2013
B13: Chloride | C13: 11900 mg/l | D13: Spot sample | E13: 43.9 | G13: =G12 -> 31/01/2013
A18: LFG12BG | B18: Water Level | C18: m | D18: Spot sample | E18: 38.97 | F18: Methods used shall be in accordance with Agency guidance document ‘Guidance on monitoring of landfill leachate, groundwater and surface water (LFTGN02) | G18: 27/02/2013 | H18: Accuracy of testing equipment
B19: pH | C19: >6 , <9 | D19: Spot sample | E19: 6.6 | G19: =G18 -> 27/02/2013
B20: Electrical Conductivity | C20: not set | D20: Spot sample | E20: 313 | G20: =G19 -> 27/02/2013
B21: Dissolved Oxygen | C21: not set | D21: Spot sample | E21: 4.6 | G21: =G20 -> 27/02/2013
B22: Ammoniacal Nitorgen | C22: 393 mg/l | D22: Spot sample | E22: <0.27 | G22: =G21 -> 27/02/2013
B23: Chloride | C23: 11900 mg/l | D23: Spot sample | E23: 42.2 | G23: =G22 -> 27/02/2013
A28: LFG12BG | B28: Water Level | C28: m | D28: Spot sample | E28: 38.04 | F28: Methods used shall be in accordance with Agency guidance document ‘Guidance on monitoring of landfill leachate, groundwater and surface water (LFTGN02) | G28: ='GW MONTHLY S4.5 CWMGW01B'!G28 -> 20/03/2013 | H28: Accuracy of testing equipment
B29: pH | C29: >6 , <9 | D29: Spot sample | E29: 6.5 | G29: =G28 -> 20/03/2013
B30: Electrical Conductivity | C30: not set | D30: Spot sample | E30: 355 | G30: =G29 -> 20/03/2013
B31: Dissolved Oxygen | C31: not set | D31: Spot sample | E31: 2.1 | G31: =G30 -> 20/03/2013
B32: Ammoniacal Nitorgen | C32: 393 mg/l | D32: Spot sample | E32: <0.27 | G32: =G31 -> 20/03/2013
B33: Chloride | C33: 11900 mg/l | D33: Spot sample | E33: 16.4 | G33: =G32 -> 20/03/2013
A40: [1] The result given is the maximum value (or the minimum value in the case of a limit that is expressed as a minimum) obtained during the reporting period, expressed in the same terms as the emission limit value. Where the emission limit value is expressed as a range, the result is given as the ‘minimum – maximum’ measured values.
A42: [2] Where an internationally recognised standard test method is used the reference number is given. Where another method that has been formally agreed with the Agency is used, then the appropriate identifier is given. In other cases the principal technique is stated, e.g. gas chromatography.
A44: [3] For non-continuous measurements the date and time of the sample that produced the result is given. For continuous measurements the percentage of the process operating time covered by the result is given.
A46: [4] The uncertainty associated with the quoted result at the 95% confidence interval, unless otherwise stated.
B48: Signed …Antonio Montinaro……………………………….. | E48: ='GW MONTHLY S4.5 CWMGW01B'!E48:G48 -> Date…08.04.2013……………………..
B49: (Authorised to sign as representative of Operator)

Sheet Ground W Quarterly S4.11
A1: Permit Number: TP3835LV | E1: Operator: | F1: SI Green UK Limited
A3: Installation: | B3: Cwmrhydyceirw Quarry | E3: Form Number: | F3: Ground Water 1 - 15 October 2008
A5: ='GW MONTHLY S4.5 CWMGW01B'!A5:H5 -> Reporting of emissions to water (other than to sewer) for the period from 01 Jan 2013 - 31 Mar 2013
A7: Emission Point | B7: Substance /Parameter | C7: Emission Limit Value | D7: Reference Period | E7: Result [1] | F7: Test Method [2] | G7: Sample Date and Times [3] | H7: Uncertainty [4]
A8: CWMGW01B (Shallow) | B8: Cadmium | C8: n/a | D8: Spot sample | E8: 0.0007 | G8: ='GW MONTHLY S4.5 CWMGW01B'!G28 -> 20/03/2013 | H8: Accuracy of testing equipment
B9: Calcium | C9: n/a | D9: Spot sample | E9: 31.1 | G9: =G8 -> 20/03/2013
B10: Chromium | C10: n/a | D10: Spot sample | E10: <0.002 | G10: =G9 -> 20/03/2013
B11: Copper | C11: n/a | D11: Spot sample | E11: 0.0249 | G11: =G10 -> 20/03/2013
B12: Iron | C12: n/a | D12: Spot sample | E12: 0.963 | G12: =G11 -> 20/03/2013
B13: Lead | C13: n/a | D13: Spot sample | E13: <0.006 | G13: =G12 -> 20/03/2013
B14: Magnesium | C14: n/a | D14: Spot sample | E14: 1.83 | G14: =G13 -> 20/03/2013
B15: Manganese | C15: n/a | D15: Spot sample | E15: 0.161 | G15: =G14 -> 20/03/2013
B16: Mercury | C16: n/a | D16: Spot sample | E16: <0.0001 | G16: =G15 -> 20/03/2013
B17: Nickel | C17: n/a | D17: Spot sample | E17: 0.0112 | G17: =G16 -> 20/03/2013
B18: Potassium | C18: n/a | D18: Spot sample | E18: 1.29 | G18: =G17 -> 20/03/2013
B19: Sodium | C19: n/a | D19: Spot sample | E19: 21 | G19: =G18 -> 20/03/2013
B20: Zinc | C20: n/a | D20: Spot sample | E20: 0.0865 | G20: =G19 -> 20/03/2013
B21: Alkalinity as CaCO3 | C21: n/a | D21: Spot sample | E21: na | G21: =G20 -> 20/03/2013
B22: Total Oxidised Nitrogen | C22: n/a | D22: Spot sample | E22: 0.61 | G22: =G21 -> 20/03/2013
B23: Sulphate | C23: n/a | D23: Spot sample | E23: 6.2 | G23: =G22 -> 20/03/2013
B24: Total Organic Carbon | C24: n/a | D24: Spot sample | E24: 6.7 | G24: =G23 -> 20/03/2013
B25: Cyanide, Total as CN | C25: n/a | D25: Spot sample | E25: <0.009 | G25: =G24 -> 20/03/2013
B26: Phenols Mono (Phenol Index) | C26: n/a | D26: Spot sample | E26: <0.15 | G26: =G25 -> 20/03/2013
A27: CWMGW03 (Replacement) | B27: Cadmium | C27: n/a | D27: Spot sample | E27: 0.001 | G27: =G26 -> 20/03/2013 | H27: Accuracy of testing equipment
B28: Calcium | C28: n/a | D28: Spot sample | E28: 51.5 | G28: =G27 -> 20/03/2013
B29: Chromium | C29: n/a | D29: Spot sample | E29: 0.0075 | G29: =G28 -> 20/03/2013
B30: Copper | C30: n/a | D30: Spot sample | E30: 0.0144 | G30: =G29 -> 20/03/2013
B31: Iron | C31: n/a | D31: Spot sample | E31: 32.8 | G31: =G30 -> 20/03/2013
B32: Lead | C32: n/a | D32: Spot sample | E32: 0.013 | G32: =G31 -> 20/03/2013
B33: Magnesium | C33: n/a | D33: Spot sample | E33: 22.4 | G33: =G32 -> 20/03/2013
B34: Manganese | C34: n/a | D34: Spot sample | E34: 0.667 | G34: =G33 -> 20/03/2013
B35: Mercury | C35: n/a | D35: Spot sample | E35: <0.0001 | G35: =G34 -> 20/03/2013
B36: Nickel | C36: n/a | D36: Spot sample | E36: 0.0188 | G36: =G35 -> 20/03/2013
B37: Potassium | C37: n/a | D37: Spot sample | E37: 3.17 | G37: =G36 -> 20/03/2013
B38: Sodium | C38: n/a | D38: Spot sample | E38: 9.3 | G38: =G37 -> 20/03/2013
B39: Zinc | C39: n/a | D39: Spot sample | E39: 0.0393 | G39: =G38 -> 20/03/2013
B40: Alkalinity as CaCO3 | C40: n/a | D40: Spot sample | E40: 218 | G40: =G39 -> 20/03/2013
B41: Total Oxidised Nitrogen | C41: n/a | D41: Spot sample | E41: <0.42 | G41: =G40 -> 20/03/2013
B42: Sulphate | C42: n/a | D42: Spot sample | E42: 37.9 | G42: =G41 -> 20/03/2013
B43: Total Organic Carbon | C43: n/a | D43: Spot sample | E43: 1.9 | G43: =G42 -> 20/03/2013
...

Sheet Sheet1
