Workbook

Sheet README
A1: Title | B1: SMALL SEWAGE DISCHARGES TO UNDERGROUND STRATA - LEVEL 1 SIMPLE SCORING SPREADSHEET
A2: Version | B2: 2
A3: Date | B3: August 2013
A4: Issued by | B4: Environment Agency
A6: Summary of changes | B6: Now includes options for the assessment of new and existing discharges in source protection zone 1
A9: Important information | B9: The British Standard referred to is BS 6297:2007+A1:2008 – Code of practice for the design and installation of drainage fields for use in wastewater treatment

Sheet Scoring
A2: TITLE | B2: SMALL SEWAGE DISCHARGES TO UNDERGROUND STRATA - LEVEL 1 SIMPLE SCORING SPREADSHEET | J2: Version 2.0 August 2013
B4: Completed by: | C4: Katrin Raynor-Evans | H4: Data entry
B5: Date: | C5: 2nd October 2019 | H5: Pull down menu
B6: Site: | C6: Alice Springs, Kemys Commander, Usk NP15 1JG | H6: Score
B7: Permit No: | C7: PAN-005828 | H7: Information
B9: The SSS is intended to support the assessment of new applications and reviews of existing permits.
B10: It is only intended for discharges of up to 15 m3/d outside of SPZ1s and for new discharges in SPZ1s of 2 m3/d or less only. Refer to OI 55_03 for further information..
B12: Place the cursor over a boxed cell with a red corner to reveal additional notes.
B13: A box is given in each section to enter justification notes for the values used.
A15: 1 | B15: Discharge Rate | D15: GP3 Position statement | I15: Enter rate> | J15: 10.5 | K15: m3/d
I16: Score> | J16: =J15*4-15 -> 27 | K16: Rate times 4 minus 15
A19: 2 | B19: Soakage medium | D19: Comment | E19: Soakage Medium Thickness | F19: Drainage Rate
F20: Fast | G20: British Standard | H20: Slow
F21: Vp<15 | G21: Vp 15 - 100 | H21: Vp > 100
E22: No Drainage Blanket | F22: =Lookup!AA6 -> 15 | G22: =Lookup!AB6 -> 10 | H22: =Lookup!AC6 -> 5
E23: BS compliant (0.2-0.3m) | F23: =Lookup!AA7 -> 10 | G23: =Lookup!AB7 -> 8 | H23: =Lookup!AC7 -> 1
C24: Thickness of Additional Drainage Layer (e.g. engineered sand) | E24: 0-2m | F24: =Lookup!AA8 -> 10 | G24: =Lookup!AB8 -> 6 | H24: =Lookup!AC8 -> 1
E25: >2-3m | F25: =Lookup!AA9 -> 10 | G25: =Lookup!AB9 -> 4 | H25: =Lookup!AC9 -> 1 | I25: Soakage Medium Thickness | J25: BS compliant (0.2-0.3m) | K25: Justification (include actual Vp): 31.8
E26: >3m | F26: =Lookup!AA10 -> 10 | G26: =Lookup!AB10 -> 2 | H26: =Lookup!AC10 -> 1 | I26: Drainage rate | J26: British Standard
I27: Score | J27: =VLOOKUP(J25&J26,Lookup!AF4:AG18,2,FALSE) -> 8
A30: 3 | B30: Unsaturated pathway | D30: Comment | E30: Unsaturated Zone Thickness | F30: Chalk, Limestone & highly fissured rocks | G30: Sand, sandstone, poorly fissured chalk | H30: Other aquifers or subsoils
E31: <1.2m | F31: =Lookup!AA13 -> 10 | G31: =Lookup!AB13 -> 10 | H31: =Lookup!AC13 -> 4
E32: 1.2-2m | F32: =Lookup!AA14 -> 10 | G32: =Lookup!AB14 -> 4 | H32: =Lookup!AC14 -> 2
E33: 2-5m | F33: =Lookup!AA15 -> 10 | G33: =Lookup!AB15 -> 3 | H33: =Lookup!AC15 -> 1 | I33: Unsat thickness | J33: 1.2-2m | K33: Justification From Easimap: The infiltration system does not lie on top of chalk or limestone nor sand or sandstone
E34: 5-10m | F34: =Lookup!AA16 -> 6 | G34: =Lookup!AB16 -> 2 | H34: =Lookup!AC16 -> 1 | I34: Rock type | J34: Other aquifers or subsoils
E35: 10-20m | F35: =Lookup!AA17 -> 2 | G35: =Lookup!AB17 -> 1 | H35: =Lookup!AC17 -> 1 | I35: Score | J35: =VLOOKUP(J33&J34,Lookup!AF22:AG41,2, FALSE) -> 2
E36: >20m | F36: =Lookup!AA18 -> 1 | G36: =Lookup!AB18 -> 1 | H36: =Lookup!AC18 -> 1
A38: 4 | B38: Saturated aquifer | D38: Comment | E38: Conduit flow (Karst only) | H38: =Lookup!AA21 -> 25
E39: Limestone or weathered rocks | H39: =Lookup!AA22 -> 10
E40: Chalk or strongly fissured rocks | H40: =Lookup!AA23 -> 5
E41: Intergranular unconsolidated | H41: =Lookup!AA24 -> 3
E42: Intergranular consolidated | H42: =Lookup!AA25 -> 2 | I42: Pathway | J42: Intergranular unconsolidated | K42: Justification: Mudstone
E43: Poorly permeable strata | H43: =Lookup!AA26 -> 0 | I43: Score | J43: =VLOOKUP(J42,E38:H43,4,FALSE) -> 3
A47: 5 | B47: Mixing zone thickness | D47: Comment | F47: <2m | G47: =Lookup!AA30 -> 3
F48: 2-5m | G48: =Lookup!AA31 -> 2
F49: >5m | G49: =Lookup!AA32 -> 1
I50: Thickness | J50: 2-5m | K50: Justification: Default
I51: Score | J51: =VLOOKUP(J50,F47:G49,2,FALSE) -> 2
A54: 6 | B54: Distance to compliance point | D54: Comment | F54: If inside a SPZ1 or within 50m of a drinking water abstraction for gw, enter: SPZ1 | I54: SPZ1 Score (was 80) | J54: =VLOOKUP(J42,Lookup!Z21:AB26,3,FALSE) -> 20
I55: Default score (was 25) | J55: =Lookup!AA42 -> 50
...

Sheet Lookup
Z1: Lookups used in Scoring and Sensitivity Sheets
A4: =Z4 -> Soakage medium | B4: =AA4 -> 0 | C4: =AB4 -> 0 | D4: =AC4 -> 0 | E4: =AD4 -> 0 | F4: =AE4 -> 0 | G4: =AF4 -> No Drainage BlanketFast | H4: =AG4 -> 15 | Z4: Soakage medium | AF4: =Z6&AA$5 -> No Drainage BlanketFast | AG4: =AA6 -> 15
A5: =Z5 -> 0 | B5: =AA5 -> Fast | C5: =AB5 -> British Standard | D5: =AC5 -> Slow | E5: =AD5 -> 0 | F5: =AE5 -> 0 | G5: =AF5 -> BS compliant (0.2-0.3m)Fast | H5: =AG5 -> 10 | AA5: Fast | AB5: British Standard | AC5: Slow | AF5: =Z7&AA$5 -> BS compliant (0.2-0.3m)Fast | AG5: =AA7 -> 10
A6: =Z6 -> No Drainage Blanket | B6: =AA6 -> 15 | C6: =AB6 -> 10 | D6: =AC6 -> 5 | E6: =AD6 -> 0 | F6: =AE6 -> 0 | G6: =AF6 -> 0-2mFast | H6: =AG6 -> 10 | Z6: No Drainage Blanket | AA6: 15 | AB6: 10 | AC6: 5 | AF6: =Z8&AA$5 -> 0-2mFast | AG6: =AA8 -> 10
A7: =Z7 -> BS compliant (0.2-0.3m) | B7: =AA7 -> 10 | C7: =AB7 -> 8 | D7: =AC7 -> 1 | E7: =AD7 -> 0 | F7: =AE7 -> 0 | G7: =AF7 -> >2-3mFast | H7: =AG7 -> 10 | Z7: BS compliant (0.2-0.3m) | AA7: 10 | AB7: 8 | AC7: 1 | AF7: =Z9&AA$5 -> >2-3mFast | AG7: =AA9 -> 10
A8: =Z8 -> 0-2m | B8: =AA8 -> 10 | C8: =AB8 -> 6 | D8: =AC8 -> 1 | E8: =AD8 -> 0 | F8: =AE8 -> 0 | G8: =AF8 -> >3mFast | H8: =AG8 -> 10 | Z8: 0-2m | AA8: 10 | AB8: 6 | AC8: 1 | AF8: =Z10&AA$5 -> >3mFast | AG8: =AA10 -> 10
A9: =Z9 -> >2-3m | B9: =AA9 -> 10 | C9: =AB9 -> 4 | D9: =AC9 -> 1 | E9: =AD9 -> 0 | F9: =AE9 -> 0 | G9: =AF9 -> No Drainage BlanketBritish Standard | H9: =AG9 -> 10 | Z9: >2-3m | AA9: 10 | AB9: 4 | AC9: 1 | AF9: =Z6&AB$5 -> No Drainage BlanketBritish Standard | AG9: =AB6 -> 10
A10: =Z10 -> >3m | B10: =AA10 -> 10 | C10: =AB10 -> 2 | D10: =AC10 -> 1 | E10: =AD10 -> 0 | F10: =AE10 -> 0 | G10: =AF10 -> BS compliant (0.2-0.3m)British Standard | H10: =AG10 -> 8 | Z10: >3m | AA10: 10 | AB10: 2 | AC10: 1 | AF10: =Z7&AB$5 -> BS compliant (0.2-0.3m)British Standard | AG10: =AB7 -> 8
A11: =Z11 -> Unsaturated pathway | B11: =AA11 -> 0 | C11: =AB11 -> 0 | D11: =AC11 -> 0 | E11: =AD11 -> 0 | F11: =AE11 -> 0 | G11: =AF11 -> 0-2mBritish Standard | H11: =AG11 -> 6 | Z11: Unsaturated pathway | AF11: =Z8&AB$5 -> 0-2mBritish Standard | AG11: =AB8 -> 6
A12: =Z12 -> 0 | B12: =AA12 -> Chalk, Limestone & highly fissured rocks | C12: =AB12 -> Sand, sandstone, poorly fissured chalk | D12: =AC12 -> Other aquifers or subsoils | E12: =AD12 -> 0 | F12: =AE12 -> 0 | G12: =AF12 -> >2-3mBritish Standard | H12: =AG12 -> 4 | AA12: Chalk, Limestone & highly fissured rocks | AB12: Sand, sandstone, poorly fissured chalk | AC12: Other aquifers or subsoils | AF12: =Z9&AB$5 -> >2-3mBritish Standard | AG12: =AB9 -> 4
A13: =Z13 -> <1.2m | B13: =AA13 -> 10 | C13: =AB13 -> 10 | D13: =AC13 -> 4 | E13: =AD13 -> 0 | F13: =AE13 -> 0 | G13: =AF13 -> >3mBritish Standard | H13: =AG13 -> 2 | Z13: <1.2m | AA13: 10 | AB13: 10 | AC13: 4 | AF13: =Z10&AB$5 -> >3mBritish Standard | AG13: =AB10 -> 2
A14: =Z14 -> 1.2-2m | B14: =AA14 -> 10 | C14: =AB14 -> 4 | D14: =AC14 -> 2 | E14: =AD14 -> 0 | F14: =AE14 -> 0 | G14: =AF14 -> No Drainage BlanketSlow | H14: =AG14 -> 5 | Z14: 1.2-2m | AA14: 10 | AB14: 4 | AC14: 2 | AF14: =Z6&AC$5 -> No Drainage BlanketSlow | AG14: =AC6 -> 5
A15: =Z15 -> 2-5m | B15: =AA15 -> 10 | C15: =AB15 -> 3 | D15: =AC15 -> 1 | E15: =AD15 -> 0 | F15: =AE15 -> 0 | G15: =AF15 -> BS compliant (0.2-0.3m)Slow | H15: =AG15 -> 1 | Z15: 2-5m | AA15: 10 | AB15: 3 | AC15: 1 | AF15: =Z7&AC$5 -> BS compliant (0.2-0.3m)Slow | AG15: =AC7 -> 1
A16: =Z16 -> 5-10m | B16: =AA16 -> 6 | C16: =AB16 -> 2 | D16: =AC16 -> 1 | E16: =AD16 -> 0 | F16: =AE16 -> 0 | G16: =AF16 -> 0-2mSlow | H16: =AG16 -> 1 | Z16: 5-10m | AA16: 6 | AB16: 2 | AC16: 1 | AF16: =Z8&AC$5 -> 0-2mSlow | AG16: =AC8 -> 1
A17: =Z17 -> 10-20m | B17: =AA17 -> 2 | C17: =AB17 -> 1 | D17: =AC17 -> 1 | E17: =AD17 -> 0 | F17: =AE17 -> 0 | G17: =AF17 -> >2-3mSlow | H17: =AG17 -> 1 | Z17: 10-20m | AA17: 2 | AB17: 1 | AC17: 1 | AF17: =Z9&AC$5 -> >2-3mSlow | AG17: =AC9 -> 1
A18: =Z18 -> >20m | B18: =AA18 -> 1 | C18: =AB18 -> 1 | D18: =AC18 -> 1 | E18: =AD18 -> 0 | F18: =AE18 -> 0 | G18: =AF18 -> >3mSlow | H18: =AG18 -> 1 | Z18: >20m | AA18: 1 | AB18: 1 | AC18: 1 | AF18: =Z10&AC$5 -> >3mSlow | AG18: =AC10 -> 1
A20: =Z20 -> Saturated pathway | B20: =AA20 -> 0 | C20: =AB20 -> SPZ1 Score | D20: =AC20 -> Decay Rate | E20: =AD20 -> Distance for default score | F20: =AE20 -> 0 | G20: =AF20 -> 0 | H20: =AG20 -> 0 | Z20: Saturated pathway | AB20: SPZ1 Score | AC20: Decay Rate | AD20: Distance for default score
A21: =Z21 -> Conduit flow (Karst only) | B21: =AA21 -> 25 | C21: =AB21 -> 30 | D21: =AC21 -> 0.001 | E21: =AD21 -> 50 | F21: =AE21 -> 0 | G21: =AF21 -> 0 | H21: =AG21 -> 0 | Z21: Conduit flow (Karst only) | AA21: 25 | AB21: 30 | AC21: 0.001 | AD21: 50
A22: =Z22 -> Limestone or weathered rocks | B22: =AA22 -> 10 | C22: =AB22 -> 20 | D22: =AC22 -> 0.01 | E22: =AD22 -> 50 | F22: =AE22 -> 0 | G22: =AF22 -> <1.2mChalk, Limestone & highly fissured rocks | H22: =AG22 -> 10 | Z22: Limestone or weathered rocks | AA22: 10 | AB22: 20 | AC22: 0.01 | AD22: 50 | AF22: =Z13&AA$12 -> <1.2mChalk, Limestone & highly fissured rocks | AG22: =AA13 -> 10
A23: =Z23 -> Chalk or strongly fissured rocks | B23: =AA23 -> 5 | C23: =AB23 -> 10 | D23: =AC23 -> 0.01 | E23: =AD23 -> 50 | F23: =AE23 -> 0 | G23: =AF23 -> 1.2-2mChalk, Limestone & highly fissured rocks | H23: =AG23 -> 10 | Z23: Chalk or strongly fissured rocks | AA23: 5 | AB23: 10 | AC23: 0.01 | AD23: 50 | AF23: =Z14&AA$12 -> 1.2-2mChalk, Limestone & highly fissured rocks | AG23: =AA14 -> 10
A24: =Z24 -> Intergranular unconsolidated | B24: =AA24 -> 3 | C24: =AB24 -> 20 | D24: =AC24 -> 0.01 | E24: =AD24 -> 30 | F24: =AE24 -> 0 | G24: =AF24 -> 2-5mChalk, Limestone & highly fissured rocks | H24: =AG24 -> 10 | Z24: Intergranular unconsolidated | AA24: 3 | AB24: 20 | AC24: 0.01 | AD24: 30 | AF24: =Z15&AA$12 -> 2-5mChalk, Limestone & highly fissured rocks | AG24: =AA15 -> 10
A25: =Z25 -> Intergranular consolidated | B25: =AA25 -> 2 | C25: =AB25 -> 20 | D25: =AC25 -> 0.02 | E25: =AD25 -> 30 | F25: =AE25 -> 0 | G25: =AF25 -> 5-10mChalk, Limestone & highly fissured rocks | H25: =AG25 -> 6 | Z25: Intergranular consolidated | AA25: 2 | AB25: 20 | AC25: 0.02 | AD25: 30 | AF25: =Z16&AA$12 -> 5-10mChalk, Limestone & highly fissured rocks | AG25: =AA16 -> 6
A26: =Z26 -> Poorly permeable strata | B26: =AA26 -> 0 | C26: =AB26 -> 10 | D26: =AC26 -> 0.05 | E26: =AD26 -> 30 | F26: =AE26 -> 0 | G26: =#REF! -> #REF! | H26: =#REF! -> #REF! | Z26: Poorly permeable strata | AA26: 0 | AB26: 10 | AC26: 0.05 | AD26: 30 | AF26: =Z17&AA$12 -> 10-20mChalk, Limestone & highly fissured rocks | AG26: =AA17 -> 2
A27: =Z27 -> 0 | B27: =AA27 -> 0 | C27: =AB27 -> 0 | D27: =AC27 -> 0 | E27: =AD27 -> 0 | F27: =AE27 -> 0 | G27: =AF26 -> 10-20mChalk, Limestone & highly fissured rocks | H27: =AG26 -> 2 | AF27: =Z18&AA$12 -> >20mChalk, Limestone & highly fissured rocks | AG27: =AA18 -> 1
A28: =Z28 -> 0 | B28: =AA28 -> 0 | C28: =AB28 -> 0 | D28: =AC28 -> 0 | E28: =AD28 -> 0 | F28: =AE28 -> 0 | G28: =AF27 -> >20mChalk, Limestone & highly fissured rocks | H28: =AG27 -> 1 | AF28: =Z13&AB$12 -> <1.2mSand, sandstone, poorly fissured chalk | AG28: =AB13 -> 10
A29: =Z29 -> Mixing zone thickness | B29: =AA29 -> 0 | C29: =AB29 -> 0 | D29: =AC29 -> 0 | E29: =AD29 -> 0 | F29: =AE29 -> 0 | G29: =#REF! -> #REF! | H29: =#REF! -> #REF! | Z29: Mixing zone thickness | AF29: =Z14&AB$12 -> 1.2-2mSand, sandstone, poorly fissured chalk | AG29: =AB14 -> 4
A30: =Z30 -> <2m | B30: =AA30 -> 3 | C30: =AB30 -> 0 | D30: =AC30 -> 0 | E30: =AD30 -> 0 | F30: =AE30 -> 0 | G30: =AF28 -> <1.2mSand, sandstone, poorly fissured chalk | H30: =AG28 -> 10 | Z30: <2m | AA30: 3 | AF30: =Z15&AB$12 -> 2-5mSand, sandstone, poorly fissured chalk | AG30: =AB15 -> 3
A31: =Z31 -> 2-5m | B31: =AA31 -> 2 | C31: =AB31 -> 0 | D31: =AC31 -> 0 | E31: =AD31 -> 0 | F31: =AE31 -> 0 | G31: =AF29 -> 1.2-2mSand, sandstone, poorly fissured chalk | H31: =AG29 -> 4 | Z31: 2-5m | AA31: 2 | AF31: =Z16&AB$12 -> 5-10mSand, sandstone, poorly fissured chalk | AG31: =AB16 -> 2
A32: =Z32 -> >5m | B32: =AA32 -> 1 | C32: =AB32 -> 0 | D32: =AC32 -> 0 | E32: =AD32 -> 0 | F32: =AE32 -> 0 | G32: =AF30 -> 2-5mSand, sandstone, poorly fissured chalk | H32: =AG30 -> 3 | Z32: >5m | AA32: 1 | AF32: =Z17&AB$12 -> 10-20mSand, sandstone, poorly fissured chalk | AG32: =AB17 -> 1
A33: =Z33 -> Level of sewage treatment | B33: =AA33 -> 0 | C33: =AB33 -> 0 | D33: =AC33 -> 0 | E33: =AD33 -> 0 | F33: =AE33 -> 0 | G33: =AF31 -> 5-10mSand, sandstone, poorly fissured chalk | H33: =AG31 -> 2 | Z33: Level of sewage treatment | AF33: =Z18&AB$12 -> >20mSand, sandstone, poorly fissured chalk | AG33: =AB18 -> 1
A34: =Z34 -> None | B34: =AA34 -> -10 | C34: =AB34 -> 0 | D34: =AC34 -> 0 | E34: =AD34 -> 0 | F34: =AE34 -> 0 | G34: =AF32 -> 10-20mSand, sandstone, poorly fissured chalk | H34: =AG32 -> 1 | Z34: None | AA34: -10 | AF34: =Z13&AC$12 -> <1.2mOther aquifers or subsoils | AG34: =AC13 -> 4
A35: =Z35 -> Primary with drainage field | B35: =AA35 -> 5 | C35: =AB35 -> 0 | D35: =AC35 -> 0 | E35: =AD35 -> 0 | F35: =AE35 -> 0 | G35: =AF33 -> >20mSand, sandstone, poorly fissured chalk | H35: =AG33 -> 1 | Z35: Primary with drainage field | AA35: 5 | AF35: =Z14&AC$12 -> 1.2-2mOther aquifers or subsoils | AG35: =AC14 -> 2
A36: =Z36 -> Secondary with drainage field | B36: =AA36 -> 25 | C36: =AB36 -> 0 | D36: =AC36 -> 0 | E36: =AD36 -> 0 | F36: =AE36 -> 0 | G36: =AF34 -> <1.2mOther aquifers or subsoils | H36: =AG34 -> 4 | Z36: Secondary with drainage field | AA36: 25 | AF36: =Z15&AC$12 -> 2-5mOther aquifers or subsoils | AG36: =AC15 -> 1
A37: =Z37 -> Tertiary with drainage field | B37: =AA37 -> 50 | C37: =AB37 -> 0 | D37: =AC37 -> 0 | E37: =AD37 -> 0 | F37: =AE37 -> 0 | G37: =AF35 -> 1.2-2mOther aquifers or subsoils | H37: =AG35 -> 2 | Z37: Tertiary with drainage field | AA37: 50 | AF37: =Z16&AC$12 -> 5-10mOther aquifers or subsoils | AG37: =AC16 -> 1
A38: =Z38 -> 0 | B38: =AA38 -> 0 | C38: =AB38 -> 0 | D38: =AC38 -> 0 | E38: =AD38 -> 0 | F38: =AE38 -> 0 | G38: =AF36 -> 2-5mOther aquifers or subsoils | H38: =AG36 -> 1 | AF38: =Z17&AC$12 -> 10-20mOther aquifers or subsoils | AG38: =AC17 -> 1
A39: =Z39 -> Compliance point | B39: =AA39 -> 0 | C39: =AB39 -> 0 | D39: =AC39 -> 0 | E39: =AD39 -> 0 | F39: =AE39 -> 0 | G39: =AF37 -> 5-10mOther aquifers or subsoils | H39: =AG37 -> 1 | Z39: Compliance point | AF39: =Z18&AC$12 -> >20mOther aquifers or subsoils | AG39: =AC18 -> 1
A40: =Z40 -> Minimum distance | B40: =AA40 -> 100 | C40: =AB40 -> 0 | D40: =AC40 -> 0 | E40: =AD40 -> 0 | F40: =AE40 -> 0 | G40: =AF38 -> 10-20mOther aquifers or subsoils | H40: =AG38 -> 1 | Z40: Minimum distance | AA40: 100
A41: =Z41 -> Decay constant | B41: =AA41 -> 0.0041 | C41: =AB41 -> 0 | D41: =AC41 -> 0 | E41: =AD41 -> 0 | F41: =AE41 -> 0 | G41: =AF39 -> >20mOther aquifers or subsoils | H41: =AG39 -> 1 | Z41: Decay constant | AA41: 0.0041
A42: =Z42 -> Default score | B42: =AA42 -> 50 | C42: =AB42 -> 0 | D42: =AC42 -> 0 | E42: =AD42 -> 0 | F42: =AE42 -> 0 | G42: =AF42 -> 0 | H42: =AG42 -> 0 | Z42: Default score | AA42: 50
Z43: Distance for default score | AA43: 50
...

Sheet Sensitivity
G1: Key:
A2: Sensitivity and Score Breakdowns | G2: Data Entry
G3: Enter comment to describe sensitivity run
G4: Data Entry - Pull Down | R4: No Drainage Blanket
G5: Scores | R5: BS compliant (0.2-0.3m)
C6: Base case (from Scoring sheet) | D6: Sensitivity analysis | G6: Base Case from Scoring worksheet | R6: 0-2m
A7: Individual Category | B7: No. | C7: Scoring sheet | D7: 2 | E7: 3 | F7: 4 | G7: 5 | H7: 6 | I7: 7 | J7: 8 | K7: 9 | R7: >2-3m
B8: Name: | C8: =Scoring!D6 -> 0 | R8: >3m
B9: Comment:
A10: Discharge Rate | B10: m3/d | C10: =Scoring!$J$15 -> 10.5 | D10: 3
A11: Drainage field | C11: =Scoring!$J$25 -> BS compliant (0.2-0.3m) | D11: BS compliant (0.2-0.3m) | R11: Fast
A12: Drainage rate (Fast, medium, slow) | C12: =Scoring!$J$26 -> British Standard | D12: British Standard | R12: British Standard
A13: Thickness unsaturated zone | B13: m | C13: =Scoring!$J$33 -> 1.2-2m | D13: 1.2-2m | R13: Slow
A14: Rock type (unsaturated zone) | C14: =Scoring!$J$34 -> Other aquifers or subsoils | D14: Other aquifers or subsoils
A15: Aquifer Type | C15: =Scoring!$J$42 -> Intergranular unconsolidated | D15: Poorly permeable strata | R15: <1.2m
A16: Mixing zone thickness | B16: m | C16: =Scoring!$J$50 -> 2-5m | D16: 2-5m | R16: 1.2-2m
A17: Within SPZ1 | C17: =Scoring!$J$59 -> Outside SPZ1 | D17: Outside SPZ1 | R17: 2-5m
A18: Distance to compliance point | B18: m | C18: =Scoring!$J$58 -> 132.2 | D18: 53 | R18: 5-10m
A19: Level of sewage treatment | C19: =Scoring!$J$67 -> Secondary with drainage field | D19: Primary with drainage field | R19: 10-20m
A20: Final Score | C20: =Scoring!$J$72 -> 45 | D20: =D113 -> 51 | E20: =E113 -> #N/A | F20: =F113 -> #N/A | G20: =G113 -> #N/A | H20: =H113 -> #N/A | I20: =I113 -> #N/A | J20: =J113 -> #N/A | K20: =K113 -> #N/A | R20: >20m
A21: Assessment | C21: =IF(C20>80,"Refuse",IF(C20>50,"Review","Acceptable")) -> Acceptable | D21: =IF(D20>80,"Refuse",IF(D20>50,"Review","Acceptable")) -> Review | E21: =IF(E20>80,"Refuse",IF(E20>50,"Review","Acceptable")) -> #N/A | F21: =IF(F20>80,"Refuse",IF(F20>50,"Review","Acceptable")) -> #N/A | G21: =IF(G20>80,"Refuse",IF(G20>50,"Review","Acceptable")) -> #N/A | H21: =IF(H20>80,"Refuse",IF(H20>50,"Review","Acceptable")) -> #N/A | I21: =IF(I20>80,"Refuse",IF(I20>50,"Review","Acceptable")) -> #N/A | J21: =IF(J20>80,"Refuse",IF(J20>50,"Review","Acceptable")) -> #N/A | K21: =IF(K20>80,"Refuse",IF(K20>50,"Review","Acceptable")) -> #N/A
R22: Conduit flow (Karst only)
R23: Limestone or weathered rocks
R24: Chalk or strongly fissured rocks
R25: Intergranular unconsolidated
R26: Intergranular consolidated
R27: Poorly permeable strata
R29: <2m
R30: 2-5m
R31: >5m
R33: Within SPZ1
R34: Outside SPZ1
R36: None
... R43: Other aquifers or subsoils
A102: Score calculation
A103: Discharge Rate | B103: score | C103: =C10*4-15 -> 27 | D103: =D10*4-15 -> -3 | E103: =E10*4-15 -> -15 | F103: =F10*4-15 -> -15 | G103: =G10*4-15 -> -15 | H103: =H10*4-15 -> -15 | I103: =I10*4-15 -> -15 | J103: =J10*4-15 -> -15 | K103: =K10*4-15 -> -15
A104: Soakage medium | B104: score | C104: =VLOOKUP(C11&C12,Lookup!$AF$4:$AG$18,2,FALSE) -> 8 | D104: =VLOOKUP(D11&D12,Lookup!$AF$4:$AG$18,2,FALSE) -> 8 | E104: =VLOOKUP(E11&E12,Lookup!$AF$4:$AG$18,2,FALSE) -> #N/A | F104: =VLOOKUP(F11&F12,Lookup!$AF$4:$AG$18,2,FALSE) -> #N/A | G104: =VLOOKUP(G11&G12,Lookup!$AF$4:$AG$18,2,FALSE) -> #N/A | H104: =VLOOKUP(H11&H12,Lookup!$AF$4:$AG$18,2,FALSE) -> #N/A | I104: =VLOOKUP(I11&I12,Lookup!$AF$4:$AG$18,2,FALSE) -> #N/A | J104: =VLOOKUP(J11&J12,Lookup!$AF$4:$AG$18,2,FALSE) -> #N/A | K104: =VLOOKUP(K11&K12,Lookup!$AF$4:$AG$18,2,FALSE) -> #N/A
A105: Unsaturated pathway | B105: score | C105: =VLOOKUP(C13&C14,Lookup!$AF$22:$AG$39,2,FALSE) -> 2 | D105: =VLOOKUP(D13&D14,Lookup!$AF$22:$AG$39,2,FALSE) -> 2 | E105: =VLOOKUP(E13&E14,Lookup!$AF$22:$AG$39,2,FALSE) -> #N/A | F105: =VLOOKUP(F13&F14,Lookup!$AF$22:$AG$39,2,FALSE) -> #N/A | G105: =VLOOKUP(G13&G14,Lookup!$AF$22:$AG$39,2,FALSE) -> #N/A | H105: =VLOOKUP(H13&H14,Lookup!$AF$22:$AG$39,2,FALSE) -> #N/A | I105: =VLOOKUP(I13&I14,Lookup!$AF$22:$AG$39,2,FALSE) -> #N/A | J105: =VLOOKUP(J13&J14,Lookup!$AF$22:$AG$39,2,FALSE) -> #N/A | K105: =VLOOKUP(K13&K14,Lookup!$AF$22:$AG$39,2,FALSE) -> #N/A
A106: Unsaturated zone | B106: score | C106: =C104*C105 -> 16 | D106: =D104*D105 -> 16 | E106: =E104*E105 -> #N/A | F106: =F104*F105 -> #N/A | G106: =G104*G105 -> #N/A | H106: =H104*H105 -> #N/A | I106: =I104*I105 -> #N/A | J106: =J104*J105 -> #N/A | K106: =K104*K105 -> #N/A
A107: Saturated pathway | B107: score | C107: =VLOOKUP(C15,Lookup!$Z$21:$AA$26,2,FALSE) -> 3 | D107: =VLOOKUP(D15,Lookup!$Z$21:$AA$26,2,FALSE) -> 0 | E107: =VLOOKUP(E15,Lookup!$Z$21:$AA$26,2,FALSE) -> #N/A | F107: =VLOOKUP(F15,Lookup!$Z$21:$AA$26,2,FALSE) -> #N/A | G107: =VLOOKUP(G15,Lookup!$Z$21:$AA$26,2,FALSE) -> #N/A | H107: =VLOOKUP(H15,Lookup!$Z$21:$AA$26,2,FALSE) -> #N/A | I107: =VLOOKUP(I15,Lookup!$Z$21:$AA$26,2,FALSE) -> #N/A | J107: =VLOOKUP(J15,Lookup!$Z$21:$AA$26,2,FALSE) -> #N/A | K107: =VLOOKUP(K15,Lookup!$Z$21:$AA$26,2,FALSE) -> #N/A
...

Sheet ScoresWithDistance
S1: Yes
S2: No
A6: From Scoring Sheet
B7: j55 | C7: SPZ1 Score (was 80) | D7: =Scoring!J54 -> 20
B8: j56 | C8: Default score (was 25) | D8: =Scoring!J55 -> 50
B9: j57 | C9: Distance for default score (was 100) | D9: =Scoring!J56 -> 50
B10: j58 | C10: Decay factor | D10: =Scoring!J57 -> 0.01
B11: j59 | C11: Within SPZ1 | D11: =Scoring!J59 -> Outside SPZ1
A18: Distance | B18: OrigSPZ1 | C18: Score with Distance | D18: Total Score (with other factors added) | E18: Difference | F18: Distance (from Scoring sheet) | H18: Acceptable-Review Threshold
H19: 0 | I19: 50
A20: 5 | B20: =IF(AND($D$1="Yes",A20> $D$3), $D$2*EXP(-0.0044*(A20-B$3)), $D$2) -> 0 | C20: =IF($D$11="Within SPZ1",IF(A20<$D$9,$D$7+$D$8,$D$7+$D$8*EXP(-$D$10*(A20-$D$9))),IF(A20<$D$9,$D$8,$D$8*EXP(-$D$10*(A20-$D$9)))) -> 50 | D20: =C20+Scoring!$J$73 -> 74 | F20: =Scoring!$J$58 -> 132.2 | G20: 0 | H20: =A362 -> 1715 | I20: 50
A21: 10 | B21: =IF(AND($D$1="Yes",A21> $D$3), $D$2*EXP(-0.0044*(A21-B$3)), $D$2) -> 0 | C21: =IF($D$11="Within SPZ1",IF(A21<$D$9,$D$7+$D$8,$D$7+$D$8*EXP(-$D$10*(A21-$D$9))),IF(A21<$D$9,$D$8,$D$8*EXP(-$D$10*(A21-$D$9)))) -> 50 | D21: =C21+Scoring!$J$73 -> 74 | F21: =Scoring!$J$58 -> 132.2 | G21: =D20 -> 74
A22: 15 | B22: =IF(AND($D$1="Yes",A22> $D$3), $D$2*EXP(-0.0044*(A22-B$3)), $D$2) -> 0 | C22: =IF($D$11="Within SPZ1",IF(A22<$D$9,$D$7+$D$8,$D$7+$D$8*EXP(-$D$10*(A22-$D$9))),IF(A22<$D$9,$D$8,$D$8*EXP(-$D$10*(A22-$D$9)))) -> 50 | D22: =C22+Scoring!$J$73 -> 74
A23: 20 | B23: =IF(AND($D$1="Yes",A23> $D$3), $D$2*EXP(-0.0044*(A23-B$3)), $D$2) -> 0 | C23: =IF($D$11="Within SPZ1",IF(A23<$D$9,$D$7+$D$8,$D$7+$D$8*EXP(-$D$10*(A23-$D$9))),IF(A23<$D$9,$D$8,$D$8*EXP(-$D$10*(A23-$D$9)))) -> 50 | D23: =C23+Scoring!$J$73 -> 74
A24: 25 | B24: =IF(AND($D$1="Yes",A24> $D$3), $D$2*EXP(-0.0044*(A24-B$3)), $D$2) -> 0 | C24: =IF($D$11="Within SPZ1",IF(A24<$D$9,$D$7+$D$8,$D$7+$D$8*EXP(-$D$10*(A24-$D$9))),IF(A24<$D$9,$D$8,$D$8*EXP(-$D$10*(A24-$D$9)))) -> 50 | D24: =C24+Scoring!$J$73 -> 74 | H24: Review-Consider Refusal Threshold
A25: 30 | B25: =IF(AND($D$1="Yes",A25> $D$3), $D$2*EXP(-0.0044*(A25-B$3)), $D$2) -> 0 | C25: =IF($D$11="Within SPZ1",IF(A25<$D$9,$D$7+$D$8,$D$7+$D$8*EXP(-$D$10*(A25-$D$9))),IF(A25<$D$9,$D$8,$D$8*EXP(-$D$10*(A25-$D$9)))) -> 50 | D25: =C25+Scoring!$J$73 -> 74 | H25: 0 | I25: 80
A26: 35 | B26: =IF(AND($D$1="Yes",A26> $D$3), $D$2*EXP(-0.0044*(A26-B$3)), $D$2) -> 0 | C26: =IF($D$11="Within SPZ1",IF(A26<$D$9,$D$7+$D$8,$D$7+$D$8*EXP(-$D$10*(A26-$D$9))),IF(A26<$D$9,$D$8,$D$8*EXP(-$D$10*(A26-$D$9)))) -> 50 | D26: =C26+Scoring!$J$73 -> 74 | H26: =A362 -> 1715 | I26: 80
A27: 40 | B27: =IF(AND($D$1="Yes",A27> $D$3), $D$2*EXP(-0.0044*(A27-B$3)), $D$2) -> 0 | C27: =IF($D$11="Within SPZ1",IF(A27<$D$9,$D$7+$D$8,$D$7+$D$8*EXP(-$D$10*(A27-$D$9))),IF(A27<$D$9,$D$8,$D$8*EXP(-$D$10*(A27-$D$9)))) -> 50 | D27: =C27+Scoring!$J$73 -> 74
A28: 45 | B28: =IF(AND($D$1="Yes",A28> $D$3), $D$2*EXP(-0.0044*(A28-B$3)), $D$2) -> 0 | C28: =IF($D$11="Within SPZ1",IF(A28<$D$9,$D$7+$D$8,$D$7+$D$8*EXP(-$D$10*(A28-$D$9))),IF(A28<$D$9,$D$8,$D$8*EXP(-$D$10*(A28-$D$9)))) -> 50 | D28: =C28+Scoring!$J$73 -> 74
A29: 50 | B29: =IF(AND($D$1="Yes",A29> $D$3), $D$2*EXP(-0.0044*(A29-B$3)), $D$2) -> 0 | C29: =IF($D$11="Within SPZ1",IF(A29<$D$9,$D$7+$D$8,$D$7+$D$8*EXP(-$D$10*(A29-$D$9))),IF(A29<$D$9,$D$8,$D$8*EXP(-$D$10*(A29-$D$9)))) -> 50 | D29: =C29+Scoring!$J$73 -> 74
A30: 55 | B30: =IF(AND($D$1="Yes",A30> $D$3), $D$2*EXP(-0.0044*(A30-B$3)), $D$2) -> 0 | C30: =IF($D$11="Within SPZ1",IF(A30<$D$9,$D$7+$D$8,$D$7+$D$8*EXP(-$D$10*(A30-$D$9))),IF(A30<$D$9,$D$8,$D$8*EXP(-$D$10*(A30-$D$9)))) -> 47.561471 | D30: =C30+Scoring!$J$73 -> 71.561471 | E30: =D30-D31 -> 2.3196003
A31: 60 | B31: =IF(AND($D$1="Yes",A31> $D$3), $D$2*EXP(-0.0044*(A31-B$3)), $D$2) -> 0 | C31: =IF($D$11="Within SPZ1",IF(A31<$D$9,$D$7+$D$8,$D$7+$D$8*EXP(-$D$10*(A31-$D$9))),IF(A31<$D$9,$D$8,$D$8*EXP(-$D$10*(A31-$D$9)))) -> 45.241871 | D31: =C31+Scoring!$J$73 -> 69.241871 | E31: =D31-D32 -> 2.2064721
A32: 65 | B32: =IF(AND($D$1="Yes",A32> $D$3), $D$2*EXP(-0.0044*(A32-B$3)), $D$2) -> 0 | C32: =IF($D$11="Within SPZ1",IF(A32<$D$9,$D$7+$D$8,$D$7+$D$8*EXP(-$D$10*(A32-$D$9))),IF(A32<$D$9,$D$8,$D$8*EXP(-$D$10*(A32-$D$9)))) -> 43.035399 | D32: =C32+Scoring!$J$73 -> 67.035399 | E32: =D32-D33 -> 2.0988612
A33: 70 | B33: =IF(AND($D$1="Yes",A33> $D$3), $D$2*EXP(-0.0044*(A33-B$3)), $D$2) -> 0 | C33: =IF($D$11="Within SPZ1",IF(A33<$D$9,$D$7+$D$8,$D$7+$D$8*EXP(-$D$10*(A33-$D$9))),IF(A33<$D$9,$D$8,$D$8*EXP(-$D$10*(A33-$D$9)))) -> 40.936538 | D33: =C33+Scoring!$J$73 -> 64.936538 | E33: =D33-D34 -> 1.9964985
A34: 75 | B34: =IF(AND($D$1="Yes",A34> $D$3), $D$2*EXP(-0.0044*(A34-B$3)), $D$2) -> 0 | C34: =IF($D$11="Within SPZ1",IF(A34<$D$9,$D$7+$D$8,$D$7+$D$8*EXP(-$D$10*(A34-$D$9))),IF(A34<$D$9,$D$8,$D$8*EXP(-$D$10*(A34-$D$9)))) -> 38.940039 | D34: =C34+Scoring!$J$73 -> 62.940039 | E34: =D34-D35 -> 1.8991281
A35: 80 | B35: =IF(AND($D$1="Yes",A35> $D$3), $D$2*EXP(-0.0044*(A35-B$3)), $D$2) -> 0 | C35: =IF($D$11="Within SPZ1",IF(A35<$D$9,$D$7+$D$8,$D$7+$D$8*EXP(-$D$10*(A35-$D$9))),IF(A35<$D$9,$D$8,$D$8*EXP(-$D$10*(A35-$D$9)))) -> 37.040911 | D35: =C35+Scoring!$J$73 -> 61.040911 | E35: =D35-D36 -> 1.8065065
A36: 85 | B36: =IF(AND($D$1="Yes",A36> $D$3), $D$2*EXP(-0.0044*(A36-B$3)), $D$2) -> 0 | C36: =IF($D$11="Within SPZ1",IF(A36<$D$9,$D$7+$D$8,$D$7+$D$8*EXP(-$D$10*(A36-$D$9))),IF(A36<$D$9,$D$8,$D$8*EXP(-$D$10*(A36-$D$9)))) -> 35.234404 | D36: =C36+Scoring!$J$73 -> 59.234404 | E36: =D36-D37 -> 1.7184022
A37: 90 | B37: =IF(AND($D$1="Yes",A37> $D$3), $D$2*EXP(-0.0044*(A37-B$3)), $D$2) -> 0 | C37: =IF($D$11="Within SPZ1",IF(A37<$D$9,$D$7+$D$8,$D$7+$D$8*EXP(-$D$10*(A37-$D$9))),IF(A37<$D$9,$D$8,$D$8*EXP(-$D$10*(A37-$D$9)))) -> 33.516002 | D37: =C37+Scoring!$J$73 -> 57.516002 | E37: =D37-D38 -> 1.6345947
A38: 95 | B38: =IF(AND($D$1="Yes",A38> $D$3), $D$2*EXP(-0.0044*(A38-B$3)), $D$2) -> 0 | C38: =IF($D$11="Within SPZ1",IF(A38<$D$9,$D$7+$D$8,$D$7+$D$8*EXP(-$D$10*(A38-$D$9))),IF(A38<$D$9,$D$8,$D$8*EXP(-$D$10*(A38-$D$9)))) -> 31.881408 | D38: =C38+Scoring!$J$73 -> 55.881408 | E38: =D38-D39 -> 1.5548746
A39: 100 | B39: =IF(AND($D$1="Yes",A39> $D$3), $D$2*EXP(-0.0044*(A39-B$3)), $D$2) -> 0 | C39: =IF($D$11="Within SPZ1",IF(A39<$D$9,$D$7+$D$8,$D$7+$D$8*EXP(-$D$10*(A39-$D$9))),IF(A39<$D$9,$D$8,$D$8*EXP(-$D$10*(A39-$D$9)))) -> 30.326533 | D39: =C39+Scoring!$J$73 -> 54.326533 | E39: =D39-D40 -> 1.4790425
A40: 105 | B40: =IF(AND($D$1="Yes",A40> $D$3), $D$2*EXP(-0.0044*(A40-B$3)), $D$2) -> 0 | C40: =IF($D$11="Within SPZ1",IF(A40<$D$9,$D$7+$D$8,$D$7+$D$8*EXP(-$D$10*(A40-$D$9))),IF(A40<$D$9,$D$8,$D$8*EXP(-$D$10*(A40-$D$9)))) -> 28.847491 | D40: =C40+Scoring!$J$73 -> 52.847491 | E40: =D40-D41 -> 1.4069087
A41: 110 | B41: =IF(AND($D$1="Yes",A41> $D$3), $D$2*EXP(-0.0044*(A41-B$3)), $D$2) -> 0 | C41: =IF($D$11="Within SPZ1",IF(A41<$D$9,$D$7+$D$8,$D$7+$D$8*EXP(-$D$10*(A41-$D$9))),IF(A41<$D$9,$D$8,$D$8*EXP(-$D$10*(A41-$D$9)))) -> 27.440582 | D41: =C41+Scoring!$J$73 -> 51.440582 | E41: =D41-D42 -> 1.338293
... A1380: 6805 | B1380: =IF(AND($D$1="Yes",A1380> $D$3), $D$2*EXP(-0.0044*(A1380-B$3)), $D$2) -> 0 | C1380: =IF($D$11="Within SPZ1",IF(A1380<$D$9,$D$7+$D$8,$D$7+$D$8*EXP(-$D$10*(A1380-$D$9))),IF(A1380<$D$9,$D$8,$D$8*EXP(-$D$10*(A1380-$D$9)))) -> 2.3034445e-28 | D1380: =C1380+Scoring!$J$73 -> 24 | E1380: =D1380-D1381 -> 24

Sheet Project Spec
A1: Title: | B1: SMALL SEWAGE DISCHARGES TO UNDERGROUND STRATA - SCORING MATRIX
B2: referred to as 'Simple Scoring Spreadsheet'
A3: File: | B3: X023
A4: Version: | B4: =MAX(A13:A28) -> 7
A6: Issued: | B6: 41439
A7: By: | B7: Craig Speed, AMEC
A9: Based on :
A10: H:\Projects\32904 GW Zone 1 - Septic Tank Discharges\Calcs\32904X023i7_Scoring Matrix_Modified_Blank.xls
A12: Amendments: | B12: Description
A13: 1 | B13: Correction of base case and addition of Total graph in Sensitivity worksheet to compliment Comparison of Scores
A14: 2 | B14: Removal of 'Proximity to Other Discharges' for greater clarity. Amendments to sensitivity scores based on case studies (draft)
A15: 3 | B15: Corrections carried out in response to comments from Paul Doherty and Dawn O'Neill on 24/01/2013.
A16: 4 | B16: Sandstone relationship with distance set; addition of No Drainage Blanket input option; sheets locked down.
A17: 5 | B17: Amended security to allow formulas to be viewed and justifications to be entered into grey boxes.
A18: 6 | B18: Correction to sensitivity sheet for Distance to Compliance Point relationship to bring in line with calculation in Scoring sheet. All links altered to look at Lookup sheet.
A19: 7 | B19: Made blank
A20: Security
A21: All sheets protected.
A22: Named ranges (site information, input cells, justification cells) can be edited. If prompted for named ranges password enter '123'.
