Workbook

Sheet Stats
D1: Elab | E1: Elab | F1: Elab | G1: Elab | H1: Elab | I1: I2 | J1: I2 | K1: I2 | L1: I2 | M1: I2 | N1: I2 | O1: I2 | P1: I2 | Q1: I2 | R1: I2 | S1: I2 | T1: I2 | U1: I2 | V1: I2 | W1: I2 | X1: I2 | Y1: I2 | Z1: I2 | AA1: I2 | AB1: I2 | AC1: I2 | AD1: I2 | AE1: I2 | AF1: I2 | AG1: I2 | AH1: I2 | AI1: I2 | AJ1: I2 | AK1: I2 | AL1: I2 | AM1: I2 | AN1: I2 | AO1: I2 | AP1: I2 | AQ1: I2 | AR1: I2 | AS1: I2 | AT1: I2 | AU1: I2 | AV1: I2 | AW1: I2 | AX1: I2 | AY1: I2 | AZ1: I2 | BA1: I2 | BB1: I2 | BC1: I2 | BD1: I2 | BE1: I2 | BF1: I2 | BG1: I2 | BH1: I2 | BI1: I2 | BJ1: I2 | BK1: I2 | BL1: I2 | BM1: I2 | BN1: I2 | BO1: I2 | BP1: I2 | BQ1: I2
A2: Sheet Name | C2: UOM | D2: I | E2: I | F2: I | G2: I | H2: I | I2: I | J2: I | K2: I | L2: I | M2: I | N2: I | O2: I | P2: I | Q2: I | R2: I | S2: I | T2: I | U2: I | V2: I | W2: I | X2: I | Y2: I | Z2: I | AA2: I | AB2: I | AC2: I | AD2: I | AE2: I | AF2: I | AG2: I | AH2: I | AI2: I | AJ2: I | AK2: I | AL2: I | AM2: I | AN2: I | AO2: I | AP2: I | AQ2: I | AR2: I | AS2: I | AT2: I | AU2: I | AV2: I | AW2: I | AX2: I | AY2: I | AZ2: I | BA2: I | BB2: I | BC2: I | BD2: I | BE2: I | BF2: I | BG2: I | BH2: I | BI2: I | BJ2: I | BK2: I | BL2: I | BM2: I | BN2: I | BO2: I | BP2: I | BQ2: I
A3: ELAB Reference | D3: 281331 | E3: 281346 | F3: 284890 | G3: 286346 | H3: 286804 | I3: 1869049 | J3: 1869056 | K3: 1885820 | L3: 1892557 | M3: 1907658 | N3: 1907668 | O3: 1916493 | P3: 1915471 | Q3: 1924516 | R3: 1932173 | S3: 1949457 | T3: 1949472 | U3: 1949476 | V3: 1949703 | W3: 1964085 | X3: 1971628 | Y3: 1971640 | Z3: 1980168 | AA3: 1980280 | AB3: 1980283 | AC3: 1987710 | AD3: 1995646 | AE3: 1995651 | AF3: 2004900 | AG3: 2004906 | AH3: 2021158 | AI3: 2027445 | AJ3: 2027448 | AK3: 2031571 | AL3: 2031578 | AM3: 2047368 | AN3: 2047377 | AO3: 2047381 | AP3: 2047386 | AQ3: 2063433 | AR3: 2063435 | AS3: 2084302 | AT3: 2088542 | AU3: 2088543 | AV3: 2088551 | AW3: 2094823 | AX3: 2094836 | AY3: 2105456 | AZ3: 2117365 | BA3: 2120512 | BB3: 2126134 | BC3: 2133979 | BD3: 2146087 | BE3: 2153938 | BF3: 2158613 | BG3: 2169579 | BH3: 2166244 | BI3: 2178691 | BJ3: 2189692 | BK3: 2189705 | BL3: 2200911 | BM3: 2214514 | BN3: 2220759 | BO3: 2243991 | BP3: 2259512 | BQ3: 2272569
A4: Customer Reference | H4: Wood | I4: PLA000005/I | J4: PLA000012/I | K4: PLA000033/I | L4: PLA000063/I | M4: PLA000094/I | N4: PLA000104/I | O4: PLA00117/I | P4: PLA000076/I | Q4: PLA0000138/I | R4: PLA000162/I | S4: PLA000173/I | T4: PLA000188/I | U4: PLA000192/I | V4: PLA000216/I | W4: PLA000224/I | X4: PLA000259/I | Y4: PLA000271/I | Z4: PLA000282 | AA4: PLA000291/I | AB4: PLA000294/I | AC4: PLA000298/I | AD4: PLA000308/I | AE4: PLA000313/I | AF4: PLA000350/I | AG4: PLA000329/I | AH4: PLA000386/I | AI4: PLA000363/I | AJ4: PLA000366/I | AK4: PLA000402/I | AL4: PLA000409/I | AM4: PLA000451/I | AN4: PLA000460/I | AO4: PLA000464/I | AP4: PLA000469/I | AQ4: PLA000521/I | AR4: PLA000523/I | AS4: PLA000557/I | AT4: PLA000574/I | AU4: PLA000575/I | AV4: PLA000583/I | AW4: PLA000595/I | AX4: PLA000608/I | AY4: PLA000644/I | AZ4: PLA000677/I | BA4: PLA000690/I | BB4: PLA000706/I | BC4: PLA000738/I | BD4: PLA000758/I | BE4: PLA000805/I | BF4: PLA000827/I | BG4: PLA000865/I | BH4: PLA000860/I | BI4: PLA000906/I | BJ4: PLA000928/I | BK4: PLA000941/I | BL4: PLA000965/I | BM4: PLA001006/I | BN4: PLA001025/I | BO4: PLA001081/I | BP4: PLA001109/I | BQ4: PLA001123/I
A5: Sample ID | D5: PLA00114/I | E5: PLA001179/I | F5: PLA001205/I | G5: PLA001225/I | H5: PLA001256/I | I5: None Supplied | J5: None Supplied | K5: None Supplied | L5: None Supplied | M5: None Supplied | N5: None Supplied | O5: None Supplied | P5: None Supplied | Q5: None Supplied | R5: None Supplied | S5: None Supplied | T5: None Supplied | U5: None Supplied | V5: None Supplied | W5: None Supplied | X5: None Supplied | Y5: None Supplied | Z5: I | AA5: None Supplied | AB5: None Supplied | AC5: None Supplied | AD5: None Supplied | AE5: None Supplied | AF5: None Supplied | AG5: None Supplied | AH5: None Supplied | AI5: None Supplied | AJ5: None Supplied | AK5: None Supplied | AL5: None Supplied | AM5: None Supplied | AN5: None Supplied | AO5: None Supplied | AP5: None Supplied | AQ5: None Supplied | AR5: None Supplied | AS5: None Supplied | AT5: None Supplied | AU5: None Supplied | AV5: None Supplied | AW5: None Supplied | AX5: None Supplied | AY5: None Supplied | AZ5: None Supplied | BA5: None Supplied | BB5: None Supplied | BC5: None Supplied | BD5: None Supplied | BE5: None Supplied | BF5: None Supplied | BG5: None Supplied | BH5: None Supplied | BI5: None Supplied | BJ5: None Supplied | BK5: None Supplied | BL5: None Supplied | BM5: None Supplied | BN5: None Supplied | BO5: None Supplied | BP5: None Supplied | BQ5: None Supplied
A6: Sample Type | D6: SOIL | E6: SOIL | F6: SOIL | G6: SOIL | H6: SOIL
A7: Sample Location
A8: Sample Depth (m) | I8: None Supplied | J8: None Supplied | K8: None Supplied | L8: None Supplied | M8: None Supplied | N8: None Supplied | O8: None Supplied | P8: None Supplied | Q8: None Supplied | R8: None Supplied | S8: None Supplied | T8: None Supplied | U8: None Supplied | V8: None Supplied | W8: None Supplied | X8: None Supplied | Y8: None Supplied | Z8: None Supplied | AA8: None Supplied | AB8: None Supplied | AC8: None Supplied | AD8: None Supplied | AE8: None Supplied | AF8: None Supplied | AG8: None Supplied | AH8: None Supplied | AI8: None Supplied | AJ8: None Supplied | AK8: None Supplied | AL8: None Supplied | AM8: None Supplied | AN8: None Supplied | AO8: None Supplied | AP8: None Supplied | AQ8: None Supplied | AR8: None Supplied | AS8: None Supplied | AT8: None Supplied | AU8: None Supplied | AV8: None Supplied | AW8: None Supplied | AX8: None Supplied | AY8: None Supplied | AZ8: None Supplied | BA8: None Supplied | BB8: None Supplied | BC8: None Supplied | BD8: None Supplied | BE8: None Supplied | BF8: None Supplied | BG8: None Supplied | BH8: None Supplied | BI8: None Supplied | BJ8: 17 | BK8: 8.4 | BL8: None Supplied | BM8: None Supplied | BN8: None Supplied | BO8: None Supplied | BP8: None Supplied | BQ8: None Supplied
A9: Sampling Date | D9: 12/05/2022 | E9: 20/05/2022 | F9: 07/06/2022 | G9: 28/06/2022 | H9: 07/07/2022 | I9: 11/05/2021 | J9: 13/05/2021 | K9: 22/05/2021 | L9: 29/05/2021 | M9: 10/06/2021 | N9: 16/06/2021 | O9: 21/06/2021 | P9: 03/06/2021 | Q9: 29/06/2021 | R9: 06/07/2021 | S9: 08/07/2021 | T9: 14/07/2021 | U9: 14/07/2021 | V9: 21/07/2021 | W9: 22/07/2021 | X9: 06/08/2021 | Y9: 11/08/2021 | Z9: 13/08/2021 | AA9: 17/08/2021 | AB9: 18/08/2021 | AC9: 25/08/2021 | AD9: 25/08/2021 | AE9: 28/08/2021 | AF9: 08/09/2021 | AG9: 02/09/2021 | AH9: 16/09/2021 | AI9: 09/09/2021 | AJ9: 09/09/2021 | AK9: 22/09/2021 | AL9: 28/09/2021 | AM9: 08/10/2021 | AN9: 08/10/2021 | AO9: 08/10/2021 | AP9: 08/10/2021 | AQ9: 23/10/2021 | AR9: 23/10/2021 | AS9: 29/10/2021 | AT9: 04/11/2021 | AU9: 15/11/2021 | AV9: 16/11/2021 | AW9: 18/11/2021 | AX9: 23/11/2021 | AY9: 30/11/2021 | AZ9: 08/12/2021 | BA9: 10/12/2021 | BB9: 16/12/2021 | BC9: 05/01/2022 | BD9: 12/01/2022 | BE9: 25/01/2022 | BF9: 29/01/2022 | BG9: 04/02/2022 | BH9: 03/02/2022 | BI9: 14/02/2022 | BJ9: 19/02/2022 | BK9: 24/02/2022 | BL9: 04/03/2022 | BM9: 22/03/2022 | BN9: 22/03/2022 | BO9: 05/04/2022 | BP9: 20/04/2022 | BQ9: 28/04/2022
A10: Sampling Time | D10: 5:40 | E10: 15:40 | F10: 12:30 | G10: 8:40 | H10: 0 | I10: 515 | J10: 730 | K10: 830 | L10: 546 | M10: 1930 | N10: 1430 | O10: 1250 | P10: 1230 | Q10: 1030 | R10: 900 | S10: 1140 | T10: 20 | U10: 1420 | V10: 1725 | W10: 1930 | X10: 2040 | Y10: 2250 | Z10: 2100 | AA10: 1930 | AB10: 1940 | AC10: 340 | AD10: 2330 | AE10: 210 | AF10: 1050 | AG10: 1150 | AH10: 2300 | AI10: 1050 | AJ10: 800 | AK10: 840 | AL10: 1210 | AM10: 1950 | AN10: 930 | AO10: 600 | AP10: 1530 | AQ10: 20 | AR10: 630 | AS10: 1200 | AT10: 630 | AU10: 810 | AV10: 940 | AW10: 1120 | AX10: 800 | AY10: 950 | AZ10: None Supplied | BA10: 1000 | BB10: 650 | BC10: 340 | BD10: 1320 | BE10: 1125 | BF10: 940 | BG10: 1820 | BH10: 2030 | BI10: 2250 | BJ10: None Supplied | BK10: None Supplied | BL10: 650 | BM10: 650 | BN10: 2100 | BO10: 2320 | BP10: 30 | BQ10: 630
A11: Determinand | B11: SAMPPREP | D11: 0 | E11: 0 | F11: 0 | G11: 0 | H11: 0 | I11: < 0.1 | J11: < 0.1 | K11: < 0.1 | L11: < 0.1 | M11: < 0.1 | N11: < 0.1 | O11: < 0.1 | P11: < 0.1 | Q11: < 0.1 | R11: < 0.1 | S11: < 0.1 | T11: < 0.1 | U11: < 0.1 | V11: < 0.1 | W11: < 0.1 | X11: < 0.1 | Y11: < 0.1 | Z11: < 0.1 | AA11: < 0.1 | AB11: < 0.1 | AC11: < 0.1 | AD11: < 0.1 | AE11: < 0.1 | AF11: < 0.1 | AG11: < 0.1 | AH11: < 0.1 | AI11: < 0.1 | AJ11: < 0.1 | AK11: < 0.1 | AL11: < 0.1 | AM11: < 0.1 | AN11: < 0.1 | AO11: < 0.1 | AP11: < 0.1 | AQ11: < 0.1 | AR11: < 0.1 | AS11: < 0.1 | AT11: < 0.1 | AU11: < 0.1 | AV11: < 0.1 | AW11: < 0.1 | AX11: < 0.1 | AY11: < 0.1 | AZ11: < 0.1 | BA11: < 0.1 | BB11: < 0.1 | BC11: < 0.1 | BD11: < 0.1 | BE11: < 0.1 | BF11: < 0.1 | BG11: < 0.1 | BH11: < 0.1 | BI11: < 0.1 | BJ11: < 0.1 | BK11: < 0.1 | BL11: < 0.1 | BM11: < 0.1 | BN11: < 0.1 | BO11: < 0.1 | BP11: < 0.1 | BQ11: < 0.1 | CF11: Heavy Metals Avg | CG11: Heavy Metals Max
A12: Moisture Content | B12: SAMPPREP | D12: 0.8 | E12: 1 | F12: 1.4 | G12: 0.9 | H12: 1.7 | I12: 1.8 | J12: 1.7 | K12: 2 | L12: 2.1 | M12: 0.84 | N12: 0.56 | O12: 0.69 | P12: 0.55 | Q12: 1.2 | R12: 0.95 | S12: 0.48 | T12: 0.67 | U12: 0.52 | V12: 0.26 | W12: 0.46 | X12: 1.1 | Y12: 3 | Z12: 1.8 | AA12: 0.55 | AB12: 1.6 | AC12: 1.1 | AD12: 2.3 | AE12: 1.6 | AF12: 1.4 | AG12: 1.9 | AH12: 1.5 | AI12: 2.1 | AJ12: 1.6 | AK12: 1.4 | AL12: 2.1 | AM12: 2.7 | AN12: 2.8 | AO12: 3.3 | AP12: 1.9 | AQ12: 1.6 | AR12: 1.3 | AS12: 1.3 | AT12: 2.4 | AU12: 3.9 | AV12: 1.6 | AW12: 1.8 | AX12: 0.51 | AY12: 2.6 | AZ12: 1.5 | BA12: 1.5 | BB12: 2.1 | BC12: 2.2 | BD12: 1 | BE12: 1.3 | BF12: 2.3 | BG12: 2.2 | BH12: 0.69 | BI12: 1.8 | BJ12: 2.2 | BK12: 3.1 | BL12: 4 | BM12: 1.7 | BN12: 0.24 | BO12: 0.64 | BP12: 0.28 | BQ12: 0.62 | BS12: Tests | BT12: No. below LOD | BU12: % Below LOD | BV12: Max | BW12: Min | BX12: Median | BY12: Sdev | BZ12: Relative SD | CA12: Variation | CB12: Average (Mean) | CC12: 95th Percentile | CD12: 99th Percentile | CF12: =(SUM(CB16,CB15,CB17,CB18,CB19,CB20,CB21,CB23,CB24,CB25)) -> 134.15684 | CG12: =SUM(BV15:BV21,BV23:BV25) -> 464.1
A13: Material removed | B13: SAMPPREP | D13: 50.1 | E13: 5.8 | F13: 99.2 | G13: 98.7 | H13: 97.8 | I13: 0.2 | J13: 0.2 | K13: 0.2 | L13: 0.2 | M13: 0.2 | N13: 0.2 | O13: 0.2 | P13: 0.2 | Q13: 0.3 | R13: 0.2 | S13: 0.5 | T13: 0.5 | U13: 0.5 | V13: 0.2 | W13: 0.2 | X13: 0.5 | Y13: 0.5 | Z13: 0.5 | AA13: 0.5 | AB13: 0.5 | AC13: 0.1 | AD13: 0.3 | AE13: 0.3 | AF13: 0.5 | AG13: 0.5 | AH13: 0.4 | AI13: 0.6 | AJ13: 0.6 | AK13: 0.2 | AL13: 0.2 | AM13: 0.4 | AN13: 0.4 | AO13: 0.4 | AP13: 0.4 | AQ13: 0.4 | AR13: 0.4 | AS13: 0.5 | AT13: 0.4 | AU13: 0.4 | AV13: 0.4 | AW13: 0.4 | AX13: 0.4 | AY13: 0.2 | AZ13: 0.1 | BA13: 0.5 | BB13: 0.5 | BC13: 0.2 | BD13: 0.1 | BE13: 0.4 | BF13: 0.1 | BG13: 0.2 | BH13: 0.3 | BI13: 0.1 | BJ13: 0.1 | BK13: 0.1 | BL13: 0.1 | BM13: 0.3 | BN13: 0.3 | BO13: 0.3 | BP13: 0.1 | BQ13: 0.3
A14: Description of Inert material removed | B14: METALS | D14: Wood | E14: Wood | F14: All Sawdust | G14: All Sawdust | H14: All Sawdust
A15: Cadmium | B15: METALS | C15: mg/kg | D15: <0.2 | E15: <0.2 | F15: <0.2 | G15: <0.2 | H15: <0.2 | I15: < 0.2 | J15: < 0.2 | K15: < 0.2 | L15: < 0.2 | M15: < 0.2 | N15: < 0.2 | O15: < 0.2 | P15: < 0.2 | Q15: < 0.2 | R15: < 0.2 | S15: < 0.2 | T15: 0.2 | U15: 0.3 | V15: 0.2 | W15: < 0.2 | X15: < 0.2 | Y15: < 0.2 | Z15: 0.2 | AA15: < 0.2 | AB15: < 0.2 | AC15: < 0.2 | AD15: 0.3 | AE15: 0.2 | AF15: < 0.2 | AG15: < 0.2 | AH15: 0.2 | AI15: < 0.2 | AJ15: 0.2 | AK15: < 0.2 | AL15: < 0.2 | AM15: < 0.2 | AN15: 0.2 | AO15: < 0.2 | AP15: < 0.2 | AQ15: < 0.2 | AR15: < 0.2 | AS15: < 0.2 | AT15: < 0.2 | AU15: < 0.2 | AV15: < 0.2 | AW15: < 0.2 | AX15: < 0.2 | AY15: < 0.2 | AZ15: < 0.2 | BA15: < 0.2 | BB15: < 0.2 | BC15: < 0.2 | BD15: < 0.2 | BE15: < 0.2 | BF15: < 0.2 | BG15: < 0.2 | BH15: < 0.2 | BI15: < 0.2 | BJ15: < 0.2 | BK15: < 0.2 | BL15: < 0.2 | BM15: < 0.2 | BN15: < 0.2 | BO15: < 0.2 | BP15: < 0.2 | BQ15: < 0.2 | BS15: 66 | BT15: 57 | BU15: =IFERROR(BT15/BS15,"") -> 0.86363636 | BV15: =MAX(D15:BQ15) -> 0.3 | BW15: =MIN(D15:BQ15) -> 0.2 | BX15: =MEDIAN(D15:BQ15) -> 0.2 | BY15: =STDEV(D15:BQ15) -> 0.044095855 | BZ15: =((BY15*100)/CB15) -> 19.843135 | CA15: =VAR(D15:BQ15) -> 0.0019444444 | CB15: =AVERAGE(D15:BQ15) -> 0.22222222 | CC15: =_xlfn.PERCENTILE.INC(D15:BQ15,0.95) -> 0.3 | CD15: =_xlfn.PERCENTILE.INC(D15:BQ15,0.99) -> 0.3
A16: Chromium | B16: METALS | C16: mg/kg | D16: 11.1 | E16: 15.2 | F16: 5.7 | G16: 17.8 | H16: 13.5 | I16: 13 | J16: 6.8 | K16: 63 | L16: 21 | M16: 7.2 | N16: 14 | O16: 13 | P16: 6.2 | Q16: 5.3 | R16: 7.1 | S16: 30 | T16: 12 | U16: 6.2 | V16: 2.9 | W16: 15 | X16: 6.3 | Y16: 22 | Z16: 6.8 | AA16: 22 | AB16: 11 | AC16: 20 | AD16: 14 | AE16: 10 | AF16: 7.1 | AG16: 17 | AH16: 8.5 | AI16: 9.8 | AJ16: 6.5 | AK16: 11 | AL16: 9.1 | AM16: 23 | AN16: 7.4 | AO16: 15 | AP16: 16 | AQ16: 6.6 | AR16: 6.1 | AS16: 1 | AT16: 5.6 | AU16: 16 | AV16: 11 | AW16: 8.3 | AX16: 6.4 | AY16: 8.5 | AZ16: 5.2 | BA16: 17 | BB16: 11 | BC16: 2.6 | BD16: 15 | BE16: 5.8 | BF16: 2.9 | BG16: 1.9 | BH16: 8.7 | BI16: 7.7 | BJ16: 2.9 | BK16: 11 | BL16: 3.5 | BM16: 6.1 | BN16: 20 | BO16: 16 | BP16: 23 | BQ16: 8.9 | BS16: 66 | BT16: 1 | BU16: =IFERROR(BT16/BS16,"") -> 0.015151515 | BV16: =MAX(D16:BQ16) -> 63 | BW16: =MIN(D16:BQ16) -> 1 | BX16: =MEDIAN(D16:BQ16) -> 9.45 | BY16: =STDEV(D16:BQ16) -> 8.8550561 | BZ16: =((BY16*100)/CB16) -> 76.17749 | CA16: =VAR(D16:BQ16) -> 78.412019 | CB16: =AVERAGE(D16:BQ16) -> 11.624242 | CC16: =_xlfn.PERCENTILE.INC(D16:BQ16,0.95) -> 22.75 | CD16: =_xlfn.PERCENTILE.INC(D16:BQ16,0.99) -> 41.55
A17: Copper | B17: METALS | C17: mg/kg | D17: 19 | E17: 29.3 | F17: 14.2 | G17: 33.5 | H17: 27.7 | I17: 16 | J17: 14 | K17: 22 | L17: 38 | M17: 16 | N17: 32 | O17: 25 | P17: 13 | Q17: 18 | R17: 38 | S17: 6.5 | T17: 21 | U17: 14 | V17: 5.7 | W17: 31 | X17: 14 | Y17: 32 | Z17: 18 | AA17: 40 | AB17: 34 | AC17: 43 | AD17: 27 | AE17: 23 | AF17: 16 | AG17: 38 | AH17: 17 | AI17: 20 | AJ17: 16 | AK17: 21 | AL17: 12 | AM17: 46 | AN17: 17 | AO17: 27 | AP17: 42 | AQ17: 15 | AR17: 15 | AS17: 11 | AT17: 20 | AU17: 46 | AV17: 32 | AW17: 16 | AX17: 27 | AY17: 21 | AZ17: 14 | BA17: 37 | BB17: 19 | BC17: 9.8 | BD17: 27 | BE17: 17 | BF17: 11 | BG17: 17 | BH17: 23 | BI17: 21 | BJ17: 15 | BK17: 31 | BL17: 11 | BM17: 23 | BN17: 34 | BO17: 34 | BP17: 45 | BQ17: 21 | BS17: 66 | BT17: 1 | BU17: =IFERROR(BT17/BS17,"") -> 0.015151515 | BV17: =MAX(D17:BQ17) -> 46 | BW17: =MIN(D17:BQ17) -> 5.7 | BX17: =MEDIAN(D17:BQ17) -> 21 | BY17: =STDEV(D17:BQ17) -> 10.32102 | BZ17: =((BY17*100)/CB17) -> 43.956076 | CA17: =VAR(D17:BQ17) -> 106.52345 | CB17: =AVERAGE(D17:BQ17) -> 23.480303 | CC17: =_xlfn.PERCENTILE.INC(D17:BQ17,0.95) -> 42.75 | CD17: =_xlfn.PERCENTILE.INC(D17:BQ17,0.99) -> 46
A18: Lead | B18: METALS | C18: mg/kg | D18: 44.2 | E18: 55.7 | F18: 18.8 | G18: 33.1 | H18: 33.8 | I18: 16 | J18: 30 | K18: 24 | L18: 76 | M18: 29 | N18: 43 | O18: 41 | P18: 20 | Q18: 21 | R18: 25 | S18: 13 | T18: 27 | U18: 45 | V18: 4.4 | W18: 41 | X18: 32 | Y18: 47 | Z18: 37 | AA18: 62 | AB18: 28 | AC18: 65 | AD18: 62 | AE18: 37 | AF18: 19 | AG18: 75 | AH18: 35 | AI18: 32 | AJ18: 41 | AK18: 42 | AL18: 18 | AM18: 87 | AN18: 33 | AO18: 40 | AP18: 100 | AQ18: 25 | AR18: 21 | AS18: 5.8 | AT18: 18 | AU18: 34 | AV18: 34 | AW18: 22 | AX18: 29 | AY18: 34 | AZ18: 25 | BA18: 44 | BB18: 15 | BC18: 16 | BD18: 32 | BE18: 26 | BF18: 11 | BG18: 9.7 | BH18: 26 | BI18: 25 | BJ18: 16 | BK18: 38 | BL18: 16 | BM18: 19 | BN18: 36 | BO18: 71 | BP18: 92 | BQ18: 34 | BS18: 66 | BT18: 1 | BU18: =IFERROR(BT18/BS18,"") -> 0.015151515 | BV18: =MAX(D18:BQ18) -> 100 | BW18: =MIN(D18:BQ18) -> 4.4 | BX18: =MEDIAN(D18:BQ18) -> 32 | BY18: =STDEV(D18:BQ18) -> 20.23691 | BZ18: =((BY18*100)/CB18) -> 57.882387 | CA18: =VAR(D18:BQ18) -> 409.53254 | CB18: =AVERAGE(D18:BQ18) -> 34.962121 | CC18: =_xlfn.PERCENTILE.INC(D18:BQ18,0.95) -> 75.75 | CD18: =_xlfn.PERCENTILE.INC(D18:BQ18,0.99) -> 94.8
A19: Mercury | B19: METALS | C19: mg/kg | D19: 0.2 | E19: 0.1 | F19: <0.1 | G19: <0.1 | H19: <0.1 | I19: < 0.3 | J19: < 0.3 | K19: < 0.3 | L19: < 0.3 | M19: < 0.3 | N19: < 0.3 | O19: < 0.3 | P19: < 0.3 | Q19: < 0.3 | R19: < 0.3 | S19: 0.5 | T19: 0.6 | U19: 0.6 | V19: < 0.3 | W19: < 0.3 | X19: < 0.3 | Y19: < 0.3 | Z19: < 0.3 | AA19: < 0.3 | AB19: < 0.3 | AC19: < 0.3 | AD19: 0.6 | AE19: < 0.3 | AF19: 0.5 | AG19: 0.6 | AH19: < 0.3 | AI19: < 0.3 | AJ19: < 0.3 | AK19: < 0.3 | AL19: < 0.3 | AM19: < 0.3 | AN19: < 0.3 | AO19: < 0.3 | AP19: < 0.3 | AQ19: < 0.3 | AR19: < 0.3 | AS19: < 0.3 | AT19: 0.3 | AU19: 0.4 | AV19: < 0.3 | AW19: < 0.3 | AX19: < 0.3 | AY19: < 0.3 | AZ19: < 0.3 | BA19: < 0.3 | BB19: < 0.3 | BC19: < 0.3 | BD19: 0.4 | BE19: 0.6 | BF19: < 0.3 | BG19: < 0.3 | BH19: < 0.3 | BI19: 0.5 | BJ19: < 0.3 | BK19: < 0.3 | BL19: < 0.3 | BM19: < 0.3 | BN19: < 0.3 | BO19: < 0.3 | BP19: < 0.3 | BQ19: 0.4 | BS19: 66 | BT19: 52 | BU19: =IFERROR(BT19/BS19,"") -> 0.78787879 | BV19: =MAX(D19:BQ19) -> 0.6 | BW19: =MIN(D19:BQ19) -> 0.1 | BX19: =MEDIAN(D19:BQ19) -> 0.5 | BY19: =STDEV(D19:BQ19) -> 0.16052798 | BZ19: =((BY19*100)/CB19) -> 35.672883 | CA19: =VAR(D19:BQ19) -> 0.025769231 | CB19: =AVERAGE(D19:BQ19) -> 0.45 | CC19: =_xlfn.PERCENTILE.INC(D19:BQ19,0.95) -> 0.6 | CD19: =_xlfn.PERCENTILE.INC(D19:BQ19,0.99) -> 0.6
A20: Nickel | B20: METALS | C20: mg/kg | D20: 5.8 | E20: 1.4 | F20: 1.1 | G20: <1.0 | H20: <1.0 | I20: 1.5 | J20: 1.1 | K20: 30 | L20: 1.5 | M20: 1.4 | N20: 1.1 | O20: 1.7 | P20: < 1.0 | Q20: 1.2 | R20: 1.3 | S20: 19 | T20: 1.1 | U20: 1.1 | V20: 2.1 | W20: 1.4 | X20: < 1.0 | Y20: 1.1 | Z20: < 1.0 | AA20: 1.9 | AB20: 3.1 | AC20: 1.4 | AD20: 3 | AE20: 1 | AF20: < 1.0 | AG20: 1.5 | AH20: 2.3 | AI20: 1.2 | AJ20: 1.3 | AK20: 1.3 | AL20: 2.1 | AM20: 1.6 | AN20: 1.4 | AO20: 1.3 | AP20: 1.9 | AQ20: 1.5 | AR20: 1 | AS20: < 1.0 | AT20: < 1.0 | AU20: 1.3 | AV20: 1.1 | AW20: < 1.0 | AX20: 2.1 | AY20: 1.6 | AZ20: 1.1 | BA20: 1 | BB20: 1.1 | BC20: < 1.0 | BD20: 1.9 | BE20: 2.1 | BF20: < 1.0 | BG20: < 1.0 | BH20: 1.5 | BI20: 1.8 | BJ20: 2 | BK20: 1.7 | BL20: 1.9 | BM20: 1.1 | BN20: 4 | BO20: 2.1 | BP20: 1.6 | BQ20: 1.9 | BS20: 66 | BT20: 13 | BU20: =IFERROR(BT20/BS20,"") -> 0.1969697 | BV20: =MAX(D20:BQ20) -> 30 | BW20: =MIN(D20:BQ20) -> 1 | BX20: =MEDIAN(D20:BQ20) -> 1.5 | BY20: =STDEV(D20:BQ20) -> 4.5500831 | BZ20: =((BY20*100)/CB20) -> 179.87151 | CA20: =VAR(D20:BQ20) -> 20.703256 | CB20: =AVERAGE(D20:BQ20) -> 2.5296296 | CC20: =_xlfn.PERCENTILE.INC(D20:BQ20,0.95) -> 4.63 | CD20: =_xlfn.PERCENTILE.INC(D20:BQ20,0.99) -> 24.17
A21: Zinc | B21: INORGANICS | C21: mg/kg | D21: 38.1 | E21: 41.1 | F21: 28.7 | G21: 33.5 | H21: 36.1 | I21: 28 | J21: 50 | K21: 41 | L21: 71 | M21: 44 | N21: 48 | O21: 52 | P21: 33 | Q21: 42 | R21: 36 | S21: 31 | T21: 47 | U21: 59 | V21: 27 | W21: 43 | X21: 40 | Y21: 55 | Z21: 110 | AA21: 49 | AB21: 87 | AC21: 63 | AD21: 170 | AE21: 41 | AF21: 29 | AG21: 62 | AH21: 42 | AI21: 34 | AJ21: 48 | AK21: 46 | AL21: 32 | AM21: 64 | AN21: 49 | AO21: 42 | AP21: 73 | AQ21: 39 | AR21: 37 | AS21: 18 | AT21: 29 | AU21: 39 | AV21: 38 | AW21: 38 | AX21: 36 | AY21: 37 | AZ21: 36 | BA21: 51 | BB21: 24 | BC21: 21 | BD21: 36 | BE21: 37 | BF21: 24 | BG21: 25 | BH21: 32 | BI21: 33 | BJ21: 38 | BK21: 47 | BL21: 27 | BM21: 29 | BN21: 43 | BO21: 57 | BP21: 73 | BQ21: 38 | BS21: 66 | BT21: 1 | BU21: =IFERROR(BT21/BS21,"") -> 0.015151515 | BV21: =MAX(D21:BQ21) -> 170 | BW21: =MIN(D21:BQ21) -> 18 | BX21: =MEDIAN(D21:BQ21) -> 39 | BY21: =STDEV(D21:BQ21) -> 22.21756 | BZ21: =((BY21*100)/CB21) -> 49.749245 | CA21: =VAR(D21:BQ21) -> 493.61999 | CB21: =AVERAGE(D21:BQ21) -> 44.659091 | CC21: =_xlfn.PERCENTILE.INC(D21:BQ21,0.95) -> 73 | CD21: =_xlfn.PERCENTILE.INC(D21:BQ21,0.99) -> 131
A22: Acid Soluble Chloride | B22: INORGANICS | C22: mg/kg | D22: <0.01 | E22: <0.01 | F22: <0.01 | G22: <0.01 | H22: <0.01 | BS22: 5 | BT22: 5 | BU22: =IFERROR(BT22/BS22,"") -> 1 | BV22: =MAX(D22:BQ22) -> 0 | BW22: =MIN(D22:BQ22) -> 0 | BX22: =MEDIAN(D22:BQ22) -> #NUM! | BY22: =STDEV(D22:BQ22) -> #DIV/0! | BZ22: =((BY22*100)/CB22) -> #DIV/0! | CA22: =VAR(D22:BQ22) -> #DIV/0! | CB22: =AVERAGE(D22:BQ22) -> #DIV/0! | CC22: =_xlfn.PERCENTILE.INC(D22:BQ22,0.95) -> #NUM! | CD22: =_xlfn.PERCENTILE.INC(D22:BQ22,0.99) -> #NUM!
A23: Arsenic | B23: METALS | C23: mg/kg | D23: 5.3 | E23: 9.4 | F23: 2.6 | G23: 12.7 | H23: 7.4 | I23: 3.3 | J23: 4.4 | K23: 2.6 | L23: 13 | M23: 4.9 | N23: 9 | O23: 6.4 | P23: 3.2 | Q23: 3.1 | R23: 4.7 | S23: 2.6 | T23: 10 | U23: 3.8 | V23: < 1.0 | W23: 8.3 | X23: 4.7 | Y23: 17 | Z23: 4.8 | AA23: 16 | AB23: 4.1 | AC23: 13 | AD23: 7.7 | AE23: 6.2 | AF23: 4.7 | AG23: 11 | AH23: 4.8 | AI23: 7.1 | AJ23: 4.2 | AK23: 6.5 | AL23: 3.7 | AM23: 14 | AN23: 4.3 | AO23: 9.3 | AP23: 11 | AQ23: 3.7 | AR23: 3.1 | AS23: 1.5 | AT23: 3.5 | AU23: 10 | AV23: 7 | AW23: 4.7 | AX23: 2.6 | AY23: 5.4 | AZ23: 3.9 | BA23: 9.9 | BB23: 10 | BC23: 1.8 | BD23: 10 | BE23: 3.3 | BF23: 2.5 | BG23: 2 | BH23: 6.6 | BI23: 5.4 | BJ23: 4.1 | BK23: 8 | BL23: 1.8 | BM23: 4.4 | BN23: 14 | BO23: 11 | BP23: 17 | BQ23: 6.1 | BS23: 66 | BT23: 2 | BU23: =IFERROR(BT23/BS23,"") -> 0.03030303 | BV23: =MAX(D23:BQ23) -> 17 | BW23: =MIN(D23:BQ23) -> 1.5 | BX23: =MEDIAN(D23:BQ23) -> 5.3 | BY23: =STDEV(D23:BQ23) -> 3.9758447 | BZ23: =((BY23*100)/CB23) -> 59.532345 | CA23: =VAR(D23:BQ23) -> 15.807341 | CB23: =AVERAGE(D23:BQ23) -> 6.6784615 | CC23: =_xlfn.PERCENTILE.INC(D23:BQ23,0.95) -> 14 | CD23: =_xlfn.PERCENTILE.INC(D23:BQ23,0.99) -> 17
A24: Selenium | B24: METALS | C24: mg/kg | D24: <1.0 | E24: <1.0 | F24: <1.0 | G24: <1.0 | H24: <1.0 | I24: < 1.0 | J24: < 1.0 | K24: < 1.0 | L24: < 1.0 | M24: < 1.0 | N24: < 1.0 | O24: < 1.0 | P24: < 1.0 | Q24: < 1.0 | R24: < 1.0 | S24: < 1.0 | T24: 1.2 | U24: < 1.0 | V24: < 1.0 | W24: < 1.0 | X24: < 1.0 | Y24: < 1.0 | Z24: < 1.0 | AA24: < 1.0 | AB24: < 1.0 | AC24: < 1.0 | AD24: < 1.0 | AE24: < 1.0 | AF24: < 1.0 | AG24: < 1.0 | AH24: < 1.0 | AI24: < 1.0 | AJ24: < 1.0 | AK24: < 1.0 | AL24: < 1.0 | AM24: < 1.0 | AN24: < 1.0 | AO24: < 1.0 | AP24: < 1.0 | AQ24: < 1.0 | AR24: < 1.0 | AS24: < 1.0 | AT24: < 1.0 | AU24: < 1.0 | AV24: < 1.0 | AW24: < 1.0 | AX24: < 1.0 | AY24: < 1.0 | AZ24: < 1.0 | BA24: < 1.0 | BB24: < 1.0 | BC24: < 1.0 | BD24: < 1.0 | BE24: < 1.0 | BF24: < 1.0 | BG24: < 1.0 | BH24: < 1.0 | BI24: < 1.0 | BJ24: < 1.0 | BK24: < 1.0 | BL24: < 1.0 | BM24: < 1.0 | BN24: < 1.0 | BO24: < 1.0 | BP24: < 1.0 | BQ24: < 1.0 | BS24: 66 | BT24: 65 | BU24: =IFERROR(BT24/BS24,"") -> 0.98484848 | BV24: =MAX(D24:BQ24) -> 1.2 | BW24: =MIN(D24:BQ24) -> 1.2 | BX24: =MEDIAN(D24:BQ24) -> 1.2 | BY24: =STDEV(D24:BQ24) -> #DIV/0! | BZ24: =((BY24*100)/CB24) -> #DIV/0! | CA24: =VAR(D24:BQ24) -> #DIV/0! | CB24: =AVERAGE(D24:BQ24) -> 1.2 | CC24: =_xlfn.PERCENTILE.INC(D24:BQ24,0.95) -> 1.2 | CD24: =_xlfn.PERCENTILE.INC(D24:BQ24,0.99) -> 1.2
A25: Water Soluble Boron | B25: SVOC | C25: mg/kg | D25: 4.2 | E25: 2.5 | F25: <0.5 | G25: 8 | H25: 1 | I25: 5 | J25: 7.1 | K25: 5.6 | L25: 8.7 | M25: 6.3 | N25: 11 | O25: 11 | P25: 5.8 | Q25: 6.2 | R25: 8.9 | S25: 4.3 | T25: 7.8 | U25: 7.5 | V25: 3.1 | W25: 8.7 | X25: 7 | Y25: 14 | Z25: 36 | AA25: 15 | AB25: 9.1 | AC25: 14 | AD25: 9.2 | AE25: 8.8 | AF25: 6.1 | AG25: 14 | AH25: 7.8 | AI25: 8 | AJ25: 6.9 | AK25: 9.7 | AL25: 7.1 | AM25: 18 | AN25: 7.6 | AO25: 8.6 | AP25: 21 | AQ25: 6.6 | AR25: 5.4 | AS25: 3.5 | AT25: 6.7 | AU25: 8.7 | AV25: 7.3 | AW25: 7.2 | AX25: 5.4 | AY25: 6.7 | AZ25: 5.1 | BA25: 11 | BB25: 4.5 | BC25: 3.6 | BD25: 8.7 | BE25: 6.8 | BF25: 4.9 | BG25: 4 | BH25: 6.2 | BI25: 5.6 | BJ25: 5.2 | BK25: 8.3 | BL25: 4.4 | BM25: 8 | BN25: 11 | BO25: 11 | BP25: 18 | BQ25: 8.4 | BS25: 66 | BT25: 2 | BU25: =IFERROR(BT25/BS25,"") -> 0.03030303 | BV25: =MAX(D25:BQ25) -> 36 | BW25: =MIN(D25:BQ25) -> 1 | BX25: =MEDIAN(D25:BQ25) -> 7.3 | BY25: =STDEV(D25:BQ25) -> 5.0909271 | BZ25: =((BY25*100)/CB25) -> 60.96357 | CA25: =VAR(D25:BQ25) -> 25.917538 | CB25: =AVERAGE(D25:BQ25) -> 8.3507692 | CC25: =_xlfn.PERCENTILE.INC(D25:BQ25,0.95) -> 17.4 | CD25: =_xlfn.PERCENTILE.INC(D25:BQ25,0.99) -> 26.4
A26: Phenol | B26: SVOC | C26: mg/kg | D26: 2.29 | E26: 1.99 | F26: 8.36 | G26: 0.66 | H26: 0.4 | I26: < 0.2 | J26: < 0.2 | K26: < 0.2 | L26: < 0.2 | M26: 7.7 | N26: 2.4 | O26: < 0.2 | P26: 0.6 | Q26: 9.1 | R26: 2.8 | S26: < 0.2 | T26: < 0.2 | U26: < 0.2 | V26: < 0.2 | W26: < 0.2 | X26: < 0.2 | Y26: < 0.2 | Z26: < 0.2 | AA26: < 0.2 | AB26: < 0.2 | AC26: < 0.2 | AD26: < 0.2 | AE26: < 0.2 | AF26: 1.5 | AG26: < 0.2 | AH26: < 0.2 | AI26: < 0.2 | AJ26: < 0.2 | AK26: 0.8 | AL26: 1.4 | AM26: < 0.2 | AN26: < 0.2 | AO26: < 0.2 | AP26: < 0.2 | AQ26: 1.9 | AR26: 1.1 | AS26: < 0.2 | AT26: < 0.2 | AU26: < 0.2 | AV26: < 0.2 | AW26: < 0.2 | AX26: < 0.2 | AY26: < 0.2 | AZ26: < 0.2 | BA26: < 0.2 | BB26: 2.8 | BC26: 1.1 | BD26: < 0.2 | BE26: 2.4 | BF26: < 0.2 | BG26: < 0.2 | BH26: < 0.2 | BI26: < 0.2 | BJ26: < 0.2 | BK26: 1.7 | BL26: < 0.2 | BM26: 3.3 | BN26: < 0.2 | BO26: < 0.2 | BP26: < 0.2 | BQ26: 1.6 | BS26: 66 | BT26: 59 | BU26: =IFERROR(BT26/BS26,"") -> 0.89393939 | BV26: =MAX(D26:BQ26) -> 9.1 | BW26: =MIN(D26:BQ26) -> 0.4 | BX26: =MEDIAN(D26:BQ26) -> 1.9 | BY26: =STDEV(D26:BQ26) -> 2.5275376 | BZ26: =((BY26*100)/CB26) -> 94.952217 | CA26: =VAR(D26:BQ26) -> 6.3884462 | CB26: =AVERAGE(D26:BQ26) -> 2.6619048 | CC26: =_xlfn.PERCENTILE.INC(D26:BQ26,0.95) -> 8.36 | CD26: =_xlfn.PERCENTILE.INC(D26:BQ26,0.99) -> 8.952
A27: Aniline | B27: SVOC | C27: mg/kg | D27: <0.01 | E27: <0.01 | F27: <0.01 | G27: <0.01 | H27: <0.01 | I27: < 0.1 | J27: < 0.1 | K27: < 0.1 | L27: < 0.1 | M27: 2.6 | N27: 2 | O27: < 0.1 | P27: < 0.1 | Q27: < 0.1 | R27: < 0.1 | S27: < 0.1 | T27: < 0.1 | U27: < 0.1 | V27: < 0.1 | W27: < 0.1 | X27: < 0.1 | Y27: < 0.1 | Z27: < 0.1 | AA27: < 0.1 | AB27: < 0.1 | AC27: < 0.1 | AD27: < 0.1 | AE27: < 0.1 | AF27: < 0.1 | AG27: < 0.1 | AH27: < 0.1 | AI27: < 0.1 | AJ27: < 0.1 | AK27: < 0.1 | AL27: < 0.1 | AM27: < 0.1 | AN27: < 0.1 | AO27: < 0.1 | AP27: < 0.1 | AQ27: < 0.1 | AR27: < 0.1 | AS27: < 0.1 | AT27: < 0.1 | AU27: < 0.1 | AV27: < 0.1 | AW27: < 0.1 | AX27: < 0.1 | AY27: < 0.1 | AZ27: < 0.1 | BA27: < 0.1 | BB27: < 0.1 | BC27: < 0.1 | BD27: < 0.1 | BE27: < 0.1 | BF27: < 0.1 | BG27: < 0.1 | BH27: < 0.1 | BI27: < 0.1 | BJ27: < 0.1 | BK27: < 0.1 | BL27: < 0.1 | BM27: < 0.1 | BN27: < 0.1 | BO27: < 0.1 | BP27: < 0.1 | BQ27: < 0.1 | BS27: 66 | BT27: 66 | BU27: =IFERROR(BT27/BS27,"") -> 1 | BV27: =MAX(D27:BQ27) -> 2.6 | BW27: =MIN(D27:BQ27) -> 2 | BX27: =MEDIAN(D27:BQ27) -> 2.3 | BY27: =STDEV(D27:BQ27) -> 0.42426407 | BZ27: =((BY27*100)/CB27) -> 18.446264 | CA27: =VAR(D27:BQ27) -> 0.18 | CB27: =AVERAGE(D27:BQ27) -> 2.3 | CC27: =_xlfn.PERCENTILE.INC(D27:BQ27,0.95) -> 2.57 | CD27: =_xlfn.PERCENTILE.INC(D27:BQ27,0.99) -> 2.594
A28: Bis(2-chloroethyl)ether | B28: SVOC | C28: mg/kg | D28: <0.01 | E28: <0.01 | F28: <0.01 | G28: <0.01 | H28: <0.01 | I28: < 0.2 | J28: < 0.2 | K28: < 0.2 | L28: < 0.2 | M28: 2.8 | N28: 2.1 | O28: < 0.2 | P28: < 0.2 | Q28: < 0.2 | R28: < 0.2 | S28: < 0.2 | T28: < 0.2 | U28: < 0.2 | V28: < 0.2 | W28: < 0.2 | X28: < 0.2 | Y28: < 0.2 | Z28: < 0.2 | AA28: < 0.2 | AB28: < 0.2 | AC28: < 0.2 | AD28: < 0.2 | AE28: < 0.2 | AF28: < 0.2 | AG28: < 0.2 | AH28: < 0.2 | AI28: < 0.2 | AJ28: < 0.2 | AK28: < 0.2 | AL28: < 0.2 | AM28: < 0.2 | AN28: < 0.2 | AO28: < 0.2 | AP28: < 0.2 | AQ28: < 0.2 | AR28: < 0.2 | AS28: < 0.2 | AT28: < 0.2 | AU28: < 0.2 | AV28: < 0.2 | AW28: < 0.2 | AX28: < 0.2 | AY28: < 0.2 | AZ28: < 0.2 | BA28: < 0.2 | BB28: < 0.2 | BC28: < 0.2 | BD28: < 0.2 | BE28: < 0.2 | BF28: < 0.2 | BG28: < 0.2 | BH28: < 0.2 | BI28: < 0.2 | BJ28: < 0.2 | BK28: < 0.2 | BL28: < 0.2 | BM28: < 0.2 | BN28: < 0.2 | BO28: < 0.2 | BP28: < 0.2 | BQ28: < 0.2 | BS28: 66 | BT28: 66 | BU28: =IFERROR(BT28/BS28,"") -> 1 | BV28: =MAX(D28:BQ28) -> 2.8 | BW28: =MIN(D28:BQ28) -> 2.1 | BX28: =MEDIAN(D28:BQ28) -> 2.45 | BY28: =STDEV(D28:BQ28) -> 0.49497475 | BZ28: =((BY28*100)/CB28) -> 20.203051 | CA28: =VAR(D28:BQ28) -> 0.245 | CB28: =AVERAGE(D28:BQ28) -> 2.45 | CC28: =_xlfn.PERCENTILE.INC(D28:BQ28,0.95) -> 2.765 | CD28: =_xlfn.PERCENTILE.INC(D28:BQ28,0.99) -> 2.793
A29: 2-Chlorophenol | B29: SVOC | C29: mg/kg | D29: <0.01 | E29: <0.01 | F29: <0.01 | G29: <0.01 | H29: <0.01 | I29: < 0.1 | J29: < 0.1 | K29: < 0.1 | L29: < 0.1 | M29: < 0.1 | N29: < 0.1 | O29: < 0.1 | P29: < 0.1 | Q29: < 0.1 | R29: < 0.1 | S29: < 0.1 | T29: < 0.1 | U29: < 0.1 | V29: < 0.1 | W29: < 0.1 | X29: < 0.1 | Y29: < 0.1 | Z29: < 0.1 | AA29: < 0.1 | AB29: < 0.1 | AC29: < 0.1 | AD29: < 0.1 | AE29: < 0.1 | AF29: < 0.1 | AG29: < 0.1 | AH29: < 0.1 | AI29: < 0.1 | AJ29: < 0.1 | AK29: < 0.1 | AL29: < 0.1 | AM29: < 0.1 | AN29: < 0.1 | AO29: < 0.1 | AP29: < 0.1 | AQ29: < 0.1 | AR29: < 0.1 | AS29: < 0.1 | AT29: < 0.1 | AU29: < 0.1 | AV29: < 0.1 | AW29: < 0.1 | AX29: < 0.1 | AY29: < 0.1 | AZ29: < 0.1 | BA29: < 0.1 | BB29: < 0.1 | BC29: < 0.1 | BD29: < 0.1 | BE29: < 0.1 | BF29: < 0.1 | BG29: < 0.1 | BH29: < 0.1 | BI29: < 0.1 | BJ29: < 0.1 | BK29: < 0.1 | BL29: < 0.1 | BM29: < 0.1 | BN29: < 0.1 | BO29: < 0.1 | BP29: < 0.1 | BQ29: < 0.1 | BS29: 66 | BT29: 66 | BU29: =IFERROR(BT29/BS29,"") -> 1 | BV29: =MAX(D29:BQ29) -> 0 | BW29: =MIN(D29:BQ29) -> 0 | BX29: =MEDIAN(D29:BQ29) -> #NUM! | BY29: =STDEV(D29:BQ29) -> #DIV/0! | BZ29: =((BY29*100)/CB29) -> #DIV/0! | CA29: =VAR(D29:BQ29) -> #DIV/0! | CB29: =AVERAGE(D29:BQ29) -> #DIV/0! | CC29: =_xlfn.PERCENTILE.INC(D29:BQ29,0.95) -> #NUM! | CD29: =_xlfn.PERCENTILE.INC(D29:BQ29,0.99) -> #NUM!
A30: 1,3-Dichlorobenzene | B30: SVOC | C30: mg/kg | D30: <0.01 | E30: <0.01 | F30: <0.01 | G30: <0.01 | H30: <0.01 | I30: < 0.2 | J30: < 0.2 | K30: < 0.2 | L30: < 0.2 | M30: < 0.2 | N30: < 0.2 | O30: < 0.2 | P30: < 0.2 | Q30: < 0.2 | R30: 1.1 | S30: < 0.2 | T30: < 0.2 | U30: < 0.2 | V30: < 0.2 | W30: < 0.2 | X30: < 0.2 | Y30: < 0.2 | Z30: < 0.2 | AA30: < 0.2 | AB30: < 0.2 | AC30: < 0.2 | AD30: < 0.2 | AE30: < 0.2 | AF30: < 0.2 | AG30: < 0.2 | AH30: < 0.2 | AI30: < 0.2 | AJ30: < 0.2 | AK30: < 0.2 | AL30: < 0.2 | AM30: < 0.2 | AN30: < 0.2 | AO30: < 0.2 | AP30: < 0.2 | AQ30: < 0.2 | AR30: < 0.2 | AS30: < 0.2 | AT30: < 0.2 | AU30: < 0.2 | AV30: < 0.2 | AW30: < 0.2 | AX30: < 0.2 | AY30: < 0.2 | AZ30: < 0.2 | BA30: < 0.2 | BB30: < 0.2 | BC30: < 0.2 | BD30: < 0.2 | BE30: < 0.2 | BF30: < 0.2 | BG30: < 0.2 | BH30: < 0.2 | BI30: < 0.2 | BJ30: < 0.2 | BK30: < 0.2 | BL30: < 0.2 | BM30: < 0.2 | BN30: < 0.2 | BO30: < 0.2 | BP30: < 0.2 | BQ30: < 0.2 | BS30: 66 | BT30: 66 | BU30: =IFERROR(BT30/BS30,"") -> 1 | BV30: =MAX(D30:BQ30) -> 1.1 | BW30: =MIN(D30:BQ30) -> 1.1 | BX30: =MEDIAN(D30:BQ30) -> 1.1 | BY30: =STDEV(D30:BQ30) -> #DIV/0! | BZ30: =((BY30*100)/CB30) -> #DIV/0! | CA30: =VAR(D30:BQ30) -> #DIV/0! | CB30: =AVERAGE(D30:BQ30) -> 1.1 | CC30: =_xlfn.PERCENTILE.INC(D30:BQ30,0.95) -> 1.1 | CD30: =_xlfn.PERCENTILE.INC(D30:BQ30,0.99) -> 1.1
A31: 1,4-Dichlorobenzene | B31: SVOC | C31: mg/kg | D31: <0.01 | E31: <0.01 | F31: <0.01 | G31: <0.01 | H31: <0.01 | I31: < 0.2 | J31: < 0.2 | K31: < 0.2 | L31: < 0.2 | M31: < 0.2 | N31: < 0.2 | O31: < 0.2 | P31: < 0.2 | Q31: < 0.2 | R31: < 0.2 | S31: < 0.2 | T31: < 0.2 | U31: < 0.2 | V31: < 0.2 | W31: < 0.2 | X31: < 0.2 | Y31: < 0.2 | Z31: < 0.2 | AA31: < 0.2 | AB31: < 0.2 | AC31: < 0.2 | AD31: < 0.2 | AE31: < 0.2 | AF31: < 0.2 | AG31: < 0.2 | AH31: < 0.2 | AI31: < 0.2 | AJ31: < 0.2 | AK31: < 0.2 | AL31: < 0.2 | AM31: < 0.2 | AN31: < 0.2 | AO31: < 0.2 | AP31: < 0.2 | AQ31: < 0.2 | AR31: < 0.2 | AS31: < 0.2 | AT31: < 0.2 | AU31: < 0.2 | AV31: < 0.2 | AW31: < 0.2 | AX31: < 0.2 | AY31: < 0.2 | AZ31: < 0.2 | BA31: < 0.2 | BB31: < 0.2 | BC31: < 0.2 | BD31: < 0.2 | BE31: < 0.2 | BF31: < 0.2 | BG31: < 0.2 | BH31: < 0.2 | BI31: < 0.2 | BJ31: < 0.2 | BK31: < 0.2 | BL31: < 0.2 | BM31: < 0.2 | BN31: < 0.2 | BO31: < 0.2 | BP31: < 0.2 | BQ31: < 0.2 | BS31: 66 | BT31: 66 | BU31: =IFERROR(BT31/BS31,"") -> 1 | BV31: =MAX(D31:BQ31) -> 0 | BW31: =MIN(D31:BQ31) -> 0 | BX31: =MEDIAN(D31:BQ31) -> #NUM! | BY31: =STDEV(D31:BQ31) -> #DIV/0! | BZ31: =((BY31*100)/CB31) -> #DIV/0! | CA31: =VAR(D31:BQ31) -> #DIV/0! | CB31: =AVERAGE(D31:BQ31) -> #DIV/0! | CC31: =_xlfn.PERCENTILE.INC(D31:BQ31,0.95) -> #NUM! | CD31: =_xlfn.PERCENTILE.INC(D31:BQ31,0.99) -> #NUM!
A32: Benzyl Alcohol | B32: SVOC | C32: mg/kg | D32: <0.01 | E32: <0.01 | F32: <0.01 | G32: <0.01 | H32: <0.01 | BS32: 5 | BT32: 5 | BU32: =IFERROR(BT32/BS32,"") -> 1 | BV32: =MAX(D32:BQ32) -> 0 | BW32: =MIN(D32:BQ32) -> 0 | BX32: =MEDIAN(D32:BQ32) -> #NUM! | BY32: =STDEV(D32:BQ32) -> #DIV/0! | BZ32: =((BY32*100)/CB32) -> #DIV/0! | CA32: =VAR(D32:BQ32) -> #DIV/0! | CB32: =AVERAGE(D32:BQ32) -> #DIV/0! | CC32: =_xlfn.PERCENTILE.INC(D32:BQ32,0.95) -> #NUM! | CD32: =_xlfn.PERCENTILE.INC(D32:BQ32,0.99) -> #NUM!
A33: 1,2-Dichlorobenzene | B33: SVOC | C33: mg/kg | D33: <0.01 | E33: <0.01 | F33: <0.01 | G33: <0.01 | H33: <0.01 | I33: < 0.1 | J33: < 0.1 | K33: < 0.1 | L33: < 0.1 | M33: < 0.1 | N33: < 0.1 | O33: < 0.1 | P33: < 0.1 | Q33: < 0.1 | R33: < 0.1 | S33: < 0.1 | T33: < 0.1 | U33: < 0.1 | V33: < 0.1 | W33: < 0.1 | X33: < 0.1 | Y33: < 0.1 | Z33: < 0.1 | AA33: < 0.1 | AB33: < 0.1 | AC33: < 0.1 | AD33: < 0.1 | AE33: < 0.1 | AF33: < 0.1 | AG33: < 0.1 | AH33: < 0.1 | AI33: < 0.1 | AJ33: < 0.1 | AK33: < 0.1 | AL33: < 0.1 | AM33: < 0.1 | AN33: < 0.1 | AO33: < 0.1 | AP33: < 0.1 | AQ33: < 0.1 | AR33: < 0.1 | AS33: < 0.1 | AT33: < 0.1 | AU33: < 0.1 | AV33: < 0.1 | AW33: < 0.1 | AX33: < 0.1 | AY33: < 0.1 | AZ33: < 0.1 | BA33: < 0.1 | BB33: < 0.1 | BC33: < 0.1 | BD33: < 0.1 | BE33: < 0.1 | BF33: < 0.1 | BG33: < 0.1 | BH33: < 0.1 | BI33: < 0.1 | BJ33: < 0.1 | BK33: < 0.1 | BL33: < 0.1 | BM33: < 0.1 | BN33: < 0.1 | BO33: < 0.1 | BP33: < 0.1 | BQ33: < 0.1 | BS33: 66 | BT33: 66 | BU33: =IFERROR(BT33/BS33,"") -> 1 | BV33: =MAX(D33:BQ33) -> 0 | BW33: =MIN(D33:BQ33) -> 0 | BX33: =MEDIAN(D33:BQ33) -> #NUM! | BY33: =STDEV(D33:BQ33) -> #DIV/0! | BZ33: =((BY33*100)/CB33) -> #DIV/0! | CA33: =VAR(D33:BQ33) -> #DIV/0! | CB33: =AVERAGE(D33:BQ33) -> #DIV/0! | CC33: =_xlfn.PERCENTILE.INC(D33:BQ33,0.95) -> #NUM! | CD33: =_xlfn.PERCENTILE.INC(D33:BQ33,0.99) -> #NUM!
A34: 2-Methylphenol | B34: SVOC | C34: mg/kg | D34: 0.05 | E34: 0.07 | F34: 0.07 | G34: 0.07 | H34: 0.03 | I34: < 0.3 | J34: < 0.3 | K34: < 0.3 | L34: < 0.3 | M34: < 0.3 | N34: < 0.3 | O34: < 0.3 | P34: < 0.3 | Q34: < 0.3 | R34: < 0.3 | S34: < 0.3 | T34: < 0.3 | U34: < 0.3 | V34: < 0.3 | W34: < 0.3 | X34: < 0.3 | Y34: < 0.3 | Z34: < 0.3 | AA34: < 0.3 | AB34: < 0.3 | AC34: < 0.3 | AD34: < 0.3 | AE34: < 0.3 | AF34: < 0.3 | AG34: < 0.3 | AH34: < 0.3 | AI34: < 0.3 | AJ34: < 0.3 | AK34: < 0.3 | AL34: < 0.3 | AM34: < 0.3 | AN34: < 0.3 | AO34: < 0.3 | AP34: < 0.3 | AQ34: < 0.3 | AR34: < 0.3 | AS34: < 0.3 | AT34: < 0.3 | AU34: < 0.3 | AV34: < 0.3 | AW34: < 0.3 | AX34: < 0.3 | AY34: < 0.3 | AZ34: < 0.3 | BA34: < 0.3 | BB34: < 0.3 | BC34: < 0.3 | BD34: < 0.3 | BE34: < 0.3 | BF34: < 0.3 | BG34: < 0.3 | BH34: < 0.3 | BI34: < 0.3 | BJ34: < 0.3 | BK34: < 0.3 | BL34: < 0.3 | BM34: < 0.3 | BN34: < 0.3 | BO34: < 0.3 | BP34: < 0.3 | BQ34: < 0.3 | BS34: 66 | BT34: 61 | BU34: =IFERROR(BT34/BS34,"") -> 0.92424242 | BV34: =MAX(D34:BQ34) -> 0.07 | BW34: =MIN(D34:BQ34) -> 0.03 | BX34: =MEDIAN(D34:BQ34) -> 0.07 | BY34: =STDEV(D34:BQ34) -> 0.017888544 | BZ34: =((BY34*100)/CB34) -> 30.842317 | CA34: =VAR(D34:BQ34) -> 0.00032 | CB34: =AVERAGE(D34:BQ34) -> 0.058 | CC34: =_xlfn.PERCENTILE.INC(D34:BQ34,0.95) -> 0.07 | CD34: =_xlfn.PERCENTILE.INC(D34:BQ34,0.99) -> 0.07
A35: Bis(2-chloroisopropyl)ether | B35: SVOC | C35: mg/kg | D35: <0.01 | E35: <0.01 | F35: <0.01 | G35: <0.01 | H35: <0.01 | I35: < 0.1 | J35: < 0.1 | K35: < 0.1 | L35: < 0.1 | M35: < 0.1 | N35: < 0.1 | O35: < 0.1 | P35: < 0.1 | Q35: < 0.1 | R35: < 0.1 | S35: < 0.1 | T35: < 0.1 | U35: < 0.1 | V35: < 0.1 | W35: < 0.1 | X35: < 0.1 | Y35: < 0.1 | Z35: < 0.1 | AA35: < 0.1 | AB35: < 0.1 | AC35: < 0.1 | AD35: < 0.1 | AE35: < 0.1 | AF35: < 0.1 | AG35: < 0.1 | AH35: < 0.1 | AI35: < 0.1 | AJ35: < 0.1 | AK35: < 0.1 | AL35: < 0.1 | AM35: < 0.1 | AN35: < 0.1 | AO35: < 0.1 | AP35: < 0.1 | AQ35: < 0.1 | AR35: < 0.1 | AS35: < 0.1 | AT35: < 0.1 | AU35: < 0.1 | AV35: < 0.1 | AW35: < 0.1 | AX35: < 0.1 | AY35: < 0.1 | AZ35: < 0.1 | BA35: < 0.1 | BB35: < 0.1 | BC35: < 0.1 | BD35: < 0.1 | BE35: < 0.1 | BF35: < 0.1 | BG35: < 0.1 | BH35: < 0.1 | BI35: < 0.1 | BJ35: < 0.1 | BK35: < 0.1 | BL35: < 0.1 | BM35: < 0.1 | BN35: < 0.1 | BO35: < 0.1 | BP35: < 0.1 | BQ35: < 0.1 | BS35: 66 | BT35: 66 | BU35: =IFERROR(BT35/BS35,"") -> 1 | BV35: =MAX(D35:BQ35) -> 0 | BW35: =MIN(D35:BQ35) -> 0 | BX35: =MEDIAN(D35:BQ35) -> #NUM! | BY35: =STDEV(D35:BQ35) -> #DIV/0! | BZ35: =((BY35*100)/CB35) -> #DIV/0! | CA35: =VAR(D35:BQ35) -> #DIV/0! | CB35: =AVERAGE(D35:BQ35) -> #DIV/0! | CC35: =_xlfn.PERCENTILE.INC(D35:BQ35,0.95) -> #NUM! | CD35: =_xlfn.PERCENTILE.INC(D35:BQ35,0.99) -> #NUM!
A36: 3 and 4-methylphenol | B36: SVOC | C36: mg/kg | D36: 0.13 | E36: 0.29 | F36: 0.18 | G36: 0.18 | H36: 0.08 | BS36: 5 | BT36: 0 | BU36: =IFERROR(BT36/BS36,"") -> 0 | BV36: =MAX(D36:BQ36) -> 0.29 | BW36: =MIN(D36:BQ36) -> 0.08 | BX36: =MEDIAN(D36:BQ36) -> 0.18 | BY36: =STDEV(D36:BQ36) -> 0.077910205 | BZ36: =((BY36*100)/CB36) -> 45.296631 | CA36: =VAR(D36:BQ36) -> 0.00607 | CB36: =AVERAGE(D36:BQ36) -> 0.172 | CC36: =_xlfn.PERCENTILE.INC(D36:BQ36,0.95) -> 0.268 | CD36: =_xlfn.PERCENTILE.INC(D36:BQ36,0.99) -> 0.2856
A37: N-Nitrosodi-n-propylamine | B37: SVOC | C37: mg/kg | D37: <0.01 | E37: <0.01 | F37: <0.01 | G37: <0.01 | H37: <0.01 | BS37: 5 | BT37: 5 | BU37: =IFERROR(BT37/BS37,"") -> 1 | BV37: =MAX(D37:BQ37) -> 0 | BW37: =MIN(D37:BQ37) -> 0 | BX37: =MEDIAN(D37:BQ37) -> #NUM! | BY37: =STDEV(D37:BQ37) -> #DIV/0! | BZ37: =((BY37*100)/CB37) -> #DIV/0! | CA37: =VAR(D37:BQ37) -> #DIV/0! | CB37: =AVERAGE(D37:BQ37) -> #DIV/0! | CC37: =_xlfn.PERCENTILE.INC(D37:BQ37,0.95) -> #NUM! | CD37: =_xlfn.PERCENTILE.INC(D37:BQ37,0.99) -> #NUM!
A38: Hexachloroethane | B38: SVOC | C38: mg/kg | D38: <0.01 | E38: <0.01 | F38: <0.01 | G38: <0.01 | H38: <0.01 | I38: < 0.05 | J38: < 0.05 | K38: < 0.05 | L38: < 0.05 | M38: < 0.05 | N38: < 0.05 | O38: < 0.05 | P38: < 0.05 | Q38: < 0.05 | R38: < 0.05 | S38: < 0.05 | T38: < 0.05 | U38: < 0.05 | V38: < 0.05 | W38: < 0.05 | X38: < 0.05 | Y38: < 0.05 | Z38: < 0.05 | AA38: < 0.05 | AB38: < 0.05 | AC38: < 0.05 | AD38: < 0.05 | AE38: < 0.05 | AF38: < 0.05 | AG38: < 0.05 | AH38: < 0.05 | AI38: < 0.05 | AJ38: < 0.05 | AK38: < 0.05 | AL38: < 0.05 | AM38: < 0.05 | AN38: < 0.05 | AO38: < 0.05 | AP38: < 0.05 | AQ38: < 0.05 | AR38: < 0.05 | AS38: < 0.05 | AT38: < 0.05 | AU38: < 0.05 | AV38: < 0.05 | AW38: < 0.05 | AX38: < 0.05 | AY38: < 0.05 | AZ38: < 0.05 | BA38: < 0.05 | BB38: < 0.05 | BC38: < 0.05 | BD38: < 0.05 | BE38: < 0.05 | BF38: < 0.05 | BG38: < 0.05 | BH38: < 0.05 | BI38: < 0.05 | BJ38: < 0.05 | BK38: < 0.05 | BL38: < 0.05 | BM38: < 0.05 | BN38: < 0.05 | BO38: < 0.05 | BP38: < 0.05 | BQ38: < 0.05 | BS38: 66 | BT38: 66 | BU38: =IFERROR(BT38/BS38,"") -> 1 | BV38: =MAX(D38:BQ38) -> 0 | BW38: =MIN(D38:BQ38) -> 0 | BX38: =MEDIAN(D38:BQ38) -> #NUM! | BY38: =STDEV(D38:BQ38) -> #DIV/0! | BZ38: =((BY38*100)/CB38) -> #DIV/0! | CA38: =VAR(D38:BQ38) -> #DIV/0! | CB38: =AVERAGE(D38:BQ38) -> #DIV/0! | CC38: =_xlfn.PERCENTILE.INC(D38:BQ38,0.95) -> #NUM! | CD38: =_xlfn.PERCENTILE.INC(D38:BQ38,0.99) -> #NUM!
A39: Nitrobenzene | B39: SVOC | C39: mg/kg | D39: <0.01 | E39: <0.01 | F39: <0.01 | G39: <0.01 | H39: <0.01 | I39: < 0.3 | J39: < 0.3 | K39: < 0.3 | L39: < 0.3 | M39: < 0.3 | N39: < 0.3 | O39: < 0.3 | P39: < 0.3 | Q39: < 0.3 | R39: < 0.3 | S39: < 0.3 | T39: < 0.3 | U39: < 0.3 | V39: < 0.3 | W39: < 0.3 | X39: < 0.3 | Y39: < 0.3 | Z39: < 0.3 | AA39: < 0.3 | AB39: < 0.3 | AC39: < 0.3 | AD39: < 0.3 | AE39: < 0.3 | AF39: < 0.3 | AG39: < 0.3 | AH39: < 0.3 | AI39: < 0.3 | AJ39: < 0.3 | AK39: < 0.3 | AL39: < 0.3 | AM39: < 0.3 | AN39: < 0.3 | AO39: < 0.3 | AP39: < 0.3 | AQ39: < 0.3 | AR39: < 0.3 | AS39: < 0.3 | AT39: < 0.3 | AU39: < 0.3 | AV39: < 0.3 | AW39: < 0.3 | AX39: < 0.3 | AY39: < 0.3 | AZ39: < 0.3 | BA39: < 0.3 | BB39: < 0.3 | BC39: < 0.3 | BD39: < 0.3 | BE39: < 0.3 | BF39: < 0.3 | BG39: < 0.3 | BH39: < 0.3 | BI39: < 0.3 | BJ39: < 0.3 | BK39: < 0.3 | BL39: < 0.3 | BM39: < 0.3 | BN39: < 0.3 | BO39: < 0.3 | BP39: < 0.3 | BQ39: < 0.3 | BS39: 66 | BT39: 66 | BU39: =IFERROR(BT39/BS39,"") -> 1 | BV39: =MAX(D39:BQ39) -> 0 | BW39: =MIN(D39:BQ39) -> 0 | BX39: =MEDIAN(D39:BQ39) -> #NUM! | BY39: =STDEV(D39:BQ39) -> #DIV/0! | BZ39: =((BY39*100)/CB39) -> #DIV/0! | CA39: =VAR(D39:BQ39) -> #DIV/0! | CB39: =AVERAGE(D39:BQ39) -> #DIV/0! | CC39: =_xlfn.PERCENTILE.INC(D39:BQ39,0.95) -> #NUM! | CD39: =_xlfn.PERCENTILE.INC(D39:BQ39,0.99) -> #NUM!
A40: Isophorone | B40: SVOC | C40: mg/kg | D40: <0.01 | E40: <0.01 | F40: <0.01 | G40: <0.01 | H40: <0.01 | I40: < 0.2 | J40: < 0.2 | K40: < 0.2 | L40: < 0.2 | M40: < 0.2 | N40: < 0.2 | O40: < 0.2 | P40: < 0.2 | Q40: < 0.2 | R40: < 0.2 | S40: < 0.2 | T40: < 0.2 | U40: < 0.2 | V40: < 0.2 | W40: < 0.2 | X40: < 0.2 | Y40: < 0.2 | Z40: < 0.2 | AA40: < 0.2 | AB40: < 0.2 | AC40: < 0.2 | AD40: < 0.2 | AE40: < 0.2 | AF40: < 0.2 | AG40: < 0.2 | AH40: < 0.2 | AI40: < 0.2 | AJ40: < 0.2 | AK40: < 0.2 | AL40: < 0.2 | AM40: < 0.2 | AN40: < 0.2 | AO40: < 0.2 | AP40: < 0.2 | AQ40: < 0.2 | AR40: < 0.2 | AS40: < 0.2 | AT40: < 0.2 | AU40: < 0.2 | AV40: < 0.2 | AW40: < 0.2 | AX40: < 0.2 | AY40: < 0.2 | AZ40: < 0.2 | BA40: < 0.2 | BB40: < 0.2 | BC40: < 0.2 | BD40: < 0.2 | BE40: < 0.2 | BF40: < 0.2 | BG40: < 0.2 | BH40: < 0.2 | BI40: < 0.2 | BJ40: < 0.2 | BK40: < 0.2 | BL40: < 0.2 | BM40: < 0.2 | BN40: < 0.2 | BO40: < 0.2 | BP40: < 0.2 | BQ40: < 0.2 | BS40: 66 | BT40: 66 | BU40: =IFERROR(BT40/BS40,"") -> 1 | BV40: =MAX(D40:BQ40) -> 0 | BW40: =MIN(D40:BQ40) -> 0 | BX40: =MEDIAN(D40:BQ40) -> #NUM! | BY40: =STDEV(D40:BQ40) -> #DIV/0! | BZ40: =((BY40*100)/CB40) -> #DIV/0! | CA40: =VAR(D40:BQ40) -> #DIV/0! | CB40: =AVERAGE(D40:BQ40) -> #DIV/0! | CC40: =_xlfn.PERCENTILE.INC(D40:BQ40,0.95) -> #NUM! | CD40: =_xlfn.PERCENTILE.INC(D40:BQ40,0.99) -> #NUM!
...

Sheet Comparators
A1: PAS 111
A2: Substance | B2: Units | C2: Panel Board Manufacture | D2: Porous Surfaces | E2: Non-Porous Surfaces | L2: Stats tab row ref.
G4: Units | H4: MAX | I4: MEDIAN | J4: 99th Per.
A5: Arsenic | B5: mg/kg | C5: 25 | D5: - | E5: - | G5: mg/kg | H5: =Stats!BV23 -> 17 | I5: =Stats!BX23 -> 5.3 | J5: =Stats!CD23 -> 17 | L5: 23
A6: Cadmium | B6: mg/kg | C6: 50 | D6: 1.5 | E6: 1.5 | G6: mg/kg | H6: =Stats!BV15 -> 0.3 | I6: =Stats!BX15 -> 0.2 | J6: =Stats!CD15 -> 0.3 | L6: 15
A7: Chromium | B7: mg/kg | C7: 25 | D7: 100 | E7: 100 | G7: mg/kg | H7: =Stats!BV16 -> 63 | I7: =Stats!BX16 -> 9.45 | J7: =Stats!CD16 -> 41.55 | L7: 16
A8: Copper | B8: mg/kg | C8: 40 | D8: 200 | E8: 200 | G8: mg/kg | H8: =Stats!BV17 -> 46 | I8: =Stats!BX17 -> 21 | J8: =Stats!CD17 -> 46 | L8: 17
A9: Fluorine | B9: mg/kg | C9: 100 | D9: - | E9: - | G9: mg/kg | H9: - | I9: - | J9: - | L9: -
A10: Chlorine | B10: mg/kg | C10: 1000 | D10: - | E10: - | G10: mg/kg | H10: - | I10: - | J10: - | L10: -
A11: Lead | B11: mg/kg | C11: 90 | D11: 200 | E11: 200 | G11: mg/kg | H11: =Stats!BV18 -> 100 | I11: =Stats!BX18 -> 32 | J11: =Stats!CD18 -> 94.8 | L11: 18
A12: Mercury | B12: mg/kg | C12: 25 | D12: 1 | E12: 1 | G12: mg/kg | H12: =Stats!BV19 -> 0.6 | I12: =Stats!BX19 -> 0.5 | J12: =Stats!CD19 -> 0.6 | L12: 19
A13: Nickel | B13: mg/kg | C13: - | D13: 50 | E13: 50 | G13: mg/kg | H13: =Stats!BV20 -> 30 | I13: =Stats!BX20 -> 1.5 | J13: =Stats!CD20 -> 24.17 | L13: 20
A14: Zinc | B14: mg/kg | C14: - | D14: 400 | E14: 400 | G14: mg/kg | H14: =Stats!BV21 -> 170 | I14: =Stats!BX21 -> 39 | J14: =Stats!CD21 -> 131 | L14: 21
A15: Heavy metals (combined) | B15: mg/kg | C15: 4000 | D15: Trace | E15: Trace | G15: mg/kg | H15: 464.1 | I15: N/A | J15: N/A
A16: Benzo(a)pyrene | B16: mg/kg | C16: 0.5 | D16: Trace | E16: Trace | G16: mg/kg | H16: =Stats!BV93 -> 0.48 | I16: =Stats!BX93 -> 0.14 | J16: =Stats!CD93 -> 0.468 | L16: 93
A17: Pentachlorophenol (PCP) | B17: mg/kg | C17: 5 | D17: - | E17: - | G17: mg/kg | H17: =Stats!BV78 -> 0.39 | I17: =Stats!BX78 -> 0.35 | J17: =Stats!CD78 -> 0.3892 | L17: 78
A19: STRAW | G19: Units | H19: MAX | I19: MEDIAN | J19: 99th Per. | L19: Row ref.
A20: Acenaphthene | B20: µg/kg | C20: 10.03 | G20: mg/kg | H20: =Stats!BV64 -> 0.65 | I20: =Stats!BX64 -> 0.24 | J20: =Stats!CD64 -> 0.629 | L20: 64
A21: Acenaphthylene | B21: µg/kg | C21: 9 | G21: mg/kg | H21: =Stats!BV61 -> 0.05 | I21: =Stats!BX61 -> 0.04 | J21: =Stats!CD61 -> 0.05 | L21: 61
A22: Anthracene | B22: µg/kg | C22: 200 | G22: mg/kg | H22: =Stats!BV80 -> 5.4 | I22: =Stats!BX80 -> 0.325 | J22: =Stats!CD80 -> 4.0735 | L22: 80
A23: Benzo(a)anthracene | B23: µg/kg | C23: 200 | G23: mg/kg | H23: =Stats!BV88 -> 1.6 | I23: =Stats!BX88 -> 0.44 | J23: =Stats!CD88 -> 1.5384 | L23: 88
A24: Benzo(a)pyrene | B24: µg/kg | C24: 200 | G24: mg/kg | H24: =Stats!BV93 -> 0.48 | I24: =Stats!BX93 -> 0.14 | J24: =Stats!CD93 -> 0.468 | L24: 93
A25: Benzo(b)fluoranthene | B25: µg/kg | C25: 200 | G25: mg/kg | H25: =Stats!BV91 -> 0.86 | I25: =Stats!BX91 -> 0.245 | J25: =Stats!CD91 -> 0.8355 | L25: 91
A26: Benzo(ghi)perylene | B26: µg/kg | C26: 10 | G26: mg/kg | H26: =Stats!BV96 -> 0.17 | I26: =Stats!BX96 -> 0.06 | J26: =Stats!CD96 -> 0.1656 | L26: 96
A27: Benzo(k)fluoranthene | B27: µg/kg | C27: 200 | G27: mg/kg | H27: =Stats!BV92 -> 0.49 | I27: =Stats!BX92 -> 0.205 | J27: =Stats!CD92 -> 0.4855 | L27: 92
A28: Chrysene | B28: µg/kg | C28: 300 | G28: mg/kg | H28: =Stats!BV89 -> 1.5 | I28: =Stats!BX89 -> 0.42 | J28: =Stats!CD89 -> 1.4454 | L28: 89
A29: Dibenz(ah)anthracene | B29: µg/kg | C29: 30 | G29: mg/kg | H29: =Stats!BV95 -> 0.1 | I29: =Stats!BX95 -> 0.06 | J29: =Stats!CD95 -> 0.0988 | L29: 95
A30: Fluoranthene | B30: µg/kg | C30: 200 | G30: mg/kg | H30: =Stats!BV83 -> 6.7 | I30: =Stats!BX83 -> 1.4 | J30: =Stats!CD83 -> 5.6341 | L30: 83
A31: Fluorene | B31: µg/kg | C31: 90 | G31: mg/kg | H31: =Stats!BV71 -> 0.89 | I31: =Stats!BX71 -> 0.3 | J31: =Stats!CD71 -> 0.8404 | L31: 71
A32: Indeno(1,2,3-c,d)pyrene | B32: µg/kg | C32: 300 | G32: mg/kg | H32: =Stats!BV94 -> 0.28 | I32: =Stats!BX94 -> 0.07 | J32: =Stats!CD94 -> 0.2728 | L32: 94
A33: Naphthalene | B33: µg/kg | C33: 90 | G33: mg/kg | H33: =Stats!BV46 -> 0.23 | I33: =Stats!BX46 -> 0.11 | J33: =Stats!CD46 -> 0.226 | L33: 46
A34: Phenanthrene | B34: µg/kg | C34: 200 | G34: mg/kg | H34: =Stats!BV79 -> 6.6 | I34: =Stats!BX79 -> 1.2 | J34: =Stats!CD79 -> 5.5968 | L34: 79
A35: Pyrene | B35: µg/kg | C35: 200 | G35: mg/kg | H35: =Stats!BV84 -> 4.5 | I35: =Stats!BX84 -> 0.995 | J35: =Stats!CD84 -> 3.6849 | L35: 84
A36: 1,2,3 Trichlorobenzene | B36: µg/kg | C36: 7 | G36: µg/kg | H36: <10.0 | I36: N/A | J36: N/A | L36: 148
A37: 1,2,4 Trichlorobenzene | B37: µg/kg | C37: 7 | G37: µg/kg | H37: <10.0 | I37: N/A | J37: N/A | L37: 150
A38: Hexachlorobutadiene | B38: µg/kg | C38: 8 | G38: µg/kg | H38: <10.0 | I38: N/A | J38: N/A | L38: 147
A39: 2,4,6-Tetrachlorophenol | B39: µg/kg | C39: 5000 | G39: µg/kg | H39: =Stats!BV53 -> 0.02 | I39: =Stats!BX53 -> 0.02 | J39: =Stats!CD53 -> 0.02 | L39: 53
A40: 2,4,5-Trichlorophenol | B40: µg/kg | C40: 5000 | G40: mg/kg | H40: <0.2 | I40: N/A | J40: N/A | L40: 54
A41: 2,4-Dichlorophenol | B41: µg/kg | C41: 5000 | G41: mg/kg | H41: <0.3 | I41: N/A | J41: N/A | L41: 44
A42: 4-Chloro-3-methylphenol | B42: µg/kg | C42: 5000 | G42: mg/kg | H42: <0.1 | I42: N/A | J42: N/A | L42: 49
...
