Workbook

Sheet Stats
D1: Elab | E1: Elab | F1: Elab | G1: Elab | H1: Elab | I1: I2 | J1: I2 | K1: I2 | L1: I2 | M1: I2 | N1: I2 | O1: I2 | P1: I2 | Q1: I2 | R1: I2 | S1: I2 | T1: I2 | U1: I2 | V1: I2 | W1: I2 | X1: I2 | Y1: I2 | Z1: I2 | AA1: I2 | AB1: I2 | AC1: I2 | AD1: I2 | AE1: I2 | AF1: I2 | AG1: I2 | AH1: I2 | AI1: I2 | AJ1: I2 | AK1: I2 | AL1: I2 | AM1: I2 | AN1: I2 | AO1: I2 | AP1: I2 | AQ1: I2 | AR1: I2 | AS1: I2 | AT1: I2 | AU1: I2 | AV1: I2 | AW1: I2 | AX1: I2 | AY1: I2 | AZ1: I2 | BA1: I2 | BB1: I2 | BC1: I2 | BD1: I2 | BE1: I2 | BF1: I2 | BG1: I2 | BH1: I2 | BI1: I2 | BJ1: I2 | BK1: I2 | BL1: I2 | BM1: I2 | BN1: I2 | BO1: I2 | BP1: I2 | BQ1: I2
A2: Sheet Name | C2: UOM | D2: I | E2: I | F2: I | G2: I | H2: I | I2: I | J2: I | K2: I | L2: I | M2: I | N2: I | O2: I | P2: I | Q2: I | R2: I | S2: I | T2: I | U2: I | V2: I | W2: I | X2: I | Y2: I | Z2: I | AA2: I | AB2: I | AC2: I | AD2: I | AE2: I | AF2: I | AG2: I | AH2: I | AI2: I | AJ2: I | AK2: I | AL2: I | AM2: I | AN2: I | AO2: I | AP2: I | AQ2: I | AR2: I | AS2: I | AT2: I | AU2: I | AV2: I | AW2: I | AX2: I | AY2: I | AZ2: I | BA2: I | BB2: I | BC2: I | BD2: I | BE2: I | BF2: I | BG2: I | BH2: I | BI2: I | BJ2: I | BK2: I | BL2: I | BM2: I | BN2: I | BO2: I | BP2: I | BQ2: I
A3: ELAB Reference | D3: 281331 | E3: 281346 | F3: 284890 | G3: 286346 | H3: 286804 | I3: 1869049 | J3: 1869056 | K3: 1885820 | L3: 1892557 | M3: 1907658 | N3: 1907668 | O3: 1916493 | P3: 1915471 | Q3: 1924516 | R3: 1932173 | S3: 1949457 | T3: 1949472 | U3: 1949476 | V3: 1949703 | W3: 1964085 | X3: 1971628 | Y3: 1971640 | Z3: 1980168 | AA3: 1980280 | AB3: 1980283 | AC3: 1987710 | AD3: 1995646 | AE3: 1995651 | AF3: 2004900 | AG3: 2004906 | AH3: 2021158 | AI3: 2027445 | AJ3: 2027448 | AK3: 2031571 | AL3: 2031578 | AM3: 2047368 | AN3: 2047377 | AO3: 2047381 | AP3: 2047386 | AQ3: 2063433 | AR3: 2063435 | AS3: 2084302 | AT3: 2088542 | AU3: 2088543 | AV3: 2088551 | AW3: 2094823 | AX3: 2094836 | AY3: 2105456 | AZ3: 2117365 | BA3: 2120512 | BB3: 2126134 | BC3: 2133979 | BD3: 2146087 | BE3: 2153938 | BF3: 2158613 | BG3: 2169579 | BH3: 2166244 | BI3: 2178691 | BJ3: 2189692 | BK3: 2189705 | BL3: 2200911 | BM3: 2214514 | BN3: 2220759 | BO3: 2243991 | BP3: 2259512 | BQ3: 2272569
A4: Customer Reference | H4: Wood | I4: PLA000005/I | J4: PLA000012/I | K4: PLA000033/I | L4: PLA000063/I | M4: PLA000094/I | N4: PLA000104/I | O4: PLA00117/I | P4: PLA000076/I | Q4: PLA0000138/I | R4: PLA000162/I | S4: PLA000173/I | T4: PLA000188/I | U4: PLA000192/I | V4: PLA000216/I | W4: PLA000224/I | X4: PLA000259/I | Y4: PLA000271/I | Z4: PLA000282 | AA4: PLA000291/I | AB4: PLA000294/I | AC4: PLA000298/I | AD4: PLA000308/I | AE4: PLA000313/I | AF4: PLA000350/I | AG4: PLA000329/I | AH4: PLA000386/I | AI4: PLA000363/I | AJ4: PLA000366/I | AK4: PLA000402/I | AL4: PLA000409/I | AM4: PLA000451/I | AN4: PLA000460/I | AO4: PLA000464/I | AP4: PLA000469/I | AQ4: PLA000521/I | AR4: PLA000523/I | AS4: PLA000557/I | AT4: PLA000574/I | AU4: PLA000575/I | AV4: PLA000583/I | AW4: PLA000595/I | AX4: PLA000608/I | AY4: PLA000644/I | AZ4: PLA000677/I | BA4: PLA000690/I | BB4: PLA000706/I | BC4: PLA000738/I | BD4: PLA000758/I | BE4: PLA000805/I | BF4: PLA000827/I | BG4: PLA000865/I | BH4: PLA000860/I | BI4: PLA000906/I | BJ4: PLA000928/I | BK4: PLA000941/I | BL4: PLA000965/I | BM4: PLA001006/I | BN4: PLA001025/I | BO4: PLA001081/I | BP4: PLA001109/I | BQ4: PLA001123/I
A5: Sample ID | D5: PLA00114/I | E5: PLA001179/I | F5: PLA001205/I | G5: PLA001225/I | H5: PLA001256/I | I5: None Supplied | J5: None Supplied | K5: None Supplied | L5: None Supplied | M5: None Supplied | N5: None Supplied | O5: None Supplied | P5: None Supplied | Q5: None Supplied | R5: None Supplied | S5: None Supplied | T5: None Supplied | U5: None Supplied | V5: None Supplied | W5: None Supplied | X5: None Supplied | Y5: None Supplied | Z5: I | AA5: None Supplied | AB5: None Supplied | AC5: None Supplied | AD5: None Supplied | AE5: None Supplied | AF5: None Supplied | AG5: None Supplied | AH5: None Supplied | AI5: None Supplied | AJ5: None Supplied | AK5: None Supplied | AL5: None Supplied | AM5: None Supplied | AN5: None Supplied | AO5: None Supplied | AP5: None Supplied | AQ5: None Supplied | AR5: None Supplied | AS5: None Supplied | AT5: None Supplied | AU5: None Supplied | AV5: None Supplied | AW5: None Supplied | AX5: None Supplied | AY5: None Supplied | AZ5: None Supplied | BA5: None Supplied | BB5: None Supplied | BC5: None Supplied | BD5: None Supplied | BE5: None Supplied | BF5: None Supplied | BG5: None Supplied | BH5: None Supplied | BI5: None Supplied | BJ5: None Supplied | BK5: None Supplied | BL5: None Supplied | BM5: None Supplied | BN5: None Supplied | BO5: None Supplied | BP5: None Supplied | BQ5: None Supplied
A6: Sample Type | D6: SOIL | E6: SOIL | F6: SOIL | G6: SOIL | H6: SOIL
A7: Sample Location
A8: Sample Depth (m) | I8: None Supplied | J8: None Supplied | K8: None Supplied | L8: None Supplied | M8: None Supplied | N8: None Supplied | O8: None Supplied | P8: None Supplied | Q8: None Supplied | R8: None Supplied | S8: None Supplied | T8: None Supplied | U8: None Supplied | V8: None Supplied | W8: None Supplied | X8: None Supplied | Y8: None Supplied | Z8: None Supplied | AA8: None Supplied | AB8: None Supplied | AC8: None Supplied | AD8: None Supplied | AE8: None Supplied | AF8: None Supplied | AG8: None Supplied | AH8: None Supplied | AI8: None Supplied | AJ8: None Supplied | AK8: None Supplied | AL8: None Supplied | AM8: None Supplied | AN8: None Supplied | AO8: None Supplied | AP8: None Supplied | AQ8: None Supplied | AR8: None Supplied | AS8: None Supplied | AT8: None Supplied | AU8: None Supplied | AV8: None Supplied | AW8: None Supplied | AX8: None Supplied | AY8: None Supplied | AZ8: None Supplied | BA8: None Supplied | BB8: None Supplied | BC8: None Supplied | BD8: None Supplied | BE8: None Supplied | BF8: None Supplied | BG8: None Supplied | BH8: None Supplied | BI8: None Supplied | BJ8: 17 | BK8: 8.4 | BL8: None Supplied | BM8: None Supplied | BN8: None Supplied | BO8: None Supplied | BP8: None Supplied | BQ8: None Supplied
A9: Sampling Date | D9: 12/05/2022 | E9: 20/05/2022 | F9: 07/06/2022 | G9: 28/06/2022 | H9: 07/07/2022 | I9: 11/05/2021 | J9: 13/05/2021 | K9: 22/05/2021 | L9: 29/05/2021 | M9: 10/06/2021 | N9: 16/06/2021 | O9: 21/06/2021 | P9: 03/06/2021 | Q9: 29/06/2021 | R9: 06/07/2021 | S9: 08/07/2021 | T9: 14/07/2021 | U9: 14/07/2021 | V9: 21/07/2021 | W9: 22/07/2021 | X9: 06/08/2021 | Y9: 11/08/2021 | Z9: 13/08/2021 | AA9: 17/08/2021 | AB9: 18/08/2021 | AC9: 25/08/2021 | AD9: 25/08/2021 | AE9: 28/08/2021 | AF9: 08/09/2021 | AG9: 02/09/2021 | AH9: 16/09/2021 | AI9: 09/09/2021 | AJ9: 09/09/2021 | AK9: 22/09/2021 | AL9: 28/09/2021 | AM9: 08/10/2021 | AN9: 08/10/2021 | AO9: 08/10/2021 | AP9: 08/10/2021 | AQ9: 23/10/2021 | AR9: 23/10/2021 | AS9: 29/10/2021 | AT9: 04/11/2021 | AU9: 15/11/2021 | AV9: 16/11/2021 | AW9: 18/11/2021 | AX9: 23/11/2021 | AY9: 30/11/2021 | AZ9: 08/12/2021 | BA9: 10/12/2021 | BB9: 16/12/2021 | BC9: 05/01/2022 | BD9: 12/01/2022 | BE9: 25/01/2022 | BF9: 29/01/2022 | BG9: 04/02/2022 | BH9: 03/02/2022 | BI9: 14/02/2022 | BJ9: 19/02/2022 | BK9: 24/02/2022 | BL9: 04/03/2022 | BM9: 22/03/2022 | BN9: 22/03/2022 | BO9: 05/04/2022 | BP9: 20/04/2022 | BQ9: 28/04/2022
A10: Sampling Time | D10: 5:40 | E10: 15:40 | F10: 12:30 | G10: 8:40 | H10: 0 | I10: 515 | J10: 730 | K10: 830 | L10: 546 | M10: 1930 | N10: 1430 | O10: 1250 | P10: 1230 | Q10: 1030 | R10: 900 | S10: 1140 | T10: 20 | U10: 1420 | V10: 1725 | W10: 1930 | X10: 2040 | Y10: 2250 | Z10: 2100 | AA10: 1930 | AB10: 1940 | AC10: 340 | AD10: 2330 | AE10: 210 | AF10: 1050 | AG10: 1150 | AH10: 2300 | AI10: 1050 | AJ10: 800 | AK10: 840 | AL10: 1210 | AM10: 1950 | AN10: 930 | AO10: 600 | AP10: 1530 | AQ10: 20 | AR10: 630 | AS10: 1200 | AT10: 630 | AU10: 810 | AV10: 940 | AW10: 1120 | AX10: 800 | AY10: 950 | AZ10: None Supplied | BA10: 1000 | BB10: 650 | BC10: 340 | BD10: 1320 | BE10: 1125 | BF10: 940 | BG10: 1820 | BH10: 2030 | BI10: 2250 | BJ10: None Supplied | BK10: None Supplied | BL10: 650 | BM10: 650 | BN10: 2100 | BO10: 2320 | BP10: 30 | BQ10: 630
A11: Determinand | B11: SAMPPREP | D11: 0 | E11: 0 | F11: 0 | G11: 0 | H11: 0 | I11: < 0.1 | J11: < 0.1 | K11: < 0.1 | L11: < 0.1 | M11: < 0.1 | N11: < 0.1 | O11: < 0.1 | P11: < 0.1 | Q11: < 0.1 | R11: < 0.1 | S11: < 0.1 | T11: < 0.1 | U11: < 0.1 | V11: < 0.1 | W11: < 0.1 | X11: < 0.1 | Y11: < 0.1 | Z11: < 0.1 | AA11: < 0.1 | AB11: < 0.1 | AC11: < 0.1 | AD11: < 0.1 | AE11: < 0.1 | AF11: < 0.1 | AG11: < 0.1 | AH11: < 0.1 | AI11: < 0.1 | AJ11: < 0.1 | AK11: < 0.1 | AL11: < 0.1 | AM11: < 0.1 | AN11: < 0.1 | AO11: < 0.1 | AP11: < 0.1 | AQ11: < 0.1 | AR11: < 0.1 | AS11: < 0.1 | AT11: < 0.1 | AU11: < 0.1 | AV11: < 0.1 | AW11: < 0.1 | AX11: < 0.1 | AY11: < 0.1 | AZ11: < 0.1 | BA11: < 0.1 | BB11: < 0.1 | BC11: < 0.1 | BD11: < 0.1 | BE11: < 0.1 | BF11: < 0.1 | BG11: < 0.1 | BH11: < 0.1 | BI11: < 0.1 | BJ11: < 0.1 | BK11: < 0.1 | BL11: < 0.1 | BM11: < 0.1 | BN11: < 0.1 | BO11: < 0.1 | BP11: < 0.1 | BQ11: < 0.1 | CF11: Heavy Metals Avg | CG11: Heavy Metals Max
A12: Moisture Content | B12: SAMPPREP | D12: 0.8 | E12: 1 | F12: 1.4 | G12: 0.9 | H12: 1.7 | I12: 1.8 | J12: 1.7 | K12: 2 | L12: 2.1 | M12: 0.84 | N12: 0.56 | O12: 0.69 | P12: 0.55 | Q12: 1.2 | R12: 0.95 | S12: 0.48 | T12: 0.67 | U12: 0.52 | V12: 0.26 | W12: 0.46 | X12: 1.1 | Y12: 3 | Z12: 1.8 | AA12: 0.55 | AB12: 1.6 | AC12: 1.1 | AD12: 2.3 | AE12: 1.6 | AF12: 1.4 | AG12: 1.9 | AH12: 1.5 | AI12: 2.1 | AJ12: 1.6 | AK12: 1.4 | AL12: 2.1 | AM12: 2.7 | AN12: 2.8 | AO12: 3.3 | AP12: 1.9 | AQ12: 1.6 | AR12: 1.3 | AS12: 1.3 | AT12: 2.4 | AU12: 3.9 | AV12: 1.6 | AW12: 1.8 | AX12: 0.51 | AY12: 2.6 | AZ12: 1.5 | BA12: 1.5 | BB12: 2.1 | BC12: 2.2 | BD12: 1 | BE12: 1.3 | BF12: 2.3 | BG12: 2.2 | BH12: 0.69 | BI12: 1.8 | BJ12: 2.2 | BK12: 3.1 | BL12: 4 | BM12: 1.7 | BN12: 0.24 | BO12: 0.64 | BP12: 0.28 | BQ12: 0.62 | BS12: Tests | BT12: No. below LOD | BU12: % Below LOD | BV12: Max | BW12: Min | BX12: Median | BY12: Sdev | BZ12: Relative SD | CA12: Variation | CB12: Average (Mean) | CC12: 95th Percentile | CD12: 99th Percentile | CF12: =(SUM(CB16,CB15,CB17,CB18,CB19,CB20,CB21,CB23,CB24,CB25)) -> 134.15684 | CG12: =SUM(BV15:BV21,BV23:BV25) -> 464.1
A13: Material removed | B13: SAMPPREP | D13: 50.1 | E13: 5.8 | F13: 99.2 | G13: 98.7 | H13: 97.8 | I13: 0.2 | J13: 0.2 | K13: 0.2 | L13: 0.2 | M13: 0.2 | N13: 0.2 | O13: 0.2 | P13: 0.2 | Q13: 0.3 | R13: 0.2 | S13: 0.5 | T13: 0.5 | U13: 0.5 | V13: 0.2 | W13: 0.2 | X13: 0.5 | Y13: 0.5 | Z13: 0.5 | AA13: 0.5 | AB13: 0.5 | AC13: 0.1 | AD13: 0.3 | AE13: 0.3 | AF13: 0.5 | AG13: 0.5 | AH13: 0.4 | AI13: 0.6 | AJ13: 0.6 | AK13: 0.2 | AL13: 0.2 | AM13: 0.4 | AN13: 0.4 | AO13: 0.4 | AP13: 0.4 | AQ13: 0.4 | AR13: 0.4 | AS13: 0.5 | AT13: 0.4 | AU13: 0.4 | AV13: 0.4 | AW13: 0.4 | AX13: 0.4 | AY13: 0.2 | AZ13: 0.1 | BA13: 0.5 | BB13: 0.5 | BC13: 0.2 | BD13: 0.1 | BE13: 0.4 | BF13: 0.1 | BG13: 0.2 | BH13: 0.3 | BI13: 0.1 | BJ13: 0.1 | BK13: 0.1 | BL13: 0.1 | BM13: 0.3 | BN13: 0.3 | BO13: 0.3 | BP13: 0.1 | BQ13: 0.3
A14: Description of Inert material removed | B14: METALS | D14: Wood | E14: Wood | F14: All Sawdust | G14: All Sawdust | H14: All Sawdust
A15: Cadmium | B15: METALS | C15: mg/kg | D15: <0.2 | E15: <0.2 | F15: <0.2 | G15: <0.2 | H15: <0.2 | I15: < 0.2 | J15: < 0.2 | K15: < 0.2 | L15: < 0.2 | M15: < 0.2 | N15: < 0.2 | O15: < 0.2 | P15: < 0.2 | Q15: < 0.2 | R15: < 0.2 | S15: < 0.2 | T15: 0.2 | U15: 0.3 | V15: 0.2 | W15: < 0.2 | X15: < 0.2 | Y15: < 0.2 | Z15: 0.2 | AA15: < 0.2 | AB15: < 0.2 | AC15: < 0.2 | AD15: 0.3 | AE15: 0.2 | AF15: < 0.2 | AG15: < 0.2 | AH15: 0.2 | AI15: < 0.2 | AJ15: 0.2 | AK15: < 0.2 | AL15: < 0.2 | AM15: < 0.2 | AN15: 0.2 | AO15: < 0.2 | AP15: < 0.2 | AQ15: < 0.2 | AR15: < 0.2 | AS15: < 0.2 | AT15: < 0.2 | AU15: < 0.2 | AV15: < 0.2 | AW15: < 0.2 | AX15: < 0.2 | AY15: < 0.2 | AZ15: < 0.2 | BA15: < 0.2 | BB15: < 0.2 | BC15: < 0.2 | BD15: < 0.2 | BE15: < 0.2 | BF15: < 0.2 | BG15: < 0.2 | BH15: < 0.2 | BI15: < 0.2 | BJ15: < 0.2 | BK15: < 0.2 | BL15: < 0.2 | BM15: < 0.2 | BN15: < 0.2 | BO15: < 0.2 | BP15: < 0.2 | BQ15: < 0.2 | BS15: 66 | BT15: 57 | BU15: =IFERROR(BT15/BS15,"") -> 0.86363636 | BV15: =MAX(D15:BQ15) -> 0.3 | BW15: =MIN(D15:BQ15) -> 0.2 | BX15: =MEDIAN(D15:BQ15) -> 0.2 | BY15: =STDEV(D15:BQ15) -> 0.044095855 | BZ15: =((BY15*100)/CB15) -> 19.843135 | CA15: =VAR(D15:BQ15) -> 0.0019444444 | CB15: =AVERAGE(D15:BQ15) -> 0.22222222 | CC15: =_xlfn.PERCENTILE.INC(D15:BQ15,0.95) -> 0.3 | CD15: =_xlfn.PERCENTILE.INC(D15:BQ15,0.99) -> 0.3
A16: Chromium | B16: METALS | C16: mg/kg | D16: 11.1 | E16: 15.2 | F16: 5.7 | G16: 17.8 | H16: 13.5 | I16: 13 | J16: 6.8 | K16: 63 | L16: 21 | M16: 7.2 | N16: 14 | O16: 13 | P16: 6.2 | Q16: 5.3 | R16: 7.1 | S16: 30 | T16: 12 | U16: 6.2 | V16: 2.9 | W16: 15 | X16: 6.3 | Y16: 22 | Z16: 6.8 | AA16: 22 | AB16: 11 | AC16: 20 | AD16: 14 | AE16: 10 | AF16: 7.1 | AG16: 17 | AH16: 8.5 | AI16: 9.8 | AJ16: 6.5 | AK16: 11 | AL16: 9.1 | AM16: 23 | AN16: 7.4 | AO16: 15 | AP16: 16 | AQ16: 6.6 | AR16: 6.1 | AS16: 1 | AT16: 5.6 | AU16: 16 | AV16: 11 | AW16: 8.3 | AX16: 6.4 | AY16: 8.5 | AZ16: 5.2 | BA16: 17 | BB16: 11 | BC16: 2.6 | BD16: 15 | BE16: 5.8 | BF16: 2.9 | BG16: 1.9 | BH16: 8.7 | BI16: 7.7 | BJ16: 2.9 | BK16: 11 | BL16: 3.5 | BM16: 6.1 | BN16: 20 | BO16: 16 | BP16: 23 | BQ16: 8.9 | BS16: 66 | BT16: 1 | BU16: =IFERROR(BT16/BS16,"") -> 0.015151515 | BV16: =MAX(D16:BQ16) -> 63 | BW16: =MIN(D16:BQ16) -> 1 | BX16: =MEDIAN(D16:BQ16) -> 9.45 | BY16: =STDEV(D16:BQ16) -> 8.8550561 | BZ16: =((BY16*100)/CB16) -> 76.17749 | CA16: =VAR(D16:BQ16) -> 78.412019 | CB16: =AVERAGE(D16:BQ16) -> 11.624242 | CC16: =_xlfn.PERCENTILE.INC(D16:BQ16,0.95) -> 22.75 | CD16: =_xlfn.PERCENTILE.INC(D16:BQ16,0.99) -> 41.55
A17: Copper | B17: METALS | C17: mg/kg | D17: 19 | E17: 29.3 | F17: 14.2 | G17: 33.5 | H17: 27.7 | I17: 16 | J17: 14 | K17: 22 | L17: 38 | M17: 16 | N17: 32 | O17: 25 | P17: 13 | Q17: 18 | R17: 38 | S17: 6.5 | T17: 21 | U17: 14 | V17: 5.7 | W17: 31 | X17: 14 | Y17: 32 | Z17: 18 | AA17: 40 | AB17: 34 | AC17: 43 | AD17: 27 | AE17: 23 | AF17: 16 | AG17: 38 | AH17: 17 | AI17: 20 | AJ17: 16 | AK17: 21 | AL17: 12 | AM17: 46 | AN17: 17 | AO17: 27 | AP17: 42 | AQ17: 15 | AR17: 15 | AS17: 11 | AT17: 20 | AU17: 46 | AV17: 32 | AW17: 16 | AX17: 27 | AY17: 21 | AZ17: 14 | BA17: 37 | BB17: 19 | BC17: 9.8 | BD17: 27 | BE17: 17 | BF17: 11 | BG17: 17 | BH17: 23 | BI17: 21 | BJ17: 15 | BK17: 31 | BL17: 11 | BM17: 23 | BN17: 34 | BO17: 34 | BP17: 45 | BQ17: 21 | BS17: 66 | BT17: 1 | BU17: =IFERROR(BT17/BS17,"") -> 0.015151515 | BV17: =MAX(D17:BQ17) -> 46 | BW17: =MIN(D17:BQ17) -> 5.7 | BX17: =MEDIAN(D17:BQ17) -> 21 | BY17: =STDEV(D17:BQ17) -> 10.32102 | BZ17: =((BY17*100)/CB17) -> 43.956076 | CA17: =VAR(D17:BQ17) -> 106.52345 | CB17: =AVERAGE(D17:BQ17) -> 23.480303 | CC17: =_xlfn.PERCENTILE.INC(D17:BQ17,0.95) -> 42.75 | CD17: =_xlfn.PERCENTILE.INC(D17:BQ17,0.99) -> 46
A18: Lead | B18: METALS | C18: mg/kg | D18: 44.2 | E18: 55.7 | F18: 18.8 | G18: 33.1 | H18: 33.8 | I18: 16 | J18: 30 | K18: 24 | L18: 76 | M18: 29 | N18: 43 | O18: 41 | P18: 20 | Q18: 21 | R18: 25 | S18: 13 | T18: 27 | U18: 45 | V18: 4.4 | W18: 41 | X18: 32 | Y18: 47 | Z18: 37 | AA18: 62 | AB18: 28 | AC18: 65 | AD18: 62 | AE18: 37 | AF18: 19 | AG18: 75 | AH18: 35 | AI18: 32 | AJ18: 41 | AK18: 42 | AL18: 18 | AM18: 87 | AN18: 33 | AO18: 40 | AP18: 100 | AQ18: 25 | AR18: 21 | AS18: 5.8 | AT18: 18 | AU18: 34 | AV18: 34 | AW18: 22 | AX18: 29 | AY18: 34 | AZ18: 25 | BA18: 44 | BB18: 15 | BC18: 16 | BD18: 32 | BE18: 26 | BF18: 11 | BG18: 9.7 | BH18: 26 | BI18: 25 | BJ18: 16 | BK18: 38 | BL18: 16 | BM18: 19 | BN18: 36 | BO18: 71 | BP18: 92 | BQ18: 34 | BS18: 66 | BT18: 1 | BU18: =IFERROR(BT18/BS18,"") -> 0.015151515 | BV18: =MAX(D18:BQ18) -> 100 | BW18: =MIN(D18:BQ18) -> 4.4 | BX18: =MEDIAN(D18:BQ18) -> 32 | BY18: =STDEV(D18:BQ18) -> 20.23691 | BZ18: =((BY18*100)/CB18) -> 57.882387 | CA18: =VAR(D18:BQ18) -> 409.53254 | CB18: =AVERAGE(D18:BQ18) -> 34.962121 | CC18: =_xlfn.PERCENTILE.INC(D18:BQ18,0.95) -> 75.75 | CD18: =_xlfn.PERCENTILE.INC(D18:BQ18,0.99) -> 94.8
A19: Mercury | B19: METALS | C19: mg/kg | D19: 0.2 | E19: 0.1 | F19: <0.1 | G19: <0.1 | H19: <0.1 | I19: < 0.3 | J19: < 0.3 | K19: < 0.3 | L19: < 0.3 | M19: < 0.3 | N19: < 0.3 | O19: < 0.3 | P19: < 0.3 | Q19: < 0.3 | R19: < 0.3 | S19: 0.5 | T19: 0.6 | U19: 0.6 | V19: < 0.3 | W19: < 0.3 | X19: < 0.3 | Y19: < 0.3 | Z19: < 0.3 | AA19: < 0.3 | AB19: < 0.3 | AC19: < 0.3 | AD19: 0.6 | AE19: < 0.3 | AF19: 0.5 | AG19: 0.6 | AH19: < 0.3 | AI19: < 0.3 | AJ19: < 0.3 | AK19: < 0.3 | AL19: < 0.3 | AM19: < 0.3 | AN19: < 0.3 | AO19: < 0.3 | AP19: < 0.3 | AQ19: < 0.3 | AR19: < 0.3 | AS19: < 0.3 | AT19: 0.3 | AU19: 0.4 | AV19: < 0.3 | AW19: < 0.3 | AX19: < 0.3 | AY19: < 0.3 | AZ19: < 0.3 | BA19: < 0.3 | BB19: < 0.3 | BC19: < 0.3 | BD19: 0.4 | BE19: 0.6 | BF19: < 0.3 | BG19: < 0.3 | BH19: < 0.3 | BI19: 0.5 | BJ19: < 0.3 | BK19: < 0.3 | BL19: < 0.3 | BM19: < 0.3 | BN19: < 0.3 | BO19: < 0.3 | BP19: < 0.3 | BQ19: 0.4 | BS19: 66 | BT19: 52 | BU19: =IFERROR(BT19/BS19,"") -> 0.78787879 | BV19: =MAX(D19:BQ19) -> 0.6 | BW19: =MIN(D19:BQ19) -> 0.1 | BX19: =MEDIAN(D19:BQ19) -> 0.5 | BY19: =STDEV(D19:BQ19) -> 0.16052798 | BZ19: =((BY19*100)/CB19) -> 35.672883 | CA19: =VAR(D19:BQ19) -> 0.025769231 | CB19: =AVERAGE(D19:BQ19) -> 0.45 | CC19: =_xlfn.PERCENTILE.INC(D19:BQ19,0.95) -> 0.6 | CD19: =_xlfn.PERCENTILE.INC(D19:BQ19,0.99) -> 0.6
A20: Nickel | B20: METALS | C20: mg/kg | D20: 5.8 | E20: 1.4 | F20: 1.1 | G20: <1.0 | H20: <1.0 | I20: 1.5 | J20: 1.1 | K20: 30 | L20: 1.5 | M20: 1.4 | N20: 1.1 | O20: 1.7 | P20: < 1.0 | Q20: 1.2 | R20: 1.3 | S20: 19 | T20: 1.1 | U20: 1.1 | V20: 2.1 | W20: 1.4 | X20: < 1.0 | Y20: 1.1 | Z20: < 1.0 | AA20: 1.9 | AB20: 3.1 | AC20: 1.4 | AD20: 3 | AE20: 1 | AF20: < 1.0 | AG20: 1.5 | AH20: 2.3 | AI20: 1.2 | AJ20: 1.3 | AK20: 1.3 | AL20: 2.1 | AM20: 1.6 | AN20: 1.4 | AO20: 1.3 | AP20: 1.9 | AQ20: 1.5 | AR20: 1 | AS20: < 1.0 | AT20: < 1.0 | AU20: 1.3 | AV20: 1.1 | AW20: < 1.0 | AX20: 2.1 | AY20: 1.6 | AZ20: 1.1 | BA20: 1 | BB20: 1.1 | BC20: < 1.0 | BD20: 1.9 | BE20: 2.1 | BF20: < 1.0 | BG20: < 1.0 | BH20: 1.5 | BI20: 1.8 | BJ20: 2 | BK20: 1.7 | BL20: 1.9 | BM20: 1.1 | BN20: 4 | BO20: 2.1 | BP20: 1.6 | BQ20: 1.9 | BS20: 66 | BT20: 13 | BU20: =IFERROR(BT20/BS20,"") -> 0.1969697 | BV20: =MAX(D20:BQ20) -> 30 | BW20: =MIN(D20:BQ20) -> 1 | BX20: =MEDIAN(D20:BQ20) -> 1.5 | BY20: =STDEV(D20:BQ20) -> 4.5500831 | BZ20: =((BY20*100)/CB20) -> 179.87151 | CA20: =VAR(D20:BQ20) -> 20.703256 | CB20: =AVERAGE(D20:BQ20) -> 2.5296296 | CC20: =_xlfn.PERCENTILE.INC(D20:BQ20,0.95) -> 4.63 | CD20: =_xlfn.PERCENTILE.INC(D20:BQ20,0.99) -> 24.17
A21: Zinc | B21: INORGANICS | C21: mg/kg | D21: 38.1 | E21: 41.1 | F21: 28.7 | G21: 33.5 | H21: 36.1 | I21: 28 | J21: 50 | K21: 41 | L21: 71 | M21: 44 | N21: 48 | O21: 52 | P21: 33 | Q21: 42 | R21: 36 | S21: 31 | T21: 47 | U21: 59 | V21: 27 | W21: 43 | X21: 40 | Y21: 55 | Z21: 110 | AA21: 49 | AB21: 87 | AC21: 63 | AD21: 170 | AE21: 41 | AF21: 29 | AG21: 62 | AH21: 42 | AI21: 34 | AJ21: 48 | AK21: 46 | AL21: 32 | AM21: 64 | AN21: 49 | AO21: 42 | AP21: 73 | AQ21: 39 | AR21: 37 | AS21: 18 | AT21: 29 | AU21: 39 | AV21: 38 | AW21: 38 | AX21: 36 | AY21: 37 | AZ21: 36 | BA21: 51 | BB21: 24 | BC21: 21 | BD21: 36 | BE21: 37 | BF21: 24 | BG21: 25 | BH21: 32 | BI21: 33 | BJ21: 38 | BK21: 47 | BL21: 27 | BM21: 29 | BN21: 43 | BO21: 57 | BP21: 73 | BQ21: 38 | BS21: 66 | BT21: 1 | BU21: =IFERROR(BT21/BS21,"") -> 0.015151515 | BV21: =MAX(D21:BQ21) -> 170 | BW21: =MIN(D21:BQ21) -> 18 | BX21: =MEDIAN(D21:BQ21) -> 39 | BY21: =STDEV(D21:BQ21) -> 22.21756 | BZ21: =((BY21*100)/CB21) -> 49.749245 | CA21: =VAR(D21:BQ21) -> 493.61999 | CB21: =AVERAGE(D21:BQ21) -> 44.659091 | CC21: =_xlfn.PERCENTILE.INC(D21:BQ21,0.95) -> 73 | CD21: =_xlfn.PERCENTILE.INC(D21:BQ21,0.99) -> 131
A22: Acid Soluble Chloride | B22: INORGANICS | C22: mg/kg | D22: <0.01 | E22: <0.01 | F22: <0.01 | G22: <0.01 | H22: <0.01 | BS22: 5 | BT22: 5 | BU22: =IFERROR(BT22/BS22,"") -> 1 | BV22: =MAX(D22:BQ22) -> 0 | BW22: =MIN(D22:BQ22) -> 0 | BX22: =MEDIAN(D22:BQ22) -> #NUM! | BY22: =STDEV(D22:BQ22) -> #DIV/0! | BZ22: =((BY22*100)/CB22) -> #DIV/0! | CA22: =VAR(D22:BQ22) -> #DIV/0! | CB22: =AVERAGE(D22:BQ22) -> #DIV/0! | CC22: =_xlfn.PERCENTILE.INC(D22:BQ22,0.95) -> #NUM! | CD22: =_xlfn.PERCENTILE.INC(D22:BQ22,0.99) -> #NUM!
A23: Arsenic | B23: METALS | C23: mg/kg | D23: 5.3 | E23: 9.4 | F23: 2.6 | G23: 12.7 | H23: 7.4 | I23: 3.3 | J23: 4.4 | K23: 2.6 | L23: 13 | M23: 4.9 | N23: 9 | O23: 6.4 | P23: 3.2 | Q23: 3.1 | R23: 4.7 | S23: 2.6 | T23: 10 | U23: 3.8 | V23: < 1.0 | W23: 8.3 | X23: 4.7 | Y23: 17 | Z23: 4.8 | AA23: 16 | AB23: 4.1 | AC23: 13 | AD23: 7.7 | AE23: 6.2 | AF23: 4.7 | AG23: 11 | AH23: 4.8 | AI23: 7.1 | AJ23: 4.2 | AK23: 6.5 | AL23: 3.7 | AM23: 14 | AN23: 4.3 | AO23: 9.3 | AP23: 11 | AQ23: 3.7 | AR23: 3.1 | AS23: 1.5 | AT23: 3.5 | AU23: 10 | AV23: 7 | AW23: 4.7 | AX23: 2.6 | AY23: 5.4 | AZ23: 3.9 | BA23: 9.9 | BB23: 10 | BC23: 1.8 | BD23: 10 | BE23: 3.3 | BF23: 2.5 | BG23: 2 | BH23: 6.6 | BI23: 5.4 | BJ23: 4.1 | BK23: 8 | BL23: 1.8 | BM23: 4.4 | BN23: 14 | BO23: 11 | BP23: 17 | BQ23: 6.1 | BS23: 66 | BT23: 2 | BU23: =IFERROR(BT23/BS23,"") -> 0.03030303 | BV23: =MAX(D23:BQ23) -> 17 | BW23: =MIN(D23:BQ23) -> 1.5 | BX23: =MEDIAN(D23:BQ23) -> 5.3 | BY23: =STDEV(D23:BQ23) -> 3.9758447 | BZ23: =((BY23*100)/CB23) -> 59.532345 | CA23: =VAR(D23:BQ23) -> 15.807341 | CB23: =AVERAGE(D23:BQ23) -> 6.6784615 | CC23: =_xlfn.PERCENTILE.INC(D23:BQ23,0.95) -> 14 | CD23: =_xlfn.PERCENTILE.INC(D23:BQ23,0.99) -> 17
A24: Selenium | B24: METALS | C24: mg/kg | D24: <1.0 | E24: <1.0 | F24: <1.0 | G24: <1.0 | H24: <1.0 | I24: < 1.0 | J24: < 1.0 | K24: < 1.0 | L24: < 1.0 | M24: < 1.0 | N24: < 1.0 | O24: < 1.0 | P24: < 1.0 | Q24: < 1.0 | R24: < 1.0 | S24: < 1.0 | T24: 1.2 | U24: < 1.0 | V24: < 1.0 | W24: < 1.0 | X24: < 1.0 | Y24: < 1.0 | Z24: < 1.0 | AA24: < 1.0 | AB24: < 1.0 | AC24: < 1.0 | AD24: < 1.0 | AE24: < 1.0 | AF24: < 1.0 | AG24: < 1.0 | AH24: < 1.0 | AI24: < 1.0 | AJ24: < 1.0 | AK24: < 1.0 | AL24: < 1.0 | AM24: < 1.0 | AN24: < 1.0 | AO24: < 1.0 | AP24: < 1.0 | AQ24: < 1.0 | AR24: < 1.0 | AS24: < 1.0 | AT24: < 1.0 | AU24: < 1.0 | AV24: < 1.0 | AW24: < 1.0 | AX24: < 1.0 | AY24: < 1.0 | AZ24: < 1.0 | BA24: < 1.0 | BB24: < 1.0 | BC24: < 1.0 | BD24: < 1.0 | BE24: < 1.0 | BF24: < 1.0 | BG24: < 1.0 | BH24: < 1.0 | BI24: < 1.0 | BJ24: < 1.0 | BK24: < 1.0 | BL24: < 1.0 | BM24: < 1.0 | BN24: < 1.0 | BO24: < 1.0 | BP24: < 1.0 | BQ24: < 1.0 | BS24: 66 | BT24: 65 | BU24: =IFERROR(BT24/BS24,"") -> 0.98484848 | BV24: =MAX(D24:BQ24) -> 1.2 | BW24: =MIN(D24:BQ24) -> 1.2 | BX24: =MEDIAN(D24:BQ24) -> 1.2 | BY24: =STDEV(D24:BQ24) -> #DIV/0! | BZ24: =((BY24*100)/CB24) -> #DIV/0! | CA24: =VAR(D24:BQ24) -> #DIV/0! | CB24: =AVERAGE(D24:BQ24) -> 1.2 | CC24: =_xlfn.PERCENTILE.INC(D24:BQ24,0.95) -> 1.2 | CD24: =_xlfn.PERCENTILE.INC(D24:BQ24,0.99) -> 1.2
A25: Water Soluble Boron | B25: SVOC | C25: mg/kg | D25: 4.2 | E25: 2.5 | F25: <0.5 | G25: 8 | H25: 1 | I25: 5 | J25: 7.1 | K25: 5.6 | L25: 8.7 | M25: 6.3 | N25: 11 | O25: 11 | P25: 5.8 | Q25: 6.2 | R25: 8.9 | S25: 4.3 | T25: 7.8 | U25: 7.5 | V25: 3.1 | W25: 8.7 | X25: 7 | Y25: 14 | Z25: 36 | AA25: 15 | AB25: 9.1 | AC25: 14 | AD25: 9.2 | AE25: 8.8 | AF25: 6.1 | AG25: 14 | AH25: 7.8 | AI25: 8 | AJ25: 6.9 | AK25: 9.7 | AL25: 7.1 | AM25: 18 | AN25: 7.6 | AO25: 8.6 | AP25: 21 | AQ25: 6.6 | AR25: 5.4 | AS25: 3.5 | AT25: 6.7 | AU25: 8.7 | AV25: 7.3 | AW25: 7.2 | AX25: 5.4 | AY25: 6.7 | AZ25: 5.1 | BA25: 11 | BB25: 4.5 | BC25: 3.6 | BD25: 8.7 | BE25: 6.8 | BF25: 4.9 | BG25: 4 | BH25: 6.2 | BI25: 5.6 | BJ25: 5.2 | BK25: 8.3 | BL25: 4.4 | BM25: 8 | BN25: 11 | BO25: 11 | BP25: 18 | BQ25: 8.4 | BS25: 66 | BT25: 2 | BU25: =IFERROR(BT25/BS25,"") -> 0.03030303 | BV25: =MAX(D25:BQ25) -> 36 | BW25: =MIN(D25:BQ25) -> 1 | BX25: =MEDIAN(D25:BQ25) -> 7.3 | BY25: =STDEV(D25:BQ25) -> 5.0909271 | BZ25: =((BY25*100)/CB25) -> 60.96357 | CA25: =VAR(D25:BQ25) -> 25.917538 | CB25: =AVERAGE(D25:BQ25) -> 8.3507692 | CC25: =_xlfn.PERCENTILE.INC(D25:BQ25,0.95) -> 17.4 | CD25: =_xlfn.PERCENTILE.INC(D25:BQ25,0.99) -> 26.4
A26: Phenol | B26: SVOC | C26: mg/kg | D26: 2.29 | E26: 1.99 | F26: 8.36 | G26: 0.66 | H26: 0.4 | I26: < 0.2 | J26: < 0.2 | K26: < 0.2 | L26: < 0.2 | M26: 7.7 | N26: 2.4 | O26: < 0.2 | P26: 0.6 | Q26: 9.1 | R26: 2.8 | S26: < 0.2 | T26: < 0.2 | U26: < 0.2 | V26: < 0.2 | W26: < 0.2 | X26: < 0.2 | Y26: < 0.2 | Z26: < 0.2 | AA26: < 0.2 | AB26: < 0.2 | AC26: < 0.2 | AD26: < 0.2 | AE26: < 0.2 | AF26: 1.5 | AG26: < 0.2 | AH26: < 0.2 | AI26: < 0.2 | AJ26: < 0.2 | AK26: 0.8 | AL26: 1.4 | AM26: < 0.2 | AN26: < 0.2 | AO26: < 0.2 | AP26: < 0.2 | AQ26: 1.9 | AR26: 1.1 | AS26: < 0.2 | AT26: < 0.2 | AU26: < 0.2 | AV26: < 0.2 | AW26: < 0.2 | AX26: < 0.2 | AY26: < 0.2 | AZ26: < 0.2 | BA26: < 0.2 | BB26: 2.8 | BC26: 1.1 | BD26: < 0.2 | BE26: 2.4 | BF26: < 0.2 | BG26: < 0.2 | BH26: < 0.2 | BI26: < 0.2 | BJ26: < 0.2 | BK26: 1.7 | BL26: < 0.2 | BM26: 3.3 | BN26: < 0.2 | BO26: < 0.2 | BP26: < 0.2 | BQ26: 1.6 | BS26: 66 | BT26: 59 | BU26: =IFERROR(BT26/BS26,"") -> 0.89393939 | BV26: =MAX(D26:BQ26) -> 9.1 | BW26: =MIN(D26:BQ26) -> 0.4 | BX26: =MEDIAN(D26:BQ26) -> 1.9 | BY26: =STDEV(D26:BQ26) -> 2.5275376 | BZ26: =((BY26*100)/CB26) -> 94.952217 | CA26: =VAR(D26:BQ26) -> 6.3884462 | CB26: =AVERAGE(D26:BQ26) -> 2.6619048 | CC26: =_xlfn.PERCENTILE.INC(D26:BQ26,0.95) -> 8.36 | CD26: =_xlfn.PERCENTILE.INC(D26:BQ26,0.99) -> 8.952
A27: Aniline | B27: SVOC | C27: mg/kg | D27: <0.01 | E27: <0.01 | F27: <0.01 | G27: <0.01 | H27: <0.01 | I27: < 0.1 | J27: < 0.1 | K27: < 0.1 | L27: < 0.1 | M27: 2.6 | N27: 2 | O27: < 0.1 | P27: < 0.1 | Q27: < 0.1 | R27: < 0.1 | S27: < 0.1 | T27: < 0.1 | U27: < 0.1 | V27: < 0.1 | W27: < 0.1 | X27: < 0.1 | Y27: < 0.1 | Z27: < 0.1 | AA27: < 0.1 | AB27: < 0.1 | AC27: < 0.1 | AD27: < 0.1 | AE27: < 0.1 | AF27: < 0.1 | AG27: < 0.1 | AH27: < 0.1 | AI27: < 0.1 | AJ27: < 0.1 | AK27: < 0.1 | AL27: < 0.1 | AM27: < 0.1 | AN27: < 0.1 | AO27: < 0.1 | AP27: < 0.1 | AQ27: < 0.1 | AR27: < 0.1 | AS27: < 0.1 | AT27: < 0.1 | AU27: < 0.1 | AV27: < 0.1 | AW27: < 0.1 | AX27: < 0.1 | AY27: < 0.1 | AZ27: < 0.1 | BA27: < 0.1 | BB27: < 0.1 | BC27: < 0.1 | BD27: < 0.1 | BE27: < 0.1 | BF27: < 0.1 | BG27: < 0.1 | BH27: < 0.1 | BI27: < 0.1 | BJ27: < 0.1 | BK27: < 0.1 | BL27: < 0.1 | BM27: < 0.1 | BN27: < 0.1 | BO27: < 0.1 | BP27: < 0.1 | BQ27: < 0.1 | BS27: 66 | BT27: 66 | BU27: =IFERROR(BT27/BS27,"") -> 1 | BV27: =MAX(D27:BQ27) -> 2.6 | BW27: =MIN(D27:BQ27) -> 2 | BX27: =MEDIAN(D27:BQ27) -> 2.3 | BY27: =STDEV(D27:BQ27) -> 0.42426407 | BZ27: =((BY27*100)/CB27) -> 18.446264 | CA27: =VAR(D27:BQ27) -> 0.18 | CB27: =AVERAGE(D27:BQ27) -> 2.3 | CC27: =_xlfn.PERCENTILE.INC(D27:BQ27,0.95) -> 2.57 | CD27: =_xlfn.PERCENTILE.INC(D27:BQ27,0.99) -> 2.594
A28: Bis(2-chloroethyl)ether | B28: SVOC | C28: mg/kg | D28: <0.01 | E28: <0.01 | F28: <0.01 | G28: <0.01 | H28: <0.01 | I28: < 0.2 | J28: < 0.2 | K28: < 0.2 | L28: < 0.2 | M28: 2.8 | N28: 2.1 | O28: < 0.2 | P28: < 0.2 | Q28: < 0.2 | R28: < 0.2 | S28: < 0.2 | T28: < 0.2 | U28: < 0.2 | V28: < 0.2 | W28: < 0.2 | X28: < 0.2 | Y28: < 0.2 | Z28: < 0.2 | AA28: < 0.2 | AB28: < 0.2 | AC28: < 0.2 | AD28: < 0.2 | AE28: < 0.2 | AF28: < 0.2 | AG28: < 0.2 | AH28: < 0.2 | AI28: < 0.2 | AJ28: < 0.2 | AK28: < 0.2 | AL28: < 0.2 | AM28: < 0.2 | AN28: < 0.2 | AO28: < 0.2 | AP28: < 0.2 | AQ28: < 0.2 | AR28: < 0.2 | AS28: < 0.2 | AT28: < 0.2 | AU28: < 0.2 | AV28: < 0.2 | AW28: < 0.2 | AX28: < 0.2 | AY28: < 0.2 | AZ28: < 0.2 | BA28: < 0.2 | BB28: < 0.2 | BC28: < 0.2 | BD28: < 0.2 | BE28: < 0.2 | BF28: < 0.2 | BG28: < 0.2 | BH28: < 0.2 | BI28: < 0.2 | BJ28: < 0.2 | BK28: < 0.2 | BL28: < 0.2 | BM28: < 0.2 | BN28: < 0.2 | BO28: < 0.2 | BP28: < 0.2 | BQ28: < 0.2 | BS28: 66 | BT28: 66 | BU28: =IFERROR(BT28/BS28,"") -> 1 | BV28: =MAX(D28:BQ28) -> 2.8 | BW28: =MIN(D28:BQ28) -> 2.1 | BX28: =MEDIAN(D28:BQ28) -> 2.45 | BY28: =STDEV(D28:BQ28) -> 0.49497475 | BZ28: =((BY28*100)/CB28) -> 20.203051 | CA28: =VAR(D28:BQ28) -> 0.245 | CB28: =AVERAGE(D28:BQ28) -> 2.45 | CC28: =_xlfn.PERCENTILE.INC(D28:BQ28,0.95) -> 2.765 | CD28: =_xlfn.PERCENTILE.INC(D28:BQ28,0.99) -> 2.793
A29: 2-Chlorophenol | B29: SVOC | C29: mg/kg | D29: <0.01 | E29: <0.01 | F29: <0.01 | G29: <0.01 | H29: <0.01 | I29: < 0.1 | J29: < 0.1 | K29: < 0.1 | L29: < 0.1 | M29: < 0.1 | N29: < 0.1 | O29: < 0.1 | P29: < 0.1 | Q29: < 0.1 | R29: < 0.1 | S29: < 0.1 | T29: < 0.1 | U29: < 0.1 | V29: < 0.1 | W29: < 0.1 | X29: < 0.1 | Y29: < 0.1 | Z29: < 0.1 | AA29: < 0.1 | AB29: < 0.1 | AC29: < 0.1 | AD29: < 0.1 | AE29: < 0.1 | AF29: < 0.1 | AG29: < 0.1 | AH29: < 0.1 | AI29: < 0.1 | AJ29: < 0.1 | AK29: < 0.1 | AL29: < 0.1 | AM29: < 0.1 | AN29: < 0.1 | AO29: < 0.1 | AP29: < 0.1 | AQ29: < 0.1 | AR29: < 0.1 | AS29: < 0.1 | AT29: < 0.1 | AU29: < 0.1 | AV29: < 0.1 | AW29: < 0.1 | AX29: < 0.1 | AY29: < 0.1 | AZ29: < 0.1 | BA29: < 0.1 | BB29: < 0.1 | BC29: < 0.1 | BD29: < 0.1 | BE29: < 0.1 | BF29: < 0.1 | BG29: < 0.1 | BH29: < 0.1 | BI29: < 0.1 | BJ29: < 0.1 | BK29: < 0.1 | BL29: < 0.1 | BM29: < 0.1 | BN29: < 0.1 | BO29: < 0.1 | BP29: < 0.1 | BQ29: < 0.1 | BS29: 66 | BT29: 66 | BU29: =IFERROR(BT29/BS29,"") -> 1 | BV29: =MAX(D29:BQ29) -> 0 | BW29: =MIN(D29:BQ29) -> 0 | BX29: =MEDIAN(D29:BQ29) -> #NUM! | BY29: =STDEV(D29:BQ29) -> #DIV/0! | BZ29: =((BY29*100)/CB29) -> #DIV/0! | CA29: =VAR(D29:BQ29) -> #DIV/0! | CB29: =AVERAGE(D29:BQ29) -> #DIV/0! | CC29: =_xlfn.PERCENTILE.INC(D29:BQ29,0.95) -> #NUM! | CD29: =_xlfn.PERCENTILE.INC(D29:BQ29,0.99) -> #NUM!
A30: 1,3-Dichlorobenzene | B30: SVOC | C30: mg/kg | D30: <0.01 | E30: <0.01 | F30: <0.01 | G30: <0.01 | H30: <0.01 | I30: < 0.2 | J30: < 0.2 | K30: < 0.2 | L30: < 0.2 | M30: < 0.2 | N30: < 0.2 | O30: < 0.2 | P30: < 0.2 | Q30: < 0.2 | R30: 1.1 | S30: < 0.2 | T30: < 0.2 | U30: < 0.2 | V30: < 0.2 | W30: < 0.2 | X30: < 0.2 | Y30: < 0.2 | Z30: < 0.2 | AA30: < 0.2 | AB30: < 0.2 | AC30: < 0.2 | AD30: < 0.2 | AE30: < 0.2 | AF30: < 0.2 | AG30: < 0.2 | AH30: < 0.2 | AI30: < 0.2 | AJ30: < 0.2 | AK30: < 0.2 | AL30: < 0.2 | AM30: < 0.2 | AN30: < 0.2 | AO30: < 0.2 | AP30: < 0.2 | AQ30: < 0.2 | AR30: < 0.2 | AS30: < 0.2 | AT30: < 0.2 | AU30: < 0.2 | AV30: < 0.2 | AW30: < 0.2 | AX30: < 0.2 | AY30: < 0.2 | AZ30: < 0.2 | BA30: < 0.2 | BB30: < 0.2 | BC30: < 0.2 | BD30: < 0.2 | BE30: < 0.2 | BF30: < 0.2 | BG30: < 0.2 | BH30: < 0.2 | BI30: < 0.2 | BJ30: < 0.2 | BK30: < 0.2 | BL30: < 0.2 | BM30: < 0.2 | BN30: < 0.2 | BO30: < 0.2 | BP30: < 0.2 | BQ30: < 0.2 | BS30: 66 | BT30: 66 | BU30: =IFERROR(BT30/BS30,"") -> 1 | BV30: =MAX(D30:BQ30) -> 1.1 | BW30: =MIN(D30:BQ30) -> 1.1 | BX30: =MEDIAN(D30:BQ30) -> 1.1 | BY30: =STDEV(D30:BQ30) -> #DIV/0! | BZ30: =((BY30*100)/CB30) -> #DIV/0! | CA30: =VAR(D30:BQ30) -> #DIV/0! | CB30: =AVERAGE(D30:BQ30) -> 1.1 | CC30: =_xlfn.PERCENTILE.INC(D30:BQ30,0.95) -> 1.1 | CD30: =_xlfn.PERCENTILE.INC(D30:BQ30,0.99) -> 1.1
A31: 1,4-Dichlorobenzene | B31: SVOC | C31: mg/kg | D31: <0.01 | E31: <0.01 | F31: <0.01 | G31: <0.01 | H31: <0.01 | I31: < 0.2 | J31: < 0.2 | K31: < 0.2 | L31: < 0.2 | M31: < 0.2 | N31: < 0.2 | O31: < 0.2 | P31: < 0.2 | Q31: < 0.2 | R31: < 0.2 | S31: < 0.2 | T31: < 0.2 | U31: < 0.2 | V31: < 0.2 | W31: < 0.2 | X31: < 0.2 | Y31: < 0.2 | Z31: < 0.2 | AA31: < 0.2 | AB31: < 0.2 | AC31: < 0.2 | AD31: < 0.2 | AE31: < 0.2 | AF31: < 0.2 | AG31: < 0.2 | AH31: < 0.2 | AI31: < 0.2 | AJ31: < 0.2 | AK31: < 0.2 | AL31: < 0.2 | AM31: < 0.2 | AN31: < 0.2 | AO31: < 0.2 | AP31: < 0.2 | AQ31: < 0.2 | AR31: < 0.2 | AS31: < 0.2 | AT31: < 0.2 | AU31: < 0.2 | AV31: < 0.2 | AW31: < 0.2 | AX31: < 0.2 | AY31: < 0.2 | AZ31: < 0.2 | BA31: < 0.2 | BB31: < 0.2 | BC31: < 0.2 | BD31: < 0.2 | BE31: < 0.2 | BF31: < 0.2 | BG31: < 0.2 | BH31: < 0.2 | BI31: < 0.2 | BJ31: < 0.2 | BK31: < 0.2 | BL31: < 0.2 | BM31: < 0.2 | BN31: < 0.2 | BO31: < 0.2 | BP31: < 0.2 | BQ31: < 0.2 | BS31: 66 | BT31: 66 | BU31: =IFERROR(BT31/BS31,"") -> 1 | BV31: =MAX(D31:BQ31) -> 0 | BW31: =MIN(D31:BQ31) -> 0 | BX31: =MEDIAN(D31:BQ31) -> #NUM! | BY31: =STDEV(D31:BQ31) -> #DIV/0! | BZ31: =((BY31*100)/CB31) -> #DIV/0! | CA31: =VAR(D31:BQ31) -> #DIV/0! | CB31: =AVERAGE(D31:BQ31) -> #DIV/0! | CC31: =_xlfn.PERCENTILE.INC(D31:BQ31,0.95) -> #NUM! | CD31: =_xlfn.PERCENTILE.INC(D31:BQ31,0.99) -> #NUM!
A32: Benzyl Alcohol | B32: SVOC | C32: mg/kg | D32: <0.01 | E32: <0.01 | F32: <0.01 | G32: <0.01 | H32: <0.01 | BS32: 5 | BT32: 5 | BU32: =IFERROR(BT32/BS32,"") -> 1 | BV32: =MAX(D32:BQ32) -> 0 | BW32: =MIN(D32:BQ32) -> 0 | BX32: =MEDIAN(D32:BQ32) -> #NUM! | BY32: =STDEV(D32:BQ32) -> #DIV/0! | BZ32: =((BY32*100)/CB32) -> #DIV/0! | CA32: =VAR(D32:BQ32) -> #DIV/0! | CB32: =AVERAGE(D32:BQ32) -> #DIV/0! | CC32: =_xlfn.PERCENTILE.INC(D32:BQ32,0.95) -> #NUM! | CD32: =_xlfn.PERCENTILE.INC(D32:BQ32,0.99) -> #NUM!
A33: 1,2-Dichlorobenzene | B33: SVOC | C33: mg/kg | D33: <0.01 | E33: <0.01 | F33: <0.01 | G33: <0.01 | H33: <0.01 | I33: < 0.1 | J33: < 0.1 | K33: < 0.1 | L33: < 0.1 | M33: < 0.1 | N33: < 0.1 | O33: < 0.1 | P33: < 0.1 | Q33: < 0.1 | R33: < 0.1 | S33: < 0.1 | T33: < 0.1 | U33: < 0.1 | V33: < 0.1 | W33: < 0.1 | X33: < 0.1 | Y33: < 0.1 | Z33: < 0.1 | AA33: < 0.1 | AB33: < 0.1 | AC33: < 0.1 | AD33: < 0.1 | AE33: < 0.1 | AF33: < 0.1 | AG33: < 0.1 | AH33: < 0.1 | AI33: < 0.1 | AJ33: < 0.1 | AK33: < 0.1 | AL33: < 0.1 | AM33: < 0.1 | AN33: < 0.1 | AO33: < 0.1 | AP33: < 0.1 | AQ33: < 0.1 | AR33: < 0.1 | AS33: < 0.1 | AT33: < 0.1 | AU33: < 0.1 | AV33: < 0.1 | AW33: < 0.1 | AX33: < 0.1 | AY33: < 0.1 | AZ33: < 0.1 | BA33: < 0.1 | BB33: < 0.1 | BC33: < 0.1 | BD33: < 0.1 | BE33: < 0.1 | BF33: < 0.1 | BG33: < 0.1 | BH33: < 0.1 | BI33: < 0.1 | BJ33: < 0.1 | BK33: < 0.1 | BL33: < 0.1 | BM33: < 0.1 | BN33: < 0.1 | BO33: < 0.1 | BP33: < 0.1 | BQ33: < 0.1 | BS33: 66 | BT33: 66 | BU33: =IFERROR(BT33/BS33,"") -> 1 | BV33: =MAX(D33:BQ33) -> 0 | BW33: =MIN(D33:BQ33) -> 0 | BX33: =MEDIAN(D33:BQ33) -> #NUM! | BY33: =STDEV(D33:BQ33) -> #DIV/0! | BZ33: =((BY33*100)/CB33) -> #DIV/0! | CA33: =VAR(D33:BQ33) -> #DIV/0! | CB33: =AVERAGE(D33:BQ33) -> #DIV/0! | CC33: =_xlfn.PERCENTILE.INC(D33:BQ33,0.95) -> #NUM! | CD33: =_xlfn.PERCENTILE.INC(D33:BQ33,0.99) -> #NUM!
A34: 2-Methylphenol | B34: SVOC | C34: mg/kg | D34: 0.05 | E34: 0.07 | F34: 0.07 | G34: 0.07 | H34: 0.03 | I34: < 0.3 | J34: < 0.3 | K34: < 0.3 | L34: < 0.3 | M34: < 0.3 | N34: < 0.3 | O34: < 0.3 | P34: < 0.3 | Q34: < 0.3 | R34: < 0.3 | S34: < 0.3 | T34: < 0.3 | U34: < 0.3 | V34: < 0.3 | W34: < 0.3 | X34: < 0.3 | Y34: < 0.3 | Z34: < 0.3 | AA34: < 0.3 | AB34: < 0.3 | AC34: < 0.3 | AD34: < 0.3 | AE34: < 0.3 | AF34: < 0.3 | AG34: < 0.3 | AH34: < 0.3 | AI34: < 0.3 | AJ34: < 0.3 | AK34: < 0.3 | AL34: < 0.3 | AM34: < 0.3 | AN34: < 0.3 | AO34: < 0.3 | AP34: < 0.3 | AQ34: < 0.3 | AR34: < 0.3 | AS34: < 0.3 | AT34: < 0.3 | AU34: < 0.3 | AV34: < 0.3 | AW34: < 0.3 | AX34: < 0.3 | AY34: < 0.3 | AZ34: < 0.3 | BA34: < 0.3 | BB34: < 0.3 | BC34: < 0.3 | BD34: < 0.3 | BE34: < 0.3 | BF34: < 0.3 | BG34: < 0.3 | BH34: < 0.3 | BI34: < 0.3 | BJ34: < 0.3 | BK34: < 0.3 | BL34: < 0.3 | BM34: < 0.3 | BN34: < 0.3 | BO34: < 0.3 | BP34: < 0.3 | BQ34: < 0.3 | BS34: 66 | BT34: 61 | BU34: =IFERROR(BT34/BS34,"") -> 0.92424242 | BV34: =MAX(D34:BQ34) -> 0.07 | BW34: =MIN(D34:BQ34) -> 0.03 | BX34: =MEDIAN(D34:BQ34) -> 0.07 | BY34: =STDEV(D34:BQ34) -> 0.017888544 | BZ34: =((BY34*100)/CB34) -> 30.842317 | CA34: =VAR(D34:BQ34) -> 0.00032 | CB34: =AVERAGE(D34:BQ34) -> 0.058 | CC34: =_xlfn.PERCENTILE.INC(D34:BQ34,0.95) -> 0.07 | CD34: =_xlfn.PERCENTILE.INC(D34:BQ34,0.99) -> 0.07
A35: Bis(2-chloroisopropyl)ether | B35: SVOC | C35: mg/kg | D35: <0.01 | E35: <0.01 | F35: <0.01 | G35: <0.01 | H35: <0.01 | I35: < 0.1 | J35: < 0.1 | K35: < 0.1 | L35: < 0.1 | M35: < 0.1 | N35: < 0.1 | O35: < 0.1 | P35: < 0.1 | Q35: < 0.1 | R35: < 0.1 | S35: < 0.1 | T35: < 0.1 | U35: < 0.1 | V35: < 0.1 | W35: < 0.1 | X35: < 0.1 | Y35: < 0.1 | Z35: < 0.1 | AA35: < 0.1 | AB35: < 0.1 | AC35: < 0.1 | AD35: < 0.1 | AE35: < 0.1 | AF35: < 0.1 | AG35: < 0.1 | AH35: < 0.1 | AI35: < 0.1 | AJ35: < 0.1 | AK35: < 0.1 | AL35: < 0.1 | AM35: < 0.1 | AN35: < 0.1 | AO35: < 0.1 | AP35: < 0.1 | AQ35: < 0.1 | AR35: < 0.1 | AS35: < 0.1 | AT35: < 0.1 | AU35: < 0.1 | AV35: < 0.1 | AW35: < 0.1 | AX35: < 0.1 | AY35: < 0.1 | AZ35: < 0.1 | BA35: < 0.1 | BB35: < 0.1 | BC35: < 0.1 | BD35: < 0.1 | BE35: < 0.1 | BF35: < 0.1 | BG35: < 0.1 | BH35: < 0.1 | BI35: < 0.1 | BJ35: < 0.1 | BK35: < 0.1 | BL35: < 0.1 | BM35: < 0.1 | BN35: < 0.1 | BO35: < 0.1 | BP35: < 0.1 | BQ35: < 0.1 | BS35: 66 | BT35: 66 | BU35: =IFERROR(BT35/BS35,"") -> 1 | BV35: =MAX(D35:BQ35) -> 0 | BW35: =MIN(D35:BQ35) -> 0 | BX35: =MEDIAN(D35:BQ35) -> #NUM! | BY35: =STDEV(D35:BQ35) -> #DIV/0! | BZ35: =((BY35*100)/CB35) -> #DIV/0! | CA35: =VAR(D35:BQ35) -> #DIV/0! | CB35: =AVERAGE(D35:BQ35) -> #DIV/0! | CC35: =_xlfn.PERCENTILE.INC(D35:BQ35,0.95) -> #NUM! | CD35: =_xlfn.PERCENTILE.INC(D35:BQ35,0.99) -> #NUM!
A36: 3 and 4-methylphenol | B36: SVOC | C36: mg/kg | D36: 0.13 | E36: 0.29 | F36: 0.18 | G36: 0.18 | H36: 0.08 | BS36: 5 | BT36: 0 | BU36: =IFERROR(BT36/BS36,"") -> 0 | BV36: =MAX(D36:BQ36) -> 0.29 | BW36: =MIN(D36:BQ36) -> 0.08 | BX36: =MEDIAN(D36:BQ36) -> 0.18 | BY36: =STDEV(D36:BQ36) -> 0.077910205 | BZ36: =((BY36*100)/CB36) -> 45.296631 | CA36: =VAR(D36:BQ36) -> 0.00607 | CB36: =AVERAGE(D36:BQ36) -> 0.172 | CC36: =_xlfn.PERCENTILE.INC(D36:BQ36,0.95) -> 0.268 | CD36: =_xlfn.PERCENTILE.INC(D36:BQ36,0.99) -> 0.2856
A37: N-Nitrosodi-n-propylamine | B37: SVOC | C37: mg/kg | D37: <0.01 | E37: <0.01 | F37: <0.01 | G37: <0.01 | H37: <0.01 | BS37: 5 | BT37: 5 | BU37: =IFERROR(BT37/BS37,"") -> 1 | BV37: =MAX(D37:BQ37) -> 0 | BW37: =MIN(D37:BQ37) -> 0 | BX37: =MEDIAN(D37:BQ37) -> #NUM! | BY37: =STDEV(D37:BQ37) -> #DIV/0! | BZ37: =((BY37*100)/CB37) -> #DIV/0! | CA37: =VAR(D37:BQ37) -> #DIV/0! | CB37: =AVERAGE(D37:BQ37) -> #DIV/0! | CC37: =_xlfn.PERCENTILE.INC(D37:BQ37,0.95) -> #NUM! | CD37: =_xlfn.PERCENTILE.INC(D37:BQ37,0.99) -> #NUM!
A38: Hexachloroethane | B38: SVOC | C38: mg/kg | D38: <0.01 | E38: <0.01 | F38: <0.01 | G38: <0.01 | H38: <0.01 | I38: < 0.05 | J38: < 0.05 | K38: < 0.05 | L38: < 0.05 | M38: < 0.05 | N38: < 0.05 | O38: < 0.05 | P38: < 0.05 | Q38: < 0.05 | R38: < 0.05 | S38: < 0.05 | T38: < 0.05 | U38: < 0.05 | V38: < 0.05 | W38: < 0.05 | X38: < 0.05 | Y38: < 0.05 | Z38: < 0.05 | AA38: < 0.05 | AB38: < 0.05 | AC38: < 0.05 | AD38: < 0.05 | AE38: < 0.05 | AF38: < 0.05 | AG38: < 0.05 | AH38: < 0.05 | AI38: < 0.05 | AJ38: < 0.05 | AK38: < 0.05 | AL38: < 0.05 | AM38: < 0.05 | AN38: < 0.05 | AO38: < 0.05 | AP38: < 0.05 | AQ38: < 0.05 | AR38: < 0.05 | AS38: < 0.05 | AT38: < 0.05 | AU38: < 0.05 | AV38: < 0.05 | AW38: < 0.05 | AX38: < 0.05 | AY38: < 0.05 | AZ38: < 0.05 | BA38: < 0.05 | BB38: < 0.05 | BC38: < 0.05 | BD38: < 0.05 | BE38: < 0.05 | BF38: < 0.05 | BG38: < 0.05 | BH38: < 0.05 | BI38: < 0.05 | BJ38: < 0.05 | BK38: < 0.05 | BL38: < 0.05 | BM38: < 0.05 | BN38: < 0.05 | BO38: < 0.05 | BP38: < 0.05 | BQ38: < 0.05 | BS38: 66 | BT38: 66 | BU38: =IFERROR(BT38/BS38,"") -> 1 | BV38: =MAX(D38:BQ38) -> 0 | BW38: =MIN(D38:BQ38) -> 0 | BX38: =MEDIAN(D38:BQ38) -> #NUM! | BY38: =STDEV(D38:BQ38) -> #DIV/0! | BZ38: =((BY38*100)/CB38) -> #DIV/0! | CA38: =VAR(D38:BQ38) -> #DIV/0! | CB38: =AVERAGE(D38:BQ38) -> #DIV/0! | CC38: =_xlfn.PERCENTILE.INC(D38:BQ38,0.95) -> #NUM! | CD38: =_xlfn.PERCENTILE.INC(D38:BQ38,0.99) -> #NUM!
A39: Nitrobenzene | B39: SVOC | C39: mg/kg | D39: <0.01 | E39: <0.01 | F39: <0.01 | G39: <0.01 | H39: <0.01 | I39: < 0.3 | J39: < 0.3 | K39: < 0.3 | L39: < 0.3 | M39: < 0.3 | N39: < 0.3 | O39: < 0.3 | P39: < 0.3 | Q39: < 0.3 | R39: < 0.3 | S39: < 0.3 | T39: < 0.3 | U39: < 0.3 | V39: < 0.3 | W39: < 0.3 | X39: < 0.3 | Y39: < 0.3 | Z39: < 0.3 | AA39: < 0.3 | AB39: < 0.3 | AC39: < 0.3 | AD39: < 0.3 | AE39: < 0.3 | AF39: < 0.3 | AG39: < 0.3 | AH39: < 0.3 | AI39: < 0.3 | AJ39: < 0.3 | AK39: < 0.3 | AL39: < 0.3 | AM39: < 0.3 | AN39: < 0.3 | AO39: < 0.3 | AP39: < 0.3 | AQ39: < 0.3 | AR39: < 0.3 | AS39: < 0.3 | AT39: < 0.3 | AU39: < 0.3 | AV39: < 0.3 | AW39: < 0.3 | AX39: < 0.3 | AY39: < 0.3 | AZ39: < 0.3 | BA39: < 0.3 | BB39: < 0.3 | BC39: < 0.3 | BD39: < 0.3 | BE39: < 0.3 | BF39: < 0.3 | BG39: < 0.3 | BH39: < 0.3 | BI39: < 0.3 | BJ39: < 0.3 | BK39: < 0.3 | BL39: < 0.3 | BM39: < 0.3 | BN39: < 0.3 | BO39: < 0.3 | BP39: < 0.3 | BQ39: < 0.3 | BS39: 66 | BT39: 66 | BU39: =IFERROR(BT39/BS39,"") -> 1 | BV39: =MAX(D39:BQ39) -> 0 | BW39: =MIN(D39:BQ39) -> 0 | BX39: =MEDIAN(D39:BQ39) -> #NUM! | BY39: =STDEV(D39:BQ39) -> #DIV/0! | BZ39: =((BY39*100)/CB39) -> #DIV/0! | CA39: =VAR(D39:BQ39) -> #DIV/0! | CB39: =AVERAGE(D39:BQ39) -> #DIV/0! | CC39: =_xlfn.PERCENTILE.INC(D39:BQ39,0.95) -> #NUM! | CD39: =_xlfn.PERCENTILE.INC(D39:BQ39,0.99) -> #NUM!
A40: Isophorone | B40: SVOC | C40: mg/kg | D40: <0.01 | E40: <0.01 | F40: <0.01 | G40: <0.01 | H40: <0.01 | I40: < 0.2 | J40: < 0.2 | K40: < 0.2 | L40: < 0.2 | M40: < 0.2 | N40: < 0.2 | O40: < 0.2 | P40: < 0.2 | Q40: < 0.2 | R40: < 0.2 | S40: < 0.2 | T40: < 0.2 | U40: < 0.2 | V40: < 0.2 | W40: < 0.2 | X40: < 0.2 | Y40: < 0.2 | Z40: < 0.2 | AA40: < 0.2 | AB40: < 0.2 | AC40: < 0.2 | AD40: < 0.2 | AE40: < 0.2 | AF40: < 0.2 | AG40: < 0.2 | AH40: < 0.2 | AI40: < 0.2 | AJ40: < 0.2 | AK40: < 0.2 | AL40: < 0.2 | AM40: < 0.2 | AN40: < 0.2 | AO40: < 0.2 | AP40: < 0.2 | AQ40: < 0.2 | AR40: < 0.2 | AS40: < 0.2 | AT40: < 0.2 | AU40: < 0.2 | AV40: < 0.2 | AW40: < 0.2 | AX40: < 0.2 | AY40: < 0.2 | AZ40: < 0.2 | BA40: < 0.2 | BB40: < 0.2 | BC40: < 0.2 | BD40: < 0.2 | BE40: < 0.2 | BF40: < 0.2 | BG40: < 0.2 | BH40: < 0.2 | BI40: < 0.2 | BJ40: < 0.2 | BK40: < 0.2 | BL40: < 0.2 | BM40: < 0.2 | BN40: < 0.2 | BO40: < 0.2 | BP40: < 0.2 | BQ40: < 0.2 | BS40: 66 | BT40: 66 | BU40: =IFERROR(BT40/BS40,"") -> 1 | BV40: =MAX(D40:BQ40) -> 0 | BW40: =MIN(D40:BQ40) -> 0 | BX40: =MEDIAN(D40:BQ40) -> #NUM! | BY40: =STDEV(D40:BQ40) -> #DIV/0! | BZ40: =((BY40*100)/CB40) -> #DIV/0! | CA40: =VAR(D40:BQ40) -> #DIV/0! | CB40: =AVERAGE(D40:BQ40) -> #DIV/0! | CC40: =_xlfn.PERCENTILE.INC(D40:BQ40,0.95) -> #NUM! | CD40: =_xlfn.PERCENTILE.INC(D40:BQ40,0.99) -> #NUM!
A41: 2-Nitrophenol | B41: SVOC | C41: mg/kg | D41: <0.01 | E41: <0.01 | F41: <0.01 | G41: <0.01 | H41: <0.01 | I41: < 0.3 | J41: < 0.3 | K41: < 0.3 | L41: < 0.3 | M41: < 0.3 | N41: < 0.3 | O41: < 0.3 | P41: < 0.3 | Q41: < 0.3 | R41: < 0.3 | S41: < 0.3 | T41: < 0.3 | U41: < 0.3 | V41: < 0.3 | W41: < 0.3 | X41: < 0.3 | Y41: < 0.3 | Z41: < 0.3 | AA41: < 0.3 | AB41: < 0.3 | AC41: < 0.3 | AD41: < 0.3 | AE41: < 0.3 | AF41: < 0.3 | AG41: < 0.3 | AH41: < 0.3 | AI41: < 0.3 | AJ41: < 0.3 | AK41: < 0.3 | AL41: < 0.3 | AM41: < 0.3 | AN41: < 0.3 | AO41: < 0.3 | AP41: < 0.3 | AQ41: < 0.3 | AR41: < 0.3 | AS41: < 0.3 | AT41: < 0.3 | AU41: < 0.3 | AV41: < 0.3 | AW41: < 0.3 | AX41: < 0.3 | AY41: < 0.3 | AZ41: < 0.3 | BA41: < 0.3 | BB41: < 0.3 | BC41: < 0.3 | BD41: < 0.3 | BE41: < 0.3 | BF41: < 0.3 | BG41: < 0.3 | BH41: < 0.3 | BI41: < 0.3 | BJ41: < 0.3 | BK41: < 0.3 | BL41: < 0.3 | BM41: < 0.3 | BN41: < 0.3 | BO41: < 0.3 | BP41: < 0.3 | BQ41: < 0.3 | BS41: 66 | BT41: 66 | BU41: =IFERROR(BT41/BS41,"") -> 1 | BV41: =MAX(D41:BQ41) -> 0 | BW41: =MIN(D41:BQ41) -> 0 | BX41: =MEDIAN(D41:BQ41) -> #NUM! | BY41: =STDEV(D41:BQ41) -> #DIV/0! | BZ41: =((BY41*100)/CB41) -> #DIV/0! | CA41: =VAR(D41:BQ41) -> #DIV/0! | CB41: =AVERAGE(D41:BQ41) -> #DIV/0! | CC41: =_xlfn.PERCENTILE.INC(D41:BQ41,0.95) -> #NUM! | CD41: =_xlfn.PERCENTILE.INC(D41:BQ41,0.99) -> #NUM!
A42: 2,4-Dimethylphenol | B42: SVOC | C42: mg/kg | D42: <0.01 | E42: 0.05 | F42: <0.01 | G42: 0.01 | H42: <0.01 | I42: < 0.3 | J42: < 0.3 | K42: < 0.3 | L42: < 0.3 | M42: < 0.3 | N42: < 0.3 | O42: < 0.3 | P42: < 0.3 | Q42: < 0.3 | R42: < 0.3 | S42: < 0.3 | T42: < 0.3 | U42: < 0.3 | V42: < 0.3 | W42: < 0.3 | X42: < 0.3 | Y42: < 0.3 | Z42: < 0.3 | AA42: < 0.3 | AB42: < 0.3 | AC42: < 0.3 | AD42: < 0.3 | AE42: < 0.3 | AF42: < 0.3 | AG42: < 0.3 | AH42: < 0.3 | AI42: < 0.3 | AJ42: < 0.3 | AK42: < 0.3 | AL42: < 0.3 | AM42: < 0.3 | AN42: < 0.3 | AO42: < 0.3 | AP42: < 0.3 | AQ42: < 0.3 | AR42: < 0.3 | AS42: < 0.3 | AT42: < 0.3 | AU42: < 0.3 | AV42: < 0.3 | AW42: < 0.3 | AX42: < 0.3 | AY42: < 0.3 | AZ42: < 0.3 | BA42: < 0.3 | BB42: < 0.3 | BC42: < 0.3 | BD42: < 0.3 | BE42: < 0.3 | BF42: < 0.3 | BG42: < 0.3 | BH42: < 0.3 | BI42: < 0.3 | BJ42: < 0.3 | BK42: < 0.3 | BL42: < 0.3 | BM42: < 0.3 | BN42: < 0.3 | BO42: < 0.3 | BP42: < 0.3 | BQ42: < 0.3 | BS42: 66 | BT42: 64 | BU42: =IFERROR(BT42/BS42,"") -> 0.96969697 | BV42: =MAX(D42:BQ42) -> 0.05 | BW42: =MIN(D42:BQ42) -> 0.01 | BX42: =MEDIAN(D42:BQ42) -> 0.03 | BY42: =STDEV(D42:BQ42) -> 0.028284271 | BZ42: =((BY42*100)/CB42) -> 94.280904 | CA42: =VAR(D42:BQ42) -> 0.0008 | CB42: =AVERAGE(D42:BQ42) -> 0.03 | CC42: =_xlfn.PERCENTILE.INC(D42:BQ42,0.95) -> 0.048 | CD42: =_xlfn.PERCENTILE.INC(D42:BQ42,0.99) -> 0.0496
A43: Bis(2-chloroethoxy)methane | B43: SVOC | C43: mg/kg | D43: <0.01 | E43: <0.01 | F43: <0.01 | G43: <0.01 | H43: <0.01 | I43: < 0.3 | J43: < 0.3 | K43: < 0.3 | L43: < 0.3 | M43: < 0.3 | N43: < 0.3 | O43: < 0.3 | P43: < 0.3 | Q43: < 0.3 | R43: < 0.3 | S43: < 0.3 | T43: < 0.3 | U43: < 0.3 | V43: < 0.3 | W43: < 0.3 | X43: < 0.3 | Y43: < 0.3 | Z43: < 0.3 | AA43: < 0.3 | AB43: < 0.3 | AC43: < 0.3 | AD43: < 0.3 | AE43: < 0.3 | AF43: < 0.3 | AG43: < 0.3 | AH43: < 0.3 | AI43: < 0.3 | AJ43: < 0.3 | AK43: < 0.3 | AL43: < 0.3 | AM43: < 0.3 | AN43: < 0.3 | AO43: < 0.3 | AP43: < 0.3 | AQ43: < 0.3 | AR43: < 0.3 | AS43: < 0.3 | AT43: < 0.3 | AU43: < 0.3 | AV43: < 0.3 | AW43: < 0.3 | AX43: < 0.3 | AY43: < 0.3 | AZ43: < 0.3 | BA43: < 0.3 | BB43: < 0.3 | BC43: < 0.3 | BD43: < 0.3 | BE43: < 0.3 | BF43: < 0.3 | BG43: < 0.3 | BH43: < 0.3 | BI43: < 0.3 | BJ43: < 0.3 | BK43: < 0.3 | BL43: < 0.3 | BM43: < 0.3 | BN43: < 0.3 | BO43: < 0.3 | BP43: < 0.3 | BQ43: < 0.3 | BS43: 66 | BT43: 66 | BU43: =IFERROR(BT43/BS43,"") -> 1 | BV43: =MAX(D43:BQ43) -> 0 | BW43: =MIN(D43:BQ43) -> 0 | BX43: =MEDIAN(D43:BQ43) -> #NUM! | BY43: =STDEV(D43:BQ43) -> #DIV/0! | BZ43: =((BY43*100)/CB43) -> #DIV/0! | CA43: =VAR(D43:BQ43) -> #DIV/0! | CB43: =AVERAGE(D43:BQ43) -> #DIV/0! | CC43: =_xlfn.PERCENTILE.INC(D43:BQ43,0.95) -> #NUM! | CD43: =_xlfn.PERCENTILE.INC(D43:BQ43,0.99) -> #NUM!
A44: 2,4-Dichlorophenol | B44: SVOC | C44: mg/kg | D44: <0.01 | E44: <0.01 | F44: <0.01 | G44: <0.01 | H44: <0.01 | I44: < 0.3 | J44: < 0.3 | K44: < 0.3 | L44: < 0.3 | M44: < 0.3 | N44: < 0.3 | O44: < 0.3 | P44: < 0.3 | Q44: < 0.3 | R44: < 0.3 | S44: < 0.3 | T44: < 0.3 | U44: < 0.3 | V44: < 0.3 | W44: < 0.3 | X44: < 0.3 | Y44: < 0.3 | Z44: < 0.3 | AA44: < 0.3 | AB44: < 0.3 | AC44: < 0.3 | AD44: < 0.3 | AE44: < 0.3 | AF44: < 0.3 | AG44: < 0.3 | AH44: < 0.3 | AI44: < 0.3 | AJ44: < 0.3 | AK44: < 0.3 | AL44: < 0.3 | AM44: < 0.3 | AN44: < 0.3 | AO44: < 0.3 | AP44: < 0.3 | AQ44: < 0.3 | AR44: < 0.3 | AS44: < 0.3 | AT44: < 0.3 | AU44: < 0.3 | AV44: < 0.3 | AW44: < 0.3 | AX44: < 0.3 | AY44: < 0.3 | AZ44: < 0.3 | BA44: < 0.3 | BB44: < 0.3 | BC44: < 0.3 | BD44: < 0.3 | BE44: < 0.3 | BF44: < 0.3 | BG44: < 0.3 | BH44: < 0.3 | BI44: < 0.3 | BJ44: < 0.3 | BK44: < 0.3 | BL44: < 0.3 | BM44: < 0.3 | BN44: < 0.3 | BO44: < 0.3 | BP44: < 0.3 | BQ44: < 0.3 | BS44: 66 | BT44: 66 | BU44: =IFERROR(BT44/BS44,"") -> 1 | BV44: =MAX(D44:BQ44) -> 0 | BW44: =MIN(D44:BQ44) -> 0 | BX44: =MEDIAN(D44:BQ44) -> #NUM! | BY44: =STDEV(D44:BQ44) -> #DIV/0! | BZ44: =((BY44*100)/CB44) -> #DIV/0! | CA44: =VAR(D44:BQ44) -> #DIV/0! | CB44: =AVERAGE(D44:BQ44) -> #DIV/0! | CC44: =_xlfn.PERCENTILE.INC(D44:BQ44,0.95) -> #NUM! | CD44: =_xlfn.PERCENTILE.INC(D44:BQ44,0.99) -> #NUM!
A45: 1,3,5-Trichlorobenzene | B45: SVOC | C45: mg/kg | D45: <0.01 | E45: <0.01 | F45: <0.01 | G45: <0.01 | H45: <0.01 | I45: < 0.3 | J45: < 0.3 | K45: < 0.3 | L45: < 0.3 | M45: < 0.3 | N45: < 0.3 | O45: < 0.3 | P45: < 0.3 | Q45: < 0.3 | R45: < 0.3 | S45: < 0.3 | T45: < 0.3 | U45: < 0.3 | V45: < 0.3 | W45: < 0.3 | X45: < 0.3 | Y45: < 0.3 | Z45: < 0.3 | AA45: < 0.3 | AB45: < 0.3 | AC45: < 0.3 | AD45: < 0.3 | AE45: < 0.3 | AF45: < 0.3 | AG45: < 0.3 | AH45: < 0.3 | AI45: < 0.3 | AJ45: < 0.3 | AK45: < 0.3 | AL45: < 0.3 | AM45: < 0.3 | AN45: < 0.3 | AO45: < 0.3 | AP45: < 0.3 | AQ45: < 0.3 | AR45: < 0.3 | AS45: < 0.3 | AT45: < 0.3 | AU45: < 0.3 | AV45: < 0.3 | AW45: < 0.3 | AX45: < 0.3 | AY45: < 0.3 | AZ45: < 0.3 | BA45: < 0.3 | BB45: < 0.3 | BC45: < 0.3 | BD45: < 0.3 | BE45: < 0.3 | BF45: < 0.3 | BG45: < 0.3 | BH45: < 0.3 | BI45: < 0.3 | BJ45: < 0.3 | BK45: < 0.3 | BL45: < 0.3 | BM45: < 0.3 | BN45: < 0.3 | BO45: < 0.3 | BP45: < 0.3 | BQ45: < 0.3 | BS45: 66 | BT45: 66 | BU45: =IFERROR(BT45/BS45,"") -> 1 | BV45: =MAX(D45:BQ45) -> 0 | BW45: =MIN(D45:BQ45) -> 0 | BX45: =MEDIAN(D45:BQ45) -> #NUM! | BY45: =STDEV(D45:BQ45) -> #DIV/0! | BZ45: =((BY45*100)/CB45) -> #DIV/0! | CA45: =VAR(D45:BQ45) -> #DIV/0! | CB45: =AVERAGE(D45:BQ45) -> #DIV/0! | CC45: =_xlfn.PERCENTILE.INC(D45:BQ45,0.95) -> #NUM! | CD45: =_xlfn.PERCENTILE.INC(D45:BQ45,0.99) -> #NUM!
A46: Naphthalene | B46: SVOC | C46: mg/kg | D46: 0.09 | E46: 0.11 | F46: 0.04 | G46: 0.23 | H46: 0.13 | I46: < 0.05 | J46: < 0.05 | K46: < 0.05 | L46: < 0.05 | M46: < 0.05 | N46: < 0.05 | O46: < 0.05 | P46: < 0.05 | Q46: < 0.05 | R46: < 0.05 | S46: < 0.05 | T46: < 0.05 | U46: < 0.05 | V46: < 0.05 | W46: < 0.05 | X46: < 0.05 | Y46: < 0.05 | Z46: < 0.05 | AA46: < 0.05 | AB46: < 0.05 | AC46: < 0.05 | AD46: < 0.05 | AE46: < 0.05 | AF46: < 0.05 | AG46: < 0.05 | AH46: < 0.05 | AI46: < 0.05 | AJ46: < 0.05 | AK46: < 0.05 | AL46: < 0.05 | AM46: < 0.05 | AN46: < 0.05 | AO46: < 0.05 | AP46: < 0.05 | AQ46: < 0.05 | AR46: < 0.05 | AS46: < 0.05 | AT46: < 0.05 | AU46: < 0.05 | AV46: < 0.05 | AW46: < 0.05 | AX46: < 0.05 | AY46: < 0.05 | AZ46: < 0.05 | BA46: < 0.05 | BB46: < 0.05 | BC46: < 0.05 | BD46: < 0.05 | BE46: < 0.05 | BF46: < 0.05 | BG46: < 0.05 | BH46: < 0.05 | BI46: < 0.05 | BJ46: < 0.05 | BK46: < 0.05 | BL46: < 0.05 | BM46: < 0.05 | BN46: < 0.05 | BO46: < 0.05 | BP46: < 0.05 | BQ46: < 0.05 | BS46: 66 | BT46: 61 | BU46: =IFERROR(BT46/BS46,"") -> 0.92424242 | BV46: =MAX(D46:BQ46) -> 0.23 | BW46: =MIN(D46:BQ46) -> 0.04 | BX46: =MEDIAN(D46:BQ46) -> 0.11 | BY46: =STDEV(D46:BQ46) -> 0.07 | BZ46: =((BY46*100)/CB46) -> 58.333333 | CA46: =VAR(D46:BQ46) -> 0.0049 | CB46: =AVERAGE(D46:BQ46) -> 0.12 | CC46: =_xlfn.PERCENTILE.INC(D46:BQ46,0.95) -> 0.21 | CD46: =_xlfn.PERCENTILE.INC(D46:BQ46,0.99) -> 0.226
A47: 3-Chloroaniline | B47: SVOC | C47: mg/kg | D47: <0.01 | E47: <0.01 | F47: <0.01 | G47: <0.01 | H47: <0.01 | I47: < 0.1 | J47: < 0.1 | K47: < 0.1 | L47: < 0.1 | M47: < 0.1 | N47: < 0.1 | O47: < 0.1 | P47: < 0.1 | Q47: < 0.1 | R47: < 0.1 | S47: < 0.1 | T47: < 0.1 | U47: < 0.1 | V47: < 0.1 | W47: < 0.1 | X47: < 0.1 | Y47: < 0.1 | Z47: < 0.1 | AA47: < 0.1 | AB47: < 0.1 | AC47: < 0.1 | AD47: < 0.1 | AE47: < 0.1 | AF47: < 0.1 | AG47: < 0.1 | AH47: < 0.1 | AI47: < 0.1 | AJ47: < 0.1 | AK47: < 0.1 | AL47: < 0.1 | AM47: < 0.1 | AN47: < 0.1 | AO47: < 0.1 | AP47: < 0.1 | AQ47: < 0.1 | AR47: < 0.1 | AS47: < 0.1 | AT47: < 0.1 | AU47: < 0.1 | AV47: < 0.1 | AW47: < 0.1 | AX47: < 0.1 | AY47: < 0.1 | AZ47: < 0.1 | BA47: < 0.1 | BB47: < 0.1 | BC47: < 0.1 | BD47: < 0.1 | BE47: < 0.1 | BF47: < 0.1 | BG47: < 0.1 | BH47: < 0.1 | BI47: < 0.1 | BJ47: < 0.1 | BK47: < 0.1 | BL47: < 0.1 | BM47: < 0.1 | BN47: < 0.1 | BO47: < 0.1 | BP47: < 0.1 | BQ47: < 0.1 | BS47: 66 | BT47: 66 | BU47: =IFERROR(BT47/BS47,"") -> 1 | BV47: =MAX(D47:BQ47) -> 0 | BW47: =MIN(D47:BQ47) -> 0 | BX47: =MEDIAN(D47:BQ47) -> #NUM! | BY47: =STDEV(D47:BQ47) -> #DIV/0! | BZ47: =((BY47*100)/CB47) -> #DIV/0! | CA47: =VAR(D47:BQ47) -> #DIV/0! | CB47: =AVERAGE(D47:BQ47) -> #DIV/0! | CC47: =_xlfn.PERCENTILE.INC(D47:BQ47,0.95) -> #NUM! | CD47: =_xlfn.PERCENTILE.INC(D47:BQ47,0.99) -> #NUM!
A48: Hexachloro-1,3-butadiene | B48: SVOC | C48: mg/kg | D48: <0.01 | E48: <0.01 | F48: <0.01 | G48: <0.01 | H48: <0.01 | I48: < 0.1 | J48: < 0.1 | K48: < 0.1 | L48: < 0.1 | M48: < 0.1 | N48: < 0.1 | O48: < 0.1 | P48: < 0.1 | Q48: < 0.1 | R48: < 0.1 | S48: < 0.1 | T48: < 0.1 | U48: < 0.1 | V48: < 0.1 | W48: < 0.1 | X48: < 0.1 | Y48: < 0.1 | Z48: < 0.1 | AA48: < 0.1 | AB48: < 0.1 | AC48: < 0.1 | AD48: < 0.1 | AE48: < 0.1 | AF48: < 0.1 | AG48: < 0.1 | AH48: < 0.1 | AI48: < 0.1 | AJ48: < 0.1 | AK48: < 0.1 | AL48: < 0.1 | AM48: < 0.1 | AN48: < 0.1 | AO48: < 0.1 | AP48: < 0.1 | AQ48: < 0.1 | AR48: < 0.1 | AS48: < 0.1 | AT48: < 0.1 | AU48: < 0.1 | AV48: < 0.1 | AW48: < 0.1 | AX48: < 0.1 | AY48: < 0.1 | AZ48: < 0.1 | BA48: < 0.1 | BB48: < 0.1 | BC48: < 0.1 | BD48: < 0.1 | BE48: < 0.1 | BF48: < 0.1 | BG48: < 0.1 | BH48: < 0.1 | BI48: < 0.1 | BJ48: < 0.1 | BK48: < 0.1 | BL48: < 0.1 | BM48: < 0.1 | BN48: < 0.1 | BO48: < 0.1 | BP48: < 0.1 | BQ48: < 0.1 | BS48: 66 | BT48: 66 | BU48: =IFERROR(BT48/BS48,"") -> 1 | BV48: =MAX(D48:BQ48) -> 0 | BW48: =MIN(D48:BQ48) -> 0 | BX48: =MEDIAN(D48:BQ48) -> #NUM! | BY48: =STDEV(D48:BQ48) -> #DIV/0! | BZ48: =((BY48*100)/CB48) -> #DIV/0! | CA48: =VAR(D48:BQ48) -> #DIV/0! | CB48: =AVERAGE(D48:BQ48) -> #DIV/0! | CC48: =_xlfn.PERCENTILE.INC(D48:BQ48,0.95) -> #NUM! | CD48: =_xlfn.PERCENTILE.INC(D48:BQ48,0.99) -> #NUM!
A49: 4-Chloro-3-methylphenol | B49: SVOC | C49: mg/kg | D49: <0.01 | E49: <0.01 | F49: <0.01 | G49: <0.01 | H49: <0.01 | I49: < 0.1 | J49: < 0.1 | K49: < 0.1 | L49: < 0.1 | M49: < 0.1 | N49: < 0.1 | O49: < 0.1 | P49: < 0.1 | Q49: < 0.1 | R49: < 0.1 | S49: < 0.1 | T49: < 0.1 | U49: < 0.1 | V49: < 0.1 | W49: < 0.1 | X49: < 0.1 | Y49: < 0.1 | Z49: < 0.1 | AA49: < 0.1 | AB49: < 0.1 | AC49: < 0.1 | AD49: < 0.1 | AE49: < 0.1 | AF49: < 0.1 | AG49: < 0.1 | AH49: < 0.1 | AI49: < 0.1 | AJ49: < 0.1 | AK49: < 0.1 | AL49: < 0.1 | AM49: < 0.1 | AN49: < 0.1 | AO49: < 0.1 | AP49: < 0.1 | AQ49: < 0.1 | AR49: < 0.1 | AS49: < 0.1 | AT49: < 0.1 | AU49: < 0.1 | AV49: < 0.1 | AW49: < 0.1 | AX49: < 0.1 | AY49: < 0.1 | AZ49: < 0.1 | BA49: < 0.1 | BB49: < 0.1 | BC49: < 0.1 | BD49: < 0.1 | BE49: < 0.1 | BF49: < 0.1 | BG49: < 0.1 | BH49: < 0.1 | BI49: < 0.1 | BJ49: < 0.1 | BK49: < 0.1 | BL49: < 0.1 | BM49: < 0.1 | BN49: < 0.1 | BO49: < 0.1 | BP49: < 0.1 | BQ49: < 0.1 | BS49: 66 | BT49: 66 | BU49: =IFERROR(BT49/BS49,"") -> 1 | BV49: =MAX(D49:BQ49) -> 0 | BW49: =MIN(D49:BQ49) -> 0 | BX49: =MEDIAN(D49:BQ49) -> #NUM! | BY49: =STDEV(D49:BQ49) -> #DIV/0! | BZ49: =((BY49*100)/CB49) -> #DIV/0! | CA49: =VAR(D49:BQ49) -> #DIV/0! | CB49: =AVERAGE(D49:BQ49) -> #DIV/0! | CC49: =_xlfn.PERCENTILE.INC(D49:BQ49,0.95) -> #NUM! | CD49: =_xlfn.PERCENTILE.INC(D49:BQ49,0.99) -> #NUM!
A50: 2-Methylnaphthalene | B50: SVOC | C50: mg/kg | D50: 0.08 | E50: 0.06 | F50: 0.03 | G50: 0.16 | H50: 0.08 | I50: < 0.1 | J50: < 0.1 | K50: < 0.1 | L50: < 0.1 | M50: < 0.1 | N50: < 0.1 | O50: < 0.1 | P50: < 0.1 | Q50: < 0.1 | R50: < 0.1 | S50: < 0.1 | T50: < 0.1 | U50: < 0.1 | V50: < 0.1 | W50: < 0.1 | X50: < 0.1 | Y50: < 0.1 | Z50: < 0.1 | AA50: < 0.1 | AB50: < 0.1 | AC50: < 0.1 | AD50: < 0.1 | AE50: < 0.1 | AF50: < 0.1 | AG50: < 0.1 | AH50: < 0.1 | AI50: < 0.1 | AJ50: < 0.1 | AK50: < 0.1 | AL50: < 0.1 | AM50: < 0.1 | AN50: < 0.1 | AO50: < 0.1 | AP50: < 0.1 | AQ50: < 0.1 | AR50: < 0.1 | AS50: < 0.1 | AT50: < 0.1 | AU50: < 0.1 | AV50: < 0.1 | AW50: < 0.1 | AX50: < 0.1 | AY50: < 0.1 | AZ50: < 0.1 | BA50: < 0.1 | BB50: < 0.1 | BC50: < 0.1 | BD50: < 0.1 | BE50: < 0.1 | BF50: < 0.1 | BG50: < 0.1 | BH50: < 0.1 | BI50: < 0.1 | BJ50: < 0.1 | BK50: < 0.1 | BL50: < 0.1 | BM50: < 0.1 | BN50: < 0.1 | BO50: < 0.1 | BP50: < 0.1 | BQ50: < 0.1 | BS50: 66 | BT50: 61 | BU50: =IFERROR(BT50/BS50,"") -> 0.92424242 | BV50: =MAX(D50:BQ50) -> 0.16 | BW50: =MIN(D50:BQ50) -> 0.03 | BX50: =MEDIAN(D50:BQ50) -> 0.08 | BY50: =STDEV(D50:BQ50) -> 0.048166378 | BZ50: =((BY50*100)/CB50) -> 58.739486 | CA50: =VAR(D50:BQ50) -> 0.00232 | CB50: =AVERAGE(D50:BQ50) -> 0.082 | CC50: =_xlfn.PERCENTILE.INC(D50:BQ50,0.95) -> 0.144 | CD50: =_xlfn.PERCENTILE.INC(D50:BQ50,0.99) -> 0.1568
A51: 1-Methylnaphthalene | B51: SVOC | C51: mg/kg | D51: 0.05 | E51: 0.04 | F51: 0.02 | G51: 0.1 | H51: 0.05 | BS51: 5 | BT51: 0 | BU51: =IFERROR(BT51/BS51,"") -> 0 | BV51: =MAX(D51:BQ51) -> 0.1 | BW51: =MIN(D51:BQ51) -> 0.02 | BX51: =MEDIAN(D51:BQ51) -> 0.05 | BY51: =STDEV(D51:BQ51) -> 0.029495762 | BZ51: =((BY51*100)/CB51) -> 56.72262 | CA51: =VAR(D51:BQ51) -> 0.00087 | CB51: =AVERAGE(D51:BQ51) -> 0.052 | CC51: =_xlfn.PERCENTILE.INC(D51:BQ51,0.95) -> 0.09 | CD51: =_xlfn.PERCENTILE.INC(D51:BQ51,0.99) -> 0.098
A52: Hexachlorocyclopentadiene | B52: SVOC | C52: mg/kg | D52: <0.01 | E52: <0.01 | F52: <0.01 | G52: <0.01 | H52: <0.01 | BS52: 5 | BT52: 5 | BU52: =IFERROR(BT52/BS52,"") -> 1 | BV52: =MAX(D52:BQ52) -> 0 | BW52: =MIN(D52:BQ52) -> 0 | BX52: =MEDIAN(D52:BQ52) -> #NUM! | BY52: =STDEV(D52:BQ52) -> #DIV/0! | BZ52: =((BY52*100)/CB52) -> #DIV/0! | CA52: =VAR(D52:BQ52) -> #DIV/0! | CB52: =AVERAGE(D52:BQ52) -> #DIV/0! | CC52: =_xlfn.PERCENTILE.INC(D52:BQ52,0.95) -> #NUM! | CD52: =_xlfn.PERCENTILE.INC(D52:BQ52,0.99) -> #NUM!
A53: 2,4,6-Trichlorophenol | B53: SVOC | C53: mg/kg | D53: <0.01 | E53: <0.01 | F53: <0.01 | G53: 0.02 | H53: <0.01 | I53: < 0.1 | J53: < 0.1 | K53: < 0.1 | L53: < 0.1 | M53: < 0.1 | N53: < 0.1 | O53: < 0.1 | P53: < 0.1 | Q53: < 0.1 | R53: < 0.1 | S53: < 0.1 | T53: < 0.1 | U53: < 0.1 | V53: < 0.1 | W53: < 0.1 | X53: < 0.1 | Y53: < 0.1 | Z53: < 0.1 | AA53: < 0.1 | AB53: < 0.1 | AC53: < 0.1 | AD53: < 0.1 | AE53: < 0.1 | AF53: < 0.1 | AG53: < 0.1 | AH53: < 0.1 | AI53: < 0.1 | AJ53: < 0.1 | AK53: < 0.1 | AL53: < 0.1 | AM53: < 0.1 | AN53: < 0.1 | AO53: < 0.1 | AP53: < 0.1 | AQ53: < 0.1 | AR53: < 0.1 | AS53: < 0.1 | AT53: < 0.1 | AU53: < 0.1 | AV53: < 0.1 | AW53: < 0.1 | AX53: < 0.1 | AY53: < 0.1 | AZ53: < 0.1 | BA53: < 0.1 | BB53: < 0.1 | BC53: < 0.1 | BD53: < 0.1 | BE53: < 0.1 | BF53: < 0.1 | BG53: < 0.1 | BH53: < 0.1 | BI53: < 0.1 | BJ53: < 0.1 | BK53: < 0.1 | BL53: < 0.1 | BM53: < 0.1 | BN53: < 0.1 | BO53: < 0.1 | BP53: < 0.1 | BQ53: < 0.1 | BS53: 66 | BT53: 65 | BU53: =IFERROR(BT53/BS53,"") -> 0.98484848 | BV53: =MAX(D53:BQ53) -> 0.02 | BW53: =MIN(D53:BQ53) -> 0.02 | BX53: =MEDIAN(D53:BQ53) -> 0.02 | BY53: =STDEV(D53:BQ53) -> #DIV/0! | BZ53: =((BY53*100)/CB53) -> #DIV/0! | CA53: =VAR(D53:BQ53) -> #DIV/0! | CB53: =AVERAGE(D53:BQ53) -> 0.02 | CC53: =_xlfn.PERCENTILE.INC(D53:BQ53,0.95) -> 0.02 | CD53: =_xlfn.PERCENTILE.INC(D53:BQ53,0.99) -> 0.02
A54: 2,4,5-Trichlorophenol | B54: SVOC | C54: mg/kg | D54: <0.01 | E54: <0.01 | F54: <0.01 | G54: <0.01 | H54: <0.01 | I54: < 0.2 | J54: < 0.2 | K54: < 0.2 | L54: < 0.2 | M54: < 0.2 | N54: < 0.2 | O54: < 0.2 | P54: < 0.2 | Q54: < 0.2 | R54: < 0.2 | S54: < 0.2 | T54: < 0.2 | U54: < 0.2 | V54: < 0.2 | W54: < 0.2 | X54: < 0.2 | Y54: < 0.2 | Z54: < 0.2 | AA54: < 0.2 | AB54: < 0.2 | AC54: < 0.2 | AD54: < 0.2 | AE54: < 0.2 | AF54: < 0.2 | AG54: < 0.2 | AH54: < 0.2 | AI54: < 0.2 | AJ54: < 0.2 | AK54: < 0.2 | AL54: < 0.2 | AM54: < 0.2 | AN54: < 0.2 | AO54: < 0.2 | AP54: < 0.2 | AQ54: < 0.2 | AR54: < 0.2 | AS54: < 0.2 | AT54: < 0.2 | AU54: < 0.2 | AV54: < 0.2 | AW54: < 0.2 | AX54: < 0.2 | AY54: < 0.2 | AZ54: < 0.2 | BA54: < 0.2 | BB54: < 0.2 | BC54: < 0.2 | BD54: < 0.2 | BE54: < 0.2 | BF54: < 0.2 | BG54: < 0.2 | BH54: < 0.2 | BI54: < 0.2 | BJ54: < 0.2 | BK54: < 0.2 | BL54: < 0.2 | BM54: < 0.2 | BN54: < 0.2 | BO54: < 0.2 | BP54: < 0.2 | BQ54: < 0.2 | BS54: 66 | BT54: 66 | BU54: =IFERROR(BT54/BS54,"") -> 1 | BV54: =MAX(D54:BQ54) -> 0 | BW54: =MIN(D54:BQ54) -> 0 | BX54: =MEDIAN(D54:BQ54) -> #NUM! | BY54: =STDEV(D54:BQ54) -> #DIV/0! | BZ54: =((BY54*100)/CB54) -> #DIV/0! | CA54: =VAR(D54:BQ54) -> #DIV/0! | CB54: =AVERAGE(D54:BQ54) -> #DIV/0! | CC54: =_xlfn.PERCENTILE.INC(D54:BQ54,0.95) -> #NUM! | CD54: =_xlfn.PERCENTILE.INC(D54:BQ54,0.99) -> #NUM!
A55: 1-Chloronaphthalene | B55: SVOC | C55: mg/kg | D55: <0.01 | E55: <0.01 | F55: <0.01 | G55: <0.01 | H55: <0.01 | I55: < 0.1 | J55: < 0.1 | K55: < 0.1 | L55: < 0.1 | M55: < 0.1 | N55: < 0.1 | O55: < 0.1 | P55: < 0.1 | Q55: < 0.1 | R55: < 0.1 | S55: < 0.1 | T55: < 0.1 | U55: < 0.1 | V55: < 0.1 | W55: < 0.1 | X55: < 0.1 | Y55: < 0.1 | Z55: < 0.1 | AA55: < 0.1 | AB55: < 0.1 | AC55: < 0.1 | AD55: < 0.1 | AE55: < 0.1 | AF55: < 0.1 | AG55: < 0.1 | AH55: < 0.1 | AI55: < 0.1 | AJ55: < 0.1 | AK55: < 0.1 | AL55: < 0.1 | AM55: < 0.1 | AN55: < 0.1 | AO55: < 0.1 | AP55: < 0.1 | AQ55: < 0.1 | AR55: < 0.1 | AS55: < 0.1 | AT55: < 0.1 | AU55: < 0.1 | AV55: < 0.1 | AW55: < 0.1 | AX55: < 0.1 | AY55: < 0.1 | AZ55: < 0.1 | BA55: < 0.1 | BB55: < 0.1 | BC55: < 0.1 | BD55: < 0.1 | BE55: < 0.1 | BF55: < 0.1 | BG55: < 0.1 | BH55: < 0.1 | BI55: < 0.1 | BJ55: < 0.1 | BK55: < 0.1 | BL55: < 0.1 | BM55: < 0.1 | BN55: < 0.1 | BO55: < 0.1 | BP55: < 0.1 | BQ55: < 0.1 | BS55: 66 | BT55: 66 | BU55: =IFERROR(BT55/BS55,"") -> 1 | BV55: =MAX(D55:BQ55) -> 0 | BW55: =MIN(D55:BQ55) -> 0 | BX55: =MEDIAN(D55:BQ55) -> #NUM! | BY55: =STDEV(D55:BQ55) -> #DIV/0! | BZ55: =((BY55*100)/CB55) -> #DIV/0! | CA55: =VAR(D55:BQ55) -> #DIV/0! | CB55: =AVERAGE(D55:BQ55) -> #DIV/0! | CC55: =_xlfn.PERCENTILE.INC(D55:BQ55,0.95) -> #NUM! | CD55: =_xlfn.PERCENTILE.INC(D55:BQ55,0.99) -> #NUM!
A56: 2-Nitroaniline | B56: SVOC | C56: mg/kg | D56: <0.01 | E56: <0.01 | F56: <0.01 | G56: <0.01 | H56: <0.01 | I56: < 0.2 | J56: < 0.2 | K56: < 0.2 | L56: < 0.2 | M56: < 0.2 | N56: < 0.2 | O56: < 0.2 | P56: < 0.2 | Q56: < 0.2 | R56: < 0.2 | S56: < 0.2 | T56: < 0.2 | U56: < 0.2 | V56: < 0.2 | W56: < 0.2 | X56: < 0.2 | Y56: < 0.2 | Z56: < 0.2 | AA56: < 0.2 | AB56: < 0.2 | AC56: < 0.2 | AD56: < 0.2 | AE56: < 0.2 | AF56: < 0.2 | AG56: < 0.2 | AH56: < 0.2 | AI56: < 0.2 | AJ56: < 0.2 | AK56: < 0.2 | AL56: < 0.2 | AM56: < 0.2 | AN56: < 0.2 | AO56: < 0.2 | AP56: < 0.2 | AQ56: < 0.2 | AR56: < 0.2 | AS56: < 0.2 | AT56: < 0.2 | AU56: < 0.2 | AV56: < 0.2 | AW56: < 0.2 | AX56: < 0.2 | AY56: < 0.2 | AZ56: < 0.2 | BA56: < 0.2 | BB56: < 0.2 | BC56: < 0.2 | BD56: < 0.2 | BE56: < 0.2 | BF56: < 0.2 | BG56: < 0.2 | BH56: < 0.2 | BI56: < 0.2 | BJ56: < 0.2 | BK56: < 0.2 | BL56: < 0.2 | BM56: < 0.2 | BN56: < 0.2 | BO56: < 0.2 | BP56: < 0.2 | BQ56: < 0.2 | BS56: 66 | BT56: 66 | BU56: =IFERROR(BT56/BS56,"") -> 1 | BV56: =MAX(D56:BQ56) -> 0 | BW56: =MIN(D56:BQ56) -> 0 | BX56: =MEDIAN(D56:BQ56) -> #NUM! | BY56: =STDEV(D56:BQ56) -> #DIV/0! | BZ56: =((BY56*100)/CB56) -> #DIV/0! | CA56: =VAR(D56:BQ56) -> #DIV/0! | CB56: =AVERAGE(D56:BQ56) -> #DIV/0! | CC56: =_xlfn.PERCENTILE.INC(D56:BQ56,0.95) -> #NUM! | CD56: =_xlfn.PERCENTILE.INC(D56:BQ56,0.99) -> #NUM!
A57: 1,4-Dinitrobenzene | B57: SVOC | C57: mg/kg | D57: <0.01 | E57: <0.01 | F57: <0.01 | G57: <0.01 | H57: <0.01 | I57: < 0.2 | J57: < 0.2 | K57: < 0.2 | L57: < 0.2 | M57: < 0.2 | N57: < 0.2 | O57: < 0.2 | P57: < 0.2 | Q57: < 0.2 | R57: < 0.2 | S57: < 0.2 | T57: < 0.2 | U57: < 0.2 | V57: < 0.2 | W57: < 0.2 | X57: < 0.2 | Y57: < 0.2 | Z57: < 0.2 | AA57: < 0.2 | AB57: < 0.2 | AC57: < 0.2 | AD57: < 0.2 | AE57: < 0.2 | AF57: < 0.2 | AG57: < 0.2 | AH57: < 0.2 | AI57: < 0.2 | AJ57: < 0.2 | AK57: < 0.2 | AL57: < 0.2 | AM57: < 0.2 | AN57: < 0.2 | AO57: < 0.2 | AP57: < 0.2 | AQ57: < 0.2 | AR57: < 0.2 | AS57: < 0.2 | AT57: < 0.2 | AU57: < 0.2 | AV57: < 0.2 | AW57: < 0.2 | AX57: < 0.2 | AY57: < 0.2 | AZ57: < 0.2 | BA57: < 0.2 | BB57: < 0.2 | BC57: < 0.2 | BD57: < 0.2 | BE57: < 0.2 | BF57: < 0.2 | BG57: < 0.2 | BH57: < 0.2 | BI57: < 0.2 | BJ57: < 0.2 | BK57: < 0.2 | BL57: < 0.2 | BM57: < 0.2 | BN57: < 0.2 | BO57: < 0.2 | BP57: < 0.2 | BQ57: < 0.2 | BS57: 66 | BT57: 66 | BU57: =IFERROR(BT57/BS57,"") -> 1 | BV57: =MAX(D57:BQ57) -> 0 | BW57: =MIN(D57:BQ57) -> 0 | BX57: =MEDIAN(D57:BQ57) -> #NUM! | BY57: =STDEV(D57:BQ57) -> #DIV/0! | BZ57: =((BY57*100)/CB57) -> #DIV/0! | CA57: =VAR(D57:BQ57) -> #DIV/0! | CB57: =AVERAGE(D57:BQ57) -> #DIV/0! | CC57: =_xlfn.PERCENTILE.INC(D57:BQ57,0.95) -> #NUM! | CD57: =_xlfn.PERCENTILE.INC(D57:BQ57,0.99) -> #NUM!
A58: Dimethyl phthalate | B58: SVOC | C58: mg/kg | D58: <0.01 | E58: <0.01 | F58: <0.01 | G58: <0.01 | H58: <0.01 | I58: < 0.1 | J58: < 0.1 | K58: < 0.1 | L58: < 0.1 | M58: < 0.1 | N58: < 0.1 | O58: < 0.1 | P58: < 0.1 | Q58: < 0.1 | R58: < 0.1 | S58: < 0.1 | T58: < 0.1 | U58: < 0.1 | V58: < 0.1 | W58: < 0.1 | X58: < 0.1 | Y58: < 0.1 | Z58: < 0.1 | AA58: 0.9 | AB58: < 0.1 | AC58: < 0.1 | AD58: < 0.1 | AE58: < 0.1 | AF58: < 0.1 | AG58: < 0.1 | AH58: < 0.1 | AI58: < 0.1 | AJ58: < 0.1 | AK58: < 0.1 | AL58: < 0.1 | AM58: < 0.1 | AN58: < 0.1 | AO58: < 0.1 | AP58: < 0.1 | AQ58: < 0.1 | AR58: < 0.1 | AS58: < 0.1 | AT58: < 0.1 | AU58: 3.4 | AV58: < 0.1 | AW58: < 0.1 | AX58: < 0.1 | AY58: < 0.1 | AZ58: < 0.1 | BA58: < 0.1 | BB58: < 0.1 | BC58: < 0.1 | BD58: < 0.1 | BE58: < 0.1 | BF58: < 0.1 | BG58: < 0.1 | BH58: < 0.1 | BI58: < 0.1 | BJ58: < 0.1 | BK58: < 0.1 | BL58: < 0.1 | BM58: < 0.1 | BN58: < 0.1 | BO58: < 0.1 | BP58: 0.4 | BQ58: < 0.1 | BS58: 66 | BT58: 65 | BU58: =IFERROR(BT58/BS58,"") -> 0.98484848 | BV58: =MAX(D58:BQ58) -> 3.4 | BW58: =MIN(D58:BQ58) -> 0.4 | BX58: =MEDIAN(D58:BQ58) -> 0.9 | BY58: =STDEV(D58:BQ58) -> 1.6072751 | BZ58: =((BY58*100)/CB58) -> 102.59203 | CA58: =VAR(D58:BQ58) -> 2.5833333 | CB58: =AVERAGE(D58:BQ58) -> 1.5666667 | CC58: =_xlfn.PERCENTILE.INC(D58:BQ58,0.95) -> 3.15 | CD58: =_xlfn.PERCENTILE.INC(D58:BQ58,0.99) -> 3.35
A59: 1-3-dinitrobenzene | B59: SVOC | C59: mg/kg | D59: <0.01 | E59: <0.01 | F59: <0.01 | G59: <0.01 | H59: <0.01 | I59: < 0.1 | J59: < 0.1 | K59: < 0.1 | L59: < 0.1 | M59: < 0.1 | N59: < 0.1 | O59: < 0.1 | P59: < 0.1 | Q59: < 0.1 | R59: < 0.1 | S59: < 0.1 | T59: < 0.1 | U59: < 0.1 | V59: < 0.1 | W59: < 0.1 | X59: < 0.1 | Y59: < 0.1 | Z59: < 0.1 | AA59: < 0.1 | AB59: < 0.1 | AC59: < 0.1 | AD59: < 0.1 | AE59: < 0.1 | AF59: < 0.1 | AG59: < 0.1 | AH59: < 0.1 | AI59: < 0.1 | AJ59: < 0.1 | AK59: < 0.1 | AL59: < 0.1 | AM59: < 0.1 | AN59: < 0.1 | AO59: < 0.1 | AP59: < 0.1 | AQ59: < 0.1 | AR59: < 0.1 | AS59: < 0.1 | AT59: < 0.1 | AU59: < 0.1 | AV59: < 0.1 | AW59: < 0.1 | AX59: < 0.1 | AY59: < 0.1 | AZ59: < 0.1 | BA59: < 0.1 | BB59: < 0.1 | BC59: < 0.1 | BD59: < 0.1 | BE59: < 0.1 | BF59: < 0.1 | BG59: < 0.1 | BH59: < 0.1 | BI59: < 0.1 | BJ59: < 0.1 | BK59: < 0.1 | BL59: < 0.1 | BM59: < 0.1 | BN59: < 0.1 | BO59: < 0.1 | BP59: < 0.1 | BQ59: < 0.1 | BS59: 66 | BT59: 66 | BU59: =IFERROR(BT59/BS59,"") -> 1 | BV59: =MAX(D59:BQ59) -> 0 | BW59: =MIN(D59:BQ59) -> 0 | BX59: =MEDIAN(D59:BQ59) -> #NUM! | BY59: =STDEV(D59:BQ59) -> #DIV/0! | BZ59: =((BY59*100)/CB59) -> #DIV/0! | CA59: =VAR(D59:BQ59) -> #DIV/0! | CB59: =AVERAGE(D59:BQ59) -> #DIV/0! | CC59: =_xlfn.PERCENTILE.INC(D59:BQ59,0.95) -> #NUM! | CD59: =_xlfn.PERCENTILE.INC(D59:BQ59,0.99) -> #NUM!
A60: 2-6-dinitrotoluene | B60: SVOC | C60: mg/kg | D60: <0.01 | E60: <0.01 | F60: <0.01 | G60: <0.01 | H60: <0.01 | I60: < 0.2 | J60: < 0.2 | K60: < 0.2 | L60: < 0.2 | M60: < 0.2 | N60: < 0.2 | O60: < 0.2 | P60: < 0.2 | Q60: < 0.2 | R60: < 0.2 | S60: < 0.2 | T60: < 0.2 | U60: < 0.2 | V60: < 0.2 | W60: < 0.2 | X60: < 0.2 | Y60: < 0.2 | Z60: < 0.2 | AA60: < 0.2 | AB60: < 0.2 | AC60: < 0.2 | AD60: < 0.2 | AE60: < 0.2 | AF60: < 0.2 | AG60: < 0.2 | AH60: < 0.2 | AI60: < 0.2 | AJ60: < 0.2 | AK60: < 0.2 | AL60: < 0.2 | AM60: < 0.2 | AN60: < 0.2 | AO60: < 0.2 | AP60: < 0.2 | AQ60: < 0.2 | AR60: < 0.2 | AS60: < 0.2 | AT60: < 0.2 | AU60: < 0.2 | AV60: < 0.2 | AW60: < 0.2 | AX60: < 0.2 | AY60: < 0.2 | AZ60: < 0.2 | BA60: < 0.2 | BB60: < 0.2 | BC60: < 0.2 | BD60: < 0.2 | BE60: < 0.2 | BF60: < 0.2 | BG60: < 0.2 | BH60: < 0.2 | BI60: < 0.2 | BJ60: < 0.2 | BK60: < 0.2 | BL60: < 0.2 | BM60: < 0.2 | BN60: < 0.2 | BO60: < 0.2 | BP60: < 0.2 | BQ60: < 0.2 | BS60: 66 | BT60: 66 | BU60: =IFERROR(BT60/BS60,"") -> 1 | BV60: =MAX(D60:BQ60) -> 0 | BW60: =MIN(D60:BQ60) -> 0 | BX60: =MEDIAN(D60:BQ60) -> #NUM! | BY60: =STDEV(D60:BQ60) -> #DIV/0! | BZ60: =((BY60*100)/CB60) -> #DIV/0! | CA60: =VAR(D60:BQ60) -> #DIV/0! | CB60: =AVERAGE(D60:BQ60) -> #DIV/0! | CC60: =_xlfn.PERCENTILE.INC(D60:BQ60,0.95) -> #NUM! | CD60: =_xlfn.PERCENTILE.INC(D60:BQ60,0.99) -> #NUM!
A61: Acenaphthylene | B61: SVOC | C61: mg/kg | D61: 0.03 | E61: 0.05 | F61: <0.01 | G61: 0.05 | H61: 0.02 | I61: < 0.05 | J61: < 0.05 | K61: < 0.05 | L61: < 0.05 | M61: < 0.05 | N61: < 0.05 | O61: < 0.05 | P61: < 0.05 | Q61: < 0.05 | R61: < 0.05 | S61: < 0.05 | T61: < 0.05 | U61: < 0.05 | V61: < 0.05 | W61: < 0.05 | X61: < 0.05 | Y61: < 0.05 | Z61: < 0.05 | AA61: < 0.05 | AB61: < 0.05 | AC61: < 0.05 | AD61: < 0.05 | AE61: < 0.05 | AF61: < 0.05 | AG61: < 0.05 | AH61: < 0.05 | AI61: < 0.05 | AJ61: < 0.05 | AK61: < 0.05 | AL61: < 0.05 | AM61: < 0.05 | AN61: < 0.05 | AO61: < 0.05 | AP61: < 0.05 | AQ61: < 0.05 | AR61: < 0.05 | AS61: < 0.05 | AT61: < 0.05 | AU61: < 0.05 | AV61: < 0.05 | AW61: < 0.05 | AX61: < 0.05 | AY61: < 0.05 | AZ61: < 0.05 | BA61: < 0.05 | BB61: < 0.05 | BC61: < 0.05 | BD61: < 0.05 | BE61: < 0.05 | BF61: < 0.05 | BG61: < 0.05 | BH61: < 0.05 | BI61: < 0.05 | BJ61: < 0.05 | BK61: < 0.05 | BL61: < 0.05 | BM61: < 0.05 | BN61: < 0.05 | BO61: < 0.05 | BP61: < 0.05 | BQ61: < 0.05 | BS61: 66 | BT61: 62 | BU61: =IFERROR(BT61/BS61,"") -> 0.93939394 | BV61: =MAX(D61:BQ61) -> 0.05 | BW61: =MIN(D61:BQ61) -> 0.02 | BX61: =MEDIAN(D61:BQ61) -> 0.04 | BY61: =STDEV(D61:BQ61) -> 0.015 | BZ61: =((BY61*100)/CB61) -> 40 | CA61: =VAR(D61:BQ61) -> 0.000225 | CB61: =AVERAGE(D61:BQ61) -> 0.0375 | CC61: =_xlfn.PERCENTILE.INC(D61:BQ61,0.95) -> 0.05 | CD61: =_xlfn.PERCENTILE.INC(D61:BQ61,0.99) -> 0.05
A62: 1,2-Dinitrobenzene | B62: SVOC | C62: mg/kg | D62: <0.01 | E62: <0.01 | F62: <0.01 | G62: <0.01 | H62: <0.01 | BS62: 5 | BT62: 5 | BU62: =IFERROR(BT62/BS62,"") -> 1 | BV62: =MAX(D62:BQ62) -> 0 | BW62: =MIN(D62:BQ62) -> 0 | BX62: =MEDIAN(D62:BQ62) -> #NUM! | BY62: =STDEV(D62:BQ62) -> #DIV/0! | BZ62: =((BY62*100)/CB62) -> #DIV/0! | CA62: =VAR(D62:BQ62) -> #DIV/0! | CB62: =AVERAGE(D62:BQ62) -> #DIV/0! | CC62: =_xlfn.PERCENTILE.INC(D62:BQ62,0.95) -> #NUM! | CD62: =_xlfn.PERCENTILE.INC(D62:BQ62,0.99) -> #NUM!
A63: 3-Nitroaniline | B63: SVOC | C63: mg/kg | D63: <0.01 | E63: <0.01 | F63: <0.01 | G63: <0.01 | H63: <0.01 | BS63: 5 | BT63: 5 | BU63: =IFERROR(BT63/BS63,"") -> 1 | BV63: =MAX(D63:BQ63) -> 0 | BW63: =MIN(D63:BQ63) -> 0 | BX63: =MEDIAN(D63:BQ63) -> #NUM! | BY63: =STDEV(D63:BQ63) -> #DIV/0! | BZ63: =((BY63*100)/CB63) -> #DIV/0! | CA63: =VAR(D63:BQ63) -> #DIV/0! | CB63: =AVERAGE(D63:BQ63) -> #DIV/0! | CC63: =_xlfn.PERCENTILE.INC(D63:BQ63,0.95) -> #NUM! | CD63: =_xlfn.PERCENTILE.INC(D63:BQ63,0.99) -> #NUM!
A64: Acenaphthene | B64: SVOC | C64: mg/kg | D64: 0.14 | E64: 0.13 | F64: 0.05 | G64: 0.44 | H64: 0.17 | I64: < 0.05 | J64: < 0.05 | K64: < 0.05 | L64: 0.2 | M64: < 0.05 | N64: < 0.05 | O64: 0.24 | P64: < 0.05 | Q64: < 0.05 | R64: 0.34 | S64: < 0.05 | T64: < 0.05 | U64: < 0.05 | V64: < 0.05 | W64: < 0.05 | X64: < 0.05 | Y64: < 0.05 | Z64: < 0.05 | AA64: < 0.05 | AB64: < 0.05 | AC64: < 0.05 | AD64: < 0.05 | AE64: < 0.05 | AF64: < 0.05 | AG64: 0.24 | AH64: < 0.05 | AI64: < 0.05 | AJ64: < 0.05 | AK64: < 0.05 | AL64: < 0.05 | AM64: < 0.05 | AN64: < 0.05 | AO64: < 0.05 | AP64: < 0.05 | AQ64: < 0.05 | AR64: < 0.05 | AS64: < 0.05 | AT64: < 0.05 | AU64: < 0.05 | AV64: < 0.05 | AW64: < 0.05 | AX64: < 0.05 | AY64: < 0.05 | AZ64: < 0.05 | BA64: < 0.05 | BB64: < 0.05 | BC64: < 0.05 | BD64: < 0.05 | BE64: < 0.05 | BF64: < 0.05 | BG64: < 0.05 | BH64: < 0.05 | BI64: < 0.05 | BJ64: < 0.05 | BK64: < 0.05 | BL64: < 0.05 | BM64: < 0.05 | BN64: 0.65 | BO64: 0.36 | BP64: < 0.05 | BQ64: < 0.05 | BS64: 66 | BT64: 59 | BU64: =IFERROR(BT64/BS64,"") -> 0.89393939 | BV64: =MAX(D64:BQ64) -> 0.65 | BW64: =MIN(D64:BQ64) -> 0.05 | BX64: =MEDIAN(D64:BQ64) -> 0.24 | BY64: =STDEV(D64:BQ64) -> 0.16967348 | BZ64: =((BY64*100)/CB64) -> 63.054335 | CA64: =VAR(D64:BQ64) -> 0.028789091 | CB64: =AVERAGE(D64:BQ64) -> 0.26909091 | CC64: =_xlfn.PERCENTILE.INC(D64:BQ64,0.95) -> 0.545 | CD64: =_xlfn.PERCENTILE.INC(D64:BQ64,0.99) -> 0.629
A65: 4-nitrophenol | B65: SVOC | C65: mg/kg | D65: <0.01 | E65: <0.01 | F65: <0.01 | G65: <0.01 | H65: <0.01 | BS65: 5 | BT65: 5 | BU65: =IFERROR(BT65/BS65,"") -> 1 | BV65: =MAX(D65:BQ65) -> 0 | BW65: =MIN(D65:BQ65) -> 0 | BX65: =MEDIAN(D65:BQ65) -> #NUM! | BY65: =STDEV(D65:BQ65) -> #DIV/0! | BZ65: =((BY65*100)/CB65) -> #DIV/0! | CA65: =VAR(D65:BQ65) -> #DIV/0! | CB65: =AVERAGE(D65:BQ65) -> #DIV/0! | CC65: =_xlfn.PERCENTILE.INC(D65:BQ65,0.95) -> #NUM! | CD65: =_xlfn.PERCENTILE.INC(D65:BQ65,0.99) -> #NUM!
A66: Dibenzofuran | B66: SVOC | C66: mg/kg | D66: 0.21 | E66: 0.17 | F66: 0.07 | G66: 0.49 | H66: 0.18 | I66: < 0.2 | J66: < 0.2 | K66: < 0.2 | L66: < 0.2 | M66: < 0.2 | N66: 0.2 | O66: < 0.2 | P66: < 0.2 | Q66: < 0.2 | R66: < 0.2 | S66: < 0.2 | T66: < 0.2 | U66: < 0.2 | V66: < 0.2 | W66: < 0.2 | X66: < 0.2 | Y66: < 0.2 | Z66: < 0.2 | AA66: < 0.2 | AB66: < 0.2 | AC66: < 0.2 | AD66: < 0.2 | AE66: < 0.2 | AF66: < 0.2 | AG66: < 0.2 | AH66: < 0.2 | AI66: < 0.2 | AJ66: < 0.2 | AK66: < 0.2 | AL66: < 0.2 | AM66: < 0.2 | AN66: < 0.2 | AO66: < 0.2 | AP66: < 0.2 | AQ66: < 0.2 | AR66: < 0.2 | AS66: < 0.2 | AT66: < 0.2 | AU66: < 0.2 | AV66: < 0.2 | AW66: < 0.2 | AX66: < 0.2 | AY66: < 0.2 | AZ66: < 0.2 | BA66: < 0.2 | BB66: < 0.2 | BC66: < 0.2 | BD66: < 0.2 | BE66: < 0.2 | BF66: < 0.2 | BG66: < 0.2 | BH66: < 0.2 | BI66: < 0.2 | BJ66: < 0.2 | BK66: < 0.2 | BL66: < 0.2 | BM66: < 0.2 | BN66: 0.6 | BO66: < 0.2 | BP66: < 0.2 | BQ66: < 0.2 | BS66: 66 | BT66: 60 | BU66: =IFERROR(BT66/BS66,"") -> 0.90909091 | BV66: =MAX(D66:BQ66) -> 0.6 | BW66: =MIN(D66:BQ66) -> 0.07 | BX66: =MEDIAN(D66:BQ66) -> 0.2 | BY66: =STDEV(D66:BQ66) -> 0.19311975 | BZ66: =((BY66*100)/CB66) -> 70.408242 | CA66: =VAR(D66:BQ66) -> 0.037295238 | CB66: =AVERAGE(D66:BQ66) -> 0.27428571 | CC66: =_xlfn.PERCENTILE.INC(D66:BQ66,0.95) -> 0.567 | CD66: =_xlfn.PERCENTILE.INC(D66:BQ66,0.99) -> 0.5934
A67: 2,3,5,6-Tetrachlorophenol | B67: SVOC | C67: mg/kg | D67: <0.01 | E67: <0.01 | F67: <0.01 | G67: 0.02 | H67: <0.01 | BS67: 5 | BT67: 4 | BU67: =IFERROR(BT67/BS67,"") -> 0.8 | BV67: =MAX(D67:BQ67) -> 0.02 | BW67: =MIN(D67:BQ67) -> 0.02 | BX67: =MEDIAN(D67:BQ67) -> 0.02 | BY67: =STDEV(D67:BQ67) -> #DIV/0! | BZ67: =((BY67*100)/CB67) -> #DIV/0! | CA67: =VAR(D67:BQ67) -> #DIV/0! | CB67: =AVERAGE(D67:BQ67) -> 0.02 | CC67: =_xlfn.PERCENTILE.INC(D67:BQ67,0.95) -> 0.02 | CD67: =_xlfn.PERCENTILE.INC(D67:BQ67,0.99) -> 0.02
A68: 2,3,4,6-Tetrachlorophenol | B68: SVOC | C68: mg/kg | D68: 0.02 | E68: 0.02 | F68: 0.01 | G68: 0.04 | H68: <0.01 | BS68: 5 | BT68: 1 | BU68: =IFERROR(BT68/BS68,"") -> 0.2 | BV68: =MAX(D68:BQ68) -> 0.04 | BW68: =MIN(D68:BQ68) -> 0.01 | BX68: =MEDIAN(D68:BQ68) -> 0.02 | BY68: =STDEV(D68:BQ68) -> 0.012583057 | BZ68: =((BY68*100)/CB68) -> 55.9247 | CA68: =VAR(D68:BQ68) -> 0.00015833333 | CB68: =AVERAGE(D68:BQ68) -> 0.0225 | CC68: =_xlfn.PERCENTILE.INC(D68:BQ68,0.95) -> 0.037 | CD68: =_xlfn.PERCENTILE.INC(D68:BQ68,0.99) -> 0.0394
A69: Diethyl phthalate | B69: SVOC | C69: mg/kg | D69: <0.01 | E69: <0.01 | F69: <0.01 | G69: <0.01 | H69: <0.01 | I69: < 0.2 | J69: < 0.2 | K69: < 0.2 | L69: < 0.2 | M69: < 0.2 | N69: < 0.2 | O69: < 0.2 | P69: < 0.2 | Q69: < 0.2 | R69: < 0.2 | S69: < 0.2 | T69: < 0.2 | U69: < 0.2 | V69: < 0.2 | W69: < 0.2 | X69: < 0.2 | Y69: < 0.2 | Z69: < 0.2 | AA69: < 0.2 | AB69: < 0.2 | AC69: < 0.2 | AD69: < 0.2 | AE69: < 0.2 | AF69: < 0.2 | AG69: < 0.2 | AH69: < 0.2 | AI69: < 0.2 | AJ69: < 0.2 | AK69: < 0.2 | AL69: < 0.2 | AM69: < 0.2 | AN69: < 0.2 | AO69: < 0.2 | AP69: < 0.2 | AQ69: < 0.2 | AR69: < 0.2 | AS69: < 0.2 | AT69: < 0.2 | AU69: < 0.2 | AV69: < 0.2 | AW69: < 0.2 | AX69: < 0.2 | AY69: < 0.2 | AZ69: < 0.2 | BA69: < 0.2 | BB69: < 0.2 | BC69: < 0.2 | BD69: < 0.2 | BE69: < 0.2 | BF69: < 0.2 | BG69: < 0.2 | BH69: < 0.2 | BI69: < 0.2 | BJ69: < 0.2 | BK69: < 0.2 | BL69: < 0.2 | BM69: < 0.2 | BN69: < 0.2 | BO69: < 0.2 | BP69: < 0.2 | BQ69: < 0.2 | BS69: 66 | BT69: 66 | BU69: =IFERROR(BT69/BS69,"") -> 1 | BV69: =MAX(D69:BQ69) -> 0 | BW69: =MIN(D69:BQ69) -> 0 | BX69: =MEDIAN(D69:BQ69) -> #NUM! | BY69: =STDEV(D69:BQ69) -> #DIV/0! | BZ69: =((BY69*100)/CB69) -> #DIV/0! | CA69: =VAR(D69:BQ69) -> #DIV/0! | CB69: =AVERAGE(D69:BQ69) -> #DIV/0! | CC69: =_xlfn.PERCENTILE.INC(D69:BQ69,0.95) -> #NUM! | CD69: =_xlfn.PERCENTILE.INC(D69:BQ69,0.99) -> #NUM!
A70: 1-chloro-4-phenoxybenzene | B70: SVOC | C70: mg/kg | D70: <0.01 | E70: <0.01 | F70: <0.01 | G70: <0.01 | H70: <0.01 | BS70: 5 | BT70: 5 | BU70: =IFERROR(BT70/BS70,"") -> 1 | BV70: =MAX(D70:BQ70) -> 0 | BW70: =MIN(D70:BQ70) -> 0 | BX70: =MEDIAN(D70:BQ70) -> #NUM! | BY70: =STDEV(D70:BQ70) -> #DIV/0! | BZ70: =((BY70*100)/CB70) -> #DIV/0! | CA70: =VAR(D70:BQ70) -> #DIV/0! | CB70: =AVERAGE(D70:BQ70) -> #DIV/0! | CC70: =_xlfn.PERCENTILE.INC(D70:BQ70,0.95) -> #NUM! | CD70: =_xlfn.PERCENTILE.INC(D70:BQ70,0.99) -> #NUM!
A71: Fluorene | B71: SVOC | C71: mg/kg | D71: 0.2 | E71: 0.2 | F71: 0.08 | G71: 0.58 | H71: 0.2 | I71: < 0.05 | J71: 0.33 | K71: < 0.05 | L71: 0.26 | M71: < 0.05 | N71: 0.26 | O71: 0.31 | P71: < 0.05 | Q71: < 0.05 | R71: 0.41 | S71: < 0.05 | T71: < 0.05 | U71: < 0.05 | V71: < 0.05 | W71: 0.43 | X71: < 0.05 | Y71: 0.22 | Z71: < 0.05 | AA71: 0.34 | AB71: < 0.05 | AC71: 0.27 | AD71: < 0.05 | AE71: < 0.05 | AF71: < 0.05 | AG71: 0.3 | AH71: < 0.05 | AI71: < 0.05 | AJ71: < 0.05 | AK71: < 0.05 | AL71: < 0.05 | AM71: < 0.05 | AN71: < 0.05 | AO71: < 0.05 | AP71: < 0.05 | AQ71: < 0.05 | AR71: < 0.05 | AS71: < 0.05 | AT71: < 0.05 | AU71: < 0.05 | AV71: < 0.05 | AW71: < 0.05 | AX71: < 0.05 | AY71: < 0.05 | AZ71: < 0.05 | BA71: < 0.05 | BB71: < 0.05 | BC71: < 0.05 | BD71: < 0.05 | BE71: < 0.05 | BF71: < 0.05 | BG71: < 0.05 | BH71: < 0.05 | BI71: < 0.05 | BJ71: < 0.05 | BK71: < 0.05 | BL71: < 0.05 | BM71: < 0.05 | BN71: 0.89 | BO71: 0.47 | BP71: < 0.05 | BQ71: < 0.05 | BS71: 66 | BT71: 59 | BU71: =IFERROR(BT71/BS71,"") -> 0.89393939 | BV71: =MAX(D71:BQ71) -> 0.89 | BW71: =MIN(D71:BQ71) -> 0.08 | BX71: =MEDIAN(D71:BQ71) -> 0.3 | BY71: =STDEV(D71:BQ71) -> 0.18558136 | BZ71: =((BY71*100)/CB71) -> 54.867533 | CA71: =VAR(D71:BQ71) -> 0.034440441 | CB71: =AVERAGE(D71:BQ71) -> 0.33823529 | CC71: =_xlfn.PERCENTILE.INC(D71:BQ71,0.95) -> 0.642 | CD71: =_xlfn.PERCENTILE.INC(D71:BQ71,0.99) -> 0.8404
A72: 4-Nitroaniline | B72: SVOC | C72: mg/kg | D72: <0.01 | E72: <0.01 | F72: <0.01 | G72: <0.01 | H72: <0.01 | BS72: 5 | BT72: 5 | BU72: =IFERROR(BT72/BS72,"") -> 1 | BV72: =MAX(D72:BQ72) -> 0 | BW72: =MIN(D72:BQ72) -> 0 | BX72: =MEDIAN(D72:BQ72) -> #NUM! | BY72: =STDEV(D72:BQ72) -> #DIV/0! | BZ72: =((BY72*100)/CB72) -> #DIV/0! | CA72: =VAR(D72:BQ72) -> #DIV/0! | CB72: =AVERAGE(D72:BQ72) -> #DIV/0! | CC72: =_xlfn.PERCENTILE.INC(D72:BQ72,0.95) -> #NUM! | CD72: =_xlfn.PERCENTILE.INC(D72:BQ72,0.99) -> #NUM!
A73: Dinitro-o-cresol | B73: SVOC | C73: mg/kg | D73: <0.01 | E73: <0.01 | F73: <0.01 | G73: <0.01 | H73: <0.01 | BS73: 5 | BT73: 5 | BU73: =IFERROR(BT73/BS73,"") -> 1 | BV73: =MAX(D73:BQ73) -> 0 | BW73: =MIN(D73:BQ73) -> 0 | BX73: =MEDIAN(D73:BQ73) -> #NUM! | BY73: =STDEV(D73:BQ73) -> #DIV/0! | BZ73: =((BY73*100)/CB73) -> #DIV/0! | CA73: =VAR(D73:BQ73) -> #DIV/0! | CB73: =AVERAGE(D73:BQ73) -> #DIV/0! | CC73: =_xlfn.PERCENTILE.INC(D73:BQ73,0.95) -> #NUM! | CD73: =_xlfn.PERCENTILE.INC(D73:BQ73,0.99) -> #NUM!
A74: Diphenylamine | B74: SVOC | C74: mg/kg | D74: <0.01 | E74: <0.01 | F74: <0.01 | G74: 0.02 | H74: <0.01 | BS74: 5 | BT74: 4 | BU74: =IFERROR(BT74/BS74,"") -> 0.8 | BV74: =MAX(D74:BQ74) -> 0.02 | BW74: =MIN(D74:BQ74) -> 0.02 | BX74: =MEDIAN(D74:BQ74) -> 0.02 | BY74: =STDEV(D74:BQ74) -> #DIV/0! | BZ74: =((BY74*100)/CB74) -> #DIV/0! | CA74: =VAR(D74:BQ74) -> #DIV/0! | CB74: =AVERAGE(D74:BQ74) -> 0.02 | CC74: =_xlfn.PERCENTILE.INC(D74:BQ74,0.95) -> 0.02 | CD74: =_xlfn.PERCENTILE.INC(D74:BQ74,0.99) -> 0.02
A75: Azobenzene | B75: SVOC | C75: mg/kg | D75: <0.01 | E75: <0.01 | F75: <0.01 | G75: <0.01 | H75: <0.01 | I75: < 0.3 | J75: < 0.3 | K75: < 0.3 | L75: < 0.3 | M75: < 0.3 | N75: < 0.3 | O75: < 0.3 | P75: < 0.3 | Q75: < 0.3 | R75: < 0.3 | S75: < 0.3 | T75: < 0.3 | U75: < 0.3 | V75: < 0.3 | W75: < 0.3 | X75: < 0.3 | Y75: < 0.3 | Z75: < 0.3 | AA75: < 0.3 | AB75: < 0.3 | AC75: < 0.3 | AD75: < 0.3 | AE75: < 0.3 | AF75: < 0.3 | AG75: < 0.3 | AH75: < 0.3 | AI75: < 0.3 | AJ75: < 0.3 | AK75: < 0.3 | AL75: < 0.3 | AM75: < 0.3 | AN75: < 0.3 | AO75: < 0.3 | AP75: < 0.3 | AQ75: < 0.3 | AR75: < 0.3 | AS75: < 0.3 | AT75: < 0.3 | AU75: < 0.3 | AV75: < 0.3 | AW75: < 0.3 | AX75: < 0.3 | AY75: < 0.3 | AZ75: < 0.3 | BA75: < 0.3 | BB75: < 0.3 | BC75: < 0.3 | BD75: < 0.3 | BE75: < 0.3 | BF75: < 0.3 | BG75: < 0.3 | BH75: < 0.3 | BI75: < 0.3 | BJ75: < 0.3 | BK75: < 0.3 | BL75: < 0.3 | BM75: < 0.3 | BN75: < 0.3 | BO75: < 0.3 | BP75: < 0.3 | BQ75: < 0.3 | BS75: 66 | BT75: 66 | BU75: =IFERROR(BT75/BS75,"") -> 1 | BV75: =MAX(D75:BQ75) -> 0 | BW75: =MIN(D75:BQ75) -> 0 | BX75: =MEDIAN(D75:BQ75) -> #NUM! | BY75: =STDEV(D75:BQ75) -> #DIV/0! | BZ75: =((BY75*100)/CB75) -> #DIV/0! | CA75: =VAR(D75:BQ75) -> #DIV/0! | CB75: =AVERAGE(D75:BQ75) -> #DIV/0! | CC75: =_xlfn.PERCENTILE.INC(D75:BQ75,0.95) -> #NUM! | CD75: =_xlfn.PERCENTILE.INC(D75:BQ75,0.99) -> #NUM!
A76: 1-bromo-4-phenoxybenzene | B76: SVOC | C76: mg/kg | D76: <0.01 | E76: <0.01 | F76: <0.01 | G76: <0.01 | H76: <0.01 | BS76: 5 | BT76: 5 | BU76: =IFERROR(BT76/BS76,"") -> 1 | BV76: =MAX(D76:BQ76) -> 0 | BW76: =MIN(D76:BQ76) -> 0 | BX76: =MEDIAN(D76:BQ76) -> #NUM! | BY76: =STDEV(D76:BQ76) -> #DIV/0! | BZ76: =((BY76*100)/CB76) -> #DIV/0! | CA76: =VAR(D76:BQ76) -> #DIV/0! | CB76: =AVERAGE(D76:BQ76) -> #DIV/0! | CC76: =_xlfn.PERCENTILE.INC(D76:BQ76,0.95) -> #NUM! | CD76: =_xlfn.PERCENTILE.INC(D76:BQ76,0.99) -> #NUM!
A77: Hexachlorobenzene | B77: SVOC | C77: mg/kg | D77: <0.01 | E77: <0.01 | F77: <0.01 | G77: <0.01 | H77: <0.01 | BS77: 5 | BT77: 5 | BU77: =IFERROR(BT77/BS77,"") -> 1 | BV77: =MAX(D77:BQ77) -> 0 | BW77: =MIN(D77:BQ77) -> 0 | BX77: =MEDIAN(D77:BQ77) -> #NUM! | BY77: =STDEV(D77:BQ77) -> #DIV/0! | BZ77: =((BY77*100)/CB77) -> #DIV/0! | CA77: =VAR(D77:BQ77) -> #DIV/0! | CB77: =AVERAGE(D77:BQ77) -> #DIV/0! | CC77: =_xlfn.PERCENTILE.INC(D77:BQ77,0.95) -> #NUM! | CD77: =_xlfn.PERCENTILE.INC(D77:BQ77,0.99) -> #NUM!
A78: Pentachlorophenol | B78: SVOC | C78: mg/kg | D78: 0.31 | E78: 0.39 | F78: <0.01 | G78: <0.01 | H78: <0.01 | BS78: 5 | BT78: 3 | BU78: =IFERROR(BT78/BS78,"") -> 0.6 | BV78: =MAX(D78:BQ78) -> 0.39 | BW78: =MIN(D78:BQ78) -> 0.31 | BX78: =MEDIAN(D78:BQ78) -> 0.35 | BY78: =STDEV(D78:BQ78) -> 0.056568542 | BZ78: =((BY78*100)/CB78) -> 16.162441 | CA78: =VAR(D78:BQ78) -> 0.0032 | CB78: =AVERAGE(D78:BQ78) -> 0.35 | CC78: =_xlfn.PERCENTILE.INC(D78:BQ78,0.95) -> 0.386 | CD78: =_xlfn.PERCENTILE.INC(D78:BQ78,0.99) -> 0.3892
A79: Phenanthrene | B79: SVOC | C79: mg/kg | D79: 1.8 | E79: 1.81 | F79: 0.61 | G79: 4.84 | H79: 1.81 | I79: 1.2 | J79: 1.8 | K79: 0.47 | L79: 1.8 | M79: 0.91 | N79: 2.2 | O79: 2.1 | P79: 0.4 | Q79: 1.2 | R79: 2.9 | S79: < 0.05 | T79: 1.4 | U79: < 0.05 | V79: < 0.05 | W79: 2.8 | X79: 0.63 | Y79: 1.2 | Z79: 0.97 | AA79: 2.2 | AB79: 0.87 | AC79: 2.7 | AD79: 1.5 | AE79: 1.6 | AF79: 1.3 | AG79: 2.9 | AH79: 0.72 | AI79: 0.71 | AJ79: 0.75 | AK79: 1.3 | AL79: 0.79 | AM79: 1.4 | AN79: 0.56 | AO79: 0.81 | AP79: 1.6 | AQ79: 0.8 | AR79: 0.59 | AS79: < 0.05 | AT79: 0.81 | AU79: 1.6 | AV79: 1.1 | AW79: 0.73 | AX79: 0.6 | AY79: 0.46 | AZ79: 0.4 | BA79: 1.9 | BB79: 0.99 | BC79: 0.39 | BD79: 1.7 | BE79: 0.55 | BF79: < 0.05 | BG79: < 0.05 | BH79: 2.2 | BI79: 0.47 | BJ79: < 0.05 | BK79: 1 | BL79: < 0.05 | BM79: 1.5 | BN79: 6.6 | BO79: 2.3 | BP79: 3 | BQ79: 0.99 | BS79: 66 | BT79: 56 | BU79: =IFERROR(BT79/BS79,"") -> 0.84848485 | BV79: =MAX(D79:BQ79) -> 6.6 | BW79: =MIN(D79:BQ79) -> 0.39 | BX79: =MEDIAN(D79:BQ79) -> 1.2 | BY79: =STDEV(D79:BQ79) -> 1.0927464 | BZ79: =((BY79*100)/CB79) -> 74.353929 | CA79: =VAR(D79:BQ79) -> 1.1940946 | CB79: =AVERAGE(D79:BQ79) -> 1.4696552 | CC79: =_xlfn.PERCENTILE.INC(D79:BQ79,0.95) -> 2.915 | CD79: =_xlfn.PERCENTILE.INC(D79:BQ79,0.99) -> 5.5968
A80: Anthracene | B80: SVOC | C80: mg/kg | D80: 0.27 | E80: 0.51 | F80: 0.07 | G80: 1.61 | H80: 0.28 | I80: 0.27 | J80: 0.43 | K80: < 0.05 | L80: 0.38 | M80: 0.56 | N80: 0.37 | O80: 0.31 | P80: < 0.05 | Q80: 0.25 | R80: 0.63 | S80: < 0.05 | T80: < 0.05 | U80: < 0.05 | V80: < 0.05 | W80: 0.39 | X80: < 0.05 | Y80: 0.35 | Z80: 0.15 | AA80: 0.41 | AB80: 0.18 | AC80: 0.42 | AD80: 0.25 | AE80: 0.28 | AF80: < 0.05 | AG80: 0.42 | AH80: < 0.05 | AI80: < 0.05 | AJ80: < 0.05 | AK80: 0.2 | AL80: < 0.05 | AM80: 0.25 | AN80: < 0.05 | AO80: < 0.05 | AP80: 0.32 | AQ80: 0.17 | AR80: < 0.05 | AS80: < 0.05 | AT80: < 0.05 | AU80: 0.26 | AV80: 0.24 | AW80: < 0.05 | AX80: < 0.05 | AY80: < 0.05 | AZ80: < 0.05 | BA80: 0.38 | BB80: < 0.05 | BC80: < 0.05 | BD80: 0.33 | BE80: < 0.05 | BF80: < 0.05 | BG80: < 0.05 | BH80: 5.4 | BI80: < 0.05 | BJ80: < 0.05 | BK80: < 0.05 | BL80: < 0.05 | BM80: 0.25 | BN80: 1.2 | BO80: 0.36 | BP80: 0.64 | BQ80: 0.23 | BS80: 66 | BT80: 56 | BU80: =IFERROR(BT80/BS80,"") -> 0.84848485 | BV80: =MAX(D80:BQ80) -> 5.4 | BW80: =MIN(D80:BQ80) -> 0.07 | BX80: =MEDIAN(D80:BQ80) -> 0.325 | BY80: =STDEV(D80:BQ80) -> 0.88197668 | BZ80: =((BY80*100)/CB80) -> 166.93565 | CA80: =VAR(D80:BQ80) -> 0.77788286 | CB80: =AVERAGE(D80:BQ80) -> 0.52833333 | CC80: =_xlfn.PERCENTILE.INC(D80:BQ80,0.95) -> 1.3025 | CD80: =_xlfn.PERCENTILE.INC(D80:BQ80,0.99) -> 4.0735
A81: Carbazole | B81: SVOC | C81: mg/kg | D81: 0.14 | E81: 0.15 | F81: 0.04 | G81: 0.34 | H81: 0.12 | I81: < 0.3 | J81: < 0.3 | K81: < 0.3 | L81: < 0.3 | M81: < 0.3 | N81: < 0.3 | O81: < 0.3 | P81: < 0.3 | Q81: < 0.3 | R81: < 0.3 | S81: < 0.3 | T81: < 0.3 | U81: < 0.3 | V81: < 0.3 | W81: < 0.3 | X81: < 0.3 | Y81: < 0.3 | Z81: < 0.3 | AA81: < 0.3 | AB81: < 0.3 | AC81: < 0.3 | AD81: < 0.3 | AE81: < 0.3 | AF81: < 0.3 | AG81: < 0.3 | AH81: < 0.3 | AI81: < 0.3 | AJ81: < 0.3 | AK81: < 0.3 | AL81: < 0.3 | AM81: < 0.3 | AN81: < 0.3 | AO81: < 0.3 | AP81: < 0.3 | AQ81: < 0.3 | AR81: < 0.3 | AS81: < 0.3 | AT81: < 0.3 | AU81: < 0.3 | AV81: < 0.3 | AW81: < 0.3 | AX81: < 0.3 | AY81: < 0.3 | AZ81: < 0.3 | BA81: < 0.3 | BB81: < 0.3 | BC81: < 0.3 | BD81: < 0.3 | BE81: < 0.3 | BF81: < 0.3 | BG81: < 0.3 | BH81: < 0.3 | BI81: < 0.3 | BJ81: < 0.3 | BK81: < 0.3 | BL81: < 0.3 | BM81: < 0.3 | BN81: < 0.3 | BO81: < 0.3 | BP81: < 0.3 | BQ81: < 0.3 | BS81: 66 | BT81: 61 | BU81: =IFERROR(BT81/BS81,"") -> 0.92424242 | BV81: =MAX(D81:BQ81) -> 0.34 | BW81: =MIN(D81:BQ81) -> 0.04 | BX81: =MEDIAN(D81:BQ81) -> 0.14 | BY81: =STDEV(D81:BQ81) -> 0.11054411 | BZ81: =((BY81*100)/CB81) -> 69.964626 | CA81: =VAR(D81:BQ81) -> 0.01222 | CB81: =AVERAGE(D81:BQ81) -> 0.158 | CC81: =_xlfn.PERCENTILE.INC(D81:BQ81,0.95) -> 0.302 | CD81: =_xlfn.PERCENTILE.INC(D81:BQ81,0.99) -> 0.3324
A82: Dibutyl phthalate | B82: SVOC | C82: mg/kg | D82: <0.01 | E82: <0.01 | F82: <0.01 | G82: <0.01 | H82: <0.01 | I82: < 0.2 | J82: < 0.2 | K82: < 0.2 | L82: 1.8 | M82: < 0.2 | N82: < 0.2 | O82: < 0.2 | P82: < 0.2 | Q82: 1 | R82: 1.5 | S82: < 0.2 | T82: < 0.2 | U82: < 0.2 | V82: < 0.2 | W82: < 0.2 | X82: < 0.2 | Y82: < 0.2 | Z82: 1 | AA82: 2 | AB82: 1.4 | AC82: < 0.2 | AD82: < 0.2 | AE82: < 0.2 | AF82: < 0.2 | AG82: < 0.2 | AH82: < 0.2 | AI82: < 0.2 | AJ82: < 0.2 | AK82: 1.2 | AL82: 2.1 | AM82: < 0.2 | AN82: < 0.2 | AO82: < 0.2 | AP82: < 0.2 | AQ82: 0.7 | AR82: 0.6 | AS82: < 0.2 | AT82: < 0.2 | AU82: 2.9 | AV82: < 0.2 | AW82: < 0.2 | AX82: < 0.2 | AY82: < 0.2 | AZ82: < 0.2 | BA82: < 0.2 | BB82: < 0.2 | BC82: 0.5 | BD82: < 0.2 | BE82: < 0.2 | BF82: < 0.2 | BG82: < 0.2 | BH82: < 0.2 | BI82: < 0.2 | BJ82: < 0.2 | BK82: 1.1 | BL82: < 0.2 | BM82: 1.9 | BN82: 6.4 | BO82: < 0.2 | BP82: 2.4 | BQ82: 0.6 | BS82: 66 | BT82: 62 | BU82: =IFERROR(BT82/BS82,"") -> 0.93939394 | BV82: =MAX(D82:BQ82) -> 6.4 | BW82: =MIN(D82:BQ82) -> 0.5 | BX82: =MEDIAN(D82:BQ82) -> 1.4 | BY82: =STDEV(D82:BQ82) -> 1.3896413 | BZ82: =((BY82*100)/CB82) -> 81.181794 | CA82: =VAR(D82:BQ82) -> 1.9311029 | CB82: =AVERAGE(D82:BQ82) -> 1.7117647 | CC82: =_xlfn.PERCENTILE.INC(D82:BQ82,0.95) -> 3.6 | CD82: =_xlfn.PERCENTILE.INC(D82:BQ82,0.99) -> 5.84
A83: Fluoranthene | B83: SVOC | C83: mg/kg | D83: 3.39 | E83: 2.21 | F83: 0.65 | G83: 4.83 | H83: 2.12 | I83: 1.7 | J83: 2.4 | K83: 0.57 | L83: 2.6 | M83: 0.99 | N83: 2.5 | O83: 2 | P83: 0.44 | Q83: 1.4 | R83: 2.8 | S83: < 0.05 | T83: 1.2 | U83: < 0.05 | V83: < 0.05 | W83: 2.7 | X83: 0.73 | Y83: 1.6 | Z83: 1.3 | AA83: 3.5 | AB83: 0.89 | AC83: 3.4 | AD83: 2.1 | AE83: 2 | AF83: 1.3 | AG83: 3.4 | AH83: 0.84 | AI83: 0.81 | AJ83: 0.84 | AK83: 1.4 | AL83: 0.87 | AM83: 2 | AN83: 0.71 | AO83: 0.99 | AP83: 2.1 | AQ83: 0.95 | AR83: 0.62 | AS83: < 0.05 | AT83: 0.81 | AU83: 1.8 | AV83: 1.4 | AW83: 0.91 | AX83: 0.83 | AY83: 0.53 | AZ83: 0.6 | BA83: 2.4 | BB83: 0.92 | BC83: 0.41 | BD83: 1.9 | BE83: 0.68 | BF83: < 0.05 | BG83: < 0.05 | BH83: 4.4 | BI83: 0.54 | BJ83: < 0.05 | BK83: 1.3 | BL83: < 0.05 | BM83: 1.7 | BN83: 6.7 | BO83: 2.2 | BP83: 3.7 | BQ83: 1.3 | BS83: 66 | BT83: 56 | BU83: =IFERROR(BT83/BS83,"") -> 0.84848485 | BV83: =MAX(D83:BQ83) -> 6.7 | BW83: =MIN(D83:BQ83) -> 0.41 | BX83: =MEDIAN(D83:BQ83) -> 1.4 | BY83: =STDEV(D83:BQ83) -> 1.2323555 | BZ83: =((BY83*100)/CB83) -> 70.157657 | CA83: =VAR(D83:BQ83) -> 1.5187002 | CB83: =AVERAGE(D83:BQ83) -> 1.7565517 | CC83: =_xlfn.PERCENTILE.INC(D83:BQ83,0.95) -> 3.805 | CD83: =_xlfn.PERCENTILE.INC(D83:BQ83,0.99) -> 5.6341
A84: Pyrene | B84: SVOC | C84: mg/kg | D84: 2.39 | E84: 1.48 | F84: 0.45 | G84: 3.07 | H84: 1.46 | I84: 1.2 | J84: 1.8 | K84: 0.42 | L84: 1.9 | M84: 0.64 | N84: 1.7 | O84: 1.4 | P84: 0.3 | Q84: 0.99 | R84: 2.2 | S84: < 0.05 | T84: 0.83 | U84: < 0.05 | V84: < 0.05 | W84: 1.8 | X84: 0.54 | Y84: 1.2 | Z84: 0.97 | AA84: 2.7 | AB84: 0.74 | AC84: 2.4 | AD84: 1.6 | AE84: 1.3 | AF84: 0.88 | AG84: 2.3 | AH84: 0.55 | AI84: 0.58 | AJ84: 0.6 | AK84: 0.87 | AL84: 0.56 | AM84: 1.4 | AN84: 0.51 | AO84: 0.73 | AP84: 1.5 | AQ84: 0.76 | AR84: 0.44 | AS84: < 0.05 | AT84: 0.58 | AU84: 1.2 | AV84: 1 | AW84: 0.64 | AX84: 0.58 | AY84: 0.36 | AZ84: 0.4 | BA84: 1.6 | BB84: 0.67 | BC84: 0.37 | BD84: 1.3 | BE84: 0.45 | BF84: < 0.05 | BG84: < 0.05 | BH84: 2.9 | BI84: 0.41 | BJ84: < 0.05 | BK84: 0.85 | BL84: < 0.05 | BM84: 1.1 | BN84: 4.5 | BO84: 1.6 | BP84: 2.6 | BQ84: 1 | BS84: 66 | BT84: 56 | BU84: =IFERROR(BT84/BS84,"") -> 0.84848485 | BV84: =MAX(D84:BQ84) -> 4.5 | BW84: =MIN(D84:BQ84) -> 0.3 | BX84: =MEDIAN(D84:BQ84) -> 0.995 | BY84: =STDEV(D84:BQ84) -> 0.8378064 | BZ84: =((BY84*100)/CB84) -> 68.181242 | CA84: =VAR(D84:BQ84) -> 0.70191957 | CB84: =AVERAGE(D84:BQ84) -> 1.2287931 | CC84: =_xlfn.PERCENTILE.INC(D84:BQ84,0.95) -> 2.73 | CD84: =_xlfn.PERCENTILE.INC(D84:BQ84,0.99) -> 3.6849
A85: Butyl benzyl phthalate | B85: SVOC | C85: mg/kg | D85: <0.01 | E85: <0.01 | F85: <0.01 | G85: <0.01 | H85: <0.01 | I85: < 0.3 | J85: < 0.3 | K85: < 0.3 | L85: < 0.3 | M85: < 0.3 | N85: < 0.3 | O85: < 0.3 | P85: < 0.3 | Q85: < 0.3 | R85: < 0.3 | S85: < 0.3 | T85: < 0.3 | U85: < 0.3 | V85: < 0.3 | W85: < 0.3 | X85: < 0.3 | Y85: < 0.3 | Z85: < 0.3 | AA85: < 0.3 | AB85: < 0.3 | AC85: < 0.3 | AD85: < 0.3 | AE85: < 0.3 | AF85: < 0.3 | AG85: < 0.3 | AH85: < 0.3 | AI85: < 0.3 | AJ85: < 0.3 | AK85: < 0.3 | AL85: < 0.3 | AM85: < 0.3 | AN85: < 0.3 | AO85: < 0.3 | AP85: < 0.3 | AQ85: < 0.3 | AR85: < 0.3 | AS85: < 0.3 | AT85: < 0.3 | AU85: < 0.3 | AV85: < 0.3 | AW85: < 0.3 | AX85: < 0.3 | AY85: < 0.3 | AZ85: < 0.3 | BA85: < 0.3 | BB85: < 0.3 | BC85: < 0.3 | BD85: < 0.3 | BE85: < 0.3 | BF85: < 0.3 | BG85: < 0.3 | BH85: < 0.3 | BI85: < 0.3 | BJ85: < 0.3 | BK85: < 0.3 | BL85: < 0.3 | BM85: < 0.3 | BN85: < 0.3 | BO85: < 0.3 | BP85: < 0.3 | BQ85: < 0.3 | BS85: 66 | BT85: 66 | BU85: =IFERROR(BT85/BS85,"") -> 1 | BV85: =MAX(D85:BQ85) -> 0 | BW85: =MIN(D85:BQ85) -> 0 | BX85: =MEDIAN(D85:BQ85) -> #NUM! | BY85: =STDEV(D85:BQ85) -> #DIV/0! | BZ85: =((BY85*100)/CB85) -> #DIV/0! | CA85: =VAR(D85:BQ85) -> #DIV/0! | CB85: =AVERAGE(D85:BQ85) -> #DIV/0! | CC85: =_xlfn.PERCENTILE.INC(D85:BQ85,0.95) -> #NUM! | CD85: =_xlfn.PERCENTILE.INC(D85:BQ85,0.99) -> #NUM!
A86: Bis-2-ethylhexyladipate | B86: SVOC | C86: mg/kg | D86: <0.01 | E86: <0.01 | F86: <0.01 | G86: <0.01 | H86: <0.01 | BS86: 5 | BT86: 5 | BU86: =IFERROR(BT86/BS86,"") -> 1 | BV86: =MAX(D86:BQ86) -> 0 | BW86: =MIN(D86:BQ86) -> 0 | BX86: =MEDIAN(D86:BQ86) -> #NUM! | BY86: =STDEV(D86:BQ86) -> #DIV/0! | BZ86: =((BY86*100)/CB86) -> #DIV/0! | CA86: =VAR(D86:BQ86) -> #DIV/0! | CB86: =AVERAGE(D86:BQ86) -> #DIV/0! | CC86: =_xlfn.PERCENTILE.INC(D86:BQ86,0.95) -> #NUM! | CD86: =_xlfn.PERCENTILE.INC(D86:BQ86,0.99) -> #NUM!
A87: Diisooctyl phthalate | B87: SVOC | C87: mg/kg | D87: <0.01 | E87: <0.01 | F87: <0.01 | G87: <0.01 | H87: <0.01 | BS87: 5 | BT87: 5 | BU87: =IFERROR(BT87/BS87,"") -> 1 | BV87: =MAX(D87:BQ87) -> 0 | BW87: =MIN(D87:BQ87) -> 0 | BX87: =MEDIAN(D87:BQ87) -> #NUM! | BY87: =STDEV(D87:BQ87) -> #DIV/0! | BZ87: =((BY87*100)/CB87) -> #DIV/0! | CA87: =VAR(D87:BQ87) -> #DIV/0! | CB87: =AVERAGE(D87:BQ87) -> #DIV/0! | CC87: =_xlfn.PERCENTILE.INC(D87:BQ87,0.95) -> #NUM! | CD87: =_xlfn.PERCENTILE.INC(D87:BQ87,0.99) -> #NUM!
A88: Benzo(a)anthracene | B88: SVOC | C88: mg/kg | D88: 0.68 | E88: 0.44 | F88: 0.1 | G88: 0.72 | H88: 0.32 | I88: < 0.05 | J88: < 0.05 | K88: < 0.05 | L88: < 0.05 | M88: < 0.05 | N88: < 0.05 | O88: < 0.05 | P88: < 0.05 | Q88: 0.44 | R88: < 0.05 | S88: < 0.05 | T88: < 0.05 | U88: < 0.05 | V88: < 0.05 | W88: < 0.05 | X88: < 0.05 | Y88: < 0.05 | Z88: < 0.05 | AA88: < 0.05 | AB88: < 0.05 | AC88: < 0.05 | AD88: < 0.05 | AE88: < 0.05 | AF88: < 0.05 | AG88: < 0.05 | AH88: < 0.05 | AI88: < 0.05 | AJ88: < 0.05 | AK88: < 0.05 | AL88: < 0.05 | AM88: < 0.05 | AN88: < 0.05 | AO88: < 0.05 | AP88: < 0.05 | AQ88: < 0.05 | AR88: < 0.05 | AS88: < 0.05 | AT88: < 0.05 | AU88: < 0.05 | AV88: < 0.05 | AW88: < 0.05 | AX88: < 0.05 | AY88: < 0.05 | AZ88: < 0.05 | BA88: < 0.05 | BB88: < 0.05 | BC88: < 0.05 | BD88: < 0.05 | BE88: < 0.05 | BF88: < 0.05 | BG88: < 0.05 | BH88: 1.6 | BI88: < 0.05 | BJ88: < 0.05 | BK88: < 0.05 | BL88: < 0.05 | BM88: < 0.05 | BN88: < 0.05 | BO88: 0.39 | BP88: < 0.05 | BQ88: < 0.05 | BS88: 66 | BT88: 60 | BU88: =IFERROR(BT88/BS88,"") -> 0.90909091 | BV88: =MAX(D88:BQ88) -> 1.6 | BW88: =MIN(D88:BQ88) -> 0.1 | BX88: =MEDIAN(D88:BQ88) -> 0.44 | BY88: =STDEV(D88:BQ88) -> 0.45402761 | BZ88: =((BY88*100)/CB88) -> 77.446074 | CA88: =VAR(D88:BQ88) -> 0.20614107 | CB88: =AVERAGE(D88:BQ88) -> 0.58625 | CC88: =_xlfn.PERCENTILE.INC(D88:BQ88,0.95) -> 1.292 | CD88: =_xlfn.PERCENTILE.INC(D88:BQ88,0.99) -> 1.5384
A89: Chrysene | B89: SVOC | C89: mg/kg | D89: 0.57 | E89: 0.48 | F89: 0.08 | G89: 0.72 | H89: 0.28 | I89: < 0.05 | J89: < 0.05 | K89: < 0.05 | L89: < 0.05 | M89: < 0.05 | N89: < 0.05 | O89: < 0.05 | P89: < 0.05 | Q89: 0.31 | R89: < 0.05 | S89: < 0.05 | T89: < 0.05 | U89: < 0.05 | V89: < 0.05 | W89: < 0.05 | X89: < 0.05 | Y89: < 0.05 | Z89: < 0.05 | AA89: < 0.05 | AB89: < 0.05 | AC89: < 0.05 | AD89: < 0.05 | AE89: < 0.05 | AF89: < 0.05 | AG89: < 0.05 | AH89: < 0.05 | AI89: < 0.05 | AJ89: < 0.05 | AK89: < 0.05 | AL89: < 0.05 | AM89: < 0.05 | AN89: < 0.05 | AO89: < 0.05 | AP89: < 0.05 | AQ89: < 0.05 | AR89: < 0.05 | AS89: < 0.05 | AT89: < 0.05 | AU89: < 0.05 | AV89: < 0.05 | AW89: < 0.05 | AX89: < 0.05 | AY89: < 0.05 | AZ89: < 0.05 | BA89: < 0.05 | BB89: < 0.05 | BC89: < 0.05 | BD89: < 0.05 | BE89: < 0.05 | BF89: < 0.05 | BG89: < 0.05 | BH89: 1.5 | BI89: < 0.05 | BJ89: < 0.05 | BK89: < 0.05 | BL89: < 0.05 | BM89: < 0.05 | BN89: < 0.05 | BO89: 0.36 | BP89: < 0.05 | BQ89: < 0.05 | BS89: 66 | BT89: 60 | BU89: =IFERROR(BT89/BS89,"") -> 0.90909091 | BV89: =MAX(D89:BQ89) -> 1.5 | BW89: =MIN(D89:BQ89) -> 0.08 | BX89: =MEDIAN(D89:BQ89) -> 0.42 | BY89: =STDEV(D89:BQ89) -> 0.43473309 | BZ89: =((BY89*100)/CB89) -> 80.880574 | CA89: =VAR(D89:BQ89) -> 0.18899286 | CB89: =AVERAGE(D89:BQ89) -> 0.5375 | CC89: =_xlfn.PERCENTILE.INC(D89:BQ89,0.95) -> 1.227 | CD89: =_xlfn.PERCENTILE.INC(D89:BQ89,0.99) -> 1.4454
A90: Bis(2-ethylhexyl)phthalate | B90: SVOC | C90: mg/kg | D90: <0.01 | E90: <0.01 | F90: <0.01 | G90: <0.01 | H90: <0.01 | BS90: 5 | BT90: 5 | BU90: =IFERROR(BT90/BS90,"") -> 1 | BV90: =MAX(D90:BQ90) -> 0 | BW90: =MIN(D90:BQ90) -> 0 | BX90: =MEDIAN(D90:BQ90) -> #NUM! | BY90: =STDEV(D90:BQ90) -> #DIV/0! | BZ90: =((BY90*100)/CB90) -> #DIV/0! | CA90: =VAR(D90:BQ90) -> #DIV/0! | CB90: =AVERAGE(D90:BQ90) -> #DIV/0! | CC90: =_xlfn.PERCENTILE.INC(D90:BQ90,0.95) -> #NUM! | CD90: =_xlfn.PERCENTILE.INC(D90:BQ90,0.99) -> #NUM!
A91: Benzo(b)fluoranthene | B91: SVOC | C91: mg/kg | D91: 0.27 | E91: 0.22 | F91: 0.07 | G91: 0.37 | H91: 0.11 | I91: < 0.05 | J91: < 0.05 | K91: < 0.05 | L91: < 0.05 | M91: < 0.05 | N91: < 0.05 | O91: < 0.05 | P91: < 0.05 | Q91: < 0.05 | R91: < 0.05 | S91: < 0.05 | T91: < 0.05 | U91: < 0.05 | V91: < 0.05 | W91: < 0.05 | X91: < 0.05 | Y91: < 0.05 | Z91: < 0.05 | AA91: < 0.05 | AB91: < 0.05 | AC91: < 0.05 | AD91: < 0.05 | AE91: < 0.05 | AF91: < 0.05 | AG91: < 0.05 | AH91: < 0.05 | AI91: < 0.05 | AJ91: < 0.05 | AK91: < 0.05 | AL91: < 0.05 | AM91: < 0.05 | AN91: < 0.05 | AO91: < 0.05 | AP91: < 0.05 | AQ91: < 0.05 | AR91: < 0.05 | AS91: < 0.05 | AT91: < 0.05 | AU91: < 0.05 | AV91: < 0.05 | AW91: < 0.05 | AX91: < 0.05 | AY91: < 0.05 | AZ91: < 0.05 | BA91: < 0.05 | BB91: < 0.05 | BC91: < 0.05 | BD91: < 0.05 | BE91: < 0.05 | BF91: < 0.05 | BG91: < 0.05 | BH91: 0.86 | BI91: < 0.05 | BJ91: < 0.05 | BK91: < 0.05 | BL91: < 0.05 | BM91: < 0.05 | BN91: < 0.05 | BO91: < 0.05 | BP91: < 0.05 | BQ91: < 0.05 | BS91: 66 | BT91: 61 | BU91: =IFERROR(BT91/BS91,"") -> 0.92424242 | BV91: =MAX(D91:BQ91) -> 0.86 | BW91: =MIN(D91:BQ91) -> 0.07 | BX91: =MEDIAN(D91:BQ91) -> 0.245 | BY91: =STDEV(D91:BQ91) -> 0.28744855 | BZ91: =((BY91*100)/CB91) -> 90.773225 | CA91: =VAR(D91:BQ91) -> 0.082626667 | CB91: =AVERAGE(D91:BQ91) -> 0.31666667 | CC91: =_xlfn.PERCENTILE.INC(D91:BQ91,0.95) -> 0.7375 | CD91: =_xlfn.PERCENTILE.INC(D91:BQ91,0.99) -> 0.8355
A92: Benzo(k)fluoranthene | B92: SVOC | C92: mg/kg | D92: 0.24 | E92: 0.17 | F92: 0.03 | G92: 0.4 | H92: 0.11 | I92: < 0.05 | J92: < 0.05 | K92: < 0.05 | L92: < 0.05 | M92: < 0.05 | N92: < 0.05 | O92: < 0.05 | P92: < 0.05 | Q92: < 0.05 | R92: < 0.05 | S92: < 0.05 | T92: < 0.05 | U92: < 0.05 | V92: < 0.05 | W92: < 0.05 | X92: < 0.05 | Y92: < 0.05 | Z92: < 0.05 | AA92: < 0.05 | AB92: < 0.05 | AC92: < 0.05 | AD92: < 0.05 | AE92: < 0.05 | AF92: < 0.05 | AG92: < 0.05 | AH92: < 0.05 | AI92: < 0.05 | AJ92: < 0.05 | AK92: < 0.05 | AL92: < 0.05 | AM92: < 0.05 | AN92: < 0.05 | AO92: < 0.05 | AP92: < 0.05 | AQ92: < 0.05 | AR92: < 0.05 | AS92: < 0.05 | AT92: < 0.05 | AU92: < 0.05 | AV92: < 0.05 | AW92: < 0.05 | AX92: < 0.05 | AY92: < 0.05 | AZ92: < 0.05 | BA92: < 0.05 | BB92: < 0.05 | BC92: < 0.05 | BD92: < 0.05 | BE92: < 0.05 | BF92: < 0.05 | BG92: < 0.05 | BH92: 0.49 | BI92: < 0.05 | BJ92: < 0.05 | BK92: < 0.05 | BL92: < 0.05 | BM92: < 0.05 | BN92: < 0.05 | BO92: < 0.05 | BP92: < 0.05 | BQ92: < 0.05 | BS92: 66 | BT92: 61 | BU92: =IFERROR(BT92/BS92,"") -> 0.92424242 | BV92: =MAX(D92:BQ92) -> 0.49 | BW92: =MIN(D92:BQ92) -> 0.03 | BX92: =MEDIAN(D92:BQ92) -> 0.205 | BY92: =STDEV(D92:BQ92) -> 0.17549929 | BZ92: =((BY92*100)/CB92) -> 73.124703 | CA92: =VAR(D92:BQ92) -> 0.0308 | CB92: =AVERAGE(D92:BQ92) -> 0.24 | CC92: =_xlfn.PERCENTILE.INC(D92:BQ92,0.95) -> 0.4675 | CD92: =_xlfn.PERCENTILE.INC(D92:BQ92,0.99) -> 0.4855
A93: Benzo(a)pyrene | B93: SVOC | C93: mg/kg | D93: 0.2 | E93: 0.14 | F93: 0.05 | G93: 0.28 | H93: 0.06 | I93: < 0.05 | J93: < 0.05 | K93: < 0.05 | L93: < 0.05 | M93: < 0.05 | N93: < 0.05 | O93: < 0.05 | P93: < 0.05 | Q93: < 0.05 | R93: < 0.05 | S93: < 0.05 | T93: < 0.05 | U93: < 0.05 | V93: < 0.05 | W93: < 0.05 | X93: < 0.05 | Y93: < 0.05 | Z93: 0.06 | AA93: < 0.05 | AB93: < 0.05 | AC93: < 0.05 | AD93: < 0.05 | AE93: < 0.05 | AF93: < 0.05 | AG93: < 0.05 | AH93: < 0.05 | AI93: < 0.05 | AJ93: < 0.05 | AK93: < 0.05 | AL93: < 0.05 | AM93: < 0.05 | AN93: < 0.05 | AO93: < 0.05 | AP93: < 0.05 | AQ93: < 0.05 | AR93: < 0.05 | AS93: < 0.05 | AT93: < 0.05 | AU93: < 0.05 | AV93: < 0.05 | AW93: < 0.05 | AX93: < 0.05 | AY93: < 0.05 | AZ93: < 0.05 | BA93: < 0.05 | BB93: < 0.05 | BC93: < 0.05 | BD93: < 0.05 | BE93: < 0.05 | BF93: < 0.05 | BG93: < 0.05 | BH93: 0.48 | BI93: < 0.05 | BJ93: < 0.05 | BK93: < 0.05 | BL93: < 0.05 | BM93: < 0.05 | BN93: < 0.05 | BO93: < 0.05 | BP93: < 0.05 | BQ93: < 0.05 | BS93: 66 | BT93: 61 | BU93: =IFERROR(BT93/BS93,"") -> 0.92424242 | BV93: =MAX(D93:BQ93) -> 0.48 | BW93: =MIN(D93:BQ93) -> 0.05 | BX93: =MEDIAN(D93:BQ93) -> 0.14 | BY93: =STDEV(D93:BQ93) -> 0.15688941 | BZ93: =((BY93*100)/CB93) -> 86.474476 | CA93: =VAR(D93:BQ93) -> 0.024614286 | CB93: =AVERAGE(D93:BQ93) -> 0.18142857 | CC93: =_xlfn.PERCENTILE.INC(D93:BQ93,0.95) -> 0.42 | CD93: =_xlfn.PERCENTILE.INC(D93:BQ93,0.99) -> 0.468
A94: Indeno(1,2,3-cd)pyrene | B94: SVOC | C94: mg/kg | D94: 0.1 | E94: 0.07 | F94: 0.03 | G94: 0.28 | H94: 0.03 | I94: < 0.05 | J94: < 0.05 | K94: < 0.05 | L94: < 0.05 | M94: < 0.05 | N94: < 0.05 | O94: < 0.05 | P94: < 0.05 | Q94: < 0.05 | R94: < 0.05 | S94: < 0.05 | T94: < 0.05 | U94: < 0.05 | V94: < 0.05 | W94: < 0.05 | X94: < 0.05 | Y94: < 0.05 | Z94: < 0.05 | AA94: < 0.05 | AB94: < 0.05 | AC94: < 0.05 | AD94: < 0.05 | AE94: < 0.05 | AF94: < 0.05 | AG94: < 0.05 | AH94: < 0.05 | AI94: < 0.05 | AJ94: < 0.05 | AK94: < 0.05 | AL94: < 0.05 | AM94: < 0.05 | AN94: < 0.05 | AO94: < 0.05 | AP94: < 0.05 | AQ94: < 0.05 | AR94: < 0.05 | AS94: < 0.05 | AT94: < 0.05 | AU94: < 0.05 | AV94: < 0.05 | AW94: < 0.05 | AX94: < 0.05 | AY94: < 0.05 | AZ94: < 0.05 | BA94: < 0.05 | BB94: < 0.05 | BC94: < 0.05 | BD94: < 0.05 | BE94: < 0.05 | BF94: < 0.05 | BG94: < 0.05 | BH94: < 0.05 | BI94: < 0.05 | BJ94: < 0.05 | BK94: < 0.05 | BL94: < 0.05 | BM94: < 0.05 | BN94: < 0.05 | BO94: < 0.05 | BP94: < 0.05 | BQ94: < 0.05 | BS94: 66 | BT94: 61 | BU94: =IFERROR(BT94/BS94,"") -> 0.92424242 | BV94: =MAX(D94:BQ94) -> 0.28 | BW94: =MIN(D94:BQ94) -> 0.03 | BX94: =MEDIAN(D94:BQ94) -> 0.07 | BY94: =STDEV(D94:BQ94) -> 0.10377861 | BZ94: =((BY94*100)/CB94) -> 101.74374 | CA94: =VAR(D94:BQ94) -> 0.01077 | CB94: =AVERAGE(D94:BQ94) -> 0.102 | CC94: =_xlfn.PERCENTILE.INC(D94:BQ94,0.95) -> 0.244 | CD94: =_xlfn.PERCENTILE.INC(D94:BQ94,0.99) -> 0.2728
A95: Dibenzo(a,h)anthracene | B95: SVOC | C95: mg/kg | D95: 0.07 | E95: 0.01 | F95: 0.02 | G95: 0.1 | H95: 0.06 | I95: < 0.05 | J95: < 0.05 | K95: < 0.05 | L95: < 0.05 | M95: < 0.05 | N95: < 0.05 | O95: < 0.05 | P95: < 0.05 | Q95: < 0.05 | R95: < 0.05 | S95: < 0.05 | T95: < 0.05 | U95: < 0.05 | V95: < 0.05 | W95: < 0.05 | X95: < 0.05 | Y95: < 0.05 | Z95: < 0.05 | AA95: < 0.05 | AB95: < 0.05 | AC95: < 0.05 | AD95: < 0.05 | AE95: < 0.05 | AF95: < 0.05 | AG95: < 0.05 | AH95: < 0.05 | AI95: < 0.05 | AJ95: < 0.05 | AK95: < 0.05 | AL95: < 0.05 | AM95: < 0.05 | AN95: < 0.05 | AO95: < 0.05 | AP95: < 0.05 | AQ95: < 0.05 | AR95: < 0.05 | AS95: < 0.05 | AT95: < 0.05 | AU95: < 0.05 | AV95: < 0.05 | AW95: < 0.05 | AX95: < 0.05 | AY95: < 0.05 | AZ95: < 0.05 | BA95: < 0.05 | BB95: < 0.05 | BC95: < 0.05 | BD95: < 0.05 | BE95: < 0.05 | BF95: < 0.05 | BG95: < 0.05 | BH95: < 0.05 | BI95: < 0.05 | BJ95: < 0.05 | BK95: < 0.05 | BL95: < 0.05 | BM95: < 0.05 | BN95: < 0.05 | BO95: < 0.05 | BP95: < 0.05 | BQ95: < 0.05 | BS95: 66 | BT95: 61 | BU95: =IFERROR(BT95/BS95,"") -> 0.92424242 | BV95: =MAX(D95:BQ95) -> 0.1 | BW95: =MIN(D95:BQ95) -> 0.01 | BX95: =MEDIAN(D95:BQ95) -> 0.06 | BY95: =STDEV(D95:BQ95) -> 0.037013511 | BZ95: =((BY95*100)/CB95) -> 71.179829 | CA95: =VAR(D95:BQ95) -> 0.00137 | CB95: =AVERAGE(D95:BQ95) -> 0.052 | CC95: =_xlfn.PERCENTILE.INC(D95:BQ95,0.95) -> 0.094 | CD95: =_xlfn.PERCENTILE.INC(D95:BQ95,0.99) -> 0.0988
A96: Benzo[g,h,i]perylene | B96: SVOC_TIC | C96: mg/kg | D96: 0.06 | E96: 0.06 | F96: 0.03 | G96: 0.17 | H96: 0.03 | I96: < 0.05 | J96: < 0.05 | K96: < 0.05 | L96: < 0.05 | M96: < 0.05 | N96: < 0.05 | O96: < 0.05 | P96: < 0.05 | Q96: < 0.05 | R96: < 0.05 | S96: < 0.05 | T96: < 0.05 | U96: < 0.05 | V96: < 0.05 | W96: < 0.05 | X96: < 0.05 | Y96: < 0.05 | Z96: < 0.05 | AA96: < 0.05 | AB96: < 0.05 | AC96: < 0.05 | AD96: < 0.05 | AE96: < 0.05 | AF96: < 0.05 | AG96: < 0.05 | AH96: < 0.05 | AI96: < 0.05 | AJ96: < 0.05 | AK96: < 0.05 | AL96: < 0.05 | AM96: < 0.05 | AN96: < 0.05 | AO96: < 0.05 | AP96: < 0.05 | AQ96: < 0.05 | AR96: < 0.05 | AS96: < 0.05 | AT96: < 0.05 | AU96: < 0.05 | AV96: < 0.05 | AW96: < 0.05 | AX96: < 0.05 | AY96: < 0.05 | AZ96: < 0.05 | BA96: < 0.05 | BB96: < 0.05 | BC96: < 0.05 | BD96: < 0.05 | BE96: < 0.05 | BF96: < 0.05 | BG96: < 0.05 | BH96: < 0.05 | BI96: < 0.05 | BJ96: < 0.05 | BK96: < 0.05 | BL96: < 0.05 | BM96: < 0.05 | BN96: < 0.05 | BO96: < 0.05 | BP96: < 0.05 | BQ96: < 0.05 | BS96: 66 | BT96: 61 | BU96: =IFERROR(BT96/BS96,"") -> 0.92424242 | BV96: =MAX(D96:BQ96) -> 0.17 | BW96: =MIN(D96:BQ96) -> 0.03 | BX96: =MEDIAN(D96:BQ96) -> 0.06 | BY96: =STDEV(D96:BQ96) -> 0.057879185 | BZ96: =((BY96*100)/CB96) -> 82.684549 | CA96: =VAR(D96:BQ96) -> 0.00335 | CB96: =AVERAGE(D96:BQ96) -> 0.07 | CC96: =_xlfn.PERCENTILE.INC(D96:BQ96,0.95) -> 0.148 | CD96: =_xlfn.PERCENTILE.INC(D96:BQ96,0.99) -> 0.1656
A97: 4-Chlorophenyl phenyl ether | B97: SVOCs | C97: µg/kg | I97: < 0.3 | J97: < 0.3 | K97: < 0.3 | L97: < 0.3 | M97: < 0.3 | N97: < 0.3 | O97: < 0.3 | P97: < 0.3 | Q97: < 0.3 | R97: < 0.3 | S97: < 0.3 | T97: < 0.3 | U97: < 0.3 | V97: < 0.3 | W97: < 0.3 | X97: < 0.3 | Y97: < 0.3 | Z97: < 0.3 | AA97: < 0.3 | AB97: < 0.3 | AC97: < 0.3 | AD97: < 0.3 | AE97: < 0.3 | AF97: < 0.3 | AG97: < 0.3 | AH97: < 0.3 | AI97: < 0.3 | AJ97: < 0.3 | AK97: < 0.3 | AL97: < 0.3 | AM97: < 0.3 | AN97: < 0.3 | AO97: < 0.3 | AP97: < 0.3 | AQ97: < 0.3 | AR97: < 0.3 | AS97: < 0.3 | AT97: < 0.3 | AU97: < 0.3 | AV97: < 0.3 | AW97: < 0.3 | AX97: < 0.3 | AY97: < 0.3 | AZ97: < 0.3 | BA97: < 0.3 | BB97: < 0.3 | BC97: < 0.3 | BD97: < 0.3 | BE97: < 0.3 | BF97: < 0.3 | BG97: < 0.3 | BH97: < 0.3 | BI97: < 0.3 | BJ97: < 0.3 | BK97: < 0.3 | BL97: < 0.3 | BM97: < 0.3 | BN97: < 0.3 | BO97: < 0.3 | BP97: < 0.3 | BQ97: < 0.3 | BS97: 61 | BT97: 61 | BU97: =IFERROR(BT97/BS97,"") -> 1 | BV97: =MAX(D97:BQ97) -> 0 | BW97: =MIN(D97:BQ97) -> 0 | BX97: =MEDIAN(D97:BQ97) -> #NUM! | BY97: =STDEV(D97:BQ97) -> #DIV/0! | BZ97: =((BY97*100)/CB97) -> #DIV/0! | CA97: =VAR(D97:BQ97) -> #DIV/0! | CB97: =AVERAGE(D97:BQ97) -> #DIV/0! | CC97: =_xlfn.PERCENTILE.INC(D97:BQ97,0.95) -> #NUM! | CD97: =_xlfn.PERCENTILE.INC(D97:BQ97,0.99) -> #NUM!
A98: Anthraquinone | B98: SVOCs | C98: µg/kg | I98: < 0.3 | J98: < 0.3 | K98: < 0.3 | L98: < 0.3 | M98: < 0.3 | N98: < 0.3 | O98: < 0.3 | P98: < 0.3 | Q98: < 0.3 | R98: < 0.3 | S98: < 0.3 | T98: < 0.3 | U98: < 0.3 | V98: < 0.3 | W98: < 0.3 | X98: < 0.3 | Y98: < 0.3 | Z98: < 0.3 | AA98: < 0.3 | AB98: < 0.3 | AC98: < 0.3 | AD98: < 0.3 | AE98: < 0.3 | AF98: < 0.3 | AG98: < 0.3 | AH98: < 0.3 | AI98: < 0.3 | AJ98: < 0.3 | AK98: < 0.3 | AL98: < 0.3 | AM98: < 0.3 | AN98: < 0.3 | AO98: < 0.3 | AP98: < 0.3 | AQ98: < 0.3 | AR98: < 0.3 | AS98: < 0.3 | AT98: < 0.3 | AU98: < 0.3 | AV98: < 0.3 | AW98: < 0.3 | AX98: < 0.3 | AY98: < 0.3 | AZ98: < 0.3 | BA98: < 0.3 | BB98: < 0.3 | BC98: < 0.3 | BD98: < 0.3 | BE98: < 0.3 | BF98: < 0.3 | BG98: < 0.3 | BH98: < 0.3 | BI98: < 0.3 | BJ98: < 0.3 | BK98: < 0.3 | BL98: < 0.3 | BM98: < 0.3 | BN98: < 0.3 | BO98: < 0.3 | BP98: < 0.3 | BQ98: < 0.3 | BS98: 61 | BT98: 61 | BU98: =IFERROR(BT98/BS98,"") -> 1 | BV98: =MAX(D98:BQ98) -> 0 | BW98: =MIN(D98:BQ98) -> 0 | BX98: =MEDIAN(D98:BQ98) -> #NUM! | BY98: =STDEV(D98:BQ98) -> #DIV/0! | BZ98: =((BY98*100)/CB98) -> #DIV/0! | CA98: =VAR(D98:BQ98) -> #DIV/0! | CB98: =AVERAGE(D98:BQ98) -> #DIV/0! | CC98: =_xlfn.PERCENTILE.INC(D98:BQ98,0.95) -> #NUM! | CD98: =_xlfn.PERCENTILE.INC(D98:BQ98,0.99) -> #NUM!
A99: Bromophenyl phenyl ether | B99: SVOCs | C99: µg/kg | I99: < 0.2 | J99: < 0.2 | K99: < 0.2 | L99: < 0.2 | M99: < 0.2 | N99: < 0.2 | O99: < 0.2 | P99: < 0.2 | Q99: < 0.2 | R99: < 0.2 | S99: < 0.2 | T99: < 0.2 | U99: < 0.2 | V99: < 0.2 | W99: < 0.2 | X99: < 0.2 | Y99: < 0.2 | Z99: < 0.2 | AA99: < 0.2 | AB99: < 0.2 | AC99: < 0.2 | AD99: < 0.2 | AE99: < 0.2 | AF99: < 0.2 | AG99: < 0.2 | AH99: < 0.2 | AI99: < 0.2 | AJ99: < 0.2 | AK99: < 0.2 | AL99: < 0.2 | AM99: < 0.2 | AN99: < 0.2 | AO99: < 0.2 | AP99: < 0.2 | AQ99: < 0.2 | AR99: < 0.2 | AS99: < 0.2 | AT99: < 0.2 | AU99: < 0.2 | AV99: < 0.2 | AW99: < 0.2 | AX99: < 0.2 | AY99: < 0.2 | AZ99: < 0.2 | BA99: < 0.2 | BB99: < 0.2 | BC99: < 0.2 | BD99: < 0.2 | BE99: < 0.2 | BF99: < 0.2 | BG99: < 0.2 | BH99: < 0.2 | BI99: < 0.2 | BJ99: < 0.2 | BK99: < 0.2 | BL99: < 0.2 | BM99: < 0.2 | BN99: < 0.2 | BO99: < 0.2 | BP99: < 0.2 | BQ99: < 0.2 | BS99: 61 | BT99: 61 | BU99: =IFERROR(BT99/BS99,"") -> 1 | BV99: =MAX(D99:BQ99) -> 0 | BW99: =MIN(D99:BQ99) -> 0 | BX99: =MEDIAN(D99:BQ99) -> #NUM! | BY99: =STDEV(D99:BQ99) -> #DIV/0! | BZ99: =((BY99*100)/CB99) -> #DIV/0! | CA99: =VAR(D99:BQ99) -> #DIV/0! | CB99: =AVERAGE(D99:BQ99) -> #DIV/0! | CC99: =_xlfn.PERCENTILE.INC(D99:BQ99,0.95) -> #NUM! | CD99: =_xlfn.PERCENTILE.INC(D99:BQ99,0.99) -> #NUM!
A100: Hexachlorobenzene | B100: SVOCs | C100: µg/kg | I100: < 0.3 | J100: < 0.3 | K100: < 0.3 | L100: < 0.3 | M100: < 0.3 | N100: < 0.3 | O100: < 0.3 | P100: < 0.3 | Q100: < 0.3 | R100: < 0.3 | S100: < 0.3 | T100: < 0.3 | U100: < 0.3 | V100: < 0.3 | W100: < 0.3 | X100: < 0.3 | Y100: < 0.3 | Z100: < 0.3 | AA100: < 0.3 | AB100: < 0.3 | AC100: < 0.3 | AD100: < 0.3 | AE100: < 0.3 | AF100: < 0.3 | AG100: < 0.3 | AH100: < 0.3 | AI100: < 0.3 | AJ100: < 0.3 | AK100: < 0.3 | AL100: < 0.3 | AM100: < 0.3 | AN100: < 0.3 | AO100: < 0.3 | AP100: < 0.3 | AQ100: < 0.3 | AR100: < 0.3 | AS100: < 0.3 | AT100: < 0.3 | AU100: < 0.3 | AV100: < 0.3 | AW100: < 0.3 | AX100: < 0.3 | AY100: < 0.3 | AZ100: < 0.3 | BA100: < 0.3 | BB100: < 0.3 | BC100: < 0.3 | BD100: < 0.3 | BE100: < 0.3 | BF100: < 0.3 | BG100: < 0.3 | BH100: < 0.3 | BI100: < 0.3 | BJ100: < 0.3 | BK100: < 0.3 | BL100: < 0.3 | BM100: < 0.3 | BN100: < 0.3 | BO100: < 0.3 | BP100: < 0.3 | BQ100: < 0.3 | BS100: 61 | BT100: 61 | BU100: =IFERROR(BT100/BS100,"") -> 1 | BV100: =MAX(D100:BQ100) -> 0 | BW100: =MIN(D100:BQ100) -> 0 | BX100: =MEDIAN(D100:BQ100) -> #NUM! | BY100: =STDEV(D100:BQ100) -> #DIV/0! | BZ100: =((BY100*100)/CB100) -> #DIV/0! | CA100: =VAR(D100:BQ100) -> #DIV/0! | CB100: =AVERAGE(D100:BQ100) -> #DIV/0! | CC100: =_xlfn.PERCENTILE.INC(D100:BQ100,0.95) -> #NUM! | CD100: =_xlfn.PERCENTILE.INC(D100:BQ100,0.99) -> #NUM!
...

Sheet Comparators
A1: PAS 111
A2: Substance | B2: Units | C2: Panel Board Manufacture | D2: Porous Surfaces | E2: Non-Porous Surfaces | L2: Stats tab row ref.
G4: Units | H4: MAX | I4: MEDIAN | J4: 99th Per.
A5: Arsenic | B5: mg/kg | C5: 25 | D5: - | E5: - | G5: mg/kg | H5: =Stats!BV23 -> 17 | I5: =Stats!BX23 -> 5.3 | J5: =Stats!CD23 -> 17 | L5: 23
A6: Cadmium | B6: mg/kg | C6: 50 | D6: 1.5 | E6: 1.5 | G6: mg/kg | H6: =Stats!BV15 -> 0.3 | I6: =Stats!BX15 -> 0.2 | J6: =Stats!CD15 -> 0.3 | L6: 15
A7: Chromium | B7: mg/kg | C7: 25 | D7: 100 | E7: 100 | G7: mg/kg | H7: =Stats!BV16 -> 63 | I7: =Stats!BX16 -> 9.45 | J7: =Stats!CD16 -> 41.55 | L7: 16
A8: Copper | B8: mg/kg | C8: 40 | D8: 200 | E8: 200 | G8: mg/kg | H8: =Stats!BV17 -> 46 | I8: =Stats!BX17 -> 21 | J8: =Stats!CD17 -> 46 | L8: 17
A9: Fluorine | B9: mg/kg | C9: 100 | D9: - | E9: - | G9: mg/kg | H9: - | I9: - | J9: - | L9: -
A10: Chlorine | B10: mg/kg | C10: 1000 | D10: - | E10: - | G10: mg/kg | H10: - | I10: - | J10: - | L10: -
A11: Lead | B11: mg/kg | C11: 90 | D11: 200 | E11: 200 | G11: mg/kg | H11: =Stats!BV18 -> 100 | I11: =Stats!BX18 -> 32 | J11: =Stats!CD18 -> 94.8 | L11: 18
A12: Mercury | B12: mg/kg | C12: 25 | D12: 1 | E12: 1 | G12: mg/kg | H12: =Stats!BV19 -> 0.6 | I12: =Stats!BX19 -> 0.5 | J12: =Stats!CD19 -> 0.6 | L12: 19
A13: Nickel | B13: mg/kg | C13: - | D13: 50 | E13: 50 | G13: mg/kg | H13: =Stats!BV20 -> 30 | I13: =Stats!BX20 -> 1.5 | J13: =Stats!CD20 -> 24.17 | L13: 20
A14: Zinc | B14: mg/kg | C14: - | D14: 400 | E14: 400 | G14: mg/kg | H14: =Stats!BV21 -> 170 | I14: =Stats!BX21 -> 39 | J14: =Stats!CD21 -> 131 | L14: 21
A15: Heavy metals (combined) | B15: mg/kg | C15: 4000 | D15: Trace | E15: Trace | G15: mg/kg | H15: 464.1 | I15: N/A | J15: N/A
A16: Benzo(a)pyrene | B16: mg/kg | C16: 0.5 | D16: Trace | E16: Trace | G16: mg/kg | H16: =Stats!BV93 -> 0.48 | I16: =Stats!BX93 -> 0.14 | J16: =Stats!CD93 -> 0.468 | L16: 93
A17: Pentachlorophenol (PCP) | B17: mg/kg | C17: 5 | D17: - | E17: - | G17: mg/kg | H17: =Stats!BV78 -> 0.39 | I17: =Stats!BX78 -> 0.35 | J17: =Stats!CD78 -> 0.3892 | L17: 78
A19: STRAW | G19: Units | H19: MAX | I19: MEDIAN | J19: 99th Per. | L19: Row ref.
A20: Acenaphthene | B20: µg/kg | C20: 10.03 | G20: mg/kg | H20: =Stats!BV64 -> 0.65 | I20: =Stats!BX64 -> 0.24 | J20: =Stats!CD64 -> 0.629 | L20: 64
A21: Acenaphthylene | B21: µg/kg | C21: 9 | G21: mg/kg | H21: =Stats!BV61 -> 0.05 | I21: =Stats!BX61 -> 0.04 | J21: =Stats!CD61 -> 0.05 | L21: 61
A22: Anthracene | B22: µg/kg | C22: 200 | G22: mg/kg | H22: =Stats!BV80 -> 5.4 | I22: =Stats!BX80 -> 0.325 | J22: =Stats!CD80 -> 4.0735 | L22: 80
A23: Benzo(a)anthracene | B23: µg/kg | C23: 200 | G23: mg/kg | H23: =Stats!BV88 -> 1.6 | I23: =Stats!BX88 -> 0.44 | J23: =Stats!CD88 -> 1.5384 | L23: 88
A24: Benzo(a)pyrene | B24: µg/kg | C24: 200 | G24: mg/kg | H24: =Stats!BV93 -> 0.48 | I24: =Stats!BX93 -> 0.14 | J24: =Stats!CD93 -> 0.468 | L24: 93
A25: Benzo(b)fluoranthene | B25: µg/kg | C25: 200 | G25: mg/kg | H25: =Stats!BV91 -> 0.86 | I25: =Stats!BX91 -> 0.245 | J25: =Stats!CD91 -> 0.8355 | L25: 91
A26: Benzo(ghi)perylene | B26: µg/kg | C26: 10 | G26: mg/kg | H26: =Stats!BV96 -> 0.17 | I26: =Stats!BX96 -> 0.06 | J26: =Stats!CD96 -> 0.1656 | L26: 96
A27: Benzo(k)fluoranthene | B27: µg/kg | C27: 200 | G27: mg/kg | H27: =Stats!BV92 -> 0.49 | I27: =Stats!BX92 -> 0.205 | J27: =Stats!CD92 -> 0.4855 | L27: 92
A28: Chrysene | B28: µg/kg | C28: 300 | G28: mg/kg | H28: =Stats!BV89 -> 1.5 | I28: =Stats!BX89 -> 0.42 | J28: =Stats!CD89 -> 1.4454 | L28: 89
A29: Dibenz(ah)anthracene | B29: µg/kg | C29: 30 | G29: mg/kg | H29: =Stats!BV95 -> 0.1 | I29: =Stats!BX95 -> 0.06 | J29: =Stats!CD95 -> 0.0988 | L29: 95
A30: Fluoranthene | B30: µg/kg | C30: 200 | G30: mg/kg | H30: =Stats!BV83 -> 6.7 | I30: =Stats!BX83 -> 1.4 | J30: =Stats!CD83 -> 5.6341 | L30: 83
A31: Fluorene | B31: µg/kg | C31: 90 | G31: mg/kg | H31: =Stats!BV71 -> 0.89 | I31: =Stats!BX71 -> 0.3 | J31: =Stats!CD71 -> 0.8404 | L31: 71
A32: Indeno(1,2,3-c,d)pyrene | B32: µg/kg | C32: 300 | G32: mg/kg | H32: =Stats!BV94 -> 0.28 | I32: =Stats!BX94 -> 0.07 | J32: =Stats!CD94 -> 0.2728 | L32: 94
A33: Naphthalene | B33: µg/kg | C33: 90 | G33: mg/kg | H33: =Stats!BV46 -> 0.23 | I33: =Stats!BX46 -> 0.11 | J33: =Stats!CD46 -> 0.226 | L33: 46
A34: Phenanthrene | B34: µg/kg | C34: 200 | G34: mg/kg | H34: =Stats!BV79 -> 6.6 | I34: =Stats!BX79 -> 1.2 | J34: =Stats!CD79 -> 5.5968 | L34: 79
A35: Pyrene | B35: µg/kg | C35: 200 | G35: mg/kg | H35: =Stats!BV84 -> 4.5 | I35: =Stats!BX84 -> 0.995 | J35: =Stats!CD84 -> 3.6849 | L35: 84
A36: 1,2,3 Trichlorobenzene | B36: µg/kg | C36: 7 | G36: µg/kg | H36: <10.0 | I36: N/A | J36: N/A | L36: 148
A37: 1,2,4 Trichlorobenzene | B37: µg/kg | C37: 7 | G37: µg/kg | H37: <10.0 | I37: N/A | J37: N/A | L37: 150
A38: Hexachlorobutadiene | B38: µg/kg | C38: 8 | G38: µg/kg | H38: <10.0 | I38: N/A | J38: N/A | L38: 147
A39: 2,4,6-Tetrachlorophenol | B39: µg/kg | C39: 5000 | G39: µg/kg | H39: =Stats!BV53 -> 0.02 | I39: =Stats!BX53 -> 0.02 | J39: =Stats!CD53 -> 0.02 | L39: 53
A40: 2,4,5-Trichlorophenol | B40: µg/kg | C40: 5000 | G40: mg/kg | H40: <0.2 | I40: N/A | J40: N/A | L40: 54
A41: 2,4-Dichlorophenol | B41: µg/kg | C41: 5000 | G41: mg/kg | H41: <0.3 | I41: N/A | J41: N/A | L41: 44
A42: 4-Chloro-3-methylphenol | B42: µg/kg | C42: 5000 | G42: mg/kg | H42: <0.1 | I42: N/A | J42: N/A | L42: 49
A43: 4-Methylphenol (p-cresol) | B43: µg/kg | C43: 5000 | G43: mg/kg | H43: =Stats!BV36 -> 0.29 | I43: =Stats!BX36 -> 0.18 | J43: =Stats!CD36 -> 0.2856 | L43: 36
A44: Phenol | B44: µg/kg | C44: 5000 | G44: mg/kg | H44: =Stats!BV26 -> 9.1 | I44: =Stats!BX26 -> 1.9 | J44: =Stats!CD26 -> 8.952 | L44: 26
A45: Pentachlorophenol | B45: µg/kg | C45: 5000 | G45: mg/kg | H45: =Stats!BV78 -> 0.39 | I45: =Stats!BX78 -> 0.35 | J45: =Stats!CD78 -> 0.3892 | L45: 78
A46: 1,2-Dimethylbenzene (o-Xylene) | B46: µg/kg | C46: 11 | G46: µg/kg | H46: =Stats!BV108 -> 11 | I46: =Stats!BX108 -> 7.55 | J46: =Stats!CD108 -> 10.931 | L46: 108
A47: Benzene | B47: µg/kg | C47: 5 | G47: µg/kg | H47: =Stats!BV104 -> 55 | I47: =Stats!BX104 -> 29 | J47: =Stats!CD104 -> 54.4 | L47: 104
A48: Ethylbenzene | B48: µg/kg | C48: 5.5 | G48: µg/kg | H48: =Stats!BV106 -> 75 | I48: =Stats!BX106 -> 16 | J48: =Stats!CD106 -> 70.5 | L48: 106
A49: Toluene | B49: µg/kg | C49: 33 | G49: µg/kg | H49: =Stats!BV105 -> 620 | I49: =Stats!BX105 -> 47 | J49: =Stats!CD105 -> 374.9 | L49: 105
A51: MATERIAL APPLIED TO LAND
A52: Analytes | B52: Units | C52: Highest Results | D52: Lowest Results | G52: Units | H52: MAX | I52: MEDIAN | J52: 99th Per. | L52: Row ref.
A53: Arsenic | B53: mg/kg | C53: 18.6 | D53: 8.6 | G53: mg/kg | H53: =Stats!BV23 -> 17 | I53: =Stats!BX23 -> 5.3 | J53: =Stats!CD23 -> 17 | L53: 23
A54: Cadmium | B54: mg/kg | C54: 30.6 | D54: 5.7 | G54: mg/kg | H54: =Stats!BV15 -> 0.3 | I54: =Stats!BX15 -> 0.2 | J54: =Stats!CD15 -> 0.3 | L54: 15
A55: Cobalt | B55: mg/kg | C55: 9.4 | D55: 0.5 | G55: mg/kg | H55: - | I55: - | J55: - | L55: -
A56: Chromium | B56: mg/kg | C56: 360.3 | D56: 37.6 | G56: mg/kg | H56: =Stats!BV16 -> 63 | I56: =Stats!BX16 -> 9.45 | J56: =Stats!CD16 -> 41.55 | L56: 16
A57: Copper | B57: mg/kg | C57: 55.9 | D57: 11.6 | G57: mg/kg | H57: =Stats!BV17 -> 46 | I57: =Stats!BX17 -> 21 | J57: =Stats!CD17 -> 46 | L57: 17
A58: Nickel | B58: mg/kg | C58: 55.7 | D58: 7.7 | G58: mg/kg | H58: =Stats!BV20 -> 30 | I58: =Stats!BX20 -> 1.5 | J58: =Stats!CD20 -> 24.17 | L58: 20
A59: Lead | B59: mg/kg | C59: 34.7 | D59: 3.6 | G59: mg/kg | H59: =Stats!BV18 -> 100 | I59: =Stats!BX18 -> 32 | J59: =Stats!CD18 -> 94.8 | L59: 18
A60: Zinc | B60: mg/kg | C60: 637.4 | D60: 51.9 | G60: mg/kg | H60: =Stats!BV21 -> 170 | I60: =Stats!BX21 -> 39 | J60: =Stats!CD21 -> 131 | L60: 21
A62: CLEAN WOOD BEDDING MATERIAL | N62: Concentration
A63: Analytes | B63: Units | C63: Maximum | D63: Median | E63: Minimum | G63: Units | H63: MAX | I63: MEDIAN | J63: 99th Per. | L63: Row ref. | N63: %
A64: Arsenic (aqua regia extractable) | B64: mg/kg | C64: 3.3 | D64: 1 | E64: 1 | G64: mg/kg | H64: =Stats!BV23 -> 17 | I64: =Stats!BX23 -> 5.3 | J64: =Stats!CD23 -> 17 | L64: 23 | N64: =SUM(H64/1000000)*100 -> 0.0017
A65: Boron (water soluble) | B65: mg/kg | C65: 57 | D65: 3 | E65: 0.3 | G65: mg/kg | H65: Not tested | I65: - | J65: - | L65: - | N65: - | P65: Complies with 0.1% absolute maximum combined results
A66: Cadmium (aqua regia extractable) | B66: mg/kg | C66: 1 | D66: 0 | E66: 0.2 | G66: mg/kg | H66: =Stats!BV15 -> 0.3 | I66: =Stats!BX15 -> 0.2 | J66: =Stats!CD15 -> 0.3 | L66: 15 | N66: =SUM(H66/1000000)*100 -> 3e-05 | P66: Complies against 'Clean' comparator at <0.07 % maximum combined results
A67: Chromium (aqua regia extractable) | B67: mg/kg | C67: 31 | D67: 4 | E67: 1 | G67: mg/kg | H67: =Stats!BV16 -> 63 | I67: =Stats!BX16 -> 9.45 | J67: =Stats!CD16 -> 41.55 | L67: 16 | N67: =SUM(H67/1000000)*100 -> 0.0063 | P67: Complies against WM3 <0.1% concentration for individual substances (re HP14 Ecotoxic)
A68: Copper (aqua regia extractable) | B68: mg/kg | C68: 140 | D68: 10 | E68: 4.6 | G68: mg/kg | H68: =Stats!BV17 -> 46 | I68: =Stats!BX17 -> 21 | J68: =Stats!CD17 -> 46 | L68: 17 | N68: =SUM(H68/1000000)*100 -> 0.0046
A69: Lead (aqua regia extractable) | B69: mg/kg | C69: 28 | D69: 4 | E69: 1.1 | G69: mg/kg | H69: =Stats!BV18 -> 100 | I69: =Stats!BX18 -> 32 | J69: =Stats!CD18 -> 94.8 | L69: 18 | N69: =SUM(H69/1000000)*100 -> 0.01
A70: Mercury (aqua regia extractable) | B70: mg/kg | C70: 0.9 | D70: 1 | E70: 0.5 | G70: mg/kg | H70: =Stats!BV19 -> 0.6 | I70: =Stats!BX19 -> 0.5 | J70: =Stats!CD19 -> 0.6 | L70: 19 | N70: =SUM(H70/1000000)*100 -> 6e-05
A71: Nickel (aqua regia extractable) | B71: mg/kg | C71: 22 | D71: 3 | E71: 1 | G71: mg/kg | H71: =Stats!BV20 -> 30 | I71: =Stats!BX20 -> 1.5 | J71: =Stats!CD20 -> 24.17 | L71: 20 | N71: =SUM(H71/1000000)*100 -> 0.003
A72: Zinc (aqua regia extractable) | B72: mg/kg | C72: 90 | D72: 1 | E72: 4.1 | G72: mg/kg | H72: =Stats!BV21 -> 170 | I72: =Stats!BX21 -> 39 | J72: =Stats!CD21 -> 131 | L72: 21 | N72: =SUM(H72/1000000)*100 -> 0.017
A73: Cis-1,2-dichloroethene | B73: µg/kg | C73: 27 | D73: 22 | E73: 16 | G73: µg/kg | H73: <10.0 | I73: N/A | J73: N/A | L73: 109 | N73: N/A
A74: Benzene | B74: µg/kg | C74: 110 | D74: 60 | E74: 9 | G74: µg/kg | H74: =Stats!BV104 -> 55 | I74: =Stats!BX104 -> 29 | J74: =Stats!CD104 -> 54.4 | L74: 104 | N74: =SUM(H74/1000000000)*100 -> 5.5e-06
A75: 1,2-Dichloropropane | B75: µg/kg | C75: 93 | D75: 93 | E75: 93 | G75: µg/kg | H75: <10.0 | I75: N/A | J75: N/A | L75: 128 | N75: N/A
A76: Trichloroethene | B76: µg/kg | C76: 160 | D76: 140 | E76: 41 | G76: µg/kg | H76: <10.0 | I76: N/A | J76: N/A | L76: 114 | N76: N/A
A77: Toluene | B77: µg/kg | C77: 280 | D77: 27 | E77: 1.9 | G77: µg/kg | H77: =Stats!BV105 -> 620 | I77: =Stats!BX105 -> 47 | J77: =Stats!CD105 -> 374.9 | L77: 105 | N77: =SUM(H77/1000000000)*100 -> 6.2e-05
A78: Ethylbenzene | B78: µg/kg | C78: 95 | D78: 6 | E78: 4.2 | G78: µg/kg | H78: =Stats!BV106 -> 75 | I78: =Stats!BX106 -> 16 | J78: =Stats!CD106 -> 70.5 | L78: 106 | N78: =SUM(H78/1000000000)*100 -> 7.5e-06
A79: p & m-Xylene | B79: µg/kg | C79: 280 | D79: 13 | E79: 5.5 | G79: µg/kg | H79: =Stats!BV107 -> 31 | I79: =Stats!BX107 -> 13 | J79: =Stats!CD107 -> 30.58 | L79: 107 | N79: =SUM(H79/1000000000)*100 -> 3.1e-06
A80: Styrene | B80: µg/kg | C80: 45 | D80: 15 | E80: 9.8 | G80: µg/kg | H80: =Stats!BV135 -> 660 | I80: =Stats!BX135 -> 31.5 | J80: =Stats!CD135 -> 463.2 | L80: 135 | N80: =SUM(H80/1000000000)*100 -> 6.6e-05
A81: o-Xylene | B81: µg/kg | C81: 130 | D81: 13 | E81: 7.3 | G81: µg/kg | H81: =Stats!BV108 -> 11 | I81: =Stats!BX108 -> 7.55 | J81: =Stats!CD108 -> 10.931 | L81: 108 | N81: =SUM(H81/1000000000)*100 -> 1.1e-06
A82: 4-Chlorotoluene | B82: µg/kg | C82: 32 | D82: 32 | E82: 32 | G82: µg/kg | H82: =Stats!BV139 -> 89 | I82: =Stats!BX139 -> 89 | J82: =Stats!CD139 -> 89 | L82: 139 | N82: =SUM(H82/1000000000)*100 -> 8.9e-06
A83: p-Isopropyltoluene | B83: µg/kg | C83: 840 | D83: 130 | E83: 7.1 | G83: µg/kg | H83: =Stats!BV161 -> 1600 | I83: =Stats!BX161 -> 97.5 | J83: =Stats!CD161 -> 945.5 | L83: 161 | N83: =SUM(H83/1000000000)*100 -> 0.00016
A84: Aniline | B84: mg/kg | C84: 17 | D84: 17 | E84: 17 | G84: mg/kg | H84: =Stats!BV27 -> 2.6 | I84: =Stats!BX27 -> 2.3 | J84: =Stats!CD27 -> 2.594 | L84: 27 | N84: =SUM(H84/1000000)*100 -> 0.00026
A85: 2,4-Dimethylphenol | B85: mg/kg | C85: 1 | D85: 1 | E85: 1 | G85: mg/kg | H85: =Stats!BV42 -> 0.05 | I85: =Stats!BX42 -> 0.03 | J85: =Stats!CD42 -> 0.0496 | L85: 42 | N85: =SUM(H85/1000000)*100 -> 5e-06
A86: 2-Methylnaphthalene | B86: mg/kg | C86: 0.7 | D86: 1 | E86: 0.7 | G86: mg/kg | H86: =Stats!BV50 -> 0.16 | I86: =Stats!BX50 -> 0.08 | J86: =Stats!CD50 -> 0.1568 | L86: 50 | N86: =SUM(H86/1000000)*100 -> 1.6e-05
A87: 2-Chloronaphthalene | B87: mg/kg | C87: 0.7 | D87: 1 | E87: 0.7 | G87: mg/kg | H87: <0.1 | I87: N/A | J87: N/A | L87: 55 | N87: N/A
A88: Acenaphthene | B88: mg/kg | C88: 1.5 | D88: 2 | E88: 1.5 | G88: mg/kg | H88: =Stats!BV61 -> 0.05 | I88: =Stats!BX61 -> 0.04 | J88: =Stats!CD61 -> 0.05 | L88: 61 | N88: =SUM(H88/1000000)*100 -> 5e-06
A89: Fluorene | B89: mg/kg | C89: 2.3 | D89: 2 | E89: 2.3 | G89: mg/kg | H89: =Stats!BV71 -> 0.89 | I89: =Stats!BX71 -> 0.3 | J89: =Stats!CD71 -> 0.8404 | L89: 71 | N89: =SUM(H89/1000000)*100 -> 8.9e-05
A90: Phenanthrene | B90: mg/kg | C90: 36 | D90: 1 | E90: 1.2 | G90: mg/kg | H90: =Stats!BV79 -> 6.6 | I90: =Stats!BX79 -> 1.2 | J90: =Stats!CD79 -> 5.5968 | L90: 79 | N90: =SUM(H90/1000000)*100 -> 0.00066
A91: Anthracene | B91: mg/kg | C91: 12 | D91: 0 | E91: 0.41 | G91: mg/kg | H91: =Stats!BV80 -> 5.4 | I91: =Stats!BX80 -> 0.325 | J91: =Stats!CD80 -> 4.0735 | L91: 80 | N91: =SUM(H91/1000000)*100 -> 0.00054
A92: Carbazole | B92: mg/kg | C92: 4.3 | D92: 4 | E92: 4.3 | G92: mg/kg | H92: =Stats!BV81 -> 0.34 | I92: =Stats!BX81 -> 0.14 | J92: =Stats!CD81 -> 0.3324 | L92: 81 | N92: =SUM(H92/1000000)*100 -> 3.4e-05
A93: Fluoranthene | B93: mg/kg | C93: 65 | D93: 2 | E93: 0.3 | G93: mg/kg | H93: =Stats!BV83 -> 6.7 | I93: =Stats!BX83 -> 1.4 | J93: =Stats!CD83 -> 5.6341 | L93: 83 | N93: =SUM(H93/1000000)*100 -> 0.00067
A94: Pyrene | B94: mg/kg | C94: 53 | D94: 2 | E94: 0.32 | G94: mg/kg | H94: =Stats!BV84 -> 4.5 | I94: =Stats!BX84 -> 0.995 | J94: =Stats!CD84 -> 3.6849 | L94: 84 | N94: =SUM(H94/1000000)*100 -> 0.00045
A95: Benzo(a)anthracene | B95: mg/kg | C95: 30 | D95: 1 | E95: 0.88 | G95: mg/kg | H95: =Stats!BV88 -> 1.6 | I95: =Stats!BX88 -> 0.44 | J95: =Stats!CD88 -> 1.5384 | L95: 88 | N95: =SUM(H95/1000000)*100 -> 0.00016
A96: Chrysene | B96: mg/kg | C96: 22 | D96: 1 | E96: 0.64 | G96: mg/kg | H96: =Stats!BV89 -> 1.5 | I96: =Stats!BX89 -> 0.42 | J96: =Stats!CD89 -> 1.4454 | L96: 89 | N96: =SUM(H96/1000000)*100 -> 0.00015
A97: Benzo(b)fluoranthene | B97: mg/kg | C97: 21 | D97: 1 | E97: 0.72 | G97: mg/kg | H97: =Stats!BV91 -> 0.86 | I97: =Stats!BX91 -> 0.245 | J97: =Stats!CD91 -> 0.8355 | L97: 91 | N97: =SUM(H97/1000000)*100 -> 8.6e-05
A98: Benzo(k)fluoranthene | B98: mg/kg | C98: 12 | D98: 0 | E98: 0.37 | G98: mg/kg | H98: =Stats!BV92 -> 0.49 | I98: =Stats!BX92 -> 0.205 | J98: =Stats!CD92 -> 0.4855 | L98: 92 | N98: =SUM(H98/1000000)*100 -> 4.9e-05
A99: Benzo(a)pyrene | B99: mg/kg | C99: 20 | D99: 1 | E99: 0.87 | G99: mg/kg | H99: =Stats!BV93 -> 0.48 | I99: =Stats!BX93 -> 0.14 | J99: =Stats!CD93 -> 0.468 | L99: 93 | N99: =SUM(H99/1000000)*100 -> 4.8e-05
A100: Indeno(1,2,3-cd)pyrene | B100: mg/kg | C100: 9.6 | D100: 0 | E100: 0.39 | G100: mg/kg | H100: =Stats!BV94 -> 0.28 | I100: =Stats!BX94 -> 0.07 | J100: =Stats!CD94 -> 0.2728 | L100: 94 | N100: =SUM(H100/1000000)*100 -> 2.8e-05
A101: Dibenz(a,h)anthracene | B101: mg/kg | C101: 2.6 | D101: 3 | E101: 2.6 | G101: mg/kg | H101: =Stats!BV95 -> 0.1 | I101: =Stats!BX95 -> 0.06 | J101: =Stats!CD95 -> 0.0988 | L101: 95 | N101: =SUM(H101/1000000)*100 -> 1e-05
A102: Benzo(ghi)perylene | B102: mg/kg | C102: 10 | D102: 0 | E102: 0.41 | G102: mg/kg | H102: =Stats!BV96 -> 0.17 | I102: =Stats!BX96 -> 0.06 | J102: =Stats!CD96 -> 0.1656 | L102: 96 | N102: =SUM(H102/1000000)*100 -> 1.7e-05
A104: Maximum concentration | B104: % | C104: 0.07 | D104: - | G104: % | H104: =Stats!BW170 -> 0.05259152 | I104: -
A105: Median concentration | B105: % | C105: - | D105: 0.0085 | G105: % | H105: - | I105: =Stats!CB170 -> 0.01355839
