Workbook

Sheet Stats
D1: Elab | E1: Elab | F1: Elab | G1: I2 | H1: I2 | I1: I2 | J1: I2 | K1: I2 | L1: I2 | M1: I2 | N1: I2 | O1: I2 | P1: I2 | Q1: I2 | V1: Max | W1: Min | X1: Median | Y1: Sdev | Z1: Relative SD | AA1: Variation | AB1: Average (Mean) | AC1: 95th Percentile | AD1: 99th Percentile | AF1: Heavy Metals Avg | AG1: Heavy Metals Max
A2: Sheet Name | C2: UOM | D2: K | E2: K | F2: K | G2: K | H2: K | I2: K | J2: K | K2: K | L2: K | M2: K | N2: K | O2: K | P2: K | Q2: K
A3: ELAB Reference | D3: 283456 | E3: 286354 | F3: 286795 | G3: 1924522 | H3: 1949704 | I3: 1995649 | J3: 2057850 | K3: 2099133 | L3: 2117354 | M3: 2151022 | N3: 2178695 | O3: 2220774 | P3: 2244009 | Q3: 2272581
A4: Customer Reference | F4: Wood | G4: PLA0000144/K | H4: PLA000217/K | I4: PLA000311/K | J4: PLA000492/K | K4: PLA000628/K | L4: PLA000655/K | M4: PLA000786/K | N4: PLA000910/K | O4: PLA001040/K | P4: PLA001099/K | Q4: PLA001139/K
A5: Sample ID | D5: PLA1202/K | E5: PLA001233/K | F5: PLA001247/AT | G5: None Supplied | H5: None Supplied | I5: None Supplied | J5: None Supplied | K5: None Supplied | L5: None Supplied | M5: None Supplied | N5: None Supplied | O5: None Supplied | P5: None Supplied | Q5: None Supplied
A6: Sample Type
A7: Sample Location
A8: Sample Depth (m) | G8: None Supplied | H8: None Supplied | I8: None Supplied | J8: None Supplied | K8: None Supplied | L8: None Supplied | M8: None Supplied | N8: None Supplied | O8: None Supplied | P8: None Supplied | Q8: None Supplied
A9: Sampling Date | D9: 03/06/2022 | E9: 28/06/2022 | F9: 06/07/2022 | G9: 30/06/2021 | H9: 22/07/2021 | I9: 26/08/2021 | J9: 15/10/2021 | K9: 25/11/2021 | L9: 01/12/2021 | M9: 20/01/2022 | N9: 15/02/2022 | O9: 25/03/2022 | P9: 11/04/2022 | Q9: 05/05/2022
A10: Sampling Time | D10: 0 | E10: 16:00 | F10: 0 | G10: 2110 | H10: 0050 | I10: 1120 | J10: 1940 | K10: 1140 | L10: None Supplied | M10: 1150 | N10: 1430 | O10: 0430 | P10: 2045 | Q10: 1530
A11: Determinand | B11: SAMPPREP | D11: 0 | E11: 0 | F11: 0 | G11: < 0.1 | H11: < 0.1 | I11: < 0.1 | J11: < 0.1 | K11: < 0.1 | L11: < 0.1 | M11: < 0.1 | N11: < 0.1 | O11: < 0.1 | P11: < 0.1 | Q11: < 0.1
A12: Moisture Content | B12: SAMPPREP | D12: 2.3 | E12: 1.5 | F12: 3.8 | G12: 0.78 | H12: 0.22 | I12: 1.8 | J12: 3.0 | K12: 1.9 | L12: 1.2 | M12: 3.2 | N12: 3.6 | O12: 0.38 | P12: 1.5 | Q12: 1.1 | S12: Tests | T12: No. below LOD | U12: % Below LOD | V12: Max | W12: Min | X12: Median | Y12: Sdev | Z12: Relative SD | AA12: Variation | AB12: Average (Mean) | AC12: 95th Percentile | AD12: 99th Percentile | AF12: Heavy Metals Avg | AG12: Heavy Metals Max
A13: Material removed | B13: SAMPPREP | D13: 94.5 | E13: 97.6 | F13: 97.3 | G13: 0.30 | H13: 0.20 | I13: 0.30 | J13: 0.10 | K13: 0.20 | L13: 0.10 | M13: 0.30 | N13: 0.10 | O13: 0.3 | P13: 0.3 | Q13: 0.3 | AF13: =(SUM(AB16,AB15,AB17,AB18,AB19,AB20,AB21,AB22,AB23,AB25)) -> 75.820653 | AG13: =SUM(V15:V21,V23:V25) -> 337.7
A14: Description of Inert material removed | B14: METALS | D14: Sawdust | E14: All Sawdust | F14: All Sawdust
A15: Cadmium | B15: METALS | D15: <0.2 | E15: <0.2 | F15: 0.2 | G15: < 0.2 | H15: < 0.2 | I15: < 0.2 | J15: < 0.2 | K15: < 0.2 | L15: 0.4 | M15: < 0.2 | N15: < 0.2 | O15: < 0.2 | P15: < 0.2 | Q15: 0.3 | S15: 14 | T15: 11 | U15: =IFERROR(T15/S15,"") -> 0.78571429 | V15: =MAX(D15:Q15) -> 0.4 | W15: =MIN(D15:Q15) -> 0.2 | X15: =MEDIAN(D15:Q15) -> 0.3 | Y15: =STDEV(D15:Q15) -> 0.1 | Z15: =((Y15*100)/AB15) -> 33.333333 | AA15: =VAR(D15:Q15) -> 0.01 | AB15: =AVERAGE(D15:Q15) -> 0.3 | AC15: =_xlfn.PERCENTILE.INC(D15:Q15,0.95) -> 0.39 | AD15: =_xlfn.PERCENTILE.INC(D15:Q15,0.99) -> 0.398
A16: Chromium | B16: METALS | D16: 1.4 | E16: <1.0 | F16: 6 | G16: < 1.0 | H16: < 1.0 | I16: 1 | J16: < 1.0 | K16: 1.1 | L16: 27 | M16: 1.8 | N16: 1.6 | O16: < 1.0 | P16: 1.1 | Q16: 11 | S16: 14 | T16: 5 | U16: =IFERROR(T16/S16,"") -> 0.35714286 | V16: =MAX(D16:Q16) -> 27 | W16: =MIN(D16:Q16) -> 1 | X16: =MEDIAN(D16:Q16) -> 1.6 | Y16: =STDEV(D16:Q16) -> 8.6366628 | Z16: =((Y16*100)/AB16) -> 149.4807 | AA16: =VAR(D16:Q16) -> 74.591944 | AB16: =AVERAGE(D16:Q16) -> 5.7777778 | AC16: =_xlfn.PERCENTILE.INC(D16:Q16,0.95) -> 20.6 | AD16: =_xlfn.PERCENTILE.INC(D16:Q16,0.99) -> 25.72
A17: Copper | B17: METALS | D17: <4.0 | E17: <4.0 | F17: 13.2 | G17: 4.3 | H17: 2.5 | I17: 8.3 | J17: 4.2 | K17: 4.9 | L17: 36 | M17: 6.9 | N17: 13 | O17: 5.5 | P17: 7.3 | Q17: 17 | S17: 14 | T17: 2 | U17: =IFERROR(T17/S17,"") -> 0.14285714 | V17: =MAX(D17:Q17) -> 36 | W17: =MIN(D17:Q17) -> 2.5 | X17: =MEDIAN(D17:Q17) -> 7.1 | Y17: =STDEV(D17:Q17) -> 9.2040958 | Z17: =((Y17*100)/AB17) -> 89.723111 | AA17: =VAR(D17:Q17) -> 84.715379 | AB17: =AVERAGE(D17:Q17) -> 10.258333 | AC17: =_xlfn.PERCENTILE.INC(D17:Q17,0.95) -> 25.55 | AD17: =_xlfn.PERCENTILE.INC(D17:Q17,0.99) -> 33.91
A18: Lead | B18: METALS | D18: 3.3 | E18: 1.2 | F18: 29.1 | G18: 2.8 | H18: 1.6 | I18: 4 | J18: 1.7 | K18: 5.2 | L18: 53 | M18: 4.5 | N18: 6.9 | O18: 5.3 | P18: 4.1 | Q18: 25 | S18: 14 | T18: 0 | U18: =IFERROR(T18/S18,"") -> 0 | V18: =MAX(D18:Q18) -> 53 | W18: =MIN(D18:Q18) -> 1.2 | X18: =MEDIAN(D18:Q18) -> 4.3 | Y18: =STDEV(D18:Q18) -> 14.946044 | Z18: =((Y18*100)/AB18) -> 141.66866 | AA18: =VAR(D18:Q18) -> 223.38423 | AB18: =AVERAGE(D18:Q18) -> 10.55 | AC18: =_xlfn.PERCENTILE.INC(D18:Q18,0.95) -> 37.465 | AD18: =_xlfn.PERCENTILE.INC(D18:Q18,0.99) -> 49.893
A19: Mercury | B19: METALS | D19: <0.1 | E19: <0.1 | F19: <0.1 | G19: < 0.3 | H19: < 0.3 | I19: < 0.3 | J19: < 0.3 | K19: < 0.3 | L19: < 0.3 | M19: < 0.3 | N19: < 0.3 | O19: < 0.3 | P19: 0.6 | Q19: < 0.3 | S19: 14 | T19: 13 | U19: =IFERROR(T19/S19,"") -> 0.92857143 | V19: =MAX(D19:Q19) -> 0.6 | W19: =MIN(D19:Q19) -> 0.6 | X19: =MEDIAN(D19:Q19) -> 0.6 | Y19: =STDEV(D19:Q19) -> #DIV/0! | Z19: =((Y19*100)/AB19) -> #DIV/0! | AA19: =VAR(D19:Q19) -> #DIV/0! | AB19: =AVERAGE(D19:Q19) -> 0.6 | AC19: =_xlfn.PERCENTILE.INC(D19:Q19,0.95) -> 0.6 | AD19: =_xlfn.PERCENTILE.INC(D19:Q19,0.99) -> 0.6
A20: Nickel | B20: METALS | D20: <1.0 | E20: <1.0 | F20: 1.3 | G20: < 1.0 | H20: < 1.0 | I20: < 1.0 | J20: < 1.0 | K20: < 1.0 | L20: 5.7 | M20: < 1.0 | N20: < 1.0 | O20: < 1.0 | P20: 1 | Q20: 3.2 | S20: 14 | T20: 10 | U20: =IFERROR(T20/S20,"") -> 0.71428571 | V20: =MAX(D20:Q20) -> 5.7 | W20: =MIN(D20:Q20) -> 1 | X20: =MEDIAN(D20:Q20) -> 2.25 | Y20: =STDEV(D20:Q20) -> 2.1648711 | Z20: =((Y20*100)/AB20) -> 77.316823 | AA20: =VAR(D20:Q20) -> 4.6866667 | AB20: =AVERAGE(D20:Q20) -> 2.8 | AC20: =_xlfn.PERCENTILE.INC(D20:Q20,0.95) -> 5.325 | AD20: =_xlfn.PERCENTILE.INC(D20:Q20,0.99) -> 5.625
A21: Zinc | B21: INORGANICS | D21: 14.5 | E21: 7.3 | F21: 60.7 | G21: 26 | H21: 22 | I21: 28 | J21: 16 | K21: 25 | L21: 170 | M21: 20 | N21: 26 | O21: 20 | P21: 26 | Q21: 63 | S21: 14 | T21: 0 | U21: =IFERROR(T21/S21,"") -> 0 | V21: =MAX(D21:Q21) -> 170 | W21: =MIN(D21:Q21) -> 7.3 | X21: =MEDIAN(D21:Q21) -> 25.5 | Y21: =STDEV(D21:Q21) -> 41.272092 | Z21: =((Y21*100)/AB21) -> 110.16383 | AA21: =VAR(D21:Q21) -> 1703.3855 | AB21: =AVERAGE(D21:Q21) -> 37.464286 | AC21: =_xlfn.PERCENTILE.INC(D21:Q21,0.95) -> 100.45 | AD21: =_xlfn.PERCENTILE.INC(D21:Q21,0.99) -> 156.09
A22: Acid Soluble Chloride | B22: INORGANICS | D22: 0.01 | E22: <0.01 | F22: <0.01 | S22: 3 | T22: 2 | U22: =IFERROR(T22/S22,"") -> 0.66666667 | V22: =MAX(D22:Q22) -> 0.01 | W22: =MIN(D22:Q22) -> 0.01 | X22: =MEDIAN(D22:Q22) -> 0.01 | Y22: =STDEV(D22:Q22) -> #DIV/0! | Z22: =((Y22*100)/AB22) -> #DIV/0! | AA22: =VAR(D22:Q22) -> #DIV/0! | AB22: =AVERAGE(D22:Q22) -> 0.01 | AC22: =_xlfn.PERCENTILE.INC(D22:Q22,0.95) -> 0.01 | AD22: =_xlfn.PERCENTILE.INC(D22:Q22,0.99) -> 0.01
A23: Arsenic | B23: METALS | D23: 0.7 | E23: <0.5 | F23: 1.7 | G23: 1.4 | H23: 1 | I23: 2 | J23: 1.5 | K23: 1.2 | L23: 6 | M23: 1.5 | N23: 1.2 | O23: 1.3 | P23: 1.1 | Q23: 2.5 | S23: 14 | T23: 1 | U23: =IFERROR(T23/S23,"") -> 0.071428571 | V23: =MAX(D23:Q23) -> 6 | W23: =MIN(D23:Q23) -> 0.7 | X23: =MEDIAN(D23:Q23) -> 1.4 | Y23: =STDEV(D23:Q23) -> 1.348551 | Z23: =((Y23*100)/AB23) -> 75.892479 | AA23: =VAR(D23:Q23) -> 1.8185897 | AB23: =AVERAGE(D23:Q23) -> 1.7769231 | AC23: =_xlfn.PERCENTILE.INC(D23:Q23,0.95) -> 3.9 | AD23: =_xlfn.PERCENTILE.INC(D23:Q23,0.99) -> 5.58
A24: Selenium | B24: METALS | D24: <1.0 | E24: <1.0 | F24: <1.0 | G24: < 1.0 | H24: < 1.0 | I24: < 1.0 | J24: < 1.0 | K24: < 1.0 | L24: < 1.0 | M24: < 1.0 | N24: < 1.0 | O24: < 1.0 | P24: < 1.0 | Q24: < 1.0 | S24: 14 | T24: 14 | U24: =IFERROR(T24/S24,"") -> 1 | V24: =MAX(D24:Q24) -> 0 | W24: =MIN(D24:Q24) -> 0 | X24: =MEDIAN(D24:Q24) -> #NUM! | Y24: =STDEV(D24:Q24) -> #DIV/0! | Z24: =((Y24*100)/AB24) -> #DIV/0! | AA24: =VAR(D24:Q24) -> #DIV/0! | AB24: =AVERAGE(D24:Q24) -> #DIV/0! | AC24: =_xlfn.PERCENTILE.INC(D24:Q24,0.95) -> #NUM! | AD24: =_xlfn.PERCENTILE.INC(D24:Q24,0.99) -> #NUM!
A25: Water Soluble Boron | B25: SVOC | D25: <0.5 | E25: <0.5 | F25: 2.6 | G25: 2.7 | H25: 2.7 | I25: 2.9 | J25: 2.3 | K25: 3.2 | L25: 39 | M25: 3.6 | N25: 3.7 | O25: 2.5 | P25: 4.3 | Q25: 5.9 | S25: 14 | T25: 2 | U25: =IFERROR(T25/S25,"") -> 0.14285714 | V25: =MAX(D25:Q25) -> 39 | W25: =MIN(D25:Q25) -> 2.3 | X25: =MEDIAN(D25:Q25) -> 3.05 | Y25: =STDEV(D25:Q25) -> 10.351621 | Z25: =((Y25*100)/AB25) -> 164.74729 | AA25: =VAR(D25:Q25) -> 107.15606 | AB25: =AVERAGE(D25:Q25) -> 6.2833333 | AC25: =_xlfn.PERCENTILE.INC(D25:Q25,0.95) -> 20.795 | AD25: =_xlfn.PERCENTILE.INC(D25:Q25,0.99) -> 35.359
A26: Phenol | B26: SVOC | D26: 0.27 | E26: 0.18 | F26: 9.58 | G26: < 0.2 | H26: < 0.2 | I26: < 0.2 | J26: < 0.2 | K26: < 0.2 | L26: < 0.2 | M26: < 0.2 | N26: < 0.2 | O26: < 0.2 | P26: < 0.2 | Q26: < 0.2 | S26: 14 | T26: 11 | U26: =IFERROR(T26/S26,"") -> 0.78571429 | V26: =MAX(D26:Q26) -> 9.58 | W26: =MIN(D26:Q26) -> 0.18 | X26: =MEDIAN(D26:Q26) -> 0.27 | Y26: =STDEV(D26:Q26) -> 5.4012992 | Z26: =((Y26*100)/AB26) -> 161.55431 | AA26: =VAR(D26:Q26) -> 29.174033 | AB26: =AVERAGE(D26:Q26) -> 3.3433333 | AC26: =_xlfn.PERCENTILE.INC(D26:Q26,0.95) -> 8.649 | AD26: =_xlfn.PERCENTILE.INC(D26:Q26,0.99) -> 9.3938
A27: Aniline | B27: SVOC | D27: <0.01 | E27: <0.01 | F27: <0.01 | G27: < 0.1 | H27: < 0.1 | I27: < 0.1 | J27: < 0.1 | K27: < 0.1 | L27: < 0.1 | M27: < 0.1 | N27: < 0.1 | O27: < 0.1 | P27: < 0.1 | Q27: < 0.1 | S27: 14 | T27: 14 | U27: =IFERROR(T27/S27,"") -> 1 | V27: =MAX(D27:Q27) -> 0 | W27: =MIN(D27:Q27) -> 0 | X27: =MEDIAN(D27:Q27) -> #NUM! | Y27: =STDEV(D27:Q27) -> #DIV/0! | Z27: =((Y27*100)/AB27) -> #DIV/0! | AA27: =VAR(D27:Q27) -> #DIV/0! | AB27: =AVERAGE(D27:Q27) -> #DIV/0! | AC27: =_xlfn.PERCENTILE.INC(D27:Q27,0.95) -> #NUM! | AD27: =_xlfn.PERCENTILE.INC(D27:Q27,0.99) -> #NUM!
A28: Bis(2-chloroethyl)ether | B28: SVOC | D28: <0.01 | E28: <0.01 | F28: <0.01 | G28: < 0.2 | H28: < 0.2 | I28: < 0.2 | J28: < 0.2 | K28: < 0.2 | L28: < 0.2 | M28: < 0.2 | N28: < 0.2 | O28: < 0.2 | P28: < 0.2 | Q28: < 0.2 | S28: 14 | T28: 14 | U28: =IFERROR(T28/S28,"") -> 1 | V28: =MAX(D28:Q28) -> 0 | W28: =MIN(D28:Q28) -> 0 | X28: =MEDIAN(D28:Q28) -> #NUM! | Y28: =STDEV(D28:Q28) -> #DIV/0! | Z28: =((Y28*100)/AB28) -> #DIV/0! | AA28: =VAR(D28:Q28) -> #DIV/0! | AB28: =AVERAGE(D28:Q28) -> #DIV/0! | AC28: =_xlfn.PERCENTILE.INC(D28:Q28,0.95) -> #NUM! | AD28: =_xlfn.PERCENTILE.INC(D28:Q28,0.99) -> #NUM!
A29: 2-Chlorophenol | B29: SVOC | D29: <0.01 | E29: <0.01 | F29: <0.01 | G29: < 0.1 | H29: < 0.1 | I29: < 0.1 | J29: < 0.1 | K29: < 0.1 | L29: < 0.1 | M29: < 0.1 | N29: < 0.1 | O29: < 0.1 | P29: < 0.1 | Q29: < 0.1 | S29: 14 | T29: 14 | U29: =IFERROR(T29/S29,"") -> 1 | V29: =MAX(D29:Q29) -> 0 | W29: =MIN(D29:Q29) -> 0 | X29: =MEDIAN(D29:Q29) -> #NUM! | Y29: =STDEV(D29:Q29) -> #DIV/0! | Z29: =((Y29*100)/AB29) -> #DIV/0! | AA29: =VAR(D29:Q29) -> #DIV/0! | AB29: =AVERAGE(D29:Q29) -> #DIV/0! | AC29: =_xlfn.PERCENTILE.INC(D29:Q29,0.95) -> #NUM! | AD29: =_xlfn.PERCENTILE.INC(D29:Q29,0.99) -> #NUM!
A30: 1,3-Dichlorobenzene | B30: SVOC | D30: <0.01 | E30: <0.01 | F30: <0.01 | G30: < 0.2 | H30: < 0.2 | I30: < 0.2 | J30: < 0.2 | K30: < 0.2 | L30: < 0.2 | M30: < 0.2 | N30: < 0.2 | O30: < 0.2 | P30: < 0.2 | Q30: < 0.2 | S30: 14 | T30: 14 | U30: =IFERROR(T30/S30,"") -> 1 | V30: =MAX(D30:Q30) -> 0 | W30: =MIN(D30:Q30) -> 0 | X30: =MEDIAN(D30:Q30) -> #NUM! | Y30: =STDEV(D30:Q30) -> #DIV/0! | Z30: =((Y30*100)/AB30) -> #DIV/0! | AA30: =VAR(D30:Q30) -> #DIV/0! | AB30: =AVERAGE(D30:Q30) -> #DIV/0! | AC30: =_xlfn.PERCENTILE.INC(D30:Q30,0.95) -> #NUM! | AD30: =_xlfn.PERCENTILE.INC(D30:Q30,0.99) -> #NUM!
A31: 1,4-Dichlorobenzene | B31: SVOC | D31: <0.01 | E31: <0.01 | F31: <0.01 | G31: < 0.2 | H31: < 0.2 | I31: < 0.2 | J31: < 0.2 | K31: < 0.2 | L31: < 0.2 | M31: < 0.2 | N31: < 0.2 | O31: < 0.2 | P31: < 0.2 | Q31: < 0.2 | S31: 14 | T31: 14 | U31: =IFERROR(T31/S31,"") -> 1 | V31: =MAX(D31:Q31) -> 0 | W31: =MIN(D31:Q31) -> 0 | X31: =MEDIAN(D31:Q31) -> #NUM! | Y31: =STDEV(D31:Q31) -> #DIV/0! | Z31: =((Y31*100)/AB31) -> #DIV/0! | AA31: =VAR(D31:Q31) -> #DIV/0! | AB31: =AVERAGE(D31:Q31) -> #DIV/0! | AC31: =_xlfn.PERCENTILE.INC(D31:Q31,0.95) -> #NUM! | AD31: =_xlfn.PERCENTILE.INC(D31:Q31,0.99) -> #NUM!
A32: Benzyl Alcohol | B32: SVOC | D32: <0.01 | E32: <0.01 | F32: <0.01 | S32: 3 | T32: 3 | U32: =IFERROR(T32/S32,"") -> 1 | V32: =MAX(D32:Q32) -> 0 | W32: =MIN(D32:Q32) -> 0 | X32: =MEDIAN(D32:Q32) -> #NUM! | Y32: =STDEV(D32:Q32) -> #DIV/0! | Z32: =((Y32*100)/AB32) -> #DIV/0! | AA32: =VAR(D32:Q32) -> #DIV/0! | AB32: =AVERAGE(D32:Q32) -> #DIV/0! | AC32: =_xlfn.PERCENTILE.INC(D32:Q32,0.95) -> #NUM! | AD32: =_xlfn.PERCENTILE.INC(D32:Q32,0.99) -> #NUM!
A33: 1,2-Dichlorobenzene | B33: SVOC | D33: <0.01 | E33: <0.01 | F33: <0.01 | G33: < 0.1 | H33: < 0.1 | I33: < 0.1 | J33: < 0.1 | K33: < 0.1 | L33: < 0.1 | M33: < 0.1 | N33: < 0.1 | O33: < 0.1 | P33: < 0.1 | Q33: < 0.1 | S33: 14 | T33: 14 | U33: =IFERROR(T33/S33,"") -> 1 | V33: =MAX(D33:Q33) -> 0 | W33: =MIN(D33:Q33) -> 0 | X33: =MEDIAN(D33:Q33) -> #NUM! | Y33: =STDEV(D33:Q33) -> #DIV/0! | Z33: =((Y33*100)/AB33) -> #DIV/0! | AA33: =VAR(D33:Q33) -> #DIV/0! | AB33: =AVERAGE(D33:Q33) -> #DIV/0! | AC33: =_xlfn.PERCENTILE.INC(D33:Q33,0.95) -> #NUM! | AD33: =_xlfn.PERCENTILE.INC(D33:Q33,0.99) -> #NUM!
A34: 2-Methylphenol | B34: SVOC | D34: 0.05 | E34: 0.05 | F34: 0.05 | G34: < 0.3 | H34: < 0.3 | I34: < 0.3 | J34: < 0.3 | K34: < 0.3 | L34: < 0.3 | M34: < 0.3 | N34: < 0.3 | O34: < 0.3 | P34: < 0.3 | Q34: < 0.3 | S34: 14 | T34: 11 | U34: =IFERROR(T34/S34,"") -> 0.78571429 | V34: =MAX(D34:Q34) -> 0.05 | W34: =MIN(D34:Q34) -> 0.05 | X34: =MEDIAN(D34:Q34) -> 0.05 | Y34: =STDEV(D34:Q34) -> 8.4983747e-18 | Z34: =((Y34*100)/AB34) -> 1.6996749e-14 | AA34: =VAR(D34:Q34) -> 7.2222373e-35 | AB34: =AVERAGE(D34:Q34) -> 0.05 | AC34: =_xlfn.PERCENTILE.INC(D34:Q34,0.95) -> 0.05 | AD34: =_xlfn.PERCENTILE.INC(D34:Q34,0.99) -> 0.05
A35: Bis(2-chloroisopropyl)ether | B35: SVOC | D35: <0.01 | E35: <0.01 | F35: <0.01 | G35: < 0.1 | H35: < 0.1 | I35: < 0.1 | J35: < 0.1 | K35: < 0.1 | L35: < 0.1 | M35: < 0.1 | N35: < 0.1 | O35: < 0.1 | P35: < 0.1 | Q35: < 0.1 | S35: 14 | T35: 14 | U35: =IFERROR(T35/S35,"") -> 1 | V35: =MAX(D35:Q35) -> 0 | W35: =MIN(D35:Q35) -> 0 | X35: =MEDIAN(D35:Q35) -> #NUM! | Y35: =STDEV(D35:Q35) -> #DIV/0! | Z35: =((Y35*100)/AB35) -> #DIV/0! | AA35: =VAR(D35:Q35) -> #DIV/0! | AB35: =AVERAGE(D35:Q35) -> #DIV/0! | AC35: =_xlfn.PERCENTILE.INC(D35:Q35,0.95) -> #NUM! | AD35: =_xlfn.PERCENTILE.INC(D35:Q35,0.99) -> #NUM!
A36: 3 and 4-methylphenol | B36: SVOC | D36: 0.11 | E36: 0.08 | F36: 0.11 | S36: 3 | T36: 0 | U36: =IFERROR(T36/S36,"") -> 0 | V36: =MAX(D36:Q36) -> 0.11 | W36: =MIN(D36:Q36) -> 0.08 | X36: =MEDIAN(D36:Q36) -> 0.11 | Y36: =STDEV(D36:Q36) -> 0.017320508 | Z36: =((Y36*100)/AB36) -> 17.320508 | AA36: =VAR(D36:Q36) -> 0.0003 | AB36: =AVERAGE(D36:Q36) -> 0.1 | AC36: =_xlfn.PERCENTILE.INC(D36:Q36,0.95) -> 0.11 | AD36: =_xlfn.PERCENTILE.INC(D36:Q36,0.99) -> 0.11
A37: N-Nitrosodi-n-propylamine | B37: SVOC | D37: <0.01 | E37: <0.01 | F37: <0.01 | S37: 3 | T37: 3 | U37: =IFERROR(T37/S37,"") -> 1 | V37: =MAX(D37:Q37) -> 0 | W37: =MIN(D37:Q37) -> 0 | X37: =MEDIAN(D37:Q37) -> #NUM! | Y37: =STDEV(D37:Q37) -> #DIV/0! | Z37: =((Y37*100)/AB37) -> #DIV/0! | AA37: =VAR(D37:Q37) -> #DIV/0! | AB37: =AVERAGE(D37:Q37) -> #DIV/0! | AC37: =_xlfn.PERCENTILE.INC(D37:Q37,0.95) -> #NUM! | AD37: =_xlfn.PERCENTILE.INC(D37:Q37,0.99) -> #NUM!
A38: Hexachloroethane | B38: SVOC | D38: <0.01 | E38: <0.01 | F38: <0.01 | G38: < 0.05 | H38: < 0.05 | I38: < 0.05 | J38: < 0.05 | K38: < 0.05 | L38: < 0.05 | M38: < 0.05 | N38: < 0.05 | O38: < 0.05 | P38: < 0.05 | Q38: < 0.05 | S38: 14 | T38: 14 | U38: =IFERROR(T38/S38,"") -> 1 | V38: =MAX(D38:Q38) -> 0 | W38: =MIN(D38:Q38) -> 0 | X38: =MEDIAN(D38:Q38) -> #NUM! | Y38: =STDEV(D38:Q38) -> #DIV/0! | Z38: =((Y38*100)/AB38) -> #DIV/0! | AA38: =VAR(D38:Q38) -> #DIV/0! | AB38: =AVERAGE(D38:Q38) -> #DIV/0! | AC38: =_xlfn.PERCENTILE.INC(D38:Q38,0.95) -> #NUM! | AD38: =_xlfn.PERCENTILE.INC(D38:Q38,0.99) -> #NUM!
A39: Nitrobenzene | B39: SVOC | D39: <0.01 | E39: <0.01 | F39: <0.01 | G39: < 0.3 | H39: < 0.3 | I39: < 0.3 | J39: < 0.3 | K39: < 0.3 | L39: < 0.3 | M39: < 0.3 | N39: < 0.3 | O39: < 0.3 | P39: < 0.3 | Q39: < 0.3 | S39: 14 | T39: 14 | U39: =IFERROR(T39/S39,"") -> 1 | V39: =MAX(D39:Q39) -> 0 | W39: =MIN(D39:Q39) -> 0 | X39: =MEDIAN(D39:Q39) -> #NUM! | Y39: =STDEV(D39:Q39) -> #DIV/0! | Z39: =((Y39*100)/AB39) -> #DIV/0! | AA39: =VAR(D39:Q39) -> #DIV/0! | AB39: =AVERAGE(D39:Q39) -> #DIV/0! | AC39: =_xlfn.PERCENTILE.INC(D39:Q39,0.95) -> #NUM! | AD39: =_xlfn.PERCENTILE.INC(D39:Q39,0.99) -> #NUM!
A40: Isophorone | B40: SVOC | D40: <0.01 | E40: <0.01 | F40: <0.01 | G40: < 0.2 | H40: < 0.2 | I40: < 0.2 | J40: < 0.2 | K40: < 0.2 | L40: < 0.2 | M40: < 0.2 | N40: < 0.2 | O40: < 0.2 | P40: < 0.2 | Q40: < 0.2 | S40: 14 | T40: 14 | U40: =IFERROR(T40/S40,"") -> 1 | V40: =MAX(D40:Q40) -> 0 | W40: =MIN(D40:Q40) -> 0 | X40: =MEDIAN(D40:Q40) -> #NUM! | Y40: =STDEV(D40:Q40) -> #DIV/0! | Z40: =((Y40*100)/AB40) -> #DIV/0! | AA40: =VAR(D40:Q40) -> #DIV/0! | AB40: =AVERAGE(D40:Q40) -> #DIV/0! | AC40: =_xlfn.PERCENTILE.INC(D40:Q40,0.95) -> #NUM! | AD40: =_xlfn.PERCENTILE.INC(D40:Q40,0.99) -> #NUM!
...

Sheet Comparators
A1: PAS 111 | L1: Stats tab row ref.
A2: Substance | B2: Units | C2: Panel Board Manufacture | D2: Porous Surfaces | E2: Non-Porous Surfaces
G4: Units | H4: MAX | I4: MEDIAN | J4: 99th Per.
A5: Arsenic | B5: mg/kg | C5: 25 | D5: - | E5: - | G5: mg/kg | H5: =Stats!V23 -> 6 | I5: =Stats!X23 -> 1.4 | J5: =Stats!AD23 -> 5.58 | L5: 23
A6: Cadmium | B6: mg/kg | C6: 50 | D6: 1.5 | E6: 1.5 | G6: mg/kg | H6: =Stats!V15 -> 0.4 | I6: =Stats!X15 -> 0.3 | J6: =Stats!AD15 -> 0.398 | L6: 15
A7: Chromium | B7: mg/kg | C7: 25 | D7: 100 | E7: 100 | G7: mg/kg | H7: =Stats!V16 -> 27 | I7: =Stats!X16 -> 1.6 | J7: =Stats!AD16 -> 25.72 | L7: 16
A8: Copper | B8: mg/kg | C8: 40 | D8: 200 | E8: 200 | G8: mg/kg | H8: =Stats!V17 -> 36 | I8: =Stats!X17 -> 7.1 | J8: =Stats!AD17 -> 33.91 | L8: 17
A9: Fluorine | B9: mg/kg | C9: 100 | D9: - | E9: - | G9: mg/kg | H9: - | I9: - | J9: - | L9: -
A10: Chlorine | B10: mg/kg | C10: 1000 | D10: - | E10: - | G10: mg/kg | H10: - | I10: - | J10: - | L10: -
A11: Lead | B11: mg/kg | C11: 90 | D11: 200 | E11: 200 | G11: mg/kg | H11: =Stats!V18 -> 53 | I11: =Stats!X18 -> 4.3 | J11: =Stats!AD18 -> 49.893 | L11: 18
A12: Mercury | B12: mg/kg | C12: 25 | D12: 1 | E12: 1 | G12: mg/kg | H12: =Stats!V19 -> 0.6 | I12: =Stats!X19 -> 0.6 | J12: =Stats!AD19 -> 0.6 | L12: 19
A13: Nickel | B13: mg/kg | C13: - | D13: 50 | E13: 50 | G13: mg/kg | H13: =Stats!V20 -> 5.7 | I13: =Stats!X20 -> 2.25 | J13: =Stats!AD20 -> 5.625 | L13: 20
A14: Zinc | B14: mg/kg | C14: - | D14: 400 | E14: 400 | G14: mg/kg | H14: =Stats!V21 -> 170 | I14: =Stats!X21 -> 25.5 | J14: =Stats!AD21 -> 156.09 | L14: 21
A15: Heavy metals (combined) | B15: mg/kg | C15: 4000 | D15: Trace | E15: Trace | G15: mg/kg | H15: 337.7 | I15: N/A | J15: N/A
A16: Benzo(a)pyrene | B16: mg/kg | C16: 0.5 | D16: Trace | E16: Trace | G16: mg/kg | H16: =Stats!V93 -> 0.05 | I16: =Stats!X93 -> 0.03 | J16: =Stats!AD93 -> 0.0496 | L16: 93
A17: Pentachlorophenol (PCP) | B17: mg/kg | C17: 5 | D17: - | E17: - | G17: mg/kg | H17: <0.01 | I17: N/A | J17: N/A | L17: 78
A19: STRAW | G19: Units | H19: MAX | I19: MEDIAN | J19: 99th Per. | L19: Row ref.
A20: Acenaphthene | B20: µg/kg | C20: 10.03 | G20: mg/kg | H20: =Stats!V64 -> 0.08 | I20: =Stats!X64 -> 0.045 | J20: =Stats!AD64 -> 0.0793 | L20: 64
A21: Acenaphthylene | B21: µg/kg | C21: 9 | G21: mg/kg | H21: =Stats!V61 -> 0.01 | I21: =Stats!X61 -> 0.01 | J21: =Stats!AD61 -> 0.01 | L21: 61
A22: Anthracene | B22: µg/kg | C22: 200 | G22: mg/kg | H22: =Stats!V80 -> 0.2 | I22: =Stats!X80 -> 0.18 | J22: =Stats!AD80 -> 0.1996 | L22: 80
A23: Benzo(a)anthracene | B23: µg/kg | C23: 200 | G23: mg/kg | H23: =Stats!V88 -> 0.32 | I23: =Stats!X88 -> 0.25 | J23: =Stats!AD88 -> 0.3186 | L23: 88
A24: Benzo(a)pyrene | B24: µg/kg | C24: 200 | G24: mg/kg | H24: =Stats!V93 -> 0.05 | I24: =Stats!X93 -> 0.03 | J24: =Stats!AD93 -> 0.0496 | L24: 93
A25: Benzo(b)fluoranthene | B25: µg/kg | C25: 200 | G25: mg/kg | H25: =Stats!V91 -> 0.07 | I25: =Stats!X91 -> 0.04 | J25: =Stats!AD91 -> 0.0694 | L25: 91
A26: Benzo(ghi)perylene | B26: µg/kg | C26: 10 | G26: mg/kg | H26: =Stats!V96 -> 0.03 | I26: =Stats!X96 -> 0.03 | J26: =Stats!AD96 -> 0.03 | L26: 96
A27: Benzo(k)fluoranthene | B27: µg/kg | C27: 200 | G27: mg/kg | H27: =Stats!V92 -> 0.07 | I27: =Stats!X92 -> 0.07 | J27: =Stats!AD92 -> 0.07 | L27: 92
A28: Chrysene | B28: µg/kg | C28: 300 | G28: mg/kg | H28: =Stats!V89 -> 0.29 | I28: =Stats!X89 -> 0.075 | J28: =Stats!AD89 -> 0.2849 | L28: 89
A29: Dibenz(ah)anthracene | B29: µg/kg | C29: 30 | G29: mg/kg | H29: =Stats!V95 -> 0.03 | I29: =Stats!X95 -> 0.03 | J29: =Stats!AD95 -> 0.03 | L29: 95
A30: Fluoranthene | B30: µg/kg | C30: 200 | G30: mg/kg | H30: =Stats!V83 -> 1.6 | I30: =Stats!X83 -> 0.35 | J30: =Stats!AD83 -> 1.5752 | L30: 83
A31: Fluorene | B31: µg/kg | C31: 90 | G31: mg/kg | H31: =Stats!V71 -> 0.1 | I31: =Stats!X71 -> 0.055 | J31: =Stats!AD71 -> 0.0991 | L31: 71
A32: Indeno(1,2,3-c,d)pyrene | B32: µg/kg | C32: 300 | G32: mg/kg | H32: =Stats!V94 -> 0.04 | I32: =Stats!X94 -> 0.04 | J32: =Stats!AD94 -> 0.04 | L32: 94
A33: Naphthalene | B33: µg/kg | C33: 90 | G33: mg/kg | H33: =Stats!V46 -> 0.06 | I33: =Stats!X46 -> 0.02 | J33: =Stats!AD46 -> 0.0592 | L33: 46
A34: Phenanthrene | B34: µg/kg | C34: 200 | G34: mg/kg | H34: =Stats!V79 -> 1.5 | I34: =Stats!X79 -> 0.285 | J34: =Stats!AD79 -> 1.4695 | L34: 79
A35: Pyrene | B35: µg/kg | C35: 200 | G35: mg/kg | H35: =Stats!V84 -> 1.1 | I35: =Stats!X84 -> 0.29 | J35: =Stats!AD84 -> 1.0775 | L35: 84
A36: 1,2,3 Trichlorobenzene | B36: µg/kg | C36: 7 | G36: µg/kg | H36: <10.0 | I36: N/A | J36: N/A | L36: 148
A37: 1,2,4 Trichlorobenzene | B37: µg/kg | C37: 7 | G37: µg/kg | H37: <10.0 | I37: N/A | J37: N/A | L37: 150
A38: Hexachlorobutadiene | B38: µg/kg | C38: 8 | G38: µg/kg | H38: <10.0 | I38: N/A | J38: N/A | L38: 147
A39: 2,4,6-Tetrachlorophenol | B39: µg/kg | C39: 5000 | G39: µg/kg | H39: <0.1 | I39: N/A | J39: N/A | L39: 53
A40: 2,4,5-Trichlorophenol | B40: µg/kg | C40: 5000 | G40: mg/kg | H40: <0.2 | I40: N/A | J40: N/A | L40: 54
A41: 2,4-Dichlorophenol | B41: µg/kg | C41: 5000 | G41: mg/kg | H41: <0.3 | I41: N/A | J41: N/A | L41: 44
A42: 4-Chloro-3-methylphenol | B42: µg/kg | C42: 5000 | G42: mg/kg | H42: <0.1 | I42: N/A | J42: N/A | L42: 49
...
