Workbook

Sheet Stats
D1: Elab | E1: Elab | F1: Elab | G1: I2 | H1: I2 | I1: I2 | J1: I2 | K1: I2 | L1: I2 | M1: I2 | N1: I2 | O1: I2 | P1: I2 | Q1: I2 | V1: Max | W1: Min | X1: Median | Y1: Sdev | Z1: Relative SD | AA1: Variation | AB1: Average (Mean) | AC1: 95th Percentile | AD1: 99th Percentile | AF1: Heavy Metals Avg | AG1: Heavy Metals Max
A2: Sheet Name | C2: UOM | D2: K | E2: K | F2: K | G2: K | H2: K | I2: K | J2: K | K2: K | L2: K | M2: K | N2: K | O2: K | P2: K | Q2: K
A3: ELAB Reference | D3: 283456 | E3: 286354 | F3: 286795 | G3: 1924522 | H3: 1949704 | I3: 1995649 | J3: 2057850 | K3: 2099133 | L3: 2117354 | M3: 2151022 | N3: 2178695 | O3: 2220774 | P3: 2244009 | Q3: 2272581
A4: Customer Reference | F4: Wood | G4: PLA0000144/K | H4: PLA000217/K | I4: PLA000311/K | J4: PLA000492/K | K4: PLA000628/K | L4: PLA000655/K | M4: PLA000786/K | N4: PLA000910/K | O4: PLA001040/K | P4: PLA001099/K | Q4: PLA001139/K
A5: Sample ID | D5: PLA1202/K | E5: PLA001233/K | F5: PLA001247/AT | G5: None Supplied | H5: None Supplied | I5: None Supplied | J5: None Supplied | K5: None Supplied | L5: None Supplied | M5: None Supplied | N5: None Supplied | O5: None Supplied | P5: None Supplied | Q5: None Supplied
A6: Sample Type
A7: Sample Location
A8: Sample Depth (m) | G8: None Supplied | H8: None Supplied | I8: None Supplied | J8: None Supplied | K8: None Supplied | L8: None Supplied | M8: None Supplied | N8: None Supplied | O8: None Supplied | P8: None Supplied | Q8: None Supplied
A9: Sampling Date | D9: 03/06/2022 | E9: 28/06/2022 | F9: 06/07/2022 | G9: 30/06/2021 | H9: 22/07/2021 | I9: 26/08/2021 | J9: 15/10/2021 | K9: 25/11/2021 | L9: 01/12/2021 | M9: 20/01/2022 | N9: 15/02/2022 | O9: 25/03/2022 | P9: 11/04/2022 | Q9: 05/05/2022
A10: Sampling Time | D10: 0 | E10: 16:00 | F10: 0 | G10: 2110 | H10: 0050 | I10: 1120 | J10: 1940 | K10: 1140 | L10: None Supplied | M10: 1150 | N10: 1430 | O10: 0430 | P10: 2045 | Q10: 1530
A11: Determinand | B11: SAMPPREP | D11: 0 | E11: 0 | F11: 0 | G11: < 0.1 | H11: < 0.1 | I11: < 0.1 | J11: < 0.1 | K11: < 0.1 | L11: < 0.1 | M11: < 0.1 | N11: < 0.1 | O11: < 0.1 | P11: < 0.1 | Q11: < 0.1
A12: Moisture Content | B12: SAMPPREP | D12: 2.3 | E12: 1.5 | F12: 3.8 | G12: 0.78 | H12: 0.22 | I12: 1.8 | J12: 3.0 | K12: 1.9 | L12: 1.2 | M12: 3.2 | N12: 3.6 | O12: 0.38 | P12: 1.5 | Q12: 1.1 | S12: Tests | T12: No. below LOD | U12: % Below LOD | V12: Max | W12: Min | X12: Median | Y12: Sdev | Z12: Relative SD | AA12: Variation | AB12: Average (Mean) | AC12: 95th Percentile | AD12: 99th Percentile | AF12: Heavy Metals Avg | AG12: Heavy Metals Max
A13: Material removed | B13: SAMPPREP | D13: 94.5 | E13: 97.6 | F13: 97.3 | G13: 0.30 | H13: 0.20 | I13: 0.30 | J13: 0.10 | K13: 0.20 | L13: 0.10 | M13: 0.30 | N13: 0.10 | O13: 0.3 | P13: 0.3 | Q13: 0.3 | AF13: =(SUM(AB16,AB15,AB17,AB18,AB19,AB20,AB21,AB22,AB23,AB25)) -> 75.820653 | AG13: =SUM(V15:V21,V23:V25) -> 337.7
A14: Description of Inert material removed | B14: METALS | D14: Sawdust | E14: All Sawdust | F14: All Sawdust
A15: Cadmium | B15: METALS | D15: <0.2 | E15: <0.2 | F15: 0.2 | G15: < 0.2 | H15: < 0.2 | I15: < 0.2 | J15: < 0.2 | K15: < 0.2 | L15: 0.4 | M15: < 0.2 | N15: < 0.2 | O15: < 0.2 | P15: < 0.2 | Q15: 0.3 | S15: 14 | T15: 11 | U15: =IFERROR(T15/S15,"") -> 0.78571429 | V15: =MAX(D15:Q15) -> 0.4 | W15: =MIN(D15:Q15) -> 0.2 | X15: =MEDIAN(D15:Q15) -> 0.3 | Y15: =STDEV(D15:Q15) -> 0.1 | Z15: =((Y15*100)/AB15) -> 33.333333 | AA15: =VAR(D15:Q15) -> 0.01 | AB15: =AVERAGE(D15:Q15) -> 0.3 | AC15: =_xlfn.PERCENTILE.INC(D15:Q15,0.95) -> 0.39 | AD15: =_xlfn.PERCENTILE.INC(D15:Q15,0.99) -> 0.398
A16: Chromium | B16: METALS | D16: 1.4 | E16: <1.0 | F16: 6 | G16: < 1.0 | H16: < 1.0 | I16: 1 | J16: < 1.0 | K16: 1.1 | L16: 27 | M16: 1.8 | N16: 1.6 | O16: < 1.0 | P16: 1.1 | Q16: 11 | S16: 14 | T16: 5 | U16: =IFERROR(T16/S16,"") -> 0.35714286 | V16: =MAX(D16:Q16) -> 27 | W16: =MIN(D16:Q16) -> 1 | X16: =MEDIAN(D16:Q16) -> 1.6 | Y16: =STDEV(D16:Q16) -> 8.6366628 | Z16: =((Y16*100)/AB16) -> 149.4807 | AA16: =VAR(D16:Q16) -> 74.591944 | AB16: =AVERAGE(D16:Q16) -> 5.7777778 | AC16: =_xlfn.PERCENTILE.INC(D16:Q16,0.95) -> 20.6 | AD16: =_xlfn.PERCENTILE.INC(D16:Q16,0.99) -> 25.72
A17: Copper | B17: METALS | D17: <4.0 | E17: <4.0 | F17: 13.2 | G17: 4.3 | H17: 2.5 | I17: 8.3 | J17: 4.2 | K17: 4.9 | L17: 36 | M17: 6.9 | N17: 13 | O17: 5.5 | P17: 7.3 | Q17: 17 | S17: 14 | T17: 2 | U17: =IFERROR(T17/S17,"") -> 0.14285714 | V17: =MAX(D17:Q17) -> 36 | W17: =MIN(D17:Q17) -> 2.5 | X17: =MEDIAN(D17:Q17) -> 7.1 | Y17: =STDEV(D17:Q17) -> 9.2040958 | Z17: =((Y17*100)/AB17) -> 89.723111 | AA17: =VAR(D17:Q17) -> 84.715379 | AB17: =AVERAGE(D17:Q17) -> 10.258333 | AC17: =_xlfn.PERCENTILE.INC(D17:Q17,0.95) -> 25.55 | AD17: =_xlfn.PERCENTILE.INC(D17:Q17,0.99) -> 33.91
A18: Lead | B18: METALS | D18: 3.3 | E18: 1.2 | F18: 29.1 | G18: 2.8 | H18: 1.6 | I18: 4 | J18: 1.7 | K18: 5.2 | L18: 53 | M18: 4.5 | N18: 6.9 | O18: 5.3 | P18: 4.1 | Q18: 25 | S18: 14 | T18: 0 | U18: =IFERROR(T18/S18,"") -> 0 | V18: =MAX(D18:Q18) -> 53 | W18: =MIN(D18:Q18) -> 1.2 | X18: =MEDIAN(D18:Q18) -> 4.3 | Y18: =STDEV(D18:Q18) -> 14.946044 | Z18: =((Y18*100)/AB18) -> 141.66866 | AA18: =VAR(D18:Q18) -> 223.38423 | AB18: =AVERAGE(D18:Q18) -> 10.55 | AC18: =_xlfn.PERCENTILE.INC(D18:Q18,0.95) -> 37.465 | AD18: =_xlfn.PERCENTILE.INC(D18:Q18,0.99) -> 49.893
A19: Mercury | B19: METALS | D19: <0.1 | E19: <0.1 | F19: <0.1 | G19: < 0.3 | H19: < 0.3 | I19: < 0.3 | J19: < 0.3 | K19: < 0.3 | L19: < 0.3 | M19: < 0.3 | N19: < 0.3 | O19: < 0.3 | P19: 0.6 | Q19: < 0.3 | S19: 14 | T19: 13 | U19: =IFERROR(T19/S19,"") -> 0.92857143 | V19: =MAX(D19:Q19) -> 0.6 | W19: =MIN(D19:Q19) -> 0.6 | X19: =MEDIAN(D19:Q19) -> 0.6 | Y19: =STDEV(D19:Q19) -> #DIV/0! | Z19: =((Y19*100)/AB19) -> #DIV/0! | AA19: =VAR(D19:Q19) -> #DIV/0! | AB19: =AVERAGE(D19:Q19) -> 0.6 | AC19: =_xlfn.PERCENTILE.INC(D19:Q19,0.95) -> 0.6 | AD19: =_xlfn.PERCENTILE.INC(D19:Q19,0.99) -> 0.6
A20: Nickel | B20: METALS | D20: <1.0 | E20: <1.0 | F20: 1.3 | G20: < 1.0 | H20: < 1.0 | I20: < 1.0 | J20: < 1.0 | K20: < 1.0 | L20: 5.7 | M20: < 1.0 | N20: < 1.0 | O20: < 1.0 | P20: 1 | Q20: 3.2 | S20: 14 | T20: 10 | U20: =IFERROR(T20/S20,"") -> 0.71428571 | V20: =MAX(D20:Q20) -> 5.7 | W20: =MIN(D20:Q20) -> 1 | X20: =MEDIAN(D20:Q20) -> 2.25 | Y20: =STDEV(D20:Q20) -> 2.1648711 | Z20: =((Y20*100)/AB20) -> 77.316823 | AA20: =VAR(D20:Q20) -> 4.6866667 | AB20: =AVERAGE(D20:Q20) -> 2.8 | AC20: =_xlfn.PERCENTILE.INC(D20:Q20,0.95) -> 5.325 | AD20: =_xlfn.PERCENTILE.INC(D20:Q20,0.99) -> 5.625
A21: Zinc | B21: INORGANICS | D21: 14.5 | E21: 7.3 | F21: 60.7 | G21: 26 | H21: 22 | I21: 28 | J21: 16 | K21: 25 | L21: 170 | M21: 20 | N21: 26 | O21: 20 | P21: 26 | Q21: 63 | S21: 14 | T21: 0 | U21: =IFERROR(T21/S21,"") -> 0 | V21: =MAX(D21:Q21) -> 170 | W21: =MIN(D21:Q21) -> 7.3 | X21: =MEDIAN(D21:Q21) -> 25.5 | Y21: =STDEV(D21:Q21) -> 41.272092 | Z21: =((Y21*100)/AB21) -> 110.16383 | AA21: =VAR(D21:Q21) -> 1703.3855 | AB21: =AVERAGE(D21:Q21) -> 37.464286 | AC21: =_xlfn.PERCENTILE.INC(D21:Q21,0.95) -> 100.45 | AD21: =_xlfn.PERCENTILE.INC(D21:Q21,0.99) -> 156.09
A22: Acid Soluble Chloride | B22: INORGANICS | D22: 0.01 | E22: <0.01 | F22: <0.01 | S22: 3 | T22: 2 | U22: =IFERROR(T22/S22,"") -> 0.66666667 | V22: =MAX(D22:Q22) -> 0.01 | W22: =MIN(D22:Q22) -> 0.01 | X22: =MEDIAN(D22:Q22) -> 0.01 | Y22: =STDEV(D22:Q22) -> #DIV/0! | Z22: =((Y22*100)/AB22) -> #DIV/0! | AA22: =VAR(D22:Q22) -> #DIV/0! | AB22: =AVERAGE(D22:Q22) -> 0.01 | AC22: =_xlfn.PERCENTILE.INC(D22:Q22,0.95) -> 0.01 | AD22: =_xlfn.PERCENTILE.INC(D22:Q22,0.99) -> 0.01
A23: Arsenic | B23: METALS | D23: 0.7 | E23: <0.5 | F23: 1.7 | G23: 1.4 | H23: 1 | I23: 2 | J23: 1.5 | K23: 1.2 | L23: 6 | M23: 1.5 | N23: 1.2 | O23: 1.3 | P23: 1.1 | Q23: 2.5 | S23: 14 | T23: 1 | U23: =IFERROR(T23/S23,"") -> 0.071428571 | V23: =MAX(D23:Q23) -> 6 | W23: =MIN(D23:Q23) -> 0.7 | X23: =MEDIAN(D23:Q23) -> 1.4 | Y23: =STDEV(D23:Q23) -> 1.348551 | Z23: =((Y23*100)/AB23) -> 75.892479 | AA23: =VAR(D23:Q23) -> 1.8185897 | AB23: =AVERAGE(D23:Q23) -> 1.7769231 | AC23: =_xlfn.PERCENTILE.INC(D23:Q23,0.95) -> 3.9 | AD23: =_xlfn.PERCENTILE.INC(D23:Q23,0.99) -> 5.58
A24: Selenium | B24: METALS | D24: <1.0 | E24: <1.0 | F24: <1.0 | G24: < 1.0 | H24: < 1.0 | I24: < 1.0 | J24: < 1.0 | K24: < 1.0 | L24: < 1.0 | M24: < 1.0 | N24: < 1.0 | O24: < 1.0 | P24: < 1.0 | Q24: < 1.0 | S24: 14 | T24: 14 | U24: =IFERROR(T24/S24,"") -> 1 | V24: =MAX(D24:Q24) -> 0 | W24: =MIN(D24:Q24) -> 0 | X24: =MEDIAN(D24:Q24) -> #NUM! | Y24: =STDEV(D24:Q24) -> #DIV/0! | Z24: =((Y24*100)/AB24) -> #DIV/0! | AA24: =VAR(D24:Q24) -> #DIV/0! | AB24: =AVERAGE(D24:Q24) -> #DIV/0! | AC24: =_xlfn.PERCENTILE.INC(D24:Q24,0.95) -> #NUM! | AD24: =_xlfn.PERCENTILE.INC(D24:Q24,0.99) -> #NUM!
A25: Water Soluble Boron | B25: SVOC | D25: <0.5 | E25: <0.5 | F25: 2.6 | G25: 2.7 | H25: 2.7 | I25: 2.9 | J25: 2.3 | K25: 3.2 | L25: 39 | M25: 3.6 | N25: 3.7 | O25: 2.5 | P25: 4.3 | Q25: 5.9 | S25: 14 | T25: 2 | U25: =IFERROR(T25/S25,"") -> 0.14285714 | V25: =MAX(D25:Q25) -> 39 | W25: =MIN(D25:Q25) -> 2.3 | X25: =MEDIAN(D25:Q25) -> 3.05 | Y25: =STDEV(D25:Q25) -> 10.351621 | Z25: =((Y25*100)/AB25) -> 164.74729 | AA25: =VAR(D25:Q25) -> 107.15606 | AB25: =AVERAGE(D25:Q25) -> 6.2833333 | AC25: =_xlfn.PERCENTILE.INC(D25:Q25,0.95) -> 20.795 | AD25: =_xlfn.PERCENTILE.INC(D25:Q25,0.99) -> 35.359
A26: Phenol | B26: SVOC | D26: 0.27 | E26: 0.18 | F26: 9.58 | G26: < 0.2 | H26: < 0.2 | I26: < 0.2 | J26: < 0.2 | K26: < 0.2 | L26: < 0.2 | M26: < 0.2 | N26: < 0.2 | O26: < 0.2 | P26: < 0.2 | Q26: < 0.2 | S26: 14 | T26: 11 | U26: =IFERROR(T26/S26,"") -> 0.78571429 | V26: =MAX(D26:Q26) -> 9.58 | W26: =MIN(D26:Q26) -> 0.18 | X26: =MEDIAN(D26:Q26) -> 0.27 | Y26: =STDEV(D26:Q26) -> 5.4012992 | Z26: =((Y26*100)/AB26) -> 161.55431 | AA26: =VAR(D26:Q26) -> 29.174033 | AB26: =AVERAGE(D26:Q26) -> 3.3433333 | AC26: =_xlfn.PERCENTILE.INC(D26:Q26,0.95) -> 8.649 | AD26: =_xlfn.PERCENTILE.INC(D26:Q26,0.99) -> 9.3938
A27: Aniline | B27: SVOC | D27: <0.01 | E27: <0.01 | F27: <0.01 | G27: < 0.1 | H27: < 0.1 | I27: < 0.1 | J27: < 0.1 | K27: < 0.1 | L27: < 0.1 | M27: < 0.1 | N27: < 0.1 | O27: < 0.1 | P27: < 0.1 | Q27: < 0.1 | S27: 14 | T27: 14 | U27: =IFERROR(T27/S27,"") -> 1 | V27: =MAX(D27:Q27) -> 0 | W27: =MIN(D27:Q27) -> 0 | X27: =MEDIAN(D27:Q27) -> #NUM! | Y27: =STDEV(D27:Q27) -> #DIV/0! | Z27: =((Y27*100)/AB27) -> #DIV/0! | AA27: =VAR(D27:Q27) -> #DIV/0! | AB27: =AVERAGE(D27:Q27) -> #DIV/0! | AC27: =_xlfn.PERCENTILE.INC(D27:Q27,0.95) -> #NUM! | AD27: =_xlfn.PERCENTILE.INC(D27:Q27,0.99) -> #NUM!
A28: Bis(2-chloroethyl)ether | B28: SVOC | D28: <0.01 | E28: <0.01 | F28: <0.01 | G28: < 0.2 | H28: < 0.2 | I28: < 0.2 | J28: < 0.2 | K28: < 0.2 | L28: < 0.2 | M28: < 0.2 | N28: < 0.2 | O28: < 0.2 | P28: < 0.2 | Q28: < 0.2 | S28: 14 | T28: 14 | U28: =IFERROR(T28/S28,"") -> 1 | V28: =MAX(D28:Q28) -> 0 | W28: =MIN(D28:Q28) -> 0 | X28: =MEDIAN(D28:Q28) -> #NUM! | Y28: =STDEV(D28:Q28) -> #DIV/0! | Z28: =((Y28*100)/AB28) -> #DIV/0! | AA28: =VAR(D28:Q28) -> #DIV/0! | AB28: =AVERAGE(D28:Q28) -> #DIV/0! | AC28: =_xlfn.PERCENTILE.INC(D28:Q28,0.95) -> #NUM! | AD28: =_xlfn.PERCENTILE.INC(D28:Q28,0.99) -> #NUM!
A29: 2-Chlorophenol | B29: SVOC | D29: <0.01 | E29: <0.01 | F29: <0.01 | G29: < 0.1 | H29: < 0.1 | I29: < 0.1 | J29: < 0.1 | K29: < 0.1 | L29: < 0.1 | M29: < 0.1 | N29: < 0.1 | O29: < 0.1 | P29: < 0.1 | Q29: < 0.1 | S29: 14 | T29: 14 | U29: =IFERROR(T29/S29,"") -> 1 | V29: =MAX(D29:Q29) -> 0 | W29: =MIN(D29:Q29) -> 0 | X29: =MEDIAN(D29:Q29) -> #NUM! | Y29: =STDEV(D29:Q29) -> #DIV/0! | Z29: =((Y29*100)/AB29) -> #DIV/0! | AA29: =VAR(D29:Q29) -> #DIV/0! | AB29: =AVERAGE(D29:Q29) -> #DIV/0! | AC29: =_xlfn.PERCENTILE.INC(D29:Q29,0.95) -> #NUM! | AD29: =_xlfn.PERCENTILE.INC(D29:Q29,0.99) -> #NUM!
A30: 1,3-Dichlorobenzene | B30: SVOC | D30: <0.01 | E30: <0.01 | F30: <0.01 | G30: < 0.2 | H30: < 0.2 | I30: < 0.2 | J30: < 0.2 | K30: < 0.2 | L30: < 0.2 | M30: < 0.2 | N30: < 0.2 | O30: < 0.2 | P30: < 0.2 | Q30: < 0.2 | S30: 14 | T30: 14 | U30: =IFERROR(T30/S30,"") -> 1 | V30: =MAX(D30:Q30) -> 0 | W30: =MIN(D30:Q30) -> 0 | X30: =MEDIAN(D30:Q30) -> #NUM! | Y30: =STDEV(D30:Q30) -> #DIV/0! | Z30: =((Y30*100)/AB30) -> #DIV/0! | AA30: =VAR(D30:Q30) -> #DIV/0! | AB30: =AVERAGE(D30:Q30) -> #DIV/0! | AC30: =_xlfn.PERCENTILE.INC(D30:Q30,0.95) -> #NUM! | AD30: =_xlfn.PERCENTILE.INC(D30:Q30,0.99) -> #NUM!
A31: 1,4-Dichlorobenzene | B31: SVOC | D31: <0.01 | E31: <0.01 | F31: <0.01 | G31: < 0.2 | H31: < 0.2 | I31: < 0.2 | J31: < 0.2 | K31: < 0.2 | L31: < 0.2 | M31: < 0.2 | N31: < 0.2 | O31: < 0.2 | P31: < 0.2 | Q31: < 0.2 | S31: 14 | T31: 14 | U31: =IFERROR(T31/S31,"") -> 1 | V31: =MAX(D31:Q31) -> 0 | W31: =MIN(D31:Q31) -> 0 | X31: =MEDIAN(D31:Q31) -> #NUM! | Y31: =STDEV(D31:Q31) -> #DIV/0! | Z31: =((Y31*100)/AB31) -> #DIV/0! | AA31: =VAR(D31:Q31) -> #DIV/0! | AB31: =AVERAGE(D31:Q31) -> #DIV/0! | AC31: =_xlfn.PERCENTILE.INC(D31:Q31,0.95) -> #NUM! | AD31: =_xlfn.PERCENTILE.INC(D31:Q31,0.99) -> #NUM!
A32: Benzyl Alcohol | B32: SVOC | D32: <0.01 | E32: <0.01 | F32: <0.01 | S32: 3 | T32: 3 | U32: =IFERROR(T32/S32,"") -> 1 | V32: =MAX(D32:Q32) -> 0 | W32: =MIN(D32:Q32) -> 0 | X32: =MEDIAN(D32:Q32) -> #NUM! | Y32: =STDEV(D32:Q32) -> #DIV/0! | Z32: =((Y32*100)/AB32) -> #DIV/0! | AA32: =VAR(D32:Q32) -> #DIV/0! | AB32: =AVERAGE(D32:Q32) -> #DIV/0! | AC32: =_xlfn.PERCENTILE.INC(D32:Q32,0.95) -> #NUM! | AD32: =_xlfn.PERCENTILE.INC(D32:Q32,0.99) -> #NUM!
A33: 1,2-Dichlorobenzene | B33: SVOC | D33: <0.01 | E33: <0.01 | F33: <0.01 | G33: < 0.1 | H33: < 0.1 | I33: < 0.1 | J33: < 0.1 | K33: < 0.1 | L33: < 0.1 | M33: < 0.1 | N33: < 0.1 | O33: < 0.1 | P33: < 0.1 | Q33: < 0.1 | S33: 14 | T33: 14 | U33: =IFERROR(T33/S33,"") -> 1 | V33: =MAX(D33:Q33) -> 0 | W33: =MIN(D33:Q33) -> 0 | X33: =MEDIAN(D33:Q33) -> #NUM! | Y33: =STDEV(D33:Q33) -> #DIV/0! | Z33: =((Y33*100)/AB33) -> #DIV/0! | AA33: =VAR(D33:Q33) -> #DIV/0! | AB33: =AVERAGE(D33:Q33) -> #DIV/0! | AC33: =_xlfn.PERCENTILE.INC(D33:Q33,0.95) -> #NUM! | AD33: =_xlfn.PERCENTILE.INC(D33:Q33,0.99) -> #NUM!
A34: 2-Methylphenol | B34: SVOC | D34: 0.05 | E34: 0.05 | F34: 0.05 | G34: < 0.3 | H34: < 0.3 | I34: < 0.3 | J34: < 0.3 | K34: < 0.3 | L34: < 0.3 | M34: < 0.3 | N34: < 0.3 | O34: < 0.3 | P34: < 0.3 | Q34: < 0.3 | S34: 14 | T34: 11 | U34: =IFERROR(T34/S34,"") -> 0.78571429 | V34: =MAX(D34:Q34) -> 0.05 | W34: =MIN(D34:Q34) -> 0.05 | X34: =MEDIAN(D34:Q34) -> 0.05 | Y34: =STDEV(D34:Q34) -> 8.4983747e-18 | Z34: =((Y34*100)/AB34) -> 1.6996749e-14 | AA34: =VAR(D34:Q34) -> 7.2222373e-35 | AB34: =AVERAGE(D34:Q34) -> 0.05 | AC34: =_xlfn.PERCENTILE.INC(D34:Q34,0.95) -> 0.05 | AD34: =_xlfn.PERCENTILE.INC(D34:Q34,0.99) -> 0.05
A35: Bis(2-chloroisopropyl)ether | B35: SVOC | D35: <0.01 | E35: <0.01 | F35: <0.01 | G35: < 0.1 | H35: < 0.1 | I35: < 0.1 | J35: < 0.1 | K35: < 0.1 | L35: < 0.1 | M35: < 0.1 | N35: < 0.1 | O35: < 0.1 | P35: < 0.1 | Q35: < 0.1 | S35: 14 | T35: 14 | U35: =IFERROR(T35/S35,"") -> 1 | V35: =MAX(D35:Q35) -> 0 | W35: =MIN(D35:Q35) -> 0 | X35: =MEDIAN(D35:Q35) -> #NUM! | Y35: =STDEV(D35:Q35) -> #DIV/0! | Z35: =((Y35*100)/AB35) -> #DIV/0! | AA35: =VAR(D35:Q35) -> #DIV/0! | AB35: =AVERAGE(D35:Q35) -> #DIV/0! | AC35: =_xlfn.PERCENTILE.INC(D35:Q35,0.95) -> #NUM! | AD35: =_xlfn.PERCENTILE.INC(D35:Q35,0.99) -> #NUM!
A36: 3 and 4-methylphenol | B36: SVOC | D36: 0.11 | E36: 0.08 | F36: 0.11 | S36: 3 | T36: 0 | U36: =IFERROR(T36/S36,"") -> 0 | V36: =MAX(D36:Q36) -> 0.11 | W36: =MIN(D36:Q36) -> 0.08 | X36: =MEDIAN(D36:Q36) -> 0.11 | Y36: =STDEV(D36:Q36) -> 0.017320508 | Z36: =((Y36*100)/AB36) -> 17.320508 | AA36: =VAR(D36:Q36) -> 0.0003 | AB36: =AVERAGE(D36:Q36) -> 0.1 | AC36: =_xlfn.PERCENTILE.INC(D36:Q36,0.95) -> 0.11 | AD36: =_xlfn.PERCENTILE.INC(D36:Q36,0.99) -> 0.11
A37: N-Nitrosodi-n-propylamine | B37: SVOC | D37: <0.01 | E37: <0.01 | F37: <0.01 | S37: 3 | T37: 3 | U37: =IFERROR(T37/S37,"") -> 1 | V37: =MAX(D37:Q37) -> 0 | W37: =MIN(D37:Q37) -> 0 | X37: =MEDIAN(D37:Q37) -> #NUM! | Y37: =STDEV(D37:Q37) -> #DIV/0! | Z37: =((Y37*100)/AB37) -> #DIV/0! | AA37: =VAR(D37:Q37) -> #DIV/0! | AB37: =AVERAGE(D37:Q37) -> #DIV/0! | AC37: =_xlfn.PERCENTILE.INC(D37:Q37,0.95) -> #NUM! | AD37: =_xlfn.PERCENTILE.INC(D37:Q37,0.99) -> #NUM!
A38: Hexachloroethane | B38: SVOC | D38: <0.01 | E38: <0.01 | F38: <0.01 | G38: < 0.05 | H38: < 0.05 | I38: < 0.05 | J38: < 0.05 | K38: < 0.05 | L38: < 0.05 | M38: < 0.05 | N38: < 0.05 | O38: < 0.05 | P38: < 0.05 | Q38: < 0.05 | S38: 14 | T38: 14 | U38: =IFERROR(T38/S38,"") -> 1 | V38: =MAX(D38:Q38) -> 0 | W38: =MIN(D38:Q38) -> 0 | X38: =MEDIAN(D38:Q38) -> #NUM! | Y38: =STDEV(D38:Q38) -> #DIV/0! | Z38: =((Y38*100)/AB38) -> #DIV/0! | AA38: =VAR(D38:Q38) -> #DIV/0! | AB38: =AVERAGE(D38:Q38) -> #DIV/0! | AC38: =_xlfn.PERCENTILE.INC(D38:Q38,0.95) -> #NUM! | AD38: =_xlfn.PERCENTILE.INC(D38:Q38,0.99) -> #NUM!
A39: Nitrobenzene | B39: SVOC | D39: <0.01 | E39: <0.01 | F39: <0.01 | G39: < 0.3 | H39: < 0.3 | I39: < 0.3 | J39: < 0.3 | K39: < 0.3 | L39: < 0.3 | M39: < 0.3 | N39: < 0.3 | O39: < 0.3 | P39: < 0.3 | Q39: < 0.3 | S39: 14 | T39: 14 | U39: =IFERROR(T39/S39,"") -> 1 | V39: =MAX(D39:Q39) -> 0 | W39: =MIN(D39:Q39) -> 0 | X39: =MEDIAN(D39:Q39) -> #NUM! | Y39: =STDEV(D39:Q39) -> #DIV/0! | Z39: =((Y39*100)/AB39) -> #DIV/0! | AA39: =VAR(D39:Q39) -> #DIV/0! | AB39: =AVERAGE(D39:Q39) -> #DIV/0! | AC39: =_xlfn.PERCENTILE.INC(D39:Q39,0.95) -> #NUM! | AD39: =_xlfn.PERCENTILE.INC(D39:Q39,0.99) -> #NUM!
A40: Isophorone | B40: SVOC | D40: <0.01 | E40: <0.01 | F40: <0.01 | G40: < 0.2 | H40: < 0.2 | I40: < 0.2 | J40: < 0.2 | K40: < 0.2 | L40: < 0.2 | M40: < 0.2 | N40: < 0.2 | O40: < 0.2 | P40: < 0.2 | Q40: < 0.2 | S40: 14 | T40: 14 | U40: =IFERROR(T40/S40,"") -> 1 | V40: =MAX(D40:Q40) -> 0 | W40: =MIN(D40:Q40) -> 0 | X40: =MEDIAN(D40:Q40) -> #NUM! | Y40: =STDEV(D40:Q40) -> #DIV/0! | Z40: =((Y40*100)/AB40) -> #DIV/0! | AA40: =VAR(D40:Q40) -> #DIV/0! | AB40: =AVERAGE(D40:Q40) -> #DIV/0! | AC40: =_xlfn.PERCENTILE.INC(D40:Q40,0.95) -> #NUM! | AD40: =_xlfn.PERCENTILE.INC(D40:Q40,0.99) -> #NUM!
A41: 2-Nitrophenol | B41: SVOC | D41: <0.01 | E41: <0.01 | F41: <0.01 | G41: < 0.3 | H41: < 0.3 | I41: < 0.3 | J41: < 0.3 | K41: < 0.3 | L41: < 0.3 | M41: < 0.3 | N41: < 0.3 | O41: < 0.3 | P41: < 0.3 | Q41: < 0.3 | S41: 14 | T41: 14 | U41: =IFERROR(T41/S41,"") -> 1 | V41: =MAX(D41:Q41) -> 0 | W41: =MIN(D41:Q41) -> 0 | X41: =MEDIAN(D41:Q41) -> #NUM! | Y41: =STDEV(D41:Q41) -> #DIV/0! | Z41: =((Y41*100)/AB41) -> #DIV/0! | AA41: =VAR(D41:Q41) -> #DIV/0! | AB41: =AVERAGE(D41:Q41) -> #DIV/0! | AC41: =_xlfn.PERCENTILE.INC(D41:Q41,0.95) -> #NUM! | AD41: =_xlfn.PERCENTILE.INC(D41:Q41,0.99) -> #NUM!
A42: 2,4-Dimethylphenol | B42: SVOC | D42: <0.01 | E42: <0.01 | F42: 0.02 | G42: < 0.3 | H42: < 0.3 | I42: < 0.3 | J42: < 0.3 | K42: < 0.3 | L42: < 0.3 | M42: < 0.3 | N42: < 0.3 | O42: < 0.3 | P42: < 0.3 | Q42: < 0.3 | S42: 14 | T42: 13 | U42: =IFERROR(T42/S42,"") -> 0.92857143 | V42: =MAX(D42:Q42) -> 0.02 | W42: =MIN(D42:Q42) -> 0.02 | X42: =MEDIAN(D42:Q42) -> 0.02 | Y42: =STDEV(D42:Q42) -> #DIV/0! | Z42: =((Y42*100)/AB42) -> #DIV/0! | AA42: =VAR(D42:Q42) -> #DIV/0! | AB42: =AVERAGE(D42:Q42) -> 0.02 | AC42: =_xlfn.PERCENTILE.INC(D42:Q42,0.95) -> 0.02 | AD42: =_xlfn.PERCENTILE.INC(D42:Q42,0.99) -> 0.02
A43: Bis(2-chloroethoxy)methane | B43: SVOC | D43: <0.01 | E43: <0.01 | F43: <0.01 | G43: < 0.3 | H43: < 0.3 | I43: < 0.3 | J43: < 0.3 | K43: < 0.3 | L43: < 0.3 | M43: < 0.3 | N43: < 0.3 | O43: < 0.3 | P43: < 0.3 | Q43: < 0.3 | S43: 14 | T43: 14 | U43: =IFERROR(T43/S43,"") -> 1 | V43: =MAX(D43:Q43) -> 0 | W43: =MIN(D43:Q43) -> 0 | X43: =MEDIAN(D43:Q43) -> #NUM! | Y43: =STDEV(D43:Q43) -> #DIV/0! | Z43: =((Y43*100)/AB43) -> #DIV/0! | AA43: =VAR(D43:Q43) -> #DIV/0! | AB43: =AVERAGE(D43:Q43) -> #DIV/0! | AC43: =_xlfn.PERCENTILE.INC(D43:Q43,0.95) -> #NUM! | AD43: =_xlfn.PERCENTILE.INC(D43:Q43,0.99) -> #NUM!
A44: 2,4-Dichlorophenol | B44: SVOC | D44: <0.01 | E44: <0.01 | F44: <0.01 | G44: < 0.3 | H44: < 0.3 | I44: < 0.3 | J44: < 0.3 | K44: < 0.3 | L44: < 0.3 | M44: < 0.3 | N44: < 0.3 | O44: < 0.3 | P44: < 0.3 | Q44: < 0.3 | S44: 14 | T44: 14 | U44: =IFERROR(T44/S44,"") -> 1 | V44: =MAX(D44:Q44) -> 0 | W44: =MIN(D44:Q44) -> 0 | X44: =MEDIAN(D44:Q44) -> #NUM! | Y44: =STDEV(D44:Q44) -> #DIV/0! | Z44: =((Y44*100)/AB44) -> #DIV/0! | AA44: =VAR(D44:Q44) -> #DIV/0! | AB44: =AVERAGE(D44:Q44) -> #DIV/0! | AC44: =_xlfn.PERCENTILE.INC(D44:Q44,0.95) -> #NUM! | AD44: =_xlfn.PERCENTILE.INC(D44:Q44,0.99) -> #NUM!
A45: 1,3,5-Trichlorobenzene | B45: SVOC | D45: <0.01 | E45: <0.01 | F45: <0.01 | G45: < 0.3 | H45: < 0.3 | I45: < 0.3 | J45: < 0.3 | K45: < 0.3 | L45: < 0.3 | M45: < 0.3 | N45: < 0.3 | O45: < 0.3 | P45: < 0.3 | Q45: < 0.3 | S45: 14 | T45: 14 | U45: =IFERROR(T45/S45,"") -> 1 | V45: =MAX(D45:Q45) -> 0 | W45: =MIN(D45:Q45) -> 0 | X45: =MEDIAN(D45:Q45) -> #NUM! | Y45: =STDEV(D45:Q45) -> #DIV/0! | Z45: =((Y45*100)/AB45) -> #DIV/0! | AA45: =VAR(D45:Q45) -> #DIV/0! | AB45: =AVERAGE(D45:Q45) -> #DIV/0! | AC45: =_xlfn.PERCENTILE.INC(D45:Q45,0.95) -> #NUM! | AD45: =_xlfn.PERCENTILE.INC(D45:Q45,0.99) -> #NUM!
A46: Naphthalene | B46: SVOC | D46: 0.01 | E46: 0.02 | F46: 0.06 | G46: < 0.05 | H46: < 0.05 | I46: < 0.05 | J46: < 0.05 | K46: < 0.05 | L46: < 0.05 | M46: < 0.05 | N46: < 0.05 | O46: < 0.05 | P46: < 0.05 | Q46: < 0.05 | S46: 14 | T46: 11 | U46: =IFERROR(T46/S46,"") -> 0.78571429 | V46: =MAX(D46:Q46) -> 0.06 | W46: =MIN(D46:Q46) -> 0.01 | X46: =MEDIAN(D46:Q46) -> 0.02 | Y46: =STDEV(D46:Q46) -> 0.026457513 | Z46: =((Y46*100)/AB46) -> 88.19171 | AA46: =VAR(D46:Q46) -> 0.0007 | AB46: =AVERAGE(D46:Q46) -> 0.03 | AC46: =_xlfn.PERCENTILE.INC(D46:Q46,0.95) -> 0.056 | AD46: =_xlfn.PERCENTILE.INC(D46:Q46,0.99) -> 0.0592
A47: 3-Chloroaniline | B47: SVOC | D47: <0.01 | E47: <0.01 | F47: <0.01 | G47: < 0.1 | H47: < 0.1 | I47: < 0.1 | J47: < 0.1 | K47: < 0.1 | L47: < 0.1 | M47: < 0.1 | N47: < 0.1 | O47: < 0.1 | P47: < 0.1 | Q47: < 0.1 | S47: 14 | T47: 14 | U47: =IFERROR(T47/S47,"") -> 1 | V47: =MAX(D47:Q47) -> 0 | W47: =MIN(D47:Q47) -> 0 | X47: =MEDIAN(D47:Q47) -> #NUM! | Y47: =STDEV(D47:Q47) -> #DIV/0! | Z47: =((Y47*100)/AB47) -> #DIV/0! | AA47: =VAR(D47:Q47) -> #DIV/0! | AB47: =AVERAGE(D47:Q47) -> #DIV/0! | AC47: =_xlfn.PERCENTILE.INC(D47:Q47,0.95) -> #NUM! | AD47: =_xlfn.PERCENTILE.INC(D47:Q47,0.99) -> #NUM!
A48: Hexachloro-1,3-butadiene | B48: SVOC | D48: <0.01 | E48: <0.01 | F48: <0.01 | G48: < 0.1 | H48: < 0.1 | I48: < 0.1 | J48: < 0.1 | K48: < 0.1 | L48: < 0.1 | M48: < 0.1 | N48: < 0.1 | O48: < 0.1 | P48: < 0.1 | Q48: < 0.1 | S48: 14 | T48: 14 | U48: =IFERROR(T48/S48,"") -> 1 | V48: =MAX(D48:Q48) -> 0 | W48: =MIN(D48:Q48) -> 0 | X48: =MEDIAN(D48:Q48) -> #NUM! | Y48: =STDEV(D48:Q48) -> #DIV/0! | Z48: =((Y48*100)/AB48) -> #DIV/0! | AA48: =VAR(D48:Q48) -> #DIV/0! | AB48: =AVERAGE(D48:Q48) -> #DIV/0! | AC48: =_xlfn.PERCENTILE.INC(D48:Q48,0.95) -> #NUM! | AD48: =_xlfn.PERCENTILE.INC(D48:Q48,0.99) -> #NUM!
A49: 4-Chloro-3-methylphenol | B49: SVOC | D49: <0.01 | E49: <0.01 | F49: <0.01 | G49: < 0.1 | H49: < 0.1 | I49: < 0.1 | J49: < 0.1 | K49: < 0.1 | L49: < 0.1 | M49: < 0.1 | N49: < 0.1 | O49: < 0.1 | P49: < 0.1 | Q49: < 0.1 | S49: 14 | T49: 14 | U49: =IFERROR(T49/S49,"") -> 1 | V49: =MAX(D49:Q49) -> 0 | W49: =MIN(D49:Q49) -> 0 | X49: =MEDIAN(D49:Q49) -> #NUM! | Y49: =STDEV(D49:Q49) -> #DIV/0! | Z49: =((Y49*100)/AB49) -> #DIV/0! | AA49: =VAR(D49:Q49) -> #DIV/0! | AB49: =AVERAGE(D49:Q49) -> #DIV/0! | AC49: =_xlfn.PERCENTILE.INC(D49:Q49,0.95) -> #NUM! | AD49: =_xlfn.PERCENTILE.INC(D49:Q49,0.99) -> #NUM!
A50: 2-Methylnaphthalene | B50: SVOC | D50: 0.01 | E50: <0.01 | F50: 0.04 | G50: < 0.1 | H50: < 0.1 | I50: < 0.1 | J50: < 0.1 | K50: < 0.1 | L50: < 0.1 | M50: < 0.1 | N50: < 0.1 | O50: < 0.1 | P50: < 0.1 | Q50: < 0.1 | S50: 14 | T50: 12 | U50: =IFERROR(T50/S50,"") -> 0.85714286 | V50: =MAX(D50:Q50) -> 0.04 | W50: =MIN(D50:Q50) -> 0.01 | X50: =MEDIAN(D50:Q50) -> 0.025 | Y50: =STDEV(D50:Q50) -> 0.021213203 | Z50: =((Y50*100)/AB50) -> 84.852814 | AA50: =VAR(D50:Q50) -> 0.00045 | AB50: =AVERAGE(D50:Q50) -> 0.025 | AC50: =_xlfn.PERCENTILE.INC(D50:Q50,0.95) -> 0.0385 | AD50: =_xlfn.PERCENTILE.INC(D50:Q50,0.99) -> 0.0397
A51: 1-Methylnaphthalene | B51: SVOC | D51: 0.01 | E51: <0.01 | F51: 0.03 | S51: 3 | T51: 1 | U51: =IFERROR(T51/S51,"") -> 0.33333333 | V51: =MAX(D51:Q51) -> 0.03 | W51: =MIN(D51:Q51) -> 0.01 | X51: =MEDIAN(D51:Q51) -> 0.02 | Y51: =STDEV(D51:Q51) -> 0.014142136 | Z51: =((Y51*100)/AB51) -> 70.710678 | AA51: =VAR(D51:Q51) -> 0.0002 | AB51: =AVERAGE(D51:Q51) -> 0.02 | AC51: =_xlfn.PERCENTILE.INC(D51:Q51,0.95) -> 0.029 | AD51: =_xlfn.PERCENTILE.INC(D51:Q51,0.99) -> 0.0298
A52: Hexachlorocyclopentadiene | B52: SVOC | D52: <0.01 | E52: <0.01 | F52: <0.01 | S52: 3 | T52: 3 | U52: =IFERROR(T52/S52,"") -> 1 | V52: =MAX(D52:Q52) -> 0 | W52: =MIN(D52:Q52) -> 0 | X52: =MEDIAN(D52:Q52) -> #NUM! | Y52: =STDEV(D52:Q52) -> #DIV/0! | Z52: =((Y52*100)/AB52) -> #DIV/0! | AA52: =VAR(D52:Q52) -> #DIV/0! | AB52: =AVERAGE(D52:Q52) -> #DIV/0! | AC52: =_xlfn.PERCENTILE.INC(D52:Q52,0.95) -> #NUM! | AD52: =_xlfn.PERCENTILE.INC(D52:Q52,0.99) -> #NUM!
A53: 2,4,6-Trichlorophenol | B53: SVOC | D53: <0.01 | E53: <0.01 | F53: <0.01 | G53: < 0.1 | H53: < 0.1 | I53: < 0.1 | J53: < 0.1 | K53: < 0.1 | L53: < 0.1 | M53: < 0.1 | N53: < 0.1 | O53: < 0.1 | P53: < 0.1 | Q53: < 0.1 | S53: 14 | T53: 14 | U53: =IFERROR(T53/S53,"") -> 1 | V53: =MAX(D53:Q53) -> 0 | W53: =MIN(D53:Q53) -> 0 | X53: =MEDIAN(D53:Q53) -> #NUM! | Y53: =STDEV(D53:Q53) -> #DIV/0! | Z53: =((Y53*100)/AB53) -> #DIV/0! | AA53: =VAR(D53:Q53) -> #DIV/0! | AB53: =AVERAGE(D53:Q53) -> #DIV/0! | AC53: =_xlfn.PERCENTILE.INC(D53:Q53,0.95) -> #NUM! | AD53: =_xlfn.PERCENTILE.INC(D53:Q53,0.99) -> #NUM!
A54: 2,4,5-Trichlorophenol | B54: SVOC | D54: <0.01 | E54: <0.01 | F54: <0.01 | G54: < 0.2 | H54: < 0.2 | I54: < 0.2 | J54: < 0.2 | K54: < 0.2 | L54: < 0.2 | M54: < 0.2 | N54: < 0.2 | O54: < 0.2 | P54: < 0.2 | Q54: < 0.2 | S54: 14 | T54: 14 | U54: =IFERROR(T54/S54,"") -> 1 | V54: =MAX(D54:Q54) -> 0 | W54: =MIN(D54:Q54) -> 0 | X54: =MEDIAN(D54:Q54) -> #NUM! | Y54: =STDEV(D54:Q54) -> #DIV/0! | Z54: =((Y54*100)/AB54) -> #DIV/0! | AA54: =VAR(D54:Q54) -> #DIV/0! | AB54: =AVERAGE(D54:Q54) -> #DIV/0! | AC54: =_xlfn.PERCENTILE.INC(D54:Q54,0.95) -> #NUM! | AD54: =_xlfn.PERCENTILE.INC(D54:Q54,0.99) -> #NUM!
A55: 1-Chloronaphthalene | B55: SVOC | D55: <0.01 | E55: <0.01 | F55: <0.01 | G55: < 0.1 | H55: < 0.1 | I55: < 0.1 | J55: < 0.1 | K55: < 0.1 | L55: < 0.1 | M55: < 0.1 | N55: < 0.1 | O55: < 0.1 | P55: < 0.1 | Q55: < 0.1 | S55: 14 | T55: 14 | U55: =IFERROR(T55/S55,"") -> 1 | V55: =MAX(D55:Q55) -> 0 | W55: =MIN(D55:Q55) -> 0 | X55: =MEDIAN(D55:Q55) -> #NUM! | Y55: =STDEV(D55:Q55) -> #DIV/0! | Z55: =((Y55*100)/AB55) -> #DIV/0! | AA55: =VAR(D55:Q55) -> #DIV/0! | AB55: =AVERAGE(D55:Q55) -> #DIV/0! | AC55: =_xlfn.PERCENTILE.INC(D55:Q55,0.95) -> #NUM! | AD55: =_xlfn.PERCENTILE.INC(D55:Q55,0.99) -> #NUM!
A56: 2-Nitroaniline | B56: SVOC | D56: <0.01 | E56: <0.01 | F56: <0.01 | G56: < 0.2 | H56: < 0.2 | I56: < 0.2 | J56: < 0.2 | K56: < 0.2 | L56: < 0.2 | M56: < 0.2 | N56: < 0.2 | O56: < 0.2 | P56: < 0.2 | Q56: < 0.2 | S56: 14 | T56: 14 | U56: =IFERROR(T56/S56,"") -> 1 | V56: =MAX(D56:Q56) -> 0 | W56: =MIN(D56:Q56) -> 0 | X56: =MEDIAN(D56:Q56) -> #NUM! | Y56: =STDEV(D56:Q56) -> #DIV/0! | Z56: =((Y56*100)/AB56) -> #DIV/0! | AA56: =VAR(D56:Q56) -> #DIV/0! | AB56: =AVERAGE(D56:Q56) -> #DIV/0! | AC56: =_xlfn.PERCENTILE.INC(D56:Q56,0.95) -> #NUM! | AD56: =_xlfn.PERCENTILE.INC(D56:Q56,0.99) -> #NUM!
A57: 1,4-Dinitrobenzene | B57: SVOC | D57: <0.01 | E57: <0.01 | F57: <0.01 | G57: < 0.2 | H57: < 0.2 | I57: < 0.2 | J57: < 0.2 | K57: < 0.2 | L57: < 0.2 | M57: < 0.2 | N57: < 0.2 | O57: < 0.2 | P57: < 0.2 | Q57: < 0.2 | S57: 14 | T57: 14 | U57: =IFERROR(T57/S57,"") -> 1 | V57: =MAX(D57:Q57) -> 0 | W57: =MIN(D57:Q57) -> 0 | X57: =MEDIAN(D57:Q57) -> #NUM! | Y57: =STDEV(D57:Q57) -> #DIV/0! | Z57: =((Y57*100)/AB57) -> #DIV/0! | AA57: =VAR(D57:Q57) -> #DIV/0! | AB57: =AVERAGE(D57:Q57) -> #DIV/0! | AC57: =_xlfn.PERCENTILE.INC(D57:Q57,0.95) -> #NUM! | AD57: =_xlfn.PERCENTILE.INC(D57:Q57,0.99) -> #NUM!
A58: Dimethyl phthalate | B58: SVOC | D58: <0.01 | E58: <0.01 | F58: <0.01 | G58: < 0.1 | H58: < 0.1 | I58: < 0.1 | J58: < 0.1 | K58: < 0.1 | L58: < 0.1 | M58: < 0.1 | N58: < 0.1 | O58: < 0.1 | P58: < 0.1 | Q58: < 0.1 | S58: 14 | T58: 14 | U58: =IFERROR(T58/S58,"") -> 1 | V58: =MAX(D58:Q58) -> 0 | W58: =MIN(D58:Q58) -> 0 | X58: =MEDIAN(D58:Q58) -> #NUM! | Y58: =STDEV(D58:Q58) -> #DIV/0! | Z58: =((Y58*100)/AB58) -> #DIV/0! | AA58: =VAR(D58:Q58) -> #DIV/0! | AB58: =AVERAGE(D58:Q58) -> #DIV/0! | AC58: =_xlfn.PERCENTILE.INC(D58:Q58,0.95) -> #NUM! | AD58: =_xlfn.PERCENTILE.INC(D58:Q58,0.99) -> #NUM!
A59: 1-3-dinitrobenzene | B59: SVOC | D59: <0.01 | E59: <0.01 | F59: <0.01 | G59: < 0.1 | H59: < 0.1 | I59: < 0.1 | J59: < 0.1 | K59: < 0.1 | L59: < 0.1 | M59: < 0.1 | N59: < 0.1 | O59: < 0.1 | P59: < 0.1 | Q59: < 0.1 | S59: 14 | T59: 14 | U59: =IFERROR(T59/S59,"") -> 1 | V59: =MAX(D59:Q59) -> 0 | W59: =MIN(D59:Q59) -> 0 | X59: =MEDIAN(D59:Q59) -> #NUM! | Y59: =STDEV(D59:Q59) -> #DIV/0! | Z59: =((Y59*100)/AB59) -> #DIV/0! | AA59: =VAR(D59:Q59) -> #DIV/0! | AB59: =AVERAGE(D59:Q59) -> #DIV/0! | AC59: =_xlfn.PERCENTILE.INC(D59:Q59,0.95) -> #NUM! | AD59: =_xlfn.PERCENTILE.INC(D59:Q59,0.99) -> #NUM!
A60: 2-6-dinitrotoluene | B60: SVOC | D60: <0.01 | E60: <0.01 | F60: <0.01 | G60: < 0.2 | H60: < 0.2 | I60: < 0.2 | J60: < 0.2 | K60: < 0.2 | L60: < 0.2 | M60: < 0.2 | N60: < 0.2 | O60: < 0.2 | P60: < 0.2 | Q60: < 0.2 | S60: 14 | T60: 14 | U60: =IFERROR(T60/S60,"") -> 1 | V60: =MAX(D60:Q60) -> 0 | W60: =MIN(D60:Q60) -> 0 | X60: =MEDIAN(D60:Q60) -> #NUM! | Y60: =STDEV(D60:Q60) -> #DIV/0! | Z60: =((Y60*100)/AB60) -> #DIV/0! | AA60: =VAR(D60:Q60) -> #DIV/0! | AB60: =AVERAGE(D60:Q60) -> #DIV/0! | AC60: =_xlfn.PERCENTILE.INC(D60:Q60,0.95) -> #NUM! | AD60: =_xlfn.PERCENTILE.INC(D60:Q60,0.99) -> #NUM!
A61: Acenaphthylene | B61: SVOC | D61: <0.01 | E61: 0.01 | F61: 0.01 | G61: < 0.05 | H61: < 0.05 | I61: < 0.05 | J61: < 0.05 | K61: < 0.05 | L61: < 0.05 | M61: < 0.05 | N61: < 0.05 | O61: < 0.05 | P61: < 0.05 | Q61: < 0.05 | S61: 14 | T61: 12 | U61: =IFERROR(T61/S61,"") -> 0.85714286 | V61: =MAX(D61:Q61) -> 0.01 | W61: =MIN(D61:Q61) -> 0.01 | X61: =MEDIAN(D61:Q61) -> 0.01 | Y61: =STDEV(D61:Q61) -> 0 | Z61: =((Y61*100)/AB61) -> 0 | AA61: =VAR(D61:Q61) -> 0 | AB61: =AVERAGE(D61:Q61) -> 0.01 | AC61: =_xlfn.PERCENTILE.INC(D61:Q61,0.95) -> 0.01 | AD61: =_xlfn.PERCENTILE.INC(D61:Q61,0.99) -> 0.01
A62: 1,2-Dinitrobenzene | B62: SVOC | D62: <0.01 | E62: <0.01 | F62: <0.01 | S62: 3 | T62: 3 | U62: =IFERROR(T62/S62,"") -> 1 | V62: =MAX(D62:Q62) -> 0 | W62: =MIN(D62:Q62) -> 0 | X62: =MEDIAN(D62:Q62) -> #NUM! | Y62: =STDEV(D62:Q62) -> #DIV/0! | Z62: =((Y62*100)/AB62) -> #DIV/0! | AA62: =VAR(D62:Q62) -> #DIV/0! | AB62: =AVERAGE(D62:Q62) -> #DIV/0! | AC62: =_xlfn.PERCENTILE.INC(D62:Q62,0.95) -> #NUM! | AD62: =_xlfn.PERCENTILE.INC(D62:Q62,0.99) -> #NUM!
A63: 3-Nitroaniline | B63: SVOC | D63: <0.01 | E63: <0.01 | F63: <0.01 | S63: 3 | T63: 3 | U63: =IFERROR(T63/S63,"") -> 1 | V63: =MAX(D63:Q63) -> 0 | W63: =MIN(D63:Q63) -> 0 | X63: =MEDIAN(D63:Q63) -> #NUM! | Y63: =STDEV(D63:Q63) -> #DIV/0! | Z63: =((Y63*100)/AB63) -> #DIV/0! | AA63: =VAR(D63:Q63) -> #DIV/0! | AB63: =AVERAGE(D63:Q63) -> #DIV/0! | AC63: =_xlfn.PERCENTILE.INC(D63:Q63,0.95) -> #NUM! | AD63: =_xlfn.PERCENTILE.INC(D63:Q63,0.99) -> #NUM!
A64: Acenaphthene | B64: SVOC | D64: 0.01 | E64: <0.01 | F64: 0.08 | G64: < 0.05 | H64: < 0.05 | I64: < 0.05 | J64: < 0.05 | K64: < 0.05 | L64: < 0.05 | M64: < 0.05 | N64: < 0.05 | O64: < 0.05 | P64: < 0.05 | Q64: < 0.05 | S64: 14 | T64: 12 | U64: =IFERROR(T64/S64,"") -> 0.85714286 | V64: =MAX(D64:Q64) -> 0.08 | W64: =MIN(D64:Q64) -> 0.01 | X64: =MEDIAN(D64:Q64) -> 0.045 | Y64: =STDEV(D64:Q64) -> 0.049497475 | Z64: =((Y64*100)/AB64) -> 109.99439 | AA64: =VAR(D64:Q64) -> 0.00245 | AB64: =AVERAGE(D64:Q64) -> 0.045 | AC64: =_xlfn.PERCENTILE.INC(D64:Q64,0.95) -> 0.0765 | AD64: =_xlfn.PERCENTILE.INC(D64:Q64,0.99) -> 0.0793
A65: 4-nitrophenol | B65: SVOC | D65: <0.01 | E65: <0.01 | F65: <0.01 | S65: 3 | T65: 3 | U65: =IFERROR(T65/S65,"") -> 1 | V65: =MAX(D65:Q65) -> 0 | W65: =MIN(D65:Q65) -> 0 | X65: =MEDIAN(D65:Q65) -> #NUM! | Y65: =STDEV(D65:Q65) -> #DIV/0! | Z65: =((Y65*100)/AB65) -> #DIV/0! | AA65: =VAR(D65:Q65) -> #DIV/0! | AB65: =AVERAGE(D65:Q65) -> #DIV/0! | AC65: =_xlfn.PERCENTILE.INC(D65:Q65,0.95) -> #NUM! | AD65: =_xlfn.PERCENTILE.INC(D65:Q65,0.99) -> #NUM!
A66: Dibenzofuran | B66: SVOC | D66: 0.02 | E66: <0.01 | F66: 0.09 | G66: < 0.2 | H66: < 0.2 | I66: < 0.2 | J66: < 0.2 | K66: < 0.2 | L66: < 0.2 | M66: < 0.2 | N66: < 0.2 | O66: < 0.2 | P66: < 0.2 | Q66: < 0.2 | S66: 14 | T66: 12 | U66: =IFERROR(T66/S66,"") -> 0.85714286 | V66: =MAX(D66:Q66) -> 0.09 | W66: =MIN(D66:Q66) -> 0.02 | X66: =MEDIAN(D66:Q66) -> 0.055 | Y66: =STDEV(D66:Q66) -> 0.049497475 | Z66: =((Y66*100)/AB66) -> 89.995409 | AA66: =VAR(D66:Q66) -> 0.00245 | AB66: =AVERAGE(D66:Q66) -> 0.055 | AC66: =_xlfn.PERCENTILE.INC(D66:Q66,0.95) -> 0.0865 | AD66: =_xlfn.PERCENTILE.INC(D66:Q66,0.99) -> 0.0893
A67: 2,3,5,6-Tetrachlorophenol | B67: SVOC | D67: 0.01 | E67: <0.01 | F67: <0.01 | S67: 3 | T67: 2 | U67: =IFERROR(T67/S67,"") -> 0.66666667 | V67: =MAX(D67:Q67) -> 0.01 | W67: =MIN(D67:Q67) -> 0.01 | X67: =MEDIAN(D67:Q67) -> 0.01 | Y67: =STDEV(D67:Q67) -> #DIV/0! | Z67: =((Y67*100)/AB67) -> #DIV/0! | AA67: =VAR(D67:Q67) -> #DIV/0! | AB67: =AVERAGE(D67:Q67) -> 0.01 | AC67: =_xlfn.PERCENTILE.INC(D67:Q67,0.95) -> 0.01 | AD67: =_xlfn.PERCENTILE.INC(D67:Q67,0.99) -> 0.01
A68: 2,3,4,6-Tetrachlorophenol | B68: SVOC | D68: 0.01 | E68: <0.01 | F68: 0.02 | S68: 3 | T68: 1 | U68: =IFERROR(T68/S68,"") -> 0.33333333 | V68: =MAX(D68:Q68) -> 0.02 | W68: =MIN(D68:Q68) -> 0.01 | X68: =MEDIAN(D68:Q68) -> 0.015 | Y68: =STDEV(D68:Q68) -> 0.0070710678 | Z68: =((Y68*100)/AB68) -> 47.140452 | AA68: =VAR(D68:Q68) -> 5e-05 | AB68: =AVERAGE(D68:Q68) -> 0.015 | AC68: =_xlfn.PERCENTILE.INC(D68:Q68,0.95) -> 0.0195 | AD68: =_xlfn.PERCENTILE.INC(D68:Q68,0.99) -> 0.0199
A69: Diethyl phthalate | B69: SVOC | D69: <0.01 | E69: <0.01 | F69: <0.01 | G69: < 0.2 | H69: < 0.2 | I69: < 0.2 | J69: < 0.2 | K69: < 0.2 | L69: < 0.2 | M69: < 0.2 | N69: < 0.2 | O69: < 0.2 | P69: < 0.2 | Q69: < 0.2 | S69: 14 | T69: 14 | U69: =IFERROR(T69/S69,"") -> 1 | V69: =MAX(D69:Q69) -> 0 | W69: =MIN(D69:Q69) -> 0 | X69: =MEDIAN(D69:Q69) -> #NUM! | Y69: =STDEV(D69:Q69) -> #DIV/0! | Z69: =((Y69*100)/AB69) -> #DIV/0! | AA69: =VAR(D69:Q69) -> #DIV/0! | AB69: =AVERAGE(D69:Q69) -> #DIV/0! | AC69: =_xlfn.PERCENTILE.INC(D69:Q69,0.95) -> #NUM! | AD69: =_xlfn.PERCENTILE.INC(D69:Q69,0.99) -> #NUM!
A70: 1-chloro-4-phenoxybenzene | B70: SVOC | D70: <0.01 | E70: <0.01 | F70: <0.01 | S70: 3 | T70: 3 | U70: =IFERROR(T70/S70,"") -> 1 | V70: =MAX(D70:Q70) -> 0 | W70: =MIN(D70:Q70) -> 0 | X70: =MEDIAN(D70:Q70) -> #NUM! | Y70: =STDEV(D70:Q70) -> #DIV/0! | Z70: =((Y70*100)/AB70) -> #DIV/0! | AA70: =VAR(D70:Q70) -> #DIV/0! | AB70: =AVERAGE(D70:Q70) -> #DIV/0! | AC70: =_xlfn.PERCENTILE.INC(D70:Q70,0.95) -> #NUM! | AD70: =_xlfn.PERCENTILE.INC(D70:Q70,0.99) -> #NUM!
A71: Fluorene | B71: SVOC | D71: 0.01 | E71: <0.01 | F71: 0.1 | G71: < 0.05 | H71: < 0.05 | I71: < 0.05 | J71: < 0.05 | K71: < 0.05 | L71: < 0.05 | M71: < 0.05 | N71: < 0.05 | O71: < 0.05 | P71: < 0.05 | Q71: < 0.05 | S71: 14 | T71: 12 | U71: =IFERROR(T71/S71,"") -> 0.85714286 | V71: =MAX(D71:Q71) -> 0.1 | W71: =MIN(D71:Q71) -> 0.01 | X71: =MEDIAN(D71:Q71) -> 0.055 | Y71: =STDEV(D71:Q71) -> 0.06363961 | Z71: =((Y71*100)/AB71) -> 115.70838 | AA71: =VAR(D71:Q71) -> 0.00405 | AB71: =AVERAGE(D71:Q71) -> 0.055 | AC71: =_xlfn.PERCENTILE.INC(D71:Q71,0.95) -> 0.0955 | AD71: =_xlfn.PERCENTILE.INC(D71:Q71,0.99) -> 0.0991
A72: 4-Nitroaniline | B72: SVOC | D72: <0.01 | E72: <0.01 | F72: <0.01 | S72: 3 | T72: 3 | U72: =IFERROR(T72/S72,"") -> 1 | V72: =MAX(D72:Q72) -> 0 | W72: =MIN(D72:Q72) -> 0 | X72: =MEDIAN(D72:Q72) -> #NUM! | Y72: =STDEV(D72:Q72) -> #DIV/0! | Z72: =((Y72*100)/AB72) -> #DIV/0! | AA72: =VAR(D72:Q72) -> #DIV/0! | AB72: =AVERAGE(D72:Q72) -> #DIV/0! | AC72: =_xlfn.PERCENTILE.INC(D72:Q72,0.95) -> #NUM! | AD72: =_xlfn.PERCENTILE.INC(D72:Q72,0.99) -> #NUM!
A73: Dinitro-o-cresol | B73: SVOC | D73: <0.01 | E73: <0.01 | F73: <0.01 | S73: 3 | T73: 3 | U73: =IFERROR(T73/S73,"") -> 1 | V73: =MAX(D73:Q73) -> 0 | W73: =MIN(D73:Q73) -> 0 | X73: =MEDIAN(D73:Q73) -> #NUM! | Y73: =STDEV(D73:Q73) -> #DIV/0! | Z73: =((Y73*100)/AB73) -> #DIV/0! | AA73: =VAR(D73:Q73) -> #DIV/0! | AB73: =AVERAGE(D73:Q73) -> #DIV/0! | AC73: =_xlfn.PERCENTILE.INC(D73:Q73,0.95) -> #NUM! | AD73: =_xlfn.PERCENTILE.INC(D73:Q73,0.99) -> #NUM!
A74: Diphenylamine | B74: SVOC | D74: <0.01 | E74: <0.01 | F74: <0.01 | S74: 3 | T74: 3 | U74: =IFERROR(T74/S74,"") -> 1 | V74: =MAX(D74:Q74) -> 0 | W74: =MIN(D74:Q74) -> 0 | X74: =MEDIAN(D74:Q74) -> #NUM! | Y74: =STDEV(D74:Q74) -> #DIV/0! | Z74: =((Y74*100)/AB74) -> #DIV/0! | AA74: =VAR(D74:Q74) -> #DIV/0! | AB74: =AVERAGE(D74:Q74) -> #DIV/0! | AC74: =_xlfn.PERCENTILE.INC(D74:Q74,0.95) -> #NUM! | AD74: =_xlfn.PERCENTILE.INC(D74:Q74,0.99) -> #NUM!
A75: Azobenzene | B75: SVOC | D75: <0.01 | E75: <0.01 | F75: <0.01 | G75: < 0.3 | H75: < 0.3 | I75: < 0.3 | J75: < 0.3 | K75: < 0.3 | L75: < 0.3 | M75: < 0.3 | N75: < 0.3 | O75: < 0.3 | P75: < 0.3 | Q75: < 0.3 | S75: 14 | T75: 14 | U75: =IFERROR(T75/S75,"") -> 1 | V75: =MAX(D75:Q75) -> 0 | W75: =MIN(D75:Q75) -> 0 | X75: =MEDIAN(D75:Q75) -> #NUM! | Y75: =STDEV(D75:Q75) -> #DIV/0! | Z75: =((Y75*100)/AB75) -> #DIV/0! | AA75: =VAR(D75:Q75) -> #DIV/0! | AB75: =AVERAGE(D75:Q75) -> #DIV/0! | AC75: =_xlfn.PERCENTILE.INC(D75:Q75,0.95) -> #NUM! | AD75: =_xlfn.PERCENTILE.INC(D75:Q75,0.99) -> #NUM!
A76: 1-bromo-4-phenoxybenzene | B76: SVOC | D76: <0.01 | E76: <0.01 | F76: <0.01 | S76: 3 | T76: 3 | U76: =IFERROR(T76/S76,"") -> 1 | V76: =MAX(D76:Q76) -> 0 | W76: =MIN(D76:Q76) -> 0 | X76: =MEDIAN(D76:Q76) -> #NUM! | Y76: =STDEV(D76:Q76) -> #DIV/0! | Z76: =((Y76*100)/AB76) -> #DIV/0! | AA76: =VAR(D76:Q76) -> #DIV/0! | AB76: =AVERAGE(D76:Q76) -> #DIV/0! | AC76: =_xlfn.PERCENTILE.INC(D76:Q76,0.95) -> #NUM! | AD76: =_xlfn.PERCENTILE.INC(D76:Q76,0.99) -> #NUM!
A77: Hexachlorobenzene | B77: SVOC | D77: <0.01 | E77: <0.01 | F77: <0.01 | S77: 3 | T77: 3 | U77: =IFERROR(T77/S77,"") -> 1 | V77: =MAX(D77:Q77) -> 0 | W77: =MIN(D77:Q77) -> 0 | X77: =MEDIAN(D77:Q77) -> #NUM! | Y77: =STDEV(D77:Q77) -> #DIV/0! | Z77: =((Y77*100)/AB77) -> #DIV/0! | AA77: =VAR(D77:Q77) -> #DIV/0! | AB77: =AVERAGE(D77:Q77) -> #DIV/0! | AC77: =_xlfn.PERCENTILE.INC(D77:Q77,0.95) -> #NUM! | AD77: =_xlfn.PERCENTILE.INC(D77:Q77,0.99) -> #NUM!
A78: Pentachlorophenol | B78: SVOC | D78: <0.01 | E78: <0.01 | F78: <0.01 | S78: 3 | T78: 3 | U78: =IFERROR(T78/S78,"") -> 1 | V78: =MAX(D78:Q78) -> 0 | W78: =MIN(D78:Q78) -> 0 | X78: =MEDIAN(D78:Q78) -> #NUM! | Y78: =STDEV(D78:Q78) -> #DIV/0! | Z78: =((Y78*100)/AB78) -> #DIV/0! | AA78: =VAR(D78:Q78) -> #DIV/0! | AB78: =AVERAGE(D78:Q78) -> #DIV/0! | AC78: =_xlfn.PERCENTILE.INC(D78:Q78,0.95) -> #NUM! | AD78: =_xlfn.PERCENTILE.INC(D78:Q78,0.99) -> #NUM!
A79: Phenanthrene | B79: SVOC | D79: 0.06 | E79: 0.02 | F79: 0.89 | G79: < 0.05 | H79: < 0.05 | I79: < 0.05 | J79: < 0.05 | K79: < 0.05 | L79: 1.5 | M79: 0.26 | N79: 0.31 | O79: < 0.05 | P79: < 0.05 | Q79: < 0.05 | S79: 14 | T79: 11 | U79: =IFERROR(T79/S79,"") -> 0.78571429 | V79: =MAX(D79:Q79) -> 1.5 | W79: =MIN(D79:Q79) -> 0.02 | X79: =MEDIAN(D79:Q79) -> 0.285 | Y79: =STDEV(D79:Q79) -> 0.57784658 | Z79: =((Y79*100)/AB79) -> 114.04867 | AA79: =VAR(D79:Q79) -> 0.33390667 | AB79: =AVERAGE(D79:Q79) -> 0.50666667 | AC79: =_xlfn.PERCENTILE.INC(D79:Q79,0.95) -> 1.3475 | AD79: =_xlfn.PERCENTILE.INC(D79:Q79,0.99) -> 1.4695
A80: Anthracene | B80: SVOC | D80: <0.01 | E80: <0.01 | F80: 0.16 | G80: < 0.05 | H80: < 0.05 | I80: < 0.05 | J80: < 0.05 | K80: < 0.05 | L80: 0.2 | M80: < 0.05 | N80: < 0.05 | O80: < 0.05 | P80: < 0.05 | Q80: < 0.05 | S80: 14 | T80: 13 | U80: =IFERROR(T80/S80,"") -> 0.92857143 | V80: =MAX(D80:Q80) -> 0.2 | W80: =MIN(D80:Q80) -> 0.16 | X80: =MEDIAN(D80:Q80) -> 0.18 | Y80: =STDEV(D80:Q80) -> 0.028284271 | Z80: =((Y80*100)/AB80) -> 15.713484 | AA80: =VAR(D80:Q80) -> 0.0008 | AB80: =AVERAGE(D80:Q80) -> 0.18 | AC80: =_xlfn.PERCENTILE.INC(D80:Q80,0.95) -> 0.198 | AD80: =_xlfn.PERCENTILE.INC(D80:Q80,0.99) -> 0.1996
A81: Carbazole | B81: SVOC | D81: <0.01 | E81: <0.01 | F81: 0.05 | G81: < 0.3 | H81: < 0.3 | I81: < 0.3 | J81: < 0.3 | K81: < 0.3 | L81: < 0.3 | M81: < 0.3 | N81: < 0.3 | O81: < 0.3 | P81: < 0.3 | Q81: < 0.3 | S81: 14 | T81: 13 | U81: =IFERROR(T81/S81,"") -> 0.92857143 | V81: =MAX(D81:Q81) -> 0.05 | W81: =MIN(D81:Q81) -> 0.05 | X81: =MEDIAN(D81:Q81) -> 0.05 | Y81: =STDEV(D81:Q81) -> #DIV/0! | Z81: =((Y81*100)/AB81) -> #DIV/0! | AA81: =VAR(D81:Q81) -> #DIV/0! | AB81: =AVERAGE(D81:Q81) -> 0.05 | AC81: =_xlfn.PERCENTILE.INC(D81:Q81,0.95) -> 0.05 | AD81: =_xlfn.PERCENTILE.INC(D81:Q81,0.99) -> 0.05
A82: Dibutyl phthalate | B82: SVOC | D82: <0.01 | E82: <0.01 | F82: <0.01 | G82: < 0.2 | H82: < 0.2 | I82: < 0.2 | J82: < 0.2 | K82: < 0.2 | L82: < 0.2 | M82: < 0.2 | N82: < 0.2 | O82: < 0.2 | P82: < 0.2 | Q82: < 0.2 | S82: 14 | T82: 14 | U82: =IFERROR(T82/S82,"") -> 1 | V82: =MAX(D82:Q82) -> 0 | W82: =MIN(D82:Q82) -> 0 | X82: =MEDIAN(D82:Q82) -> #NUM! | Y82: =STDEV(D82:Q82) -> #DIV/0! | Z82: =((Y82*100)/AB82) -> #DIV/0! | AA82: =VAR(D82:Q82) -> #DIV/0! | AB82: =AVERAGE(D82:Q82) -> #DIV/0! | AC82: =_xlfn.PERCENTILE.INC(D82:Q82,0.95) -> #NUM! | AD82: =_xlfn.PERCENTILE.INC(D82:Q82,0.99) -> #NUM!
A83: Fluoranthene | B83: SVOC | D83: 0.1 | E83: <0.01 | F83: 0.98 | G83: < 0.05 | H83: < 0.05 | I83: < 0.05 | J83: < 0.05 | K83: < 0.05 | L83: 1.6 | M83: 0.3 | N83: 0.35 | O83: < 0.05 | P83: < 0.05 | Q83: < 0.05 | S83: 14 | T83: 12 | U83: =IFERROR(T83/S83,"") -> 0.85714286 | V83: =MAX(D83:Q83) -> 1.6 | W83: =MIN(D83:Q83) -> 0.1 | X83: =MEDIAN(D83:Q83) -> 0.35 | Y83: =STDEV(D83:Q83) -> 0.61747874 | Z83: =((Y83*100)/AB83) -> 92.714526 | AA83: =VAR(D83:Q83) -> 0.38128 | AB83: =AVERAGE(D83:Q83) -> 0.666 | AC83: =_xlfn.PERCENTILE.INC(D83:Q83,0.95) -> 1.476 | AD83: =_xlfn.PERCENTILE.INC(D83:Q83,0.99) -> 1.5752
A84: Pyrene | B84: SVOC | D84: 0.08 | E84: 0.01 | F84: 0.65 | G84: < 0.05 | H84: < 0.05 | I84: < 0.05 | J84: < 0.05 | K84: < 0.05 | L84: 1.1 | M84: 0.25 | N84: 0.33 | O84: < 0.05 | P84: < 0.05 | Q84: < 0.05 | S84: 14 | T84: 11 | U84: =IFERROR(T84/S84,"") -> 0.78571429 | V84: =MAX(D84:Q84) -> 1.1 | W84: =MIN(D84:Q84) -> 0.01 | X84: =MEDIAN(D84:Q84) -> 0.29 | Y84: =STDEV(D84:Q84) -> 0.40849317 | Z84: =((Y84*100)/AB84) -> 101.2793 | AA84: =VAR(D84:Q84) -> 0.16686667 | AB84: =AVERAGE(D84:Q84) -> 0.40333333 | AC84: =_xlfn.PERCENTILE.INC(D84:Q84,0.95) -> 0.9875 | AD84: =_xlfn.PERCENTILE.INC(D84:Q84,0.99) -> 1.0775
A85: Butyl benzyl phthalate | B85: SVOC | D85: <0.01 | E85: <0.01 | F85: <0.01 | G85: < 0.3 | H85: < 0.3 | I85: < 0.3 | J85: < 0.3 | K85: < 0.3 | L85: < 0.3 | M85: < 0.3 | N85: < 0.3 | O85: < 0.3 | P85: < 0.3 | Q85: < 0.3 | S85: 14 | T85: 14 | U85: =IFERROR(T85/S85,"") -> 1 | V85: =MAX(D85:Q85) -> 0 | W85: =MIN(D85:Q85) -> 0 | X85: =MEDIAN(D85:Q85) -> #NUM! | Y85: =STDEV(D85:Q85) -> #DIV/0! | Z85: =((Y85*100)/AB85) -> #DIV/0! | AA85: =VAR(D85:Q85) -> #DIV/0! | AB85: =AVERAGE(D85:Q85) -> #DIV/0! | AC85: =_xlfn.PERCENTILE.INC(D85:Q85,0.95) -> #NUM! | AD85: =_xlfn.PERCENTILE.INC(D85:Q85,0.99) -> #NUM!
A86: Bis-2-ethylhexyladipate | B86: SVOC | D86: <0.01 | E86: <0.01 | F86: <0.01 | S86: 3 | T86: 3 | U86: =IFERROR(T86/S86,"") -> 1 | V86: =MAX(D86:Q86) -> 0 | W86: =MIN(D86:Q86) -> 0 | X86: =MEDIAN(D86:Q86) -> #NUM! | Y86: =STDEV(D86:Q86) -> #DIV/0! | Z86: =((Y86*100)/AB86) -> #DIV/0! | AA86: =VAR(D86:Q86) -> #DIV/0! | AB86: =AVERAGE(D86:Q86) -> #DIV/0! | AC86: =_xlfn.PERCENTILE.INC(D86:Q86,0.95) -> #NUM! | AD86: =_xlfn.PERCENTILE.INC(D86:Q86,0.99) -> #NUM!
A87: Diisooctyl phthalate | B87: SVOC | D87: <0.01 | E87: <0.01 | F87: <0.01 | S87: 3 | T87: 3 | U87: =IFERROR(T87/S87,"") -> 1 | V87: =MAX(D87:Q87) -> 0 | W87: =MIN(D87:Q87) -> 0 | X87: =MEDIAN(D87:Q87) -> #NUM! | Y87: =STDEV(D87:Q87) -> #DIV/0! | Z87: =((Y87*100)/AB87) -> #DIV/0! | AA87: =VAR(D87:Q87) -> #DIV/0! | AB87: =AVERAGE(D87:Q87) -> #DIV/0! | AC87: =_xlfn.PERCENTILE.INC(D87:Q87,0.95) -> #NUM! | AD87: =_xlfn.PERCENTILE.INC(D87:Q87,0.99) -> #NUM!
A88: Benzo(a)anthracene | B88: SVOC | D88: <0.01 | E88: <0.01 | F88: 0.18 | G88: < 0.05 | H88: < 0.05 | I88: < 0.05 | J88: < 0.05 | K88: < 0.05 | L88: 0.32 | M88: < 0.05 | N88: < 0.05 | O88: < 0.05 | P88: < 0.05 | Q88: < 0.05 | S88: 14 | T88: 13 | U88: =IFERROR(T88/S88,"") -> 0.92857143 | V88: =MAX(D88:Q88) -> 0.32 | W88: =MIN(D88:Q88) -> 0.18 | X88: =MEDIAN(D88:Q88) -> 0.25 | Y88: =STDEV(D88:Q88) -> 0.098994949 | Z88: =((Y88*100)/AB88) -> 39.59798 | AA88: =VAR(D88:Q88) -> 0.0098 | AB88: =AVERAGE(D88:Q88) -> 0.25 | AC88: =_xlfn.PERCENTILE.INC(D88:Q88,0.95) -> 0.313 | AD88: =_xlfn.PERCENTILE.INC(D88:Q88,0.99) -> 0.3186
A89: Chrysene | B89: SVOC | D89: 0.01 | E89: 0.03 | F89: 0.12 | G89: < 0.05 | H89: < 0.05 | I89: < 0.05 | J89: < 0.05 | K89: < 0.05 | L89: 0.29 | M89: < 0.05 | N89: < 0.05 | O89: < 0.05 | P89: < 0.05 | Q89: < 0.05 | S89: 14 | T89: 11 | U89: =IFERROR(T89/S89,"") -> 0.78571429 | V89: =MAX(D89:Q89) -> 0.29 | W89: =MIN(D89:Q89) -> 0.01 | X89: =MEDIAN(D89:Q89) -> 0.075 | Y89: =STDEV(D89:Q89) -> 0.12763881 | Z89: =((Y89*100)/AB89) -> 113.45672 | AA89: =VAR(D89:Q89) -> 0.016291667 | AB89: =AVERAGE(D89:Q89) -> 0.1125 | AC89: =_xlfn.PERCENTILE.INC(D89:Q89,0.95) -> 0.2645 | AD89: =_xlfn.PERCENTILE.INC(D89:Q89,0.99) -> 0.2849
A90: Bis(2-ethylhexyl)phthalate | B90: SVOC | D90: <0.01 | E90: <0.01 | F90: <0.01 | S90: 3 | T90: 3 | U90: =IFERROR(T90/S90,"") -> 1 | V90: =MAX(D90:Q90) -> 0 | W90: =MIN(D90:Q90) -> 0 | X90: =MEDIAN(D90:Q90) -> #NUM! | Y90: =STDEV(D90:Q90) -> #DIV/0! | Z90: =((Y90*100)/AB90) -> #DIV/0! | AA90: =VAR(D90:Q90) -> #DIV/0! | AB90: =AVERAGE(D90:Q90) -> #DIV/0! | AC90: =_xlfn.PERCENTILE.INC(D90:Q90,0.95) -> #NUM! | AD90: =_xlfn.PERCENTILE.INC(D90:Q90,0.99) -> #NUM!
A91: Benzo(b)fluoranthene | B91: SVOC | D91: 0.01 | E91: <0.01 | F91: 0.07 | G91: < 0.05 | H91: < 0.05 | I91: < 0.05 | J91: < 0.05 | K91: < 0.05 | L91: < 0.05 | M91: < 0.05 | N91: < 0.05 | O91: < 0.05 | P91: < 0.05 | Q91: < 0.05 | S91: 14 | T91: 12 | U91: =IFERROR(T91/S91,"") -> 0.85714286 | V91: =MAX(D91:Q91) -> 0.07 | W91: =MIN(D91:Q91) -> 0.01 | X91: =MEDIAN(D91:Q91) -> 0.04 | Y91: =STDEV(D91:Q91) -> 0.042426407 | Z91: =((Y91*100)/AB91) -> 106.06602 | AA91: =VAR(D91:Q91) -> 0.0018 | AB91: =AVERAGE(D91:Q91) -> 0.04 | AC91: =_xlfn.PERCENTILE.INC(D91:Q91,0.95) -> 0.067 | AD91: =_xlfn.PERCENTILE.INC(D91:Q91,0.99) -> 0.0694
A92: Benzo(k)fluoranthene | B92: SVOC | D92: <0.01 | E92: <0.01 | F92: 0.07 | G92: < 0.05 | H92: < 0.05 | I92: < 0.05 | J92: < 0.05 | K92: < 0.05 | L92: < 0.05 | M92: < 0.05 | N92: < 0.05 | O92: < 0.05 | P92: < 0.05 | Q92: < 0.05 | S92: 14 | T92: 13 | U92: =IFERROR(T92/S92,"") -> 0.92857143 | V92: =MAX(D92:Q92) -> 0.07 | W92: =MIN(D92:Q92) -> 0.07 | X92: =MEDIAN(D92:Q92) -> 0.07 | Y92: =STDEV(D92:Q92) -> #DIV/0! | Z92: =((Y92*100)/AB92) -> #DIV/0! | AA92: =VAR(D92:Q92) -> #DIV/0! | AB92: =AVERAGE(D92:Q92) -> 0.07 | AC92: =_xlfn.PERCENTILE.INC(D92:Q92,0.95) -> 0.07 | AD92: =_xlfn.PERCENTILE.INC(D92:Q92,0.99) -> 0.07
A93: Benzo(a)pyrene | B93: SVOC | D93: 0.01 | E93: <0.01 | F93: 0.05 | G93: < 0.05 | H93: < 0.05 | I93: < 0.05 | J93: < 0.05 | K93: < 0.05 | L93: < 0.05 | M93: < 0.05 | N93: < 0.05 | O93: < 0.05 | P93: < 0.05 | Q93: < 0.05 | S93: 14 | T93: 12 | U93: =IFERROR(T93/S93,"") -> 0.85714286 | V93: =MAX(D93:Q93) -> 0.05 | W93: =MIN(D93:Q93) -> 0.01 | X93: =MEDIAN(D93:Q93) -> 0.03 | Y93: =STDEV(D93:Q93) -> 0.028284271 | Z93: =((Y93*100)/AB93) -> 94.280904 | AA93: =VAR(D93:Q93) -> 0.0008 | AB93: =AVERAGE(D93:Q93) -> 0.03 | AC93: =_xlfn.PERCENTILE.INC(D93:Q93,0.95) -> 0.048 | AD93: =_xlfn.PERCENTILE.INC(D93:Q93,0.99) -> 0.0496
A94: Indeno(1,2,3-cd)pyrene | B94: SVOC | D94: <0.01 | E94: <0.01 | F94: 0.04 | G94: < 0.05 | H94: < 0.05 | I94: < 0.05 | J94: < 0.05 | K94: < 0.05 | L94: < 0.05 | M94: < 0.05 | N94: < 0.05 | O94: < 0.05 | P94: < 0.05 | Q94: < 0.05 | S94: 14 | T94: 13 | U94: =IFERROR(T94/S94,"") -> 0.92857143 | V94: =MAX(D94:Q94) -> 0.04 | W94: =MIN(D94:Q94) -> 0.04 | X94: =MEDIAN(D94:Q94) -> 0.04 | Y94: =STDEV(D94:Q94) -> #DIV/0! | Z94: =((Y94*100)/AB94) -> #DIV/0! | AA94: =VAR(D94:Q94) -> #DIV/0! | AB94: =AVERAGE(D94:Q94) -> 0.04 | AC94: =_xlfn.PERCENTILE.INC(D94:Q94,0.95) -> 0.04 | AD94: =_xlfn.PERCENTILE.INC(D94:Q94,0.99) -> 0.04
A95: Dibenzo(a,h)anthracene | B95: SVOC | D95: <0.01 | E95: <0.01 | F95: 0.03 | G95: < 0.05 | H95: < 0.05 | I95: < 0.05 | J95: < 0.05 | K95: < 0.05 | L95: < 0.05 | M95: < 0.05 | N95: < 0.05 | O95: < 0.05 | P95: < 0.05 | Q95: < 0.05 | S95: 14 | T95: 13 | U95: =IFERROR(T95/S95,"") -> 0.92857143 | V95: =MAX(D95:Q95) -> 0.03 | W95: =MIN(D95:Q95) -> 0.03 | X95: =MEDIAN(D95:Q95) -> 0.03 | Y95: =STDEV(D95:Q95) -> #DIV/0! | Z95: =((Y95*100)/AB95) -> #DIV/0! | AA95: =VAR(D95:Q95) -> #DIV/0! | AB95: =AVERAGE(D95:Q95) -> 0.03 | AC95: =_xlfn.PERCENTILE.INC(D95:Q95,0.95) -> 0.03 | AD95: =_xlfn.PERCENTILE.INC(D95:Q95,0.99) -> 0.03
A96: Benzo[g,h,i]perylene | B96: SVOC_TIC | D96: <0.01 | E96: <0.01 | F96: 0.03 | G96: < 0.05 | H96: < 0.05 | I96: < 0.05 | J96: < 0.05 | K96: < 0.05 | L96: < 0.05 | M96: < 0.05 | N96: < 0.05 | O96: < 0.05 | P96: < 0.05 | Q96: < 0.05 | S96: 14 | T96: 13 | U96: =IFERROR(T96/S96,"") -> 0.92857143 | V96: =MAX(D96:Q96) -> 0.03 | W96: =MIN(D96:Q96) -> 0.03 | X96: =MEDIAN(D96:Q96) -> 0.03 | Y96: =STDEV(D96:Q96) -> #DIV/0! | Z96: =((Y96*100)/AB96) -> #DIV/0! | AA96: =VAR(D96:Q96) -> #DIV/0! | AB96: =AVERAGE(D96:Q96) -> 0.03 | AC96: =_xlfn.PERCENTILE.INC(D96:Q96,0.95) -> 0.03 | AD96: =_xlfn.PERCENTILE.INC(D96:Q96,0.99) -> 0.03
A97: 4-Chlorophenyl phenyl ether | B97: SVOCs | G97: < 0.3 | H97: < 0.3 | I97: < 0.3 | J97: < 0.3 | K97: < 0.3 | L97: < 0.3 | M97: < 0.3 | N97: < 0.3 | O97: < 0.3 | P97: < 0.3 | Q97: < 0.3 | S97: 11 | T97: 11 | U97: =IFERROR(T97/S97,"") -> 1 | V97: =MAX(D97:Q97) -> 0 | W97: =MIN(D97:Q97) -> 0 | X97: =MEDIAN(D97:Q97) -> #NUM! | Y97: =STDEV(D97:Q97) -> #DIV/0! | Z97: =((Y97*100)/AB97) -> #DIV/0! | AA97: =VAR(D97:Q97) -> #DIV/0! | AB97: =AVERAGE(D97:Q97) -> #DIV/0! | AC97: =_xlfn.PERCENTILE.INC(D97:Q97,0.95) -> #NUM! | AD97: =_xlfn.PERCENTILE.INC(D97:Q97,0.99) -> #NUM!
A98: Anthraquinone | B98: SVOCs | G98: < 0.3 | H98: < 0.3 | I98: < 0.3 | J98: < 0.3 | K98: < 0.3 | L98: < 0.3 | M98: < 0.3 | N98: < 0.3 | O98: < 0.3 | P98: < 0.3 | Q98: < 0.3 | S98: 11 | T98: 11 | U98: =IFERROR(T98/S98,"") -> 1 | V98: =MAX(D98:Q98) -> 0 | W98: =MIN(D98:Q98) -> 0 | X98: =MEDIAN(D98:Q98) -> #NUM! | Y98: =STDEV(D98:Q98) -> #DIV/0! | Z98: =((Y98*100)/AB98) -> #DIV/0! | AA98: =VAR(D98:Q98) -> #DIV/0! | AB98: =AVERAGE(D98:Q98) -> #DIV/0! | AC98: =_xlfn.PERCENTILE.INC(D98:Q98,0.95) -> #NUM! | AD98: =_xlfn.PERCENTILE.INC(D98:Q98,0.99) -> #NUM!
A99: Bromophenyl phenyl ether | B99: SVOCs | G99: < 0.2 | H99: < 0.2 | I99: < 0.2 | J99: < 0.2 | K99: < 0.2 | L99: < 0.2 | M99: < 0.2 | N99: < 0.2 | O99: < 0.2 | P99: < 0.2 | Q99: < 0.2 | S99: 11 | T99: 11 | U99: =IFERROR(T99/S99,"") -> 1 | V99: =MAX(D99:Q99) -> 0 | W99: =MIN(D99:Q99) -> 0 | X99: =MEDIAN(D99:Q99) -> #NUM! | Y99: =STDEV(D99:Q99) -> #DIV/0! | Z99: =((Y99*100)/AB99) -> #DIV/0! | AA99: =VAR(D99:Q99) -> #DIV/0! | AB99: =AVERAGE(D99:Q99) -> #DIV/0! | AC99: =_xlfn.PERCENTILE.INC(D99:Q99,0.95) -> #NUM! | AD99: =_xlfn.PERCENTILE.INC(D99:Q99,0.99) -> #NUM!
A100: Hexachlorobenzene | B100: SVOCs | G100: < 0.3 | H100: < 0.3 | I100: < 0.3 | J100: < 0.3 | K100: < 0.3 | L100: < 0.3 | M100: < 0.3 | N100: < 0.3 | O100: < 0.3 | P100: < 0.3 | Q100: < 0.3 | S100: 11 | T100: 11 | U100: =IFERROR(T100/S100,"") -> 1 | V100: =MAX(D100:Q100) -> 0 | W100: =MIN(D100:Q100) -> 0 | X100: =MEDIAN(D100:Q100) -> #NUM! | Y100: =STDEV(D100:Q100) -> #DIV/0! | Z100: =((Y100*100)/AB100) -> #DIV/0! | AA100: =VAR(D100:Q100) -> #DIV/0! | AB100: =AVERAGE(D100:Q100) -> #DIV/0! | AC100: =_xlfn.PERCENTILE.INC(D100:Q100,0.95) -> #NUM! | AD100: =_xlfn.PERCENTILE.INC(D100:Q100,0.99) -> #NUM!
...

Sheet Comparators
A1: PAS 111 | L1: Stats tab row ref.
A2: Substance | B2: Units | C2: Panel Board Manufacture | D2: Porous Surfaces | E2: Non-Porous Surfaces
G4: Units | H4: MAX | I4: MEDIAN | J4: 99th Per.
A5: Arsenic | B5: mg/kg | C5: 25 | D5: - | E5: - | G5: mg/kg | H5: =Stats!V23 -> 6 | I5: =Stats!X23 -> 1.4 | J5: =Stats!AD23 -> 5.58 | L5: 23
A6: Cadmium | B6: mg/kg | C6: 50 | D6: 1.5 | E6: 1.5 | G6: mg/kg | H6: =Stats!V15 -> 0.4 | I6: =Stats!X15 -> 0.3 | J6: =Stats!AD15 -> 0.398 | L6: 15
A7: Chromium | B7: mg/kg | C7: 25 | D7: 100 | E7: 100 | G7: mg/kg | H7: =Stats!V16 -> 27 | I7: =Stats!X16 -> 1.6 | J7: =Stats!AD16 -> 25.72 | L7: 16
A8: Copper | B8: mg/kg | C8: 40 | D8: 200 | E8: 200 | G8: mg/kg | H8: =Stats!V17 -> 36 | I8: =Stats!X17 -> 7.1 | J8: =Stats!AD17 -> 33.91 | L8: 17
A9: Fluorine | B9: mg/kg | C9: 100 | D9: - | E9: - | G9: mg/kg | H9: - | I9: - | J9: - | L9: -
A10: Chlorine | B10: mg/kg | C10: 1000 | D10: - | E10: - | G10: mg/kg | H10: - | I10: - | J10: - | L10: -
A11: Lead | B11: mg/kg | C11: 90 | D11: 200 | E11: 200 | G11: mg/kg | H11: =Stats!V18 -> 53 | I11: =Stats!X18 -> 4.3 | J11: =Stats!AD18 -> 49.893 | L11: 18
A12: Mercury | B12: mg/kg | C12: 25 | D12: 1 | E12: 1 | G12: mg/kg | H12: =Stats!V19 -> 0.6 | I12: =Stats!X19 -> 0.6 | J12: =Stats!AD19 -> 0.6 | L12: 19
A13: Nickel | B13: mg/kg | C13: - | D13: 50 | E13: 50 | G13: mg/kg | H13: =Stats!V20 -> 5.7 | I13: =Stats!X20 -> 2.25 | J13: =Stats!AD20 -> 5.625 | L13: 20
A14: Zinc | B14: mg/kg | C14: - | D14: 400 | E14: 400 | G14: mg/kg | H14: =Stats!V21 -> 170 | I14: =Stats!X21 -> 25.5 | J14: =Stats!AD21 -> 156.09 | L14: 21
A15: Heavy metals (combined) | B15: mg/kg | C15: 4000 | D15: Trace | E15: Trace | G15: mg/kg | H15: 337.7 | I15: N/A | J15: N/A
A16: Benzo(a)pyrene | B16: mg/kg | C16: 0.5 | D16: Trace | E16: Trace | G16: mg/kg | H16: =Stats!V93 -> 0.05 | I16: =Stats!X93 -> 0.03 | J16: =Stats!AD93 -> 0.0496 | L16: 93
A17: Pentachlorophenol (PCP) | B17: mg/kg | C17: 5 | D17: - | E17: - | G17: mg/kg | H17: <0.01 | I17: N/A | J17: N/A | L17: 78
A19: STRAW | G19: Units | H19: MAX | I19: MEDIAN | J19: 99th Per. | L19: Row ref.
A20: Acenaphthene | B20: µg/kg | C20: 10.03 | G20: mg/kg | H20: =Stats!V64 -> 0.08 | I20: =Stats!X64 -> 0.045 | J20: =Stats!AD64 -> 0.0793 | L20: 64
A21: Acenaphthylene | B21: µg/kg | C21: 9 | G21: mg/kg | H21: =Stats!V61 -> 0.01 | I21: =Stats!X61 -> 0.01 | J21: =Stats!AD61 -> 0.01 | L21: 61
A22: Anthracene | B22: µg/kg | C22: 200 | G22: mg/kg | H22: =Stats!V80 -> 0.2 | I22: =Stats!X80 -> 0.18 | J22: =Stats!AD80 -> 0.1996 | L22: 80
A23: Benzo(a)anthracene | B23: µg/kg | C23: 200 | G23: mg/kg | H23: =Stats!V88 -> 0.32 | I23: =Stats!X88 -> 0.25 | J23: =Stats!AD88 -> 0.3186 | L23: 88
A24: Benzo(a)pyrene | B24: µg/kg | C24: 200 | G24: mg/kg | H24: =Stats!V93 -> 0.05 | I24: =Stats!X93 -> 0.03 | J24: =Stats!AD93 -> 0.0496 | L24: 93
A25: Benzo(b)fluoranthene | B25: µg/kg | C25: 200 | G25: mg/kg | H25: =Stats!V91 -> 0.07 | I25: =Stats!X91 -> 0.04 | J25: =Stats!AD91 -> 0.0694 | L25: 91
A26: Benzo(ghi)perylene | B26: µg/kg | C26: 10 | G26: mg/kg | H26: =Stats!V96 -> 0.03 | I26: =Stats!X96 -> 0.03 | J26: =Stats!AD96 -> 0.03 | L26: 96
A27: Benzo(k)fluoranthene | B27: µg/kg | C27: 200 | G27: mg/kg | H27: =Stats!V92 -> 0.07 | I27: =Stats!X92 -> 0.07 | J27: =Stats!AD92 -> 0.07 | L27: 92
A28: Chrysene | B28: µg/kg | C28: 300 | G28: mg/kg | H28: =Stats!V89 -> 0.29 | I28: =Stats!X89 -> 0.075 | J28: =Stats!AD89 -> 0.2849 | L28: 89
A29: Dibenz(ah)anthracene | B29: µg/kg | C29: 30 | G29: mg/kg | H29: =Stats!V95 -> 0.03 | I29: =Stats!X95 -> 0.03 | J29: =Stats!AD95 -> 0.03 | L29: 95
A30: Fluoranthene | B30: µg/kg | C30: 200 | G30: mg/kg | H30: =Stats!V83 -> 1.6 | I30: =Stats!X83 -> 0.35 | J30: =Stats!AD83 -> 1.5752 | L30: 83
A31: Fluorene | B31: µg/kg | C31: 90 | G31: mg/kg | H31: =Stats!V71 -> 0.1 | I31: =Stats!X71 -> 0.055 | J31: =Stats!AD71 -> 0.0991 | L31: 71
A32: Indeno(1,2,3-c,d)pyrene | B32: µg/kg | C32: 300 | G32: mg/kg | H32: =Stats!V94 -> 0.04 | I32: =Stats!X94 -> 0.04 | J32: =Stats!AD94 -> 0.04 | L32: 94
A33: Naphthalene | B33: µg/kg | C33: 90 | G33: mg/kg | H33: =Stats!V46 -> 0.06 | I33: =Stats!X46 -> 0.02 | J33: =Stats!AD46 -> 0.0592 | L33: 46
A34: Phenanthrene | B34: µg/kg | C34: 200 | G34: mg/kg | H34: =Stats!V79 -> 1.5 | I34: =Stats!X79 -> 0.285 | J34: =Stats!AD79 -> 1.4695 | L34: 79
A35: Pyrene | B35: µg/kg | C35: 200 | G35: mg/kg | H35: =Stats!V84 -> 1.1 | I35: =Stats!X84 -> 0.29 | J35: =Stats!AD84 -> 1.0775 | L35: 84
A36: 1,2,3 Trichlorobenzene | B36: µg/kg | C36: 7 | G36: µg/kg | H36: <10.0 | I36: N/A | J36: N/A | L36: 148
A37: 1,2,4 Trichlorobenzene | B37: µg/kg | C37: 7 | G37: µg/kg | H37: <10.0 | I37: N/A | J37: N/A | L37: 150
A38: Hexachlorobutadiene | B38: µg/kg | C38: 8 | G38: µg/kg | H38: <10.0 | I38: N/A | J38: N/A | L38: 147
A39: 2,4,6-Tetrachlorophenol | B39: µg/kg | C39: 5000 | G39: µg/kg | H39: <0.1 | I39: N/A | J39: N/A | L39: 53
A40: 2,4,5-Trichlorophenol | B40: µg/kg | C40: 5000 | G40: mg/kg | H40: <0.2 | I40: N/A | J40: N/A | L40: 54
A41: 2,4-Dichlorophenol | B41: µg/kg | C41: 5000 | G41: mg/kg | H41: <0.3 | I41: N/A | J41: N/A | L41: 44
A42: 4-Chloro-3-methylphenol | B42: µg/kg | C42: 5000 | G42: mg/kg | H42: <0.1 | I42: N/A | J42: N/A | L42: 49
A43: 4-Methylphenol (p-cresol) | B43: µg/kg | C43: 5000 | G43: mg/kg | H43: =Stats!V36 -> 0.11 | I43: =Stats!X36 -> 0.11 | J43: =Stats!AD36 -> 0.11 | L43: 36
A44: Phenol | B44: µg/kg | C44: 5000 | G44: mg/kg | H44: =Stats!V26 -> 9.58 | I44: =Stats!X26 -> 0.27 | J44: =Stats!AD26 -> 9.3938 | L44: 26
A45: Pentachlorophenol | B45: µg/kg | C45: 5000 | G45: mg/kg | H45: <0.01 | I45: N/A | J45: N/A | L45: 78
A46: 1,2-Dimethylbenzene (o-Xylene) | B46: µg/kg | C46: 11 | G46: µg/kg | H46: <10.0 | I46: N/A | J46: N/A | L46: 108
A47: Benzene | B47: µg/kg | C47: 5 | G47: µg/kg | H47: =Stats!V104 -> 9.2 | I47: =Stats!X104 -> 9.2 | J47: =Stats!AD104 -> 9.2 | L47: 104
A48: Ethylbenzene | B48: µg/kg | C48: 5.5 | G48: µg/kg | H48: <10.0 | I48: N/A | J48: N/A | L48: 106
A49: Toluene | B49: µg/kg | C49: 33 | G49: µg/kg | H49: =Stats!V105 -> 150 | I49: =Stats!X105 -> 71.1 | J49: =Stats!AD105 -> 147.4 | L49: 105
A51: MATERIAL APPLIED TO LAND
A52: Analytes | B52: Units | C52: Highest Results | D52: Lowest Results | G52: Units | H52: MAX | I52: MEDIAN | J52: 99th Per. | L52: Row ref.
A53: Arsenic | B53: mg/kg | C53: 18.6 | D53: 8.6 | G53: mg/kg | H53: =Stats!V23 -> 6 | I53: =Stats!X23 -> 1.4 | J53: =Stats!AD23 -> 5.58 | L53: 23
A54: Cadmium | B54: mg/kg | C54: 30.6 | D54: 5.7 | G54: mg/kg | H54: =Stats!V15 -> 0.4 | I54: =Stats!X15 -> 0.3 | J54: =Stats!AD15 -> 0.398 | L54: 15
A55: Cobalt | B55: mg/kg | C55: 9.4 | D55: 0.5 | G55: mg/kg | H55: - | I55: - | J55: - | L55: -
A56: Chromium | B56: mg/kg | C56: 360.3 | D56: 37.6 | G56: mg/kg | H56: =Stats!V16 -> 27 | I56: =Stats!X16 -> 1.6 | J56: =Stats!AD16 -> 25.72 | L56: 16
A57: Copper | B57: mg/kg | C57: 55.9 | D57: 11.6 | G57: mg/kg | H57: =Stats!V17 -> 36 | I57: =Stats!X17 -> 7.1 | J57: =Stats!AD17 -> 33.91 | L57: 17
A58: Nickel | B58: mg/kg | C58: 55.7 | D58: 7.7 | G58: mg/kg | H58: =Stats!V20 -> 5.7 | I58: =Stats!X20 -> 2.25 | J58: =Stats!AD20 -> 5.625 | L58: 20
A59: Lead | B59: mg/kg | C59: 34.7 | D59: 3.6 | G59: mg/kg | H59: =Stats!V18 -> 53 | I59: =Stats!X18 -> 4.3 | J59: =Stats!AD18 -> 49.893 | L59: 18
A60: Zinc | B60: mg/kg | C60: 637.4 | D60: 51.9 | G60: mg/kg | H60: =Stats!V21 -> 170 | I60: =Stats!X21 -> 25.5 | J60: =Stats!AD21 -> 156.09 | L60: 21
A62: CLEAN WOOD BEDDING MATERIAL | N62: Concentration
A63: Analytes | B63: Units | C63: Maximum | D63: Median | E63: Minimum | G63: Units | H63: MAX | I63: MEDIAN | J63: 99th Per. | L63: Row ref. | N63: %
A64: Arsenic (aqua regia extractable) | B64: mg/kg | C64: 3.3 | D64: 1 | E64: 1 | G64: mg/kg | H64: =Stats!V23 -> 6 | I64: =Stats!X23 -> 1.4 | J64: =Stats!AD23 -> 5.58 | L64: 23 | N64: =SUM(H64/1000000)*100 -> 0.0006
A65: Boron (water soluble) | B65: mg/kg | C65: 57 | D65: 3 | E65: 0.3 | G65: mg/kg | H65: Not Tested | I65: - | J65: - | L65: - | N65: - | P65: Complies with 0.1% absolute maximum combined results
A66: Cadmium (aqua regia extractable) | B66: mg/kg | C66: 1 | D66: 0 | E66: 0.2 | G66: mg/kg | H66: =Stats!V15 -> 0.4 | I66: =Stats!X15 -> 0.3 | J66: =Stats!AD15 -> 0.398 | L66: 15 | N66: =SUM(H66/1000000)*100 -> 4e-05 | P66: Complies against 'Clean' comparator target at <0.07 % maximum combined results
A67: Chromium (aqua regia extractable) | B67: mg/kg | C67: 31 | D67: 4 | E67: 1 | G67: mg/kg | H67: =Stats!V16 -> 27 | I67: =Stats!X16 -> 1.6 | J67: =Stats!AD16 -> 25.72 | L67: 16 | N67: =SUM(H67/1000000)*100 -> 0.0027 | P67: Complies against WM3 <0.1% concentration for individual substances (re HP14 Ecotoxic)
A68: Copper (aqua regia extractable) | B68: mg/kg | C68: 140 | D68: 10 | E68: 4.6 | G68: mg/kg | H68: =Stats!V17 -> 36 | I68: =Stats!X17 -> 7.1 | J68: =Stats!AD17 -> 33.91 | L68: 17 | N68: =SUM(H68/1000000)*100 -> 0.0036
A69: Lead (aqua regia extractable) | B69: mg/kg | C69: 28 | D69: 4 | E69: 1.1 | G69: mg/kg | H69: =Stats!V18 -> 53 | I69: =Stats!X18 -> 4.3 | J69: =Stats!AD18 -> 49.893 | L69: 18 | N69: =SUM(H69/1000000)*100 -> 0.0053
A70: Mercury (aqua regia extractable) | B70: mg/kg | C70: 0.9 | D70: 1 | E70: 0.5 | G70: mg/kg | H70: =Stats!V19 -> 0.6 | I70: =Stats!X19 -> 0.6 | J70: =Stats!AD19 -> 0.6 | L70: 19 | N70: =SUM(H70/1000000)*100 -> 6e-05
A71: Nickel (aqua regia extractable) | B71: mg/kg | C71: 22 | D71: 3 | E71: 1 | G71: mg/kg | H71: =Stats!V20 -> 5.7 | I71: =Stats!X20 -> 2.25 | J71: =Stats!AD20 -> 5.625 | L71: 20 | N71: =SUM(H71/1000000)*100 -> 0.00057
A72: Zinc (aqua regia extractable) | B72: mg/kg | C72: 90 | D72: 1 | E72: 4.1 | G72: mg/kg | H72: =Stats!V21 -> 170 | I72: =Stats!X21 -> 25.5 | J72: =Stats!AD21 -> 156.09 | L72: 21 | N72: =SUM(H72/1000000)*100 -> 0.017
A73: Cis-1,2-dichloroethene | B73: µg/kg | C73: 27 | D73: 22 | E73: 16 | G73: µg/kg | H73: <1.0 | I73: N/A | J73: N/A | L73: 109 | N73: N/A
A74: Benzene | B74: µg/kg | C74: 110 | D74: 60 | E74: 9 | G74: µg/kg | H74: =Stats!V104 -> 9.2 | I74: =Stats!X104 -> 9.2 | J74: =Stats!AD104 -> 9.2 | L74: 104 | N74: =SUM(H74/1000000000)*100 -> 9.2e-07
A75: 1,2-Dichloropropane | B75: µg/kg | C75: 93 | D75: 93 | E75: 93 | G75: µg/kg | H75: <1.0 | I75: N/A | J75: N/A | L75: 128 | N75: N/A
A76: Trichloroethene | B76: µg/kg | C76: 160 | D76: 140 | E76: 41 | G76: µg/kg | H76: <1.0 | I76: N/A | J76: N/A | L76: 114 | N76: N/A
A77: Toluene | B77: µg/kg | C77: 280 | D77: 27 | E77: 1.9 | G77: µg/kg | H77: =Stats!V105 -> 150 | I77: =Stats!X105 -> 71.1 | J77: =Stats!AD105 -> 147.4 | L77: 105 | N77: =SUM(H77/1000000000)*100 -> 1.5e-05
A78: Ethylbenzene | B78: µg/kg | C78: 95 | D78: 6 | E78: 4.2 | G78: µg/kg | H78: <1.0 | I78: N/A | J78: N/A | L78: 106 | N78: N/A
A79: p & m-Xylene | B79: µg/kg | C79: 280 | D79: 13 | E79: 5.5 | G79: µg/kg | H79: <1.0 | I79: N/A | J79: N/A | L79: 107 | N79: N/A
A80: Styrene | B80: µg/kg | C80: 45 | D80: 15 | E80: 9.8 | G80: µg/kg | H80: =Stats!V135 -> 33 | I80: =Stats!X135 -> 26.1 | J80: =Stats!AD135 -> 32.862 | L80: 135 | N80: =SUM(H80/1000000000)*100 -> 3.3e-06
A81: o-Xylene | B81: µg/kg | C81: 130 | D81: 13 | E81: 7.3 | G81: µg/kg | H81: <1.0 | I81: N/A | J81: N/A | L81: 108 | N81: N/A
A82: 4-Chlorotoluene | B82: µg/kg | C82: 32 | D82: 32 | E82: 32 | G82: µg/kg | H82: <1.0 | I82: N/A | J82: N/A | L82: 139 | N82: N/A
A83: p-Isopropyltoluene | B83: µg/kg | C83: 840 | D83: 130 | E83: 7.1 | G83: µg/kg | H83: =Stats!V161 -> 570 | I83: =Stats!X161 -> 130 | J83: =Stats!AD161 -> 552 | L83: 161 | N83: =SUM(H83/1000000000)*100 -> 5.7e-05
A84: Aniline | B84: mg/kg | C84: 17 | D84: 17 | E84: 17 | G84: mg/kg | H84: <0.1 | I84: N/A | J84: N/A | L84: 27 | N84: N/A
A85: 2,4-Dimethylphenol | B85: mg/kg | C85: 1 | D85: 1 | E85: 1 | G85: mg/kg | H85: =Stats!V42 -> 0.02 | I85: =Stats!X42 -> 0.02 | J85: =Stats!AD42 -> 0.02 | L85: 42 | N85: =SUM(H85/1000000)*100 -> 2e-06
A86: 2-Methylnaphthalene | B86: mg/kg | C86: 0.7 | D86: 1 | E86: 0.7 | G86: mg/kg | H86: =Stats!V50 -> 0.04 | I86: =Stats!X50 -> 0.025 | J86: =Stats!AD50 -> 0.0397 | L86: 50 | N86: =SUM(H86/1000000)*100 -> 4e-06
A87: 2-Chloronaphthalene | B87: mg/kg | C87: 0.7 | D87: 1 | E87: 0.7 | G87: mg/kg | H87: <0.1 | I87: N/A | J87: N/A | L87: 55 | N87: N/A
A88: Acenaphthene | B88: mg/kg | C88: 1.5 | D88: 2 | E88: 1.5 | G88: mg/kg | H88: =Stats!V61 -> 0.01 | I88: =Stats!X61 -> 0.01 | J88: =Stats!AD61 -> 0.01 | L88: 61 | N88: =SUM(H88/1000000)*100 -> 1e-06
A89: Fluorene | B89: mg/kg | C89: 2.3 | D89: 2 | E89: 2.3 | G89: mg/kg | H89: =Stats!V71 -> 0.1 | I89: =Stats!X71 -> 0.055 | J89: =Stats!AD71 -> 0.0991 | L89: 71 | N89: =SUM(H89/1000000)*100 -> 1e-05
A90: Phenanthrene | B90: mg/kg | C90: 36 | D90: 1 | E90: 1.2 | G90: mg/kg | H90: =Stats!V79 -> 1.5 | I90: =Stats!X79 -> 0.285 | J90: =Stats!AD79 -> 1.4695 | L90: 79 | N90: =SUM(H90/1000000)*100 -> 0.00015
A91: Anthracene | B91: mg/kg | C91: 12 | D91: 0 | E91: 0.41 | G91: mg/kg | H91: =Stats!V80 -> 0.2 | I91: =Stats!X80 -> 0.18 | J91: =Stats!AD80 -> 0.1996 | L91: 80 | N91: =SUM(H91/1000000)*100 -> 2e-05
A92: Carbazole | B92: mg/kg | C92: 4.3 | D92: 4 | E92: 4.3 | G92: mg/kg | H92: =Stats!V81 -> 0.05 | I92: =Stats!X81 -> 0.05 | J92: =Stats!AD81 -> 0.05 | L92: 81 | N92: =SUM(H92/1000000)*100 -> 5e-06
A93: Fluoranthene | B93: mg/kg | C93: 65 | D93: 2 | E93: 0.3 | G93: mg/kg | H93: =Stats!V83 -> 1.6 | I93: =Stats!X83 -> 0.35 | J93: =Stats!AD83 -> 1.5752 | L93: 83 | N93: =SUM(H93/1000000)*100 -> 0.00016
A94: Pyrene | B94: mg/kg | C94: 53 | D94: 2 | E94: 0.32 | G94: mg/kg | H94: =Stats!V84 -> 1.1 | I94: =Stats!X84 -> 0.29 | J94: =Stats!AD84 -> 1.0775 | L94: 84 | N94: =SUM(H94/1000000)*100 -> 0.00011
A95: Benzo(a)anthracene | B95: mg/kg | C95: 30 | D95: 1 | E95: 0.88 | G95: mg/kg | H95: =Stats!V88 -> 0.32 | I95: =Stats!X88 -> 0.25 | J95: =Stats!AD88 -> 0.3186 | L95: 88 | N95: =SUM(H95/1000000)*100 -> 3.2e-05
A96: Chrysene | B96: mg/kg | C96: 22 | D96: 1 | E96: 0.64 | G96: mg/kg | H96: =Stats!V89 -> 0.29 | I96: =Stats!X89 -> 0.075 | J96: =Stats!AD89 -> 0.2849 | L96: 89 | N96: =SUM(H96/1000000)*100 -> 2.9e-05
A97: Benzo(b)fluoranthene | B97: mg/kg | C97: 21 | D97: 1 | E97: 0.72 | G97: mg/kg | H97: =Stats!V91 -> 0.07 | I97: =Stats!X91 -> 0.04 | J97: =Stats!AD91 -> 0.0694 | L97: 91 | N97: =SUM(H97/1000000)*100 -> 7e-06
A98: Benzo(k)fluoranthene | B98: mg/kg | C98: 12 | D98: 0 | E98: 0.37 | G98: mg/kg | H98: =Stats!V92 -> 0.07 | I98: =Stats!X92 -> 0.07 | J98: =Stats!AD92 -> 0.07 | L98: 92 | N98: =SUM(H98/1000000)*100 -> 7e-06
A99: Benzo(a)pyrene | B99: mg/kg | C99: 20 | D99: 1 | E99: 0.87 | G99: mg/kg | H99: =Stats!V93 -> 0.05 | I99: =Stats!X93 -> 0.03 | J99: =Stats!AD93 -> 0.0496 | L99: 93 | N99: =SUM(H99/1000000)*100 -> 5e-06
A100: Indeno(1,2,3-cd)pyrene | B100: mg/kg | C100: 9.6 | D100: 0 | E100: 0.39 | G100: mg/kg | H100: =Stats!V94 -> 0.04 | I100: =Stats!X94 -> 0.04 | J100: =Stats!AD94 -> 0.04 | L100: 94 | N100: =SUM(H100/1000000)*100 -> 4e-06
A101: Dibenz(a,h)anthracene | B101: mg/kg | C101: 2.6 | D101: 3 | E101: 2.6 | G101: mg/kg | H101: =Stats!V95 -> 0.03 | I101: =Stats!X95 -> 0.03 | J101: =Stats!AD95 -> 0.03 | L101: 95 | N101: =SUM(H101/1000000)*100 -> 3e-06
A102: Benzo(ghi)perylene | B102: mg/kg | C102: 10 | D102: 0 | E102: 0.41 | G102: mg/kg | H102: =Stats!V96 -> 0.03 | I102: =Stats!X96 -> 0.03 | J102: =Stats!AD96 -> 0.03 | L102: 96 | N102: =SUM(H102/1000000)*100 -> 3e-06
A104: Maximum concentration | B104: % | C104: 0.07 | D104: - | G104: % | H104: =Stats!W170 -> 0.03541925 | I104: -
A105: Median concentration | B105: % | C105: - | D105: 0.0085 | G105: % | H105: - | I105: =Stats!AB170 -> 0.00487964
