Workbook

Sheet Notes
B2: Reference conditions
B3: All concentrations in this spreadsheet are reported in dry air at a temperature of 273K, at a pressure of 101.3 kPa and with an oxygen content of 3% dry
B5: Uncertainty
B6: Concentrations in this spreadsheet are reported after having subtracted the value of the 95% confidence interval (see Section 3.6.7 of the permit):
C7: 95% confidence interval for nitrogen oxides is taken to be 20%
C8: 95% confidence interval for sulphur dioxide is taken to be 20%
C9: 95% confidence interval for dust is taken to be 30%
C10: 95% confidence interval for carbon monoxide is taken to be 10%
B12: Normal operating conditions
B13: The document "Power Plant Boiler Abnormal Conditions" sets out the criteria for excluding emissions monitoring data from permitting or other reporting obligations:
C14: Parameter | D14: Plant | E14: Level representing abnormal conditions
C15: Boiler oxygen | D15: All boilers | E15: >17% oxygen
C16: Fuel input | D16: A51, A52A, A52B, A53 and A62 | E16: <50% BFG by thermal input
D17: A50 (Service Boilers) | E17: <35% BFG by thermal input

Sheet Summary
D2: Dust concentrations in mg/m³ (except A55 as % obscuration), reported as measured (uncertainty not taken into account)
C3: Source | D3: A1 | E3: A2 | F3: A8A | G3: A8B | H3: A9 | I3: A10 | J3: A10A | K3: A14 | L3: A15 | M3: A16 | N3: A55 | O3: A63 | P3: A1 | Q3: A1
C4: Description | D4: Sinter plant main stack (particulate) | E4: Sinter plant deduster stack | F4: BF4 casthouse fume extraction North | G4: BF4 casthouse fume extraction South | H4: BF5 casthouse fume extraction | I4: Iron desulphurisation/hot metal pouring fume extraction plant stack | J4: Hot metal fume extraction no. 2 | K4: Secondary fume extraction stack North | L4: Secondary fume extraction stack Centre | M4: Secondary fume extraction stack South | N4: Morfa main stack | O4: CASOB/ desulph fume extraction plant | P4: Sinter plant main stack (SO2) | Q4: Sinter plant main stack (NOX)
B5: Daily means | C5: Minimum | D5: =MIN(Data!C6:C95) -> 6.3676978 | E5: =MIN(Data!I6:I95) -> 0.28651383 | F5: =MIN(Data!K:K) -> 0.50576798 | G5: =MIN(Data!M:M) -> 0.29206533 | H5: =MIN(Data!O:O) -> 0.42937147 | I5: =MIN(Data!Q:Q) -> 1.3092792 | J5: =MIN(Data!S:S) -> 0.49997383 | K5: =MIN(Data!U:U) -> 0.8724625 | L5: =MIN(Data!W:W) -> 1.2161721 | M5: =MIN(Data!Y:Y) -> 0.44338213 | O5: =MIN(Data!AA:AA) -> 0.00015716878 | P5: =MIN(Data!E:E) -> -2.3218418 | Q5: =MIN(Data!G:G) -> 3.7045037
C6: Maximum | D6: =MAX(Data!C:C) -> 79.378383 | E6: =MAX(Data!I6:I95) -> 1.3662114 | F6: =MAX(Data!K:K) -> 5.7659101 | G6: =MAX(Data!M:M) -> 1.0474566 | H6: =MAX(Data!O:O) -> 4.6152947 | I6: =MAX(Data!Q:Q) -> 11.03632 | J6: =MAX(Data!S:S) -> 11.932553 | K6: =MAX(Data!U:U) -> 17.739573 | L6: =MAX(Data!W:W) -> 11.035567 | M6: =MAX(Data!Y:Y) -> 3.4958262 | O6: =MAX(Data!AA:AA) -> 0.59786117 | P6: =MAX(Data!E:E) -> 536.59878 | Q6: =MAX(Data!G:G) -> 178.00219
C7: Limit | D7: 40 | E7: 10 | F7: 15 | G7: 15 | H7: 15 | I7: 15 | J7: 15 | K7: 15 | L7: 15 | M7: 15 | O7: 15 | P7: 500 | Q7: 500
C8: No. > Limit | D8: =COUNTIF(Data!C:C,">"&D7) -> 66 | E8: =COUNTIF(Data!I81:I95,">"&E7) -> 0 | F8: =COUNTIF(Data!K:K,">"&F7) -> 0 | G8: =COUNTIF(Data!M:M,">"&G7) -> 0 | H8: =COUNTIF(Data!O:O,">"&H7) -> 0 | I8: =COUNTIF(Data!Q:Q,">"&I7) -> 0 | J8: =COUNTIF(Data!S:S,">"&J7) -> 0 | K8: =COUNTIF(Data!U:U,">"&K7) -> 1 | L8: =COUNTIF(Data!W:W,">"&L7) -> 0 | M8: =COUNTIF(Data!Y:Y,">"&M7) -> 0 | O8: =COUNTIF(Data!AA:AA,">"&O7) -> 0 | P8: =COUNTIF(Data!E:E,">"&P7) -> 4 | Q8: =COUNTIF(Data!G:G,">"&Q7) -> 0
C9: No. > Limit w Uncert | D9: =COUNTIF(Data!D6:D96,">"&D7) -> 35 | E9: =COUNTIF(Data!J6:J96,">"&E7) -> 0 | F9: =COUNTIF(Data!L6:L96,">"&F7) -> 0 | G9: =COUNTIF(Data!N6:N96,">"&G7) -> 0 | H9: =COUNTIF(Data!P6:P96,">"&H7) -> 0 | I9: =COUNTIF(Data!R6:R96,">"&I7) -> 0 | J9: =COUNTIF(Data!T6:T96,">"&J7) -> 0 | K9: =COUNTIF(Data!V6:V96,">"&K7) -> 0 | L9: =COUNTIF(Data!X6:X96,">"&L7) -> 0 | M9: =COUNTIF(Data!Z6:Z96,">"&M7) -> 0 | O9: =COUNTIF(Data!AB6:AB96,">"&O7) -> 0 | P9: =COUNTIF(Data!F6:F96,">"&P7) -> 0 | Q9: =COUNTIF(Data!H6:H96,">"&Q7) -> 0
B10: Weekly mean | C10: Minimum | N10: =MIN(Data!AH:AH) -> 22.094693
C11: Maximum | N11: =MAX(Data!AH:AH) -> 34.472684
C12: Limit | N12: 25
C13: No. > Limit | N13: =COUNTIF(Data!AH:AH,">"&N12) -> 9
C14: No. > Limit w Uncert | N14: =COUNTIF(Data!AI6:AI18,">"&Summary!N12) -> 0

Sheet Plots
N2: NOTES

Sheet Data
C2: Measured concentrations - daily means (mg/m³) | AC2: Limits | AH2: Obscuration %
B3: Source | C3: A1 | D3: A1 | E3: A1 | F3: A1 | G3: A1 | H3: A1 | I3: A2 | J3: A2 | K3: A8A | L3: A8A | M3: A8B | N3: A8B | O3: A9 | P3: A9 | Q3: A10 | R3: A10 | S3: A10A | T3: A10A | U3: A14 | V3: A14 | W3: A15 | X3: A15 | Y3: A16 | Z3: A16 | AA3: A63 | AB3: A63 | AC3: A1 | AD3: A2 | AE3: BF and BOS plant sources | AF3: A1 | AG3: Source | AH3: A55
B4: Description | C4: Sinter plant main stack (Particulate) | D4: Sinter plant main stack (Particulate) Uncertainty Applied | E4: Sinter plant main stack (SO2) | F4: Sinter plant main stack (SO2) Uncertainty Applied | G4: Sinter plant main stack (NOX) | H4: Sinter plant main stack (NOx) Uncertainty Applied | I4: Sinter plant deduster stack | J4: Sinter plant deduster stack Uncertainty Applied | K4: BF4 casthouse fume extraction North | L4: BF4 casthouse fume extraction North Uncertainty Applied | M4: BF4 casthouse fume extraction South | N4: BF4 casthouse fume extraction South Uncertainty Applied | O4: BF5 casthouse fume extraction | P4: BF5 casthouse fume extraction | Q4: Iron desulphurisation/hot metal pouring fume extraction plant stack | R4: Iron desulphurisation/hot metal pouring fume extraction plant stack Uncertainty Applied | S4: Hot metal fume extraction no. 2 | T4: Hot metal fume extraction no. 2 Uncetainty Applied | U4: Secondary fume extraction stack North | V4: Secondary fume extraction stack North Uncertainty Applied | W4: Secondary fume extraction stack Centre | X4: Secondary fume extraction stack Centre Uncertainty Applied | Y4: Secondary fume extraction stack South | Z4: Secondary fume extraction stack South Uncertainty Applied | AA4: CASOB/ desulph fume extraction plant | AB4: CASOB/ desulph fume extraction plant Uncertainty Applied | AC4: Sinter plant main stack | AD4: Sinter plant deduster stack | AF4: Sinter Plant Main Stack SO2 & NOX | AG4: Description | AH4: Morfa main stack
B5: Date / Uncertainty | D5: 0.3 | F5: 0.2 | H5: 0.2 | J5: 0.3 | L5: 0.3 | N5: 0.3 | P5: 0.3 | R5: 0.3 | T5: 0.3 | V5: 0.3 | X5: 0.3 | Z5: 0.3 | AB5: 0.3 | AG5: Week commencing (Sunday to Saturday) | AH5: Measured | AI5: Uncertainty Applied 30% | AJ5: Limit
B6: 44927 | C6: 46.3233 | D6: =C6*0.7 -> 32.42631 | E6: 308.19838 | G6: 159.32152 | I6: 1.2283773 | K6: 2.3838806 | M6: 0.79374949 | O6: 1.2499901 | Q6: 1.5555549 | S6: 2.8730793 | U6: 4.2388048 | W6: 5.0867717 | Y6: 1.5435121 | AA6: 0.42835176 | AC6: 40 | AD6: 10 | AE6: 15 | AF6: 500 | AG6: 44927 | AH6: 24.762903 | AJ6: 25
B7: =B6+1 -> 44928 | C7: 40.128872 | D7: =C7*0.7 -> 28.090211 | E7: 350.44455 | G7: 160.75037 | I7: 0.96103516 | K7: 1.9975848 | M7: 0.97082057 | O7: 1.9598163 | Q7: 2.1667455 | S7: 3.5886364 | U7: 6.6744646 | W7: 6.7819631 | Y7: 1.8629016 | AA7: 0.14731259 | AC7: 40 | AD7: 10 | AE7: 15 | AF7: 500 | AG7: 44934 | AH7: 26.459024 | AI7: 18.521317 | AJ7: 25
B8: =B7+1 -> 44929 | C8: 39.48616 | E8: 352.22954 | G8: 149.31954 | I8: 0.94428053 | K8: 1.754734 | M8: 0.71774519 | O8: 2.2513944 | Q8: 2.1565865 | S8: 3.9165789 | U8: 8.3047919 | W8: 7.8690822 | Y8: 1.8685771 | AA8: 0.095951929 | AC8: 40 | AD8: 10 | AE8: 15 | AF8: 500 | AG8: 44941 | AH8: 30.48345 | AI8: 21.338415 | AJ8: 25
B9: =B8+1 -> 44930 | C9: 12.566643 | E9: 113.93773 | G9: 51.012502 | I9: 0.50970087 | K9: 1.8507323 | M9: 0.70960866 | O9: 1.7317978 | Q9: 1.5491743 | S9: 2.9383392 | U9: 4.551702 | W9: 5.4521576 | Y9: 1.5826327 | AA9: 0.21107641 | AC9: 40 | AD9: 10 | AE9: 15 | AF9: 500 | AG9: 44948 | AH9: 34.472684 | AI9: 24.130879 | AJ9: 25
B10: =B9+1 -> 44931 | C10: 21.821669 | E10: 410.46519 | G10: 125.1695 | I10: 0.83236071 | K10: 1.3347404 | M10: 0.69537045 | O10: 2.025608 | Q10: 1.3092792 | S10: 2.0902252 | U10: 2.2323166 | W10: 3.2087696 | Y10: 1.460734 | AA10: 0.25621294 | AC10: 40 | AD10: 10 | AE10: 15 | AF10: 500 | AG10: 44955 | AH10: 33.851116 | AI10: 23.695781 | AJ10: 25
B11: =B10+1 -> 44932 | C11: 26.901082 | E11: 417.4449 | G11: 148.82846 | I11: 0.82248902 | K11: 1.1980523 | M11: 0.53453803 | O11: 2.4153996 | Q11: 2.2850274 | S11: 3.6708319 | U11: 4.3794809 | W11: 5.5708264 | Y11: 1.8044902 | AA11: 0.33159582 | AC11: 40 | AD11: 10 | AE11: 15 | AF11: 500 | AG11: 44962 | AH11: 32.316289 | AI11: 22.621402 | AJ11: 25
B12: =B11+1 -> 44933 | C12: 31.292712 | E12: 404.89354 | G12: 157.98639 | I12: 0.94279807 | K12: 1.401083 | M12: 0.63979212 | O12: 2.9670034 | Q12: 2.5044272 | S12: 4.2329122 | U12: 4.3923068 | W12: 6.7734386 | Y12: 2.2668138 | AA12: 0.41511371 | AC12: 40 | AD12: 10 | AE12: 15 | AF12: 500 | AG12: 44969 | AH12: 25.259526 | AI12: 17.681668 | AJ12: 25
B13: =B12+1 -> 44934 | C13: 42.203635 | D13: =C13*0.7 -> 29.542545 | E13: 423.85404 | G13: 158.67149 | I13: 1.0928546 | K13: 2.1674142 | M13: 0.7150904 | O13: 2.7355593 | Q13: 3.332218 | S13: 5.6936599 | U13: 7.1336342 | W13: 8.196767 | Y13: 2.3600671 | AA13: 0.49043694 | AC13: 40 | AD13: 10 | AE13: 15 | AF13: 500 | AG13: 44976 | AH13: 26.319919 | AI13: 18.423943 | AJ13: 25
B14: =B13+1 -> 44935 | C14: 37.843993 | E14: 401.91814 | G14: 155.30979 | I14: 1.0501827 | K14: 1.5099405 | M14: 0.61390601 | O14: 2.9075909 | Q14: 2.8732634 | S14: 4.7214845 | U14: 5.8106062 | W14: 6.8953983 | Y14: 2.4635536 | AA14: 0.53008619 | AC14: 40 | AD14: 10 | AE14: 15 | AF14: 500 | AG14: 44983 | AH14: 25.829766 | AI14: 18.080837 | AJ14: 25
B15: =B14+1 -> 44936 | C15: 34.052947 | E15: 401.82329 | G15: 143.84278 | I15: 1.2349222 | K15: 1.5102332 | M15: 0.54258895 | O15: 2.586728 | Q15: 2.5487431 | S15: 4.5171687 | U15: 6.7385443 | W15: 6.376733 | Y15: 2.0780375 | AA15: 0.34416113 | AC15: 40 | AD15: 10 | AE15: 15 | AF15: 500 | AG15: 44990 | AH15: 26.652862 | AI15: 18.657003 | AJ15: 25
B16: =B15+1 -> 44937 | C16: 29.281187 | E16: 371.22584 | G16: 129.8186 | I16: 1.3662114 | K16: 1.5334376 | M16: 0.52926897 | O16: 2.607146 | Q16: 3.5002925 | S16: 4.0787368 | U16: 5.5649359 | W16: 5.0920886 | Y16: 1.9247652 | AA16: 0.25162427 | AC16: 40 | AD16: 10 | AE16: 15 | AF16: 500 | AG16: 44997 | AH16: 22.309768 | AJ16: 25
B17: =B16+1 -> 44938 | C17: 7.8311955 | E17: 205.42703 | G17: 73.47983 | I17: 0.73362252 | K17: 1.669316 | M17: 0.62294564 | O17: 1.337785 | Q17: 1.5891711 | S17: 1.8330607 | U17: 2.8732761 | W17: 3.5058775 | Y17: 1.5875468 | AA17: 0.59786117 | AC17: 40 | AD17: 10 | AE17: 15 | AF17: 500 | AG17: 45004 | AH17: 22.094693 | AJ17: 25
B18: =B17+1 -> 44939 | C18: 23.063846 | E18: 307.07752 | G18: 158.1906 | I18: 1.0928576 | K18: 1.2511045 | M18: 0.63874761 | O18: 1.2479562 | Q18: 2.1063741 | S18: 3.5386452 | U18: 3.4162252 | W18: 4.9667945 | Y18: 2.2446618 | AA18: 0.52092754 | AC18: 40 | AD18: 10 | AE18: 15 | AF18: 500 | AG18: 45011 | AH18: 23.891745 | AJ18: 25
B19: =B18+1 -> 44940 | C19: 33.381297 | E19: 303.18859 | G19: 170.8067 | I19: 1.3121484 | K19: 1.5614758 | M19: 0.65372996 | O19: 0.95519256 | Q19: 2.3964036 | S19: 4.8989498 | U19: 3.8105981 | W19: 5.5598959 | Y19: 2.0161049 | AA19: 0.40661405 | AC19: 40 | AD19: 10 | AE19: 15 | AF19: 500
B20: =B19+1 -> 44941 | C20: 34.64337 | E20: 252.92504 | G20: 146.47875 | I20: 1.1714063 | K20: 2.4275135 | M20: 0.8047546 | O20: 0.94029964 | Q20: 3.4856385 | S20: 8.5278051 | U20: 4.6664056 | W20: 6.085355 | Y20: 2.1426636 | AA20: 0.20589636 | AC20: 40 | AD20: 10 | AE20: 15 | AF20: 500
B21: =B20+1 -> 44942 | C21: 46.982412 | D21: =C21*0.7 -> 32.887688 | E21: 264.89349 | G21: 158.32833 | I21: 1.1159885 | K21: 2.1776752 | M21: 0.75326821 | O21: 1.1348619 | Q21: 4.8591785 | S21: 10.735647 | U21: 7.1085944 | W21: 9.0875264 | Y21: 1.268121 | AA21: 0.053082642 | AC21: 40 | AD21: 10 | AE21: 15 | AF21: 500
B22: =B21+1 -> 44943 | C22: 54.022735 | D22: =C22*0.7 -> 37.815915 | E22: 242.01473 | G22: 143.29018 | I22: 1.1639439 | K22: 2.7537655 | M22: 1.0378591 | O22: 3.0870675 | Q22: 3.8885165 | S22: 7.7878512 | U22: 6.1403056 | W22: 8.3283763 | Y22: 0.62989974 | AA22: 0.040393764 | AC22: 40 | AD22: 10 | AE22: 15 | AF22: 500
B23: =B22+1 -> 44944 | C23: 6.3676978 | E23: 54.709963 | G23: 26.399945 | I23: 0.69033969 | K23: 1.1004505 | M23: 0.51224737 | O23: 2.055983 | Q23: 3.906751 | S23: 6.8177048 | U23: 5.0844903 | W23: 5.5646649 | Y23: 0.66934682 | AA23: 0.0042567796 | AC23: 40 | AD23: 10 | AE23: 15 | AF23: 500
B24: =B23+1 -> 44945 | C24: 51.208687 | D24: =C24*0.7 -> 35.846081 | E24: 249.52154 | G24: 101.23354 | I24: 0.44478664 | K24: 0.99232067 | M24: 0.47398099 | O24: 2.1135371 | Q24: 1.4755421 | S24: 3.4999097 | U24: 4.2981218 | W24: 5.7910548 | Y24: 0.44338213 | AA24: 0.030306391 | AC24: 40 | AD24: 10 | AE24: 15 | AF24: 500
B25: =B24+1 -> 44946 | C25: 50.056259 | D25: =C25*0.7 -> 35.039381 | E25: 360.92344 | G25: 141.85865 | I25: 0.41644565 | K25: 1.494669 | M25: 0.63557754 | O25: 2.8839148 | Q25: 1.8517533 | S25: 6.0799929 | U25: 10.419401 | W25: 9.6147233 | Y25: 1.3164432 | AA25: 0.038834873 | AC25: 40 | AD25: 10 | AE25: 15 | AF25: 500
B26: =B25+1 -> 44947 | C26: 65.528378 | D26: =C26*0.7 -> 45.869864 | E26: 430.13853 | G26: 151.07303 | I26: 0.58071315 | K26: 1.2427641 | M26: 0.4562975 | O26: 2.7879851 | Q26: 3.4667969 | S26: 9.2025253 | U26: 9.3981301 | W26: 7.2045896 | Y26: 1.6107566 | AA26: 0.059611785 | AC26: 40 | AD26: 10 | AE26: 15 | AF26: 500
B27: =B26+1 -> 44948 | C27: 75.419503 | D27: =C27*0.7 -> 52.793652 | E27: 337.66986 | G27: 166.18914 | I27: 0.47313875 | K27: 1.6821091 | M27: 0.5971797 | O27: 3.4073054 | Q27: 3.0234665 | S27: 11.932553 | U27: 7.4113582 | W27: 7.4605766 | Y27: 1.9200814 | AA27: 0.044060069 | AC27: 40 | AD27: 10 | AE27: 15 | AF27: 500
B28: =B27+1 -> 44949 | C28: 56.517954 | D28: =C28*0.7 -> 39.562568 | E28: 349.16963 | G28: 131.28959 | I28: 0.50840629 | K28: 1.2252936 | M28: 0.49594645 | O28: 2.6157905 | Q28: 3.5053344 | S28: 6.6995207 | U28: 5.0397298 | W28: 3.5545456 | Y28: 2.3390367 | AA28: 0.035831009 | AC28: 40 | AD28: 10 | AE28: 15 | AF28: 500
B29: =B28+1 -> 44950 | C29: 52.505239 | D29: =C29*0.7 -> 36.753667 | E29: 307.50655 | G29: 135.98559 | I29: 0.44727679 | K29: 1.0779232 | M29: 0.50586595 | O29: 2.7406462 | Q29: 3.0538069 | S29: 0.74174199 | U29: 3.7641416 | W29: 1.2161721 | Y29: 2.5110795 | AA29: 0.043724448 | AC29: 40 | AD29: 10 | AE29: 15 | AF29: 500
B30: =B29+1 -> 44951 | C30: 56.373 | D30: =C30*0.7 -> 39.4611 | E30: 329.50821 | G30: 153.60679 | I30: 0.39768601 | K30: 1.1583376 | M30: 0.54266105 | O30: 1.9145098 | Q30: 2.6767778 | S30: 0.86427796 | U30: 3.2813829 | W30: 1.4761356 | Y30: 2.4659576 | AA30: 0.013051954 | AC30: 40 | AD30: 10 | AE30: 15 | AF30: 500
B31: =B30+1 -> 44952 | C31: 18.649262 | E31: 204.25292 | G31: 73.762657 | I31: 0.3599068 | K31: 0.75129062 | M31: 0.44708533 | O31: 2.0800165 | Q31: 2.4813779 | S31: 0.49997383 | U31: 17.739573 | V31: 12.417701 | W31: 2.8471786 | Y31: 2.1952447 | AA31: 0.0048052426 | AC31: 40 | AD31: 10 | AE31: 15 | AF31: 500
B32: =B31+1 -> 44953 | C32: 50.567867 | D32: =C32*0.7 -> 35.397507 | E32: 340.31669 | G32: 146.74316 | I32: 0.49275282 | K32: 1.0706675 | M32: 0.51849814 | O32: 2.2929345 | Q32: 2.8704967 | S32: 1.4389926 | U32: 9.2250273 | W32: 4.5201328 | Y32: 2.4777011 | AA32: 0.031550205 | AC32: 40 | AD32: 10 | AE32: 15 | AF32: 500
B33: =B32+1 -> 44954 | C33: 71.38371 | D33: =C33*0.7 -> 49.968597 | E33: 428.88762 | G33: 160.38519 | I33: 0.64770033 | K33: 2.2228219 | M33: 0.67598996 | O33: 3.2106078 | Q33: 3.9644211 | S33: 1.1097985 | U33: 2.6282186 | W33: 6.7988485 | Y33: 2.8283921 | AA33: 0.037070518 | AC33: 40 | AD33: 10 | AE33: 15 | AF33: 500
B34: =B33+1 -> 44955 | C34: 71.506175 | D34: =C34*0.7 -> 50.054323 | E34: 389.57946 | G34: 163.04331 | I34: 0.71521718 | K34: 2.7833064 | M34: 0.52232181 | O34: 2.6982434 | Q34: 4.9939816 | S34: 0.84124377 | U34: 2.5094209 | W34: 5.9123691 | Y34: 3.2850905 | AA34: 0.0041473131 | AC34: 40 | AD34: 10 | AE34: 15 | AF34: 500
B35: =B34+1 -> 44956 | C35: 77.332082 | D35: =C35*0.7 -> 54.132457 | E35: 462.92266 | G35: 144.6485 | I35: 0.6859599 | K35: 2.532006 | M35: 0.40022613 | O35: 2.7359407 | Q35: 4.507849 | S35: 0.9300839 | U35: 2.5340823 | W35: 6.8498339 | Y35: 2.8636742 | AA35: 0.0029118494 | AC35: 40 | AD35: 10 | AE35: 15 | AF35: 500
B36: =B35+1 -> 44957 | C36: 68.022994 | D36: =C36*0.7 -> 47.616096 | E36: 455.83524 | G36: 161.72666 | I36: 0.64384004 | K36: 2.8723513 | M36: 0.57271477 | O36: 2.3118357 | Q36: 3.6953514 | S36: 1.1255639 | U36: 2.5625726 | W36: 7.0731308 | Y36: 2.5314042 | AA36: 0.00096567936 | AC36: 40 | AD36: 10 | AE36: 15 | AF36: 500
B37: =B36+1 -> 44958 | C37: 42.072711 | D37: =C37*0.7 -> 29.450898 | E37: 255.64807 | G37: 92.196417 | I37: 0.41500365 | K37: 1.3010532 | M37: 0.57293581 | O37: 2.4307552 | Q37: 3.3222519 | S37: 0.98767132 | U37: 3.1048593 | W37: 9.5838006 | Y37: 2.6767462 | AA37: 0.00042165823 | AC37: 40 | AD37: 10 | AE37: 15 | AF37: 500
B38: =B37+1 -> 44959 | C38: 69.278445 | D38: =C38*0.7 -> 48.494912 | E38: 456.85543 | G38: 159.97083 | I38: 0.60078763 | K38: 2.5405058 | M38: 0.68837995 | O38: 1.8424954 | Q38: 2.169654 | S38: 1.0035351 | U38: 3.0942724 | W38: 8.7030541 | Y38: 2.3855273 | AA38: 0.00036876828 | AC38: 40 | AD38: 10 | AE38: 15 | AF38: 500
B39: =B38+1 -> 44960 | C39: 61.882912 | D39: =C39*0.7 -> 43.318038 | E39: 349.84389 | G39: 141.87123 | I39: 0.50915822 | K39: 2.1002507 | M39: 0.66628048 | O39: 2.6580281 | Q39: 2.274492 | S39: 1.1443442 | U39: 3.182139 | W39: 7.4235028 | Y39: 2.5411297 | AA39: 0.0030323172 | AC39: 40 | AD39: 10 | AE39: 15 | AF39: 500
B40: =B39+1 -> 44961 | C40: 66.999785 | D40: =C40*0.7 -> 46.899849 | E40: 383.38832 | G40: 160.74682 | I40: 0.68741343 | K40: 1.9098413 | M40: 0.68691065 | O40: 2.253265 | Q40: 2.8823236 | S40: 1.3767098 | U40: 2.8002969 | W40: 5.9443175 | Y40: 2.7257917 | AA40: 0.025527606 | AC40: 40 | AD40: 10 | AE40: 15 | AF40: 500
B41: =B40+1 -> 44962 | C41: 78.612004 | D41: =C41*0.7 -> 55.028403 | E41: 293.55232 | G41: 141.5754 | I41: 0.62439492 | K41: 2.662611 | M41: 0.77689808 | O41: 2.605122 | Q41: 4.4960695 | S41: 1.8347776 | U41: 3.1097759 | W41: 7.4990345 | Y41: 3.0164459 | AA41: 0.039511578 | AC41: 40 | AD41: 10 | AE41: 15 | AF41: 500
...
