Workbook

Sheet Notes
B2: Reference conditions
B3: All concentrations in this spreadsheet are reported in dry air at a temperature of 273K, at a pressure of 101.3 kPa and with an oxygen content of 3% dry
B5: Uncertainty
B6: Concentrations in this spreadsheet are reported after having subtracted the value of the 95% confidence interval (see Section 3.6.7 of the permit):
C7: 95% confidence interval for nitrogen oxides is taken to be 20%
C8: 95% confidence interval for sulphur dioxide is taken to be 20%
C9: 95% confidence interval for dust is taken to be 30%
C10: 95% confidence interval for carbon monoxide is taken to be 10%
B12: Normal operating conditions
B13: The document "Power Plant Boiler Abnormal Conditions" sets out the criteria for excluding emissions monitoring data from permitting or other reporting obligations:
C14: Parameter | D14: Plant | E14: Level representing abnormal conditions
C15: Boiler oxygen | D15: All boilers | E15: >17% oxygen
C16: Fuel input | D16: A51, A52A, A52B, A53 and A62 | E16: <50% BFG by thermal input
D17: A50 (Service Boilers) | E17: <35% BFG by thermal input

Sheet Summary
D2: Dust concentrations in mg/m³ (except A55 as % obscuration), reported as measured (uncertainty not taken into account)
C3: Source | D3: A1 | E3: A2 | F3: A8A | G3: A8B | H3: A9 | I3: A10 | J3: A10A | K3: A14 | L3: A15 | M3: A16 | N3: A55 | O3: A63 | P3: A1 | Q3: A1
C4: Description | D4: Sinter plant main stack (particulate) | E4: Sinter plant deduster stack | F4: BF4 casthouse fume extraction North | G4: BF4 casthouse fume extraction South | H4: BF5 casthouse fume extraction | I4: Iron desulphurisation/hot metal pouring fume extraction plant stack | J4: Hot metal fume extraction no. 2 | K4: Secondary fume extraction stack North | L4: Secondary fume extraction stack Centre | M4: Secondary fume extraction stack South | N4: Morfa main stack | O4: CASOB/ desulph fume extraction plant | P4: Sinter plant main stack (SO2) | Q4: Sinter plant main stack (NOX)
B5: Daily means | C5: Minimum | D5: =MIN(Data!C6:C95) -> 6.3676978 | E5: =MIN(Data!I6:I95) -> 0.28651383 | F5: =MIN(Data!K:K) -> 0.50576798 | G5: =MIN(Data!M:M) -> 0.29206533 | H5: =MIN(Data!O:O) -> 0.42937147 | I5: =MIN(Data!Q:Q) -> 1.3092792 | J5: =MIN(Data!S:S) -> 0.49997383 | K5: =MIN(Data!U:U) -> 0.8724625 | L5: =MIN(Data!W:W) -> 1.2161721 | M5: =MIN(Data!Y:Y) -> 0.44338213 | O5: =MIN(Data!AA:AA) -> 0.00015716878 | P5: =MIN(Data!E:E) -> -2.3218418 | Q5: =MIN(Data!G:G) -> 3.7045037
C6: Maximum | D6: =MAX(Data!C:C) -> 79.378383 | E6: =MAX(Data!I6:I95) -> 1.3662114 | F6: =MAX(Data!K:K) -> 5.7659101 | G6: =MAX(Data!M:M) -> 1.0474566 | H6: =MAX(Data!O:O) -> 4.6152947 | I6: =MAX(Data!Q:Q) -> 11.03632 | J6: =MAX(Data!S:S) -> 11.932553 | K6: =MAX(Data!U:U) -> 17.739573 | L6: =MAX(Data!W:W) -> 11.035567 | M6: =MAX(Data!Y:Y) -> 3.4958262 | O6: =MAX(Data!AA:AA) -> 0.59786117 | P6: =MAX(Data!E:E) -> 536.59878 | Q6: =MAX(Data!G:G) -> 178.00219
C7: Limit | D7: 40 | E7: 10 | F7: 15 | G7: 15 | H7: 15 | I7: 15 | J7: 15 | K7: 15 | L7: 15 | M7: 15 | O7: 15 | P7: 500 | Q7: 500
C8: No. > Limit | D8: =COUNTIF(Data!C:C,">"&D7) -> 66 | E8: =COUNTIF(Data!I81:I95,">"&E7) -> 0 | F8: =COUNTIF(Data!K:K,">"&F7) -> 0 | G8: =COUNTIF(Data!M:M,">"&G7) -> 0 | H8: =COUNTIF(Data!O:O,">"&H7) -> 0 | I8: =COUNTIF(Data!Q:Q,">"&I7) -> 0 | J8: =COUNTIF(Data!S:S,">"&J7) -> 0 | K8: =COUNTIF(Data!U:U,">"&K7) -> 1 | L8: =COUNTIF(Data!W:W,">"&L7) -> 0 | M8: =COUNTIF(Data!Y:Y,">"&M7) -> 0 | O8: =COUNTIF(Data!AA:AA,">"&O7) -> 0 | P8: =COUNTIF(Data!E:E,">"&P7) -> 4 | Q8: =COUNTIF(Data!G:G,">"&Q7) -> 0
C9: No. > Limit w Uncert | D9: =COUNTIF(Data!D6:D96,">"&D7) -> 35 | E9: =COUNTIF(Data!J6:J96,">"&E7) -> 0 | F9: =COUNTIF(Data!L6:L96,">"&F7) -> 0 | G9: =COUNTIF(Data!N6:N96,">"&G7) -> 0 | H9: =COUNTIF(Data!P6:P96,">"&H7) -> 0 | I9: =COUNTIF(Data!R6:R96,">"&I7) -> 0 | J9: =COUNTIF(Data!T6:T96,">"&J7) -> 0 | K9: =COUNTIF(Data!V6:V96,">"&K7) -> 0 | L9: =COUNTIF(Data!X6:X96,">"&L7) -> 0 | M9: =COUNTIF(Data!Z6:Z96,">"&M7) -> 0 | O9: =COUNTIF(Data!AB6:AB96,">"&O7) -> 0 | P9: =COUNTIF(Data!F6:F96,">"&P7) -> 0 | Q9: =COUNTIF(Data!H6:H96,">"&Q7) -> 0
B10: Weekly mean | C10: Minimum | N10: =MIN(Data!AH:AH) -> 22.094693
C11: Maximum | N11: =MAX(Data!AH:AH) -> 34.472684
C12: Limit | N12: 25
C13: No. > Limit | N13: =COUNTIF(Data!AH:AH,">"&N12) -> 9
C14: No. > Limit w Uncert | N14: =COUNTIF(Data!AI6:AI18,">"&Summary!N12) -> 0

Sheet Plots
N2: NOTES

Sheet Data
C2: Measured concentrations - daily means (mg/m³) | AC2: Limits | AH2: Obscuration %
B3: Source | C3: A1 | D3: A1 | E3: A1 | F3: A1 | G3: A1 | H3: A1 | I3: A2 | J3: A2 | K3: A8A | L3: A8A | M3: A8B | N3: A8B | O3: A9 | P3: A9 | Q3: A10 | R3: A10 | S3: A10A | T3: A10A | U3: A14 | V3: A14 | W3: A15 | X3: A15 | Y3: A16 | Z3: A16 | AA3: A63 | AB3: A63 | AC3: A1 | AD3: A2 | AE3: BF and BOS plant sources | AF3: A1 | AG3: Source | AH3: A55
B4: Description | C4: Sinter plant main stack (Particulate) | D4: Sinter plant main stack (Particulate) Uncertainty Applied | E4: Sinter plant main stack (SO2) | F4: Sinter plant main stack (SO2) Uncertainty Applied | G4: Sinter plant main stack (NOX) | H4: Sinter plant main stack (NOx) Uncertainty Applied | I4: Sinter plant deduster stack | J4: Sinter plant deduster stack Uncertainty Applied | K4: BF4 casthouse fume extraction North | L4: BF4 casthouse fume extraction North Uncertainty Applied | M4: BF4 casthouse fume extraction South | N4: BF4 casthouse fume extraction South Uncertainty Applied | O4: BF5 casthouse fume extraction | P4: BF5 casthouse fume extraction | Q4: Iron desulphurisation/hot metal pouring fume extraction plant stack | R4: Iron desulphurisation/hot metal pouring fume extraction plant stack Uncertainty Applied | S4: Hot metal fume extraction no. 2 | T4: Hot metal fume extraction no. 2 Uncetainty Applied | U4: Secondary fume extraction stack North | V4: Secondary fume extraction stack North Uncertainty Applied | W4: Secondary fume extraction stack Centre | X4: Secondary fume extraction stack Centre Uncertainty Applied | Y4: Secondary fume extraction stack South | Z4: Secondary fume extraction stack South Uncertainty Applied | AA4: CASOB/ desulph fume extraction plant | AB4: CASOB/ desulph fume extraction plant Uncertainty Applied | AC4: Sinter plant main stack | AD4: Sinter plant deduster stack | AF4: Sinter Plant Main Stack SO2 & NOX | AG4: Description | AH4: Morfa main stack
B5: Date / Uncertainty | D5: 0.3 | F5: 0.2 | H5: 0.2 | J5: 0.3 | L5: 0.3 | N5: 0.3 | P5: 0.3 | R5: 0.3 | T5: 0.3 | V5: 0.3 | X5: 0.3 | Z5: 0.3 | AB5: 0.3 | AG5: Week commencing (Sunday to Saturday) | AH5: Measured | AI5: Uncertainty Applied 30% | AJ5: Limit
B6: 44927 | C6: 46.3233 | D6: =C6*0.7 -> 32.42631 | E6: 308.19838 | G6: 159.32152 | I6: 1.2283773 | K6: 2.3838806 | M6: 0.79374949 | O6: 1.2499901 | Q6: 1.5555549 | S6: 2.8730793 | U6: 4.2388048 | W6: 5.0867717 | Y6: 1.5435121 | AA6: 0.42835176 | AC6: 40 | AD6: 10 | AE6: 15 | AF6: 500 | AG6: 44927 | AH6: 24.762903 | AJ6: 25
B7: =B6+1 -> 44928 | C7: 40.128872 | D7: =C7*0.7 -> 28.090211 | E7: 350.44455 | G7: 160.75037 | I7: 0.96103516 | K7: 1.9975848 | M7: 0.97082057 | O7: 1.9598163 | Q7: 2.1667455 | S7: 3.5886364 | U7: 6.6744646 | W7: 6.7819631 | Y7: 1.8629016 | AA7: 0.14731259 | AC7: 40 | AD7: 10 | AE7: 15 | AF7: 500 | AG7: 44934 | AH7: 26.459024 | AI7: 18.521317 | AJ7: 25
B8: =B7+1 -> 44929 | C8: 39.48616 | E8: 352.22954 | G8: 149.31954 | I8: 0.94428053 | K8: 1.754734 | M8: 0.71774519 | O8: 2.2513944 | Q8: 2.1565865 | S8: 3.9165789 | U8: 8.3047919 | W8: 7.8690822 | Y8: 1.8685771 | AA8: 0.095951929 | AC8: 40 | AD8: 10 | AE8: 15 | AF8: 500 | AG8: 44941 | AH8: 30.48345 | AI8: 21.338415 | AJ8: 25
B9: =B8+1 -> 44930 | C9: 12.566643 | E9: 113.93773 | G9: 51.012502 | I9: 0.50970087 | K9: 1.8507323 | M9: 0.70960866 | O9: 1.7317978 | Q9: 1.5491743 | S9: 2.9383392 | U9: 4.551702 | W9: 5.4521576 | Y9: 1.5826327 | AA9: 0.21107641 | AC9: 40 | AD9: 10 | AE9: 15 | AF9: 500 | AG9: 44948 | AH9: 34.472684 | AI9: 24.130879 | AJ9: 25
B10: =B9+1 -> 44931 | C10: 21.821669 | E10: 410.46519 | G10: 125.1695 | I10: 0.83236071 | K10: 1.3347404 | M10: 0.69537045 | O10: 2.025608 | Q10: 1.3092792 | S10: 2.0902252 | U10: 2.2323166 | W10: 3.2087696 | Y10: 1.460734 | AA10: 0.25621294 | AC10: 40 | AD10: 10 | AE10: 15 | AF10: 500 | AG10: 44955 | AH10: 33.851116 | AI10: 23.695781 | AJ10: 25
B11: =B10+1 -> 44932 | C11: 26.901082 | E11: 417.4449 | G11: 148.82846 | I11: 0.82248902 | K11: 1.1980523 | M11: 0.53453803 | O11: 2.4153996 | Q11: 2.2850274 | S11: 3.6708319 | U11: 4.3794809 | W11: 5.5708264 | Y11: 1.8044902 | AA11: 0.33159582 | AC11: 40 | AD11: 10 | AE11: 15 | AF11: 500 | AG11: 44962 | AH11: 32.316289 | AI11: 22.621402 | AJ11: 25
B12: =B11+1 -> 44933 | C12: 31.292712 | E12: 404.89354 | G12: 157.98639 | I12: 0.94279807 | K12: 1.401083 | M12: 0.63979212 | O12: 2.9670034 | Q12: 2.5044272 | S12: 4.2329122 | U12: 4.3923068 | W12: 6.7734386 | Y12: 2.2668138 | AA12: 0.41511371 | AC12: 40 | AD12: 10 | AE12: 15 | AF12: 500 | AG12: 44969 | AH12: 25.259526 | AI12: 17.681668 | AJ12: 25
B13: =B12+1 -> 44934 | C13: 42.203635 | D13: =C13*0.7 -> 29.542545 | E13: 423.85404 | G13: 158.67149 | I13: 1.0928546 | K13: 2.1674142 | M13: 0.7150904 | O13: 2.7355593 | Q13: 3.332218 | S13: 5.6936599 | U13: 7.1336342 | W13: 8.196767 | Y13: 2.3600671 | AA13: 0.49043694 | AC13: 40 | AD13: 10 | AE13: 15 | AF13: 500 | AG13: 44976 | AH13: 26.319919 | AI13: 18.423943 | AJ13: 25
B14: =B13+1 -> 44935 | C14: 37.843993 | E14: 401.91814 | G14: 155.30979 | I14: 1.0501827 | K14: 1.5099405 | M14: 0.61390601 | O14: 2.9075909 | Q14: 2.8732634 | S14: 4.7214845 | U14: 5.8106062 | W14: 6.8953983 | Y14: 2.4635536 | AA14: 0.53008619 | AC14: 40 | AD14: 10 | AE14: 15 | AF14: 500 | AG14: 44983 | AH14: 25.829766 | AI14: 18.080837 | AJ14: 25
B15: =B14+1 -> 44936 | C15: 34.052947 | E15: 401.82329 | G15: 143.84278 | I15: 1.2349222 | K15: 1.5102332 | M15: 0.54258895 | O15: 2.586728 | Q15: 2.5487431 | S15: 4.5171687 | U15: 6.7385443 | W15: 6.376733 | Y15: 2.0780375 | AA15: 0.34416113 | AC15: 40 | AD15: 10 | AE15: 15 | AF15: 500 | AG15: 44990 | AH15: 26.652862 | AI15: 18.657003 | AJ15: 25
B16: =B15+1 -> 44937 | C16: 29.281187 | E16: 371.22584 | G16: 129.8186 | I16: 1.3662114 | K16: 1.5334376 | M16: 0.52926897 | O16: 2.607146 | Q16: 3.5002925 | S16: 4.0787368 | U16: 5.5649359 | W16: 5.0920886 | Y16: 1.9247652 | AA16: 0.25162427 | AC16: 40 | AD16: 10 | AE16: 15 | AF16: 500 | AG16: 44997 | AH16: 22.309768 | AJ16: 25
B17: =B16+1 -> 44938 | C17: 7.8311955 | E17: 205.42703 | G17: 73.47983 | I17: 0.73362252 | K17: 1.669316 | M17: 0.62294564 | O17: 1.337785 | Q17: 1.5891711 | S17: 1.8330607 | U17: 2.8732761 | W17: 3.5058775 | Y17: 1.5875468 | AA17: 0.59786117 | AC17: 40 | AD17: 10 | AE17: 15 | AF17: 500 | AG17: 45004 | AH17: 22.094693 | AJ17: 25
B18: =B17+1 -> 44939 | C18: 23.063846 | E18: 307.07752 | G18: 158.1906 | I18: 1.0928576 | K18: 1.2511045 | M18: 0.63874761 | O18: 1.2479562 | Q18: 2.1063741 | S18: 3.5386452 | U18: 3.4162252 | W18: 4.9667945 | Y18: 2.2446618 | AA18: 0.52092754 | AC18: 40 | AD18: 10 | AE18: 15 | AF18: 500 | AG18: 45011 | AH18: 23.891745 | AJ18: 25
B19: =B18+1 -> 44940 | C19: 33.381297 | E19: 303.18859 | G19: 170.8067 | I19: 1.3121484 | K19: 1.5614758 | M19: 0.65372996 | O19: 0.95519256 | Q19: 2.3964036 | S19: 4.8989498 | U19: 3.8105981 | W19: 5.5598959 | Y19: 2.0161049 | AA19: 0.40661405 | AC19: 40 | AD19: 10 | AE19: 15 | AF19: 500
B20: =B19+1 -> 44941 | C20: 34.64337 | E20: 252.92504 | G20: 146.47875 | I20: 1.1714063 | K20: 2.4275135 | M20: 0.8047546 | O20: 0.94029964 | Q20: 3.4856385 | S20: 8.5278051 | U20: 4.6664056 | W20: 6.085355 | Y20: 2.1426636 | AA20: 0.20589636 | AC20: 40 | AD20: 10 | AE20: 15 | AF20: 500
B21: =B20+1 -> 44942 | C21: 46.982412 | D21: =C21*0.7 -> 32.887688 | E21: 264.89349 | G21: 158.32833 | I21: 1.1159885 | K21: 2.1776752 | M21: 0.75326821 | O21: 1.1348619 | Q21: 4.8591785 | S21: 10.735647 | U21: 7.1085944 | W21: 9.0875264 | Y21: 1.268121 | AA21: 0.053082642 | AC21: 40 | AD21: 10 | AE21: 15 | AF21: 500
B22: =B21+1 -> 44943 | C22: 54.022735 | D22: =C22*0.7 -> 37.815915 | E22: 242.01473 | G22: 143.29018 | I22: 1.1639439 | K22: 2.7537655 | M22: 1.0378591 | O22: 3.0870675 | Q22: 3.8885165 | S22: 7.7878512 | U22: 6.1403056 | W22: 8.3283763 | Y22: 0.62989974 | AA22: 0.040393764 | AC22: 40 | AD22: 10 | AE22: 15 | AF22: 500
B23: =B22+1 -> 44944 | C23: 6.3676978 | E23: 54.709963 | G23: 26.399945 | I23: 0.69033969 | K23: 1.1004505 | M23: 0.51224737 | O23: 2.055983 | Q23: 3.906751 | S23: 6.8177048 | U23: 5.0844903 | W23: 5.5646649 | Y23: 0.66934682 | AA23: 0.0042567796 | AC23: 40 | AD23: 10 | AE23: 15 | AF23: 500
B24: =B23+1 -> 44945 | C24: 51.208687 | D24: =C24*0.7 -> 35.846081 | E24: 249.52154 | G24: 101.23354 | I24: 0.44478664 | K24: 0.99232067 | M24: 0.47398099 | O24: 2.1135371 | Q24: 1.4755421 | S24: 3.4999097 | U24: 4.2981218 | W24: 5.7910548 | Y24: 0.44338213 | AA24: 0.030306391 | AC24: 40 | AD24: 10 | AE24: 15 | AF24: 500
B25: =B24+1 -> 44946 | C25: 50.056259 | D25: =C25*0.7 -> 35.039381 | E25: 360.92344 | G25: 141.85865 | I25: 0.41644565 | K25: 1.494669 | M25: 0.63557754 | O25: 2.8839148 | Q25: 1.8517533 | S25: 6.0799929 | U25: 10.419401 | W25: 9.6147233 | Y25: 1.3164432 | AA25: 0.038834873 | AC25: 40 | AD25: 10 | AE25: 15 | AF25: 500
B26: =B25+1 -> 44947 | C26: 65.528378 | D26: =C26*0.7 -> 45.869864 | E26: 430.13853 | G26: 151.07303 | I26: 0.58071315 | K26: 1.2427641 | M26: 0.4562975 | O26: 2.7879851 | Q26: 3.4667969 | S26: 9.2025253 | U26: 9.3981301 | W26: 7.2045896 | Y26: 1.6107566 | AA26: 0.059611785 | AC26: 40 | AD26: 10 | AE26: 15 | AF26: 500
B27: =B26+1 -> 44948 | C27: 75.419503 | D27: =C27*0.7 -> 52.793652 | E27: 337.66986 | G27: 166.18914 | I27: 0.47313875 | K27: 1.6821091 | M27: 0.5971797 | O27: 3.4073054 | Q27: 3.0234665 | S27: 11.932553 | U27: 7.4113582 | W27: 7.4605766 | Y27: 1.9200814 | AA27: 0.044060069 | AC27: 40 | AD27: 10 | AE27: 15 | AF27: 500
B28: =B27+1 -> 44949 | C28: 56.517954 | D28: =C28*0.7 -> 39.562568 | E28: 349.16963 | G28: 131.28959 | I28: 0.50840629 | K28: 1.2252936 | M28: 0.49594645 | O28: 2.6157905 | Q28: 3.5053344 | S28: 6.6995207 | U28: 5.0397298 | W28: 3.5545456 | Y28: 2.3390367 | AA28: 0.035831009 | AC28: 40 | AD28: 10 | AE28: 15 | AF28: 500
B29: =B28+1 -> 44950 | C29: 52.505239 | D29: =C29*0.7 -> 36.753667 | E29: 307.50655 | G29: 135.98559 | I29: 0.44727679 | K29: 1.0779232 | M29: 0.50586595 | O29: 2.7406462 | Q29: 3.0538069 | S29: 0.74174199 | U29: 3.7641416 | W29: 1.2161721 | Y29: 2.5110795 | AA29: 0.043724448 | AC29: 40 | AD29: 10 | AE29: 15 | AF29: 500
B30: =B29+1 -> 44951 | C30: 56.373 | D30: =C30*0.7 -> 39.4611 | E30: 329.50821 | G30: 153.60679 | I30: 0.39768601 | K30: 1.1583376 | M30: 0.54266105 | O30: 1.9145098 | Q30: 2.6767778 | S30: 0.86427796 | U30: 3.2813829 | W30: 1.4761356 | Y30: 2.4659576 | AA30: 0.013051954 | AC30: 40 | AD30: 10 | AE30: 15 | AF30: 500
B31: =B30+1 -> 44952 | C31: 18.649262 | E31: 204.25292 | G31: 73.762657 | I31: 0.3599068 | K31: 0.75129062 | M31: 0.44708533 | O31: 2.0800165 | Q31: 2.4813779 | S31: 0.49997383 | U31: 17.739573 | V31: 12.417701 | W31: 2.8471786 | Y31: 2.1952447 | AA31: 0.0048052426 | AC31: 40 | AD31: 10 | AE31: 15 | AF31: 500
B32: =B31+1 -> 44953 | C32: 50.567867 | D32: =C32*0.7 -> 35.397507 | E32: 340.31669 | G32: 146.74316 | I32: 0.49275282 | K32: 1.0706675 | M32: 0.51849814 | O32: 2.2929345 | Q32: 2.8704967 | S32: 1.4389926 | U32: 9.2250273 | W32: 4.5201328 | Y32: 2.4777011 | AA32: 0.031550205 | AC32: 40 | AD32: 10 | AE32: 15 | AF32: 500
B33: =B32+1 -> 44954 | C33: 71.38371 | D33: =C33*0.7 -> 49.968597 | E33: 428.88762 | G33: 160.38519 | I33: 0.64770033 | K33: 2.2228219 | M33: 0.67598996 | O33: 3.2106078 | Q33: 3.9644211 | S33: 1.1097985 | U33: 2.6282186 | W33: 6.7988485 | Y33: 2.8283921 | AA33: 0.037070518 | AC33: 40 | AD33: 10 | AE33: 15 | AF33: 500
B34: =B33+1 -> 44955 | C34: 71.506175 | D34: =C34*0.7 -> 50.054323 | E34: 389.57946 | G34: 163.04331 | I34: 0.71521718 | K34: 2.7833064 | M34: 0.52232181 | O34: 2.6982434 | Q34: 4.9939816 | S34: 0.84124377 | U34: 2.5094209 | W34: 5.9123691 | Y34: 3.2850905 | AA34: 0.0041473131 | AC34: 40 | AD34: 10 | AE34: 15 | AF34: 500
B35: =B34+1 -> 44956 | C35: 77.332082 | D35: =C35*0.7 -> 54.132457 | E35: 462.92266 | G35: 144.6485 | I35: 0.6859599 | K35: 2.532006 | M35: 0.40022613 | O35: 2.7359407 | Q35: 4.507849 | S35: 0.9300839 | U35: 2.5340823 | W35: 6.8498339 | Y35: 2.8636742 | AA35: 0.0029118494 | AC35: 40 | AD35: 10 | AE35: 15 | AF35: 500
B36: =B35+1 -> 44957 | C36: 68.022994 | D36: =C36*0.7 -> 47.616096 | E36: 455.83524 | G36: 161.72666 | I36: 0.64384004 | K36: 2.8723513 | M36: 0.57271477 | O36: 2.3118357 | Q36: 3.6953514 | S36: 1.1255639 | U36: 2.5625726 | W36: 7.0731308 | Y36: 2.5314042 | AA36: 0.00096567936 | AC36: 40 | AD36: 10 | AE36: 15 | AF36: 500
B37: =B36+1 -> 44958 | C37: 42.072711 | D37: =C37*0.7 -> 29.450898 | E37: 255.64807 | G37: 92.196417 | I37: 0.41500365 | K37: 1.3010532 | M37: 0.57293581 | O37: 2.4307552 | Q37: 3.3222519 | S37: 0.98767132 | U37: 3.1048593 | W37: 9.5838006 | Y37: 2.6767462 | AA37: 0.00042165823 | AC37: 40 | AD37: 10 | AE37: 15 | AF37: 500
B38: =B37+1 -> 44959 | C38: 69.278445 | D38: =C38*0.7 -> 48.494912 | E38: 456.85543 | G38: 159.97083 | I38: 0.60078763 | K38: 2.5405058 | M38: 0.68837995 | O38: 1.8424954 | Q38: 2.169654 | S38: 1.0035351 | U38: 3.0942724 | W38: 8.7030541 | Y38: 2.3855273 | AA38: 0.00036876828 | AC38: 40 | AD38: 10 | AE38: 15 | AF38: 500
B39: =B38+1 -> 44960 | C39: 61.882912 | D39: =C39*0.7 -> 43.318038 | E39: 349.84389 | G39: 141.87123 | I39: 0.50915822 | K39: 2.1002507 | M39: 0.66628048 | O39: 2.6580281 | Q39: 2.274492 | S39: 1.1443442 | U39: 3.182139 | W39: 7.4235028 | Y39: 2.5411297 | AA39: 0.0030323172 | AC39: 40 | AD39: 10 | AE39: 15 | AF39: 500
B40: =B39+1 -> 44961 | C40: 66.999785 | D40: =C40*0.7 -> 46.899849 | E40: 383.38832 | G40: 160.74682 | I40: 0.68741343 | K40: 1.9098413 | M40: 0.68691065 | O40: 2.253265 | Q40: 2.8823236 | S40: 1.3767098 | U40: 2.8002969 | W40: 5.9443175 | Y40: 2.7257917 | AA40: 0.025527606 | AC40: 40 | AD40: 10 | AE40: 15 | AF40: 500
B41: =B40+1 -> 44962 | C41: 78.612004 | D41: =C41*0.7 -> 55.028403 | E41: 293.55232 | G41: 141.5754 | I41: 0.62439492 | K41: 2.662611 | M41: 0.77689808 | O41: 2.605122 | Q41: 4.4960695 | S41: 1.8347776 | U41: 3.1097759 | W41: 7.4990345 | Y41: 3.0164459 | AA41: 0.039511578 | AC41: 40 | AD41: 10 | AE41: 15 | AF41: 500
B42: =B41+1 -> 44963 | C42: 53.958454 | D42: =C42*0.7 -> 37.770918 | E42: 274.10563 | G42: 97.805807 | I42: 0.55262426 | K42: 1.6061017 | M42: 0.66942168 | O42: 2.8851838 | Q42: 4.1548723 | S42: 1.1370155 | U42: 2.8865199 | W42: 5.7633041 | Y42: 2.8161064 | AA42: 0.053648581 | AC42: 40 | AD42: 10 | AE42: 15 | AF42: 500
B43: =B42+1 -> 44964 | C43: 77.691938 | D43: =C43*0.7 -> 54.384356 | E43: 324.64758 | G43: 96.018198 | I43: 0.59433221 | K43: 1.5785416 | M43: 0.71032579 | O43: 3.6416291 | Q43: 5.850062 | S43: 1.6131286 | U43: 2.7114528 | W43: 5.2349732 | Y43: 2.6775604 | AA43: 0.049869813 | AC43: 40 | AD43: 10 | AE43: 15 | AF43: 500
B44: =B43+1 -> 44965 | C44: 71.530574 | D44: =C44*0.7 -> 50.071402 | E44: 536.59878 | F44: 429.27903 | G44: 155.12455 | I44: 0.83065664 | K44: 0.70749285 | M44: 0.63847384 | O44: 3.8549447 | Q44: 5.2854904 | S44: 1.5632219 | U44: 2.5564493 | W44: 5.3096459 | Y44: 2.3103737 | AA44: 0.051702974 | AC44: 40 | AD44: 10 | AE44: 15 | AF44: 500
B45: =B44+1 -> 44966 | C45: 33.388684 | E45: 335.41799 | G45: 101.85126 | I45: 0.54659048 | K45: 0.64811197 | M45: 0.37009999 | O45: 2.5130457 | Q45: 4.0152338 | S45: 1.3286857 | U45: 2.3700439 | W45: 4.584503 | Y45: 2.3969342 | AA45: 0.0079350821 | AC45: 40 | AD45: 10 | AE45: 15 | AF45: 500
B46: =B45+1 -> 44967 | C46: 71.38386 | D46: =C46*0.7 -> 49.968702 | E46: 525.20704 | F46: 420.16563 | G46: 142.29775 | I46: 0.76413721 | K46: 2.0259442 | M46: 0.62603706 | O46: 2.0817014 | Q46: 7.1639225 | S46: 0.93496439 | U46: 2.181384 | W46: 3.7499638 | Y46: 2.1990705 | AA46: 0.071559612 | AC46: 40 | AD46: 10 | AE46: 15 | AF46: 500
B47: =B46+1 -> 44968 | C47: 75.466661 | D47: =C47*0.7 -> 52.826662 | E47: 511.80133 | F47: 409.44107 | G47: 138.5704 | I47: 0.74140467 | K47: 1.5603551 | M47: 0.54333677 | O47: 2.6273615 | Q47: 8.2118694 | S47: 2.1461365 | U47: 2.8903737 | W47: 4.6161085 | Y47: 2.0814957 | AA47: 0.0036338466 | AC47: 40 | AD47: 10 | AE47: 15 | AF47: 500
B48: =B47+1 -> 44969 | C48: 78.530125 | D48: =C48*0.7 -> 54.971088 | E48: 363.40336 | G48: 131.39501 | I48: 0.770539 | K48: 1.3821398 | M48: 0.55555745 | O48: 2.5150342 | Q48: 8.7375272 | S48: 2.0819528 | U48: 1.7007734 | W48: 5.4767881 | Y48: 2.1688323 | AA48: 0.027669287 | AC48: 40 | AD48: 10 | AE48: 15 | AF48: 500
B49: =B48+1 -> 44970 | C49: 62.84614 | D49: =C49*0.7 -> 43.992298 | E49: 422.59202 | G49: 160.40849 | I49: 0.81600374 | K49: 1.1016444 | M49: 0.50629837 | O49: 3.11921 | Q49: 7.8481011 | S49: 2.0386085 | U49: 0.8724625 | W49: 5.5823972 | Y49: 2.3401198 | AA49: 0.032941287 | AC49: 40 | AD49: 10 | AE49: 15 | AF49: 500
B50: =B49+1 -> 44971 | C50: 14.027735 | E50: 64.703731 | G50: 24.834658 | I50: 0.54974294 | K50: 0.94629468 | M50: 0.45916511 | O50: 2.6518046 | Q50: 7.6223414 | S50: 1.3695006 | U50: 1.3166965 | W50: 5.9369596 | Y50: 2.4358844 | AA50: 0.01227931 | AC50: 40 | AD50: 10 | AE50: 15 | AF50: 500
B51: =B50+1 -> 44972 | C51: Sinter plant off | K51: 1.4694725 | M51: 0.57884254 | O51: 1.6190395 | Q51: 7.5845281 | S51: 1.4822713 | U51: 2.1659692 | W51: 6.8966647 | Y51: 2.5694022 | AA51: 0.0074843006 | AC51: 40 | AD51: 10 | AE51: 15 | AF51: 500
B52: =B51+1 -> 44973 | C52: 13.506736 | E52: -2.3218418 | G52: 3.7045037 | I52: 0.28651383 | K52: 0.85358233 | M52: 0.49605395 | O52: 1.6666772 | Q52: 9.0034188 | S52: 1.7150286 | U52: 2.1193165 | W52: 4.8218836 | Y52: 2.5836108 | AA52: 0.004546964 | AC52: 40 | AD52: 10 | AE52: 15 | AF52: 500
B53: =B52+1 -> 44974 | C53: 78.999947 | D53: =C53*0.7 -> 55.299963 | E53: 264.20476 | G53: 118.66711 | I53: 0.49395294 | K53: 0.82516128 | M53: 0.4499743 | O53: 2.2178282 | Q53: 5.5431296 | S53: 1.8429132 | U53: 2.0529146 | W53: 4.5065984 | Y53: 2.2149248 | AA53: 0.060072351 | AC53: 40 | AD53: 10 | AE53: 15 | AF53: 500
B54: =B53+1 -> 44975 | C54: 32.960018 | E54: 307.9923 | G54: 124.98349 | I54: 0.47955945 | K54: 1.0068082 | M54: 0.53291018 | O54: 2.9883458 | Q54: 7.8663197 | S54: 2.2722338 | U54: 2.2648154 | W54: 3.9355166 | Y54: 2.2177456 | AA54: 0.24088918 | AC54: 40 | AD54: 10 | AE54: 15 | AF54: 500
B55: =B54+1 -> 44976 | C55: 33.186286 | E55: 417.58841 | G55: 128.31384 | I55: 0.63374152 | K55: 1.8395327 | M55: 0.6406405 | O55: 2.679333 | Q55: 9.1531867 | S55: 2.8804999 | U55: 2.3648756 | W55: 5.2211216 | Y55: 2.2609355 | AA55: 0.090053668 | AC55: 40 | AD55: 10 | AE55: 15 | AF55: 500
B56: =B55+1 -> 44977 | C56: 36.131834 | E56: 400.39179 | G56: 120.7405 | I56: 0.63994551 | K56: 0.96718082 | M56: 0.43920804 | O56: 2.4819903 | Q56: 9.0725905 | S56: 1.931997 | U56: 2.0368535 | W56: 4.2772736 | Y56: 2.1302667 | AA56: 0.14556317 | AC56: 40 | AD56: 10 | AE56: 15 | AF56: 500
B57: =B56+1 -> 44978 | C57: 45.021638 | D57: =C57*0.7 -> 31.515147 | E57: 458.16314 | G57: 140.36908 | I57: 0.76549127 | K57: 1.8723739 | M57: 0.70885928 | O57: 0.57925061 | Q57: 8.6593202 | S57: 1.3416651 | U57: 2.1294986 | W57: 4.3334576 | Y57: 2.9362805 | AA57: 0.26939537 | AC57: 40 | AD57: 10 | AE57: 15 | AF57: 500
B58: =B57+1 -> 44979 | C58: 46.457747 | D58: =C58*0.7 -> 32.520423 | E58: 382.88568 | G58: 129.44975 | I58: 0.70641618 | K58: 1.7495892 | M58: 0.6416864 | O58: 0.42937147 | Q58: 7.5594452 | S58: 1.7668223 | U58: 1.5934693 | W58: 3.7213608 | Y58: 2.6222421 | AA58: 0.22577315 | AC58: 40 | AD58: 10 | AE58: 15 | AF58: 500
B59: =B58+1 -> 44980 | C59: 41.456003 | D59: =C59*0.7 -> 29.019202 | E59: 368.67297 | G59: 112.65889 | I59: 0.70058093 | K59: 1.9541495 | M59: 0.67798442 | O59: 0.51649925 | Q59: 7.3073731 | S59: 2.6391842 | U59: 2.0751498 | W59: 4.9316749 | Y59: 2.9907391 | AA59: 0.22496596 | AC59: 40 | AD59: 10 | AE59: 15 | AF59: 500
B60: =B59+1 -> 44981 | C60: 49.737328 | D60: =C60*0.7 -> 34.816129 | E60: 489.41138 | G60: 108.75826 | I60: 0.84136772 | K60: 1.756554 | M60: 0.61637304 | O60: 1.6672842 | Q60: 7.5975799 | S60: 2.738382 | U60: 2.223478 | W60: 5.3539728 | Y60: 2.6473477 | AA60: 0.043146452 | AC60: 40 | AD60: 10 | AE60: 15 | AF60: 500
B61: =B60+1 -> 44982 | C61: 50.242671 | D61: =C61*0.7 -> 35.16987 | E61: 437.47649 | G61: 124.54201 | I61: 0.50964404 | K61: 1.9284099 | M61: 0.6395467 | O61: 2.4636255 | Q61: 9.5706633 | S61: 1.6631046 | U61: 2.3189606 | W61: 6.1883784 | Y61: 2.7812326 | AA61: 0.03837954 | AC61: 40 | AD61: 10 | AE61: 15 | AF61: 500
B62: =B61+1 -> 44983 | C62: 50.004989 | D62: =C62*0.7 -> 35.003492 | E62: 483.231 | G62: 131.33842 | I62: 0.81116459 | K62: 1.5968492 | M62: 0.54176462 | O62: 2.3795494 | Q62: 9.334164 | S62: 3.4657125 | U62: 2.2430042 | W62: 5.9718932 | Y62: 2.545453 | AA62: 0.025321634 | AC62: 40 | AD62: 10 | AE62: 15 | AF62: 500
B63: =B62+1 -> 44984 | C63: 48.006143 | D63: =C63*0.7 -> 33.6043 | E63: 453.17872 | G63: 101.9989 | I63: 0.66042809 | K63: 1.5754237 | M63: 0.54719625 | O63: 2.5135788 | Q63: 11.03632 | S63: 2.1613175 | U63: 2.5477406 | W63: 5.8049094 | Y63: 2.5590136 | AA63: 0.023932537 | AC63: 40 | AD63: 10 | AE63: 15 | AF63: 500
B64: =B63+1 -> 44985 | C64: 53.626184 | D64: =C64*0.7 -> 37.538329 | E64: 505.92709 | F64: 404.74167 | G64: 143.54489 | I64: 0.79462341 | K64: 1.8871304 | M64: 0.54861385 | O64: 3.375773 | Q64: 8.4534517 | S64: 3.1275607 | U64: 2.3585731 | W64: 7.1693723 | Y64: 2.4652847 | AA64: 0.012733342 | AC64: 40 | AD64: 10 | AE64: 15 | AF64: 500
B65: =B64+1 -> 44986 | C65: 32.832586 | E65: 210.78771 | G65: 60.34489 | I65: 0.51887943 | K65: 0.50576798 | M65: 0.29206533 | O65: 4.6152947 | Q65: 6.8178741 | S65: 3.2368906 | U65: 2.4646678 | W65: 6.9483523 | Y65: 2.6103007 | AA65: 0.0064082367 | AC65: 40 | AD65: 10 | AE65: 15 | AF65: 500
B66: =B65+1 -> 44987 | C66: 29.7321 | E66: 305.7885 | G66: 94.442161 | I66: 0.57165937 | K66: 0.81260034 | M66: 0.30513421 | O66: 4.3952268 | Q66: 4.1858402 | S66: 2.0225749 | U66: 2.1832234 | W66: 4.690048 | Y66: 2.115188 | AA66: 0.018659575 | AC66: 40 | AD66: 10 | AE66: 15 | AF66: 500
B67: =B66+1 -> 44988 | C67: 53.965243 | D67: =C67*0.7 -> 37.77567 | E67: 398.82018 | G67: 127.4823 | I67: 0.68930449 | K67: 1.4503027 | M67: 0.40724098 | O67: 3.2250028 | Q67: 3.7469017 | S67: 2.8491265 | U67: 2.3397788 | W67: 5.9753604 | Y67: 2.500465 | AA67: 0.042053041 | AC67: 40 | AD67: 10 | AE67: 15 | AF67: 500
B68: =B67+1 -> 44989 | C68: 61.775291 | D68: =C68*0.7 -> 43.242704 | E68: 406.56537 | G68: 134.4434 | I68: 0.6168139 | K68: 2.2029729 | M68: 0.54241519 | O68: 3.4930245 | Q68: 3.5515665 | S68: 3.9313518 | U68: 2.6871848 | W68: 6.8375968 | Y68: 2.639508 | AA68: 0.017919131 | AC68: 40 | AD68: 10 | AE68: 15 | AF68: 500
B69: =B68+1 -> 44990 | C69: 76.192158 | D69: =C69*0.7 -> 53.334511 | E69: 466.44031 | G69: 156.8821 | I69: 0.76163991 | K69: 1.7445958 | M69: 0.48696997 | O69: 3.789955 | Q69: 5.0247926 | S69: 4.1866946 | U69: 2.5179058 | W69: 6.9080038 | Y69: 2.6418024 | AA69: 0.025063108 | AC69: 40 | AD69: 10 | AE69: 15 | AF69: 500
B70: =B69+1 -> 44991 | C70: 79.378383 | D70: =C70*0.7 -> 55.564868 | E70: 416.64686 | G70: 161.58192 | I70: 0.70116683 | K70: 1.7039258 | M70: 0.46080927 | O70: 3.5323108 | Q70: 4.8021912 | S70: 2.8976192 | U70: 2.1065083 | W70: 7.1862372 | Y70: 1.4083769 | AA70: 0.00015716878 | AC70: 40 | AD70: 10 | AE70: 15 | AF70: 500
B71: =B70+1 -> 44992 | C71: 77.681964 | D71: =C71*0.7 -> 54.377375 | E71: 417.36142 | G71: 141.52824 | I71: 0.73257038 | K71: 1.842663 | M71: 0.42881457 | O71: 2.8732573 | Q71: 5.3057071 | S71: 3.1681823 | U71: 2.1931276 | W71: 6.7762352 | Y71: 0.49019808 | AA71: 0.02843075 | AC71: 40 | AD71: 10 | AE71: 15 | AF71: 500
B72: =B71+1 -> 44993 | C72: 62.80775 | D72: =C72*0.7 -> 43.965425 | E72: 351.63935 | G72: 152.60985 | I72: 0.69785419 | K72: 1.3511824 | M72: 0.41260668 | O72: 2.8156928 | Q72: 6.257378 | S72: 2.965707 | U72: 2.4341102 | W72: 7.1337385 | Y72: 0.5160873 | AA72: 0.085629403 | AC72: 40 | AD72: 10 | AE72: 15 | AF72: 500
B73: =B72+1 -> 44994 | C73: 61.618865 | D73: =C73*0.7 -> 43.133206 | E73: 384.65334 | G73: 155.17875 | I73: 0.6718931 | K73: 2.0758622 | M73: 0.47081521 | O73: 2.8166886 | Q73: 4.6733255 | S73: 2.4240172 | U73: 2.4701479 | W73: 7.5535457 | Y73: 0.49830365 | AA73: 0.051706454 | AC73: 40 | AD73: 10 | AE73: 15 | AF73: 500
B74: =B73+1 -> 44995 | C74: 63.594388 | D74: =C74*0.7 -> 44.516071 | E74: 379.15401 | G74: 145.02181 | I74: 0.73563261 | K74: 2.3184056 | M74: 0.60539564 | O74: 2.7975116 | Q74: 4.9624401 | S74: 3.0538338 | U74: 2.3083455 | W74: 6.9618473 | Y74: 2.4297865 | AA74: 0.039119681 | AC74: 40 | AD74: 10 | AE74: 15 | AF74: 500
B75: =B74+1 -> 44996 | C75: 77.436512 | D75: =C75*0.7 -> 54.205559 | E75: 350.2774 | G75: 140.86879 | I75: 0.80737613 | K75: 0.99535861 | M75: 0.3811633 | O75: 3.7327955 | Q75: 4.626988 | S75: 2.6065485 | U75: 2.4682632 | W75: 7.3628051 | Y75: 2.8314579 | AA75: 0.069768967 | AC75: 40 | AD75: 10 | AE75: 15 | AF75: 500
B76: =B75+1 -> 44997 | C76: 41.048645 | D76: =C76*0.7 -> 28.734051 | E76: 281.11189 | G76: 131.11158 | I76: 1.1689636 | K76: 2.8484071 | M76: 0.66317705 | O76: 3.6440809 | Q76: 3.9487981 | S76: 2.5682641 | U76: 2.4277294 | W76: 6.1457807 | Y76: 2.7100637 | AA76: 0.026712907 | AC76: 40 | AD76: 10 | AE76: 15 | AF76: 500
B77: =B76+1 -> 44998 | C77: 48.138636 | D77: =C77*0.7 -> 33.697045 | E77: 389.74636 | G77: 157.72399 | I77: 1.0268173 | K77: 1.6944677 | M77: 0.52951844 | O77: 2.5622892 | Q77: 4.167967 | S77: 2.1348705 | U77: 2.5594316 | W77: 5.1215472 | Y77: 2.323062 | AA77: 0.46909359 | AC77: 40 | AD77: 10 | AE77: 15 | AF77: 500
B78: =B77+1 -> 44999 | C78: 63.982057 | D78: =C78*0.7 -> 44.78744 | E78: 407.9372 | G78: 162.76285 | I78: 0.84257879 | K78: 1.3323523 | M78: 0.50700952 | O78: 2.3771423 | Q78: 4.7412612 | S78: 2.3271069 | U78: 2.1102707 | W78: 4.922112 | Y78: 2.986862 | AA78: 0.11761968 | AC78: 40 | AD78: 10 | AE78: 15 | AF78: 500
B79: =B78+1 -> 45000 | C79: 28.223038 | E79: 56.130379 | G79: 23.991702 | I79: 0.43796693 | K79: 0.8012684 | M79: 0.62733905 | O79: 0.87697365 | Q79: 4.6705911 | S79: 2.4830064 | U79: 2.5202495 | W79: 7.1869166 | Y79: 3.4958262 | AA79: 0.090992942 | AC79: 40 | AD79: 10 | AE79: 15 | AF79: 500
B80: =B79+1 -> 45001 | C80: 41.059911 | D80: =C80*0.7 -> 28.741938 | E80: 337.88575 | G80: 116.13853 | I80: 0.5963508 | K80: 1.9472583 | M80: 0.6011054 | O80: 2.2213486 | Q80: 5.4651441 | S80: 3.0995286 | U80: 2.8944306 | W80: 7.9972503 | Y80: 2.8025072 | AA80: 0.15691258 | AC80: 40 | AD80: 10 | AE80: 15 | AF80: 500
B81: =B80+1 -> 45002 | C81: 46.738393 | D81: =C81*0.7 -> 32.716875 | E81: 427.32905 | G81: 173.32318 | I81: 0.76824753 | K81: 2.2461041 | M81: 0.41767668 | O81: 2.8134877 | Q81: 5.6004159 | S81: 3.3233235 | U81: 3.7736576 | W81: 11.035567 | Y81: 3.141882 | AA81: 0.20668093 | AC81: 40 | AD81: 10 | AE81: 15 | AF81: 500
B82: =B81+1 -> 45003 | C82: 52.99001 | D82: =C82*0.7 -> 37.093007 | E82: 392.46668 | G82: 171.22227 | I82: 0.70775883 | K82: 1.0775135 | M82: 0.3394705 | O82: 3.1745773 | Q82: 4.8717728 | S82: 2.908977 | U82: 2.6539263 | W82: 7.6795663 | Y82: 2.3778924 | AA82: 0.16760779 | AC82: 40 | AD82: 10 | AE82: 15 | AF82: 500
B83: =B82+1 -> 45004 | C83: 59.26123 | D83: =C83*0.7 -> 41.482861 | E83: 334.63824 | G83: 175.18361 | I83: 0.78354537 | K83: 1.3895361 | M83: 0.43931688 | O83: 2.1333864 | Q83: 5.2889655 | S83: 3.1960544 | U83: 2.5520976 | W83: 6.3554891 | Y83: 2.6775852 | AA83: 0.16616238 | AC83: 40 | AD83: 10 | AE83: 15 | AF83: 500
B84: =B83+1 -> 45005 | C84: 52.843309 | D84: =C84*0.7 -> 36.990316 | E84: 394.91039 | G84: 165.74311 | I84: 0.81503595 | K84: 1.3039135 | M84: 0.48375312 | O84: 2.7753263 | Q84: 4.3802948 | S84: 1.5113175 | U84: 2.4004221 | W84: 6.1531069 | Y84: 2.8479404 | AA84: 0.15347152 | AC84: 40 | AD84: 10 | AE84: 15 | AF84: 500
B85: =B84+1 -> 45006 | C85: 56.464848 | D85: =C85*0.7 -> 39.525394 | E85: 442.19947 | G85: 173.47212 | I85: 0.67232411 | K85: 1.2140738 | M85: 0.47652963 | O85: 2.4170328 | Q85: 4.268768 | S85: 0.70836907 | U85: 2.1796452 | W85: 8.0834578 | Y85: 2.6178187 | AA85: 0.42463875 | AC85: 40 | AD85: 10 | AE85: 15 | AF85: 500
B86: =B85+1 -> 45007 | C86: 63.033254 | D86: =C86*0.7 -> 44.123278 | E86: 451.20364 | G86: 171.00542 | I86: 0.71562662 | K86: 1.4244851 | M86: 0.4454995 | O86: 2.164902 | Q86: 4.4530991 | S86: 0.78126225 | U86: 2.6229938 | W86: 7.5144144 | Y86: 2.7354541 | AA86: 0.43513452 | AC86: 40 | AD86: 10 | AE86: 15 | AF86: 500
B87: =B86+1 -> 45008 | C87: 73.027502 | D87: =C87*0.7 -> 51.119252 | E87: 441.23764 | G87: 176.58122 | I87: 0.8018753 | K87: 2.5675571 | M87: 0.62604686 | O87: 2.7160057 | Q87: 2.8542119 | S87: 0.91585628 | U87: 3.2648407 | W87: 9.0839574 | Y87: 2.9185712 | AA87: 0.39339771 | AC87: 40 | AD87: 10 | AE87: 15 | AF87: 500
B88: =B87+1 -> 45009 | C88: 54.105933 | D88: =C88*0.7 -> 37.874153 | E88: 369.38677 | G88: 141.73349 | I88: 0.84187537 | K88: 1.3022953 | M88: 0.43569344 | O88: 2.945204 | Q88: 3.6780759 | S88: 0.65369668 | U88: 2.7194431 | W88: 5.9158233 | Y88: 2.3615719 | AA88: 0.39307872 | AC88: 40 | AD88: 10 | AE88: 15 | AF88: 500
B89: =B88+1 -> 45010 | C89: 70.106252 | D89: =C89*0.7 -> 49.074376 | E89: 442.95582 | G89: 174.98039 | I89: 0.87334808 | K89: 1.2767455 | M89: 0.47852983 | O89: 2.4996415 | Q89: 4.6017041 | S89: 0.67045465 | U89: 2.633015 | W89: 5.6457573 | Y89: 2.3497795 | AA89: 0.092799368 | AC89: 40 | AD89: 10 | AE89: 15 | AF89: 500
B90: =B89+1 -> 45011 | C90: 72.798623 | D90: =C90*0.7 -> 50.959036 | E90: 387.80787 | G90: 178.00219 | I90: 0.82107366 | K90: 1.4092095 | M90: 0.495318 | O90: 2.7490038 | Q90: 5.1218619 | S90: 1.8789601 | U90: 2.3923126 | W90: 5.2309843 | Y90: 2.8020019 | AA90: 0.25867169 | AC90: 40 | AD90: 10 | AE90: 15 | AF90: 500
B91: =B90+1 -> 45012 | C91: 77.265415 | D91: =C91*0.7 -> 54.08579 | E91: 394.57528 | G91: 174.09808 | I91: 0.88636049 | K91: 1.5386268 | M91: 0.46949186 | O91: 2.8810789 | Q91: 4.8112954 | S91: 3.3570435 | U91: 2.9426827 | W91: 5.9733585 | Y91: 2.8653991 | AA91: 0.29243806 | AC91: 40 | AD91: 10 | AE91: 15 | AF91: 500
... B95: =B94+1 -> 45016 | C95: 55.109571 | D95: =C95*0.7 -> 38.576699 | E95: 338.51642 | G95: 146.18797 | I95: 1.1894255 | K95: 1.8022749 | M95: 0.52884573 | O95: 1.2728737 | Q95: 2.9619255 | S95: 1.293279 | U95: 2.3586234 | W95: 5.1007715 | Y95: 2.5271652 | AA95: 0.37655453 | AC95: 40 | AD95: 10 | AE95: 15 | AF95: 500
