Workbook

Sheet Notes
B2: Reference conditions
B3: All concentrations in this spreadsheet are reported in dry air at a temperature of 273K, at a pressure of 101.3 kPa and with an oxygen content of 3% dry
B5: Uncertainty
B6: Concentrations in this spreadsheet are reported after having subtracted the value of the 95% confidence interval (see Section 3.6.7 of the permit):
C7: 95% confidence interval for nitrogen oxides is taken to be 20%
C8: 95% confidence interval for sulphur dioxide is taken to be 20%
C9: 95% confidence interval for dust is taken to be 30%
C10: 95% confidence interval for carbon monoxide is taken to be 10%
B12: Normal operating conditions
B13: The document "Power Plant Boiler Abnormal Conditions" sets out the criteria for excluding emissions monitoring data from permitting or other reporting obligations:
C14: Parameter | D14: Plant | E14: Level representing abnormal conditions
C15: Boiler oxygen | D15: All boilers | E15: >17% oxygen
C16: Fuel input | D16: A51, A52A, A52B, A53 and A62 | E16: <50% BFG by thermal input
D17: A50 (Service Boilers) | E17: <35% BFG by thermal input

Sheet A50 Service Boilers
D2: Concentrations in mg/m³ at reference conditions after subtracting uncertainty | O2: Daily means, excluding hours outside normal operating conditions
D3: 44652 | G3: 44682 | J3: 44713 | N3: Date | O3: Fuel mix | U3: Particulate Matter concentration (mg/m³) after subtracting uncertainty | AA3: Sulphur dioxide concentration (mg/m³) after subtracting uncertainty | AG3: Oxides of nitrogen concentration (mg/m³) after subtracting uncertainty
D4: PM | E4: SO2 | F4: NOx | G4: PM | H4: SO2 | I4: NOx | J4: PM | K4: SO2 | L4: NOx | O4: % BFG | P4: % COG | Q4: % BOSg | R4: % NG | S4: % HFO | U4: No.valid hours | V4: No.hours OTNOC | W4: Measured | X4: Limit | Y4: Breach? | AA4: No.valid hours | AB4: No.hours OTNOC | AC4: Measured | AD4: Limit | AE4: Breach? | AG4: No.valid hours | AH4: No.hours OTNOC | AI4: Measured | AJ4: Limit | AK4: Breach?
B5: Daily means | C5: Minimum | D5: =MIN(W5:W35) -> 0.5 | E5: =MIN(AC5:AC35) -> 52.2 | F5: =MIN(AI5:AI35) -> 49.4 | G5: =MIN(W36:W63) -> 0.3 | H5: =MIN(AC36:AC63) -> 17.8 | I5: =MIN(AI36:AI63) -> 23.9 | J5: =MIN(W64:W95) -> 0 | K5: =MIN(AC64:AC95) -> 15.4 | L5: =MIN(AI64:AI95) -> 38.1 | N5: 44652 | O5: 0.691 | P5: 0.1695 | R5: =1-O5-P5 -> 0.1395 | U5: 24 | V5: 0 | W5: 5.1 | X5: 14 | Y5: =IF(W5>X5,"YES","NO") -> NO | AA5: 24 | AB5: =V5 -> 0 | AC5: 330.1 | AD5: 232 | AE5: =IF(AC5>AD5,"YES","NO") -> YES | AG5: 24 | AH5: =AB5 -> 0 | AI5: 128.7 | AJ5: 299.3 | AK5: =IF(AI5>AJ5,"YES","NO") -> NO
C6: Maximum | D6: =MAX(W5:W35) -> 6.5 | E6: =MAX(AC5:AC35) -> 376.5 | F6: =MAX(AI5:AI35) -> 165 | G6: =MAX(W36:W63) -> 2.6 | H6: =MAX(AC36:AC63) -> 396.4 | I6: =MAX(AI36:AI63) -> 129.3 | J6: =MAX(W64:W95) -> 8 | K6: =MAX(AC64:AC95) -> 89 | L6: =MAX(AI64:AI95) -> 65 | N6: =N5+1 -> 44653 | O6: 0.7106 | P6: 0.1255 | R6: =1-O6-P6 -> 0.1639 | U6: 24 | V6: 0 | W6: 3 | X6: 12.9 | Y6: =IF(W6>X6,"YES","NO") -> NO | AA6: 24 | AB6: =V6 -> 0 | AC6: 214.7 | AD6: 217.9 | AE6: =IF(AC6>AD6,"YES","NO") -> NO | AG6: 24 | AH6: =AB6 -> 0 | AI6: 92.2 | AJ6: 293.9 | AK6: =IF(AI6>AJ6,"YES","NO") -> NO
C7: No. > Limit | D7: =COUNTIF(Y5:Y35,"YES") -> 0 | E7: =COUNTIF(AE5:AE35,"YES") -> 4 | F7: =COUNTIF(AK5:AK35,"YES") -> 0 | G7: =COUNTIF(Y36:Y63,"YES") -> 0 | H7: =COUNTIF(AE36:AE63,"YES") -> 3 | I7: =COUNTIF(AK36:AK63,"YES") -> 0 | J7: =COUNTIF(Y64:Y95,"YES") -> 0 | K7: =COUNTIF(AE64:AE95,"YES") -> 0 | L7: =COUNTIF(AK64:AK95,"YES") -> 0 | N7: =N6+1 -> 44654 | O7: 0.6978 | P7: 0.1469 | R7: =1-O7-P7 -> 0.1553 | U7: 24 | V7: 0 | W7: 2.5 | X7: 13.4 | Y7: =IF(W7>X7,"YES","NO") -> NO | AA7: 24 | AB7: =V7 -> 0 | AC7: 167.8 | AD7: 224.2 | AE7: =IF(AC7>AD7,"YES","NO") -> NO | AG7: 24 | AH7: =AB7 -> 0 | AI7: 111.9 | AJ7: 295.9 | AK7: =IF(AI7>AJ7,"YES","NO") -> NO
B8: Monthly mean | D8: 2.3 | E8: 149.9 | F8: 99.2 | G8: 1.1 | H8: 128.3 | I8: 78.9 | J8: 4.3 | K8: 52.4 | L8: 51.7 | N8: =N7+1 -> 44655 | O8: 0.5632 | P8: 0.2652 | R8: =1-O8-P8 -> 0.1716 | U8: 24 | V8: 3 | W8: 1.9 | X8: 15.9 | Y8: =IF(W8>X8,"YES","NO") -> NO | AA8: 24 | AB8: =V8 -> 3 | AC8: 147.1 | AD8: 247.2 | AE8: =IF(AC8>AD8,"YES","NO") -> NO | AG8: 24 | AH8: =AB8 -> 3 | AI8: 113.6 | AJ8: 292.3 | AK8: =IF(AI8>AJ8,"YES","NO") -> NO
B9: Monthly mean limit | D9: 13.5 | E9: 213.2 | F9: 261.8 | G9: 14.6 | H9: 237.8 | I9: 286.4 | J9: 13.8 | K9: 232 | L9: 290.2 | N9: =N8+1 -> 44656 | O9: 0.4867 | P9: 0.1974 | R9: =1-O9-P9 -> 0.3159 | U9: 24 | V9: 2 | W9: 3.4 | X9: 13.6 | Y9: =IF(W9>X9,"YES","NO") -> NO | AA9: 24 | AB9: =V9 -> 2 | AC9: 132 | AD9: 206.1 | AE9: =IF(AC9>AD9,"YES","NO") -> NO | AG9: 24 | AH9: =AB9 -> 2 | AI9: 76.4 | AJ9: 260.5 | AK9: =IF(AI9>AJ9,"YES","NO") -> NO
N10: =N9+1 -> 44657 | O10: 0.3648 | P10: 0.1321 | R10: =1-O10-P10 -> 0.5031 | U10: 24 | V10: 6 | W10: 6 | X10: 11.1 | Y10: =IF(W10>X10,"YES","NO") -> NO | AA10: 24 | AB10: =V10 -> 6 | AC10: 114 | AD10: 157.8 | AE10: =IF(AC10>AD10,"YES","NO") -> NO | AG10: 24 | AH10: =AB10 -> 6 | AI10: 87.4 | AJ10: 219.3 | AK10: =IF(AI10>AJ10,"YES","NO") -> NO
N11: =N10+1 -> 44658 | O11: 0.3759 | P11: 0.1812 | R11: =1-O11-P11 -> 0.4429 | U11: 24 | V11: 5 | W11: 6.5 | X11: 12.6 | Y11: =IF(W11>X11,"YES","NO") -> NO | AA11: 24 | AB11: =V11 -> 5 | AC11: 149.7 | AD11: 179.5 | AE11: =IF(AC11>AD11,"YES","NO") -> NO | AG11: 24 | AH11: =AB11 -> 5 | AI11: 165 | AJ11: 232.6 | AK11: =IF(AI11>AJ11,"YES","NO") -> NO
N12: =N11+1 -> 44659 | O12: 0.2594 | P12: 0.4875 | R12: =1-O12-P12 -> 0.2531 | U12: 24 | V12: 15 | W12: 4 | X12: 20.3 | Y12: =IF(W12>X12,"YES","NO") -> NO | AA12: 24 | AB12: =V12 -> 15 | AC12: 376.5 | AD12: 281.3 | AE12: =IF(AC12>AD12,"YES","NO") -> YES | AG12: 24 | AH12: =AB12 -> 15 | AI12: 125.3 | AJ12: 274.3 | AK12: =IF(AI12>AJ12,"YES","NO") -> NO
N13: =N12+1 -> 44660 | O13: 0.5367 | P13: 0.2299 | R13: =1-O13-P13 -> 0.2334 | U13: 24 | V13: 0 | W13: 2.8 | X13: 14.8 | Y13: =IF(W13>X13,"YES","NO") -> NO | AA13: 24 | AB13: =V13 -> 0 | AC13: 190.7 | AD13: 228.2 | AE13: =IF(AC13>AD13,"YES","NO") -> NO | AG13: 24 | AH13: =AB13 -> 0 | AI13: 107 | AJ13: 278.7 | AK13: =IF(AI13>AJ13,"YES","NO") -> NO
N14: =N13+1 -> 44661 | O14: 0.6945 | P14: 0.1705 | R14: =1-O14-P14 -> 0.135 | U14: 24 | V14: 0 | W14: 1.5 | X14: 14 | Y14: =IF(W14>X14,"YES","NO") -> NO | AA14: 24 | AB14: =V14 -> 0 | AC14: 89 | AD14: 233 | AE14: =IF(AC14>AD14,"YES","NO") -> NO | AG14: 24 | AH14: =AB14 -> 0 | AI14: 94.7 | AJ14: 300.3 | AK14: =IF(AI14>AJ14,"YES","NO") -> NO
N15: =N14+1 -> 44662 | O15: 0.665 | P15: 0.1974 | R15: =1-O15-P15 -> 0.1376 | U15: 24 | V15: 2 | W15: 1.3 | X15: 14.6 | Y15: =IF(W15>X15,"YES","NO") -> NO | AA15: 24 | AB15: =V15 -> 2 | AC15: 71.5 | AD15: 238.4 | AE15: =IF(AC15>AD15,"YES","NO") -> NO | AG15: 24 | AH15: =AB15 -> 2 | AI15: 94 | AJ15: 299.7 | AK15: =IF(AI15>AJ15,"YES","NO") -> NO
N16: =N15+1 -> 44663 | O16: 0.4729 | P16: 0.3675 | R16: =1-O16-P16 -> 0.1596 | U16: 24 | V16: 11 | W16: 3.8 | X16: 18.2 | Y16: =IF(W16>X16,"YES","NO") -> NO | AA16: 24 | AB16: =V16 -> 11 | AC16: 202 | AD16: 271.9 | AE16: =IF(AC16>AD16,"YES","NO") -> NO | AG16: 24 | AH16: =AB16 -> 11 | AI16: 81.6 | AJ16: 294.9 | AK16: =IF(AI16>AJ16,"YES","NO") -> NO
N17: =N16+1 -> 44664 | O17: 0.4851 | P17: 0.2108 | R17: =1-O17-P17 -> 0.3041 | U17: 24 | V17: 7 | W17: 2.4 | X17: 14 | Y17: =IF(W17>X17,"YES","NO") -> NO | AA17: 24 | AB17: =V17 -> 7 | AC17: 259 | AD17: 211.2 | AE17: =IF(AC17>AD17,"YES","NO") -> YES | AG17: 24 | AH17: =AB17 -> 7 | AI17: 93.7 | AJ17: 263.1 | AK17: =IF(AI17>AJ17,"YES","NO") -> NO
N18: =N17+1 -> 44665 | O18: 0.3988 | P18: 0.3046 | R18: =1-O18-P18 -> 0.2966 | U18: 24 | V18: 12 | W18: 2.3 | X18: 16.1 | Y18: =IF(W18>X18,"YES","NO") -> NO | AA18: 24 | AB18: =V18 -> 12 | AC18: 100.3 | AD18: 233.2 | AE18: =IF(AC18>AD18,"YES","NO") -> NO | AG18: 24 | AH18: =AB18 -> 12 | AI18: 102.8 | AJ18: 264.8 | AK18: =IF(AI18>AJ18,"YES","NO") -> NO
N19: =N18+1 -> 44666 | O19: 0.504 | P19: 0.2038 | R19: =1-O19-P19 -> 0.2922 | U19: 24 | V19: 5 | W19: 2.4 | X19: 13.9 | Y19: =IF(W19>X19,"YES","NO") -> NO | AA19: 24 | AB19: =V19 -> 5 | AC19: 188.9 | AD19: 211.8 | AE19: =IF(AC19>AD19,"YES","NO") -> NO | AG19: 24 | AH19: =AB19 -> 5 | AI19: 102.9 | AJ19: 265.7 | AK19: =IF(AI19>AJ19,"YES","NO") -> NO
N20: =N19+1 -> 44667 | O20: 0.4142 | P20: 0.3193 | R20: =1-O20-P20 -> 0.2665 | U20: 24 | V20: 13 | W20: 1.4 | X20: 16.6 | Y20: =IF(W20>X20,"YES","NO") -> NO | AA20: 24 | AB20: =V20 -> 13 | AC20: 195.1 | AD20: 241.9 | AE20: =IF(AC20>AD20,"YES","NO") -> NO | AG20: 24 | AH20: =AB20 -> 13 | AI20: 99.6 | AJ20: 271.4 | AK20: =IF(AI20>AJ20,"YES","NO") -> NO
N21: =N20+1 -> 44668 | O21: 0.4499 | P21: 0.3247 | R21: =1-O21-P21 -> 0.2254 | U21: 24 | V21: 0 | W21: 1.6 | X21: 16.9 | Y21: =IF(W21>X21,"YES","NO") -> NO | AA21: 24 | AB21: =V21 -> 0 | AC21: 209 | AD21: 250.5 | AE21: =IF(AC21>AD21,"YES","NO") -> NO | AG21: 24 | AH21: =AB21 -> 0 | AI21: 97.9 | AJ21: 280.4 | AK21: =IF(AI21>AJ21,"YES","NO") -> NO
... N38: =N37+1 -> 44685 | O38: 0.4675 | P38: 0.5112 | R38: =1-O38-P38 -> 0.0213 | U38: 24 | V38: 8 | W38: 0.9 | X38: 22.1 | Y38: =IF(W38>X38,"YES","NO") -> NO | AA38: 24 | AB38: =V38 -> 8 | AC38: 319.6 | AD38: 328.6 | AE38: =IF(AC38>AD38,"YES","NO") -> NO | AG38: 24 | AH38: =AB38 -> 8 | AI38: 103.4 | AJ38: 325.3 | AK38: =IF(AI38>AJ38,"YES","NO") -> NO
N39: =N38+1 -> 44686 | O39: 0.3312 | P39: 0.6431 | R39: =1-O39-P39 -> 0.0257 | U39: 24 | V39: 24 | X39: 25 | Y39: =IF(W39>X39,"YES","NO") -> NO | AA39: 24 | AB39: =V39 -> 24 | AD39: 356.5 | AE39: =IF(AC39>AD39,"YES","NO") -> NO | AG39: 24 | AH39: =AB39 -> 24 | AJ39: 323.5 | AK39: =IF(AI39>AJ39,"YES","NO") -> NO
N40: =N39+1 -> 44687 | O40: 0.358 | P40: 0.5727 | R40: =1-O40-P40 -> 0.0693 | U40: 24 | V40: 20 | W40: 0.6 | X40: 23.2 | Y40: =IF(W40>X40,"YES","NO") -> NO | AA40: 24 | AB40: =V40 -> 20 | AC40: 206.5 | AD40: 333.1 | AE40: =IF(AC40>AD40,"YES","NO") -> NO | AG40: 24 | AH40: =AB40 -> 20 | AI40: 113.7 | AJ40: 313.9 | AK40: =IF(AI40>AJ40,"YES","NO") -> NO
N41: =N40+1 -> 44688 | O41: 0.7556 | P41: 0.2193 | R41: =1-O41-P41 -> 0.0251 | U41: 24 | V41: 0 | W41: 0.8 | X41: 15.7 | Y41: =IF(W41>X41,"YES","NO") -> NO | AA41: 24 | AB41: =V41 -> 0 | AC41: 130.7 | AD41: 263.7 | AE41: =IF(AC41>AD41,"YES","NO") -> NO | AG41: 24 | AH41: =AB41 -> 0 | AI41: 102.6 | AJ41: 324.5 | AK41: =IF(AI41>AJ41,"YES","NO") -> NO
N42: =N41+1 -> 44689 | O42: 0.7852 | P42: 0.1862 | R42: =1-O42-P42 -> 0.0286 | U42: 24 | V42: 0 | W42: 1.2 | X42: 14.9 | Y42: =IF(W42>X42,"YES","NO") -> NO | AA42: 24 | AB42: =V42 -> 0 | AC42: 66.3 | AD42: 255.8 | AE42: =IF(AC42>AD42,"YES","NO") -> NO | AG42: 24 | AH42: =AB42 -> 0 | AI42: 87.8 | AJ42: 323.7 | AK42: =IF(AI42>AJ42,"YES","NO") -> NO
N43: =N42+1 -> 44690 | O43: 0.7137 | P43: 0.1782 | R43: =1-O43-P43 -> 0.1081 | U43: 24 | V43: 0 | W43: 1.1 | X43: 14.3 | Y43: =IF(W43>X43,"YES","NO") -> NO | AA43: 24 | AB43: =V43 -> 0 | AC43: 91 | AD43: 239.6 | AE43: =IF(AC43>AD43,"YES","NO") -> NO | AG43: 24 | AH43: =AB43 -> 0 | AI43: 73.4 | AJ43: 306.2 | AK43: =IF(AI43>AJ43,"YES","NO") -> NO
N44: =N43+1 -> 44691 | O44: 0.4554 | P44: 0.2941 | R44: =1-O44-P44 -> 0.2505 | U44: 24 | V44: 0 | W44: 1.1 | X44: 16.1 | Y44: =IF(W44>X44,"YES","NO") -> NO | AA44: 24 | AB44: =V44 -> 0 | AC44: 143.9 | AD44: 239.2 | AE44: =IF(AC44>AD44,"YES","NO") -> NO | AG44: 24 | AH44: =AB44 -> 0 | AI44: 102.3 | AJ44: 274.9 | AK44: =IF(AI44>AJ44,"YES","NO") -> NO
N45: =N44+1 -> 44692 | O45: 0.6707 | P45: 0.2406 | R45: =1-O45-P45 -> 0.0887 | U45: 24 | V45: 0 | W45: 1.2 | X45: 15.8 | Y45: =IF(W45>X45,"YES","NO") -> NO | AA45: 24 | AB45: =V45 -> 0 | AC45: 307.9 | AD45: 256.8 | AE45: =IF(AC45>AD45,"YES","NO") -> YES | AG45: 24 | AH45: =AB45 -> 0 | AI45: 113.5 | AJ45: 310.5 | AK45: =IF(AI45>AJ45,"YES","NO") -> NO
N46: =N45+1 -> 44693 | O46: 0.8199 | P46: 0.1543 | R46: =1-O46-P46 -> 0.0258 | U46: 24 | V46: 0 | W46: 1.8 | X46: 14.3 | Y46: =IF(W46>X46,"YES","NO") -> NO | AA46: 24 | AB46: =V46 -> 0 | AC46: 159.1 | AD46: 249.3 | AE46: =IF(AC46>AD46,"YES","NO") -> NO | AG46: 24 | AH46: =AB46 -> 0 | AI46: 80.6 | AJ46: 324.3 | AK46: =IF(AI46>AJ46,"YES","NO") -> NO
N47: =N46+1 -> 44694 | O47: 0.9071 | P47: 0.0635 | R47: =1-O47-P47 -> 0.0294 | U47: 24 | V47: 0 | W47: 0.3 | X47: 12.2 | Y47: =IF(W47>X47,"YES","NO") -> NO | AA47: 24 | AB47: =V47 -> 0 | AC47: 49.1 | AD47: 228.6 | AE47: =IF(AC47>AD47,"YES","NO") -> NO | AG47: 24 | AH47: =AB47 -> 0 | AI47: 69.2 | AJ47: 323.5 | AK47: =IF(AI47>AJ47,"YES","NO") -> NO
N48: =N47+1 -> 44695 | O48: 0.8378 | P48: 0.1348 | R48: =1-O48-P48 -> 0.0274 | U48: 24 | V48: 0 | W48: 1 | X48: 13.8 | Y48: =IF(W48>X48,"YES","NO") -> NO | AA48: 24 | AB48: =V48 -> 0 | AC48: 87.5 | AD48: 244.7 | AE48: =IF(AC48>AD48,"YES","NO") -> NO | AG48: 24 | AH48: =AB48 -> 0 | AI48: 81.4 | AJ48: 324 | AK48: =IF(AI48>AJ48,"YES","NO") -> NO
N49: =N48+1 -> 44696 | O49: 0.7702 | P49: 0.169 | R49: =1-O49-P49 -> 0.0608 | U49: 24 | V49: 0 | W49: 1.1 | X49: 14.4 | Y49: =IF(W49>X49,"YES","NO") -> NO | AA49: 24 | AB49: =V49 -> 0 | AC49: 57.3 | AD49: 246.2 | AE49: =IF(AC49>AD49,"YES","NO") -> NO | AG49: 24 | AH49: =AB49 -> 0 | AI49: 99.3 | AJ49: 316.6 | AK49: =IF(AI49>AJ49,"YES","NO") -> NO
N50: =N49+1 -> 44697 | O50: 0.6982 | P50: 0.2718 | R50: =1-O50-P50 -> 0.03 | U50: 24 | V50: 0 | W50: 1.8 | X50: 16.8 | Y50: =IF(W50>X50,"YES","NO") -> NO | AA50: 24 | AB50: =V50 -> 0 | AC50: 117.9 | AD50: 274.3 | AE50: =IF(AC50>AD50,"YES","NO") -> NO | AG50: 24 | AH50: =AB50 -> 0 | AI50: 97.8 | AJ50: 323.4 | AK50: =IF(AI50>AJ50,"YES","NO") -> NO
N51: =N50+1 -> 44698 | O51: 0.7276 | P51: 0.2399 | R51: =1-O51-P51 -> 0.0325 | U51: 24 | V51: 0 | W51: 1.2 | X51: 16.1 | Y51: =IF(W51>X51,"YES","NO") -> NO | AA51: 24 | AB51: =V51 -> 0 | AC51: 180 | AD51: 266.9 | AE51: =IF(AC51>AD51,"YES","NO") -> NO | AG51: 24 | AH51: =AB51 -> 0 | AI51: 102.1 | AJ51: 322.9 | AK51: =IF(AI51>AJ51,"YES","NO") -> NO
... N56: =N55+1 -> 44703 | O56: 0.5293 | P56: 0.4447 | R56: =1-O56-P56 -> 0.026 | U56: 24 | V56: 2 | W56: 1.6 | X56: 20.6 | Y56: =IF(W56>X56,"YES","NO") -> NO | AA56: 24 | AB56: =V56 -> 2 | AC56: 220.7 | AD56: 313.1 | AE56: =IF(AC56>AD56,"YES","NO") -> NO | AG56: 24 | AH56: =AB56 -> 2 | AI56: 94 | AJ56: 324.3 | AK56: =IF(AI56>AJ56,"YES","NO") -> NO
N57: =N56+1 -> 44704 | O57: 0.0048 | P57: 0.595 | R57: =1-O57-P57 -> 0.4002 | U57: 24 | V57: 24 | X57: 21.9 | Y57: =IF(W57>X57,"YES","NO") -> NO | AA57: 24 | AB57: =V57 -> 24 | AD57: 278.3 | AE57: =IF(AC57>AD57,"YES","NO") -> NO | AG57: 24 | AH57: =AB57 -> 24 | AJ57: 242 | AK57: =IF(AI57>AJ57,"YES","NO") -> NO
N58: =N57+1 -> 44705 | O58: 0.1356 | P58: 0.4852 | R58: =1-O58-P58 -> 0.3792 | U58: 24 | V58: 19 | W58: 2.6 | X58: 19.6 | Y58: =IF(W58>X58,"YES","NO") -> NO | AA58: 24 | AB58: =V58 -> 19 | AC58: 396.4 | AD58: 257.9 | AE58: =IF(AC58>AD58,"YES","NO") -> YES | AG58: 24 | AH58: =AB58 -> 19 | AI58: 129.3 | AJ58: 246.6 | AK58: =IF(AI58>AJ58,"YES","NO") -> NO
N59: =N58+1 -> 44706 | O59: 0.5511 | P59: 0.3556 | R59: =1-O59-P59 -> 0.0933 | U59: 24 | V59: 10 | W59: 0.6 | X59: 18.3 | Y59: =IF(W59>X59,"YES","NO") -> NO | AA59: 24 | AB59: =V59 -> 10 | AC59: 68 | AD59: 281.3 | AE59: =IF(AC59>AD59,"YES","NO") -> NO | AG59: 24 | AH59: =AB59 -> 10 | AI59: 56.1 | AJ59: 309.5 | AK59: =IF(AI59>AJ59,"YES","NO") -> NO
N60: =N59+1 -> 44707 | O60: 0.9732 | P60: 0.007 | R60: =1-O60-P60 -> 0.0198 | U60: 24 | V60: 0 | W60: 1.8 | X60: 11 | Y60: =IF(W60>X60,"YES","NO") -> NO | AA60: 24 | AB60: =V60 -> 0 | AC60: 60.3 | AD60: 217.9 | AE60: =IF(AC60>AD60,"YES","NO") -> NO | AG60: 24 | AH60: =AB60 -> 0 | AI60: 49.1 | AJ60: 325.6 | AK60: =IF(AI60>AJ60,"YES","NO") -> NO
N61: =N60+1 -> 44708 | O61: 0.9748 | P61: 0.0049 | R61: =1-O61-P61 -> 0.0203 | U61: 24 | V61: 0 | W61: 1.2 | X61: 11 | Y61: =IF(W61>X61,"YES","NO") -> NO | AA61: 24 | AB61: =V61 -> 0 | AC61: 44.2 | AD61: 217.4 | AE61: =IF(AC61>AD61,"YES","NO") -> NO | AG61: 24 | AH61: =AB61 -> 0 | AI61: 52.7 | AJ61: 325.5 | AK61: =IF(AI61>AJ61,"YES","NO") -> NO
...

Sheet A51 Boiler 5
D2: Concentrations in mg/m³ at reference conditions after subtracting uncertainty | O2: Daily means, excluding hours outside normal operating conditions
D3: 44652 | G3: 44682 | J3: 44713 | N3: Date | O3: Fuel mix | T3: Particulate Matter concentration (mg/m³) after subtracting uncertainty
D4: PM | E4: SO2 | F4: NOx | G4: PM | H4: SO2 | I4: NOx | J4: PM | K4: SO2 | L4: NOx | O4: % BFG | P4: % COG | Q4: % BOSg | R4: % NG | S4: % HFO | T4: No.valid hours | U4: No.hours OTNOC | V4: Measured | W4: Limit | X4: Breach?
B5: Daily means | C5: Minimum | D5: =MIN(V5:V35) -> 0.4 | E5: Discontinuous monitoring only | G5: =MIN(V36:V63) -> 0.3 | H5: Discontinuous monitoring only | J5: =MIN(V64:V95) -> 0.4 | K5: Discontinuous monitoring only | N5: ='A50 Service Boilers'!N5 -> 44652 | O5: 0.8663 | P5: 0.1214 | R5: 0.0124 | S5: 0 | T5: 24 | U5: 0 | V5: 1 | W5: 13.6 | X5: =IF(V5>W5,"YES","NO") -> NO
C6: Maximum | D6: =MAX(V5:V35) -> 6.5 | G6: =MAX(V36:V63) -> 1.9 | J6: =MAX(V64:V95) -> 1.4 | N6: =N5+1 -> 44653 | O6: 0.8121 | P6: 0.1744 | R6: 0.0135 | S6: 0 | T6: 24 | U6: 0 | V6: 2.2 | W6: 14.9 | X6: =IF(V6>W6,"YES","NO") -> NO
C7: No. > Limit | D7: =COUNTIF(X5:X35,"YES") -> 0 | G7: =COUNTIF(X36:X63,"YES") -> 0 | J7: =COUNTIF(X64:X95,"YES") -> 0 | N7: =N6+1 -> 44654 | O7: 0.7776 | P7: 0.2108 | R7: 0.0116 | S7: 0 | T7: 24 | U7: 0 | V7: 1.1 | W7: 15.6 | X7: =IF(V7>W7,"YES","NO") -> NO
B8: Monthly mean | D8: 1.2 | G8: 0.6 | J8: 0.6 | N8: =N7+1 -> 44655 | O8: 0.7071 | P8: 0.1425 | R8: 0.1504 | S8: 0 | T8: 24 | U8: 0 | V8: 3.6 | W8: 13.5 | X8: =IF(V8>W8,"YES","NO") -> NO
B9: Monthly mean limit | D9: 12.5 | G9: 12.3 | J9: 12.5 | N9: =N8+1 -> 44656 | O9: 0.6783 | P9: 0.0937 | R9: 0.2281 | S9: 0 | T9: 24 | U9: 0 | V9: 1.5 | W9: 12.2 | X9: =IF(V9>W9,"YES","NO") -> NO
N10: =N9+1 -> 44657 | O10: 0.708 | P10: 0 | R10: 0.292 | S10: 0 | T10: 24 | U10: 0 | V10: 6.5 | W10: 9.4 | X10: =IF(V10>W10,"YES","NO") -> NO
N11: =N10+1 -> 44658 | O11: 0.8119 | P11: 0 | R11: 0.1881 | S11: 0 | T11: 24 | U11: 0 | V11: 1.8 | W11: 10 | X11: =IF(V11>W11,"YES","NO") -> NO
N12: =N11+1 -> 44659 | O12: 0.8385 | P12: 0.1419 | R12: 0.0196 | S12: 0 | T12: 24 | U12: 0 | V12: 1.7 | W12: 14.1 | X12: =IF(V12>W12,"YES","NO") -> NO
N13: =N12+1 -> 44660 | O13: 0.8326 | P13: 0.1549 | R13: 0.0125 | S13: 0 | T13: 24 | U13: 0 | V13: 1.5 | W13: 14.4 | X13: =IF(V13>W13,"YES","NO") -> NO
N14: =N13+1 -> 44661 | O14: 0.8575 | P14: 0.1309 | R14: 0.0115 | S14: 0 | T14: 24 | U14: 0 | V14: 1 | W14: 13.8 | X14: =IF(V14>W14,"YES","NO") -> NO
N15: =N14+1 -> 44662 | O15: 0.8639 | P15: 0.125 | R15: 0.0112 | S15: 0 | T15: 24 | U15: 0 | V15: 0.8 | W15: 13.7 | X15: =IF(V15>W15,"YES","NO") -> NO
N16: =N15+1 -> 44663 | O16: 0.8674 | P16: 0.1208 | R16: 0.0117 | S16: 0 | T16: 24 | U16: 0 | V16: 0.6 | W16: 13.6 | X16: =IF(V16>W16,"YES","NO") -> NO
N17: =N16+1 -> 44664 | O17: 0.7959 | P17: 0.0865 | R17: 0.1177 | S17: 0 | T17: 24 | U17: 0 | V17: 3 | W17: 12.4 | X17: =IF(V17>W17,"YES","NO") -> NO
N18: =N17+1 -> 44665 | O18: 0.7679 | P18: 0.1694 | R18: 0.0627 | S18: 0 | T18: 24 | U18: 0 | V18: 0.6 | W18: 14.3 | X18: =IF(V18>W18,"YES","NO") -> NO
N19: =N18+1 -> 44666 | O19: 0.7624 | P19: 0.1769 | R19: 0.0608 | S19: 0 | T19: 24 | U19: 0 | V19: 0.5 | W19: 14.6 | X19: =IF(V19>W19,"YES","NO") -> NO
N20: =N19+1 -> 44667 | O20: 0.771 | P20: 0.1662 | R20: 0.0627 | S20: 0 | T20: 24 | U20: 0 | V20: 0.5 | W20: 14.3 | X20: =IF(V20>W20,"YES","NO") -> NO
N21: =N20+1 -> 44668 | O21: 0.7471 | P21: 0.1895 | R21: 0.0634 | S21: 0 | T21: 24 | U21: 0 | V21: 0.5 | W21: 14.8 | X21: =IF(V21>W21,"YES","NO") -> NO
... N94: =N93+1 -> 44741 | O94: 0.7969 | P94: 0.1894 | R94: 0.0137 | S94: 0 | T94: 23 | U94: 0 | V94: 0.5 | W94: 15.2 | X94: =IF(V94>W94,"YES","NO") -> NO
N95: =N94+1 -> 44742 | O95: 0.7821 | P95: 0.2059 | R95: 0.0119 | S95: 0 | T95: =[1]DAILY!$D191 -> 24 | U95: 0 | V95: 0.5 | W95: 15.5 | X95: =IF(V95>W95,"YES","NO") -> NO
N96: =[1]DAILY!$B192 -> 0 | O96: =[2]DAILY!$Q192 -> 0.84282592 | P96: =[2]DAILY!$R192 -> 0.11726013 | Q96: =[2]DAILY!$T192 -> 0 | R96: =[2]DAILY!$S192 -> 0.039913947 | S96: =[2]DAILY!$U192 -> 0 | T96: =[2]DAILY!$D192 -> 24 | U96: =[2]DAILY!$E192 -> 0 | V96: =[2]DAILY!$F192 -> 1.0459382 | W96: =[2]DAILY!$G192 -> 14.123951 | X96: =IF(V96>W96,"YES","NO") -> NO
N97: =[1]DAILY!$B193 -> 0 | O97: =[2]DAILY!$Q193 -> 0.84556597 | P97: =[2]DAILY!$R193 -> 0.11421277 | Q97: =[2]DAILY!$T193 -> 0 | R97: =[2]DAILY!$S193 -> 0.040221267 | S97: =[2]DAILY!$U193 -> 0 | T97: =[2]DAILY!$D193 -> 24 | U97: =[2]DAILY!$E193 -> 0 | V97: =[2]DAILY!$F193 -> 1.0762674 | W97: =[2]DAILY!$G193 -> 13.972706 | X97: =IF(V97>W97,"YES","NO") -> NO

Sheet A53 Mitchell Boiler
D2: Concentrations in mg/m³ at reference conditions after subtracting uncertainty | O2: Daily means, excluding hours outside normal operating conditions
D3: 44652 | G3: 44682 | J3: 44713 | N3: Date | O3: Fuel mix | T3: Particulate Matter concentration (mg/m³) after subtracting uncertainty
D4: PM | E4: SO2 | F4: NOx | G4: PM | H4: SO2 | I4: NOx | J4: PM | K4: SO2 | L4: NOx | O4: % BFG | P4: % COG | Q4: % BOSg | R4: % NG | S4: % HFO | T4: No.valid hours | U4: No.hours OTNOC | V4: Measured | W4: Limit | X4: Breach?
B5: Daily means | C5: Minimum | D5: =MIN(V5:V35) -> 0 | E5: Discontinuous monitoring only | G5: =MIN(V36:V63) -> 0 | H5: Discontinuous monitoring only | J5: =MIN(V64:V95) -> 1.8 | K5: Discontinuous monitoring only | N5: ='A51 Boiler 5'!N5 -> 44652 | O5: 0.9778 | P5: 0.0163 | R5: 0.0059 | S5: 0 | T5: 24 | U5: =[3]DAILY!$E$198 -> 0 | V5: 2.2 | W5: 10.3 | X5: =[4]DAILY!$H$198 -> NO
C6: Maximum | D6: =MAX(V5:V35) -> 2.4 | G6: =MAX(V36:V63) -> 3 | J6: =MAX(V64:V95) -> 1.8 | N6: =N5+1 -> 44653 | O6: 0.9731 | P6: 0.022 | R6: 0.0048 | S6: 0 | T6: 24 | U6: 0 | V6: 2.4 | W6: 10.4 | X6: =IF(V6>W6,"YES","NO") -> NO
C7: No. > Limit | D7: =COUNTIF(X5:X35,"YES") -> 0 | G7: =COUNTIF(X36:X63,"YES") -> 0 | J7: =COUNTIF(X64:X95,"YES") -> 0 | N7: =N6+1 -> 44654 | O7: 0.9745 | P7: 0.0211 | R7: 0.0044 | S7: 0 | T7: 24 | U7: 0 | V7: 2.4 | W7: 10.4 | X7: =IF(V7>W7,"YES","NO") -> NO
B8: Monthly mean | D8: 2.1 | G8: 2.2 | J8: 3 | N8: =N7+1 -> 44655 | O8: 0.9624 | P8: 0.0216 | R8: 0.016 | S8: 0.0001 | T8: 24 | U8: 0 | V8: 2.1 | W8: 10.4 | X8: =IF(V8>W8,"YES","NO") -> NO
B9: Monthly mean limit | D9: 10.4 | G9: 9.1 | J9: 11.3 | N9: =N8+1 -> 44656 | O9: 0.9705 | P9: 0.01 | R9: 0.0194 | S9: 0 | T9: 24 | U9: 0 | V9: 2.2 | W9: 10.1 | X9: =IF(V9>W9,"YES","NO") -> NO
N10: =N9+1 -> 44657 | O10: 0.9502 | P10: 0.0052 | R10: 0.0446 | S10: 0 | T10: 24 | U10: 0 | V10: 2.4 | W10: 9.9 | X10: =IF(V10>W10,"YES","NO") -> NO
N11: =N10+1 -> 44658 | O11: 0.9448 | P11: 0.0108 | R11: 0.0443 | S11: 0.0001 | T11: 24 | U11: 0 | V11: 2.3 | W11: 10 | X11: =IF(V11>W11,"YES","NO") -> NO
N12: =N11+1 -> 44659 | O12: 0.9409 | P12: 0.0479 | R12: 0.0111 | S12: 0.0001 | T12: 24 | U12: 0 | V12: 0 | W12: 11 | X12: =IF(V12>W12,"YES","NO") -> NO
N13: =N12+1 -> 44660 | O13: 0.9746 | P13: 0.0203 | R13: 0.0051 | S13: 0 | T13: 24 | U13: 0 | V13: 2.3 | W13: 10.4 | X13: =IF(V13>W13,"YES","NO") -> NO
N14: =N13+1 -> 44661 | O14: 0.9822 | P14: 0.013 | R14: 0.0047 | S14: 0 | T14: 24 | U14: 0 | V14: 2.1 | W14: 10.2 | X14: =IF(V14>W14,"YES","NO") -> NO
N15: =N14+1 -> 44662 | O15: 0.9743 | P15: 0.0206 | R15: 0.005 | S15: 0.0001 | T15: 24 | U15: 0 | V15: 2.1 | W15: 10.4 | X15: =IF(V15>W15,"YES","NO") -> NO
N16: =N15+1 -> 44663 | O16: 0.9699 | P16: 0.0256 | R16: 0.0045 | S16: 0.0001 | T16: 24 | U16: 0 | V16: 1.8 | W16: 10.5 | X16: =IF(V16>W16,"YES","NO") -> NO
N17: =N16+1 -> 44664 | O17: 0.9313 | P17: 0.0351 | R17: 0.0336 | S17: 0.0001 | T17: 24 | U17: 0 | V17: 2.3 | W17: 10.6 | X17: =IF(V17>W17,"YES","NO") -> NO
N18: =N17+1 -> 44665 | O18: 0.9592 | P18: 0.0336 | R18: 0.0071 | S18: 0 | T18: 24 | U18: 0 | V18: 2.3 | W18: 10.7 | X18: =IF(V18>W18,"YES","NO") -> NO
N19: =N18+1 -> 44666 | O19: 0.9648 | P19: 0.0294 | R19: 0.0057 | S19: 0.0001 | T19: 24 | U19: 0 | V19: 2 | W19: 10.6 | X19: =IF(V19>W19,"YES","NO") -> NO
N20: =N19+1 -> 44667 | O20: 0.9644 | P20: 0.0281 | R20: 0.0074 | S20: 0.0001 | T20: 24 | U20: 0 | V20: 1.6 | W20: 10.6 | X20: =IF(V20>W20,"YES","NO") -> NO
N21: =N20+1 -> 44668 | O21: 0.9737 | P21: 0.0214 | R21: 0.0048 | S21: 0.0001 | T21: 24 | U21: 0 | V21: 1.8 | W21: 10.4 | X21: =IF(V21>W21,"YES","NO") -> NO
... N61: =N60+1 -> 44708 | O61: 0.9744 | P61: 0.0187 | R61: 0.0068 | S61: 0.0001 | T61: 24 | U61: 0 | V61: 2.1 | W61: 4.9 | X61: =IF(V61>W61,"YES","NO") -> NO
N62: =N61+1 -> 44709 | O62: OFF
N63: =N62+1 -> 44710 | O63: OFF
N64: =N63+1 -> 44711 | O64: OFF
N65: =N64+1 -> 44712 | O65: OFF
N66: =N65+1 -> 44713 | O66: OFF
N67: =N66+1 -> 44714 | O67: OFF
N68: =N67+1 -> 44715 | O68: OFF
N69: =N68+1 -> 44716 | O69: OFF
N70: =N69+1 -> 44717 | O70: OFF
N71: =N70+1 -> 44718 | O71: OFF
N72: =N71+1 -> 44719 | O72: OFF
N73: =N72+1 -> 44720 | O73: OFF
... N94: =N93+1 -> 44741 | O94: OFF
N95: =N94+1 -> 44742 | O95: 0.9219 | P95: 0.0439 | R95: 0.0179 | S95: 0.0163 | T95: 24 | U95: 0 | V95: 1.8 | W95: 10.4 | X95: =IF(V95>W95,"YES","NO") -> NO
N96: =[1]DAILY!$B288 -> 0 | O96: 0.93725028 | P96: 0.051906556 | R96: 0.010776493 | S96: 6.6669184e-05 | T96: 24 | U96: 0 | V96: 1.94803 | W96: 10.987149 | X96: =IF(V96>W96,"YES","NO") -> NO
N97: =[1]DAILY!$B289 -> 0 | O97: 0.92762723 | P97: 0.057890484 | R97: 0.014437174 | S97: 4.5114405e-05 | T97: 24 | U97: 0 | V97: 2.1551568 | W97: 11.114538 | X97: =IF(V97>W97,"YES","NO") -> NO

Sheet A62 Boiler 3
D2: Concentrations in mg/m³ at reference conditions after subtracting uncertainty | O2: Daily means, excluding hours outside normal operating conditions
D3: 44652 | G3: 44682 | J3: 44713 | N3: Date | O3: Fuel mix | T3: Particulate Matter concentration (mg/m³) after subtracting uncertainty | Y3: Sulphur dioxide concentration (mg/m³) after subtracting uncertainty | AD3: Oxides of nitrogen concentration (mg/m³) after subtracting uncertainty
D4: PM | E4: SO2 | F4: NOx | G4: PM | H4: SO2 | I4: NOx | J4: PM | K4: SO2 | L4: NOx | O4: % BFG | P4: % COG | Q4: % BOSg | R4: % NG | S4: % HFO | T4: No.valid hours | U4: No.hours OTNOC | V4: Measured | W4: Limit | X4: Breach? | Y4: No.valid hours | Z4: No.hours OTNOC | AA4: Measured | AB4: Limit | AC4: Breach? | AD4: No.valid hours | AE4: No.hours OTNOC | AF4: Measured | AG4: Limit | AH4: Breach?
B5: Daily means | C5: Minimum | D5: =MIN(V5:V35) -> 0.8 | E5: =MIN(AA5:AA35) -> 27.4 | F5: Monitor out of calibration (Part A - S5N_21_76A) | G5: =MIN(V36:V63) -> 0.4 | H5: =MIN(AA36:AA63) -> 34.6 | I5: Monitor out of calibration (Part A - S5N_21_76A) | J5: =MIN(V64:V95) -> 0.1 | K5: =MIN(AA64:AA95) -> 36.6 | L5: Monitor out of calibration (Part A - S5N_21_76A) | N5: ='A53 Mitchell Boiler'!N5 -> 44652 | O5: 0.9606 | P5: 0.0076 | R5: 0.0318 | T5: 24 | U5: 1 | V5: 1.6 | W5: 11 | X5: =IF(V5>W5,"YES","NO") -> NO | Y5: 24 | Z5: =U5 -> 1 | AA5: 47.3 | AB5: 215.9 | AC5: =IF(AA5>AB5,"YES","NO") -> NO | AD5: 24 | AE5: =Z5 -> 1 | AG5: 216.5 | AH5: =IF(AF5>AG5,"YES","NO") -> NO
C6: Maximum | D6: =MAX(V5:V35) -> 3.4 | E6: =MAX(AA5:AA35) -> 59 | G6: =MAX(V36:V63) -> 2.5 | H6: =MAX(AA36:AA63) -> 103.2 | J6: =MAX(V64:V95) -> 3.5 | K6: =MAX(AA64:AA95) -> 67.7 | N6: =N5+1 -> 44653 | O6: 0.9898 | P6: 0.0099 | R6: 0.0004 | T6: 24 | U6: 0 | V6: 2 | W6: 11.2 | X6: =IF(V6>W6,"YES","NO") -> NO | Y6: 24 | Z6: =U6 -> 0 | AA6: 39.1 | AB6: 222.1 | AC6: =IF(AA6>AB6,"YES","NO") -> NO | AD6: 24 | AE6: =Z6 -> 0 | AG6: 220 | AH6: =IF(AF6>AG6,"YES","NO") -> NO
C7: No. > Limit | D7: =COUNTIF(X5:X35,"YES") -> 0 | E7: =COUNTIF(AC5:AC35,"YES") -> 0 | G7: =COUNTIF(X36:X63,"YES") -> 0 | H7: =COUNTIF(AC36:AC63,"YES") -> 0 | J7: =COUNTIF(X64:X95,"YES") -> 0 | K7: =COUNTIF(AC64:AC95,"YES") -> 0 | N7: =N6+1 -> 44654 | O7: 0.9992 | P7: 0.0003 | R7: 0.0006 | T7: 24 | U7: 0 | V7: 1.3 | W7: 11 | X7: =IF(V7>W7,"YES","NO") -> NO | Y7: 24 | Z7: =U7 -> 0 | AA7: 45.5 | AB7: 220 | AC7: =IF(AA7>AB7,"YES","NO") -> NO | AD7: 24 | AE7: =Z7 -> 0 | AG7: 219.9 | AH7: =IF(AF7>AG7,"YES","NO") -> NO
B8: Monthly mean | D8: 1.5 | E8: 59 | G8: 1.1 | H8: 50.3 | J8: 0.7 | K8: 55.9 | N8: =N7+1 -> 44655 | O8: 0.9981 | P8: 0.0016 | R8: 0.0004 | T8: 24 | U8: 0 | V8: 1.1 | W8: 11 | X8: =IF(V8>W8,"YES","NO") -> NO | Y8: 24 | Z8: =U8 -> 0 | AA8: 45.9 | AB8: 220.3 | AC8: =IF(AA8>AB8,"YES","NO") -> NO | AD8: 24 | AE8: =Z8 -> 0 | AG8: 220 | AH8: =IF(AF8>AG8,"YES","NO") -> NO
B9: Monthly mean limit | D9: 9.5 | E9: 184.9 | F9: 189.4 | G9: 9 | H9: 175.4 | I9: 180.6 | J9: 8.5 | K9: 163 | L9: 171 | N9: =N8+1 -> 44656 | O9: 0.9977 | P9: 0.0021 | R9: 0.0002 | T9: 24 | U9: 0 | V9: 1.1 | W9: 11 | X9: =IF(V9>W9,"YES","NO") -> NO | Y9: 24 | Z9: =U9 -> 0 | AA9: 43.9 | AB9: 220.4 | AC9: =IF(AA9>AB9,"YES","NO") -> NO | AD9: 24 | AE9: =Z9 -> 0 | AG9: 220 | AH9: =IF(AF9>AG9,"YES","NO") -> NO
N10: =N9+1 -> 44657 | O10: 0.9973 | P10: 0.0026 | R10: 0.0001 | T10: 24 | U10: 0 | V10: 1.1 | W10: 11.1 | X10: =IF(V10>W10,"YES","NO") -> NO | Y10: 24 | Z10: =U10 -> 0 | AA10: 44.5 | AB10: 220.5 | AC10: =IF(AA10>AB10,"YES","NO") -> NO | AD10: 24 | AE10: =Z10 -> 0 | AG10: 220 | AH10: =IF(AF10>AG10,"YES","NO") -> NO
N11: =N10+1 -> 44658 | O11: 0.9946 | P11: 0.0051 | R11: 0.0003 | T11: 24 | U11: 0 | V11: 1.2 | W11: 11.1 | X11: =IF(V11>W11,"YES","NO") -> NO | Y11: 24 | Z11: =U11 -> 0 | AA11: 44.8 | AB11: 221.1 | AC11: =IF(AA11>AB11,"YES","NO") -> NO | AD11: 24 | AE11: =Z11 -> 0 | AG11: 220 | AH11: =IF(AF11>AG11,"YES","NO") -> NO
N12: =N11+1 -> 44659 | O12: 0.2719 | P12: 0.0485 | R12: 0.6796 | T12: 24 | U12: 18 | V12: 1.8 | W12: 8.3 | X12: =IF(V12>W12,"YES","NO") -> NO | Y12: 24 | Z12: =U12 -> 18 | AA12: 40.8 | AB12: 107.3 | AC12: =IF(AA12>AB12,"YES","NO") -> NO | AD12: 24 | AE12: =Z12 -> 18 | AG12: 145.2 | AH12: =IF(AF12>AG12,"YES","NO") -> NO
N13: =N12+1 -> 44660 | O13: 0.8373 | P13: 0.0369 | R13: 0.1257 | T13: 24 | U13: 3 | V13: 3.3 | W13: 11.1 | X13: =IF(V13>W13,"YES","NO") -> NO | Y13: 24 | Z13: =U13 -> 3 | AA13: 51.6 | AB13: 205.3 | AC13: =IF(AA13>AB13,"YES","NO") -> NO | AD13: 24 | AE13: =Z13 -> 3 | AG13: 206.2 | AH13: =IF(AF13>AG13,"YES","NO") -> NO
N14: =N13+1 -> 44661 | O14: 0.9984 | P14: 0.0011 | R14: 0.0005 | T14: 24 | U14: 0 | V14: 1.6 | W14: 11 | X14: =IF(V14>W14,"YES","NO") -> NO | Y14: 24 | Z14: =U14 -> 0 | AA14: 36.5 | AB14: 220.1 | AC14: =IF(AA14>AB14,"YES","NO") -> NO | AD14: 24 | AE14: =Z14 -> 0 | AG14: 219.9 | AH14: =IF(AF14>AG14,"YES","NO") -> NO
N15: =N14+1 -> 44662 | O15: 0.9971 | P15: 0.0028 | R15: 0.0001 | T15: 24 | U15: 0 | V15: 1.2 | W15: 11.1 | X15: =IF(V15>W15,"YES","NO") -> NO | Y15: 24 | Z15: =U15 -> 0 | AA15: 38.5 | AB15: 220.6 | AC15: =IF(AA15>AB15,"YES","NO") -> NO | AD15: 24 | AE15: =Z15 -> 0 | AG15: 220 | AH15: =IF(AF15>AG15,"YES","NO") -> NO
N16: =N15+1 -> 44663 | O16: 0.9964 | P16: 0.0036 | R16: 0 | T16: 24 | U16: 0 | V16: 0.8 | W16: 11.1 | X16: =IF(V16>W16,"YES","NO") -> NO | Y16: 24 | Z16: =U16 -> 0 | AA16: 53.7 | AB16: 220.8 | AC16: =IF(AA16>AB16,"YES","NO") -> NO | AD16: 24 | AE16: =Z16 -> 0 | AG16: 220 | AH16: =IF(AF16>AG16,"YES","NO") -> NO
N17: =N16+1 -> 44664 | O17: 0.7929 | P17: 0.0076 | R17: 0.1995 | T17: 24 | U17: 2 | V17: 2.5 | W17: 10.1 | X17: =IF(V17>W17,"YES","NO") -> NO | Y17: 24 | Z17: =U17 -> 2 | AA17: 27.4 | AB17: 185.5 | AC17: =IF(AA17>AB17,"YES","NO") -> NO | AD17: 24 | AE17: =Z17 -> 2 | AG17: 198.1 | AH17: =IF(AF17>AG17,"YES","NO") -> NO
N18: =N17+1 -> 44665 | O18: 0.6598 | P18: 0.1791 | R18: 0.1611 | T18: 24 | U18: 7 | V18: 2.5 | W18: 14.1 | X18: =IF(V18>W18,"YES","NO") -> NO | Y18: 24 | Z18: =U18 -> 7 | AA18: 43.9 | AB18: 230.2 | AC18: =IF(AA18>AB18,"YES","NO") -> NO | AD18: 24 | AE18: =Z18 -> 7 | AG18: 202.3 | AH18: =IF(AF18>AG18,"YES","NO") -> NO
N19: =N18+1 -> 44666 | O19: 0.7748 | P19: 0.1112 | R19: 0.1141 | T19: 24 | U19: 4 | V19: 2.8 | W19: 12.8 | X19: =IF(V19>W19,"YES","NO") -> NO | Y19: 24 | Z19: =U19 -> 4 | AA19: 46.8 | AB19: 223.7 | AC19: =IF(AA19>AB19,"YES","NO") -> NO | AD19: 24 | AE19: =Z19 -> 4 | AG19: 207.5 | AH19: =IF(AF19>AG19,"YES","NO") -> NO
N20: =N19+1 -> 44667 | O20: 0.6111 | P20: 0.0402 | R20: 0.3486 | T20: 24 | U20: 9 | V20: 3.4 | W20: 10 | X20: =IF(V20>W20,"YES","NO") -> NO | Y20: 24 | Z20: =U20 -> 9 | AA20: 45.3 | AB20: 165.6 | AC20: =IF(AA20>AB20,"YES","NO") -> NO | AD20: 24 | AE20: =Z20 -> 9 | AG20: 181.6 | AH20: =IF(AF20>AG20,"YES","NO") -> NO
N21: =N20+1 -> 44668 | O21: 0.999 | P21: 0.0008 | R21: 0.0001 | T21: 24 | U21: 0 | V21: 1 | W21: 11 | X21: =IF(V21>W21,"YES","NO") -> NO | Y21: 24 | Z21: =U21 -> 0 | AA21: 45.7 | AB21: 220.2 | AC21: =IF(AA21>AB21,"YES","NO") -> NO | AD21: 24 | AE21: =Z21 -> 0 | AG21: 220 | AH21: =IF(AF21>AG21,"YES","NO") -> NO
... N34: =N33+1 -> 44681 | O34: 0.9955 | P34: 0.0044 | R34: 0.0001 | T34: 24 | U34: 0 | V34: 0.9 | W34: 11.1 | X34: =IF(V34>W34,"YES","NO") -> NO | Y34: 24 | Z34: =U34 -> 0 | AA34: 59 | AB34: 220.9 | AC34: =IF(AA34>AB34,"YES","NO") -> NO | AD34: 24 | AE34: =Z34 -> 0 | AG34: 220 | AH34: =IF(AF34>AG34,"YES","NO") -> NO
N35: =N34+1 -> 44682 | O35: 0.9935 | P35: 0.0064 | R35: 0.0001 | T35: 24 | U35: 0 | V35: 1 | W35: 11.1 | X35: =IF(V35>W35,"YES","NO") -> NO | Y35: =[1]DAILY!$I36 -> 24 | Z35: =U35 -> 0 | AA35: 43.5 | AB35: 221.4 | AC35: =IF(AA35>AB35,"YES","NO") -> NO | AD35: =[1]DAILY!$M36 -> 24 | AE35: =Z35 -> 0 | AG35: 220 | AH35: =IF(AF35>AG35,"YES","NO") -> NO
N36: =N35+1 -> 44683 | O36: 0.5871 | P36: 0.0163 | R36: 0.3965 | T36: 24 | U36: 10 | V36: 1.6 | W36: 9.2 | X36: =IF(V36>W36,"YES","NO") -> NO | Y36: 24 | Z36: =U36 -> 10 | AA36: 54 | AB36: 151.6 | AC36: =IF(AA36>AB36,"YES","NO") -> NO | AD36: 24 | AE36: =Z36 -> 10 | AG36: 176.4 | AH36: =IF(AF36>AG36,"YES","NO") -> NO
N37: =N36+1 -> 44684 | O37: 0.3465 | P37: 0.2621 | R37: 0.3914 | T37: 24 | U37: 16 | V37: 2.3 | W37: 14.6 | X37: =IF(V37>W37,"YES","NO") -> NO | Y37: 24 | Z37: =U37 -> 16 | AA37: 61.1 | AB37: 206.6 | AC37: =IF(AA37>AB37,"YES","NO") -> NO | AD37: 24 | AE37: =Z37 -> 16 | AG37: 176.9 | AH37: =IF(AF37>AG37,"YES","NO") -> NO
N38: =N37+1 -> 44685 | O38: 0.4089 | P38: 0.2576 | R38: 0.3335 | T38: 24 | U38: 13 | V38: 1.4 | W38: 14.8 | X38: =IF(V38>W38,"YES","NO") -> NO | Y38: 24 | Z38: =U38 -> 13 | AA38: 85.2 | AB38: 216.1 | AC38: =IF(AA38>AB38,"YES","NO") -> NO | AD38: 24 | AE38: =Z38 -> 13 | AG38: 183.3 | AH38: =IF(AF38>AG38,"YES","NO") -> NO
N39: =N38+1 -> 44686 | O39: 0.3961 | P39: 0.3303 | R39: 0.2736 | T39: 24 | U39: 12 | V39: 2.2 | W39: 16.8 | X39: =IF(V39>W39,"YES","NO") -> NO | Y39: 24 | Z39: =U39 -> 12 | AA39: 103.2 | AB39: 243 | AC39: =IF(AA39>AB39,"YES","NO") -> NO | AD39: 24 | AE39: =Z39 -> 12 | AG39: 189.9 | AH39: =IF(AF39>AG39,"YES","NO") -> NO
N40: =N39+1 -> 44687 | O40: 0.5447 | P40: 0.1586 | R40: 0.2967 | T40: 24 | U40: 12 | V40: 2.3 | W40: 12.9 | X40: =IF(V40>W40,"YES","NO") -> NO | Y40: 24 | Z40: =U40 -> 12 | AA40: 47.9 | AB40: 201 | AC40: =IF(AA40>AB40,"YES","NO") -> NO | AD40: 24 | AE40: =Z40 -> 12 | AG40: 187.4 | AH40: =IF(AF40>AG40,"YES","NO") -> NO
N41: =N40+1 -> 44688 | O41: 0.9995 | P41: 0.0004 | R41: 0.0001 | T41: 24 | U41: 0 | V41: 0.9 | W41: 11 | X41: =IF(V41>W41,"YES","NO") -> NO | Y41: 24 | Z41: =U41 -> 0 | AA41: 50 | AB41: 220.1 | AC41: =IF(AA41>AB41,"YES","NO") -> NO | AD41: 24 | AE41: =Z41 -> 0 | AG41: 220 | AH41: =IF(AF41>AG41,"YES","NO") -> NO
N42: =N41+1 -> 44689 | O42: 0.9992 | P42: 0.0007 | R42: 0.0001 | T42: 24 | U42: 0 | V42: 0.8 | W42: 11 | X42: =IF(V42>W42,"YES","NO") -> NO | Y42: 24 | Z42: =U42 -> 0 | AA42: 42.6 | AB42: 220.1 | AC42: =IF(AA42>AB42,"YES","NO") -> NO | AD42: 24 | AE42: =Z42 -> 0 | AG42: 220 | AH42: =IF(AF42>AG42,"YES","NO") -> NO
N43: =N42+1 -> 44690 | O43: 0.9108 | P43: 0.0021 | R43: 0.0872 | T43: 24 | U43: 3 | V43: 1 | W43: 10.6 | X43: =IF(V43>W43,"YES","NO") -> NO | Y43: 24 | Z43: =U43 -> 3 | AA43: 39.3 | AB43: 204.6 | AC43: =IF(AA43>AB43,"YES","NO") -> NO | AD43: 24 | AE43: =Z43 -> 3 | AG43: 210.4 | AH43: =IF(AF43>AG43,"YES","NO") -> NO
N44: =N43+1 -> 44691 | O44: 0.8158 | P44: 0.0992 | R44: 0.085 | T44: 24 | U44: 4 | V44: 1.5 | W44: 12.7 | X44: =IF(V44>W44,"YES","NO") -> NO | Y44: 24 | Z44: =U44 -> 4 | AA44: 35.8 | AB44: 226.4 | AC44: =IF(AA44>AB44,"YES","NO") -> NO | AD44: 24 | AE44: =Z44 -> 4 | AG44: 210.7 | AH44: =IF(AF44>AG44,"YES","NO") -> NO
N45: =N44+1 -> 44692 | O45: 0.5178 | P45: 0.2457 | R45: 0.2365 | T45: 24 | U45: 12 | V45: 2.1 | W45: 15.1 | X45: =IF(V45>W45,"YES","NO") -> NO | Y45: 24 | Z45: =U45 -> 12 | AA45: 63.9 | AB45: 231.1 | AC45: =IF(AA45>AB45,"YES","NO") -> NO | AD45: 24 | AE45: =Z45 -> 12 | AG45: 194 | AH45: =IF(AF45>AG45,"YES","NO") -> NO
N46: =N45+1 -> 44693 | O46: 0.9995 | P46: 0.0004 | R46: 0.0001 | T46: 24 | U46: 0 | V46: 1.7 | W46: 11 | X46: =IF(V46>W46,"YES","NO") -> NO | Y46: 24 | Z46: =U46 -> 0 | AA46: 40.1 | AB46: 220.1 | AC46: =IF(AA46>AB46,"YES","NO") -> NO | AD46: 24 | AE46: =Z46 -> 0 | AG46: 220 | AH46: =IF(AF46>AG46,"YES","NO") -> NO
N47: =N46+1 -> 44694 | O47: 0.9991 | P47: 0.0009 | R47: 0 | T47: 24 | U47: 0 | V47: 1 | W47: 11 | X47: =IF(V47>W47,"YES","NO") -> NO | Y47: 24 | Z47: =U47 -> 0 | AA47: 48.3 | AB47: 220.2 | AC47: =IF(AA47>AB47,"YES","NO") -> NO | AD47: 24 | AE47: =Z47 -> 0 | AG47: 220 | AH47: =IF(AF47>AG47,"YES","NO") -> NO
... N93: =N92+1 -> 44740 | O93: 0.1519 | P93: 0.3823 | R93: 0.4658 | T93: 24 | U93: 21 | V93: 3.5 | W93: 16.8 | X93: =IF(V93>W93,"YES","NO") -> NO | Y93: 24 | Z93: =U93 -> 21 | AA93: 49.6 | AB93: 219.6 | AC93: =IF(AA93>AB93,"YES","NO") -> NO | AD93: 24 | AE93: =Z93 -> 21 | AG93: 168.8 | AH93: =IF(AF93>AG93,"YES","NO") -> NO
N94: =N93+1 -> 44741 | O94: 0.014 | P94: 0.4766 | R94: 0.5094 | T94: 24 | U94: 24 | W94: 18.7 | X94: =IF(V94>W94,"YES","NO") -> NO | Y94: 24 | Z94: =U94 -> 24 | AB94: 232.4 | AC94: =IF(AA94>AB94,"YES","NO") -> NO | AD94: 24 | AE94: =Z94 -> 24 | AG94: 164 | AH94: =IF(AF94>AG94,"YES","NO") -> NO
N95: =N94+1 -> 44742 | O95: 0.0236 | P95: 0.4625 | R95: 0.5139 | T95: 24 | U95: 24 | W95: 18.3 | X95: =IF(V95>W95,"YES","NO") -> NO | Y95: 24 | Z95: =U95 -> 24 | AB95: 228.5 | AC95: =IF(AA95>AB95,"YES","NO") -> NO | AD95: 24 | AE95: =Z95 -> 24 | AG95: 163.5 | AH95: =IF(AF95>AG95,"YES","NO") -> NO
N96: =[1]DAILY!$B96 -> 0 | O96: =[2]DAILY!$Q96 -> 0.99794379 | P96: =[2]DAILY!$R96 -> 0.0020562144 | Q96: =[2]DAILY!$T96 -> 0 | R96: =[2]DAILY!$S96 -> 0 | T96: =[2]DAILY!$D96 -> 24 | U96: =[2]DAILY!$E96 -> 0 | V96: =[2]DAILY!$F96 -> 1.3433213 | W96: =[2]DAILY!$G96 -> 11.045237 | X96: =IF(V96>W96,"YES","NO") -> NO | Y96: =[2]DAILY!$I96 -> 24 | Z96: =[2]DAILY!$E96 -> 0 | AA96: 22.863596 | AB96: =[2]DAILY!$K96 -> 220.45237 | AC96: =IF(AA96>AB96,"YES","NO") -> NO | AD96: =[2]DAILY!$M96 -> 24 | AE96: =[2]DAILY!$E96 -> 0 | AG96: =[2]DAILY!$O96 -> 220 | AH96: =IF(AF96>AG96,"YES","NO") -> NO
N97: =[1]DAILY!$B97 -> 0 | O97: =[2]DAILY!$Q97 -> 0.99529098 | P97: =[2]DAILY!$R97 -> 0.0047090173 | Q97: =[2]DAILY!$T97 -> 0 | R97: =[2]DAILY!$S97 -> 0 | T97: =[2]DAILY!$D97 -> 24 | U97: =[2]DAILY!$E97 -> 0 | V97: =[2]DAILY!$F97 -> 2.2053978 | W97: =[2]DAILY!$G97 -> 11.103598 | X97: =IF(V97>W97,"YES","NO") -> NO | Y97: =[2]DAILY!$I97 -> 24 | Z97: =[2]DAILY!$E97 -> 0 | AA97: 25.322486 | AB97: =[2]DAILY!$K97 -> 221.03598 | AC97: =IF(AA97>AB97,"YES","NO") -> NO | AD97: =[2]DAILY!$M97 -> 24 | AE97: =[2]DAILY!$E97 -> 0 | AG97: =[2]DAILY!$O97 -> 220 | AH97: =IF(AF97>AG97,"YES","NO") -> NO

Sheet A52A Boiler 6
D2: Concentrations in mg/m³ at reference conditions after subtracting uncertainty | O2: Daily means, excluding hours outside normal operating conditions
D3: 44652 | G3: 44682 | J3: 44713 | N3: Date | O3: Fuel mix | T3: Particulate Matter concentration (mg/m³) after subtracting uncertainty | Y3: Sulphur dioxide concentration (mg/m³) after subtracting uncertainty | AD3: Oxides of nitrogen concentration (mg/m³) after subtracting uncertainty
D4: PM | E4: SO2 | F4: NOx | G4: PM | H4: SO2 | I4: NOx | J4: PM | K4: SO2 | L4: NOx | O4: % BFG | P4: % COG | Q4: % BOSg | R4: % NG | S4: % HFO | T4: No.valid hours | U4: No.hours OTNOC | V4: Measured | W4: Limit | X4: Breach? | Y4: No.valid hours | Z4: No.hours OTNOC | AA4: Measured | AB4: Limit | AC4: Breach? | AD4: No.valid hours | AE4: No.hours OTNOC | AF4: Measured | AG4: Limit | AH4: Breach?
B5: Daily means | C5: Minimum | D5: =MIN(V5:V35) -> 1.2 | E5: =MIN(AA5:AA35) -> 38.6 | F5: =MIN(AF5:AF35) -> 33.4 | G5: =MIN(V36:V63) -> 1.1 | H5: =MIN(AA36:AA63) -> 32.2 | I5: =MIN(AF36:AF63) -> 33.5 | J5: =MIN(V64:V95) -> 0.9 | K5: =MIN(AA64:AA95) -> 61.9 | L5: =MIN(AF64:AF95) -> 36.6 | N5: ='A62 Boiler 3'!N5 -> 44652 | O5: 0.7605 | P5: 0.0969 | Q5: 0.0386 | R5: 0.104 | S5: 0 | T5: 24 | U5: 0 | V5: 1.5 | W5: 15.2 | X5: =IF(V5>W5,"YES","NO") -> NO | Y5: 24 | Z5: =U5 -> 0 | AA5: 59.7 | AB5: 234.3 | AC5: =IF(AA5>AB5,"YES","NO") -> NO | AD5: 24 | AE5: =Z5 -> 0 | AF5: 37.9 | AG5: 321.4 | AH5: =IF(AF5>AG5,"YES","NO") -> NO
C6: Maximum | D6: =MAX(V5:V35) -> 1.6 | E6: =MAX(AA5:AA35) -> 85.2 | F6: =MAX(AF5:AF35) -> 63.4 | G6: =MAX(V36:V63) -> 1.5 | H6: =MAX(AA36:AA63) -> 92.3 | I6: =MAX(AF36:AF63) -> 91.8 | J6: =MAX(V64:V95) -> 1.7 | K6: =MAX(AA64:AA95) -> 90.5 | L6: =MAX(AF64:AF95) -> 95.2 | N6: =N5+1 -> 44653 | O6: 0.8252 | P6: 0.112 | Q6: 0.0407 | R6: 0.0221 | S6: 0 | T6: 24 | U6: 0 | V6: 1.6 | W6: 13.7 | X6: =IF(V6>W6,"YES","NO") -> NO | Y6: 24 | Z6: =U6 -> 0 | AA6: 57.5 | AB6: 237 | AC6: =IF(AA6>AB6,"YES","NO") -> NO | AD6: 24 | AE6: =Z6 -> 0 | AF6: 37.3 | AG6: 321 | AH6: =IF(AF6>AG6,"YES","NO") -> NO
C7: No. > Limit | D7: =COUNTIF(X5:X35,"YES") -> 0 | E7: =COUNTIF(AC5:AH35,"YES") -> 0 | F7: =COUNTIF(AF5:AF35,"YES") -> 0 | G7: =COUNTIF(X36:X63,"YES") -> 0 | H7: =COUNTIF(AC36:AC63,"YES") -> 0 | I7: =COUNTIF(AH36:AH63,"YES") -> 0 | J7: =COUNTIF(X64:X95,"YES") -> 0 | K7: =COUNTIF(AC64:AC95,"YES") -> 0 | L7: =COUNTIF(AH64:AH95,"YES") -> 0 | N7: =N6+1 -> 44654 | O7: 0.7569 | P7: 0.0851 | Q7: 0.0458 | R7: 0.1122 | S7: 0 | T7: 24 | U7: 0 | V7: 1.5 | W7: 15.1 | X7: =IF(V7>W7,"YES","NO") -> NO | Y7: 24 | Z7: =U7 -> 0 | AA7: 63.3 | AB7: 230.5 | AC7: =IF(AA7>AB7,"YES","NO") -> NO | AD7: 24 | AE7: =Z7 -> 0 | AF7: 39 | AG7: 319.9 | AH7: =IF(AF7>AG7,"YES","NO") -> NO
B8: Monthly mean | D8: 1.5 | E8: 63.6 | F8: 39.6 | G8: 1.3 | H8: 62.4 | I8: 46.8 | J8: 1.3 | K8: 75.5 | L8: 59.7 | N8: =N7+1 -> 44655 | O8: 0.7467 | P8: 0.0559 | Q8: 0.1034 | R8: 0.094 | S8: 0 | T8: 24 | U8: 0 | V8: 1.3 | W8: 13.7 | X8: =IF(V8>W8,"YES","NO") -> NO | Y8: 24 | Z8: =U8 -> 0 | AA8: 52.3 | AB8: 213.4 | AC8: =IF(AA8>AB8,"YES","NO") -> NO | AD8: 24 | AE8: =Z8 -> 0 | AF8: 34.8 | AG8: 307.2 | AH8: =IF(AF8>AG8,"YES","NO") -> NO
B9: Monthly mean limit | D9: 13.4 | E9: 206.7 | F9: 283.4 | G9: 13.5 | H9: 201.9 | I9: 277.5 | J9: 14.9 | K9: 218.5 | L9: 290.5 | N9: =N8+1 -> 44656 | O9: 0.7833 | P9: 0.0368 | Q9: 0.1049 | R9: 0.075 | S9: 0 | T9: 24 | U9: 0 | V9: 1.3 | W9: 12.9 | X9: =IF(V9>W9,"YES","NO") -> NO | Y9: 24 | Z9: =U9 -> 0 | AA9: 51.6 | AB9: 209.2 | AC9: =IF(AA9>AB9,"YES","NO") -> NO | AD9: 24 | AE9: =Z9 -> 0 | AF9: 35.4 | AG9: 307 | AH9: =IF(AF9>AG9,"YES","NO") -> NO
N10: =N9+1 -> 44657 | O10: 0.7779 | P10: 0.003 | Q10: 0.1062 | R10: 0.113 | S10: 0 | T10: 24 | U10: 0 | V10: 1.3 | W10: 13 | X10: =IF(V10>W10,"YES","NO") -> NO | Y10: 24 | Z10: =U10 -> 0 | AA10: 38.6 | AB10: 201.4 | AC10: =IF(AA10>AB10,"YES","NO") -> NO | AD10: 24 | AE10: =Z10 -> 0 | AF10: 34.6 | AG10: 306.6 | AH10: =IF(AF10>AG10,"YES","NO") -> NO
N11: =N10+1 -> 44658 | O11: 0.7784 | P11: 0.0064 | Q11: 0.1205 | R11: 0.0947 | S11: 0 | T11: 24 | U11: 0 | V11: 1.4 | W11: 12.6 | X11: =IF(V11>W11,"YES","NO") -> NO | Y11: 24 | Z11: =U11 -> 0 | AA11: 42.6 | AB11: 199.6 | AC11: =IF(AA11>AB11,"YES","NO") -> NO | AD11: 24 | AE11: =Z11 -> 0 | AF11: 34.3 | AG11: 303.5 | AH11: =IF(AF11>AG11,"YES","NO") -> NO
N12: =N11+1 -> 44659 | O12: 0.5831 | P12: 0.1477 | Q12: 0.2079 | R12: 0.0613 | S12: 0 | T12: 24 | U12: 0 | V12: 1.6 | W12: 14.1 | X12: =IF(V12>W12,"YES","NO") -> NO | Y12: 24 | Z12: =U12 -> 0 | AA12: 53.6 | AB12: 214 | AC12: =IF(AA12>AB12,"YES","NO") -> NO | AD12: 24 | AE12: =Z12 -> 0 | AF12: 36.7 | AG12: 281.2 | AH12: =IF(AF12>AG12,"YES","NO") -> NO
N13: =N12+1 -> 44660 | O13: 0.7914 | P13: 0.0956 | Q13: 0.0558 | R13: 0.0572 | S13: 0 | T13: 24 | U13: 0 | V13: 1.4 | W13: 14 | X13: =IF(V13>W13,"YES","NO") -> NO | Y13: 24 | Z13: =U13 -> 0 | AA13: 66.6 | AB13: 230.8 | AC13: =IF(AA13>AB13,"YES","NO") -> NO | AD13: 24 | AE13: =Z13 -> 0 | AF13: 33.5 | AG13: 317.6 | AH13: =IF(AF13>AG13,"YES","NO") -> NO
N14: =N13+1 -> 44661 | O14: 0.8169 | P14: 0.0832 | Q14: 0.0435 | R14: 0.0563 | S14: 0 | T14: 24 | U14: 0 | V14: 1.4 | W14: 13.8 | X14: =IF(V14>W14,"YES","NO") -> NO | Y14: 24 | Z14: =U14 -> 0 | AA14: 69.4 | AB14: 230.4 | AC14: =IF(AA14>AB14,"YES","NO") -> NO | AD14: 24 | AE14: =Z14 -> 0 | AF14: 36.5 | AG14: 320.5 | AH14: =IF(AF14>AG14,"YES","NO") -> NO
N15: =N14+1 -> 44662 | O15: 0.7789 | P15: 0.062 | Q15: 0.0264 | R15: 0.1327 | S15: 0 | T15: 24 | U15: 0 | V15: 1.3 | W15: 15.1 | X15: =IF(V15>W15,"YES","NO") -> NO | Y15: 24 | Z15: =U15 -> 0 | AA15: 66.3 | AB15: 228.9 | AC15: =IF(AA15>AB15,"YES","NO") -> NO | AD15: 24 | AE15: =Z15 -> 0 | AF15: 33.8 | AG15: 324.2 | AH15: =IF(AF15>AG15,"YES","NO") -> NO
N16: =N15+1 -> 44663 | O16: 0.7953 | P16: 0.0845 | Q16: 0.0289 | R16: 0.0913 | S16: 0 | T16: 24 | U16: 3 | V16: 1.2 | W16: 14.7 | X16: =IF(V16>W16,"YES","NO") -> NO | Y16: 24 | Z16: =U16 -> 3 | AA16: 85.2 | AB16: 233.2 | AC16: =IF(AA16>AB16,"YES","NO") -> NO | AD16: 24 | AE16: =Z16 -> 3 | AF16: 33.8 | AG16: 323.6 | AH16: =IF(AF16>AG16,"YES","NO") -> NO
N17: =N16+1 -> 44664 | O17: 0.5331 | P17: 0.0752 | Q17: 0.1813 | R17: 0.0751 | S17: 0.1352 | T17: 24 | U17: 2 | V17: 1.5 | W17: 15.3 | X17: =IF(V17>W17,"YES","NO") -> NO | Y17: 24 | Z17: =U17 -> 2 | AA17: 68.5 | AB17: 210 | AC17: =IF(AA17>AB17,"YES","NO") -> NO | AD17: 24 | AE17: =Z17 -> 2 | AF17: 40.7 | AG17: 272.6 | AH17: =IF(AF17>AG17,"YES","NO") -> NO
N18: =N17+1 -> 44665 | O18: 0.631 | P18: 0.1492 | Q18: 0.1724 | R18: 0.0474 | S18: 0 | T18: 24 | U18: 0 | V18: 1.3 | W18: 14.1 | X18: =IF(V18>W18,"YES","NO") -> NO | Y18: 24 | Z18: =U18 -> 0 | AA18: 77.4 | AB18: 221 | AC18: =IF(AA18>AB18,"YES","NO") -> NO | AD18: 24 | AE18: =Z18 -> 0 | AF18: 50.5 | AG18: 289.9 | AH18: =IF(AF18>AG18,"YES","NO") -> NO
N19: =N18+1 -> 44666 | O19: 0.7526 | P19: 0.1236 | Q19: 0.0565 | R19: 0.0673 | S19: 0 | T19: 24 | U19: 0 | V19: 1.2 | W19: 14.9 | X19: =IF(V19>W19,"YES","NO") -> NO | Y19: 24 | Z19: =U19 -> 0 | AA19: 72.5 | AB19: 237.4 | AC19: =IF(AA19>AB19,"YES","NO") -> NO | AD19: 24 | AE19: =Z19 -> 0 | AF19: 37.8 | AG19: 317.7 | AH19: =IF(AF19>AG19,"YES","NO") -> NO
N20: =N19+1 -> 44667 | O20: 0.7178 | P20: 0.1321 | Q20: 0.0887 | R20: 0.0614 | S20: 0 | T20: 24 | U20: 0 | V20: 1.2 | W20: 14.6 | X20: =IF(V20>W20,"YES","NO") -> NO | Y20: 24 | Z20: =U20 -> 0 | AA20: 67.1 | AB20: 233.2 | AC20: =IF(AA20>AB20,"YES","NO") -> NO | AD20: 24 | AE20: =Z20 -> 0 | AF20: 51.7 | AG20: 309.3 | AH20: =IF(AF20>AG20,"YES","NO") -> NO
N21: =N20+1 -> 44668 | O21: 0.7728 | P21: 0.1046 | Q21: 0.0598 | R21: 0.0628 | S21: 0 | T21: 24 | U21: 0 | V21: 1.2 | W21: 14.4 | X21: =IF(V21>W21,"YES","NO") -> NO | Y21: 24 | Z21: =U21 -> 0 | AA21: 68.3 | AB21: 232.4 | AC21: =IF(AA21>AB21,"YES","NO") -> NO | AD21: 24 | AE21: =Z21 -> 0 | AF21: 34.1 | AG21: 317 | AH21: =IF(AF21>AG21,"YES","NO") -> NO
... N94: =N93+1 -> 44741 | O94: 0.4852 | P94: 0.2136 | Q94: 0.2388 | R94: 0.0624 | S94: 0 | T94: 24 | U94: 12 | V94: 1.6 | W94: 15.6 | X94: =IF(V94>W94,"YES","NO") -> NO | Y94: 24 | Z94: =U94 -> 12 | AA94: 68.5 | AB94: 222.9 | AC94: =IF(AA94>AB94,"YES","NO") -> NO | AD94: 24 | AE94: =Z94 -> 12 | AF94: 95.2 | AG94: 276.2 | AH94: =IF(AF94>AG94,"YES","NO") -> NO
N95: =N94+1 -> 44742 | O95: 0.4654 | P95: 0.2037 | Q95: 0.2416 | R95: 0.0892 | S95: 0 | T95: 24 | U95: 14 | V95: 1.3 | W95: 16.1 | X95: =IF(V95>W95,"YES","NO") -> NO | Y95: 24 | Z95: 0 | AA95: 75.8 | AB95: 221.5 | AC95: =IF(AA95>AB95,"YES","NO") -> NO | AD95: 24 | AE95: 0 | AF95: 92.6 | AG95: 277.1 | AH95: =IF(AF95>AG95,"YES","NO") -> NO
N96: =[1]DAILY!$B96 -> 0 | O96: =[2]DAILY!$Q480 -> 0.75934271 | P96: =[2]DAILY!$R480 -> 0.082227654 | Q96: =[2]DAILY!$T480 -> 0.14035456 | R96: =[2]DAILY!$S480 -> 0.018075075 | S96: 0 | T96: =[2]DAILY!$D480 -> 24 | U96: =[2]DAILY!$E480 -> 0 | V96: =[2]DAILY!$F480 -> 1.2809441 | W96: =[2]DAILY!$G480 -> 15.797501 | X96: =IF(V96>W96,"YES","NO") -> NO | Y96: =[2]DAILY!$I480 -> 24 | Z96: =[2]DAILY!$E480 -> 0 | AA96: 52.081318 | AB96: =[2]DAILY!$K480 -> 234.79449 | AC96: =IF(AA96>AB96,"YES","NO") -> NO | AD96: =[2]DAILY!$M480 -> 24 | AE96: =[2]DAILY!$E480 -> 0 | AF96: =[2]DAILY!$N480 -> 64.741992 | AG96: =[2]DAILY!$O480 -> 326.02433 | AH96: =IF(AF96>AG96,"YES","NO") -> NO
N97: =[1]DAILY!$B97 -> 0 | O97: =[2]DAILY!$Q481 -> 0.78196664 | P97: =[2]DAILY!$R481 -> 0.077859082 | Q97: =[2]DAILY!$T481 -> 0.12582208 | R97: =[2]DAILY!$S481 -> 0.014352203 | S97: 0 | T97: =[2]DAILY!$D481 -> 24 | U97: =[2]DAILY!$E481 -> 0 | V97: =[2]DAILY!$F481 -> 1.1695469 | W97: =[2]DAILY!$G481 -> 15.378336 | X97: =IF(V97>W97,"YES","NO") -> NO | Y97: =[2]DAILY!$I481 -> 24 | Z97: =[2]DAILY!$E481 -> 0 | AA97: 37.17141 | AB97: =[2]DAILY!$K481 -> 235.32975 | AC97: =IF(AA97>AB97,"YES","NO") -> NO | AD97: =[2]DAILY!$M481 -> 24 | AE97: =[2]DAILY!$E481 -> 0 | AF97: =[2]DAILY!$N481 -> 98.247691 | AG97: =[2]DAILY!$O481 -> 326.65282 | AH97: =IF(AF97>AG97,"YES","NO") -> NO

Sheet A52B Boiler 7
D2: Concentrations in mg/m³ at reference conditions after subtracting uncertainty | O2: Daily means, excluding hours outside normal operating conditions
D3: 44652 | G3: 44682 | J3: 44713 | N3: Date | O3: Fuel mix | T3: Particulate Matter concentration (mg/m³) after subtracting uncertainty | Y3: Sulphur dioxide concentration (mg/m³) after subtracting uncertainty | AD3: Oxides of nitrogen concentration (mg/m³) after subtracting uncertainty
D4: PM | E4: SO2 | F4: NOx | G4: PM | H4: SO2 | I4: NOx | J4: PM | K4: SO2 | L4: NOx | O4: % BFG | P4: % COG | Q4: % BOSg | R4: % NG | S4: % HFO | T4: No.valid hours | U4: No.hours OTNOC | V4: Measured | W4: Limit | X4: Breach? | Y4: No.valid hours | Z4: No.hours OTNOC | AA4: Measured | AB4: Limit | AC4: Breach? | AD4: No.valid hours | AE4: No.hours OTNOC | AF4: Measured | AG4: Limit | AH4: Breach?
B5: Daily means | C5: Minimum | D5: =MIN(V5:V35) -> 1.3 | E5: =MIN(AA5:AA35) -> 14.9 | F5: =MIN(AF5:AF35) -> 104.1 | G5: =MIN(V36:V63) -> 1.2 | H5: =MIN(AA36:AA63) -> 6.2 | I5: =MIN(AF36:AF63) -> 23.1 | J5: =MIN(V64:V95) -> 1.2 | K5: =MIN(AA64:AA95) -> 11 | L5: =MIN(AF64:AF95) -> 20.5 | N5: ='A52A Boiler 6'!N5 -> 44652 | O5: 0.7892 | P5: 0.0959 | Q5: 0.03 | R5: 0.0849 | S5: 0 | T5: 24 | U5: 0 | V5: 2 | W5: 15.5 | X5: =IF(V5>W5,"YES","NO") -> NO | Y5: 24 | Z5: =U5 -> 0 | AA5: 24.8 | AB5: 240.5 | AC5: =IF(AA5>AB5,"YES","NO") -> NO | AD5: 24 | AE5: =Z5 -> 0 | AF5: 109.7 | AG5: 330.5 | AH5: =IF(AF5>AG5,"YES","NO") -> NO
C6: Maximum | D6: =MAX(V5:V35) -> 2.6 | E6: =MAX(AA5:AA35) -> 30.8 | F6: =MAX(AF5:AF35) -> 157.5 | G6: =MAX(V36:V63) -> 1.9 | H6: =MAX(AA36:AA63) -> 39.7 | I6: =MAX(AF36:AF63) -> 184.1 | J6: =MAX(V64:V95) -> 2.4 | K6: =MAX(AA64:AA95) -> 23.3 | L6: =MAX(AF64:AF95) -> 57.6 | N6: =N5+1 -> 44653 | O6: 0.8646 | P6: 0.0906 | Q6: 0.0348 | R6: 0.01 | S6: 0 | T6: 24 | U6: 0 | V6: 2.1 | W6: 13.5 | X6: =IF(V6>W6,"YES","NO") -> NO | Y6: 24 | Z6: =U6 -> 0 | AA6: 21.1 | AB6: 236.7 | AC6: =IF(AA6>AB6,"YES","NO") -> NO | AD6: 24 | AE6: =Z6 -> 0 | AF6: 123.2 | AG6: 327 | AH6: =IF(AF6>AG6,"YES","NO") -> NO
C7: No. > Limit | D7: =COUNTIF(X5:X35,"YES") -> 0 | E7: =COUNTIF(AC5:AC35,"YES") -> 0 | F7: =COUNTIF(AH5:AH35,"YES") -> 0 | G7: =COUNTIF(X36:X63,"YES") -> 0 | H7: =COUNTIF(AC36:AC63,"YES") -> 0 | I7: =COUNTIF(AH36:AH63,"YES") -> 0 | J7: =COUNTIF(X64:X95,"YES") -> 0 | K7: =COUNTIF(AC64:AC95,"YES") -> 0 | L7: =COUNTIF(AH64:AH95,"YES") -> 0 | N7: =N6+1 -> 44654 | O7: 0.798 | P7: 0.0843 | Q7: 0.0232 | R7: 0.0945 | S7: 0 | T7: 24 | U7: 0 | V7: 2 | W7: 15.5 | X7: =IF(V7>W7,"YES","NO") -> NO | Y7: 24 | Z7: =U7 -> 0 | AA7: 21.6 | AB7: 239.1 | AC7: =IF(AA7>AB7,"YES","NO") -> NO | AD7: 24 | AE7: =Z7 -> 0 | AF7: 118.1 | AG7: 332 | AH7: =IF(AF7>AG7,"YES","NO") -> NO
B8: Monthly mean | D8: 1.6 | E8: 22 | F8: 126.3 | G8: 1.5 | H8: 16.5 | I8: 117.9 | J8: 1.6 | K8: 15.8 | L8: 33.6 | N8: =N7+1 -> 44655 | O8: 0.7808 | P8: 0.066 | Q8: 0.0776 | R8: 0.0756 | S8: 0 | T8: 24 | U8: 0 | V8: 1.5 | W8: 14.4 | X8: =IF(V8>W8,"YES","NO") -> NO | Y8: 24 | Z8: =U8 -> 0 | AA8: 21.6 | AB8: 225.1 | AC8: =IF(AA8>AB8,"YES","NO") -> NO | AD8: 24 | AE8: =Z8 -> 0 | AF8: 117.7 | AG8: 319.8 | AH8: =IF(AF8>AG8,"YES","NO") -> NO
B9: Monthly mean limit | D9: 13.8 | E9: 216.2 | F9: 296.2 | G9: 14.2 | H9: 215.4 | I9: 291.6 | J9: 15.2 | K9: 223.6 | L9: 299 | N9: =N8+1 -> 44656 | O9: 0.8064 | P9: 0.0346 | Q9: 0.1006 | R9: 0.0584 | S9: 0 | T9: 24 | U9: 0 | V9: 1.5 | W9: 13.1 | X9: =IF(V9>W9,"YES","NO") -> NO | Y9: 24 | Z9: =U9 -> 0 | AA9: 22.5 | AB9: 213.3 | AC9: =IF(AA9>AB9,"YES","NO") -> NO | AD9: 24 | AE9: =Z9 -> 0 | AF9: 120.8 | AG9: 313.8 | AH9: =IF(AF9>AG9,"YES","NO") -> NO
N10: =N9+1 -> 44657 | O10: 0.7734 | P10: 0.0467 | Q10: 0.0884 | R10: 0.0915 | S10: 0 | T10: 24 | U10: 0 | V10: 1.5 | W10: 14.2 | X10: =IF(V10>W10,"YES","NO") -> NO | Y10: 24 | Z10: =U10 -> 0 | AA10: 17.9 | AB10: 218.4 | AC10: =IF(AA10>AB10,"YES","NO") -> NO | AD10: 24 | AE10: =Z10 -> 0 | AF10: 109.8 | AG10: 316.9 | AH10: =IF(AF10>AG10,"YES","NO") -> NO
N11: =N10+1 -> 44658 | O11: 0.749 | P11: 0.0875 | Q11: 0.093 | R11: 0.0705 | S11: 0 | T11: 24 | U11: 0 | V11: 1.8 | W11: 14.6 | X11: =IF(V11>W11,"YES","NO") -> NO | Y11: 24 | Z11: =U11 -> 0 | AA11: 15.7 | AB11: 226.6 | AC11: =IF(AA11>AB11,"YES","NO") -> NO | AD11: 24 | AE11: =Z11 -> 0 | AF11: 108.2 | AG11: 315.8 | AH11: =IF(AF11>AG11,"YES","NO") -> NO
N12: =N11+1 -> 44659 | O12: 0.5329 | P12: 0.1603 | Q12: 0.1679 | R12: 0.0621 | S12: 0.077 | T12: 24 | U12: 10 | V12: 2.6 | W12: 16.2 | X12: =IF(V12>W12,"YES","NO") -> NO | Y12: 24 | Z12: =U12 -> 10 | AA12: 29 | AB12: 231.4 | AC12: =IF(AA12>AB12,"YES","NO") -> NO | AD12: 24 | AE12: =Z12 -> 10 | AF12: 104.1 | AG12: 284.2 | AH12: =IF(AF12>AG12,"YES","NO") -> NO
N13: =N12+1 -> 44660 | O13: 0.824 | P13: 0.0949 | Q13: 0.0402 | R13: 0.0409 | S13: 0 | T13: 24 | U13: 0 | V13: 2 | W13: 14.4 | X13: =IF(V13>W13,"YES","NO") -> NO | Y13: 24 | Z13: =U13 -> 0 | AA13: 24.3 | AB13: 237.5 | AC13: =IF(AA13>AB13,"YES","NO") -> NO | AD13: 24 | AE13: =Z13 -> 0 | AF13: 118.1 | AG13: 327 | AH13: =IF(AF13>AG13,"YES","NO") -> NO
N14: =N13+1 -> 44661 | O14: 0.8233 | P14: 0.1109 | Q14: 0.0258 | R14: 0.04 | S14: 0 | T14: 24 | U14: 0 | V14: 1.8 | W14: 14.7 | X14: =IF(V14>W14,"YES","NO") -> NO | Y14: 24 | Z14: =U14 -> 0 | AA14: 26.2 | AB14: 243.5 | AC14: =IF(AA14>AB14,"YES","NO") -> NO | AD14: 24 | AE14: =Z14 -> 0 | AF14: 124.8 | AG14: 330 | AH14: =IF(AF14>AG14,"YES","NO") -> NO
N15: =N14+1 -> 44662 | O15: 0.7998 | P15: 0.0842 | Q15: 0.0059 | R15: 0.1101 | S15: 0 | T15: 24 | U15: 0 | V15: 1.6 | W15: 16 | X15: =IF(V15>W15,"YES","NO") -> NO | Y15: 24 | Z15: =U15 -> 0 | AA15: 21.5 | AB15: 242.4 | AC15: =IF(AA15>AB15,"YES","NO") -> NO | AD15: 24 | AE15: =Z15 -> 0 | AF15: 121.8 | AG15: 336.2 | AH15: =IF(AF15>AG15,"YES","NO") -> NO
N16: =N15+1 -> 44663 | O16: 0.8322 | P16: 0.083 | Q16: 0.0109 | R16: 0.0739 | S16: 0 | T16: 24 | U16: 0 | V16: 1.6 | W16: 15.1 | X16: =IF(V16>W16,"YES","NO") -> NO | Y16: 24 | Z16: =U16 -> 0 | AA16: 23.6 | AB16: 240.9 | AC16: =IF(AA16>AB16,"YES","NO") -> NO | AD16: 24 | AE16: =Z16 -> 0 | AF16: 121.3 | AG16: 334.5 | AH16: =IF(AF16>AG16,"YES","NO") -> NO
N17: =N16+1 -> 44664 | O17: 0.6641 | P17: 0.1058 | Q17: 0.0914 | R17: 0.0537 | S17: 0.0849 | T17: 24 | U17: 6 | V17: 2.2 | W17: 15.9 | X17: =IF(V17>W17,"YES","NO") -> NO | Y17: 24 | Z17: =U17 -> 6 | AA17: 27 | AB17: 235.4 | AC17: =IF(AA17>AB17,"YES","NO") -> NO | AD17: 24 | AE17: =Z17 -> 6 | AF17: 131.9 | AG17: 305 | AH17: =IF(AF17>AG17,"YES","NO") -> NO
N18: =N17+1 -> 44665 | O18: 0.6471 | P18: 0.16 | Q18: 0.1477 | R18: 0.0452 | S18: 0 | T18: 24 | U18: 4 | V18: 1.7 | W18: 14.6 | X18: =IF(V18>W18,"YES","NO") -> NO | Y18: 24 | Z18: =U18 -> 4 | AA18: 30.2 | AB18: 229.6 | AC18: =IF(AA18>AB18,"YES","NO") -> NO | AD18: 24 | AE18: =Z18 -> 4 | AF18: 148.7 | AG18: 297.8 | AH18: =IF(AF18>AG18,"YES","NO") -> NO
N19: =N18+1 -> 44666 | O19: 0.7953 | P19: 0.1299 | Q19: 0.0233 | R19: 0.0515 | S19: 0 | T19: 24 | U19: 0 | V19: 1.5 | W19: 15.6 | X19: =IF(V19>W19,"YES","NO") -> NO | Y19: 24 | Z19: =U19 -> 0 | AA19: 23.6 | AB19: 249.5 | AC19: =IF(AA19>AB19,"YES","NO") -> NO | AD19: 24 | AE19: =Z19 -> 0 | AF19: 138.9 | AG19: 331.7 | AH19: =IF(AF19>AG19,"YES","NO") -> NO
N20: =N19+1 -> 44667 | O20: 0.7249 | P20: 0.1611 | Q20: 0.0664 | R20: 0.0477 | S20: 0 | T20: 24 | U20: 4 | V20: 1.4 | W20: 15.5 | X20: =IF(V20>W20,"YES","NO") -> NO | Y20: 24 | Z20: =U20 -> 4 | AA20: 24.8 | AB20: 247.4 | AC20: =IF(AA20>AB20,"YES","NO") -> NO | AD20: 24 | AE20: =Z20 -> 4 | AF20: 157.5 | AG20: 318.9 | AH20: =IF(AF20>AG20,"YES","NO") -> NO
N21: =N20+1 -> 44668 | O21: 0.8103 | P21: 0.1002 | Q21: 0.0425 | R21: 0.047 | S21: 0 | T21: 24 | U21: 0 | V21: 1.4 | W21: 14.6 | X21: =IF(V21>W21,"YES","NO") -> NO | Y21: 24 | Z21: =U21 -> 0 | AA21: 14.9 | AB21: 238.5 | AC21: =IF(AA21>AB21,"YES","NO") -> NO | AD21: 24 | AE21: =Z21 -> 0 | AF21: 135 | AG21: 326.8 | AH21: =IF(AF21>AG21,"YES","NO") -> NO
... N95: =N94+1 -> 44742 | O95: 0.4933 | P95: 0.1574 | Q95: 0.2681 | R95: 0.0812 | S95: 0 | T95: 24 | U95: 11 | V95: 1.7 | W95: 15.3 | X95: =IF(V95>W95,"YES","NO") -> NO | Y95: 24 | Z95: =U95 -> 11 | AA95: 11.3 | AB95: 209.2 | AC95: =IF(AA95>AB95,"YES","NO") -> NO | AD95: 24 | AE95: =Z95 -> 11 | AF95: 47.1 | AG95: 275.8 | AH95: =IF(AF95>AG95,"YES","NO") -> NO
N96: =[1]DAILY!$B96 -> 0 | O96: =[2]DAILY!$Q576 -> 0.78239405 | P96: =[2]DAILY!$R576 -> 0.097488051 | Q96: =[2]DAILY!$T576 -> 0.11388805 | R96: =[2]DAILY!$S576 -> 0.0062298481 | S96: 0 | T96: =[2]DAILY!$D576 -> 24 | U96: =[2]DAILY!$E576 -> 0 | V96: =[2]DAILY!$F576 -> 10.15715 | W96: =[2]DAILY!$G480 -> 15.797501 | X96: =IF(V96>W96,"YES","NO") -> NO | Y96: =[2]DAILY!$I576 -> 24 | Z96: =[2]DAILY!$E576 -> 0 | AA96: 23.562347 | AB96: =[2]DAILY!$K576 -> 246.5504 | AC96: =IF(AA96>AB96,"YES","NO") -> NO | AD96: =[2]DAILY!$M576 -> 24 | AE96: =[2]DAILY!$E576 -> 0 | AF96: =[2]DAILY!$N576 -> 105.93155 | AG96: =[2]DAILY!$O576 -> 338.02768 | AH96: =IF(AF96>AG96,"YES","NO") -> NO
N97: =[1]DAILY!$B97 -> 0 | O97: =[2]DAILY!$Q577 -> 0.81701664 | P97: =[2]DAILY!$R577 -> 0.081656936 | Q97: =[2]DAILY!$T577 -> 0.097880691 | R97: =[2]DAILY!$S577 -> 0.0034457295 | S97: 0 | T97: =[2]DAILY!$D577 -> 24 | U97: =[2]DAILY!$E577 -> 0 | V97: =[2]DAILY!$F577 -> 9.5661719 | W97: =[2]DAILY!$G481 -> 15.378336 | X97: =IF(V97>W97,"YES","NO") -> NO | Y97: =[2]DAILY!$I577 -> 24 | Z97: =[2]DAILY!$E577 -> 0 | AA97: 22.46088 | AB97: =[2]DAILY!$K577 -> 243.88218 | AC97: =IF(AA97>AB97,"YES","NO") -> NO | AD97: =[2]DAILY!$M577 -> 24 | AE97: =[2]DAILY!$E577 -> 0 | AF97: =[2]DAILY!$N577 -> 102.48009 | AG97: =[2]DAILY!$O577 -> 338.35181 | AH97: =IF(AF97>AG97,"YES","NO") -> NO
