Workbook

Sheet Notes
B2: Reference conditions
B3: All concentrations in this spreadsheet are reported in dry air at a temperature of 273K, at a pressure of 101.3 kPa and with an oxygen content of 3% dry
B5: Uncertainty
B6: Concentrations in this spreadsheet are reported after having subtracted the value of the 95% confidence interval (see Section 3.6.7 of the permit):
C7: 95% confidence interval for nitrogen oxides is taken to be 20%
C8: 95% confidence interval for sulphur dioxide is taken to be 20%
C9: 95% confidence interval for dust is taken to be 30%
C10: 95% confidence interval for carbon monoxide is taken to be 10%
B12: Normal operating conditions
B13: The document "Power Plant Boiler Abnormal Conditions" sets out the criteria for excluding emissions monitoring data from permitting or other reporting obligations:
C14: Parameter | D14: Plant | E14: Level representing abnormal conditions
C15: Boiler oxygen | D15: All boilers | E15: >17% oxygen
C16: Fuel input | D16: A51, A52A, A52B, A53 and A62 | E16: <50% BFG by thermal input
D17: A50 (Service Boilers) | E17: <35% BFG by thermal input

Sheet Summary
D2: Dust concentrations in mg/m³ (except A55 as % obscuration), reported as measured (uncertainty not taken into account)
C3: Source | D3: A1 | E3: A2 | F3: A8A | G3: A8B | H3: A9 | I3: A10 | J3: A10A | K3: A14 | L3: A15 | M3: A16 | N3: A55 | O3: A63 | P3: A1 | Q3: A1
C4: Description | D4: Sinter plant main stack (particulate) | E4: Sinter plant deduster stack | F4: BF4 casthouse fume extraction North | G4: BF4 casthouse fume extraction South | H4: BF5 casthouse fume extraction | I4: Iron desulphurisation/hot metal pouring fume extraction plant stack | J4: Hot metal fume extraction no. 2 | K4: Secondary fume extraction stack North | L4: Secondary fume extraction stack Centre | M4: Secondary fume extraction stack South | N4: Morfa main stack | O4: CASOB/ desulph fume extraction plant | P4: Sinter plant main stack (SO2) | Q4: Sinter plant main stack (NOX)
B5: Daily means | C5: Minimum | D5: =MIN(Data!C6:C95) -> 0 | E5: =MIN(Data!F6:F95) -> 4.45512e-05 | F5: =MIN(Data!G:G) -> 0.43826519 | G5: =MIN(Data!H:H) -> 0.31300294 | H5: =MIN(Data!I:I) -> 0.42538563 | I5: =MIN(Data!J:J) -> 1.3145648 | J5: =MIN(Data!K:K) -> 0.90059919 | K5: =MIN(Data!L:L) -> 0.96083861 | L5: =MIN(Data!M:M) -> 2.3333601 | M5: =MIN(Data!N:N) -> 0.73152762 | O5: =MIN(Data!O:O) -> 0.081975877 | P5: =MIN(Data!D:D) -> 0 | Q5: =MIN(Data!E:E) -> 0
C6: Maximum | D6: =MAX(Data!C:C) -> 76.546744 | E6: =MAX(Data!F6:F95) -> 0.90713267 | F6: =MAX(Data!G:G) -> 3.2190503 | G6: =MAX(Data!H:H) -> 2.8575928 | H6: =MAX(Data!I:I) -> 2.3520459 | I6: =MAX(Data!J:J) -> 10.497886 | J6: =MAX(Data!K:K) -> 17.321238 | K6: =MAX(Data!L:L) -> 14.329903 | L6: =MAX(Data!M:M) -> 8.4939771 | M6: =MAX(Data!N:N) -> 13.215924 | O6: =MAX(Data!O:O) -> 7.0281736 | P6: =MAX(Data!D:D) -> 513.04468 | Q6: =MAX(Data!E:E) -> 184.88517
C7: Limit | D7: 40 | E7: 10 | F7: 15 | G7: 15 | H7: 15 | I7: 15 | J7: 15 | K7: 15 | L7: 15 | M7: 15 | O7: 15 | P7: 500 | Q7: 500
C8: No. > Limit | D8: =COUNTIF(Data!C:C,">"&D7) -> 47 | E8: =COUNTIF(Data!F81:F96,">"&E7) -> 0 | F8: =COUNTIF(Data!G:G,">"&F7) -> 0 | G8: =COUNTIF(Data!H:H,">"&G7) -> 0 | H8: =COUNTIF(Data!I:I,">"&H7) -> 0 | I8: =COUNTIF(Data!J:J,">"&I7) -> 0 | J8: =COUNTIF(Data!K:K,">"&J7) -> 1 | K8: =COUNTIF(Data!L:L,">"&K7) -> 0 | L8: =COUNTIF(Data!M:M,">"&L7) -> 0 | M8: =COUNTIF(Data!N:N,">"&M7) -> 0 | O8: =COUNTIF(Data!O:O,">"&O7) -> 0 | P8: =COUNTIF(Data!D:D,">"&P7) -> 1 | Q8: =COUNTIF(Data!E:E,">"&Q7) -> 0
B9: Weekly mean | C9: Minimum | N9: =MIN(Data!U:U) -> 19.43
C10: Maximum | N10: =MAX(Data!U:U) -> 42.19
C11: Limit | N11: 25
C12: No. > Limit | N12: =COUNTIF(Data!U:U,">"&N11) -> 8

Sheet Plots
N2: NOTES

Sheet Data
C2: Measured concentrations - daily means (mg/m³) | P2: Limits | U2: Obscuration %
B3: Source | C3: A1 | D3: A1 | E3: A1 | F3: A2 | G3: A8A | H3: A8B | I3: A9 | J3: A10 | K3: A10A | L3: A14 | M3: A15 | N3: A16 | O3: A63 | P3: A1 | Q3: A2 | R3: BF and BOS plant sources | S3: A1 | T3: Source | U3: A55
B4: Description | C4: Sinter plant main stack (Particulate) | D4: Sinter plant main stack (SO2) | E4: Sinter plant main stack (NOX) | F4: Sinter plant deduster stack | G4: BF4 casthouse fume extraction North | H4: BF4 casthouse fume extraction South | I4: BF5 casthouse fume extraction | J4: Iron desulphurisation/hot metal pouring fume extraction plant stack | K4: Hot metal fume extraction no. 2 | L4: Secondary fume extraction stack North | M4: Secondary fume extraction stack Centre | N4: Secondary fume extraction stack South | O4: CASOB/ desulph fume extraction plant | P4: Sinter plant main stack | Q4: Sinter plant deduster stack | S4: Sinter Plant Main Stack SO2 & NOX | T4: Description | U4: Morfa main stack
B5: Date | T5: Week commencing | U5: Measured | V5: Limit
B6: 44562 | C6: 40.869146 | D6: 443.24125 | E6: 142.72346 | F6: 0.64091327 | G6: 1.5397238 | H6: 1.5424809 | I6: 1.429616 | J6: 3.7797203 | K6: Fan out for inspection and repair as discussed with NRW - See submission: A10A Fume Extraction 004_28042022 | L6: S5N_21_72A | O6: S5N_21_48A | P6: 40 | Q6: 10 | R6: 15 | S6: 500 | T6: 44563 | U6: 35.79 | V6: 25 | W6: S5N_22_01A
B7: 44563 | C7: 45.645884 | D7: 348.34087 | E7: 147.5903 | F7: 0.55181221 | G7: 1.1511229 | H7: 1.0534782 | I7: 1.3904589 | J7: 4.1502601 | P7: 40 | Q7: 10 | R7: 15 | S7: 500 | T7: =T6+7 -> 44570 | U7: 42.19 | V7: 25 | W7: S5N_22_02A
B8: 44564 | C8: 42.610144 | D8: 311.32486 | E8: 159.4528 | F8: 0.53798743 | G8: 1.6794847 | H8: 1.5193546 | I8: 1.4210332 | J8: 4.7457523 | P8: 40 | Q8: 10 | R8: 15 | S8: 500 | T8: =T7+7 -> 44577 | U8: 29.13 | V8: 25 | W8: S5N_22_04A
B9: 44565 | C9: 44.354753 | D9: 100.14556 | E9: 51.117716 | F9: 0.51001693 | G9: 1.427073 | H9: 1.2210822 | I9: 1.2127642 | J9: 4.839418 | L9: 2.8443786 | M9: 3.0797227 | N9: 1.9608288 | P9: 40 | Q9: 10 | R9: 15 | S9: 500 | T9: =T8+7 -> 44584 | U9: 34.15 | V9: 25 | W9: S5N_22_07A
B10: 44566 | C10: 45.392853 | D10: 151.39447 | E10: 76.009335 | F10: 0.50521355 | G10: 1.2133192 | H10: 1.2041521 | I10: 1.5604749 | J10: 6.1354298 | L10: 4.5874594 | M10: 3.6027381 | N10: 2.8462276 | P10: 40 | Q10: 10 | R10: 15 | S10: 500 | T10: =T9+7 -> 44591 | U10: 32.16 | V10: 25 | W10: S5N_22_10A
B11: 44567 | C11: 27.064111 | D11: 246.83684 | E11: 95.889817 | F11: 0.43327662 | G11: 1.5968484 | H11: 1.399046 | I11: 1.8917513 | J11: 6.1873381 | L11: 5.8649221 | M11: 4.1677567 | N11: 3.1578542 | P11: 40 | Q11: 10 | R11: 15 | S11: 500 | T11: =T10+7 -> 44598 | U11: 34.78 | V11: 25 | W11: S5N_22_11A
B12: 44568 | C12: 28.937147 | D12: 312.92424 | E12: 143.48831 | F12: 0.54186464 | G12: 2.2878067 | H12: 2.4101057 | I12: 1.6269024 | J12: 6.1019353 | L12: 4.4045939 | M12: 3.6880809 | N12: 2.6368974 | P12: 40 | Q12: 10 | R12: 15 | S12: 500 | T12: =T11+7 -> 44605 | U12: 33.41 | V12: 25 | W12: S5N_22_14A
B13: 44569 | C13: 29.235941 | D13: 312.44324 | E13: 146.21199 | F13: 0.51582284 | G13: 3.2190503 | H13: 2.8575928 | I13: 1.1596032 | J13: 4.8642213 | L13: 4.2596749 | M13: 3.6668976 | N13: 2.5860986 | P13: 40 | Q13: 10 | R13: 15 | S13: 500 | T13: =T12+7 -> 44612 | U13: 31.39 | V13: 25 | W13: S5N_22_15A
B14: 44570 | C14: 35.775039 | D14: 303.66456 | E14: 162.52042 | F14: 0.52387129 | G14: 2.1420086 | H14: 1.9811259 | I14: 1.3152989 | J14: 5.8072009 | L14: 4.4469806 | M14: 3.7658146 | N14: 2.6862879 | P14: 40 | Q14: 10 | R14: 15 | S14: 500 | T14: =T13+7 -> 44619 | U14: 21.73 | V14: 25
B15: 44571 | C15: 44.884645 | D15: 302.78222 | E15: 160.53797 | F15: 0.54326915 | G15: 1.8264741 | H15: 1.4915959 | I15: 0.97985035 | J15: 6.4118262 | L15: 4.3102114 | M15: 3.6894196 | N15: 2.7510597 | P15: 40 | Q15: 10 | R15: 15 | S15: 500 | T15: =T14+7 -> 44626 | U15: 23.51 | V15: 25
B16: 44572 | C16: 58.924795 | D16: 341.68803 | E16: 169.51754 | F16: 0.63252982 | G16: 2.1390196 | H16: 1.7853839 | I16: 1.8471722 | J16: 7.5239975 | L16: 5.7903025 | M16: 4.1403624 | N16: 3.0182205 | P16: 40 | Q16: 10 | R16: 15 | S16: 500 | T16: =T15+7 -> 44633 | U16: 19.43 | V16: 25
B17: 44573 | C17: 51.95133 | D17: 313.48813 | E17: 122.79705 | F17: 0.65785174 | G17: 1.4976082 | H17: 1.4283553 | I17: 1.9758958 | J17: 6.4838803 | L17: 4.4906588 | M17: 3.6618464 | N17: 2.5976572 | P17: 40 | Q17: 10 | R17: 15 | S17: 500 | T17: =T16+7 -> 44640 | U17: 23.92 | V17: 25
B18: 44574 | C18: 52.573901 | D18: 353.49431 | E18: 140.24957 | F18: 0.73716371 | G18: 2.0701592 | H18: 1.8440889 | I18: 1.9662391 | J18: 4.4200393 | L18: 5.1378903 | M18: 4.0877151 | N18: 2.9142742 | P18: 40 | Q18: 10 | R18: 15 | S18: 500 | T18: =T17+7 -> 44647 | U18: 20.38 | V18: 25
B19: 44575 | C19: 57.716658 | D19: 448.32564 | E19: 120.37016 | F19: 0.79597065 | G19: 1.9083449 | H19: 1.7365093 | I19: 1.7380533 | J19: 4.5330229 | L19: 5.1214172 | M19: 4.0124871 | N19: 3.0874194 | P19: 40 | Q19: 10 | R19: 15 | S19: 500
B20: 44576 | C20: 53.447401 | D20: 436.57673 | E20: 131.27635 | F20: 0.69356394 | G20: 1.3334303 | H20: 1.1490266 | I20: 2.0939271 | J20: 7.1907648 | L20: 5.6477762 | M20: 4.165994 | N20: 3.0097516 | P20: 40 | Q20: 10 | R20: 15 | S20: 500
B21: 44577 | C21: 48.48448 | D21: 278.83824 | E21: 78.348363 | F21: 0.71235976 | G21: 2.0841438 | H21: 1.6012935 | I21: 1.7596674 | J21: 7.4658996 | L21: 4.8251701 | M21: 3.746292 | N21: 2.6798074 | P21: 40 | Q21: 10 | R21: 15 | S21: 500
B22: 44578 | C22: 42.708425 | D22: 194.11642 | E22: 59.00286 | F22: 0.66079147 | G22: 1.6362551 | H22: 1.4364741 | I22: 1.5687045 | J22: 9.7818059 | L22: 5.6104205 | M22: 4.2034069 | N22: 2.8771744 | P22: 40 | Q22: 10 | R22: 15 | S22: 500
B23: 44579 | C23: 0.0043258102 | D23: 0 | E23: 0 | F23: 4.45512e-05 | G23: 1.861338 | H23: 1.6129876 | I23: 2.195442 | J23: 7.8647853 | L23: 5.2739394 | M23: 4.2626117 | N23: 2.6760047 | P23: 40 | Q23: 10 | R23: 15 | S23: 500
B24: 44580 | C24: 40.449727 | D24: 72.700023 | E24: 54.693146 | F24: 0.46079038 | G24: 1.2911935 | H24: 1.1387011 | I24: 1.6705965 | J24: 5.3232726 | L24: 5.0070352 | M24: 3.7959993 | N24: 2.633487 | P24: 40 | Q24: 10 | R24: 15 | S24: 500
B25: 44581 | C25: 52.577319 | D25: 201.3299 | E25: 116.145 | F25: 0.63171114 | G25: 1.3168372 | H25: 1.1180817 | I25: 1.9460779 | J25: 9.9944311 | L25: 5.0564551 | M25: 3.8104277 | N25: 2.7273536 | P25: 40 | Q25: 10 | R25: 15 | S25: 500
B26: 44582 | C26: 36.458191 | D26: 284.50651 | E26: 130.48773 | F26: 0.59270466 | G26: 1.2501216 | H26: 1.0646811 | I26: 1.7131716 | J26: 7.6767414 | L26: 6.112423 | M26: 4.2342402 | N26: 2.8897155 | P26: 40 | Q26: 10 | R26: 15 | S26: 500
B27: 44583 | C27: 32.828155 | D27: 354.34282 | E27: 125.83306 | F27: 0.60504955 | G27: 1.1869829 | H27: 1.0190682 | I27: 2.2171712 | J27: 9.2658558 | L27: 6.061146 | M27: 4.1574908 | N27: 2.8963725 | P27: 40 | Q27: 10 | R27: 15 | S27: 500
B28: 44584 | C28: 38.003471 | D28: 382.06816 | E28: 137.34318 | F28: 0.61711141 | G28: 1.2335079 | H28: 1.1118833 | I28: 1.9167934 | J28: 8.8081472 | L28: 5.5602346 | M28: 4.1501552 | N28: 2.8064602 | P28: 40 | Q28: 10 | R28: 15 | S28: 500
B29: 44585 | C29: 31.307531 | D29: 165.96768 | E29: 65.091761 | F29: 0.57537217 | G29: 1.3331225 | H29: 1.045269 | I29: 1.1831916 | J29: 6.2803522 | L29: 4.2834894 | M29: 3.6631834 | N29: 2.5135079 | P29: 40 | Q29: 10 | R29: 15 | S29: 500
B30: 44586 | C30: 36.635645 | D30: 193.52673 | E30: 80.412933 | F30: 0.66146652 | G30: 1.3950172 | H30: 0.96978856 | I30: 1.5807714 | J30: 8.9457135 | L30: 4.0697186 | M30: 3.5406324 | N30: 2.4312277 | P30: 40 | Q30: 10 | R30: 15 | S30: 500
... B37: 44593 | C37: 57.278066 | D37: 387.1158 | E37: 146.55857 | F37: 0.66462529 | G37: 2.4167711 | H37: 0.4879464 | I37: 1.398323 | J37: 2.4539162 | L37: 2.9905041 | M37: 2.9961758 | N37: 1.7546452 | P37: 40 | Q37: 10 | R37: 15 | S37: 500
B38: 44594 | C38: 49.032697 | D38: 387.64238 | E38: 145.00992 | F38: 0.70643858 | G38: 1.3731183 | H38: 0.3617072 | I38: 1.38371 | J38: 2.6174367 | L38: 1.7854913 | M38: 2.7327555 | N38: 1.2293051 | O38: 2.804327 | P38: 40 | Q38: 10 | R38: 15 | S38: 500
B39: 44595 | C39: 34.614347 | D39: 253.67648 | E39: 104.44878 | F39: 0.6386664 | G39: 0.81084267 | H39: 0.48709524 | I39: 1.2183138 | J39: 2.1166015 | L39: 0.96083861 | M39: 2.3333601 | N39: 0.75120299 | O39: 2.7095582 | P39: 40 | Q39: 10 | R39: 15 | S39: 500
B40: 44596 | C40: 43.933593 | D40: 84.452902 | E40: 37.568092 | F40: 0.64288353 | G40: 0.96715458 | H40: 0.64679607 | I40: 1.1244429 | J40: 2.8233014 | L40: 2.6515237 | M40: 2.9072325 | N40: 2.0317879 | O40: 5.3023586 | P40: 40 | Q40: 10 | R40: 15 | S40: 500
B41: 44597 | C41: 46.190593 | D41: S5N_22_33A | E41: S5N_22_33A | F41: 0.67380831 | G41: 0.67815594 | H41: 0.61722697 | I41: 0.42538563 | J41: 4.1507083 | L41: 3.7329765 | M41: 3.2233142 | N41: 2.3698724 | O41: 6.5290035 | P41: 40 | Q41: 10 | R41: 15 | S41: 500
B42: 44598 | C42: 33.379408 | F42: 0.66806811 | G42: 0.67983791 | H42: 0.55152406 | I42: 0.81964727 | J42: 2.9006262 | L42: 2.5579779 | M42: 2.9279193 | N42: 1.6888681 | O42: 3.6205672 | P42: 40 | Q42: 10 | R42: 15 | S42: 500
B43: 44599 | C43: 51.96535 | D43: 230.99145 | E43: 81.417774 | F43: 0.68346682 | G43: 0.43826519 | H43: 0.35511212 | I43: 1.0868899 | J43: 4.6069441 | L43: 3.0341137 | M43: 3.1772093 | N43: 1.8496625 | O43: 0.81271639 | P43: 40 | Q43: 10 | R43: 15 | S43: 500
B44: 44600 | C44: 44.436599 | D44: 295.13103 | E44: 93.06401 | F44: 0.48663368 | G44: 0.44934321 | H44: 0.35356802 | I44: 1.1950587 | J44: 5.4075839 | L44: 3.7892957 | M44: 3.3812525 | N44: 2.1366209 | O44: 0.94450309 | P44: 40 | Q44: 10 | R44: 15 | S44: 500
B45: 44601 | C45: 57.834401 | D45: 378.77576 | E45: 104.99267 | F45: 0.4906045 | G45: 0.50529863 | H45: 0.34955767 | I45: 1.149117 | J45: 2.1574479 | L45: 2.991362 | M45: 2.9103846 | N45: 1.6884786 | O45: 2.0297776 | P45: 40 | Q45: 10 | R45: 15 | S45: 500
B46: 44602 | C46: 18.189791 | D46: 164.41863 | E46: 56.494129 | F46: 0.36893608 | G46: 0.92094054 | H46: 0.67295927 | I46: 0.52811468 | J46: 3.9024519 | L46: 3.3532441 | M46: 3.3471335 | N46: 2.1995875 | O46: 0.8461239 | P46: 40 | Q46: 10 | R46: 15 | S46: 500
B47: 44603 | C47: 76.546744 | D47: 377.4611 | E47: 110.04473 | F47: 0.49274075 | G47: 0.87998659 | H47: 0.73486582 | I47: 0.65697252 | J47: 4.7983383 | L47: 3.154629 | M47: 3.3901625 | N47: 2.1714265 | O47: 0.42784871 | P47: 40 | Q47: 10 | R47: 15 | S47: 500
B48: 44604 | C48: 67.483689 | D48: 380.288 | E48: 126.28814 | F48: 0.49659905 | G48: 0.71345395 | H48: 0.58862151 | I48: 0.48664969 | J48: 2.3005587 | K48: 0.99432761 | L48: 2.5491595 | M48: 3.3104995 | N48: 1.8292261 | O48: 0.73239501 | P48: 40 | Q48: 10 | R48: 15 | S48: 500
B49: 44605 | C49: 40.725886 | D49: 464.3616 | E49: 117.99468 | F49: 0.56036181 | G49: 0.55561855 | H49: 0.41213768 | I49: 0.95681501 | J49: 3.0953744 | K49: 1.023631 | L49: 3.3655412 | M49: 3.4389936 | N49: 2.1351977 | O49: 7.0281736 | P49: 40 | Q49: 10 | R49: 15 | S49: 500
B50: 44606 | C50: 50.495867 | D50: 422.51367 | E50: 114.03268 | F50: 0.57886854 | G50: 0.46394279 | H50: 0.3416368 | I50: 1.3929573 | J50: 7.6378361 | K50: 1.3575968 | L50: 3.1828443 | M50: 3.3026209 | N50: 2.2357121 | O50: 5.1333027 | P50: 40 | Q50: 10 | R50: 15 | S50: 500
B51: 44607 | C51: 23.143543 | D51: 196.57208 | E51: 63.557947 | F51: 0.50457588 | G51: 0.5733956 | H51: 0.38868086 | I51: 1.4045242 | J51: 6.7940137 | K51: 1.139969 | L51: 3.4673294 | M51: 3.3710187 | N51: 2.2106145 | O51: 5.7692445 | P51: 40 | Q51: 10 | R51: 15 | S51: 500
B52: 44608 | C52: 41.823446 | D52: 469.4336 | E52: 150.13865 | F52: 0.57310772 | G52: 0.76275575 | H52: 0.57118647 | I52: 0.90005581 | J52: 3.368853 | K52: 0.95945689 | L52: 3.0497659 | M52: 3.5670062 | N52: 1.9512814 | O52: 1.9223837 | P52: 40 | Q52: 10 | R52: 15 | S52: 500
B53: 44609 | C53: 38.073173 | D53: 427.21954 | E53: 135.21386 | F53: 0.55129993 | G53: 1.3328173 | H53: 0.96119612 | I53: 0.54283284 | J53: 6.8619387 | K53: 2.0053328 | L53: 4.8602587 | M53: 3.7218856 | N53: 2.4280792 | O53: 1.5548628 | P53: 40 | Q53: 10 | R53: 15 | S53: 500
B54: 44610 | C54: 39.606337 | D54: 375.32897 | E54: 117.58109 | F54: 0.51554743 | G54: 0.96068416 | H54: 0.73629798 | I54: 0.65082198 | J54: 2.3137247 | K54: 1.1098355 | L54: 2.8347506 | M54: 3.0134957 | N54: 1.6299919 | O54: 1.2100757 | P54: 40 | Q54: 10 | R54: 15 | S54: 500
B55: 44611 | C55: 18.744641 | D55: 151.22174 | E55: 57.650233 | F55: 0.42361989 | G55: 0.48911304 | H55: 0.31300294 | I55: 0.85470368 | J55: 1.9276931 | K55: 0.90059919 | L55: 2.1183545 | M55: 2.8285957 | N55: 1.1934531 | O55: 1.5827994 | P55: 40 | Q55: 10 | R55: 15 | S55: 500
B56: 44612 | C56: 42.386728 | D56: 436.25404 | E56: 134.75003 | F56: 0.52966477 | G56: 1.1499624 | H56: 1.2357887 | I56: 1.0811145 | J56: 2.6136526 | K56: 1.4641104 | L56: 5.0619658 | M56: 3.7091431 | N56: 2.3615737 | O56: 1.9028949 | P56: 40 | Q56: 10 | R56: 15 | S56: 500
B57: 44613 | C57: 0 | D57: 0 | E57: 0 | F57: 0.076124068 | G57: 0.87381673 | H57: 0.52096901 | I57: 1.1523823 | J57: 3.6666579 | K57: 2.4525741 | L57: 4.8293314 | M57: 3.9295526 | N57: 2.4720598 | O57: 1.3877745 | P57: 40 | Q57: 10 | R57: 15 | S57: 500
B58: 44614 | C58: 0 | D58: 0 | E58: 0 | F58: 0.020907697 | G58: 1.2178681 | H58: 0.9501456 | I58: 1.3889376 | J58: 3.312711 | K58: 3.8281735 | L58: 7.5119161 | M58: 4.6050103 | N58: 3.0419109 | O58: 1.498515 | P58: 40 | Q58: 10 | R58: 15 | S58: 500
B59: 44615 | C59: 0 | D59: 0 | E59: 0 | F59: 0.019109687 | G59: 1.6854963 | H59: 1.2657056 | I59: 1.5841302 | J59: 1.3145648 | K59: 11.820702 | L59: 10.293214 | M59: 6.3189077 | N59: 3.6243821 | O59: 1.1802058 | P59: 40 | Q59: 10 | R59: 15 | S59: 500
... B68: 44624 | C68: 30.71927 | D68: 207.76967 | E68: 83.817621 | F68: 0.54063142 | G68: 1.7378442 | H68: 1.30435 | I68: 1.0807054 | J68: 3.6678802 | K68: 8.8730676 | L68: 7.0022166 | M68: 5.274168 | N68: 3.10492 | O68: 1.2261944 | P68: 40 | Q68: 10 | R68: 15 | S68: 500
B69: 44625 | C69: 52.458453 | D69: S5N_22_19A | E69: S5N_22_19A | F69: 0.53978452 | G69: 1.8575152 | H69: 1.5533148 | I69: 1.5959709 | J69: 5.7696656 | K69: 13.331256 | L69: 6.7469869 | M69: 5.2150383 | N69: 3.1076726 | O69: 0.70663551 | P69: 40 | Q69: 10 | R69: 15 | S69: 500
B70: 44626 | C70: 24.848311 | F70: 0.53124397 | G70: 1.8837033 | H70: 1.5398192 | I70: 1.421573 | J70: 5.5345553 | K70: 9.778581 | L70: 6.3545075 | M70: 5.0126194 | N70: 3.0491967 | O70: 0.72554817 | P70: 40 | Q70: 10 | R70: 15 | S70: 500
B71: 44627 | C71: 43.863247 | D71: 305.69074 | E71: 124.85324 | F71: 0.61775333 | G71: 2.5074393 | H71: 1.9162371 | I71: 1.6924095 | J71: 8.483751 | K71: 13.805368 | L71: 8.9204247 | M71: 6.4224867 | N71: 3.7217826 | O71: 0.87143731 | P71: 40 | Q71: 10 | R71: 15 | S71: 500
B72: 44628 | C72: 37.841567 | D72: 432.91903 | E72: 184.88517 | F72: 0.56141967 | G72: 1.8427211 | H72: 1.686795 | I72: 2.3520459 | J72: 10.491 | K72: 17.321238 | L72: 7.9724168 | M72: 5.7535638 | N72: 3.3822678 | O72: 0.68289325 | P72: 40 | Q72: 10 | R72: 15 | S72: 500
B73: 44629 | C73: 41.608902 | D73: 513.04468 | E73: 148.35311 | F73: 0.50629793 | G73: 1.4693757 | H73: 1.3933864 | I73: 1.5689894 | J73: 6.3465112 | K73: 14.432319 | L73: 6.7659014 | M73: 5.3220711 | N73: 2.9389172 | O73: 0.54380709 | P73: 40 | Q73: 10 | R73: 15 | S73: 500
B74: 44630 | C74: 39.691178 | D74: 463.05441 | E74: 154.01283 | F74: 0.56450607 | G74: 1.9689167 | H74: 1.6289334 | I74: 1.609401 | J74: 3.2909942 | K74: 12.910384 | L74: 4.8486951 | M74: 4.7064149 | N74: 2.5904848 | O74: 0.50694105 | P74: 40 | Q74: 10 | R74: 15 | S74: 500
B75: 44631 | C75: 34.028563 | D75: 479.47058 | E75: 152.42118 | F75: 0.49790087 | G75: 1.6137412 | H75: 1.0301219 | I75: 1.3557192 | J75: 3.0475861 | K75: 6.5023463 | L75: 5.3825535 | M75: 4.7106747 | N75: 2.7328253 | O75: 1.0795829 | P75: 40 | Q75: 10 | R75: 15 | S75: 500
B76: 44632 | C76: 40.165172 | D76: 463.21375 | E76: 124.26607 | F76: 0.55933321 | G76: 2.0332124 | H76: 1.1139377 | I76: 1.8488951 | J76: 3.1424223 | K76: 1.7985016 | L76: 5.5045557 | M76: 4.7159694 | N76: 2.5673784 | O76: 0.68193298 | P76: 40 | Q76: 10 | R76: 15 | S76: 500
B77: 44633 | C77: 48.464478 | D77: 494.19423 | E77: 147.03868 | F77: 0.49308176 | G77: 1.7939027 | H77: 1.1537669 | I77: 1.3551225 | J77: 4.0617912 | K77: 1.793201 | L77: 6.0360326 | M77: 4.5126642 | N77: 2.8390893 | O77: 0.55907608 | P77: 40 | Q77: 10 | R77: 15 | S77: 500
B78: 44634 | C78: 40.114228 | D78: 441.28461 | E78: 127.19324 | F78: 0.511946 | G78: 1.7240503 | H78: 1.1027005 | I78: 1.7547981 | J78: 5.6881635 | K78: 2.7488739 | L78: 7.4969516 | M78: 5.4009416 | N78: 3.2083293 | O78: 0.5561187 | P78: 40 | Q78: 10 | R78: 15 | S78: 500
B79: 44635 | C79: 53.354606 | D79: 464.06593 | E79: 154.12332 | F79: 0.57007105 | G79: 2.0935987 | H79: 1.2374602 | I79: 1.9848371 | J79: 3.6105711 | K79: 2.4068389 | L79: 5.5330791 | M79: 4.7704151 | N79: 2.6769075 | O79: 0.49158527 | P79: 40 | Q79: 10 | R79: 15 | S79: 500
B80: 44636 | C80: 50.950102 | D80: 429.39281 | E80: 161.42678 | F80: 0.60868973 | G80: 2.2569281 | H80: 0.7841311 | I80: 1.6266704 | J80: 5.0850633 | K80: 3.2184541 | L80: 8.1176699 | M80: 5.8287325 | N80: 3.1620305 | O80: 0.53218186 | P80: 40 | Q80: 10 | R80: 15 | S80: 500
B81: 44637 | C81: 53.92638 | D81: 374.00512 | E81: 137.6686 | F81: 0.6025655 | G81: 2.0816935 | H81: 1.125747 | I81: 1.7299543 | J81: 4.865153 | K81: 1.7714543 | L81: 7.3630891 | M81: 5.988068 | N81: 2.9144703 | O81: 0.46779806 | P81: 40 | Q81: 10 | R81: 15 | S81: 500
B82: 44638 | C82: 45.282775 | D82: 437.5314 | E82: 161.00472 | F82: 0.71032391 | G82: 2.0617735 | H82: 1.3080512 | I82: 1.3520263 | J82: 3.4965191 | K82: 1.6540763 | L82: 5.5186817 | M82: 4.5396965 | N82: 2.2510436 | O82: 0.59715161 | P82: 40 | Q82: 10 | R82: 15 | S82: 500
... B95: 44651 | C95: 26.020875 | D95: 389.25985 | E95: 128.85386 | F95: 0.72155517 | G95: 1.1853105 | H95: 0.94581863 | I95: 1.6769176 | J95: 7.1102231 | K95: 7.5627634 | L95: 7.4484255 | M95: 3.7620554 | N95: 2.4985233 | O95: 0.11136244 | P95: 40 | Q95: 10 | R95: 15 | S95: 500
B96: 44652
B97: 44653
