Workbook

Sheet Notes
B2: Reference conditions
B3: All concentrations in this spreadsheet are reported in dry air at a temperature of 273K, at a pressure of 101.3 kPa and with an oxygen content of 3% dry
B5: Uncertainty
B6: Concentrations in this spreadsheet are reported after having subtracted the value of the 95% confidence interval (see Section 3.6.7 of the permit):
C7: 95% confidence interval for nitrogen oxides is taken to be 20%
C8: 95% confidence interval for sulphur dioxide is taken to be 20%
C9: 95% confidence interval for dust is taken to be 30%
C10: 95% confidence interval for carbon monoxide is taken to be 10%
B12: Normal operating conditions
B13: The document "Power Plant Boiler Abnormal Conditions" sets out the criteria for excluding emissions monitoring data from permitting or other reporting obligations:
C14: Parameter | D14: Plant | E14: Level representing abnormal conditions
C15: Boiler oxygen | D15: All boilers | E15: >17% oxygen
C16: Fuel input | D16: A51, A52A, A52B, A53 and A62 | E16: <50% BFG by thermal input
D17: A50 (Service Boilers) | E17: <35% BFG by thermal input

Sheet Summary
D2: Dust concentrations in mg/m³ (except A55 as % obscuration), reported as measured (uncertainty not taken into account)
C3: Source | D3: A1 | E3: A2 | F3: A8A | G3: A8B | H3: A9 | I3: A10 | J3: A10A | K3: A14 | L3: A15 | M3: A16 | N3: A55 | O3: A63 | P3: A1 | Q3: A1
C4: Description | D4: Sinter plant main stack (particulate) | E4: Sinter plant deduster stack | F4: BF4 casthouse fume extraction North | G4: BF4 casthouse fume extraction South | H4: BF5 casthouse fume extraction | I4: Iron desulphurisation/hot metal pouring fume extraction plant stack | J4: Hot metal fume extraction no. 2 | K4: Secondary fume extraction stack North | L4: Secondary fume extraction stack Centre | M4: Secondary fume extraction stack South | N4: Morfa main stack | O4: CASOB/ desulph fume extraction plant | P4: Sinter plant main stack (SO2) | Q4: Sinter plant main stack (NOX)
B5: Daily means | C5: Minimum | D5: =MIN(Data!C6:C95) -> 0 | E5: =MIN(Data!F6:F95) -> 4.45512e-05 | F5: =MIN(Data!G:G) -> 0.43826519 | G5: =MIN(Data!H:H) -> 0.31300294 | H5: =MIN(Data!I:I) -> 0.42538563 | I5: =MIN(Data!J:J) -> 1.3145648 | J5: =MIN(Data!K:K) -> 0.90059919 | K5: =MIN(Data!L:L) -> 0.96083861 | L5: =MIN(Data!M:M) -> 2.3333601 | M5: =MIN(Data!N:N) -> 0.73152762 | O5: =MIN(Data!O:O) -> 0.081975877 | P5: =MIN(Data!D:D) -> 0 | Q5: =MIN(Data!E:E) -> 0
C6: Maximum | D6: =MAX(Data!C:C) -> 76.546744 | E6: =MAX(Data!F6:F95) -> 0.90713267 | F6: =MAX(Data!G:G) -> 3.2190503 | G6: =MAX(Data!H:H) -> 2.8575928 | H6: =MAX(Data!I:I) -> 2.3520459 | I6: =MAX(Data!J:J) -> 10.497886 | J6: =MAX(Data!K:K) -> 17.321238 | K6: =MAX(Data!L:L) -> 14.329903 | L6: =MAX(Data!M:M) -> 8.4939771 | M6: =MAX(Data!N:N) -> 13.215924 | O6: =MAX(Data!O:O) -> 7.0281736 | P6: =MAX(Data!D:D) -> 513.04468 | Q6: =MAX(Data!E:E) -> 184.88517
C7: Limit | D7: 40 | E7: 10 | F7: 15 | G7: 15 | H7: 15 | I7: 15 | J7: 15 | K7: 15 | L7: 15 | M7: 15 | O7: 15 | P7: 500 | Q7: 500
C8: No. > Limit | D8: =COUNTIF(Data!C:C,">"&D7) -> 47 | E8: =COUNTIF(Data!F81:F96,">"&E7) -> 0 | F8: =COUNTIF(Data!G:G,">"&F7) -> 0 | G8: =COUNTIF(Data!H:H,">"&G7) -> 0 | H8: =COUNTIF(Data!I:I,">"&H7) -> 0 | I8: =COUNTIF(Data!J:J,">"&I7) -> 0 | J8: =COUNTIF(Data!K:K,">"&J7) -> 1 | K8: =COUNTIF(Data!L:L,">"&K7) -> 0 | L8: =COUNTIF(Data!M:M,">"&L7) -> 0 | M8: =COUNTIF(Data!N:N,">"&M7) -> 0 | O8: =COUNTIF(Data!O:O,">"&O7) -> 0 | P8: =COUNTIF(Data!D:D,">"&P7) -> 1 | Q8: =COUNTIF(Data!E:E,">"&Q7) -> 0
B9: Weekly mean | C9: Minimum | N9: =MIN(Data!U:U) -> 19.43
C10: Maximum | N10: =MAX(Data!U:U) -> 42.19
C11: Limit | N11: 25
C12: No. > Limit | N12: =COUNTIF(Data!U:U,">"&N11) -> 8

Sheet Plots
N2: NOTES

Sheet Data
C2: Measured concentrations - daily means (mg/m³) | P2: Limits | U2: Obscuration %
B3: Source | C3: A1 | D3: A1 | E3: A1 | F3: A2 | G3: A8A | H3: A8B | I3: A9 | J3: A10 | K3: A10A | L3: A14 | M3: A15 | N3: A16 | O3: A63 | P3: A1 | Q3: A2 | R3: BF and BOS plant sources | S3: A1 | T3: Source | U3: A55
B4: Description | C4: Sinter plant main stack (Particulate) | D4: Sinter plant main stack (SO2) | E4: Sinter plant main stack (NOX) | F4: Sinter plant deduster stack | G4: BF4 casthouse fume extraction North | H4: BF4 casthouse fume extraction South | I4: BF5 casthouse fume extraction | J4: Iron desulphurisation/hot metal pouring fume extraction plant stack | K4: Hot metal fume extraction no. 2 | L4: Secondary fume extraction stack North | M4: Secondary fume extraction stack Centre | N4: Secondary fume extraction stack South | O4: CASOB/ desulph fume extraction plant | P4: Sinter plant main stack | Q4: Sinter plant deduster stack | S4: Sinter Plant Main Stack SO2 & NOX | T4: Description | U4: Morfa main stack
B5: Date | T5: Week commencing | U5: Measured | V5: Limit
B6: 44562 | C6: 40.869146 | D6: 443.24125 | E6: 142.72346 | F6: 0.64091327 | G6: 1.5397238 | H6: 1.5424809 | I6: 1.429616 | J6: 3.7797203 | K6: Fan out for inspection and repair as discussed with NRW - See submission: A10A Fume Extraction 004_28042022 | L6: S5N_21_72A | O6: S5N_21_48A | P6: 40 | Q6: 10 | R6: 15 | S6: 500 | T6: 44563 | U6: 35.79 | V6: 25 | W6: S5N_22_01A
B7: 44563 | C7: 45.645884 | D7: 348.34087 | E7: 147.5903 | F7: 0.55181221 | G7: 1.1511229 | H7: 1.0534782 | I7: 1.3904589 | J7: 4.1502601 | P7: 40 | Q7: 10 | R7: 15 | S7: 500 | T7: =T6+7 -> 44570 | U7: 42.19 | V7: 25 | W7: S5N_22_02A
B8: 44564 | C8: 42.610144 | D8: 311.32486 | E8: 159.4528 | F8: 0.53798743 | G8: 1.6794847 | H8: 1.5193546 | I8: 1.4210332 | J8: 4.7457523 | P8: 40 | Q8: 10 | R8: 15 | S8: 500 | T8: =T7+7 -> 44577 | U8: 29.13 | V8: 25 | W8: S5N_22_04A
B9: 44565 | C9: 44.354753 | D9: 100.14556 | E9: 51.117716 | F9: 0.51001693 | G9: 1.427073 | H9: 1.2210822 | I9: 1.2127642 | J9: 4.839418 | L9: 2.8443786 | M9: 3.0797227 | N9: 1.9608288 | P9: 40 | Q9: 10 | R9: 15 | S9: 500 | T9: =T8+7 -> 44584 | U9: 34.15 | V9: 25 | W9: S5N_22_07A
B10: 44566 | C10: 45.392853 | D10: 151.39447 | E10: 76.009335 | F10: 0.50521355 | G10: 1.2133192 | H10: 1.2041521 | I10: 1.5604749 | J10: 6.1354298 | L10: 4.5874594 | M10: 3.6027381 | N10: 2.8462276 | P10: 40 | Q10: 10 | R10: 15 | S10: 500 | T10: =T9+7 -> 44591 | U10: 32.16 | V10: 25 | W10: S5N_22_10A
B11: 44567 | C11: 27.064111 | D11: 246.83684 | E11: 95.889817 | F11: 0.43327662 | G11: 1.5968484 | H11: 1.399046 | I11: 1.8917513 | J11: 6.1873381 | L11: 5.8649221 | M11: 4.1677567 | N11: 3.1578542 | P11: 40 | Q11: 10 | R11: 15 | S11: 500 | T11: =T10+7 -> 44598 | U11: 34.78 | V11: 25 | W11: S5N_22_11A
B12: 44568 | C12: 28.937147 | D12: 312.92424 | E12: 143.48831 | F12: 0.54186464 | G12: 2.2878067 | H12: 2.4101057 | I12: 1.6269024 | J12: 6.1019353 | L12: 4.4045939 | M12: 3.6880809 | N12: 2.6368974 | P12: 40 | Q12: 10 | R12: 15 | S12: 500 | T12: =T11+7 -> 44605 | U12: 33.41 | V12: 25 | W12: S5N_22_14A
B13: 44569 | C13: 29.235941 | D13: 312.44324 | E13: 146.21199 | F13: 0.51582284 | G13: 3.2190503 | H13: 2.8575928 | I13: 1.1596032 | J13: 4.8642213 | L13: 4.2596749 | M13: 3.6668976 | N13: 2.5860986 | P13: 40 | Q13: 10 | R13: 15 | S13: 500 | T13: =T12+7 -> 44612 | U13: 31.39 | V13: 25 | W13: S5N_22_15A
B14: 44570 | C14: 35.775039 | D14: 303.66456 | E14: 162.52042 | F14: 0.52387129 | G14: 2.1420086 | H14: 1.9811259 | I14: 1.3152989 | J14: 5.8072009 | L14: 4.4469806 | M14: 3.7658146 | N14: 2.6862879 | P14: 40 | Q14: 10 | R14: 15 | S14: 500 | T14: =T13+7 -> 44619 | U14: 21.73 | V14: 25
B15: 44571 | C15: 44.884645 | D15: 302.78222 | E15: 160.53797 | F15: 0.54326915 | G15: 1.8264741 | H15: 1.4915959 | I15: 0.97985035 | J15: 6.4118262 | L15: 4.3102114 | M15: 3.6894196 | N15: 2.7510597 | P15: 40 | Q15: 10 | R15: 15 | S15: 500 | T15: =T14+7 -> 44626 | U15: 23.51 | V15: 25
B16: 44572 | C16: 58.924795 | D16: 341.68803 | E16: 169.51754 | F16: 0.63252982 | G16: 2.1390196 | H16: 1.7853839 | I16: 1.8471722 | J16: 7.5239975 | L16: 5.7903025 | M16: 4.1403624 | N16: 3.0182205 | P16: 40 | Q16: 10 | R16: 15 | S16: 500 | T16: =T15+7 -> 44633 | U16: 19.43 | V16: 25
B17: 44573 | C17: 51.95133 | D17: 313.48813 | E17: 122.79705 | F17: 0.65785174 | G17: 1.4976082 | H17: 1.4283553 | I17: 1.9758958 | J17: 6.4838803 | L17: 4.4906588 | M17: 3.6618464 | N17: 2.5976572 | P17: 40 | Q17: 10 | R17: 15 | S17: 500 | T17: =T16+7 -> 44640 | U17: 23.92 | V17: 25
B18: 44574 | C18: 52.573901 | D18: 353.49431 | E18: 140.24957 | F18: 0.73716371 | G18: 2.0701592 | H18: 1.8440889 | I18: 1.9662391 | J18: 4.4200393 | L18: 5.1378903 | M18: 4.0877151 | N18: 2.9142742 | P18: 40 | Q18: 10 | R18: 15 | S18: 500 | T18: =T17+7 -> 44647 | U18: 20.38 | V18: 25
B19: 44575 | C19: 57.716658 | D19: 448.32564 | E19: 120.37016 | F19: 0.79597065 | G19: 1.9083449 | H19: 1.7365093 | I19: 1.7380533 | J19: 4.5330229 | L19: 5.1214172 | M19: 4.0124871 | N19: 3.0874194 | P19: 40 | Q19: 10 | R19: 15 | S19: 500
B20: 44576 | C20: 53.447401 | D20: 436.57673 | E20: 131.27635 | F20: 0.69356394 | G20: 1.3334303 | H20: 1.1490266 | I20: 2.0939271 | J20: 7.1907648 | L20: 5.6477762 | M20: 4.165994 | N20: 3.0097516 | P20: 40 | Q20: 10 | R20: 15 | S20: 500
B21: 44577 | C21: 48.48448 | D21: 278.83824 | E21: 78.348363 | F21: 0.71235976 | G21: 2.0841438 | H21: 1.6012935 | I21: 1.7596674 | J21: 7.4658996 | L21: 4.8251701 | M21: 3.746292 | N21: 2.6798074 | P21: 40 | Q21: 10 | R21: 15 | S21: 500
B22: 44578 | C22: 42.708425 | D22: 194.11642 | E22: 59.00286 | F22: 0.66079147 | G22: 1.6362551 | H22: 1.4364741 | I22: 1.5687045 | J22: 9.7818059 | L22: 5.6104205 | M22: 4.2034069 | N22: 2.8771744 | P22: 40 | Q22: 10 | R22: 15 | S22: 500
B23: 44579 | C23: 0.0043258102 | D23: 0 | E23: 0 | F23: 4.45512e-05 | G23: 1.861338 | H23: 1.6129876 | I23: 2.195442 | J23: 7.8647853 | L23: 5.2739394 | M23: 4.2626117 | N23: 2.6760047 | P23: 40 | Q23: 10 | R23: 15 | S23: 500
B24: 44580 | C24: 40.449727 | D24: 72.700023 | E24: 54.693146 | F24: 0.46079038 | G24: 1.2911935 | H24: 1.1387011 | I24: 1.6705965 | J24: 5.3232726 | L24: 5.0070352 | M24: 3.7959993 | N24: 2.633487 | P24: 40 | Q24: 10 | R24: 15 | S24: 500
B25: 44581 | C25: 52.577319 | D25: 201.3299 | E25: 116.145 | F25: 0.63171114 | G25: 1.3168372 | H25: 1.1180817 | I25: 1.9460779 | J25: 9.9944311 | L25: 5.0564551 | M25: 3.8104277 | N25: 2.7273536 | P25: 40 | Q25: 10 | R25: 15 | S25: 500
B26: 44582 | C26: 36.458191 | D26: 284.50651 | E26: 130.48773 | F26: 0.59270466 | G26: 1.2501216 | H26: 1.0646811 | I26: 1.7131716 | J26: 7.6767414 | L26: 6.112423 | M26: 4.2342402 | N26: 2.8897155 | P26: 40 | Q26: 10 | R26: 15 | S26: 500
B27: 44583 | C27: 32.828155 | D27: 354.34282 | E27: 125.83306 | F27: 0.60504955 | G27: 1.1869829 | H27: 1.0190682 | I27: 2.2171712 | J27: 9.2658558 | L27: 6.061146 | M27: 4.1574908 | N27: 2.8963725 | P27: 40 | Q27: 10 | R27: 15 | S27: 500
B28: 44584 | C28: 38.003471 | D28: 382.06816 | E28: 137.34318 | F28: 0.61711141 | G28: 1.2335079 | H28: 1.1118833 | I28: 1.9167934 | J28: 8.8081472 | L28: 5.5602346 | M28: 4.1501552 | N28: 2.8064602 | P28: 40 | Q28: 10 | R28: 15 | S28: 500
B29: 44585 | C29: 31.307531 | D29: 165.96768 | E29: 65.091761 | F29: 0.57537217 | G29: 1.3331225 | H29: 1.045269 | I29: 1.1831916 | J29: 6.2803522 | L29: 4.2834894 | M29: 3.6631834 | N29: 2.5135079 | P29: 40 | Q29: 10 | R29: 15 | S29: 500
B30: 44586 | C30: 36.635645 | D30: 193.52673 | E30: 80.412933 | F30: 0.66146652 | G30: 1.3950172 | H30: 0.96978856 | I30: 1.5807714 | J30: 8.9457135 | L30: 4.0697186 | M30: 3.5406324 | N30: 2.4312277 | P30: 40 | Q30: 10 | R30: 15 | S30: 500
... B37: 44593 | C37: 57.278066 | D37: 387.1158 | E37: 146.55857 | F37: 0.66462529 | G37: 2.4167711 | H37: 0.4879464 | I37: 1.398323 | J37: 2.4539162 | L37: 2.9905041 | M37: 2.9961758 | N37: 1.7546452 | P37: 40 | Q37: 10 | R37: 15 | S37: 500
B38: 44594 | C38: 49.032697 | D38: 387.64238 | E38: 145.00992 | F38: 0.70643858 | G38: 1.3731183 | H38: 0.3617072 | I38: 1.38371 | J38: 2.6174367 | L38: 1.7854913 | M38: 2.7327555 | N38: 1.2293051 | O38: 2.804327 | P38: 40 | Q38: 10 | R38: 15 | S38: 500
B39: 44595 | C39: 34.614347 | D39: 253.67648 | E39: 104.44878 | F39: 0.6386664 | G39: 0.81084267 | H39: 0.48709524 | I39: 1.2183138 | J39: 2.1166015 | L39: 0.96083861 | M39: 2.3333601 | N39: 0.75120299 | O39: 2.7095582 | P39: 40 | Q39: 10 | R39: 15 | S39: 500
B40: 44596 | C40: 43.933593 | D40: 84.452902 | E40: 37.568092 | F40: 0.64288353 | G40: 0.96715458 | H40: 0.64679607 | I40: 1.1244429 | J40: 2.8233014 | L40: 2.6515237 | M40: 2.9072325 | N40: 2.0317879 | O40: 5.3023586 | P40: 40 | Q40: 10 | R40: 15 | S40: 500
B41: 44597 | C41: 46.190593 | D41: S5N_22_33A | E41: S5N_22_33A | F41: 0.67380831 | G41: 0.67815594 | H41: 0.61722697 | I41: 0.42538563 | J41: 4.1507083 | L41: 3.7329765 | M41: 3.2233142 | N41: 2.3698724 | O41: 6.5290035 | P41: 40 | Q41: 10 | R41: 15 | S41: 500
B42: 44598 | C42: 33.379408 | F42: 0.66806811 | G42: 0.67983791 | H42: 0.55152406 | I42: 0.81964727 | J42: 2.9006262 | L42: 2.5579779 | M42: 2.9279193 | N42: 1.6888681 | O42: 3.6205672 | P42: 40 | Q42: 10 | R42: 15 | S42: 500
B43: 44599 | C43: 51.96535 | D43: 230.99145 | E43: 81.417774 | F43: 0.68346682 | G43: 0.43826519 | H43: 0.35511212 | I43: 1.0868899 | J43: 4.6069441 | L43: 3.0341137 | M43: 3.1772093 | N43: 1.8496625 | O43: 0.81271639 | P43: 40 | Q43: 10 | R43: 15 | S43: 500
B44: 44600 | C44: 44.436599 | D44: 295.13103 | E44: 93.06401 | F44: 0.48663368 | G44: 0.44934321 | H44: 0.35356802 | I44: 1.1950587 | J44: 5.4075839 | L44: 3.7892957 | M44: 3.3812525 | N44: 2.1366209 | O44: 0.94450309 | P44: 40 | Q44: 10 | R44: 15 | S44: 500
B45: 44601 | C45: 57.834401 | D45: 378.77576 | E45: 104.99267 | F45: 0.4906045 | G45: 0.50529863 | H45: 0.34955767 | I45: 1.149117 | J45: 2.1574479 | L45: 2.991362 | M45: 2.9103846 | N45: 1.6884786 | O45: 2.0297776 | P45: 40 | Q45: 10 | R45: 15 | S45: 500
B46: 44602 | C46: 18.189791 | D46: 164.41863 | E46: 56.494129 | F46: 0.36893608 | G46: 0.92094054 | H46: 0.67295927 | I46: 0.52811468 | J46: 3.9024519 | L46: 3.3532441 | M46: 3.3471335 | N46: 2.1995875 | O46: 0.8461239 | P46: 40 | Q46: 10 | R46: 15 | S46: 500
B47: 44603 | C47: 76.546744 | D47: 377.4611 | E47: 110.04473 | F47: 0.49274075 | G47: 0.87998659 | H47: 0.73486582 | I47: 0.65697252 | J47: 4.7983383 | L47: 3.154629 | M47: 3.3901625 | N47: 2.1714265 | O47: 0.42784871 | P47: 40 | Q47: 10 | R47: 15 | S47: 500
...
