Workbook
Name _Hlk521673415: 'D2'!#REF!
Name _Hlk86829056: 'B4.C4'!#REF!

Sheet Intro
A1: How to use
A2: 1. save a copy of this checklist into your WIP. Do not amend this document (including deleting tabs) without doing this first as deleting tabs cannot be undone.
A3: 2. select what tabs you need to keep/delete based on the application type you are determining. See below for types
A4: 3. on each non-supporting documents tab select the application type on the filtered section, and hide the options
A5: 4. read each question and applicable drafting notes (in pink) carefully, as some of the questions have changed. Remember to delete the drafting notes before saving the final version to the DMS
A6: 5. the checklist will record the number of "no" answers on each tab and summarise them on the decisions and actions tab.
A7: 6. any "no" that is highlighted as red will trigger a returned application
A10: Type | B10: Drafting note | C10: Tabs
A11: New Bespoke Extractive Waste | B11: Select this for all new Tier 2 and Tier 3 bespoke mining waste permit applications. For standard rule mining waste permit applications use the standard rule permit option. | C11: Details Dates Doc and info check Part A Part F1 Part B1/C1 Part B2/C2 Part B5/C5 Decision and actions required Relevant supporting doc tab(s)
A12: New Bespoke Tier 2 | B12: Select this for all new Tier 2 bespoke applications, that are not mining waste. | C12: Details Dates Doc and info check Part A Part F1 Part B2/C2 Part B4/C4 Decision and actions required Relevant supporting doc tab(s)
A13: New Bespoke Tier 3 | B13: Select this for all new tier 3 bespoke applications, that are not mining waste. For bespoke application that also include standard rule activities, use the SRP option as well. | C13: Details Dates Doc and info check Part A Part F1 Part B1/C1 Part B2/C2 Part B4/C4 Decision and actions required Relevant supporting doc tab(s)
A14: SRP- New and Var | B14: Select this for all new standard rule applications, you can also use this option for variation applications to add OR to become a standard rule activity. These are separate columns on the Part B1.C1 tab, but a single column on all other tabs. For new standard rule applications that also include bespoke activities, use the bespoke T3 option as well. If the application is for SR2012 No15 then you should send a draft permit to the applicant and get them to review and confirm the PERMIT boundary. | C14: Details Dates Doc and info check Part A Part F1 Part B1/C1 Decision and actions required Relevant supporting doc tab(s)
A15: Variation Admin | B15: Select this for administrative variations only. Use the other variation options for all other variations, except those to vary to become/ add a standard rule set to an existing permit. For applications to vary to become/ add a standard rule set use the standard rule option. | C15: Details Dates Doc and info check Part A Part C0.5 Decision and actions required Relevant supporting doc tab(s)
A16: Variation MT and Normal | B16: Select this for all variation applications except those involving rule sets or administrative variations. If the application is to add or vary or to become a standard rule facility, and other changes, use the SRP option as well. | C16: Details Dates Doc and info check Part A Part F1 Part B1/C1 Part B2/C2 Part B4/C4 Decision and actions required Relevant supporting doc tab(s)
A17: Variation MT- SRP | B17: Select this for Minor Technical variations to increase the permitted area of Standard Rules Permits only. These were previously administrative but now chargeable. | C17: Details Dates Doc and info check Part A Part F1 Part C0.5 Decision and actions required Relevant supporting doc tab(s)
A18: Transfer | B18: Select this for all transfer applications – both full and partial. | C18: Details Dates Doc and info check Part A Part F1 Part D2 Decision and actions required Relevant supporting doc tab(s)
A19: Surrender- Site | B19: Select this for all waste facility and non-installation mining waste activity surrender applications. The checklist can be used for all types of surrender application; full (normal), partial, low risk, basic and ‘non-operational’. Do not use this option for surrender of mobile plant permits. Use the mobile plant permit surrender notification option instead. | C19: Details Dates Doc and info check Part A Part F1 Part E2 Decision and actions required Relevant supporting doc tab(s)
A20: Surrender Mobile Plant | B20: Select this for all waste mobile plant permit surrender notifications. Do not use this checklist for surrender of site based waste permits. Surrender of site based permits must follow the application process; their surrender cannot be carried out by notification. Use the surrender-site option instead. | C20: Details Dates Doc and info check Part A Part F1 Part E2 Decision and actions required Relevant supporting doc tab(s)

Sheet Details & Dates
A1: Application details
A2: PAN reference | B2: PAN-020942
A3: EPR reference | B3: -
A4: Applicant name | B4: Associated British Ports
A5: Facility name | B5: Roath Docks, Old Clipper Road, Cardiff Docks, Cardiff, CF10 4LY
A6: Area | B6: South Central
A7: Operations Team | B7: SC Waste Regulation Team
A8: Site officer/team leader | B8: Gareth Davies
A9: Total time recording | B9: 420min
A11: Relevant dates | C11: New Bespoke Extractive Waste | D11: New Bespoke Tier 2 | E11: New Bespoke Tier 3 | F11: SRP- New or Var | G11: Variation Admin | H11: Variation MT and Normal | I11: Variation MT- SRP | J11: Transfer | K11: Surrender- Site | L11: Surrender MP
A12: Date application arrived in NRW | B12: 44984 | C12: Y | D12: Y | E12: Y | F12: Y | G12: Y | H12: Y | I12: Y | J12: Y | K12: Y | L12: Y
A13: Date application acknowledged | B13: 44984 | C13: Y | D13: Y | E13: Y | F13: Y | G13: Y | H13: Y | I13: Y | J13: Y | K13: Y | L13: Y
A14: Date not duly made (information request sent) | B14: N/A | C14: Y | D14: Y | E14: Y | F14: Y | G14: Y | H14: Y | I14: Y | J14: Y | K14: Y | L14: Y
A15: Date of any additional not duly made requests | B15: N/A | C15: Y | D15: Y | E15: Y | F15: Y | G15: Y | H15: Y | I15: Y | J15: Y | K15: Y | L15: Y
A16: Date duly made The duly made date is either (i) the date the application was originally received at Natural Resources Wales in the event of no additional information being requested during the duly make process. OR (ii) the date at which the final piece of additional information requested during the duly make process is received | B16: 44984 | C16: Y | D16: Y | E16: Y | F16: Y | G16: Y | H16: Y | I16: Y | J16: Y | K16: Y | L16: Y
A17: Date returned to applicant or deemed withdrawn | B17: N/A | C17: Y | D17: Y | E17: Y | F17: Y | G17: Y | H17: Y | I17: Y | J17: Y | K17: Y | L17: Y
A18: Date applicant sent duly made confirmation | B18: 45078 | C18: Y | D18: Y | E18: Y | F18: Y | G18: Y | H18: Y | I18: Y | J18: Y | K18: Y | L18: Y
A19: Date sent to external consultees (if applicable) | B19: N/A | C19: Y | D19: N | E19: Y | F19: N | G19: N | H19: Y | I19: Y | J19: N | K19: Y | L19: N
A20: Date application publicised on Website | B20: N/A | C20: N | D20: N | E20: Y | F20: N | G20: N | H20: Y | I20: Y | J20: N | K20: Y | L20: N
A21: Date advert placed in newspaper (if applicable) | B21: N/A | C21: N | D21: N | E21: Y | F21: N | G21: N | H21: Y | I21: Y | J21: N | K21: Y | L21: N
A22: Date application publicised on Natural Resources Wales Website and on Social Media (Twitter and Facebook Page) | C22: Y | D22: N | E22: N | F22: N | G22: N | H22: N | I22: N | J22: N | K22: N | L22: N
A23: Date advert placed in newspaper (if applicable) | C23: Y | D23: N | E23: N | F23: N | G23: N | H23: N | I23: N | J23: N | K23: N | L23: N
A24: Date email sent to MP’s /AM’s (if required and agreed by the Area) | C24: Y | D24: N | E24: N | F24: N | G24: N | H24: N | I24: N | J24: N | K24: N | L24: N

Sheet Doc's & info
A1: Documents and information checklist: | D1: New Bespoke Extractive Waste | E1: New Bespoke Tier 2 | F1: New Bespoke Tier 3 | G1: SRP- New or Var | H1: Variation Admin | I1: Variation MT and Normal | J1: Variation MT- SRP | K1: Transfer | L1: Surrender- Site | M1: Surrender Mobile Plant
B2: Yes/No/NA | C2: Comments | D2: Y | E2: Y | F2: Y | G2: Y | H2: Y | I2: Y | J2: Y | K2: Y | L2: Y | M2: Y
A3: Environment Management System summary | B3: Yes | C3: See other tab for details. | D3: Y | E3: N | F3: Y | G3: N | H3: Y | I3: Y | J3: N | K3: Y | L3: N | M3: N | O3: Yes
A4: Non technical summary | B4: Yes | C4: Form C2 | D4: Y | E4: N | F4: Y | G4: N | H4: Y | I4: Y | J4: N | K4: Y | L4: Y | M4: N | O4: No
A5: Site plan | B5: Yes | D5: Y | E5: Y | F5: Y | G5: Y | H5: Y | I5: Y | J5: Y | K5: Y | L5: Y | M5: N | O5: N/A
A6: Site specific risk assessment | B6: Yes | C6: See other specific tab | D6: Y | E6: Y | F6: Y | G6: N | H6: N | I6: Y | J6: N | K6: Y | L6: N | M6: N
A7: Site condition report | B7: N/A | D7: Y | E7: N | F7: Y | G7: N | H7: N | I7: Y | J7: N | K7: N | L7: N | M7: N
A8: Odour management plan | B8: N/A | D8: Y | E8: N | F8: Y | G8: N | H8: N | I8: Y | J8: N | K8: Y | L8: N | M8: N
A9: Waste Recovery Plan | B9: N/A | D9: N | E9: N | F9: Y | G9: Y | H9: N | I9: Y | J9: N | K9: N | L9: N | M9: N
A10: Fire prevention mitigation plan | B10: N/A | D10: N | E10: N | F10: Y | G10: N | H10: N | I10: Y | J10: N | K10: N | L10: N | M10: N
A11: Noise impact assessment and management plan | B11: N/A | D11: N | E11: N | F11: Y | G11: N | H11: N | I11: Y | J11: N | K11: N | L11: N | M11: N
A12: Waste Management Plan | C12: Part Transfer: Only needed if the new holder isn’t/ can’t use the existing management system. | D12: Y | E12: N | F12: N | G12: N | H12: N | I12: N | J12: N | K12: N | L12: N | M12: N
A13: Other management plans | B13: N/A | D13: Y | E13: N | F13: Y | G13: N | H13: N | I13: Y | J13: N | K13: Y | L13: N | M13: N
A14: Technical competence information Including continuing competence evidence, if needed | B14: N/A | D14: Y | E14: Y | F14: Y | G14: Y | H14: N | I14: Y | J14: N | K14: Y | L14: N | M14: N
A15: Financial information | B15: N/A | D15: N | E15: Y | F15: Y | G15: Y | H15: N | I15: Y | J15: N | K15: N | L15: N | M15: N
A16: Financial Provision information | B16: N/A | D16: Y | E16: N | F16: Y | G16: N | H16: N | I16: Y | J16: N | K16: Y | L16: N | M16: N
A17: Relevant conviction information | D17: Y | E17: Y | F17: Y | G17: N | H17: N | I17: N | J17: N | K17: N | L17: N | M17: N
A18: OPRA spreadsheet (electronic format) | B18: Yes | D18: Y | E18: N | F18: Y | G18: N | H18: N | I18: Y | J18: N | K18: Y | L18: Y | M18: N
A19: Fee | C19: Amount:£8094 Date Paid:17/10/2022 Transaction Number:2106819 MyNRW reference: BS/171022/36 Associated Britsh Ports | D19: Y | E19: Y | F19: Y | G19: Y | H19: N | I19: Y | J19: Y | K19: Y | L19: Y | M19: Y
A20: Industrial Emissions Directive (IED) Activity Is the activity/ies that the applicant has applied for subject to the Industrial Emissions Directive? These activities include: - Pre-treatment of waste for incineration and co-incineration - Storage of hazardous waste - Biological treatment of waste (i.e. composting and anaerobic digestion) - Treatment of slags and ashes - Treatment of metal in shredders | B20: N/A | D20: N | E20: N | F20: Y | G20: N | H20: N | I20: Y | J20: N | K20: N | L20: N | M20: N
A21: If it is an IED activity, has the applicant provided information to demonstrate how they will comply with the relevant limits and therefore be able to remain as a waste facility? | D21: N | E21: N | F21: Y | G21: N | H21: N | I21: Y | J21: N | K21: N | L21: N | M21: N
A22: Evidence to support basic surrender | C22: Surrender- site: only if operator claiming basic surrender | D22: N | E22: N | F22: N | G22: N | H22: N | I22: N | J22: N | K22: N | L22: Y | M22: N
A23: Evidence to support low risk surrender | C23: Surrender- site: only if operator claiming low risk surrender | D23: N | E23: N | F23: N | G23: N | H23: N | I23: N | J23: N | K23: N | L23: Y | M23: N
A24: Evidence to support non-operational surrender | C24: Surrender- site: only if operator claims activities haven’t started | D24: N | E24: N | F24: N | G24: N | H24: N | I24: N | J24: N | K24: N | L24: Y | M24: N
A25: Evidence to support full/normal surrender | C25: Surrender- site: only if operator claiming full/normal i.e. has reference data been submitted) | D25: N | E25: N | F25: N | G25: N | H25: N | I25: N | J25: N | K25: N | L25: Y | M25: N
A26: Site closure/ surrender report | C26: Surrender- site: The content of this report should enable us to confirm the area being surrendered matches the relevant permitted area. | D26: N | E26: N | F26: N | G26: N | H26: N | I26: N | J26: N | K26: N | L26: Y | M26: N
A27: Report on ‘steps taken to avoid pollution/ return the site to satisfactory sate’. | D27: N | E27: N | F27: N | G27: N | H27: N | I27: N | J27: N | K27: N | L27: Y | M27: N
A28: Site plan showing area being surrendered | D28: N | E28: N | F28: N | G28: N | H28: N | I28: N | J28: N | K28: N | L28: Y | M28: N
A29: Parts C1/ C2 &C4 of our application form(s) | C29: Surrender- site- part: Only where the part surrender will require changes to the permit conditions – not just the site plan. | D29: N | E29: N | F29: N | G29: N | H29: N | I29: N | J29: N | K29: N | L29: Y | M29: N
A30: Appropriate forms submitted to the WR or WQ teams? | D30: Y | E30: N | F30: N | G30: N | H30: N | I30: N | J30: N | K30: N | L30: N | M30: N
A31: Has geoscience made any comment on the WQ/WR forms that may be considered in determination? | D31: Y | E31: N | F31: N | G31: N | H31: N | I31: N | J31: N | K31: N | L31: N | M31: N
A32: Percentage of required documents missing | B32: =(100*(COUNTIF(B3:B31,"No"))/((COUNTIF(B3:B31,"Yes"))+(COUNTIF(B3:B31,"No")))) -> 0 | C32: Where over 25% of responses are no, the application is regarded as incomplete | D32: Y | E32: Y | F32: Y | G32: Y | H32: Y | I32: Y | J32: Y | K32: Y | L32: Y | M32: Y

Sheet A
A1: Application form Part A – applicant/ operator details
A2: Qu # | B2: Action | C2: Yes/No/NA | D2: Comments | F2: Yes
A3: 1 to 5 | B3: Applicant details complete? | C3: Yes | F3: No
A4: 6 | B4: Address details complete? | C4: Yes | F4: N/A
A5: 6 | B5: Registered companies only. Is it registered and active on Companies House? | C5: Yes | D5: Date checked:17/05/2023 Cannot check active officer because of type of company registration ('ZC' unregistered company)
A6: 6 | B6: If an existing permit, does the site and company address(es) match the current permit? | C6: N/A
A7: 7 | B7: Contact details complete? | C7: Yes
B8: Is the applicant a legal person as per definition of ‘operator’? | C8: Yes | D8: see letter of authorisation as per declaration in part F1
B9: Percentage of form incomplete | C9: =(100*(COUNTIF(C3:C8,"No"))/((COUNTIF(C3:C8,"Yes"))+(COUNTIF(C3:C8,"No")))) -> 0 | D9: Where over 25% of responses are no, the form is regarded as incomplete

Sheet F1
A1: Application form Part F1 - Initial checks, including payment, confidentiality, national security and declaration | E1: New Bespoke Extractive Waste | F1: New Bespoke Tier 2 | G1: New Bespoke Tier 3 | H1: SRP- New or Var | I1: Variation Admin | J1: Variation MT and Normal | K1: Variation MT- SRP | L1: Transfer | M1: Surrender- Site | N1: Surrender Mobile Plant
A2: Qu # | B2: Action | C2: Yes/No/NA | D2: Comments | E2: Y | F2: Y | G2: Y | H2: Y | I2: N | J2: Y | K2: Y | L2: Y | M2: Y | N2: Y
A3: 1 | B3: Table 1 Complete? | C3: Yes | E3: Y | F3: Y | G3: Y | H3: Y | I3: N | J3: Y | K3: Y | L3: Y | M3: Y | N3: Y | P3: Yes
A4: 1 | B4: Has the correct application type/ fee been identified? | C4: Yes | E4: Y | F4: Y | G4: Y | H4: Y | I4: N | J4: Y | K4: Y | L4: Y | M4: Y | N4: Y | P4: No
A5: 2 | B5: Has the OPRA profile been provided? | C5: Yes | E5: Y | F5: Y | G5: Y | H5: Y | I5: N | J5: Y | K5: N | L5: Y | M5: Y | N5: Y | P5: N/A
A6: 2 | B6: Has the OPRA profile been provided on Excel? | C6: Yes | E6: Y | F6: Y | G6: Y | H6: Y | I6: N | J6: Y | K6: N | L6: Y | M6: Y | N6: Y
A7: 3 | B7: Is the payment type shown? | C7: Yes | E7: Y | F7: Y | G7: Y | H7: Y | I7: N | J7: Y | K7: Y | L7: Y | M7: Y | N7: Y
A8: 3 | B8: Have the payment details been completed? | C8: Yes | E8: Y | F8: Y | G8: Y | H8: Y | I8: N | J8: Y | K8: Y | L8: Y | M8: Y | N8: Y
A9: 3 | B9: Is the payment on MyNRW? | C9: Yes | E9: Y | F9: Y | G9: Y | H9: Y | I9: N | J9: Y | K9: Y | L9: Y | M9: Y | N9: Y
A10: 3 | B10: Is the fee correct? | C10: Yes | D10: See OPRA tab of this document | E10: Y | F10: Y | G10: Y | H10: Y | I10: N | J10: Y | K10: Y | L10: Y | M10: Y | N10: Y
A11: 5 | B11: Confidentiality: If the applicant has asked information to be treated as confidential, has the required evidence been provided? | C11: N/A | E11: Y | F11: Y | G11: Y | H11: Y | I11: N | J11: Y | K11: Y | L11: Y | M11: Y | N11: Y
A12: 5 | B12: National Security: If the applicant has stated information should not be on the public register due to National Security risk, has the letter from the Welsh Ministers confirming this been provided? | C12: N/A | E12: Y | F12: Y | G12: Y | H12: Y | I12: N | J12: Y | K12: Y | L12: Y | M12: Y | N12: Y
A13: 6 | B13: Box been ticked to show correct fee is included? | C13: Yes | E13: Y | F13: Y | G13: Y | H13: Y | I13: N | J13: Y | K13: Y | L13: Y | M13: Y | N13: Y
B14: Is the application checklist complete? | C14: Yes | E14: Y | F14: Y | G14: Y | H14: Y | I14: N | J14: Y | K14: Y | L14: Y | M14: Y | N14: Y
A15: 7a | B15: If not a relevant person; is box ticked to confirm authorisation is given? | C15: Yes | D15: Letter provided signed by Angela Morgan who is the (General Counsel and Company Secretary for ABP and part of the Executive Team. https://www.abports.co.uk/about-abp/executive-team/) | E15: Y | F15: Y | G15: Y | H15: Y | I15: N | J15: Y | K15: Y | L15: Y | M15: Y | N15: Y
A16: 7b | B16: If the application a standard facility; is box ticked to confirm SRP criteria is met? | C16: N/A | D16: not SRP | E16: Y | F16: Y | G16: Y | H16: Y | I16: N | J16: Y | K16: Y | L16: Y | M16: Y | N16: Y
A17: 7c | B17: If application includes ecological survey information; is box ticked to confirm it can be used as set out in guidance | C17: N/A | D17: not ticked or required | E17: Y | F17: Y | G17: Y | H17: Y | I17: N | J17: Y | K17: Y | L17: Y | M17: Y | N17: Y
A18: 7d | B18: Is the declaration complete? | C18: Yes | E18: Y | F18: Y | G18: Y | H18: Y | I18: N | J18: Y | K18: Y | L18: Y | M18: Y | N18: Y
A19: 7d | B19: Has the correct person completed the declaration? | C19: Yes | E19: Y | F19: Y | G19: Y | H19: Y | I19: N | J19: Y | K19: Y | L19: Y | M19: Y | N19: Y
B20: Percentage of form incomplete | C20: =(100*(COUNTIF(C3:C19,"No"))/((COUNTIF(C3:C19,"Yes"))+(COUNTIF(C3:C19,"No")))) -> 0 | D20: Where over 25% of responses are no, the form is regarded as incomplete | E20: Y | F20: Y | G20: Y | H20: Y | I20: N | J20: Y | K20: Y | L20: Y | M20: Y | N20: Y

Sheet B1.C1
A1: Application form Part B1 – new standard rule applications Application form Part C1 – varying to change to or add a standard rule facility | E1: New Bespoke Extractive Waste | F1: New Bespoke Tier 2 | G1: New Bespoke Tier 3 | H1: SRP- New | I1: SRP- Var | J1: Variation Admin | K1: Variation MT and Normal | L1: Variation MT- SRP | M1: Transfer | N1: Surrender- Site | O1: Surrender Mobile Plant
A2: Qu # | B2: Action | C2: Yes/No/NA | D2: Comments/ Document Ref. if given | E2: N | F2: N | G2: N | H2: Y | I2: Y | J2: N | K2: N | L2: N | M2: N | N2: N | O2: N | R2: Yes
A3: 1a | B3: Has the pre-application advice question been answered (references/documents given)? | D3: n/a if no pre-app has been detailed by the applicant | E3: N | F3: N | G3: N | H3: Y | I3: Y | J3: N | K3: N | L3: N | M3: N | N3: N | O3: N | R3: No
A4: 1a | B4: Pre-application record found in DMS? | D4: Check DMS even if applicant has not provided info about pre-application- including CAR forms. n/a if none present, as above. | E4: N | F4: N | G4: N | H4: Y | I4: Y | J4: N | K4: N | L4: N | M4: N | N4: N | O4: N | R4: N/A
A5: 1b | B5: Option ‘site’ or ‘mobile plant’ selected? | E5: N | F5: N | G5: N | H5: Y | I5: N | J5: N | K5: N | L5: N | M5: N | N5: N | O5: N
A6: 1b | B6: Permit number given? | E6: N | F6: N | G6: N | H6: N | I6: Y | J6: N | K6: N | L6: N | M6: N | N6: N | O6: N
A7: 1c | B7: Site name and address complete? | D7: not needed for mobile plant | E7: N | F7: N | G7: N | H7: N | I7: Y | J7: N | K7: N | L7: N | M7: N | N7: N | O7: N
A8: 2a | B8: Site name, address and grid reference complete? | D8: not needed for mobile plant | E8: N | F8: N | G8: N | H8: Y | I8: N | J8: N | K8: N | L8: N | M8: N | N8: N | O8: N
A9: 2b | B9: Is the number of regulated facilities given? | E9: N | F9: N | G9: N | H9: Y | I9: N | J9: N | K9: N | L9: N | M9: N | N9: N | O9: N
A10: 2c | B10: If one facility only Has the regulated facility type chosen? | E10: N | F10: N | G10: N | H10: Y | I10: N | J10: N | K10: N | L10: N | M10: N | N10: N | O10: N
A11: 2c | B11: Has a grid reference been provided? | E11: N | F11: N | G11: N | H11: Y | I11: N | J11: N | K11: N | L11: N | M11: N | N11: N | O11: N
A12: 2d | B12: If more than one facility Has the regulated facility type been chosen for each facility? | E12: N | F12: N | G12: N | H12: Y | I12: N | J12: N | K12: N | L12: N | M12: N | N12: N | O12: N
A13: 2d | B13: Has a grid reference been provided for each facility? | E13: N | F13: N | G13: N | H13: Y | I13: N | J13: N | K13: N | L13: N | M13: N | N13: N | O13: N
A14: 2d | B14: Has a document been provided to detail any additional regulated facilities? | E14: N | F14: N | G14: N | H14: Y | I14: N | J14: N | K14: N | L14: N | M14: N | N14: N | O14: N
A15: 2a | B15: Has the question (change to a standard rule set(s)) been answered? | E15: N | F15: N | G15: N | H15: N | I15: Y | J15: N | K15: N | L15: N | M15: N | N15: N | O15: N
A16: 2b | B16: Has the question (add a standard rule set(s)) been answered? | E16: N | F16: N | G16: N | H16: N | I16: Y | J16: N | K16: N | L16: N | M16: N | N16: N | O16: N
A17: 2b | B17: If both answers in 2a are “Yes”, has an explanatory document been provided? | E17: N | F17: N | G17: N | H17: N | I17: Y | J17: N | K17: N | L17: N | M17: N | N17: N | O17: N
A18: 2c | B18: Has the question (add an additional Medium Combustion Plant(s) to existing standard rule SR2018 No7 permit) been answered? | E18: N | F18: N | G18: N | H18: N | I18: Y | J18: N | K18: N | L18: N | M18: N | N18: N | O18: N
A19: 2d | B19: Has the question (add a Specified Generator that is also a new Medium Combustion Plant to existing standard rule SR2018 No1 to 6 or No8) been answered? | E19: N | F19: N | G19: N | H19: N | I19: Y | J19: N | K19: N | L19: N | M19: N | N19: N | O19: N
A20: 2e | B20: Multi-permit consolidation only Has Table been completed? | E20: N | F20: N | G20: N | H20: N | I20: Y | J20: N | K20: N | L20: N | M20: N | N20: N | O20: N
A21: 3a | B21: Has a rule set been selected in the table? | D21: Table 1- Part B1 Table 3- Part C1 | E21: N | F21: N | G21: N | H21: Y | I21: Y | J21: N | K21: N | L21: N | M21: N | N21: N | O21: N
A22: 3b | B22: SR2009 No8 inert extractive wastes Has the applicant confirmed the Waste Management Plan checklist (Appendix 2) is completed? | E22: N | F22: N | G22: N | H22: Y | I22: Y | J22: N | K22: N | L22: N | M22: N | N22: N | O22: N
A23: 3c1 | B23: SR2018 No9 Combustion of biogas in new medium combustion plant engines at a sewage treatment works Has the stack height question been answered? | E23: N | F23: N | G23: N | H23: Y | I23: Y | J23: N | K23: N | L23: N | M23: N | N23: N | O23: N
A24: 3c2 | B24: SR2018 No9 Combustion of biogas in new medium combustion plant engines at a sewage treatment works Has the gas releases question been answered? | E24: N | F24: N | G24: N | H24: Y | I24: Y | J24: N | K24: N | L24: N | M24: N | N24: N | O24: N
A25: 3d1 | B25: SR2017 No01 Deposit for recovery Is the application for a deposit for recovery activity? | E25: N | F25: N | G25: N | H25: Y | I25: Y | J25: N | K25: N | L25: N | M25: N | N25: N | O25: N
A26: 3d2 | B26: SR2017 No01 Deposit for recovery Have we confirmed it is recovery? | E26: N | F26: N | G26: N | H26: Y | I26: Y | J26: N | K26: N | L26: N | M26: N | N26: N | O26: N
A27: 3d3 | B27: SR2017 No01 Deposit for recovery Has there been any changes since we agreed it was recovery? | E27: N | F27: N | G27: N | H27: Y | I27: Y | J27: N | K27: N | L27: N | M27: N | N27: N | O27: N
A28: 3d4 | B28: SR2017 No01 Deposit for recovery Has a reference for the waste recovery plan been provided? | E28: N | F28: N | G28: N | H28: Y | I28: Y | J28: N | K28: N | L28: N | M28: N | N28: N | O28: N
A29: 3f | B29: SR2018 No11 On-farm anaerobic digestion facility including use of the resultant biogas Has the stack height question been answered? | E29: N | F29: N | G29: N | H29: Y | I29: Y | J29: N | K29: N | L29: N | M29: N | N29: N | O29: N
A30: 3g1 | B30: SR2018 No7 New, low risk, stationary medium combustion plant between 1 and < 20MWth (in operation after 20/12/2018) Appendix 3 completed? | E30: N | F30: N | G30: N | H30: Y | I30: Y | J30: N | K30: N | L30: N | M30: N | N30: N | O30: N
A31: 3g2 | B31: SR2018 No7 New, low risk, stationary medium combustion plant between 1 and < 20MWth (in operation after 20/12/2018) Site located in Air Quality Management Area (AQMA)? | E31: N | F31: N | G31: N | H31: Y | I31: Y | J31: N | K31: N | L31: N | M31: N | N31: N | O31: N
A32: 3h1 | B32: SR2018 No 1 to 6 and No 8 Specified generators Appendix 3 completed? | E32: N | F32: N | G32: N | H32: Y | I32: Y | J32: N | K32: N | L32: N | M32: N | N32: N | O32: N
A33: 3h2 | B33: SR2018 No 1 to 6 and No 8 Specified generators Site located in Air Quality Management Area (AQMA)? | E33: N | F33: N | G33: N | H33: Y | I33: Y | J33: N | K33: N | L33: N | M33: N | N33: N | O33: N
A34: 4a | B34: Has a site plan been provided? | D34: not needed for mobile plant check where the activity is required to happen i.e. inside a building or not vs what is included in the site boundary to see if permit can be complied with/site boundary is suitable | E34: N | F34: N | G34: N | H34: Y | I34: Y | J34: N | K34: N | L34: N | M34: N | N34: N | O34: N
A35: 5a | B35: Relevant offences Relevant offences question complete? | D35: For variations only: Only if varying to add a relevant waste activity to a permit that has not previously included one. | E35: N | F35: N | G35: N | H35: Y | I35: Y | J35: N | K35: N | L35: N | M35: N | N35: N | O35: N
A36: 5a | B36: If answered "yes", has relevant convictions information provided? | E36: N | F36: N | G36: N | H36: Y | I36: Y | J36: N | K36: N | L36: N | M36: N | N36: N | O36: N
A37: 5b1 | B37: Technical ability Has a Scheme option been selected? | D37: Var- Only if varying to add a relevant waste activity to a permit that has not previously included one. | E37: N | F37: N | G37: N | H37: Y | I37: Y | J37: N | K37: N | L37: N | M37: N | N37: N | O37: N
A38: 5b2 | B38: If yes; have they ticked to say they have included all certificates, and provided them? | E38: N | F38: N | G38: N | H38: Y | I38: Y | J38: N | K38: N | L38: N | M38: N | N38: N | O38: N
A39: 5b2 | B39: If no; have they ticked to say they have included registration evidence, and provided them? | E39: N | F39: N | G39: N | H39: Y | I39: Y | J39: N | K39: N | L39: N | M39: N | N39: N | O39: N
A40: 5c | B40: Financial information Financial information complete? | D40: Var- Only if varying to add a relevant waste activity to a permit that has not previously included one. | E40: N | F40: N | G40: N | H40: Y | I40: Y | J40: N | K40: N | L40: N | M40: N | N40: N | O40: N
...

Sheet B2.C2
A1: Application form Part B2 – all new bespoke Application form Part C2 – bespoke variation | E1: New Bespoke Extractive Waste | F1: New Bespoke Tier 2 | G1: New Bespoke Tier 3 | H1: SRP- New or Var | I1: Variation Admin | J1: Variation MT and Normal | K1: Variation MT- SRP | L1: Transfer | M1: Surrender- Site | N1: Surrender Mobile Plant
A2: Qu # | B2: Action | C2: Yes/No/NA | D2: Comments and Document Ref. if given | E2: Y | F2: Y | G2: Y | H2: N | I2: N | J2: Y | K2: N | L2: N | M2: N | N2: N | P2: Yes
A3: 1a | B3: Has the pre-application advice question been answered (references/documents given)? | C3: N/A | E3: Y | F3: Y | G3: Y | H3: N | I3: N | J3: Y | K3: N | L3: N | M3: N | N3: N | P3: No
B4: Pre-application record found in DMS? | C4: N/A | E4: Y | F4: Y | G4: Y | H4: N | I4: N | J4: Y | K4: N | L4: N | M4: N | N4: N | P4: N/A
A5: 1b | B5: Option ‘site’ or 'mobile plant' selected? | E5: Y | F5: Y | G5: Y | H5: N | I5: N | J5: N | K5: N | L5: N | M5: N | N5: N
A6: 1c | B6: If indicated activity is mobile plant, have we agreed the activity is mobile plant? | E6: N | F6: N | G6: Y | H6: N | I6: N | J6: N | K6: N | L6: N | M6: N | N6: N
A7: 1d | B7: If there has been changes to this agreement, has a change document been provided? | E7: N | F7: N | G7: Y | H7: N | I7: N | J7: N | K7: N | L7: N | M7: N | N7: N
A8: 1b | B8: Permit number given | C8: Yes | D8: EPR/AB3095ZY | E8: N | F8: N | G8: N | H8: N | I8: N | J8: Y | K8: N | L8: N | M8: N | N8: N
A9: 1c | B9: Site name and address complete? | C9: Yes | E9: N | F9: N | G9: N | H9: N | I9: N | J9: Y | K9: N | L9: N | M9: N | N9: N
A10: 2a | B10: Site name, address and grid reference complete? | E10: Y | F10: Y | G10: Y | H10: N | I10: N | J10: N | K10: N | L10: N | M10: N | N10: N
A11: 2b | B11: Is the number of regulated facilities given? | E11: Y | F11: Y | G11: Y | H11: N | I11: N | J11: N | K11: N | L11: N | M11: N | N11: N
A12: 2c | B12: If one facility only: has the correct operation type been selected? | E12: Y | F12: Y | G12: Y | H12: N | I12: N | J12: N | K12: N | L12: N | M12: N | N12: N
A13: 2c1-2c4 | B13: Has the relevant question been answered? | E13: Y | F13: Y | G13: Y | H13: N | I13: N | J13: N | K13: N | L13: N | M13: N | N13: N
A14: 2d | B14: If more than one facility: has the correct operation type been selected? | E14: Y | F14: Y | G14: Y | H14: N | I14: N | J14: N | K14: N | L14: N | M14: N | N14: N
A15: 2d1- 2d4 | B15: Has the relevant question been answered for each facility? | E15: Y | F15: Y | G15: Y | H15: N | I15: N | J15: N | K15: N | L15: N | M15: N | N15: N
A16: 2f | B16: Has the question (treating batteries) been answered? | E16: Y | F16: Y | G16: Y | H16: N | I16: N | J16: N | K16: N | L16: N | M16: N | N16: N
A17: 2f | B17: If yes, is a document provided? | E17: Y | F17: Y | G17: Y | H17: N | I17: N | J17: N | K17: N | L17: N | M17: N | N17: N
A18: 2a | B18: Variation type picked? | C18: Yes | E18: N | F18: N | G18: N | H18: N | I18: N | J18: Y | K18: N | L18: N | M18: N | N18: N
A19: 2b | B19: Table 1 OR non-technical summary completed for the changes? | C19: Yes | E19: N | F19: N | G19: N | H19: N | I19: N | J19: Y | K19: N | L19: N | M19: N | N19: N
A20: 2c1 | B20: Has the question (modern/consolidated permit) been answered? | C20: No | E20: N | F20: N | G20: N | H20: N | I20: N | J20: Y | K20: N | L20: N | M20: N | N20: N
A21: 2c2 | B21: Multi-permit consolidations only Are all of the permit numbers listed in Table 2? | C21: N/A | E21: N | F21: N | G21: N | H21: N | I21: N | J21: Y | K21: N | L21: N | M21: N | N21: N
A22: 2e | B22: Has the question (treating batteries) been answered? | C22: Yes | E22: N | F22: N | G22: N | H22: N | I22: N | J22: Y | K22: N | L22: N | M22: N | N22: N
A23: 2e | B23: If answered yes; document reference provided? | C23: N/A | E23: N | F23: N | G23: N | H23: N | I23: N | J23: Y | K23: N | L23: N | M23: N | N23: N
A24: 3a | B24: Relevant offences Relevant offences question complete? | C24: Yes | E24: Y | F24: Y | G24: Y | H24: N | I24: N | J24: Y | K24: N | L24: N | M24: N | N24: N
A25: 3a | B25: If answered "yes", has relevant convictions information provided? | C25: N/A | E25: Y | F25: Y | G25: Y | H25: N | I25: N | J25: Y | K25: N | L25: N | M25: N | N25: N
A26: 3b1 | B26: Technical ability Has a Scheme option been selected? | C26: N/A | D26: Not required for variation to exisiting permitted waste facility | E26: Y | F26: Y | G26: Y | H26: N | I26: N | J26: Y | K26: N | L26: N | M26: N | N26: N
A27: 3b2 | B27: If yes; have they ticked to say they have included all certificates, and provided them? | C27: N/A | D27: Not required for variation to exisiting waste facility | E27: Y | F27: Y | G27: Y | H27: N | I27: N | J27: Y | K27: N | L27: N | M27: N | N27: N
A28: 3b2 | B28: If no; have they ticked to say they have included registration evidence, and provided them? | C28: N/A | E28: Y | F28: Y | G28: Y | H28: N | I28: N | J28: Y | K28: N | L28: N | M28: N | N28: N
A29: 3c | B29: Financial information Financial info complete? | C29: Yes | E29: Y | F29: Y | G29: Y | H29: N | I29: N | J29: Y | K29: N | L29: N | M29: N | N29: N
A30: 3c | B30: Has the applicant indicated that they are financially sound, i.e. do not need to provide financial provision for the activity? | C30: Yes | E30: Y | F30: Y | G30: Y | H30: N | I30: N | J30: Y | K30: N | L30: N | M30: N | N30: N
A31: 3d1 | B31: Management system Have they confirmed the management system meets our guidance? | C31: Yes | D31: For variations only: Only if varying to add a relevant waste activity to a permit that has not previously included one. | E31: Y | F31: Y | G31: Y | H31: N | I31: N | J31: Y | K31: N | L31: N | M31: N | N31: N
A32: 3d2 | B32: Have they selected a type of management system? | C32: Yes | E32: Y | F32: Y | G32: Y | H32: N | I32: N | J32: Y | K32: N | L32: N | M32: N | N32: N
A33: 3d3 | B33: Have they provided the summary of the management system? | C33: Yes | D33: Not for T2 bespoke This should not be needed for a MT var | E33: Y | F33: Y | G33: Y | H33: N | I33: N | J33: Y | K33: N | L33: N | M33: N | N33: N
A34: 4a | B34: Sewer question answered? | C34: Yes | D34: Not for T2 bespoke | E34: Y | F34: Y | G34: Y | H34: N | I34: N | J34: Y | K34: N | L34: N | M34: N | N34: N
A35: 4a | B35: If yes, is a sewerage undertaker named? | C35: N/A | D35: Not for T2 bespoke | E35: Y | F35: Y | G35: Y | H35: N | I35: N | J35: Y | K35: N | L35: N | M35: N | N35: N
A36: 4b | B36: Harbour authority question answered? | C36: Yes | D36: Not for T2 bespoke | E36: Y | F36: Y | G36: Y | H36: N | I36: N | J36: Y | K36: N | L36: N | M36: N | N36: N
A37: 4b | B37: If yes, is a harbour authority named? | C37: N/A | D37: Not for T2 bespoke | E37: Y | F37: Y | G37: Y | H37: N | I37: N | J37: Y | K37: N | L37: N | M37: N | N37: N
A38: 4c | B38: Fisheries question answered? | C38: Yes | D38: Not for T2 bespoke | E38: Y | F38: Y | G38: Y | H38: N | I38: N | J38: Y | K38: N | L38: N | M38: N | N38: N
A39: 4c | B39: If yes, is a fisheries committee named? | C39: N/A | D39: Not for T2 bespoke | E39: Y | F39: Y | G39: Y | H39: N | I39: N | J39: Y | K39: N | L39: N | M39: N | N39: N
A40: 4e | B40: Has the question (medium combustion plant or specified generator located within an Air Quality Management Area (AQMA)) been answered? | D40: Not for T2 bespoke | E40: N | F40: Y | G40: Y | H40: N | I40: N | J40: N | K40: N | L40: N | M40: N | N40: N
...

Sheet B4.C4
A1: Application form Part B4 – new bespoke waste operation Application form Part C4 – bespoke variation waste operation | E1: New Bespoke Extractive Waste | F1: New Bespoke Tier 2 | G1: New Bespoke Tier 3 | H1: SRP- New or Var | I1: Variation Admin | J1: Variation MT and Normal | K1: Variation MT- SRP | L1: Transfer | M1: Surrender- Site | N1: Surrender Mobile Plant
A2: Qu # | B2: Action | C2: Yes/No/NA | D2: Comments and Document Ref. if given | E2: N | F2: Y | G2: Y | H2: N | I2: N | J2: Y | K2: N | L2: N | M2: N | N2: N
A3: 1a | B3: Has all sections of the completed? And document provided if needed? | C3: N/A | E3: N | F3: Y | G3: Y | H3: N | I3: N | J3: Y | K3: N | L3: N | M3: N | N3: N | P3: Yes
A4: 1b | B4: Waste types listed? | C4: Yes | E4: N | F4: Y | G4: Y | H4: N | I4: N | J4: Y | K4: N | L4: N | M4: N | N4: N | P4: No
A5: 1c1 | B5: Has the question (deposit for recovery activity) been answered? | C5: N/A | E5: N | F5: Y | G5: Y | H5: N | I5: N | J5: Y | K5: N | L5: N | M5: N | N5: N | P5: N/A
A6: 1c2 | B6: Have we confirmed it is recovery? | C6: N/A | E6: N | F6: Y | G6: Y | H6: N | I6: N | J6: Y | K6: N | L6: N | M6: N | N6: N
A7: 1c3 | B7: Has there been any changes since we agreed it was recovery? | C7: N/A | E7: N | F7: Y | G7: Y | H7: N | I7: N | J7: Y | K7: N | L7: N | M7: N | N7: N
A8: 1c4 | B8: Has a reference for the waste recovery plan been provided? | C8: N/A | E8: N | F8: Y | G8: Y | H8: N | I8: N | J8: Y | K8: N | L8: N | M8: N | N8: N
A9: 2 | B9: Emissions to air, water and land Table 2 completed for each activity listed in Table 1a? | C9: N/A | D9: no point source emissions | E9: N | F9: Y | G9: Y | H9: N | I9: N | J9: Y | K9: N | L9: N | M9: N | N9: N
B10: Point source emission to air | C10: N/A | D10: no point source emissions | E10: N | F10: Y | G10: Y | H10: N | I10: N | J10: Y | K10: N | L10: N | M10: N | N10: N
B11: Point source emission to water (other than sewers) | C11: N/A | D11: no point source emissions | E11: N | F11: Y | G11: Y | H11: N | I11: N | J11: Y | K11: N | L11: N | M11: N | N11: N
B12: Point source emission to sewers, effluent treatment plants or other transfer off site | C12: N/A | D12: no point source emissions | E12: N | F12: Y | G12: Y | H12: N | I12: N | J12: Y | K12: N | L12: N | M12: N | N12: N
B13: Point source emission to land | C13: N/A | D13: no point source emissions | E13: N | F13: Y | G13: Y | H13: N | I13: N | J13: Y | K13: N | L13: N | M13: N | N13: N
A14: 3a | B14: Technical standards Information complete for each activity listed in Table 1a? | C14: Yes | E14: N | F14: Y | G14: Y | H14: N | I14: N | J14: Y | K14: N | L14: N | M14: N | N14: N
B15: Has a document been provided if needed? | C15: Yes | E15: N | F15: Y | G15: Y | H15: N | I15: N | J15: Y | K15: N | L15: N | M15: N | N15: N
A16: 3b | B16: General requirements information complete for each activity listed? - fugitive emissions - noise - odour - fire - pests (not listed separately on application form) | E16: N | F16: Y | G16: Y | H16: N | I16: N | J16: Y | K16: N | L16: N | M16: N | N16: N
B17: Fugitive emissions: If the site falls within the scope of the following Environment Agency's Control and monitor emissions for your environmental permit guidance (dust section), has a DEMP been provided? | C17: Yes | E17: N | F17: Y | G17: Y | H17: N | I17: N | J17: Y | K17: N | L17: N | M17: N | N17: N
B18: Odour: a) If the site is undertaking an activity for 'which odour is a key issue' as outlined in 'how to comply with your environmental permit' guidance, has an OMP been provided? | C18: N/A | E18: N | F18: Y | G18: Y | H18: N | I18: N | J18: Y | K18: N | L18: N | M18: N | N18: N
B19: Odour: b) If the site's risk assessment has highlighted there is a risk of odour from this activity, has an OMP been provided? | C19: N/A | D19: If yes, an OMP is required, and the odour tab should be completed. If no, an OMP is not required and you do not need to complete the odour tab, and the answer should be marked as "n/a". | E19: N | F19: Y | G19: Y | H19: N | I19: N | J19: Y | K19: N | L19: N | M19: N | N19: N
B20: Odour: c) If variation, and operations have indicated that there is an issue with odour from the facility, has an OMP been provided? | C20: N/A | E20: N | F20: N | G20: N | H20: N | I20: N | J20: Y | K20: N | L20: N | M20: N | N20: N
B21: Noise: If a Noise Impact Assessment is required, has it been provided? | C21: N/A | E21: N | F21: Y | G21: Y | H21: N | I21: N | J21: Y | K21: N | L21: N | M21: N | N21: N
B22: Noise: If an adverse impact or significant adverse impact is concluded by the NIA, has a Noise Management Plan been provided? | C22: N/A | E22: N | F22: Y | G22: Y | H22: N | I22: N | J22: Y | K22: N | L22: N | M22: N | N22: N
B23: Fire: Is this a new bespoke permit application, that includes the acceptance and storage of combustible waste? | D23: Yes - FPMP is required and the FPMP tab must be completed. No - you do not need to complete the FPMP tab | E23: N | F23: Y | G23: Y | H23: N | I23: N | J23: N | K23: N | L23: N | M23: N | N23: N
B24: Fire: If this is a variation to add a new combustible material, has an FPMP been provided? | C24: N/A | E24: N | F24: N | G24: N | H24: N | I24: N | J24: Y | K24: N | L24: N | M24: N | N24: N
B25: Fire: If this is a variation to add a new activity, has an FPMP been provided? | C25: N/A | E25: N | F25: N | G25: N | H25: N | I25: N | J25: Y | K25: N | L25: N | M25: N | N25: N
B26: Fire: If this is a variation to increase the amount of waste stored at any one time, has an FPMP been provided? | C26: N/A | E26: N | F26: N | G26: N | H26: N | I26: N | J26: Y | K26: N | L26: N | M26: N | N26: N
B27: Fire: If this is a variation to increase the annual throughput only, has the required statement been provided? | C27: N/A | E27: N | F27: N | G27: N | H27: N | I27: N | J27: Y | K27: N | L27: N | M27: N | N27: N
B28: Pests: If a dedicated pests management plan required, has it been provided? This will depend on the types of wastes accepted, treatment types etc | C28: N/A | E28: N | F28: Y | G28: Y | H28: N | I28: N | J28: Y | K28: N | L28: N | M28: N | N28: N
A29: 3c | B29: Specific Sectors Has the relevant appendix been completed? - clinical waste - hazardous recovery and disposal - CLO to land - inert landfill | E29: N | F29: Y | G29: Y | H29: N | I29: N | J29: Y | K29: N | L29: N | M29: N | N29: N
A30: 4a | B30: Document provided for the monitoring of emissions from points listed in Table 2? | C30: N/A | E30: N | F30: Y | G30: Y | H30: N | I30: N | J30: Y | K30: N | L30: N | M30: N | N30: N
A31: 4b | B31: Point source emissions to air only Assessment provided? | C31: N/A | E31: N | F31: Y | G31: Y | H31: N | I31: N | J31: Y | K31: N | L31: N | M31: N | N31: N
B32: Percentage of form incomplete | C32: =(100*(COUNTIF(C3:C31,"No"))/((COUNTIF(C3:C31,"Yes"))+(COUNTIF(C3:C31,"No")))) -> 0 | D32: Where over 25% of responses are no, the form is regarded as incomplete | E32: N | F32: Y | G32: Y | H32: N | I32: N | J32: Y | K32: N | L32: N | M32: N | N32: N
A34: Additional Checks - confirming the variation type- on for use with a variation | E34: N | F34: N | G34: N | H34: N | I34: N | J34: Y | K34: Y | L34: N | M34: N | N34: N
A35: Qu # | B35: Action | C35: Yes/No/NA | D35: Notes | E35: N | F35: N | G35: N | H35: N | I35: N | J35: Y | K35: Y | L35: N | M35: N | N35: N
A36: 1 | B36: Has the operator indicated it’s an administrative variation? | D36: Yes: go to Q2 No: go to Q3 | E36: N | F36: N | G36: N | H36: N | I36: N | J36: Y | K36: Y | L36: N | M36: N | N36: N
A37: 2 | B37: Is the change applied for, one of those we accept as administrative? | D37: See examples in the Scheme for guidance on what sort of changes can be accepted as administrative. Yes: we can accept the operator’s variation (change) is administrative in nature. No further consideration needed. No: the variation (change) is not administrative, it’s chargeable. Consider Q3 onwards | E37: N | F37: N | G37: N | H37: N | I37: N | J37: Y | K37: Y | L37: N | M37: N | N37: N
A38: 3 | B38: Has the operator indicated it’s a Minor Technical variation? | D38: Yes: go to Q4 No: go to Q6 | E38: N | F38: N | G38: N | H38: N | I38: N | J38: Y | K38: Y | L38: N | M38: N | N38: N
A39: 4 | B39: Is the change applied for, one of those we accept as Minor Technical? | D39: Note: refer to definition of Minor Technical in the Charging scheme. Yes: go to Q5 No: go to Q6 | E39: N | F39: N | G39: N | H39: N | I39: N | J39: Y | K39: Y | L39: N | M39: N | N39: N
A40: 5 | B40: Does any of the following apply: - the site is High Public Interest or the type of activity is contentious (it’s incineration, landfill etc.)? - the emissions/ techniques involved are complex or novel, or complex modelling is required? - there are sensitive receiving environments around the site (such as designated sites, species etc.) | D40: Yes: the variation cannot be accepted as Minor Technical – as it involves extra effort at technical determination. Consider Q7 onwards No: we can accept the operator’s variation (change) is minor technical in nature. No further consideration needed. | E40: N | F40: N | G40: N | H40: N | I40: N | J40: Y | K40: Y | L40: N | M40: N | N40: N
A41: 6 | B41: Has the operator indicated it’s a Normal variation (of a waste facility activity/permit)? | D41: Yes: go to Q7 No: go to Q8 | E41: N | F41: N | G41: N | H41: N | I41: N | J41: Y | K41: Y | L41: N | M41: N | N41: N
...

Sheet B5.C5
A1: Application form Part B5 – New Bespoke Mining Waste Operation Permit Application form Part C5 – Bespoke Variation Mining Waste Operation Permit | E1: New Bespoke Extractive Waste | F1: New Bespoke Tier 2 | G1: New Bespoke Tier 3 | H1: SRP- New or Var | I1: Variation Admin | J1: Variation MT and Normal | K1: Variation MT- SRP | L1: Transfer | M1: Surrender- Site | N1: Surrender Mobile Plant
A2: Qu # | B2: Action | C2: Yes/No/NA | D2: Comments and Document Ref. if given | E2: Y | F2: N | G2: N | H2: N | I2: N | J2: Y | K2: N | L2: N | M2: N | N2: N
A3: 1a | B3: Activity/Activities selected? | E3: Y | F3: N | G3: N | H3: N | I3: N | J3: Y | K3: N | L3: N | M3: N | N3: N | P3: Yes
A4: 2 | B4: Waste Management Plan provided? | E4: Y | F4: N | G4: N | H4: N | I4: N | J4: Y | K4: N | L4: N | M4: N | N4: N | P4: No
A5: 3 | B5: External Emergency Plans provided? | D5: For Cat A MWF only | E5: Y | F5: N | G5: N | H5: N | I5: N | J5: Y | K5: N | L5: N | M5: N | N5: N | P5: N/A
A6: 4a | B6: Has the question on inert waste facilities been answered? | E6: Y | F6: N | G6: N | H6: N | I6: N | J6: Y | K6: N | L6: N | M6: N | N6: N
A7: 4b | B7: Sector category provided? | E7: Y | F7: N | G7: N | H7: N | I7: N | J7: Y | K7: N | L7: N | M7: N | N7: N
A8: 4c | B8: Has the question in integral water discharge been answered? | D8: If answered "yes"- form B6 needs to be completed | E8: Y | F8: N | G8: N | H8: N | I8: N | J8: Y | K8: N | L8: N | M8: N | N8: N
A9: 4d | B9: Has the question on integral groundwater regulated facility been answered? | D9: If answered "yes"- this needs to be in the waste management plan | E9: Y | F9: N | G9: N | H9: N | I9: N | J9: Y | K9: N | L9: N | M9: N | N9: N
B10: Percentage of form incomplete | C10: =(100*(COUNTIF(C3:C9,"No"))/((COUNTIF(C3:C9,"Yes"))+(COUNTIF(C3:C9,"No")))) -> #DIV/0! | D10: Where over 25% of responses are no, the form is regarded as incomplete | E10: Y | F10: N | G10: N | H10: N | I10: N | J10: Y | K10: N | L10: N | M10: N | N10: N

Sheet C0.5
A1: Application form Part C0.5 – administrative variation of a standard or bespoke permit | E1: New Bespoke Extractive Waste | F1: New Bespoke Tier 2 | G1: New Bespoke Tier 3 | H1: SRP- New or Var | I1: Variation Admin | J1: Variation MT and Normal | K1: Variation MT- SRP | L1: Transfer | M1: Surrender- Site | N1: Surrender Mobile Plant
A2: Qu # | B2: Action | C2: Yes/No/NA | D2: Comments Document Ref. if given | E2: n | F2: n | G2: n | H2: n | I2: y | J2: n | K2: Y | L2: n | M2: n | N2: n
A3: 1a | B3: Has the pre-application advice question been answered (references/documents given)? | D3: n/a if no pre-app has been detailed by the applicant | E3: N | F3: N | G3: N | H3: N | I3: Y | J3: N | K3: Y | L3: N | M3: N | N3: N | P3: Yes
A4: 1a | B4: Pre-application record found in DMS? | D4: Check DMS even if applicant has not provided info about pre-application- including CAR forms. n/a if none present, as above. | E4: N | F4: N | G4: N | H4: N | I4: Y | J4: N | K4: Y | L4: N | M4: N | N4: N | P4: No
A5: 1b | B5: Permit number given? | E5: N | F5: N | G5: N | H5: N | I5: Y | J5: N | K5: Y | L5: N | M5: N | N5: N | P5: N/A
A6: 1c | B6: Site name and address given? | E6: N | F6: N | G6: N | H6: N | I6: Y | J6: N | K6: Y | L6: N | M6: N | N6: N
A7: 2a | B7: ‘Details of administrative change’ Box complete? | E7: N | F7: N | G7: N | H7: N | I7: Y | J7: N | K7: Y | L7: N | M7: N | N7: N
A8: 3 | B8: If the change involves increasing the area of a SRP, has a revised site plan been provided? | D8: check where the activity is required to happen i.e. inside a building or not vs what is included in the site boundary to see if permit can be complied with/site boundary is suitable | E8: N | F8: N | G8: N | H8: N | I8: N | J8: N | K8: Y | L8: N | M8: N | N8: N
A9: 4 | B9: Contact details completed? | E9: N | F9: N | G9: N | H9: N | I9: Y | J9: N | K9: Y | L9: N | M9: N | N9: N
A10: 6 | B10: National Security: If the applicant has stated information should not be on the public register due to National Security risk, has the letter from the Welsh Ministers confirming this been provided? | E10: N | F10: N | G10: N | H10: N | I10: N | J10: N | K10: Y | L10: N | M10: N | N10: N
A11: 7a | B11: If not a relevant person; is box ticked to confirm authorisation is given? | E11: N | F11: N | G11: N | H11: N | I11: Y | J11: N | K11: Y | L11: N | M11: N | N11: N
A12: 7b | B12: If the application a standard facility; is box ticked to confirm SRP criteria is met? | E12: N | F12: N | G12: N | H12: N | I12: Y | J12: N | K12: Y | L12: N | M12: N | N12: N
A13: 7c | B13: Is the declaration complete? | E13: N | F13: N | G13: N | H13: N | I13: Y | J13: N | K13: Y | L13: N | M13: N | N13: N
A14: 7c | B14: Has the correct person completed the declaration? | D14: Check against relevant people for a company or LLP. | E14: N | F14: N | G14: N | H14: N | I14: Y | J14: N | K14: Y | L14: N | M14: N | N14: N
B15: Registered companies only: Is it registered and active on Companies House | D15: If permit is Mobile Plant, and the registered office address is changing to England, this will no longer be regulated by NRW- contact Materials to Land sector lead Date checked: | E15: N | F15: N | G15: N | H15: N | I15: Y | J15: N | K15: Y | L15: N | M15: N | N15: N
B16: Percentage of form incomplete | C16: =(100*(COUNTIF(C3:C15,"No"))/((COUNTIF(C3:C15,"Yes"))+(COUNTIF(C3:C15,"No")))) -> #DIV/0! | D16: Where over 25% of responses are no, the form is regarded as incomplete | E16: N | F16: N | G16: N | H16: N | I16: Y | J16: N | K16: Y | L16: N | M16: N | N16: N
E17: N | F17: N | G17: N | H17: N | I17: Y | J17: N | K17: Y | L17: N | M17: N | N17: N
A18: Additional Checks - confirming the variation ‘type’ | E18: N | F18: N | G18: N | H18: N | I18: Y | J18: N | K18: Y | L18: N | M18: N | N18: N
B19: Is the change applied for, one of those we accept as administrative? See charging scheme guide for examples | D19: Yes: we can accept the operator’s variation (change) is administrative in nature. e.g. change in the operator name and/or address where there is no change in the legal entity (e.g. no change to companies house number). No further consideration needed. No: the variation (change) is not administrative, it’s chargeable. STOP! Get in touch with the operator and discuss the next steps (likely return of the application). | E19: N | F19: N | G19: N | H19: N | I19: Y | J19: N | K19: Y | L19: N | M19: N | N19: N | O19: https://naturalresources.wales/about-us/what-we-do/how-we-regulate-you/our-charges/?lang=en
E20: N | F20: N | G20: N | H20: N | I20: N | J20: N | K20: Y | L20: N | M20: N | N20: N
A21: Location criteria checks | E21: N | F21: N | G21: N | H21: N | I21: N | J21: N | K21: Y | L21: N | M21: N | N21: N
B22: Answer: • Yes - if the criteria applies and the site is within the relevant distance, • No – if the criteria applies but the site is not within relevant distance, • N/A – if the criteria isn’t relevant to the rule set(s) you’re determining. | D22: Only check those designations relevant to the rule set(s) applied for. Check whether the permit area is within relevant distance to all relevant criteria. Use the MyMap report and carry out all required manual checks too, for things the report doesn’t pick up. If there are any other criteria relevant to the rule set you’re dealing with that aren’t included in the table below, add them in the blank columns. | E22: N | F22: N | G22: N | H22: N | I22: N | J22: N | K22: Y | L22: N | M22: N | N22: N
A23: Qu # | B23: Action | C23: Yes/No/NA | D23: Comments/ Document Ref. if given | E23: N | F23: N | G23: N | H23: N | I23: N | J23: N | K23: Y | L23: N | M23: N | N23: N
A24: 1 | B24: Special Areas of Conservation (SAC) | E24: N | F24: N | G24: N | H24: N | I24: N | J24: N | K24: Y | L24: N | M24: N | N24: N
A25: 2 | B25: Special Protection Area (SPA) | E25: N | F25: N | G25: N | H25: N | I25: N | J25: N | K25: Y | L25: N | M25: N | N25: N
A26: 3 | B26: Ramsar | E26: N | F26: N | G26: N | H26: N | I26: N | J26: N | K26: Y | L26: N | M26: N | N26: N
A27: 4 | B27: Site of Special Scientific Interest (SSSI) | E27: N | F27: N | G27: N | H27: N | I27: N | J27: N | K27: Y | L27: N | M27: N | N27: N
A28: 5 | B28: Protected species | E28: N | F28: N | G28: N | H28: N | I28: N | J28: N | K28: Y | L28: N | M28: N | N28: N
A29: 6 | B29: Protected Habitats | E29: N | F29: N | G29: N | H29: N | I29: N | J29: N | K29: Y | L29: N | M29: N | N29: N
A30: 7 | B30: Marine Protected Area (MPA) | E30: N | F30: N | G30: N | H30: N | I30: N | J30: N | K30: Y | L30: N | M30: N | N30: N
A31: 8 | B31: National Nature Reserve (NNR) | E31: N | F31: N | G31: N | H31: N | I31: N | J31: N | K31: Y | L31: N | M31: N | N31: N
A32: 9 | B32: Local Nature Reserve (LNR) | E32: N | F32: N | G32: N | H32: N | I32: N | J32: N | K32: Y | L32: N | M32: N | N32: N
A33: 10 | B33: Local Wildlife Site (LWS) | E33: N | F33: N | G33: N | H33: N | I33: N | J33: N | K33: Y | L33: N | M33: N | N33: N
A34: 11 | B34: Ancient Woodland | E34: N | F34: N | G34: N | H34: N | I34: N | J34: N | K34: Y | L34: N | M34: N | N34: N
A35: 12 | B35: World Heritage Site | E35: N | F35: N | G35: N | H35: N | I35: N | J35: N | K35: Y | L35: N | M35: N | N35: N
... A54: 31 | B54: In an Air Quality Management Area (AQMA) | E54: N | F54: N | G54: N | H54: N | I54: N | J54: N | K54: Y | L54: N | M54: N | N54: N

Sheet D2
A1: Application form Part D2 – application for transfer | E1: New Bespoke Extractive Waste | F1: New Bespoke Tier 2 | G1: New Bespoke Tier 3 | H1: SRP- New or Var | I1: Variation Admin | J1: Variation MT and Normal | K1: Variation MT- SRP | L1: Transfer | M1: Surrender- Site | N1: Surrender Mobile Plant
A2: Qu # | B2: Action | C2: Yes/No/NA | D2: Comments/Document Ref. if given | E2: Y | F2: Y | G2: Y | H2: Y | I2: Y | J2: Y | K2: Y | L2: Y | M2: Y | N2: Y
A3: 1a | B3: Has the pre-application advice question been answered (references/documents given)? | D3: n/a if no pre-app has been detailed by the applicant | E3: N | F3: N | G3: N | H3: N | I3: N | J3: N | K3: N | L3: Y | M3: N | N3: N | P3: Yes
B4: Pre-application record found in DMS? | D4: Check DMS even if applicant has not provided info about pre-application- including CAR forms. n/a if none present, as above. | E4: N | F4: N | G4: N | H4: N | I4: N | J4: N | K4: N | L4: Y | M4: N | N4: N | P4: No
A5: 1b | B5: Permit number provided? | E5: N | F5: N | G5: N | H5: N | I5: N | J5: N | K5: N | L5: Y | M5: N | N5: N | P5: N/A
A6: 1c | B6: Site name, address and grid reference given? | E6: N | F6: N | G6: N | H6: N | I6: N | J6: N | K6: N | L6: Y | M6: N | N6: N
A7: 2a | B7: Transfer type picked? | E7: N | F7: N | G7: N | H7: N | I7: N | J7: N | K7: N | L7: Y | M7: N | N7: N
A8: 2b | B8: Whole transfers only Has the question on the management structure of the proposed new holder been answered? i.e. are they substantially the same as the current holder? | D8: This question is predominately around the fee to be paid, however is not solely about the fee. For waste facilities, the fee will always be the relevant tier 2 (SRP) fee or the fixed £2047 no matter what the answer is to this question. HOWEVER, if they answer yes, they should supply a document ref. The content of which will help dictate potentially the level of assessment required at determination: EXAMPLE: if the submitted document for this question says the TCM is the same as the one when we assessed the original permit, theoretically you do not need to assess the original award at determination, only the continuing competency. | E8: N | F8: N | G8: N | H8: N | I8: N | J8: N | K8: N | L8: Y | M8: N | N8: N
A9: 3a | B9: Part transfers only Has Table 1 been completed? | E9: N | F9: N | G9: N | H9: N | I9: N | J9: N | K9: N | L9: Y | M9: N | N9: N
A10: 3a | B10: If needed, has a document (and reference) been provided? | E10: N | F10: N | G10: N | H10: N | I10: N | J10: N | K10: N | L10: Y | M10: N | N10: N
A11: 3b | B11: Part transfers only Have plans been provided to show the area split? | E11: N | F11: N | G11: N | H11: N | I11: N | J11: N | K11: N | L11: Y | M11: N | N11: N
A12: 3c | B12: Part transfers only Has the question on if the permit conditions need to be varied been answered? | E12: N | F12: N | G12: N | H12: N | I12: N | J12: N | K12: N | L12: Y | M12: N | N12: N
A13: 3c | B13: If yes, has a document been provided? | E13: N | F13: N | G13: N | H13: N | I13: N | J13: N | K13: N | L13: Y | M13: N | N13: N
A14: 4a | B14: Relevant offences Relevant offences question complete? | E14: N | F14: N | G14: N | H14: N | I14: N | J14: N | K14: N | L14: Y | M14: N | N14: N
A15: 4a | B15: If answered "yes", has relevant convictions information provided? | E15: N | F15: N | G15: N | H15: N | I15: N | J15: N | K15: N | L15: Y | M15: N | N15: N
A16: 4b1 | B16: Technical ability Has a Scheme option been selected? | E16: N | F16: N | G16: N | H16: N | I16: N | J16: N | K16: N | L16: Y | M16: N | N16: N
A17: 4b2 | B17: Have they ticked to say they have included all certificates, and provided them? | D17: This MUST be provided | E17: N | F17: N | G17: N | H17: N | I17: N | J17: N | K17: N | L17: Y | M17: N | N17: N
A18: 4c | B18: Financial information Financial info complete? | E18: N | F18: N | G18: N | H18: N | I18: N | J18: N | K18: N | L18: Y | M18: N | N18: N
B19: Has the applicant indicated that they are financially sound, i.e. do not need to provide financial provision for the activity? | D19: Financial provision will be required if insolvent/bankrupt, or depending on activity type. | E19: N | F19: N | G19: N | H19: N | I19: N | J19: N | K19: N | L19: Y | M19: N | N19: N
A20: 4d1 | B20: Management system Have they confirmed the management system meets our guidance? | E20: N | F20: N | G20: N | H20: N | I20: N | J20: N | K20: N | L20: Y | M20: N | N20: N
A21: 4d2 | B21: Have they selected a type of management system? | E21: N | F21: N | G21: N | H21: N | I21: N | J21: N | K21: N | L21: Y | M21: N | N21: N
A22: 4d3 | B22: Has a document been provided? | D22: A summary MUST be provided, unless they are using existing but we would expect them to give the reference of the current site EMS – please see the officer comments section of this checklist for further guidance | E22: N | F22: N | G22: N | H22: N | I22: N | J22: N | K22: N | L22: Y | M22: N | N22: N
A23: 5 | B23: Has a date for the transfer been provided? | D23: If this date is in the past we cannot retrospectively issue a transfer. If the date is in the future- check if this is a legal or date, or just 2 months from submission | E23: N | F23: N | G23: N | H23: N | I23: N | J23: N | K23: N | L23: Y | M23: N | N23: N
B24: Percentage of form incomplete | C24: =(100*(COUNTIF(C3:C23,"No"))/((COUNTIF(C3:C23,"Yes"))+(COUNTIF(C3:C23,"No")))) -> #DIV/0! | D24: Where over 25% of responses are no, the form is regarded as incomplete | E24: N | F24: N | G24: N | H24: N | I24: N | J24: N | K24: N | L24: Y | M24: N | N24: N
