Workbook

Sheet January 2 of 2 
A1: Unique ID | B1: Scheme Name/ Discharge | C1: Consent Number | D1: Consolidations | E1: AMP6 Drivers requiring permit review | F1: AMP7 Drivers requiring permit review | G1: Additional Permit Reviews | H1: DSI_ADD2 | I1: DSI_ADD3 | J1: DSI_ADD4 | K1: DSI_POST_CODE | L1: S32 Discharge Point NGR | M1: S34 Monitoring point NGR | N1: AGR_REC_WATER | O1: S33 Overflow setting l/s | P1: S33 Maximum size of solid matter | Q1: S33 Screen Aperture Size | R1: S33 Minimum screen capacity flow l/s | S1: S33 Storm tank / storage capacity | T1: Non-standard operating techniques | U1: PAN | V1: Duly-made date
A2: 6DC002046 | B2: OVERTON WWTW (STORM) | C2: CG0430701 | D2: CM0188601 CM0188602 CG0430701 | E2: EDMW | F2: - | G2: No additional review overlap | H2: Mill Wood | I2: Overton | J2: Wrexham | K2: LL13 0EG | L2: SJ 36625 41598 | M2: SJ 37160 41490 | N2: River Dee | O2: 19 | P2: 6mm | Q2: 6mm x 6mm | R2: Unknown | S2: None | W2: =IF(MATCH(C2,Sheet2!A1:A1114,0),"yes") -> yes
A3: 6DC001259 | B3: PANDY STW PANDY MONMOUTHSHIRE | C3: AN0391101 | D3: N/A | E3: EDMW | F3: W_U_MON3 W_U_MON4 | G3: No additional review overlap | H3: Pandy WwTW | I3: Pandy | J3: Monmouthshire | K3: NP7 8DR | L3: SO 33518 22842 | M3: SO 33533 22764 | N3: River Usk | O3: 5.4 | P3: 6mm | Q3: 6mm x 6mm | R3: Unknown | S3: 50m3 | W3: =IF(MATCH(C3,Sheet2!A2:A1115,0),"yes") -> #N/A
A4: 6DC001148 | B4: PEMBROKE DOCK STW (EMERGENCY) FORT | C4: BP0250802 | D4: BP0250801 BP0250802 BP0250803 | E4: EDMW | F4: W_U_MON3 W_U_MON4 | G4: No additional review overlap | H4: Nr 139 Ford Rd | I4: Pembroke Dock | J4: Pembrokeshire | K4: SA72 6XW | L4: SM 95457 04255 | M4: SM 95603 03765 | N4: Milford Haven Waterway | O4: 210 | P4: 2.5mm | Q4: 2.5mm | R4: Unknown | S4: 2973m3 | W4: =IF(MATCH(C4,Sheet2!A3:A1116,0),"yes") -> yes
A5: 6DC002580 | B5: PENCADER STW STORM TANKS | C5: BG0007805 | D5: BG0007801 BG0007805 BG0007804 | E5: EDMW | F5: - | G5: No additional review overlap | H5: Pencader WwTW | I5: Pencader | J5: Carmarrthenshire | K5: SA39 9BS | L5: SN 44547 36513 | M5: SN 44507 36503 | N5: Afon Tywell | O5: No copy of consent available | P5: No copy of consent available | Q5: No copy of consent available | R5: No copy of consent available | S5: No copy of consent available | W5: =IF(MATCH(C5,Sheet2!A4:A1117,0),"yes") -> yes
A6: 7CDC0875 | B6: PENISARWAUN WWTW | C6: CG0134102 | D6: CG0134101 CG0134102 | E6: EDMW | F6: W_U_MON3 W_U_MON4 | G6: No additional review overlap | H6: Madoc Terrace | I6: Penisarwaun | J6: Caernarfon | K6: LL55 3PH | L6: SH 54976 63514 | M6: SH 55032 63558 | N6: Afon Seiont | O6: 8 | P6: 6mm | Q6: 6mm x 6mm | R6: Unknown | S6: None | W6: =IF(MATCH(C6,Sheet2!A5:A1118,0),"yes") -> yes
A7: 6DC001571 | B7: PENNANT STW . . | C7: BN0015602 | D7: BN0015601 BN0015602 | E7: EDMW | F7: - | G7: No additional review overlap | H7: Nr Ty Maesllyn | I7: Pennant | J7: Llanon | K7: SY23 5JH | L7: SN 50867 63020 | M7: SN 50891 62989 | N7: Afon Arth | O7: N/A | P7: N/A | Q7: N/A | R7: No Screen | S7: None | W7: =IF(MATCH(C7,Sheet2!A6:A1119,0),"yes") -> yes
A8: 6DC000262 | B8: PENTREFELIN STW | C8: CG0364501 | D8: CG0073301 CG0364501 | E8: EDMW | F8: W_U_MON3 W_U_MON4 | G8: No additional review overlap | H8: Off A497 | I8: Criccieth | J8: Gwynedd | K8: LL52 0PU | L8: SH 52944 39547 | M8: SH 52881 39563 | N8: Afon Cedron | O8: 1.6 | P8: N/A | Q8: N/A | R8: No Screen | S8: 22m3 | W8: =IF(MATCH(C8,Sheet2!A7:A1120,0),"yes") -> yes
A9: 6DC001345 | B9: PETERSTON SUPER ELY STW CSO MAIN AV | C9: AN0355001 | D9: N/A | E9: EDMW | F9: W_U_MON3 W_U_MON4 | G9: No additional review overlap | H9: Little Avenue | I9: Peterston Super Ely | J9: Cardiff | K9: CF5 6NG | L9: ST 08620 76329 | M9: ST 08641 76276 | N9: River Ely | O9: 22.3 | P9: 10mm | Q9: 10mm | R9: N/A | S9: None | W9: =IF(MATCH(C9,Sheet2!A8:A1121,0),"yes") -> #N/A
A10: 6DC002453 | B10: PONTNEDDFECHAN STW SWANSEA | C10: BP0322901 | D10: N/A | E10: EDMW | F10: W_U_MON3 W_U_MON4 | G10: No additional review overlap | H10: Off Mellte Ave | I10: Pontneddfechan | J10: Neath | K10: SA11 5NN | L10: SN 90345 07498 | M10: SN 90326 07521 | N10: River Mellte | O10: 3.88 | P10: 6mm | Q10: 6mm x 6mm | R10: Unknown | S10: None | W10: =IF(MATCH(C10,Sheet2!A9:A1122,0),"yes") -> #N/A
A11: 6DC001025 | B11: PRESTEIGNE STW CLATTERBROOM | C11: AN0391701 | D11: AW1005101 AN0391701 | E11: EDMW | F11: W_U_MON3 W_U_MON4 | G11: No additional review overlap | H11: R/O Clatterbrune Estate | I11: Presteigne | J11: Powys | K11: LD8 2LB | L11: SO 32232 64365 | M11: SO 32151 64192 | N11: River Lugg | O11: 26.5 | P11: 6mm | Q11: 6mm x 6mm | R11: Unknown | S11: 259m3 | W11: =IF(MATCH(C11,Sheet2!A10:A1123,0),"yes") -> yes
A12: 6DC002001 | B12: PS EMERGENCY OUTFALL RES DEVMT BIRC | C12: BP0081302 | D12: N/A | E12: EDMW | F12: - | G12: No additional review overlap | H12: Greenacre Drive | I12: Glais | J12: Swansea | K12: SA7 9FA | L12: SN 70328 00300 | M12: SN 70328 00300 | N12: Nant Glas | O12: N/A | P12: N/A | Q12: N/A | R12: No Screen | S12: None | W12: =IF(MATCH(C12,Sheet2!A11:A1124,0),"yes") -> #N/A
A13: 6DC001228 | B13: PUNCHESTON WORKS INLET . . | C13: BG0017602 | D13: N/A | E13: EDMW | F13: W_U_MON3 W_U_MON4 | G13: No additional review overlap | H13: Nr Sycamore Lodge | I13: Puncheston | J13: Haverfordwest | K13: SA62 5RN | L13: SN 00998 29818 | M13: SN 01004 29828 | N13: Trib Anghof | O13: N/A | P13: N/A | Q13: N/A | R13: No Screen | S13: None | W13: =IF(MATCH(C13,Sheet2!A12:A1125,0),"yes") -> #N/A
A14: 7CDC0199 | B14: PWLLGLAS STW | C14: CM0063903 | D14: CM0063901 CM0063902 CM0063903 | E14: EDMW | F14: - | G14: No additional review overlap | H14: Ruthin Rd | I14: Pwllglas | J14: Ruthin | K14: LL15 2PB | L14: SJ 11933 54632 | M14: SJ 11919 54638 | N14: River Clwyd | O14: 3.84 | P14: 6mm | Q14: 6mm x 6mm | R14: Unknown | S14: None | W14: =IF(MATCH(C14,Sheet2!A13:A1126,0),"yes") -> yes
A15: 6DC002107 | B15: RAGLAN STW CHEPSTOW ROAD RAGLAN | C15: AB0036502 | D15: AC0140201 AB0036502 | E15: EDMW | F15: W_U_MON3 W_U_MON4 | G15: No additional review overlap | H15: Nr Brooklands Hse | I15: Chepstow Rd, Raglan | J15: Usk | K15: NP15 2EN | L15: SO 41637 07143 | M15: SO 41535 07218 | N15: Nant y Wilcae | O15: 13.8 | P15: 6mm | Q15: 6mm x 6mm | R15: Unknown | S15: 156m3 | W15: =IF(MATCH(C15,Sheet2!A14:A1127,0),"yes") -> yes
A16: 6DC001692 | B16: RESOLVEN STW STORM TANKS NEATH | C16: BP0341401 | D16: BA2001301 BP0341401 | E16: EDMW | F16: W_U_MON3 W_U_MON4 | G16: No additional review overlap | H16: Resolven WwTW | I16: Melincourt | J16: Neath | K16: SA11 4LD | L16: SN 82178 02521 | M16: SN 82409 02639 | N16: River Neath | O16: 24.5 | P16: 6mm | Q16: 6mm x 6mm | R16: Unknown | S16: 224m3 | W16: =IF(MATCH(C16,Sheet2!A15:A1128,0),"yes") -> yes
A17: 6DC001775 | B17: REYNOLDSON WWTW REYNOLDSTON GOWER | C17: BP0232001 | D17: BC0002501 BP0232001 | E17: EDMW | F17: W_U_MON3 W_U_MON4 | G17: No additional review overlap | H17: Burry Green | I17: Gower | J17: Swansea | K17: SA3 1BR | L17: SS 46588 90926 | M17: SS 46650 90950 | N17: Burry Pill | O17: 8.5 | P17: 6mm | Q17: 6mm | R17: Unknown | S17: 72m3 | W17: =IF(MATCH(C17,Sheet2!A16:A1129,0),"yes") -> yes
A18: 6DC000547 | B18: RHIWLAS STW | C18: CG0086002 | D18: CG0086001 CG0086002 | E18: EDMW | F18: W_U_MON3 W_U_MON4 | G18: No additional review overlap | H18: Nr Ty'r Ysgol Waen | I18: Pentir | J18: Bangor | K18: LL57 4EH | L18: SH 57175 66242 | M18: SH 57239 66228 | N18: Afon Cegin | O18: 15.7 | P18: 6mm | Q18: 6mm x 6mm | R18: Unknown | S18: None | W18: =IF(MATCH(C18,Sheet2!A17:A1130,0),"yes") -> yes
A19: 6DC000671 | B19: RHOSNEIGR STW (SETTLED STORM/EMERGE | C19: CG0144402 | D19: N/A | E19: EDM1 | F19: W_U_MON3 W_U_MON4 | G19: No additional review overlap | H19: Opp Bryn Hyfryd | I19: Rhosneigr | J19: Anglesey | K19: LL64 5JD | L19: SH 31372 72198 | M19: SH 31690 72719 | N19: Coastal waters | O19: 13 | P19: 10mm | Q19: 10mm | R19: Unknown | S19: 825m3 | W19: =IF(MATCH(C19,Sheet2!A18:A1131,0),"yes") -> #N/A
A20: 6DC002515 | B20: ST ISHMAELS WORKS INLET . . | C20: BG0011502 | D20: N/A | E20: EDMW | F20: W_U_MON3 W_U_MON4 | G20: No additional review overlap | H20: Nr Minkhaven Manor | I20: St Ishmaels | J20: Haverfordwest | K20: SA62 3TD | L20: SM 83127 06769 | M20: SM 83236 06828 | N20: Monk Haven Stream | O20: 3.4 | P20: 10mm | Q20: 10mm | R20: Unknown | S20: 40m3 | W20: =IF(MATCH(C20,Sheet2!A19:A1132,0),"yes") -> #N/A
A21: 6DC002024 | B21: ST NICHOLAS STW . . | C21: BG0022202 | D21: BG0022201 BG0022202 | E21: EDMW | F21: W_U_MON3 W_U_MON4 | G21: No additional review overlap | H21: Nr The Rectory | I21: St Nicholas | J21: Goodwick | K21: SA64 0LG | L21: SM 89868 35757 | M21: SM 89938 35719 | N21: Tributary of the Aberach Stream | O21: N/A | P21: N/A | Q21: N/A | R21: No Screen | S21: None | W21: =IF(MATCH(C21,Sheet2!A20:A1133,0),"yes") -> yes
A22: 6DC002490 | B22: STORM TANKS AT RHAYADER STW | C22: AW1005202 | D22: AW1005201 AW1005202 | E22: EDM1 | F22: W_U_MON3 W_U_MON4 | G22: No additional review overlap | H22: South Street | I22: Rhayader | J22: Powys | K22: LD6 5BH | L22: SN 97870 67270 | M22: SN 97872 67287 | N22: A tributary of the river Wye | O22: 30 | P22: 10mm | Q22: 10mm | R22: Unknown | S22: 218m3 | W22: =IF(MATCH(C22,Sheet2!A21:A1134,0),"yes") -> yes
A23: 6DC000663 | B23: SWO. BRIDGEND ROAD GARTH (POINT 23) | C23: BW3204101 | D23: N/A | E23: EDM1 | F23: - | G23: No additional review overlap | H23: Nr 181 Bridgend Rd | I23: Maesteg | J23: Bridgend | K23: CF34 0HX | L23: SS 86531 90614 | M23: SS 86539 90668 | N23: Nant y Twlc | O23: N/A | P23: N/A | Q23: N/A | R23: No Screen | S23: None | W23: =IF(MATCH(C23,Sheet2!A22:A1135,0),"yes") -> #N/A
A24: 6DC000799 | B24: SWO. MAESTEG MARKET (POINT 18) | C24: BW3204601 | D24: N/A | E24: EDM1 | F24: - | G24: No additional review overlap | H24: Behind Bridgend County Council Offices, Talbot Street | I24: Maesteg | J24: Mid Glamorgan | K24: CF34 9BW | L24: SS 85234 91262 | M24: SS 85236 91301 | N24: Llynfi River | O24: No copy of consent available | P24: No copy of consent available | Q24: No copy of consent available | R24: No copy of consent available | S24: No copy of consent available | W24: =IF(MATCH(C24,Sheet2!A23:A1136,0),"yes") -> #N/A
A25: 6DC000698 | B25: SWO. TYNYCOED (POINT 30) | C25: BW3203401 | D25: N/A | E25: EDM1 | F25: - | G25: No additional review overlap | H25: 17 Heol Bryncwils | I25: Sarn | J25: Bridgend | K25: CF32 9UD | L25: SS 90370 83600 | M25: SS 90381 83566 | N25: River Ogmore | O25: No copy of consent available | P25: No copy of consent available | Q25: No copy of consent available | R25: No copy of consent available | S25: No copy of consent available | W25: =IF(MATCH(C25,Sheet2!A24:A1137,0),"yes") -> #N/A
A26: 6DC000616 | B26: SWO. VICTORIA STREET PONTYCYMMER (P | C26: BW3202701 | D26: N/A | E26: EDM1 | F26: - | G26: No additional review overlap | H26: Outside 9, Victoria St | I26: Pontycymer | J26: Bridgend | K26: SS 90372 91480 | L26: SS 9037 9148 | M26: SS 90344 91734 | N26: Afon Garw | O26: No copy of consent available | P26: No copy of consent available | Q26: No copy of consent available | R26: No copy of consent available | S26: No copy of consent available | W26: =IF(MATCH(C26,Sheet2!A25:A1138,0),"yes") -> #N/A
A27: 6DC000727 | B27: SWO. YNYSMEUDW WAREHOUSE (SOC | C27: BW2302501 | D27: N/A | E27: EDM1 | F27: - | G27: No additional review overlap | H27: Behind & across river from 184, Ynysmeudw Road | I27: Pontardawe | J27: Neath | K27: SA8 4QJ | L27: SN 74042 05453 | M27: SN 74042 05605 | N27: Afon Tawe | O27: No copy of consent available | P27: No copy of consent available | Q27: No copy of consent available | R27: No copy of consent available | S27: No copy of consent available | W27: =IF(MATCH(C27,Sheet2!A26:A1139,0),"yes") -> #N/A
A28: 6DC001699 | B28: TALGARTH STW | C28: AN0373401 | D28: AW1005301 AN0373401 | E28: EDMW | F28: W_U_MON3 W_U_MON4 | G28: No additional review overlap | H28: Off Bronllys Rd (A479), (Near Bronllys Castle) | I28: Talgarth | J28: Brecon | K28: LD3 0HH | L28: SO 15073 34806 | M28: SO 15202 34782 | N28: Afon Llynfi | O28: 24.9 | P28: 6mm | Q28: 6mm x 6mm | R28: Unknown | S28: 180m3 | W28: =IF(MATCH(C28,Sheet2!A27:A1140,0),"yes") -> yes
A29: 6DC001566 | B29: TALSARNAU STW and SPS | C29: CG0071501 | D29: CG0071401 CG0071501 | E29: EDMW | F29: W_U_MON3 W_U_MON4 | G29: No additional review overlap | H29: End of Maes Trefor | I29: Off High St | J29: Talsarnau | K29: LL47 6TU | L29: SH 61047 35964 | M29: SH 61042 35951 | N29: a stream on the NW boundary of the site | O29: N/A | P29: N/A | Q29: N/A | R29: No Screen | S29: None | W29: =IF(MATCH(C29,Sheet2!A28:A1141,0),"yes") -> yes
A30: 6DC001394 | B30: TIERS CROSS WWTW INLET CSO PEMBRK | C30: BP0315301 | D30: N/A | E30: EDMW | F30: - | G30: No additional review overlap | H30: Unnamed track | I30: Tiers Cross | J30: Haverfordwest | K30: SA62 3DG | L30: SM 89999 10909 | M30: SM 90334 10786 | N30: unnamed tributary of the Sandy Haven Pill | O30: 5 | P30: 6mm | Q30: 6mm | R30: Unknown | S30: None | W30: =IF(MATCH(C30,Sheet2!A29:A1142,0),"yes") -> #N/A
A31: 6DC000761 | B31: TRECASTLE STW | C31: AD0001001 | D31: AD0000901 AD0001001 | E31: EDMW | F31: - | G31: No additional review overlap | H31: Off Chapel Street (Nr Nant Logyn) | I31: Trecastle | J31: Brecon | K31: LD3 8UF | L31: SN 88016 28857 | M31: SN 88011 28884 | N31: Nant Logyn | O31: 2.1 | P31: 6mm | Q31: 6mm x 6mm | R31: Unknown | S31: 7.6m3 | W31: =IF(MATCH(C31,Sheet2!A30:A1143,0),"yes") -> yes
A32: 6DC000106 | B32: TREFOR WWTW | C32: CG0438901 | D32: CG0138701 CG0439001 CG0438901 | E32: EDMW | F32: - | G32: No additional review overlap | H32: In field behind Gwydir Bach | I32: Trefor | J32: Caernarfon | K32: LL54 5LN | L32: SH 37173 47103 | M32: SH 37168 47083 | N32: Unnamed watercourse | O32: 6.6 | P32: 6mm | Q32: 6mm x 6mm | R32: Unknown | S32: 47.6m3 | W32: =IF(MATCH(C32,Sheet2!A31:A1144,0),"yes") -> yes
A33: 7CDC0242 | B33: TREFOR WWTW | C33: CG0439001 | D33: CG0138701 CG0439001 CG0438901 | E33: EDMW | F33: W_U_MON3 W_U_MON4 | G33: No additional review overlap | H33: In field behind Gwydir Bach | I33: Trefor | J33: Caernarfon | K33: LL54 5LN | L33: SH 37282 47530 | M33: SH 37168 47083 | N33: coastal waters | O33: 6.6 | P33: 6mm | Q33: 6mm x 6mm | R33: Unknown | S33: 47.6m3 | W33: =IF(MATCH(C33,Sheet2!A32:A1145,0),"yes") -> yes
A34: 7CDC0734 | B34: TREFRIW STW | C34: CG0084101 | D34: N/A | E34: EDMW | F34: - | G34: No additional review overlap | H34: End of Unnamed Lane, Junction of B5106 & Gower Rd | I34: Trefriw | J34: Llanrwst | K34: LL27 0NQ | L34: SH 78781 63272 | M34: SH 78488 62878 | N34: River Crafnant | O34: N/A | P34: N/A | Q34: N/A | R34: No Screen | S34: None | W34: =IF(MATCH(C34,Sheet2!A33:A1146,0),"yes") -> #N/A
A35: 6DC001581 | B35: TRELECH STW TRELECH CARMARTHEN , | C35: BP0219401 | D35: BN0269401 BP0219401 | E35: EDMW | F35: - | G35: No additional review overlap | H35: WwTW off B4299 | I35: Trelech | J35: Carmarrthenshire | K35: SA33 6RU | L35: SN 28034 30315 | M35: SN 28051 30317 | N35: Tributary of Afon Cynin | O35: 1.4 | P35: 10mm | Q35: 10mm | R35: Unknown | S35: 10m3 | W35: =IF(MATCH(C35,Sheet2!A34:A1147,0),"yes") -> yes
A36: 6DC001223 | B36: TREVINE STW . . | C36: BH0052402 | D36: N/A | E36: EDMW | F36: W_U_MON3 W_U_MON4 | G36: No additional review overlap | H36: Nr 42 Ffordd Y Felin | I36: Trefin | J36: Haverfordwest | K36: SA62 5AX | L36: SM 83500 32377 | M36: SM 83700 32300 | N36: Aberdraw stream | O36: N/A | P36: N/A | Q36: N/A | R36: No Screen | S36: None | W36: =IF(MATCH(C36,Sheet2!A35:A1148,0),"yes") -> #N/A
A37: 7CDC0578 | B37: TYN Y GROES STW - STORM OVERFL | C37: CG0015501 | D37: CG0015401 CG0015501 | E37: EDMW | F37: W_U_MON3 W_U_MON4 | G37: No additional review overlap | H37: Nr B5279 | I37: Tyn y Groes | J37: Conwy | K37: LL28 5RR | L37: SH 78401 71424 | M37: SH 78209 71223 | N37: Afon Conwy | O37: 6DWF | P37: N/A | Q37: N/A | R37: No Screen | S37: None | W37: =IF(MATCH(C37,Sheet2!A36:A1149,0),"yes") -> yes
A38: 6DC001713 | B38: USK STW GRAIG OLWAY FARM LLANGVIEW | C38: AB0044802 | D38: AB0044801 AB0044802 | E38: EDMW | F38: W_U_MON3 W_U_MON4 | G38: No additional review overlap | H38: Near Graig Olway, Between Llangview and Llanllywel villages | I38: Usk | J38: Monmouthshire | K38: NP15 1LJ | L38: ST 38680 99449 | M38: ST 38992 99556 | N38: River Usk | O38: 21 | P38: 6mm | Q38: 6mm x 6mm | R38: Unknown | S38: 214m3 | W38: =IF(MATCH(C38,Sheet2!A37:A1150,0),"yes") -> yes
A39: 6DC001473 | B39: WATERSTON WORKS INLET . . | C39: BH0073902 | D39: N/A | E39: EDMW | F39: W_U_MON3 W_U_MON4 | G39: No additional review overlap | H39: Nr Green Lane | I39: Waterston | J39: Haverfordwest | K39: SA73 1DS | L39: SM 93558 06043 | M39: SM 93556 06019 | N39: Hazelbeach Stream | O39: N/A | P39: N/A | Q39: N/A | R39: No Screen | S39: None | W39: =IF(MATCH(C39,Sheet2!A38:A1151,0),"yes") -> #N/A
A40: 7CDC0905 | B40: WAUNFAWR STW (STORM) | C40: CG0134002 | D40: CG0134001 CG0134002 | E40: EDMW | F40: W_U_MON3 W_U_MON4 | G40: No additional review overlap | H40: In Field behind Ty'n Coed | I40: Waunfawr | J40: Gwynedd | K40: LL55 4AX | L40: SH 52803 58902 | M40: SH 52883 58976 | N40: Afon Gwyrfai | O40: 14.4 | P40: 6mm | Q40: 6mm x 6mm | R40: Unknown | S40: 100m3 | W40: =IF(MATCH(C40,Sheet2!A39:A1152,0),"yes") -> yes
A41: 6DC001136 | B41: WEST ABERTHAW WWTW W ABERTHAW BARRY | C41: AN0419401 | D41: N/A | E41: EDMW | F41: W_U_MON3 W_U_MON4 | G41: No additional review overlap | H41: West Aberthaw WwTW | I41: Aberthaw | J41: Barry | K41: CF62 4JA | L41: ST 022526 5678 | M41: ST 02390 66686 | N41: Bristol Channel, Break Sea Point | O41: 51 | P41: 6mm | Q41: 6mm x 6mm | R41: Unknown | S41: 210m3 | W41: =IF(MATCH(C41,Sheet2!A40:A1153,0),"yes") -> #N/A
A42: 6DC000948 | B42: WEYCOCK CROSS STW BARRY , | C42: AN0266101 | D42: AF4021601 AN0266101 | E42: EDMW | F42: - | G42: No additional review overlap | H42: Weycock Rd | I42: Barry | J42: Vale of Glamorgan | K42: CF62 3AA | L42: ST 08885 69438 | M42: ST 09092 69532 | N42: River Weycock | O42: 27 | P42: 6mm | Q42: 6mm | R42: Unknown | S42: 65m3 | W42: =IF(MATCH(C42,Sheet2!A41:A1154,0),"yes") -> yes
A43: 6DC002620 | B43: WHITLAND WWTW WHITLAND CARMS | C43: BL0138502 | D43: BL0138501 BL0138502 | E43: EDMW | F43: W_U_MON3 W_U_MON4 | G43: UWWTD Review | H43: Nr Trevaughan Farm | I43: Trevaughan | J43: Whitland | K43: SA34 0NL | L43: SN 20555 16071 | M43: SN 20471 15866 | N43: Afon Taf | O43: 29.5 | P43: 6mm | Q43: 6mm | R43: Unknown | S43: 250m3 | W43: =IF(MATCH(C43,Sheet2!A42:A1155,0),"yes") -> yes
A44: 5DC3150001 | B44: YSTRADGYNLAIS WWTW OFF WIND ROAD | C44: BW0600901 | D44: N/A | E44: EDMW | F44: W_U_MON3 W_U_MON4 | G44: No additional review overlap | H44: Gorof Bridge | I44: Ystradgynlais | J44: Swansea | K44: SA9 1AE | L44: SN 77435 08566 | M44: SN 77554 08714 | N44: River Tawe | O44: 126 | P44: 6mm | Q44: 6mm | R44: Unknown | S44: 2950m3 | W44: =IF(MATCH(C44,Sheet2!A43:A1156,0),"yes") -> #N/A
A45: 6DC000532 | B45: ABERERCH WWTW STORM OVERFLOW | C45: CG0431301 | D45: CG0111201 CG0431301 | E45: EDM1 | F45: W_U_MON3 W_U_MON4 W_U_IMP5 | G45: No additional review overlap | H45: Rear Glan Erch, Off Penbryn Huddig | I45: Abererch | J45: Pwllheli | K45: LL53 6YT | L45: SH 39615 36762 | M45: SH 39619 36780 | N45: Afon Erch | O45: 2.95 | P45: 6mm | Q45: 6mm x 6mm | R45: Unknown | S45: 31.5m3 | W45: =IF(MATCH(C45,Sheet2!A44:A1157,0),"yes") -> yes
A46: 6DC000935 | B46: BALA WWTW (STORM) | C46: CG0428901 | D46: CM0001501 CG0428901 | E46: EDMW | F46: W_U_MON3 W_U_MON4 W_UIMP5 W_U_IMP6 | G46: No additional review overlap | H46: R/O Bala Enterprise Park | I46: Bala | J46: Gwynedd | K46: LL23 7NJ | L46: SH 93770 35552 | M46: SH 93520 35770 | N46: River Dee | O46: 19.6 | P46: 6mm | Q46: 6mm x 6mm | R46: Unknown | S46: 136.4m3 | W46: =IF(MATCH(C46,Sheet2!A45:A1158,0),"yes") -> yes
A47: 6DC000937 | B47: BANCYFELIN STW BANCYFELIN NEAR ST | C47: BN0269702 | D47: BN0269701 BN0269702 | E47: EDMW | F47: W_U_MON3 W_U_MON4 W_U_IMP6 | G47: No additional review overlap | H47: Nr 5 Llys y Felin | I47: Bancyfelin | J47: Carmarrthenshire | K47: SA33 5EA | L47: SN 32522 17873 | M47: SN 32491 17904 | N47: Afon Cywyn | O47: 4 | P47: N/A | Q47: N/A | R47: No Screen | S47: 26m3 | W47: =IF(MATCH(C47,Sheet2!A46:A1159,0),"yes") -> yes
A48: 6DC000360 | B48: BANGOR ON DEE STW | C48: CM0060702 | D48: CM0060701 CM0060702 | E48: FLOW4W EDMW | F48: W_U_MON3 W_U_MON4 | G48: No additional review overlap | H48: The Graig | I48: Bangor Is Y Coed | J48: Wrexham | K48: LL13 0AD | L48: SJ 39456 46000 | M48: SJ 39546 45901 | N48: River Dee | O48: 6.35 | P48: N/A | Q48: N/A | R48: No Screen | S48: 66m3 | W48: =IF(MATCH(C48,Sheet2!A47:A1160,0),"yes") -> yes
A49: 6DC000943 | B49: BEDDGELERT WASTE WATER TREATMENT | C49: CG0406401 | D49: CG0024001 CG0406401 | E49: EDMW | F49: W_U_MON3 W_U_MON4 W_U_IMP5 | G49: No additional review overlap | H49: Nr Bryn y Bedd | I49: Beddgelert | J49: Caernarfon | K49: LL55 4YW | L49: SH 59180 47472 | M49: SH 59061 47633 | N49: Afon Glaslyn | O49: 6.2 | P49: 6mm | Q49: 6mm x 6mm | R49: Unknown | S49: 45m3 | W49: =IF(MATCH(C49,Sheet2!A48:A1161,0),"yes") -> yes
A50: 6DC002331 | B50: SALEM STW | C50: BP0219001 | D50: BP0219002 BP0219001 | E50: EDMW | F50: W_U_IMP6 W_UIMP5 W_U_MON3 W_U_MON4 | G50: No additional review overlap | H50: Penybanc | I50: Salem | J50: Carmarrthenshire | K50: SA19 7NB | L50: SN 62124 26643 | M50: SN 62130 26631 | N50: 1.3 | O50: 10mm | P50: 10mm x 10mm | Q50: Unknown | S50: None | W50: =IF(MATCH(C50,Sheet2!A49:A1162,0),"yes") -> yes
A51: 6DC000970 | B51: BLAENAU FFESTINIOG WWTW (STORM) | C51: CG0083402 | D51: CG0083401 CG0083402 CG0432201 | E51: EDMW | F51: W_U_IMP5 W_U_MON3 W_U_MON4 | G51: No additional review overlap | H51: Up path next to Glandwyryd | I51: Blaenau Ffestiniog | J51: Gwynedd | K51: LL41 4BW | L51: SH 69420 43720 | M51: SH 69630 44480 | N51: Afon Goedol | O51: 56.6 | P51: 6mm | Q51: 6mm x 6mm | R51: Unknown | S51: 402.3m3 | W51: =IF(MATCH(C51,Sheet2!A50:A1163,0),"yes") -> yes
A52: 6DC000111 | B52: BONCATH STW | C52: BG0001202 | D52: BG0001201 BG0001202 | E52: FLOW4W EDMW | F52: W_U_MON3 W_U_MON4 W_U_INV | G52: No additional review overlap | H52: Opp Plas-y-dderwen, Off Maesybedw | I52: Boncath | J52: Dyfed | K52: SA37 0JW | L52: SN 20122 39041 | M52: SN 201423 9007 | N52: A tributary of the Afon Morganau | O52: 4.2 | P52: 6mm | Q52: 6mm | R52: Unknown | S52: None | W52: =IF(MATCH(C52,Sheet2!A51:A1164,0),"yes") -> yes
A53: 7CDC0210 | B53: BRECON | C53: AB0041502 | D53: AB0041501 AB0041502 | E53: EDMW | F53: W_U_MON3 W_U_MON4 W_U_IMP6 | G53: No additional review overlap | H53: Canal Bank | I53: Brecon | J53: Powys | K53: LD3 7PL | L53: SO 05921 27595 | M53: SO 05732 27574 | N53: The River Usk | O53: 78.6 | P53: 6mm | Q53: 6mm x 6mm | R53: Unknown | S53: 566m3 | W53: =IF(MATCH(C53,Sheet2!A52:A1165,0),"yes") -> yes
A54: 6DC001015 | B54: BRONABER STW | C54: CG0086702 | D54: CG0086701 CG0086702 | E54: EDMW | F54: W_U_MON3 W_U_MON4 W_U_IMP6 | G54: No additional review overlap | H54: WwTW off A470 | I54: Bronaber | J54: Gwynedd | K54: LL41 4UR | L54: SH 70408 31424 | M54: SH 71106 31424 | N54: Afon Eden | O54: 4.9 | P54: 16mm | Q54: 16mm x 16mm | R54: Unknown | S54: None | W54: =IF(MATCH(C54,Sheet2!A53:A1166,0),"yes") -> yes
A55: 7CDC0242 | B55: BWLCH SOUTH | C55: AB0049401 | D55: AB0049501 AB0049401 | E55: EDMW | F55: W_U_MON3 W_U_MON4 W_U_IMP6 | G55: No additional review overlap | H55: 157 Forge Rd | I55: Crickhowell | J55: Powys | K55: NP8 1RL | L55: SO 15493 20316 | M55: SO 15401 20756 | N55: River Usk | O55: N/A | P55: N/A | Q55: N/A | R55: N/A | S55: None | W55: =IF(MATCH(C55,Sheet2!A54:A1167,0),"yes") -> yes
A56: 6DC001085 | B56: CAREW WWTW CAREW PEMBROKESHIRE | C56: BP0215001 | D56: BP0044201 BP0215001 | E56: EDMW | F56: W_U_IMP6 W_UIMP5 W_U_MON3 W_U_MON4 | G56: No additional review overlap | H56: Nr The Steps | I56: Brids Lane | J56: Tenby | K56: SA70 8SL | L56: SN 05187 03575 | M56: SN 05177 03548 | N56: Carew river | O56: 7.3 | P56: 6mm | Q56: 6mm | R56: Unknown | S56: 59m3 | W56: =IF(MATCH(C56,Sheet2!A55:A1168,0),"yes") -> yes
A57: 6DC000250 | B57: CARWAY WWTW CARWAY CARMS | C57: BP0361501 | D57: BC0017801 BP0361501 | E57: FLOW4W EDMW | F57: W_U_MON3 W_U_MON4 W_U_IMP6 | G57: No additional review overlap | H57: O/S Carway WwTW | I57: Kidwelly | J57: Carmarrthenshire | K57: SA17 4HP | L57: SN 46001 06992 | M57: SN 46015 06910 | N57: Tributary of the Gwendraeth Fawr | O57: 5.6 | P57: 6mm | Q57: 6mm x 6mm | R57: Unknown | S57: None | W57: =IF(MATCH(C57,Sheet2!A56:A1169,0),"yes") -> yes
A58: 6DC001096 | B58: CEFN MAWR STW HEOL BERWYN CEFN MAWR | C58: CG0405901 | D58: CM0101301 CG0405901 | E58: EDMW | F58: W_U_MON3 W_U_MON4 W_U_IMP6 | G58: No additional review overlap | H58: Off Heol Berwyn | I58: Cefn Mawr | J58: Wrexham | K58: LL14 3NG | L58: SJ 27450 41700 | M58: SJ 27704 41654 | N58: River Dee | O58: 48 | P58: 6mm | Q58: 6mm x 6mm | R58: N/A | S58: 350m3 | W58: =IF(MATCH(C58,Sheet2!A57:A1170,0),"yes") -> yes
A59: 6DC000572 | B59: CILGERRAN STW | C59: BP0217802 | D59: BP0217801 BP0217802 | E59: EDM1 | F59: W_U_MON3 W_U_MON4 W_U_IMP6 | G59: No additional review overlap | H59: Nr Penrallt Draw | I59: Cwmplysgog | J59: Cilgerran | K59: SA43 2TD | L59: SN 19480 43240 | M59: SN 19390 43203 | N59: Afon Teifi | O59: 9.4 | P59: N/A | Q59: N/A | R59: No Screen | S59: 69m3 | W59: =IF(MATCH(C59,Sheet2!A58:A1171,0),"yes") -> yes
A60: 6DC001200 | B60: COSLECH STW | C60: AN0010102 | D60: N/A | E60: EDMW | F60: W_U_MON3 W_U_MON4 W_U_IMP6 | G60: No additional review overlap | H60: Peterstone Super Ely Rd | I60: Groesfaen | J60: Llantrisant | K60: CF72 8NU | L60: ST 06659 78704 | M60: ST 06826 78847 | N60: River Ely | O60: 375 | P60: 6mm | Q60: 6mm x 6mm | R60: Unknown | S60: None | W60: =IF(MATCH(C60,Sheet2!A59:A1172,0),"yes") -> #N/A
A61: 6DC001222 | B61: CROSS INN / NEBO STW , , | C61: BP0218501 | D61: BG0038701 BP0218501 | E61: EDMW | F61: W_U_MON3 W_U_MON4 W_U_IMP6 | G61: No additional review overlap | H61: Off B4337 | I61: Llanon | J61: Ceredigion | K61: SY23 5ND | L61: SN 54395 65334 | M61: SN 54396 65320 | N61: Nant Clydan | O61: 2.3 | P61: 10mm | Q61: 10mm x 10mm | R61: Unknown | S61: None | W61: =IF(MATCH(C61,Sheet2!A60:A1173,0),"yes") -> yes
A62: 6DC001227 | B62: CROSSHANDS WWTW SSO CROSSHANDS CARM | C62: BP0265601 | D62: BC0001501 BP0265601 BP0265701 | E62: EDMW | F62: W_U_INV | G62: No additional review overlap | H62: Nr 19 Pontardulais Rd | I62: Cross Hands | J62: Llanelli | K62: SA14 6NT | L62: SN 56420 12308 | M62: SN 56256 12362 | N62: Afon Gwili | O62: 19 | P62: 6mm | Q62: 6mm | R62: Unknown | S62: 258m3 | W62: =IF(MATCH(C62,Sheet2!A61:A1174,0),"yes") -> yes
A63: 6DC001428 | B63: CWMGWILI WWTW CWMGWILI NR AMMANFORD | C63: BP0318001 | D63: BC0010601 BP0318001 | E63: EDMW | F63: W_U_MON3 W_U_MON4 W_U_INV | G63: No additional review overlap | H63: Cwmgwili WwTW | I63: Ammanford | K63: SA14 6PX | L63: SN 57802 10355 | M63: SN 57728 10361 | N63: Afon Gwili | O63: 13.1 | P63: 6mm | Q63: 6mm | R63: Unknown | S63: 150m3 | W63: =IF(MATCH(C63,Sheet2!A62:A1175,0),"yes") -> yes
A64: 6DC001442 | B64: CYNWYD STW FINAL EFFLUENT | C64: CM0149302 | D64: CM0149301 CM0149302 | E64: EDMW | F64: W_U_IMP6 W_U_MON3 W_U_MON4 | G64: No additional review overlap | H64: Station Yard | I64: Cynwyd | J64: Corwen | K64: LL21 0HY | L64: SJ 05265 41089 | M64: SJ 05337 41045 | N64: River Dee | O64: 2.9 | P64: N/A | Q64: N/A | R64: N/A | S64: None | W64: =IF(MATCH(C64,Sheet2!A63:A1176,0),"yes") -> yes
A65: 6DC001470 | B65: DOLGARROG SSO NO. 2 | C65: CG0075601 | D65: N/A | E65: EDMW | F65: W_U_MON3 'W_U_MON4 W_U_IMP6 | G65: No additional review overlap | H65: Nr 32 Hendy | I65: Talybont | J65: Conwy | K65: LL32 8JQ | L65: SH 77302 68801 | M65: SH 77249 68799 | N65: Afon Dulyn | O65: 16.6 | P65: 6mm | Q65: 6mm x 6mm | R65: Unknown | S65: None | W65: =IF(MATCH(C65,Sheet2!A64:A1177,0),"yes") -> #N/A
A66: 6DC000355 | B66: DYSERTH STW | C66: CM0035902 | D66: CM0035901 CM0035902 | E66: FLOW4 EDMW | F66: W_U_MON3 W_U_MON4 W_U_INV | G66: No additional review overlap | H66: Long Acres Rd | I66: Dsyerth | J66: Rhyl | K66: LL18 6BP | L66: SJ 05200 79770 | M66: SJ 05256 79691 | N66: Afon Glanfyddion | O66: 20.8 | P66: N/A | Q66: N/A | R66: N/A | S66: None | W66: =IF(MATCH(C66,Sheet2!A65:A1178,0),"yes") -> yes
A67: 6DC000280 | B67: EGLWYSBACH STW | C67: CG0030702 | D67: CG0030701 CG0030702 | E67: FLOW4W EDMW | F67: W_U_MON3 W_U_MON4 W_U_IMP6 | G67: No additional review overlap | H67: Brin Hir Road | I67: Eglwysbach | J67: Conway | K67: LL28 5AQ | L67: SH 80104 71021 | M67: SH 80149 70941 | N67: Afon Hiraethlyn | O67: 9.7 | P67: N/A | Q67: N/A | R67: No Screen | S67: 70m3 | W67: =IF(MATCH(C67,Sheet2!A66:A1179,0),"yes") -> yes
A68: 7CDC0456 | B68: FFAIRFACH STW | C68: BN0194103 | D68: BH0065401 BN0194103 | E68: EDMW | F68: W_U_IMP6 W_UIMP5 W_U_MON3 W_U_MON4 | G68: No additional review overlap | H68: Off B4300 | I68: Fairfach | J68: Carmarrthenshire | K68: SA32 8NH | L68: SN 61639 21114 | M68: SN 61792 21126 | N68: River Towy | O68: 27 | P68: 6mm | Q68: 6mm | R68: Unknown | S68: 172m3 | W68: =IF(MATCH(C68,Sheet2!A67:A1180,0),"yes") -> yes
A69: 6DC001530 | B69: FIVE FORDS STW - SETTLED STORM | C69: CM0005702 | D69: CM0077801 CM0005702 | E69: EDMW | F69: W_U_MON3 W_U_MON4 W_U_IMP6 | G69: No additional review overlap | H69: Off Cefn Rd (Nr Glanrafon Cottage) | I69: Marchwiel | J69: Wrexham | K69: LL13 0RX | L69: SJ 36180 48340 & SJ 36240 48380 | M69: SJ 36074 48036 | N69: River Clywedog | O69: 806 | P69: 6mm | Q69: 6mm x 6mm | R69: Unknown | S69: 5800m3 | W69: =IF(MATCH(C69,Sheet2!A68:A1181,0),"yes") -> yes
A70: 6DC001552 | B70: GARNSWLLT STW LONGELIN AMMANFORD | C70: BW1404301 | D70: BC0006801 BW1404301 | E70: EDMW | F70: W_U_MON3 W_U_MON4 W_U_IMP5 | G70: No additional review overlap | H70: Nr Coal Rd | I70: Ammanford | J70: Carmarrthenshire | K70: SA18 2RH | L70: SN 61746 09744 | M70: SN 62043 09843 | N70: River Loughor | O70: 360 | P70: 10mm | Q70: 10mm x 10mm | R70: Unknown | S70: 2802m3 | W70: =IF(MATCH(C70,Sheet2!A69:A1182,0),"yes") -> yes
A71: 6DC000368 | B71: HOLT STW | C71: CM0102003 | D71: CM0102001 CM0102003 CM0102002 | E71: FLOW4W EDMW | F71: W_U_MON3 W_U_MON4 | G71: No additional review overlap | H71: Chester Lane, Off Frog Lane | I71: Holt | J71: Wrexham | K71: LL13 9HJ | L71: SJ 40442 54813 | M71: SJ 40399 54435 | N71: River Dee | O71: 19 | P71: N/A | Q71: N/A | R71: No Screen | S71: None | W71: =IF(MATCH(C71,Sheet2!A70:A1183,0),"yes") -> yes
A72: 5DC2077001 | B72: HOOK STW | C72: BN0000401 | D72: BN0000402 BN0000401 | E72: S8 | F72: W_U_INV W_U_MON3 W_U_MON4 | G72: No additional review overlap | H72: Nr 48, Pill Road | I72: Hook | J72: Haverfordwest | K72: SA61 4AH | L72: SM 98891 11204 | M72: SM 98480 11032 | N72: Sprinkle Pill, a tributary of the river Cleddau | O72: 15.2 | P72: 10mm | Q72: 10mm | R72: Unknown | S72: None | W72: =IF(MATCH(C72,Sheet2!A71:A1184,0),"yes") -> yes
A73: 6DC001701 | B73: LANGDON STW STORM LANGDON PEMBS | C73: BG0012002 | D73: BG0012001 BG0012002 | E73: EDMW | F73: W_U_MON3 W_U_MON4 W_U_INV | G73: No additional review overlap | H73: Off Unnamed Rd between 'Rose park' and ' Langdon' | I73: Kilgetty | J73: Pembrokeshire | K73: SA68 0NJ | L73: SN 10117 07482 | M73: SN 10082 07451 | N73: River Cresswell | O73: 24.3 | P73: 6mm | Q73: 6mm x 6mm | R73: Unknown | S73: 250m3 | W73: =IF(MATCH(C73,Sheet2!A72:A1185,0),"yes") -> yes
A74: 6DC001702 | B74: LANSBURY PARK ESTATE | C74: AN0092201 | D74: N/A | E74: EDMW | F74: W_U_INV | G74: No additional review overlap | H74: Nr Rose & Castle Hotel | I74: Bedwas Rd | J74: Caerphilly | K74: CF83 3AS | L74: ST16020 87370 | M74: ST 16001 87371 | N74: River Rhymney | O74: N/A | P74: N/A | Q74: N/A | R74: No Screen | S74: None | W74: =IF(MATCH(C74,Sheet2!A73:A1186,0),"yes") -> #N/A
A75: 6DC001718 | B75: LETTERSTON WEST WORKS . . | C75: BH0071102 | D75: N/A | E75: EDMW | F75: W_U_MON3 W_U_MON4 W_U_INV | G75: No additional review overlap | H75: Letterston West WwTW | I75: Letterston | J75: Haverfordwest | K75: SA62 5SL | L75: SM 93009 29075 | M75: SM 93447 29464 | N75: Western Cleddau | O75: 24.3 | P75: 6mm | Q75: 6mm | R75: 60 | S75: None | W75: =IF(MATCH(C75,Sheet2!A74:A1187,0),"yes") -> #N/A
A76: 6DC001729 | B76: LLAN PENMACHNO STW - SCREENED | C76: CG0114602 | D76: N/A | E76: EDMW | F76: W_U_IMP6 W_U_MON3 W_U_MON4 | G76: No additional review overlap | H76: Llan Penmachno WwTW | I76: Penmachno | J76: Conwy | K76: LL24 0PS | L76: SH 79560 51364 | M76: SH 79545 51312 | N76: Afon Machno | O76: 3.82 | P76: 6mm | Q76: 6mm x 6mm | R76: Unknown | S76: None | W76: =IF(MATCH(C76,Sheet2!A75:A1188,0),"yes") -> #N/A
A77: 6DC001730 | B77: LLANARMON YN IAL WWTW (STORM) | C77: CM0001202 | D77: CM0001201 CM0001202 | E77: EDMW | F77: W_U_MON3 W_U_MON4 W_U_IMP6 | G77: No additional review overlap | H77: Off B5431 | I77: Llanarmon-yn-alm | J77: Mold | K77: CH7 4QY | L77: SJ 19020 55938 | M77: SJ 19009 55938 | N77: River Alyn | O77: 3.4 | P77: 6mm | Q77: 6mm x 6mm | R77: Unknown | S77: None | W77: =IF(MATCH(C77,Sheet2!A76:A1189,0),"yes") -> yes
A78: 6DC000227 | B78: LLANDEWI BREFI WWTW LLANDEWI BREFI | C78: BP0317101 | D78: BG0023501 BP0317101 | E78: FLOW4W EDMW | F78: W_U_MON3 W_U_MON4 | G78: No additional review overlap | H78: Llandewi Brefi WwTW | I78: Llandewi Brefi | J78: Ceredigion | K78: SY25 6UT | L78: SN 65709 55176 | M78: SN 65736 55158 | N78: Afon Brefi | O78: 3.7 | P78: 6mm | Q78: 6mm x 6mm | R78: Unknown | S78: 40m3 | W78: =IF(MATCH(C78,Sheet2!A77:A1190,0),"yes") -> yes
A79: 6DC000222 | B79: LLANEDI WWTW | C79: BP0312901 | D79: N/A | E79: FLOW4W EDMW | F79: W_U_MON3 W_U_MON4 W_U_IMP6 | G79: No additional review overlap | H79: Nr Penygraig | I79: Pontardulais | J79: Swansea | K79: SA4 0FQ | L79: SN 57875 07839 | M79: SN 58187 07885 | N79: Afon Gwili | O79: 3.4 | P79: 6mm | Q79: 6mm | R79: Unknown | S79: None | W79: =IF(MATCH(C79,Sheet2!A78:A1191,0),"yes") -> #N/A
A80: 5DC3120001 | B80: LLANFAGLAN WWTW STORM OVERFLOW | C80: CG0078102 | D80: CG0078101 CG0078102 | E80: S8 | F80: W_U_MON3 W_U_MON4 W_U_INV | G80: No additional review overlap | H80: Adj. Afon Gwyrfai, Saron | I80: Llanfaglan | J80: Caernarfon | K80: LL54 5RD | L80: SH 46864 59447 | M80: SH 46828 59492 | N80: The Afon Gwyrfai | O80: 49 | P80: 6mm | Q80: 6mm x 6mm | R80: Unknown | S80: 835m3 | W80: =IF(MATCH(C80,Sheet2!A79:A1192,0),"yes") -> yes
A81: 6DC001776 | B81: LLANFOIST SEWAGE TREATMENT WORKS ME | C81: AB0038202 | D81: AB0038201 AB0038202 | E81: EDMW | F81: W_U_MON3 W_U_MON4 W_U_IMP6 | G81: No additional review overlap | H81: Road (Opp Waitrose) Off Merthyr Road | I81: Llanfoist | J81: Abergavenny | K81: NP7 9LQ | L81: SO 3008213206 | M81: SO 29924 13300 | N81: The River Usk | O81: 137 | P81: 6mm | Q81: 6mm x 6mm | R81: Unknown | S81: 975m3 | W81: =IF(MATCH(C81,Sheet2!A80:A1193,0),"yes") -> yes
A82: 6DC000127 | B82: LLANGADOG STW | C82: BG0040002 | D82: BG0040001 BG0040002 | E82: FLOW4W EDMW | F82: W_U_IMP6 W_UIMP5 W_U_MON3 W_U_MON4 | G82: No additional review overlap | H82: Nr Ty Gwyn | I82: Llangadog | J82: Carmarrthenshire | K82: SA19 9DB | L82: SN 69972 28134 | M82: SN 70043 27974 | N82: River Swadde | O82: 8 | P82: N/A | Q82: N/A | R82: No Screen | S82: None | W82: =IF(MATCH(C82,Sheet2!A81:A1194,0),"yes") -> yes
A83: 6DC001788 | B83: LLANGAMMARCH WELLS STW EJECTOR | C83: AW1003302 | D83: N/A | E83: EDMW | F83: W_U_MON3 W_U_MON4 W_U_MON5 | G83: No additional review overlap | H83: R/O Irfon House | I83: Llangammarch Wells | J83: Powys | K83: LD4 4EA | L83: SN 93684 47310 | M83: SN 93687 47294 | N83: River Irfon | O83: No copy of consent available | P83: No copy of consent available | Q83: No copy of consent available | R83: No copy of consent available | S83: No copy of consent available | W83: =IF(MATCH(C83,Sheet2!A82:A1195,0),"yes") -> #N/A
A84: 6DC000677 | B84: LLANGURIG P.S. - OVERFLOW | C84: AN0087501 | D84: N/A | E84: EDM1 | F84: W_U_INV | G84: No additional review overlap | H84: Penybont Farm, A44 | I84: Llangurig | J84: Llanidloes | K84: SY18 6SG | L84: SN 90840 79670 | M84: SN 90947 79765 | N84: River Wye | O84: N/A | P84: N/A | Q84: N/A | R84: No Screen | S84: None | W84: =IF(MATCH(C84,Sheet2!A83:A1196,0),"yes") -> #N/A
A85: 5DC2216001 | B85: LLANGWM WWTW LLANGWM PEMBROKESH | C85: BP0324601 | D85: BG0042201 BP0324601 | E85: S8 | F85: W_U_MON3 W_U_MON4 | G85: No additional review overlap | H85: 50m SW of No.107, Llangwm Ferry | I85: Llangwm | J85: Haverfordwest | K85: SA62 4JH | L85: SM 99546 08731 | M85: SM 99485 08764 | N85: Beggars Reach, Daugleddau | O85: 21 | P85: 6mm | Q85: 6mm | R85: Unknown | S85: 200m3 | W85: =IF(MATCH(C85,Sheet2!A84:A1197,0),"yes") -> yes
A86: 6DC000108 | B86: LLANGYNDEYRN STW | C86: BE0039502 | D86: BE0039501 BE0039502 | E86: FLOW4W EDMW | F86: W_U_MON3 W_U_MON4 W_U_IMP6 | G86: No additional review overlap | H86: Nr 3 Maes Y Berllan | I86: Llangydeyrn | J86: Kidwelly | K86: SA17 5BL | L86: SN 45479 13711 | M86: SN 45458 13751 | N86: Gwendraeth Fawr | O86: 3.8 | P86: 6mm | Q86: 6mm x 6mm | R86: Unknown | S86: 13.68m3 | W86: =IF(MATCH(C86,Sheet2!A85:A1198,0),"yes") -> yes
A87: 6DC001804 | B87: LLANILAR STW LLANILAR ABERYSTWYTH | C87: BP0114701 | D87: N/A | E87: EDMW | F87: W_U_MON3 W_U_MON4 W_U_IMP6 | G87: No additional review overlap | H87: Nr Glan Yr Afon | I87: Llanilar | J87: Aberystwyth | K87: SY23 4PD | L87: SN 62510 75330 | M87: SN 62517 75345 | N87: Ystwyth | O87: N/A | P87: N/A | Q87: N/A | R87: No Screen | S87: None | W87: =IF(MATCH(C87,Sheet2!A86:A1199,0),"yes") -> #N/A
A88: 6DC001807 | B88: LLANLLYFNI STW | C88: CG0087502 | D88: CG0087501 CG0087502 | E88: EDMW | F88: W_U_MON3 W_U_MON4 W_U_IMP6 | G88: No additional review overlap | H88: Unnamed Rd off A487 | I88: South of Penygroes Ind Est | J88: Llanllyfni | K88: LL54 6SU | L88: SH 46165 52049 | M88: SH 46075 51968 | N88: River Llyfni | O88: 3DWF | P88: N/A | Q88: N/A | R88: No Screen | S88: None | W88: =IF(MATCH(C88,Sheet2!A87:A1200,0),"yes") -> yes
A89: 7CDC0679 | B89: LLANRUG WWTW STORM | C89: CG0073902 | D89: CG0073901 CG0073902 | E89: EDMW | F89: W_UIMP5 W_U_MON3 W_U_MON4 | G89: No additional review overlap | H89: Off Fford Crawia | I89: Llanrug | J89: Caernarfon | K89: LL55 4BP | L89: SH 53033 64206 | M89: SH 53095 64195 | N89: Afon Rhythallt | O89: 17.6 | P89: 6mm | Q89: 6mm x 6mm | R89: Unknown | S89: 370m3 | W89: =IF(MATCH(C89,Sheet2!A88:A1201,0),"yes") -> yes
A90: 6DC000511 | B90: LLANRWST STW LLANRWST CONWY | C90: CG0062001 | D90: CG0019101 CG0062001 | E90: S8 | F90: W_U_MON3 W_U_MON4 W_UIMP5 W_U_IMP6 | G90: No additional review overlap | H90: Off Station Rd | I90: Llanrwst | J90: Conwy | K90: LL26 0DS | L90: SH 79477 61781 | M90: SH 79471 61822 | N90: Afon Conwy | O90: 29 | P90: 6mm | Q90: 6mm x 6mm | R90: Unknown | S90: 209m3 | W90: =IF(MATCH(C90,Sheet2!A89:A1202,0),"yes") -> yes
A91: 7CDC0699 | B91: LLANYSTUMDWY (W PORTHMADOG) A | C91: CG0014301 | D91: CG0014201 CG0014301 | E91: EDMW | F91: W_U_MON3 W_U_MON4 W_UIMP5 W_U_IMP6 | G91: No additional review overlap | H91: Opp Cyrion | I91: Llanstumdwy | J91: Criccieth | K91: LL52 0SY | L91: SH 47307 38381 | M91: SH 47334 38399 | N91: River Dwyfawr | O91: 3.25 | P91: 6mm | Q91: 6mm x 6mm | R91: Unknown | S91: 26.6m3 | W91: =IF(MATCH(C91,Sheet2!A90:A1203,0),"yes") -> yes
A92: 6DC001984 | B92: NARBERTH WEST STW | C92: BP0219601 | D92: BP0215901 BP0219601 | E92: EDMW | F92: W_U_MON3 W_U_MON4 W_U_IMP5 | G92: No additional review overlap | H92: Nr Stoneditch House | I92: Narberth | J92: Pembrokeshire | K92: SA67 8AG | L92: SN 10280 14197 | M92: SN 10294 14252 | N92: Narberth Brook | O92: 28 | P92: 6mm | Q92: 6mm x 6mm | R92: N/A | S92: 316m3 | W92: =IF(MATCH(C92,Sheet2!A91:A1204,0),"yes") -> yes
A93: 6DC002012 | B93: NORTHOP WASTEWATER TREATMENT WORKS | C93: CG0429901 | D93: CM0038001 CG0429901 | E93: EDMW | F93: W_U_MON3 W_U_MON4 W_UIMP5 W_U_IMP6 | G93: No additional review overlap | H93: Off N Wales Expy | I93: Mold | J93: Flintshire | K93: CH7 6HN | L93: SJ 25052 68867 | M93: SJ 24950 68610 | N93: Northop Brook | O93: 9.2 | P93: 6mm | Q93: 6mm x 6mm | R93: Unknown | S93: 66.2m3 | W93: =IF(MATCH(C93,Sheet2!A92:A1205,0),"yes") -> yes
A94: 6DC002037 | B94: OVERTON WWTW (STORM) | C94: CM0188602 | D94: CM0188601 CM0188602 CG0430701 | E94: EDMW FLOW4W | F94: W_U_MON3 W_U_MON4 W_U_IMP6 | G94: No additional review overlap | H94: Mill Wood | I94: Overton | J94: Wrexham | K94: LL13 0EL | L94: SJ 36625 41598 | M94: SJ 371964 1474 | N94: River Dee | O94: 7.97 | P94: 6mm | Q94: 6mm x 6mm | R94: Unknown | S94: 57.4m3 | W94: =IF(MATCH(C94,Sheet2!A93:A1206,0),"yes") -> yes
A95: 6DC002102 | B95: PENRHOS CAMP STW - SCREENED ST | C95: CG0041302 | D95: CG0041301 CG0041302 | E95: EDMW | F95: W_U_MON3 W_U_MON4 W_U_IMP6 | G95: No additional review overlap | H95: Adj to Llyn Golf | I95: Rhyd-y-clafdy | J95: Gwynedd | K95: LL53 7HN | L95: SH 34007 33821 | M95: SH 33944 33846 | N95: Unnamed tributary of Afon Penrhos | O95: 9.56 | P95: 6mm | Q95: 6mm x 6mm | R95: Unknown | S95: None | W95: =IF(MATCH(C95,Sheet2!A94:A1207,0),"yes") -> yes
A96: 6DC002164 | B96: PONTLLYFNI STW - SSO PONTLLYFNI , | C96: CG0074602 | D96: CG0074601 CG0074602 CG0074603 | E96: EDMW | F96: W_U_MON3 W_U_MON4 W_UIMP5 W_U_IMP6 | G96: No additional review overlap | H96: Up path Opp 18 Garth Estate | I96: Pontllyfni | J96: Gwynedd | K96: LL54 5EL | L96: SH 43353 52777 | M96: SH 43327 52781 | N96: Afon Llyfni | O96: 2.5 | P96: 6mm | Q96: 6mm x 6mm | R96: Unknown | S96: None | W96: =IF(MATCH(C96,Sheet2!A95:A1208,0),"yes") -> yes
A97: 6DC002174 | B97: PONTSTICILL WWTW | C97: AN0356601 | D97: AG0007801 AN0356601 | E97: EDMW | F97: W_U_MON3 W_U_MON4 W_U_IMP5 | G97: No additional review overlap | H97: Nr 3 Castell Morlais | I97: Pontsticill | J97: Merthyr Tydfil | K97: CF48 2UN | L97: SO 06031 11181 | M97: SO 05863 11240 | N97: Taf Fechan | O97: 3.9 | P97: 6mm | Q97: 6mm x 6mm | R97: Unknown | S97: 27.8m3 | W97: =IF(MATCH(C97,Sheet2!A96:A1209,0),"yes") -> yes
A98: 6DC000216 | B98: PONTYBEREM WASTE WATER TREATMENT WK | C98: BP0304601 | D98: BC0021001 BP0304601 BW2202401 | E98: FLOW4 EDMW | F98: W_U_MON3 W_U_MON4 | G98: No additional review overlap | H98: Nr 1 Railway Terrace | I98: Pontyberem | J98: Llanelli | K98: SA15 5HN | L98: SN 49446 10802 | M98: SN 49434 10826 | N98: Gwendraeth Fawr | O98: 114 | P98: 6mm | Q98: 6mm x 6mm | R98: Unknown | S98: 1000m3 | W98: =IF(MATCH(C98,Sheet2!A97:A1210,0),"yes") -> yes
A99: 6DC002267 | B99: REGENT ST CSO TREORCHY RHONDDA | C99: AN0110901 | D99: N/A | E99: EDMW | F99: W_U_INV | G99: No additional review overlap | H99: Rear 47, Regent St | I99: Treorchy | J99: RCT | K99: CF42 6UD | L99: SS 96332 96439 | M99: SS9631096460 | N99: The Rhondda River Fawr | O99: 240 | P99: 6mm | Q99: 6mm x 6mm | R99: Unknown | S99: None | W99: =IF(MATCH(C99,Sheet2!A98:A1211,0),"yes") -> #N/A
A100: 7CDC0905 | B100: RHIWSAESON STW RHIWSAESON LLANTRI | C100: AG0019402 | D100: AN0249201 AG0019402 | E100: EDMW | F100: W_WFD_PD_IMP W_UMON4 W_U_MON3 | G100: No additional review overlap | H100: Rhiwsaeson | I100: Creigiau | J100: Nr Llantrisant | K100: CF72 8NZ | L100: ST 07110 82670 | M100: ST 07174 82665 | N100: River Clun | O100: 139 | P100: 12mm | Q100: 12mm x 12mm | R100: Unknown | S100: None | W100: =IF(MATCH(C100,Sheet2!A99:A1212,0),"yes") -> yes
...

Sheet Sheet2
A1: CM0055401
A2: CM0017801
A3: CM0082201
A4: CG0366001
A5: CG0377601
A6: AN0010101
A7: AG0004501
A8: AN0033701
A9: AH1001101
A10: AB0067101
A11: AB0064101
A12: AN0280001
... A1114: AN0333501
