Workbook

Sheet January 2 of 2 
A1: Unique ID | B1: Scheme Name/ Discharge | C1: Consent Number | D1: Consolidations | E1: AMP6 Drivers requiring permit review | F1: AMP7 Drivers requiring permit review | G1: Additional Permit Reviews | H1: DSI_ADD2 | I1: DSI_ADD3 | J1: DSI_ADD4 | K1: DSI_POST_CODE | L1: S32 Discharge Point NGR | M1: S34 Monitoring point NGR | N1: AGR_REC_WATER | O1: S33 Overflow setting l/s | P1: S33 Maximum size of solid matter | Q1: S33 Screen Aperture Size | R1: S33 Minimum screen capacity flow l/s | S1: S33 Storm tank / storage capacity | T1: Non-standard operating techniques | U1: PAN | V1: Duly-made date
A2: 6DC002046 | B2: OVERTON WWTW (STORM) | C2: CG0430701 | D2: CM0188601 CM0188602 CG0430701 | E2: EDMW | F2: - | G2: No additional review overlap | H2: Mill Wood | I2: Overton | J2: Wrexham | K2: LL13 0EG | L2: SJ 36625 41598 | M2: SJ 37160 41490 | N2: River Dee | O2: 19 | P2: 6mm | Q2: 6mm x 6mm | R2: Unknown | S2: None | W2: =IF(MATCH(C2,Sheet2!A1:A1114,0),"yes") -> yes
A3: 6DC001259 | B3: PANDY STW PANDY MONMOUTHSHIRE | C3: AN0391101 | D3: N/A | E3: EDMW | F3: W_U_MON3 W_U_MON4 | G3: No additional review overlap | H3: Pandy WwTW | I3: Pandy | J3: Monmouthshire | K3: NP7 8DR | L3: SO 33518 22842 | M3: SO 33533 22764 | N3: River Usk | O3: 5.4 | P3: 6mm | Q3: 6mm x 6mm | R3: Unknown | S3: 50m3 | W3: =IF(MATCH(C3,Sheet2!A2:A1115,0),"yes") -> #N/A
A4: 6DC001148 | B4: PEMBROKE DOCK STW (EMERGENCY) FORT | C4: BP0250802 | D4: BP0250801 BP0250802 BP0250803 | E4: EDMW | F4: W_U_MON3 W_U_MON4 | G4: No additional review overlap | H4: Nr 139 Ford Rd | I4: Pembroke Dock | J4: Pembrokeshire | K4: SA72 6XW | L4: SM 95457 04255 | M4: SM 95603 03765 | N4: Milford Haven Waterway | O4: 210 | P4: 2.5mm | Q4: 2.5mm | R4: Unknown | S4: 2973m3 | W4: =IF(MATCH(C4,Sheet2!A3:A1116,0),"yes") -> yes
A5: 6DC002580 | B5: PENCADER STW STORM TANKS | C5: BG0007805 | D5: BG0007801 BG0007805 BG0007804 | E5: EDMW | F5: - | G5: No additional review overlap | H5: Pencader WwTW | I5: Pencader | J5: Carmarrthenshire | K5: SA39 9BS | L5: SN 44547 36513 | M5: SN 44507 36503 | N5: Afon Tywell | O5: No copy of consent available | P5: No copy of consent available | Q5: No copy of consent available | R5: No copy of consent available | S5: No copy of consent available | W5: =IF(MATCH(C5,Sheet2!A4:A1117,0),"yes") -> yes
A6: 7CDC0875 | B6: PENISARWAUN WWTW | C6: CG0134102 | D6: CG0134101 CG0134102 | E6: EDMW | F6: W_U_MON3 W_U_MON4 | G6: No additional review overlap | H6: Madoc Terrace | I6: Penisarwaun | J6: Caernarfon | K6: LL55 3PH | L6: SH 54976 63514 | M6: SH 55032 63558 | N6: Afon Seiont | O6: 8 | P6: 6mm | Q6: 6mm x 6mm | R6: Unknown | S6: None | W6: =IF(MATCH(C6,Sheet2!A5:A1118,0),"yes") -> yes
A7: 6DC001571 | B7: PENNANT STW . . | C7: BN0015602 | D7: BN0015601 BN0015602 | E7: EDMW | F7: - | G7: No additional review overlap | H7: Nr Ty Maesllyn | I7: Pennant | J7: Llanon | K7: SY23 5JH | L7: SN 50867 63020 | M7: SN 50891 62989 | N7: Afon Arth | O7: N/A | P7: N/A | Q7: N/A | R7: No Screen | S7: None | W7: =IF(MATCH(C7,Sheet2!A6:A1119,0),"yes") -> yes
A8: 6DC000262 | B8: PENTREFELIN STW | C8: CG0364501 | D8: CG0073301 CG0364501 | E8: EDMW | F8: W_U_MON3 W_U_MON4 | G8: No additional review overlap | H8: Off A497 | I8: Criccieth | J8: Gwynedd | K8: LL52 0PU | L8: SH 52944 39547 | M8: SH 52881 39563 | N8: Afon Cedron | O8: 1.6 | P8: N/A | Q8: N/A | R8: No Screen | S8: 22m3 | W8: =IF(MATCH(C8,Sheet2!A7:A1120,0),"yes") -> yes
A9: 6DC001345 | B9: PETERSTON SUPER ELY STW CSO MAIN AV | C9: AN0355001 | D9: N/A | E9: EDMW | F9: W_U_MON3 W_U_MON4 | G9: No additional review overlap | H9: Little Avenue | I9: Peterston Super Ely | J9: Cardiff | K9: CF5 6NG | L9: ST 08620 76329 | M9: ST 08641 76276 | N9: River Ely | O9: 22.3 | P9: 10mm | Q9: 10mm | R9: N/A | S9: None | W9: =IF(MATCH(C9,Sheet2!A8:A1121,0),"yes") -> #N/A
A10: 6DC002453 | B10: PONTNEDDFECHAN STW SWANSEA | C10: BP0322901 | D10: N/A | E10: EDMW | F10: W_U_MON3 W_U_MON4 | G10: No additional review overlap | H10: Off Mellte Ave | I10: Pontneddfechan | J10: Neath | K10: SA11 5NN | L10: SN 90345 07498 | M10: SN 90326 07521 | N10: River Mellte | O10: 3.88 | P10: 6mm | Q10: 6mm x 6mm | R10: Unknown | S10: None | W10: =IF(MATCH(C10,Sheet2!A9:A1122,0),"yes") -> #N/A
A11: 6DC001025 | B11: PRESTEIGNE STW CLATTERBROOM | C11: AN0391701 | D11: AW1005101 AN0391701 | E11: EDMW | F11: W_U_MON3 W_U_MON4 | G11: No additional review overlap | H11: R/O Clatterbrune Estate | I11: Presteigne | J11: Powys | K11: LD8 2LB | L11: SO 32232 64365 | M11: SO 32151 64192 | N11: River Lugg | O11: 26.5 | P11: 6mm | Q11: 6mm x 6mm | R11: Unknown | S11: 259m3 | W11: =IF(MATCH(C11,Sheet2!A10:A1123,0),"yes") -> yes
A12: 6DC002001 | B12: PS EMERGENCY OUTFALL RES DEVMT BIRC | C12: BP0081302 | D12: N/A | E12: EDMW | F12: - | G12: No additional review overlap | H12: Greenacre Drive | I12: Glais | J12: Swansea | K12: SA7 9FA | L12: SN 70328 00300 | M12: SN 70328 00300 | N12: Nant Glas | O12: N/A | P12: N/A | Q12: N/A | R12: No Screen | S12: None | W12: =IF(MATCH(C12,Sheet2!A11:A1124,0),"yes") -> #N/A
A13: 6DC001228 | B13: PUNCHESTON WORKS INLET . . | C13: BG0017602 | D13: N/A | E13: EDMW | F13: W_U_MON3 W_U_MON4 | G13: No additional review overlap | H13: Nr Sycamore Lodge | I13: Puncheston | J13: Haverfordwest | K13: SA62 5RN | L13: SN 00998 29818 | M13: SN 01004 29828 | N13: Trib Anghof | O13: N/A | P13: N/A | Q13: N/A | R13: No Screen | S13: None | W13: =IF(MATCH(C13,Sheet2!A12:A1125,0),"yes") -> #N/A
A14: 7CDC0199 | B14: PWLLGLAS STW | C14: CM0063903 | D14: CM0063901 CM0063902 CM0063903 | E14: EDMW | F14: - | G14: No additional review overlap | H14: Ruthin Rd | I14: Pwllglas | J14: Ruthin | K14: LL15 2PB | L14: SJ 11933 54632 | M14: SJ 11919 54638 | N14: River Clwyd | O14: 3.84 | P14: 6mm | Q14: 6mm x 6mm | R14: Unknown | S14: None | W14: =IF(MATCH(C14,Sheet2!A13:A1126,0),"yes") -> yes
A15: 6DC002107 | B15: RAGLAN STW CHEPSTOW ROAD RAGLAN | C15: AB0036502 | D15: AC0140201 AB0036502 | E15: EDMW | F15: W_U_MON3 W_U_MON4 | G15: No additional review overlap | H15: Nr Brooklands Hse | I15: Chepstow Rd, Raglan | J15: Usk | K15: NP15 2EN | L15: SO 41637 07143 | M15: SO 41535 07218 | N15: Nant y Wilcae | O15: 13.8 | P15: 6mm | Q15: 6mm x 6mm | R15: Unknown | S15: 156m3 | W15: =IF(MATCH(C15,Sheet2!A14:A1127,0),"yes") -> yes
A16: 6DC001692 | B16: RESOLVEN STW STORM TANKS NEATH | C16: BP0341401 | D16: BA2001301 BP0341401 | E16: EDMW | F16: W_U_MON3 W_U_MON4 | G16: No additional review overlap | H16: Resolven WwTW | I16: Melincourt | J16: Neath | K16: SA11 4LD | L16: SN 82178 02521 | M16: SN 82409 02639 | N16: River Neath | O16: 24.5 | P16: 6mm | Q16: 6mm x 6mm | R16: Unknown | S16: 224m3 | W16: =IF(MATCH(C16,Sheet2!A15:A1128,0),"yes") -> yes
A17: 6DC001775 | B17: REYNOLDSON WWTW REYNOLDSTON GOWER | C17: BP0232001 | D17: BC0002501 BP0232001 | E17: EDMW | F17: W_U_MON3 W_U_MON4 | G17: No additional review overlap | H17: Burry Green | I17: Gower | J17: Swansea | K17: SA3 1BR | L17: SS 46588 90926 | M17: SS 46650 90950 | N17: Burry Pill | O17: 8.5 | P17: 6mm | Q17: 6mm | R17: Unknown | S17: 72m3 | W17: =IF(MATCH(C17,Sheet2!A16:A1129,0),"yes") -> yes
A18: 6DC000547 | B18: RHIWLAS STW | C18: CG0086002 | D18: CG0086001 CG0086002 | E18: EDMW | F18: W_U_MON3 W_U_MON4 | G18: No additional review overlap | H18: Nr Ty'r Ysgol Waen | I18: Pentir | J18: Bangor | K18: LL57 4EH | L18: SH 57175 66242 | M18: SH 57239 66228 | N18: Afon Cegin | O18: 15.7 | P18: 6mm | Q18: 6mm x 6mm | R18: Unknown | S18: None | W18: =IF(MATCH(C18,Sheet2!A17:A1130,0),"yes") -> yes
A19: 6DC000671 | B19: RHOSNEIGR STW (SETTLED STORM/EMERGE | C19: CG0144402 | D19: N/A | E19: EDM1 | F19: W_U_MON3 W_U_MON4 | G19: No additional review overlap | H19: Opp Bryn Hyfryd | I19: Rhosneigr | J19: Anglesey | K19: LL64 5JD | L19: SH 31372 72198 | M19: SH 31690 72719 | N19: Coastal waters | O19: 13 | P19: 10mm | Q19: 10mm | R19: Unknown | S19: 825m3 | W19: =IF(MATCH(C19,Sheet2!A18:A1131,0),"yes") -> #N/A
A20: 6DC002515 | B20: ST ISHMAELS WORKS INLET . . | C20: BG0011502 | D20: N/A | E20: EDMW | F20: W_U_MON3 W_U_MON4 | G20: No additional review overlap | H20: Nr Minkhaven Manor | I20: St Ishmaels | J20: Haverfordwest | K20: SA62 3TD | L20: SM 83127 06769 | M20: SM 83236 06828 | N20: Monk Haven Stream | O20: 3.4 | P20: 10mm | Q20: 10mm | R20: Unknown | S20: 40m3 | W20: =IF(MATCH(C20,Sheet2!A19:A1132,0),"yes") -> #N/A
A21: 6DC002024 | B21: ST NICHOLAS STW . . | C21: BG0022202 | D21: BG0022201 BG0022202 | E21: EDMW | F21: W_U_MON3 W_U_MON4 | G21: No additional review overlap | H21: Nr The Rectory | I21: St Nicholas | J21: Goodwick | K21: SA64 0LG | L21: SM 89868 35757 | M21: SM 89938 35719 | N21: Tributary of the Aberach Stream | O21: N/A | P21: N/A | Q21: N/A | R21: No Screen | S21: None | W21: =IF(MATCH(C21,Sheet2!A20:A1133,0),"yes") -> yes
A22: 6DC002490 | B22: STORM TANKS AT RHAYADER STW | C22: AW1005202 | D22: AW1005201 AW1005202 | E22: EDM1 | F22: W_U_MON3 W_U_MON4 | G22: No additional review overlap | H22: South Street | I22: Rhayader | J22: Powys | K22: LD6 5BH | L22: SN 97870 67270 | M22: SN 97872 67287 | N22: A tributary of the river Wye | O22: 30 | P22: 10mm | Q22: 10mm | R22: Unknown | S22: 218m3 | W22: =IF(MATCH(C22,Sheet2!A21:A1134,0),"yes") -> yes
A23: 6DC000663 | B23: SWO. BRIDGEND ROAD GARTH (POINT 23) | C23: BW3204101 | D23: N/A | E23: EDM1 | F23: - | G23: No additional review overlap | H23: Nr 181 Bridgend Rd | I23: Maesteg | J23: Bridgend | K23: CF34 0HX | L23: SS 86531 90614 | M23: SS 86539 90668 | N23: Nant y Twlc | O23: N/A | P23: N/A | Q23: N/A | R23: No Screen | S23: None | W23: =IF(MATCH(C23,Sheet2!A22:A1135,0),"yes") -> #N/A
A24: 6DC000799 | B24: SWO. MAESTEG MARKET (POINT 18) | C24: BW3204601 | D24: N/A | E24: EDM1 | F24: - | G24: No additional review overlap | H24: Behind Bridgend County Council Offices, Talbot Street | I24: Maesteg | J24: Mid Glamorgan | K24: CF34 9BW | L24: SS 85234 91262 | M24: SS 85236 91301 | N24: Llynfi River | O24: No copy of consent available | P24: No copy of consent available | Q24: No copy of consent available | R24: No copy of consent available | S24: No copy of consent available | W24: =IF(MATCH(C24,Sheet2!A23:A1136,0),"yes") -> #N/A
A25: 6DC000698 | B25: SWO. TYNYCOED (POINT 30) | C25: BW3203401 | D25: N/A | E25: EDM1 | F25: - | G25: No additional review overlap | H25: 17 Heol Bryncwils | I25: Sarn | J25: Bridgend | K25: CF32 9UD | L25: SS 90370 83600 | M25: SS 90381 83566 | N25: River Ogmore | O25: No copy of consent available | P25: No copy of consent available | Q25: No copy of consent available | R25: No copy of consent available | S25: No copy of consent available | W25: =IF(MATCH(C25,Sheet2!A24:A1137,0),"yes") -> #N/A
A26: 6DC000616 | B26: SWO. VICTORIA STREET PONTYCYMMER (P | C26: BW3202701 | D26: N/A | E26: EDM1 | F26: - | G26: No additional review overlap | H26: Outside 9, Victoria St | I26: Pontycymer | J26: Bridgend | K26: SS 90372 91480 | L26: SS 9037 9148 | M26: SS 90344 91734 | N26: Afon Garw | O26: No copy of consent available | P26: No copy of consent available | Q26: No copy of consent available | R26: No copy of consent available | S26: No copy of consent available | W26: =IF(MATCH(C26,Sheet2!A25:A1138,0),"yes") -> #N/A
A27: 6DC000727 | B27: SWO. YNYSMEUDW WAREHOUSE (SOC | C27: BW2302501 | D27: N/A | E27: EDM1 | F27: - | G27: No additional review overlap | H27: Behind & across river from 184, Ynysmeudw Road | I27: Pontardawe | J27: Neath | K27: SA8 4QJ | L27: SN 74042 05453 | M27: SN 74042 05605 | N27: Afon Tawe | O27: No copy of consent available | P27: No copy of consent available | Q27: No copy of consent available | R27: No copy of consent available | S27: No copy of consent available | W27: =IF(MATCH(C27,Sheet2!A26:A1139,0),"yes") -> #N/A
A28: 6DC001699 | B28: TALGARTH STW | C28: AN0373401 | D28: AW1005301 AN0373401 | E28: EDMW | F28: W_U_MON3 W_U_MON4 | G28: No additional review overlap | H28: Off Bronllys Rd (A479), (Near Bronllys Castle) | I28: Talgarth | J28: Brecon | K28: LD3 0HH | L28: SO 15073 34806 | M28: SO 15202 34782 | N28: Afon Llynfi | O28: 24.9 | P28: 6mm | Q28: 6mm x 6mm | R28: Unknown | S28: 180m3 | W28: =IF(MATCH(C28,Sheet2!A27:A1140,0),"yes") -> yes
A29: 6DC001566 | B29: TALSARNAU STW and SPS | C29: CG0071501 | D29: CG0071401 CG0071501 | E29: EDMW | F29: W_U_MON3 W_U_MON4 | G29: No additional review overlap | H29: End of Maes Trefor | I29: Off High St | J29: Talsarnau | K29: LL47 6TU | L29: SH 61047 35964 | M29: SH 61042 35951 | N29: a stream on the NW boundary of the site | O29: N/A | P29: N/A | Q29: N/A | R29: No Screen | S29: None | W29: =IF(MATCH(C29,Sheet2!A28:A1141,0),"yes") -> yes
A30: 6DC001394 | B30: TIERS CROSS WWTW INLET CSO PEMBRK | C30: BP0315301 | D30: N/A | E30: EDMW | F30: - | G30: No additional review overlap | H30: Unnamed track | I30: Tiers Cross | J30: Haverfordwest | K30: SA62 3DG | L30: SM 89999 10909 | M30: SM 90334 10786 | N30: unnamed tributary of the Sandy Haven Pill | O30: 5 | P30: 6mm | Q30: 6mm | R30: Unknown | S30: None | W30: =IF(MATCH(C30,Sheet2!A29:A1142,0),"yes") -> #N/A
A31: 6DC000761 | B31: TRECASTLE STW | C31: AD0001001 | D31: AD0000901 AD0001001 | E31: EDMW | F31: - | G31: No additional review overlap | H31: Off Chapel Street (Nr Nant Logyn) | I31: Trecastle | J31: Brecon | K31: LD3 8UF | L31: SN 88016 28857 | M31: SN 88011 28884 | N31: Nant Logyn | O31: 2.1 | P31: 6mm | Q31: 6mm x 6mm | R31: Unknown | S31: 7.6m3 | W31: =IF(MATCH(C31,Sheet2!A30:A1143,0),"yes") -> yes
A32: 6DC000106 | B32: TREFOR WWTW | C32: CG0438901 | D32: CG0138701 CG0439001 CG0438901 | E32: EDMW | F32: - | G32: No additional review overlap | H32: In field behind Gwydir Bach | I32: Trefor | J32: Caernarfon | K32: LL54 5LN | L32: SH 37173 47103 | M32: SH 37168 47083 | N32: Unnamed watercourse | O32: 6.6 | P32: 6mm | Q32: 6mm x 6mm | R32: Unknown | S32: 47.6m3 | W32: =IF(MATCH(C32,Sheet2!A31:A1144,0),"yes") -> yes
A33: 7CDC0242 | B33: TREFOR WWTW | C33: CG0439001 | D33: CG0138701 CG0439001 CG0438901 | E33: EDMW | F33: W_U_MON3 W_U_MON4 | G33: No additional review overlap | H33: In field behind Gwydir Bach | I33: Trefor | J33: Caernarfon | K33: LL54 5LN | L33: SH 37282 47530 | M33: SH 37168 47083 | N33: coastal waters | O33: 6.6 | P33: 6mm | Q33: 6mm x 6mm | R33: Unknown | S33: 47.6m3 | W33: =IF(MATCH(C33,Sheet2!A32:A1145,0),"yes") -> yes
A34: 7CDC0734 | B34: TREFRIW STW | C34: CG0084101 | D34: N/A | E34: EDMW | F34: - | G34: No additional review overlap | H34: End of Unnamed Lane, Junction of B5106 & Gower Rd | I34: Trefriw | J34: Llanrwst | K34: LL27 0NQ | L34: SH 78781 63272 | M34: SH 78488 62878 | N34: River Crafnant | O34: N/A | P34: N/A | Q34: N/A | R34: No Screen | S34: None | W34: =IF(MATCH(C34,Sheet2!A33:A1146,0),"yes") -> #N/A
A35: 6DC001581 | B35: TRELECH STW TRELECH CARMARTHEN , | C35: BP0219401 | D35: BN0269401 BP0219401 | E35: EDMW | F35: - | G35: No additional review overlap | H35: WwTW off B4299 | I35: Trelech | J35: Carmarrthenshire | K35: SA33 6RU | L35: SN 28034 30315 | M35: SN 28051 30317 | N35: Tributary of Afon Cynin | O35: 1.4 | P35: 10mm | Q35: 10mm | R35: Unknown | S35: 10m3 | W35: =IF(MATCH(C35,Sheet2!A34:A1147,0),"yes") -> yes
A36: 6DC001223 | B36: TREVINE STW . . | C36: BH0052402 | D36: N/A | E36: EDMW | F36: W_U_MON3 W_U_MON4 | G36: No additional review overlap | H36: Nr 42 Ffordd Y Felin | I36: Trefin | J36: Haverfordwest | K36: SA62 5AX | L36: SM 83500 32377 | M36: SM 83700 32300 | N36: Aberdraw stream | O36: N/A | P36: N/A | Q36: N/A | R36: No Screen | S36: None | W36: =IF(MATCH(C36,Sheet2!A35:A1148,0),"yes") -> #N/A
A37: 7CDC0578 | B37: TYN Y GROES STW - STORM OVERFL | C37: CG0015501 | D37: CG0015401 CG0015501 | E37: EDMW | F37: W_U_MON3 W_U_MON4 | G37: No additional review overlap | H37: Nr B5279 | I37: Tyn y Groes | J37: Conwy | K37: LL28 5RR | L37: SH 78401 71424 | M37: SH 78209 71223 | N37: Afon Conwy | O37: 6DWF | P37: N/A | Q37: N/A | R37: No Screen | S37: None | W37: =IF(MATCH(C37,Sheet2!A36:A1149,0),"yes") -> yes
A38: 6DC001713 | B38: USK STW GRAIG OLWAY FARM LLANGVIEW | C38: AB0044802 | D38: AB0044801 AB0044802 | E38: EDMW | F38: W_U_MON3 W_U_MON4 | G38: No additional review overlap | H38: Near Graig Olway, Between Llangview and Llanllywel villages | I38: Usk | J38: Monmouthshire | K38: NP15 1LJ | L38: ST 38680 99449 | M38: ST 38992 99556 | N38: River Usk | O38: 21 | P38: 6mm | Q38: 6mm x 6mm | R38: Unknown | S38: 214m3 | W38: =IF(MATCH(C38,Sheet2!A37:A1150,0),"yes") -> yes
A39: 6DC001473 | B39: WATERSTON WORKS INLET . . | C39: BH0073902 | D39: N/A | E39: EDMW | F39: W_U_MON3 W_U_MON4 | G39: No additional review overlap | H39: Nr Green Lane | I39: Waterston | J39: Haverfordwest | K39: SA73 1DS | L39: SM 93558 06043 | M39: SM 93556 06019 | N39: Hazelbeach Stream | O39: N/A | P39: N/A | Q39: N/A | R39: No Screen | S39: None | W39: =IF(MATCH(C39,Sheet2!A38:A1151,0),"yes") -> #N/A
A40: 7CDC0905 | B40: WAUNFAWR STW (STORM) | C40: CG0134002 | D40: CG0134001 CG0134002 | E40: EDMW | F40: W_U_MON3 W_U_MON4 | G40: No additional review overlap | H40: In Field behind Ty'n Coed | I40: Waunfawr | J40: Gwynedd | K40: LL55 4AX | L40: SH 52803 58902 | M40: SH 52883 58976 | N40: Afon Gwyrfai | O40: 14.4 | P40: 6mm | Q40: 6mm x 6mm | R40: Unknown | S40: 100m3 | W40: =IF(MATCH(C40,Sheet2!A39:A1152,0),"yes") -> yes
...

Sheet Sheet2
A1: CM0055401
A2: CM0017801
A3: CM0082201
A4: CG0366001
A5: CG0377601
A6: AN0010101
A7: AG0004501
A8: AN0033701
A9: AH1001101
A10: AB0067101
A11: AB0064101
A12: AN0280001
... A1114: AN0333501
