Workbook
Name _Hlk86829056: 'B4.C4'!#REF!

Sheet Intro
A1: How to use
A2: 1. save a copy of this checklist into your WIP. Do not amend this document (including deleting tabs) without doing this first as deleting tabs cannot be undone.
A3: 2. select what tabs you need to keep/delete based on the application type you are determining. See below for types
A4: 3. on each non-supporting documents tab select the application type on the filtered section, and hide the options
A5: 4. read each question and applicable drafting notes (in pink) carefully, as some of the questions have changed. Remember to delete the drafting notes before saving the final version to the DMS
A6: 5. the checklist will record the number of "no" answers on each tab and summarise them on the decisions and actions tab.
A7: 6. any "no" that is highlighted as red will trigger a returned application
A10: Type | B10: Drafting note | C10: Tabs
A11: New Bespoke Extractive Waste | B11: Select this for all new Tier 2 and Tier 3 bespoke mining waste permit applications. For standard rule mining waste permit applications use the standard rule permit option. | C11: Details Dates Doc and info check Part A Part F1 Part B1/C1 Part B2/C2 Part B5/C5 Decision and actions required Relevant supporting doc tab(s)
A12: New Bespoke Tier 2 | B12: Select this for all new Tier 2 bespoke applications, that are not mining waste. | C12: Details Dates Doc and info check Part A Part F1 Part B2/C2 Part B4/C4 Decision and actions required Relevant supporting doc tab(s)
A13: New Bespoke Tier 3 | B13: Select this for all new tier 3 bespoke applications, that are not mining waste. For bespoke application that also include standard rule activities, use the SRP option as well. | C13: Details Dates Doc and info check Part A Part F1 Part B1/C1 Part B2/C2 Part B4/C4 Decision and actions required Relevant supporting doc tab(s)
A14: SRP- New and Var | B14: Select this for all new standard rule applications, you can also use this option for variation applications to add OR to become a standard rule activity. These are separate columns on the Part B1.C1 tab, but a single column on all other tabs. For new standard rule applications that also include bespoke activities, use the bespoke T3 option as well. If the application is for SR2012 No15 then you should send a draft permit to the applicant and get them to review and confirm the PERMIT boundary. | C14: Details Dates Doc and info check Part A Part F1 Part B1/C1 Decision and actions required Relevant supporting doc tab(s)
A15: Variation Admin | B15: Select this for administrative variations only. Use the other variation options for all other variations, except those to vary to become/ add a standard rule set to an existing permit. For applications to vary to become/ add a standard rule set use the standard rule option. | C15: Details Dates Doc and info check Part A Part C0.5 Decision and actions required Relevant supporting doc tab(s)
A16: Variation MT and Normal | B16: Select this for all variation applications except those involving rule sets or administrative variations. If the application is to add or vary or to become a standard rule facility, and other changes, use the SRP option as well. | C16: Details Dates Doc and info check Part A Part F1 Part B1/C1 Part B2/C2 Part B4/C4 Decision and actions required Relevant supporting doc tab(s)
A17: Variation MT- SRP | B17: Select this for Minor Technical variations to increase the permitted area of Standard Rules Permits only. These were previously administrative but now chargeable. | C17: Details Dates Doc and info check Part A Part F1 Part C0.5 Decision and actions required Relevant supporting doc tab(s)
A18: Transfer | B18: Select this for all transfer applications – both full and partial. | C18: Details Dates Doc and info check Part A Part F1 Part D2 Decision and actions required Relevant supporting doc tab(s)
A19: Surrender- Site | B19: Select this for all waste facility and non-installation mining waste activity surrender applications. The checklist can be used for all types of surrender application; full (normal), partial, low risk, basic and ‘non-operational’. Do not use this option for surrender of mobile plant permits. Use the mobile plant permit surrender notification option instead. | C19: Details Dates Doc and info check Part A Part F1 Part E2 Decision and actions required Relevant supporting doc tab(s)
A20: Surrender Mobile Plant | B20: Select this for all waste mobile plant permit surrender notifications. Do not use this checklist for surrender of site based waste permits. Surrender of site based permits must follow the application process; their surrender cannot be carried out by notification. Use the surrender-site option instead. | C20: Details Dates Doc and info check Part A Part F1 Part E2 Decision and actions required Relevant supporting doc tab(s)

Sheet Details & Dates
A1: Application details
A2: PAN reference | B2: PAN-020465
A3: EPR reference | B3: n/a
A4: Applicant name | B4: Denbighshire County Council
A5: Facility name | B5: Colomendy Waste Transfer Station, Denbighshire County Council, Waste Recycling Centre, Graig Road, Denbigh, LL16 5US
A6: Area | B6: North
A7: Operations Team | B7: North East
A8: Site officer/team leader | B8: Steve White
A9: Total time recording | B9: 1450
A11: Relevant dates | C11: New Bespoke Extractive Waste | D11: New Bespoke Tier 2 | E11: New Bespoke Tier 3 | F11: SRP- New or Var | G11: Variation Admin | H11: Variation MT and Normal | I11: Variation MT- SRP | J11: Transfer | K11: Surrender- Site | L11: Surrender MP
A12: Date application arrived in NRW | B12: 44939 | C12: Y | D12: Y | E12: Y | F12: Y | G12: Y | H12: Y | I12: Y | J12: Y | K12: Y | L12: Y
A13: Date application acknowledged | B13: 44942 | C13: Y | D13: Y | E13: Y | F13: Y | G13: Y | H13: Y | I13: Y | J13: Y | K13: Y | L13: Y
A14: Date not duly made (information request sent) | B14: 45140 | C14: Y | D14: Y | E14: Y | F14: Y | G14: Y | H14: Y | I14: Y | J14: Y | K14: Y | L14: Y
A15: Date of any additional not duly made requests | B15: n/a | C15: Y | D15: Y | E15: Y | F15: Y | G15: Y | H15: Y | I15: Y | J15: Y | K15: Y | L15: Y
A16: Date duly made The duly made date is either (i) the date the application was originally received at Natural Resources Wales in the event of no additional information being requested during the duly make process. OR (ii) the date at which the final piece of additional information requested during the duly make process is received | B16: 45173 | C16: Y | D16: Y | E16: Y | F16: Y | G16: Y | H16: Y | I16: Y | J16: Y | K16: Y | L16: Y
A17: Date returned to applicant or deemed withdrawn | B17: n/a | C17: Y | D17: Y | E17: Y | F17: Y | G17: Y | H17: Y | I17: Y | J17: Y | K17: Y | L17: Y
A18: Date applicant sent duly made confirmation | B18: 45180 | C18: Y | D18: Y | E18: Y | F18: Y | G18: Y | H18: Y | I18: Y | J18: Y | K18: Y | L18: Y
A19: Date sent to external consultees (if applicable) | B19: 11/9/2023 (requested) | C19: Y | D19: N | E19: Y | F19: N | G19: N | H19: Y | I19: Y | J19: N | K19: Y | L19: N
A20: Date application publicised on Website | B20: 11/9/2023 (requested) | C20: N | D20: N | E20: Y | F20: N | G20: N | H20: Y | I20: Y | J20: N | K20: Y | L20: N
A21: Date advert placed in newspaper (if applicable) | B21: n/a | C21: N | D21: N | E21: Y | F21: N | G21: N | H21: Y | I21: Y | J21: N | K21: Y | L21: N
A22: Date application publicised on Natural Resources Wales Website and on Social Media (Twitter and Facebook Page) | C22: Y | D22: N | E22: N | F22: N | G22: N | H22: N | I22: N | J22: N | K22: N | L22: N
A23: Date advert placed in newspaper (if applicable) | C23: Y | D23: N | E23: N | F23: N | G23: N | H23: N | I23: N | J23: N | K23: N | L23: N
A24: Date email sent to MP’s /AM’s (if required and agreed by the Area) | C24: Y | D24: N | E24: N | F24: N | G24: N | H24: N | I24: N | J24: N | K24: N | L24: N

Sheet Doc's & info
A1: Documents and information checklist: | D1: New Bespoke Extractive Waste | E1: New Bespoke Tier 2 | F1: New Bespoke Tier 3 | G1: SRP- New or Var | H1: Variation Admin | I1: Variation MT and Normal | J1: Variation MT- SRP | K1: Transfer | L1: Surrender- Site | M1: Surrender Mobile Plant
B2: Yes/No/NA | C2: Comments | D2: Y | E2: Y | F2: Y | G2: Y | H2: Y | I2: Y | J2: Y | K2: Y | L2: Y | M2: Y | N2: Updated documents | O2: New documents
A3: Environment Management System summary | B3: Yes | C3: DCC.003 Operating Techniques Document v1.0 DCC.004 Environment Management System (EMS) Summary DCC.009 Activities and Emissions v2.0 DCC.010 Waste Codes v2.0 | D3: Y | E3: N | F3: Y | G3: N | H3: Y | I3: Y | J3: N | K3: Y | L3: N | M3: N | N3: DCC.003 Operating Techniques Document v2.0 | O3: DCC.004_EMS.S2.06 (Complaints Procedure) DCC.004_EMS.S2.07 (Complaints Form) DCC.004_EMS.S2.08_v2 (Environmental Performance Legal Compliance and Internal Auditing) DCC.004_EMS.S4.02_v2 (Waste Acceptance Procedures and Sampling) | P3: Yes
A4: Non technical summary | B4: Yes | C4: DCC.008 Non-Technical Summary v2.0 | D4: Y | E4: N | F4: Y | G4: N | H4: Y | I4: Y | J4: N | K4: Y | L4: Y | M4: N | P4: No
A5: Site plan | B5: Yes | C5: DCC.007a Site Layout Plan DCC.007b Site Location Plan | D5: Y | E5: Y | F5: Y | G5: Y | H5: Y | I5: Y | J5: Y | K5: Y | L5: Y | M5: N | O5: DCC.021 Site Drainage Plan DCC.022 Emergency Equipment Locations & Emergency Vehicle Tracking Plan DCC.023 Firewater Containment Plan DCC.024 Site Surfacing Plan DCC.025 Waste Material Location Plan | P5: N/A
A6: Site specific risk assessment | B6: Yes | C6: DCC.002 Environmental Risk Assessment v3.0 | D6: Y | E6: Y | F6: Y | G6: N | H6: N | I6: Y | J6: N | K6: Y | L6: N | M6: N | N6: DCC.002 Environmental Risk Assessment v4.0
A7: Site condition report | B7: Yes | C7: DCC.001 Site Condition Report 1 DCC.001 Site Condition Report 2 DCC.001 Site Condition Report 3 DCC.001 Site Condition Report 4 | D7: Y | E7: N | F7: Y | G7: N | H7: N | I7: Y | J7: N | K7: N | L7: N | M7: N | O7: DCC.001 Site Condition Report (Appendix C) DCC.001 Site Condition Report (Appendix D) DCC.001 Site Condition Report (Report Only)
A8: Odour management plan | B8: Yes | C8: DCC.011 Odour Management Plan v2.0 (1) DCC.016 Odour Impact Assessment | D8: Y | E8: N | F8: Y | G8: N | H8: N | I8: Y | J8: N | K8: Y | L8: N | M8: N | N8: DCC.011 Odour Management Plan v3.0
A9: Waste Recovery Plan | B9: N/A | D9: N | E9: N | F9: Y | G9: Y | H9: N | I9: Y | J9: N | K9: N | L9: N | M9: N
A10: Fire prevention mitigation plan | B10: Yes | C10: DCC.005 Fire Prevention and Mitigation Plan (FPMP) v4.0 (1) | D10: N | E10: N | F10: Y | G10: N | H10: N | I10: Y | J10: N | K10: N | L10: N | M10: N | N10: DCC.005 Fire Prevention and Mitigation Plan (FPMP) v5.0
A11: Noise impact assessment and management plan | B11: Yes | C11: DCC.012 Noise Management Plan v2.0 DCC.017 Noise Impact Assessment | D11: N | E11: N | F11: Y | G11: N | H11: N | I11: Y | J11: N | K11: N | L11: N | M11: N | N11: DCC.017 Noise Impact Assessment v2.0 DCC.012 Noise Management Plan v3.0 | O11: DCC.017a Noise Impact Assessment Acoustic Modelling Data
A12: Waste Management Plan | B12: N/A | D12: Y | E12: N | F12: N | G12: N | H12: N | I12: N | J12: N | K12: N | L12: N | M12: N
A13: Other management plans | B13: Yes | C13: DCC.013 Pest Management Plan v2.0 DCC.014 Dust Management Plan v2.0 (1) | D13: Y | E13: N | F13: Y | G13: N | H13: N | I13: Y | J13: N | K13: Y | L13: N | M13: N | N13: DCC.013 Pest Management Plan v3.0 DCC.014 Dust Management Plan v3.0
A14: Technical competence information Including continuing competence evidence, if needed | B14: Yes | C14: DCC.006a Evidence of technical competency DCC.006b Evidence of technical competency DCC.006c Evidence of technical competency DCC.006d Evidence of technical competency | D14: Y | E14: Y | F14: Y | G14: Y | H14: N | I14: Y | J14: N | K14: Y | L14: N | M14: N | O14: DCC.020 Technical Competency Details
A15: Financial information | B15: N/A | D15: N | E15: Y | F15: Y | G15: Y | H15: N | I15: Y | J15: N | K15: N | L15: N | M15: N
A16: Financial Provision information | B16: N/A | D16: Y | E16: N | F16: Y | G16: N | H16: N | I16: Y | J16: N | K16: Y | L16: N | M16: N
A17: Relevant conviction information | B17: N/A | D17: Y | E17: Y | F17: Y | G17: N | H17: N | I17: N | J17: N | K17: N | L17: N | M17: N
A18: OPRA spreadsheet (electronic format) | B18: Yes | C18: DCC.015 Opra Spreadsheet | D18: Y | E18: N | F18: Y | G18: N | H18: N | I18: Y | J18: N | K18: Y | L18: Y | M18: N | N18: DCC.015 OPRA Spreadsheet v2.0
A19: Fee | B19: Yes | C19: Transaction ref: 2109914 Date: 15/12/2022 Ref: BS/151222/01 DENBIGHSHIRE CC EPRDENBIGHCC0001 Amount: 8,050.00 | D19: Y | E19: Y | F19: Y | G19: Y | H19: N | I19: Y | J19: Y | K19: Y | L19: Y | M19: Y | O19: Payment of £2,800 not showing on MyNRW but confirmed as paid as of 24/8/2023 from "Denbighshire C"
A20: Industrial Emissions Directive (IED) Activity Is the activity/ies that the applicant has applied for subject to the Industrial Emissions Directive? These activities include: - Pre-treatment of waste for incineration and co-incineration - Storage of hazardous waste - Biological treatment of waste (i.e. composting and anaerobic digestion) - Treatment of slags and ashes - Treatment of metal in shredders | B20: Yes | C20: Storage of hazardous waste only | D20: N | E20: N | F20: Y | G20: N | H20: N | I20: Y | J20: N | K20: N | L20: N | M20: N
A21: If it is an IED activity, has the applicant provided information to demonstrate how they will comply with the relevant limits and therefore be able to remain as a waste facility? | B21: Yes | C21: Limit is given as 1 tonne per day See DCC.003 Operating Techniques Document v1.0 section 3.5 | D21: N | E21: N | F21: Y | G21: N | H21: N | I21: Y | J21: N | K21: N | L21: N | M21: N
A22: Evidence to support basic surrender | C22: Surrender- site: only if operator claiming basic surrender | D22: N | E22: N | F22: N | G22: N | H22: N | I22: N | J22: N | K22: N | L22: Y | M22: N
A23: Evidence to support low risk surrender | C23: Surrender- site: only if operator claiming low risk surrender | D23: N | E23: N | F23: N | G23: N | H23: N | I23: N | J23: N | K23: N | L23: Y | M23: N
A24: Evidence to support non-operational surrender | C24: Surrender- site: only if operator claims activities haven’t started | D24: N | E24: N | F24: N | G24: N | H24: N | I24: N | J24: N | K24: N | L24: Y | M24: N
A25: Evidence to support full/normal surrender | C25: Surrender- site: only if operator claiming full/normal i.e. has reference data been submitted) | D25: N | E25: N | F25: N | G25: N | H25: N | I25: N | J25: N | K25: N | L25: Y | M25: N
A26: Site closure/ surrender report | C26: Surrender- site: The content of this report should enable us to confirm the area being surrendered matches the relevant permitted area. | D26: N | E26: N | F26: N | G26: N | H26: N | I26: N | J26: N | K26: N | L26: Y | M26: N
A27: Report on ‘steps taken to avoid pollution/ return the site to satisfactory sate’. | D27: N | E27: N | F27: N | G27: N | H27: N | I27: N | J27: N | K27: N | L27: Y | M27: N
A28: Site plan showing area being surrendered | D28: N | E28: N | F28: N | G28: N | H28: N | I28: N | J28: N | K28: N | L28: Y | M28: N
A29: Parts C1/ C2 &C4 of our application form(s) | C29: Surrender- site- part: Only where the part surrender will require changes to the permit conditions – not just the site plan. | D29: N | E29: N | F29: N | G29: N | H29: N | I29: N | J29: N | K29: N | L29: Y | M29: N
A30: Appropriate forms submitted to the WR or WQ teams? | D30: Y | E30: N | F30: N | G30: N | H30: N | I30: N | J30: N | K30: N | L30: N | M30: N
A31: Has geoscience made any comment on the WQ/WR forms that may be considered in determination? | D31: Y | E31: N | F31: N | G31: N | H31: N | I31: N | J31: N | K31: N | L31: N | M31: N
A32: Percentage of required documents missing | B32: =(100*(COUNTIF(B3:B31,"No"))/((COUNTIF(B3:B31,"Yes"))+(COUNTIF(B3:B31,"No")))) -> 0 | C32: Where over 25% of responses are no, the application is regarded as incomplete | D32: Y | E32: Y | F32: Y | G32: Y | H32: Y | I32: Y | J32: Y | K32: Y | L32: Y | M32: Y
B34: Other | C34: DCC.018 Application Checklist.xlsx DCC.019 Hazardous waste qualifications registration PR2391226 Version 1 (Payment ref EPRDENBIGHCC0001) WRAP DCC Colomendy_Application Form Part A_v0.1 WRAP DCC Colomendy_Application Form Part B2_v0.1 WRAP DCC Colomendy_Application Form Part B4_v0.1 WRAP DCC Colomendy_Application Form Part F1_v0.1 | N34: DCC.018 Application Checklist | O34: Action Resolution Log

Sheet A
A1: Application form Part A – applicant/ operator details
A2: Qu # | B2: Action | C2: Yes/No/NA | D2: Comments | F2: Yes
A3: 1 to 5 | B3: Applicant details complete? | C3: Yes | F3: No
A4: 6 | B4: Address details complete? | C4: Yes | F4: N/A
A5: 6 | B5: Registered companies only. Is it registered and active on Companies House? | C5: N/A
A6: 6 | B6: If an existing permit, does the site and company address(es) match the current permit? | C6: N/A
A7: 7 | B7: Contact details complete? | C7: Yes
B8: Is the applicant a legal person as per definition of ‘operator’? | C8: Yes
B9: If the applicant is not the landowner, have details been provided? | C9: N/A | D9: Application pre-July 2023
B10: Percentage of form incomplete | C10: =(100*(COUNTIF(C3:C8,"No"))/((COUNTIF(C3:C8,"Yes"))+(COUNTIF(C3:C8,"No")))) -> 0 | D10: Where over 25% of responses are no, the form is regarded as incomplete

Sheet F1
A1: Application form Part F1 - Initial checks, including payment, confidentiality, national security and declaration | E1: New Bespoke Extractive Waste | F1: New Bespoke Tier 2 | G1: New Bespoke Tier 3 | H1: SRP- New or Var | I1: Variation Admin | J1: Variation MT and Normal | K1: Variation MT- SRP | L1: Transfer | M1: Surrender- Site | N1: Surrender Mobile Plant
A2: Qu # | B2: Action | C2: Yes/No/NA | D2: Comments | E2: Y | F2: Y | G2: Y | H2: Y | I2: N | J2: Y | K2: Y | L2: Y | M2: Y | N2: Y
A3: 1 | B3: Table 1 Complete? | C3: Yes | E3: Y | F3: Y | G3: Y | H3: Y | I3: N | J3: Y | K3: Y | L3: Y | M3: Y | N3: Y | P3: Yes
A4: 1 | B4: Has the correct application type/ fee been identified? | C4: No | D4: See OPRA tab | E4: Y | F4: Y | G4: Y | H4: Y | I4: N | J4: Y | K4: Y | L4: Y | M4: Y | N4: Y | O4: 11/09/23- payment confirmed as paid on 24/8/2023 | P4: No
A5: 2 | B5: Has the OPRA profile been provided? | C5: Yes | E5: Y | F5: Y | G5: Y | H5: Y | I5: N | J5: Y | K5: N | L5: Y | M5: Y | N5: Y | P5: N/A
A6: 2 | B6: Has the OPRA profile been provided on Excel? | C6: Yes | E6: Y | F6: Y | G6: Y | H6: Y | I6: N | J6: Y | K6: N | L6: Y | M6: Y | N6: Y
A7: 3 | B7: Is the payment type shown? | C7: Yes | E7: Y | F7: Y | G7: Y | H7: Y | I7: N | J7: Y | K7: Y | L7: Y | M7: Y | N7: Y
A8: 3 | B8: Have the payment details been completed? | C8: Yes | E8: Y | F8: Y | G8: Y | H8: Y | I8: N | J8: Y | K8: Y | L8: Y | M8: Y | N8: Y
A9: 3 | B9: Is the payment on MyNRW? | C9: Yes | E9: Y | F9: Y | G9: Y | H9: Y | I9: N | J9: Y | K9: Y | L9: Y | M9: Y | N9: Y
A10: 3 | B10: Is the fee correct? | C10: No | D10: See OPRA tab | E10: Y | F10: Y | G10: Y | H10: Y | I10: N | J10: Y | K10: Y | L10: Y | M10: Y | N10: Y | O10: 11/09/23- payment confirmed as paid on 24/8/2023
A11: 5 | B11: Confidentiality: If the applicant has asked information to be treated as confidential, has the required evidence been provided? | C11: N/A | E11: Y | F11: Y | G11: Y | H11: Y | I11: N | J11: Y | K11: Y | L11: Y | M11: Y | N11: Y
A12: 5 | B12: National Security: If the applicant has stated information should not be on the public register due to National Security risk, has the letter from the Welsh Ministers confirming this been provided? | C12: N/A | E12: Y | F12: Y | G12: Y | H12: Y | I12: N | J12: Y | K12: Y | L12: Y | M12: Y | N12: Y
A13: 6 | B13: Box been ticked to show correct fee is included? | C13: No | D13: But fee has been received | E13: Y | F13: Y | G13: Y | H13: Y | I13: N | J13: Y | K13: Y | L13: Y | M13: Y | N13: Y
B14: Is the application checklist complete? | C14: Yes | D14: See DCC.018 Application Checklist- all documents included | E14: Y | F14: Y | G14: Y | H14: Y | I14: N | J14: Y | K14: Y | L14: Y | M14: Y | N14: Y
A15: 7a | B15: If not a relevant person; is box ticked to confirm authorisation is given? | C15: N/A | E15: Y | F15: Y | G15: Y | H15: Y | I15: N | J15: Y | K15: Y | L15: Y | M15: Y | N15: Y
A16: 7b | B16: If the application a standard facility; is box ticked to confirm SRP criteria is met? | C16: N/A | E16: Y | F16: Y | G16: Y | H16: Y | I16: N | J16: Y | K16: Y | L16: Y | M16: Y | N16: Y
A17: 7c | B17: If application includes ecological survey information; is box ticked to confirm it can be used as set out in guidance | C17: N/A | E17: Y | F17: Y | G17: Y | H17: Y | I17: N | J17: Y | K17: Y | L17: Y | M17: Y | N17: Y
A18: 7d | B18: Is the declaration complete? | C18: Yes | E18: Y | F18: Y | G18: Y | H18: Y | I18: N | J18: Y | K18: Y | L18: Y | M18: Y | N18: Y
A19: 7d | B19: Has the correct person completed the declaration? | C19: Yes | D19: Tony Ward of Denbighshire County Council- Corporate Director: Economy and Environment | E19: Y | F19: Y | G19: Y | H19: Y | I19: N | J19: Y | K19: Y | L19: Y | M19: Y | N19: Y
B20: Percentage of form incomplete | C20: =(100*(COUNTIF(C3:C19,"No"))/((COUNTIF(C3:C19,"Yes"))+(COUNTIF(C3:C19,"No")))) -> 25 | D20: Where over 25% of responses are no, the form is regarded as incomplete | E20: Y | F20: Y | G20: Y | H20: Y | I20: N | J20: Y | K20: Y | L20: Y | M20: Y | N20: Y

Sheet B2.C2
A1: Application form Part B2 – all new bespoke Application form Part C2 – bespoke variation | E1: New Bespoke Extractive Waste | F1: New Bespoke Tier 2 | G1: New Bespoke Tier 3 | H1: SRP- New or Var | I1: Variation Admin | J1: Variation MT and Normal | K1: Variation MT- SRP | L1: Transfer | M1: Surrender- Site | N1: Surrender Mobile Plant
A2: Qu # | B2: Action | C2: Yes/No/NA | D2: Comments and Document Ref. if given | E2: Y | F2: Y | G2: Y | H2: N | I2: N | J2: Y | K2: N | L2: N | M2: N | N2: N | P2: Yes
A3: 1a | B3: Has the pre-application advice question been answered (references/documents given)? | C3: Yes | D3: PPN-00393 | E3: Y | F3: Y | G3: Y | H3: N | I3: N | J3: Y | K3: N | L3: N | M3: N | N3: N | P3: No
B4: Pre-application record found in DMS? | C4: Yes | D4: In DMS folder | E4: Y | F4: Y | G4: Y | H4: N | I4: N | J4: Y | K4: N | L4: N | M4: N | N4: N | P4: N/A
A5: 1b | B5: Option ‘site’ or 'mobile plant' selected? | C5: Yes | D5: Site | E5: Y | F5: Y | G5: Y | H5: N | I5: N | J5: N | K5: N | L5: N | M5: N | N5: N
A6: 1c | B6: If indicated activity is mobile plant, have we agreed the activity is mobile plant? | C6: N/A | E6: N | F6: N | G6: Y | H6: N | I6: N | J6: N | K6: N | L6: N | M6: N | N6: N
A7: 1d | B7: If there has been changes to this agreement, has a change document been provided? | C7: N/A | E7: N | F7: N | G7: Y | H7: N | I7: N | J7: N | K7: N | L7: N | M7: N | N7: N
A8: 1b | B8: Permit number given | E8: N | F8: N | G8: N | H8: N | I8: N | J8: Y | K8: N | L8: N | M8: N | N8: N
A9: 1c | B9: Site name and address complete? | E9: N | F9: N | G9: N | H9: N | I9: N | J9: Y | K9: N | L9: N | M9: N | N9: N
A10: 2a | B10: Site name, address and grid reference complete? | C10: Yes | E10: Y | F10: Y | G10: Y | H10: N | I10: N | J10: N | K10: N | L10: N | M10: N | N10: N
A11: 2b | B11: Is the number of regulated facilities given? | C11: Yes | E11: Y | F11: Y | G11: Y | H11: N | I11: N | J11: N | K11: N | L11: N | M11: N | N11: N
A12: 2c | B12: If one facility only: has the correct operation type been selected? | C12: Yes | D12: Ticked Tier 2 bespoke- over OPRA profile and OPRA based fee has been paid. Assumed this is in error | E12: Y | F12: Y | G12: Y | H12: N | I12: N | J12: N | K12: N | L12: N | M12: N | N12: N
A13: 2c1-2c4 | B13: Has the relevant question been answered? | C13: Yes | D13: Ticked Tier 2 bespoke- over OPRA profile and OPRA based fee has been paid. Assumed this is in error | E13: Y | F13: Y | G13: Y | H13: N | I13: N | J13: N | K13: N | L13: N | M13: N | N13: N
A14: 2d | B14: If more than one facility: has the correct operation type been selected? | C14: N/A | E14: Y | F14: Y | G14: Y | H14: N | I14: N | J14: N | K14: N | L14: N | M14: N | N14: N
A15: 2d1- 2d4 | B15: Has the relevant question been answered for each facility? | C15: N/A | E15: Y | F15: Y | G15: Y | H15: N | I15: N | J15: N | K15: N | L15: N | M15: N | N15: N
A16: 2f | B16: Has the question (treating batteries) been answered? | C16: Yes | D16: Answered "no" | E16: Y | F16: Y | G16: Y | H16: N | I16: N | J16: N | K16: N | L16: N | M16: N | N16: N
A17: 2f | B17: If yes, is a document provided? | C17: N/A | E17: Y | F17: Y | G17: Y | H17: N | I17: N | J17: N | K17: N | L17: N | M17: N | N17: N
A18: 2a | B18: Variation type picked? | D18: For Variations see Part B4.C4 tab for the additional checks to check variation ‘type’ | E18: N | F18: N | G18: N | H18: N | I18: N | J18: Y | K18: N | L18: N | M18: N | N18: N
A19: 2b | B19: Table 1 OR non-technical summary completed for the changes? | E19: N | F19: N | G19: N | H19: N | I19: N | J19: Y | K19: N | L19: N | M19: N | N19: N
A20: 2c1 | B20: Has the question (modern/consolidated permit) been answered? | E20: N | F20: N | G20: N | H20: N | I20: N | J20: Y | K20: N | L20: N | M20: N | N20: N
A21: 2c2 | B21: Multi-permit consolidations only Are all of the permit numbers listed in Table 2? | E21: N | F21: N | G21: N | H21: N | I21: N | J21: Y | K21: N | L21: N | M21: N | N21: N
A22: 2e | B22: Has the question (treating batteries) been answered? | E22: N | F22: N | G22: N | H22: N | I22: N | J22: Y | K22: N | L22: N | M22: N | N22: N
A23: 2e | B23: If answered yes; document reference provided? | E23: N | F23: N | G23: N | H23: N | I23: N | J23: Y | K23: N | L23: N | M23: N | N23: N
A24: 3a | B24: Relevant offences Relevant offences question complete? | C24: Yes | D24: Answered "no" | E24: Y | F24: Y | G24: Y | H24: N | I24: N | J24: Y | K24: N | L24: N | M24: N | N24: N
A25: 3a | B25: If answered "yes", has relevant convictions information provided? | C25: N/A | E25: Y | F25: Y | G25: Y | H25: N | I25: N | J25: Y | K25: N | L25: N | M25: N | N25: N
A26: 3b1 | B26: Technical ability Has a Scheme option been selected? | C26: Yes | E26: Y | F26: Y | G26: Y | H26: N | I26: N | J26: Y | K26: N | L26: N | M26: N | N26: N
A27: 3b2 | B27: If yes; have they ticked to say they have included all certificates, and provided them? | C27: N/A | E27: Y | F27: Y | G27: Y | H27: N | I27: N | J27: Y | K27: N | L27: N | M27: N | N27: N
A28: 3b2 | B28: If no; have they ticked to say they have included registration evidence, and provided them? | C28: Yes | D28: DCC.006a Evidence of technical competency DCC.006b Evidence of technical competency DCC.006c Evidence of technical competency DCC.006d Evidence of technical competency DCC.019 Hazardous waste qualifications registration See TCM tab | E28: Y | F28: Y | G28: Y | H28: N | I28: N | J28: Y | K28: N | L28: N | M28: N | N28: N
A29: 3c | B29: Financial information Financial info complete? | C29: Yes | E29: Y | F29: Y | G29: Y | H29: N | I29: N | J29: Y | K29: N | L29: N | M29: N | N29: N
A30: 3c | B30: Has the applicant indicated that they are financially sound, i.e. do not need to provide financial provision for the activity? | C30: Yes | E30: Y | F30: Y | G30: Y | H30: N | I30: N | J30: Y | K30: N | L30: N | M30: N | N30: N
A31: 3d1 | B31: Management system Have they confirmed the management system meets our guidance? | C31: Yes | E31: Y | F31: Y | G31: Y | H31: N | I31: N | J31: Y | K31: N | L31: N | M31: N | N31: N
A32: 3d2 | B32: Have they selected a type of management system? | C32: Yes | D32: Own | E32: Y | F32: Y | G32: Y | H32: N | I32: N | J32: Y | K32: N | L32: N | M32: N | N32: N
A33: 3d3 | B33: Have they provided the summary of the management system? | C33: Yes | D33: DCC.004 Environment Management System (EMS) Summary See EMS tab | E33: Y | F33: Y | G33: Y | H33: N | I33: N | J33: Y | K33: N | L33: N | M33: N | N33: N
A34: 4a | B34: Sewer question answered? | C34: Yes | D34: Answered "yes" | E34: Y | F34: Y | G34: Y | H34: N | I34: N | J34: Y | K34: N | L34: N | M34: N | N34: N
A35: 4a | B35: If yes, is a sewerage undertaker named? | C35: Yes | D35: Welsh Water | E35: Y | F35: Y | G35: Y | H35: N | I35: N | J35: Y | K35: N | L35: N | M35: N | N35: N
A36: 4b | B36: Harbour authority question answered? | C36: Yes | D36: Answered "no" | E36: Y | F36: Y | G36: Y | H36: N | I36: N | J36: Y | K36: N | L36: N | M36: N | N36: N
A37: 4b | B37: If yes, is a harbour authority named? | C37: N/A | E37: Y | F37: Y | G37: Y | H37: N | I37: N | J37: Y | K37: N | L37: N | M37: N | N37: N
A38: 4c | B38: Fisheries question answered? | C38: Yes | D38: Answered "no" | E38: Y | F38: Y | G38: Y | H38: N | I38: N | J38: Y | K38: N | L38: N | M38: N | N38: N
A39: 4c | B39: If yes, is a fisheries committee named? | C39: N/A | E39: Y | F39: Y | G39: Y | H39: N | I39: N | J39: Y | K39: N | L39: N | M39: N | N39: N
A40: 4e | B40: Has the question (medium combustion plant or specified generator located within an Air Quality Management Area (AQMA)) been answered? | C40: N/A | E40: N | F40: Y | G40: Y | H40: N | I40: N | J40: N | K40: N | L40: N | M40: N | N40: N
...

Sheet B4.C4
A1: Application form Part B4 – new bespoke waste operation Application form Part C4 – bespoke variation waste operation | E1: New Bespoke Extractive Waste | F1: New Bespoke Tier 2 | G1: New Bespoke Tier 3 | H1: SRP- New or Var | I1: Variation Admin | J1: Variation MT and Normal | K1: Variation MT- SRP | L1: Transfer | M1: Surrender- Site | N1: Surrender Mobile Plant
A2: Qu # | B2: Action | C2: Yes/No/NA | D2: Comments and Document Ref. if given | E2: N | F2: Y | G2: Y | H2: N | I2: N | J2: Y | K2: N | L2: N | M2: N | N2: N
A3: 1a | B3: Has all sections of the completed? And document provided if needed? | C3: Yes | D3: Table on form not completed- see DCC.009 Activities and Emissions v2.0 | E3: N | F3: Y | G3: Y | H3: N | I3: N | J3: Y | K3: N | L3: N | M3: N | N3: N | P3: Yes
A4: 1b | B4: Waste types listed? | C4: Yes | D4: DCC.010 Waste Codes one waste with a 99 code- additional information has been given | E4: N | F4: Y | G4: Y | H4: N | I4: N | J4: Y | K4: N | L4: N | M4: N | N4: N | P4: No
A5: 1c1 | B5: Has the question (deposit for recovery activity) been answered? | C5: Yes | D5: Not DfR | E5: N | F5: Y | G5: Y | H5: N | I5: N | J5: Y | K5: N | L5: N | M5: N | N5: N | P5: N/A
A6: 1c2 | B6: Have we confirmed it is recovery? | C6: N/A | E6: N | F6: Y | G6: Y | H6: N | I6: N | J6: Y | K6: N | L6: N | M6: N | N6: N
A7: 1c3 | B7: Has there been any changes since we agreed it was recovery? | C7: N/A | E7: N | F7: Y | G7: Y | H7: N | I7: N | J7: Y | K7: N | L7: N | M7: N | N7: N
A8: 1c4 | B8: Has a reference for the waste recovery plan been provided? | C8: N/A | E8: N | F8: Y | G8: Y | H8: N | I8: N | J8: Y | K8: N | L8: N | M8: N | N8: N
A9: 2 | B9: Emissions to air, water and land Table 2 completed for each activity listed in Table 1a? | C9: Yes | D9: Table on form not completed- see DCC.009 Activities and Emissions v2.0 | E9: N | F9: Y | G9: Y | H9: N | I9: N | J9: Y | K9: N | L9: N | M9: N | N9: N
B10: Point source emission to air | C10: Yes | D10: Completed for Noise | E10: N | F10: Y | G10: Y | H10: N | I10: N | J10: Y | K10: N | L10: N | M10: N | N10: N
B11: Point source emission to water (other than sewers) | C11: Yes | D11: Completed for surface water from site | E11: N | F11: Y | G11: Y | H11: N | I11: N | J11: Y | K11: N | L11: N | M11: N | N11: N
B12: Point source emission to sewers, effluent treatment plants or other transfer off site | C12: Yes | D12: Completed for drainage from the interceptor | E12: N | F12: Y | G12: Y | H12: N | I12: N | J12: Y | K12: N | L12: N | M12: N | N12: N
B13: Point source emission to land | C13: N/A | E13: N | F13: Y | G13: Y | H13: N | I13: N | J13: Y | K13: N | L13: N | M13: N | N13: N
A14: 3a | B14: Technical standards Information complete for each activity listed in Table 1a? | C14: Yes | D14: Table on form not completed- see DCC.003 Operating Techniques Document | E14: N | F14: Y | G14: Y | H14: N | I14: N | J14: Y | K14: N | L14: N | M14: N | N14: N
B15: Has a document been provided if needed? | C15: Yes | D15: DCC.003 Operating Techniques Document | E15: N | F15: Y | G15: Y | H15: N | I15: N | J15: Y | K15: N | L15: N | M15: N | N15: N
A16: 3b | B16: General requirements information complete for each activity listed? - fugitive emissions - noise - odour - fire - pests (not listed separately on application form) | C16: Yes | D16: Stated "N/A" for fugitive emissions, however a dust management plan has been included, other sections all answered: DCC.011 Odour Management Plan v2.0 (1) DCC.016 Odour Impact Assessment DCC.012 Noise Management Plan v2.0 DCC.017 Noise Impact Assessment DCC.013 Pest Management Plan v2.0 DCC.014 Dust Management Plan v2.0 (1) DCC.005 Fire Prevention and Mitigation Plan (FPMP) v4.0 (1) | E16: N | F16: Y | G16: Y | H16: N | I16: N | J16: Y | K16: N | L16: N | M16: N | N16: N
B17: Fugitive emissions: If the site falls within the scope of the following Environment Agency's Control and monitor emissions for your environmental permit guidance (dust section), has a DEMP been provided? | C17: Yes | D17: DCC.014 Dust Management Plan v2.0 See dust tab | E17: N | F17: Y | G17: Y | H17: N | I17: N | J17: Y | K17: N | L17: N | M17: N | N17: N
B18: Odour: a) If the site is undertaking an activity for 'which odour is a key issue' as outlined in 'how to comply with your environmental permit' guidance, has an OMP been provided? | C18: Yes | D18: DCC.011 Odour Management Plan v2.0 (1) DCC.016 Odour Impact Assessment See odour tab | E18: N | F18: Y | G18: Y | H18: N | I18: N | J18: Y | K18: N | L18: N | M18: N | N18: N
B19: Odour: b) If the site's risk assessment has highlighted there is a risk of odour from this activity, has an OMP been provided? | C19: Yes | D19: As above | E19: N | F19: Y | G19: Y | H19: N | I19: N | J19: Y | K19: N | L19: N | M19: N | N19: N
B20: Odour: c) If variation, and operations have indicated that there is an issue with odour from the facility, has an OMP been provided? | D20: If yes, an OMP is required, and the odour tab should be completed. If no, an OMP is not required and you do not need to complete the odour tab, and the answer should be marked as "n/a". | E20: N | F20: N | G20: N | H20: N | I20: N | J20: Y | K20: N | L20: N | M20: N | N20: N
B21: Noise: If a Noise Impact Assessment is required, has it been provided? | C21: Yes | D21: Tool states NIA and NMP are required. Both have been supplied. DCC.012 Noise Management Plan v2.0 DCC.017 Noise Impact Assessment See Noise tab | E21: N | F21: Y | G21: Y | H21: N | I21: N | J21: Y | K21: N | L21: N | M21: N | N21: N
B22: Noise: If an adverse impact or significant adverse impact is concluded by the NIA, has a Noise Management Plan been provided? | C22: Yes | D22: No impact concluded (need to asses), however NMP has been included See Noise tab | E22: N | F22: Y | G22: Y | H22: N | I22: N | J22: Y | K22: N | L22: N | M22: N | N22: N
B23: Fire: Is this a new bespoke permit application, that includes the acceptance and storage of combustible waste? | C23: Yes | D23: DCC.005 Fire Prevention and Mitigation Plan (FPMP) v4.0 (1) See FPMP tab | E23: N | F23: Y | G23: Y | H23: N | I23: N | J23: N | K23: N | L23: N | M23: N | N23: N
B24: Fire: If this is a variation to add a new combustible material, has an FPMP been provided? | D24: Yes - FPMP is required and the FPMP tab must be completed. No - mark as N/A | E24: N | F24: N | G24: N | H24: N | I24: N | J24: Y | K24: N | L24: N | M24: N | N24: N
B25: Fire: If this is a variation to add a new activity, has an FPMP been provided? | D25: Yes - FPMP is required and the FPMP tab must be completed. No - mark as N/A | E25: N | F25: N | G25: N | H25: N | I25: N | J25: Y | K25: N | L25: N | M25: N | N25: N
B26: Fire: If this is a variation to increase the amount of waste stored at any one time, has an FPMP been provided? | D26: Yes - FPMP is required and the FPMP tab must be completed. No - mark as N/A | E26: N | F26: N | G26: N | H26: N | I26: N | J26: Y | K26: N | L26: N | M26: N | N26: N
B27: Fire: If this is a variation to increase the annual throughput only, has the required statement been provided? | D27: Yes - FPMP is not required. BUT applicant must provide written confirmation of the following: increase in annual throughput only, storage of combustible material referenced in the guidance will not increase from current levels and the measures used to manage current storage levels (at any one time limits) meet the standards in the guidance. IMPORTANT: All sections in FPMPs for variations will not necessarily need to be assessed as part of determination. We need the FPMP to include details on existing combustible waste types, site layout, separation distances etc. so that we can assess the new combustible materials/ activities in relation to these. However, we can’t ask for information on existing activities/wastes that are already permitted (i.e. amount of waste accepted, stack sizes, turning, water supplies for existing stacks). Technically under a variation we can only ask for information/ assess information that we need in order to make a decision on the what the operator is applying to change in their permit. You need to keep this in mind when completing this checklist. If in doubt, speak to your mentor. | E27: N | F27: N | G27: N | H27: N | I27: N | J27: Y | K27: N | L27: N | M27: N | N27: N
B28: Pests: If a dedicated pests management plan required, has it been provided? This will depend on the types of wastes accepted, treatment types etc | C28: Yes | D28: Some wastes have potential to attract pests DCC.013 Pest Management Plan v2.0 See Pests tab | E28: N | F28: Y | G28: Y | H28: N | I28: N | J28: Y | K28: N | L28: N | M28: N | N28: N
A29: 3c | B29: Specific Sectors Has the relevant appendix been completed? - clinical waste - hazardous recovery and disposal - CLO to land - inert landfill | C29: Yes | D29: Appendix 2 completed | E29: N | F29: Y | G29: Y | H29: N | I29: N | J29: Y | K29: N | L29: N | M29: N | N29: N
A30: 4a | B30: Document provided for the monitoring of emissions from points listed in Table 2? | C30: Yes | D30: DCC.003 Operating Techniques Document | E30: N | F30: Y | G30: Y | H30: N | I30: N | J30: Y | K30: N | L30: N | M30: N | N30: N
A31: 4b | B31: Point source emissions to air only Assessment provided? | C31: N/A | D31: No point source emissions to air | E31: N | F31: Y | G31: Y | H31: N | I31: N | J31: Y | K31: N | L31: N | M31: N | N31: N
B32: Percentage of form incomplete | C32: =(100*(COUNTIF(C3:C31,"No"))/((COUNTIF(C3:C31,"Yes"))+(COUNTIF(C3:C31,"No")))) -> 0 | D32: Where over 25% of responses are no, the form is regarded as incomplete | E32: N | F32: Y | G32: Y | H32: N | I32: N | J32: Y | K32: N | L32: N | M32: N | N32: N
E33: N | F33: Y | G33: Y | H33: N | I33: N | J33: Y | K33: N | L33: N | M33: N | N33: N
A34: Appendix 2 Hazardous waste for recovery and disposal | E34: N | F34: Y | G34: Y | H34: N | I34: N | J34: Y | K34: N | L34: N | M34: N | N34: N
A35: Qu # | B35: Action | C35: Yes/No/NA | D35: Comments and Document Ref. if given | E35: N | F35: Y | G35: Y | H35: N | I35: N | J35: Y | K35: N | L35: N | M35: N | N35: N
A36: 1 | B36: Pre-acceptance information complete? | C36: Yes | D36: DCC.003 Operating Techniques Document | E36: N | F36: Y | G36: Y | H36: N | I36: N | J36: Y | K36: N | L36: N | M36: N | N36: N
A37: 2 | B37: Waste acceptance information complete? | C37: Yes | D37: DCC.003 Operating Techniques Document | E37: N | F37: Y | G37: Y | H37: N | I37: N | J37: Y | K37: N | L37: N | M37: N | N37: N
A38: 3 | B38: Waste storage, handling etc. information complete? | C38: Yes | D38: DCC.005 Fire Prevention and Mitigation Plan (FPMP) | E38: N | F38: Y | G38: Y | H38: N | I38: N | J38: Y | K38: N | L38: N | M38: N | N38: N
A39: 4 | B39: Waste facility and infrastructure layout plan provided? | C39: Yes | D39: DCC.007a Site Layout Plan | E39: N | F39: Y | G39: Y | H39: N | I39: N | J39: Y | K39: N | L39: N | M39: N | N39: N
A40: 5 | B40: Treatment activities document provided? | C40: N/A | D40: Hazardous waste is not being treated | E40: N | F40: Y | G40: Y | H40: N | I40: N | J40: Y | K40: N | L40: N | M40: N | N40: N
...

Sheet Decision and actions
A1: Decision and actions required | E1: New Bespoke Extractive Waste | F1: New Bespoke Tier 2 | G1: New Bespoke Tier 3 | H1: New SRP | I1: Variation Admin | J1: Variation MT and Normal | K1: Variation MT- SRP | L1: Transfer | M1: Surrender- Site | N1: Surrender Mobile Plant
A2: Action | B2: Yes/No/NA | C2: Date | D2: Notes | E2: Y | F2: Y | G2: Y | H2: Y | I2: Y | J2: Y | K2: Y | L2: Y | M2: Y | N2: Y
A3: Are all relevant documents present and do they appear to cover the right information? | B3: No | C3: 45140 | E3: Y | F3: Y | G3: Y | H3: Y | I3: Y | J3: Y | K3: Y | L3: Y | M3: Y | N3: Y | P3: Yes
A4: Is the fee correct? | B4: No | C4: 45140 | E4: Y | F4: Y | G4: Y | H4: Y | I4: N | J4: Y | K4: Y | L4: Y | M4: Y | N4: Y | P4: No
A5: Not duly made email sent for additional information/fee? | B5: Yes | C5: 45140 | E5: Y | F5: Y | G5: Y | H5: Y | I5: Y | J5: Y | K5: Y | L5: Y | M5: Y | N5: Y | P5: N/A
A6: Has the requested information been received by the deadline date? | B6: Yes | E6: Y | F6: Y | G6: Y | H6: Y | I6: Y | J6: Y | K6: Y | L6: Y | M6: Y | N6: Y
A7: Application returned? | B7: N/A | E7: Y | F7: Y | G7: Y | H7: Y | I7: Y | J7: Y | K7: Y | L7: Y | M7: Y | N7: Y
A8: Application withdrawn? | B8: N/A | E8: Y | F8: Y | G8: Y | H8: Y | I8: Y | J8: Y | K8: Y | L8: Y | M8: Y | N8: Y
A9: Application duly made? | B9: Yes | E9: Y | F9: Y | G9: Y | H9: Y | I9: Y | J9: Y | K9: Y | L9: Y | M9: Y | N9: Y
A10: Status on PALS updated? | B10: Yes | C10: 45180 | E10: Y | F10: Y | G10: Y | H10: Y | I10: Y | J10: Y | K10: Y | L10: Y | M10: Y | N10: Y
A11: Duly made email sent? | B11: Yes | C11: 45180 | E11: Y | F11: Y | G11: Y | H11: Y | I11: Y | J11: Y | K11: Y | L11: Y | M11: Y | N11: Y
A12: Publicise on web? | B12: Yes | C12: 45180 | D12: (requested) | E12: Y | F12: Y | G12: Y | H12: Y | I12: N | J12: N | K12: N | L12: N | M12: N | N12: N
A13: Advertise in newspaper? | B13: N/A | E13: Y | F13: Y | G13: Y | H13: Y | I13: N | J13: N | K13: N | L13: N | M13: N | N13: N
A14: Publicise in Social Media ( email the link for the web advert to Comms team) | E14: Y | F14: N | G14: N | H14: N | I14: N | J14: N | K14: N | L14: N | M14: N | N14: N
A15: Consultation with Consultees (i.e. LPA, PHW, EH, HSE, PCT) | B15: Yes | C15: 45180 | D15: (requested) | E15: Y | F15: Y | G15: Y | H15: Y | I15: N | J15: N | K15: N | L15: N | M15: N | N15: N
A16: Landowner notification letter sent
A17: DM checklist saved to the DMS | B17: Yes | C17: 45180 | E17: Y | F17: Y | G17: Y | H17: Y | I17: Y | J17: Y | K17: Y | L17: Y | M17: Y | N17: Y
A18: Landfill Disposal Tax team informed | B18: N/A | E18: Y | F18: Y | G18: Y | H18: Y | I18: Y | J18: Y | K18: Y | L18: Y | M18: Y | N18: Y
E19: Y | F19: Y | G19: Y | H19: Y | I19: Y | J19: Y | K19: Y | L19: Y | M19: Y | N19: Y
A20: ‘Duly Made’ officers notes: Use this box to record conversations with the applicant/ operator, detailed reasons why the application can/cannot be duly made and any subsequent correspondence or actions. | E20: Y | F20: Y | G20: Y | H20: Y | I20: Y | J20: Y | K20: Y | L20: Y | M20: Y | N20: Y
A21: 02/08/2023- NDM for the following reasons- application fee, TCM. Site condition report, missing information from EMS, Risk assessment, Pests Management Plan, Dust Management Plan, FPMP, Odour Management Plan, Noise Impact Assessment and Noise Management plan | E21: Y | F21: Y | G21: Y | H21: Y | I21: Y | J21: Y | K21: Y | L21: Y | M21: Y | N21: Y
A22: 06/09/2023- all requested information has been provided. Once we have been able to confirm additional fee payment, application can be duly made. All new documents have been saved to the DMS, as well as the original documents that were not superseded. | E22: Y | F22: Y | G22: Y | H22: Y | I22: Y | J22: Y | K22: Y | L22: Y | M22: Y | N22: Y
A23: 11/09/2023- payment confirmed as received 24/08/23. Application is duly made as of 04/09/2023. Advert and consultation sent to permit support today for action | E23: Y | F23: Y | G23: Y | H23: Y | I23: Y | J23: Y | K23: Y | L23: Y | M23: Y | N23: Y
E24: Y | F24: Y | G24: Y | H24: Y | I24: Y | J24: Y | K24: Y | L24: Y | M24: Y | N24: Y
A26: Percentage of forms/documents incomplete
A27: Where over 25% of responses are no, the application is regarded as incomplete
A28: Doc and info check | B28: ='Doc''s & info'!B32 -> 0
A29: Part A | B29: =A!C10 -> 0
A30: Part F1 | B30: ='F1'!C20 -> 25
A31: Part B1.C1 | B31: =#REF! -> #REF!
A32: Part B1.C1- Appendix 2 | B32: =#REF! -> #REF!
A33: Part B1.C1- Appendix 3 | B33: =#REF! -> #REF!
A34: Part B2.C2 | B34: ='B2.C2'!C46 -> 4.1666667
A35: Part B4.C4 | B35: ='B4.C4'!C32 -> 0
A36: Part B4.C4- Appendix 1 | B36: ='B4.C4'!#REF! -> #REF!
A37: Part B4.C4- Appendix 2 | B37: ='B4.C4'!C42 -> 0
A38: Part B4.C4- Appendix 3 | B38: ='B4.C4'!#REF! -> #REF!
A39: Part B4.C4- Appendix 4 | B39: ='B4.C4'!#REF! -> #REF!
A40: Part B5.C5 | B40: =#REF! -> #REF!
A41: Part C0.5 | B41: =#REF! -> #REF!
...

Sheet OPRA
A1: OPRA review
A3: TAB: Complexity_Emissions_Location | B3: Changed | C3: Not changed | D3: Reason
A4: Complexity Attribute | B4: X | D4: Site is accepted hazardous waste (soil, batteries and WEEE), the hazardous soil means the site is A09 not A11
A5: Emissions Attribute (Waste Input) | C5: X | D5: Quantities add up to 55,000 tonnes per annum.
A6: Location Attributes
A7: Proximity to Human Occupation | C7: X | D7: Agree with <50m
A8: Assessment under wildlife, countryside or habitats legislation | C8: X | D8: Agree with "CroW"
A9: Groundwater/Aquifers | B9: X | D9: Changed to "Yes- outside GPZ" as the site on both superficial and bedrock aquifers
A10: Sensitivity of surface water | B10: X | D10: Entry required as site is within 10 meters of a receiving water (pond to the north of the site) As the closest classified stretch is over 1km away, a score of 2 (grade 3 or 4) has been used
A11: Direct run-offs | B11: X | D11: Changed to "Yes- with interceptors" as the site has both surface water and sewage discharges from the site
A12: Air Quality Management Zone | C12: X | D12: Site is not in or near to a AQMZ
A13: Flood Plain | C13: X | D13: Low flood risk from surface water & small watercourses to the north and south of the site, but not within boundary
A15: TAB: Operator Performance | B15: Changed | C15: Not changed | D15: Reason
B16: X | D16: Several questions on this tab now need to be completed as the site is an A09
A19: Start score: | B19: 46
A20: Start fee: | B20: 8050
A21: End score: | B21: 64
A22: End fee: | B22: 11200
A24: Difference in score: | B24: =B21-B19 -> 18
A25: Difference in fee: | B25: =B22-B20 -> 3150 | C25: If minus, a refund is required
B27: 06/09/2023- once operator performance tab was completed, the score increased to 64, so the additional fee needed was £2,800

Sheet EMS
A1: Environment Management System
A3: This applies to all new bespoke permits and variations. If the permit is a normal variation, only the relevant parts of the EMS should be updated by the operator and assessed.
A5: Document reference | B5: DCC.004 Environment Management System (EMS) Summary DCC.003 Operating Techniques Document v1.0 DCC.009 Activities and Emissions v2.0 DCC.010 Waste Codes v2.0
A6: Time taken | B6: 60 minutes
A8: Guidance | B8: https://cdn.cyfoethnaturiol.cymru/media/2110/how-to-comply-with-your-environmental-permit.pdf?mode=pad&rnd=131467604540000000
A10: Section | B10: Part | C10: Yes/No/NA | D10: Comments
A11: Site plans | B11: Does it show the main features of the site and drawn to scale? | C11: Yes | G11: Yes
B12: Including where relevant; activities, drainage, sensitive receptors | C12: Yes | D12: Drainage and activities only. See risk assessment for receptors information | G12: No
A13: Operations | B13: Does it contain information on how to avoid or minimise environmental risk and impact of the normal running operations | C13: Yes | G13: N/A
B14: Does it contain information on waste acceptance, quantities, treatment and storage procedures | C14: Yes
B15: Does it contain information on storage of materials on site - storage times and procedures to ensure that these times are not exceeded - maximum storage capacities for specified storage areas and the facility as a whole and procedures to ensure that these capacities are not exceeded - maximum storage heights to prevent or minimise the emission of dust, litter and throughput management | C15: Yes
B16: Does it contain information on a procedure to identify the specific waste types stored at your facility | C16: Yes
B17: Does it contain information on procedures to segregate incompatible wastes for example use of appropriate separation distances and or suitable engineering measures. | C17: Yes
B18: Does it contain information on drainage infrastructure | C18: Yes | D18: Section 4.1, 4.2
B19: Does it contain information on transportation and distribution | C19: Yes
B20: Does it contain information on how any potential pollution from the above activities could impact on air, water, land and neighbours | C20: Yes | D20: Section 4
B21: Does it contain information on procedures to enable you to apply the waste hierarchy of re-use, recover, recycle, dispose | C21: No | E21: Resolved in response of 04/09/2023
B22: Does it contain information on Duty of Care | C22: No | E22: Resolved in response of 04/09/2023
A23: Maintenance | B23: Does it contain information on the sites programme of Planned Preventative Maintenance (PPM) | C23: Yes | D23: Section 2.1.9
A24: Accidents and incidents (Defined as an accident, incident or event that may result in pollution) | B24: Does it contain information on potential accidents and put in place measures to minimise them happening | C24: Yes | D24: Section 2.2
B25: Does it contain information on events or equipment failures that could damage the environment, for example fires, vandalism, flooding or other extreme weather events such as drought, heat waves, strong winds, snow or extreme cold | C25: Yes | D25: Section 2.2.1
B26: Does it contain information on how likely these events or failures are to happen | C26: Yes
B27: Does it contain information on the consequences if they do happen | C27: Yes
B28: Does it contain information on the steps needed to minimise them happening | C28: Yes
B29: Does it contain information on the steps needed to minimise any impact if they do happen | C29: Yes
B30: Does it contain information on how they will record and investigate complaints, pollution incidents or breaches of your permit and the actions taken. | C30: Yes
B31: Does it contain a site plan which identifies location of any emergency kits or equipment for fire, spill kits and drain caps | C31: Yes
A32: Site security | B32: Does it include information on site security? This will be dependant on the environmental risk posed by activity | C32: Yes | D32: Section 2.1.3, 2.2.6
A33: Non-compliance | B33: Does it include information on how non-compliance will be dealt with including recording, investigating and resolution | C33: Yes | D33: Section 2.1.6
A34: Closure | B34: Does it include information on the plans in place that could make closing the site far easier and cheaper and evidence of the condition of the site via an SCR (only needs to be provided for a new bespoke or variation to increase permit area) | C34: No | E34: Resolved in response of 04/09/2023
A35: Complaints | B35: Does it include information on how complaints will be dealt with including recording, investigating and resolution | C35: No | E35: Resolved in response of 04/09/2023
A36: Sufficient competent persons, resources and training | B36: Does it include information on training of staff and technical competence. Also see TCM tab | C36: Yes | D36: Section 2.1
A37: Emissions and monitoring | B37: Does it include information on emissions to surface and groundwater | C37: Yes | D37: Section 4.1, 4.2
B38: Does it include information on dust | C38: Yes | D38: Section 4.4, also DMP
B39: Does it include information on mud | C39: Yes | D39: Section 4.8
B40: Does it include information on litter | C40: Yes | D40: Section 4.7
B41: Does it include information on fine particulates and fumes | C41: N/A | D41: Not relevant to application
B42: Does it include information on VOCs | C42: N/A | D42: Not relevant to application
B43: Does it include information on odour | C43: Yes | D43: Section 4.3, also OIA and OMP
B44: Does it include information on noise and vibration | C44: Yes | D44: Section 4.5, also NIA and NMP
...

Sheet TCM 
A1: Technically Competent Manager Qualifications
A3: Document reference | B3: DCC.006a Evidence of technical competency DCC.006b Evidence of technical competency DCC.006c Evidence of technical competency DCC.006d Evidence of technical competency DCC.019 Hazardous waste qualifications registration
A4: Time taken | B4: 30 minutes
A6: Guidance | B6: n/a
A8: Section | B8: Part | C8: Yes/No/NA | D8: Comments | F8: Yes
A9: General Overview | B9: Has a named TCM been provided? | C9: Yes | D9: David Driver, Gareth Hughes, "Gareth and Phil" | F9: No
B10: Are they/will they be covered by a relevant technical scheme: CIWM/WAMITAB or ESA/EU? | C10: Yes | D10: CIWM/WAMITAB | F10: N/A
A11: If WAMITAB certificates have been provided: | B11: Has primary competence been provided? | C11: Yes | D11: DCC.006a Evidence of technical competency - David Driver- Continuing competence- Transfer Hazardous Waste (TSH)- 31/07/2020 to 31/07/2022 - David Michael Driver- Primary qualification- Managing Transfer Hazardous Waste (4TSH) awarded 30/10/2007 DCC.006b Evidence of technical competency - David Michael Driver- Primary qualification- Managing Transfer Hazardous Waste (4TSH)- 30/10/2007 DCC.006c Evidence of technical competency - David Driver- Continuing competence- Transfer Hazardous Waste (TSH)- 03/08/2022 to 03/08/2024 DCC.006d Evidence of technical competency - Gareth Hughes- primary qualification- Non-hazardous waste treatment and transfer- 12/05/2022
B12: Has continuing competence been provided? | C12: Yes
B13: If certificates have not been provided, has proof of application for the correct course been provided? | C13: Yes | D13: DCC.019 Hazardous waste qualifications registration - Registration for “Gareth and Phil” for HROC4
B14: If a grace period is applicable, has this been requested? | C14: N/A
B15: Is the certificate/course applied for suitable for the application applied for? | C15: Yes | D15: Required primary qualification is HROC4 4TSH (DCC.006b Evidence of technical competency) can be used for the primary award for this. Required continuing competence is TSH which is held- see DCC.006c Evidence of technical competency Need contact info for Mr Driver "Gareth and Phil" have been registered but no further information has been given. Need more information on who these are, and if they have the qualification yet as the registration was June 2022. | E15: Resolved in response of 04/09/2023
A16: If ESA/EU certificates have been provided: | B16: Do they have a competent management system in place? | C16: N/A
B17: If not, are they relying on the 12 month grace period? | C17: N/A
B18: If relying on the grace period, have they confirmed that they will obtain necessary certification within 12 months of permit issue? | C18: N/A
B19: Has the management scheme been certified by one of the EU Skills scheme's approval bodies? | C19: N/A
A20: On site | B20: Do we consider this person to be in control of day to day activities on the site? | C20: N/A
B21: Percentage of required information missing | C21: =(100*(COUNTIF(C9:C20,"No"))/((COUNTIF(C9:C20,"Yes"))+(COUNTIF(C9:C20,"No")))) -> 0 | D21: Where over 25% of responses are no, the document is regarded as incomplete

Sheet Risk Assessment
A1: Risk Assessments
A3: Document reference | B3: DCC.002 Environmental Risk Assessment v3.0
A4: Time taken | B4: 35 minutes
A6: Guidance | B6: https://www.gov.uk/guidance/risk-assessments-for-your-environmental-permit
A8: Section | B8: Part | C8: Yes/No/NA | D8: Comments | F8: Yes
A9: General sections | B9: As per "How to Comply", are there general sections on the following: | F9: No
B10: a. Site operations | C10: Yes | F10: N/A
B11: b. Maintenance | C11: Yes
B12: c. Accidents | C12: Yes
B13: d. Training and records | C13: Yes
A14: Contents | B14: Does the risk assessment contain information on the following:
B15: a. Pollution/hazard source | C15: Yes
B16: b. Receptor that can be affected | C16: Yes
B17: c. sources | C17: Yes
B18: d. Pathway | C18: Yes
B19: e. Harm that could be caused | C19: Yes
B20: f. Solutions | C20: Yes
B21: g. Actions | C21: Yes
B22: Overall, can the site operate without a significant risk to the environment? | C22: Yes
A23: Areas of Risk | B23: Have the risks of the following been addressed, and if required, have management plans been provided:
B24: a. Any discharges to surface or groundwater | C24: Yes | D24: Table 4-1 and Table 4-2
B25: b. Accidents e.g. flooding, fire, electric shock etc | C25: Yes | D25: Table 4-1
B26: c. Odour | C26: Yes | D26: Table 4-2
B27: d. Noise | C27: Yes | D27: Table 4-1
B28: e. Vibration | C28: Yes | D28: Table 4-1
B29: f. Dust | C29: Yes | D29: Table 4-2
B30: g. Pests | C30: Yes | D30: Table 4-1
B31: h. Litter | C31: Yes | D31: Table 4-2
B32: i. Fire | C32: Yes | D32: Table 4-2
B33: j. Flooding and flood plains, as per OPRA | C33: Yes | D33: Table 4-1
B34: k. Bioaerosols | C34: N/A
A35: Protected sites | B35: If present, have the following been included within the risk assessment:
B36: a. national parks | C36: N/A
B37: b. areas of outstanding natural beauty (AONBs) | C37: N/A
B38: c. sites of special scientific interest (SSSIs) | C38: Yes | D38: Crest Mawr Wood SSSI approx. 490 meters from the site Graig Quarry SSSI Approx 660 meters from the site. RA section 2.4.1
B39: d. special areas of conservation (SACs) | C39: N/A
B40: e. special protection areas (SPAs) | C40: N/A
B41: f. Ramsar sites (wetlands) | C41: N/A
B42: g. marine conservation zones | C42: N/A
B43: h. ancient woodlands | C43: Yes | D43: 11 areas to the west of the site Section 2.4.2
...

Sheet FPMP 
A1: Fire Prevention and Mitigation Plan (FPMP)
A3: Document reference | B3: DCC.005 Fire Prevention and Mitigation Plan (FPMP) v4.0 | F3: Yes
A4: Time taken | B4: 45 minutes | F4: No
F5: N/A
A6: Guidance | B6: NRW FPMP Guidance No. 16 Fire prevention and mitigation plan - waste management
B7: If this colour; Guidance states that this information MUST be provided
A9: Section | B9: Part | C9: Yes/No/NA | D9: Comments
A10: 5. Fire Prevention and Mitigation Plan contents | B10: Is the FPMP produced in accordance with NRW guidance? | C10: Yes
B11: Does the FPMP contain the following:
B12: The amount and type of waste received daily and how it is managed. | C12: Yes | D12: Table 2-3
B13: Total amount of waste and types and forms (e.g. unprocessed, shredded etc) stored on site at any one time and how it will be stored | C13: Yes | D13: Tables 2-1, 2-2 and 2-33
B14: Maximum time each type of waste will be stored on site | C14: Yes | D14: Table 2-3
B15: Maximum size of any waste stockpile - including length, width and depth | C15: Yes | D15: Table 2-1
B16: Minimum separation distances used | C16: No | D16: Figure 1-4 has some distances, but this is only for the inside of the main building and not the rest of the site | E16: Resolved in response of 04/09/2023
B17: Clear area around the perimeter | C17: Yes | D17: Shown on site plans
