Workbook
Name category: Picklists!$J$3:$P$3
Name DAA: Picklists!$M$4
Name MCP: Picklists!$P$4:$P$4
Name MCP_and_SG: Picklists!$N$4:$N$4
Name No: Picklists!$AC$3
Name Operator: Picklists!$AB$2:$AC$2
Name PartA2: Picklists!$J$4:$J$24
Name PartB: Picklists!$K$4:$K$74
Name PartB_MCP_and_or_SG: Picklists!$L$4:$L$9
Name SG: Picklists!$O$4
Name Yes: Picklists!$AB$3:$AB$4

Sheet Guidance - please read
C1: Version | D1: NRW V2 No Macros | J1: Opra Scheme NRW V3

Sheet Introduction
B3: Version | C3: NRW V2 No Macros | I3: Opra Scheme NRW V2
E5: Operational Risk Appraisal (Opra) for Installations under EPR
C10: Installation Name | E10: Dairy Partners (Cymru Wales) Ltd | I10: Case Number | K10: WP3231NB
C13: It is recommended that the user fills in the spreadsheet following the order of worksheets listed below (click on the appropriate tab at the bottom of the screen). Not all worksheets require input, for those that do, the fields that may require input have no background colour or where there is a blue colour a picklist option is available. To move to the next data entry cell in a worksheet, press tab button once the first cell has been completed and you will go to the next unlocked cell where data or a picklist needs to be entered or completed. The sequence of worksheets is divided into two sections Sheets 1 to 11 are concerned with the input of data. Sheet 12 is the summary for the Opra Scores and Sheet 13 displays the charges.
C21: Colour coding | E21: Free text | F21: Pick List | G21: Autopulated | H21: Guidance link available | I21: Instruction | J21: Cell answered | K21: Information or commentary
C23: Does this document contain information that is commercial in confidence ?
H24: Defra Core guidance
B26: 1 | C26: Listed Activities | H26: 7 | I26: Emissions to Sewer
C27: Please refer to the Opra Scheme for Installations for the look-up tables and guidance. Use abbreviated descriptions, select the Schedule 1 references and bands from the pick lists provided.
H28: 8 | I28: Emissions to Waste
H30: 9 | I30: Emissions Summary
B31: 2 | C31: Other Activities | I31: No input is required. Output screen only. Summary of emissions.
C32: Please enter Part A(2), Part B, Medium Combustion Plant, Specified Generator and associated activities onto this sheet.
B33: 3 | C33: Complexities | H33: 10 | I33: Location
C34: Summary of complexities and rules applied - you need to answer rule 6 on this worksheet
H35: 11 | I35: Operational Management
B36: 4 | C36: Emissions to Air
H37: 12 | I37: Opra Summary
B38: 5 | C38: Emissions to Water | I38: No input is required. Output screen only. The emissions are shown separately.
B40: 6 | C40: Emissions to Land | H40: 13 | I40: Calculation
I41: No input is required. Charges with separate emissions totals.

Sheet 1 Listed activity
B2: Listed Activities - Complexity Attribute
D4: Organisation: | E4: =+Introduction!E10 -> Dairy Partners (Cymru Wales) Ltd
D5: Case Number: | E5: =+Introduction!K10 -> WP3231NB
C7: Former Permit Ref (If applicable) | D7: Description of Activity | E7: Schedule 1 Reference | F7: Regulatory Complexity | J7: Totals before any rules are applied
C8: 1 | D8: Treatment and processing on milk for the production of dairy products (mozzarella). | E8: 6.8 Part A (1) e) | F8: =IFERROR(VLOOKUP(E8,Picklists!$D$3:$E$139,2,FALSE),"") -> B | J8: A | K8: =COUNTIF($F$8:$F$32,J8) -> 1
C9: 2 | D9: Treatment of process effluent in the effluent treatment plant. | E9: 5.4 Part A (1) a) (i) | F9: =IFERROR(VLOOKUP(E9,Picklists!$D$3:$E$139,2,FALSE),"") -> A | J9: B | K9: =COUNTIF($F$8:$F$32,J9) -> 1
C10: 3 | F10: =IFERROR(VLOOKUP(E10,Picklists!$D$3:$E$139,2,FALSE),"") | J10: C | K10: =COUNTIF($F$8:$F$32,J10) -> 0
C11: 4 | F11: =IFERROR(VLOOKUP(E11,Picklists!$D$3:$E$139,2,FALSE),"") | J11: D | K11: =COUNTIF($F$8:$F$32,J11) -> 0
C12: 5 | F12: =IFERROR(VLOOKUP(E12,Picklists!$D$3:$E$139,2,FALSE),"") | J12: E | K12: =COUNTIF($F$8:$F$32,J12) -> 0
C13: 6 | F13: =IFERROR(VLOOKUP(E13,Picklists!$D$3:$E$139,2,FALSE),"")
C14: 7 | F14: =IFERROR(VLOOKUP(E14,Picklists!$D$3:$E$139,2,FALSE),"")
C15: 8 | F15: =IFERROR(VLOOKUP(E15,Picklists!$D$3:$E$139,2,FALSE),"")
C16: 9 | F16: =IFERROR(VLOOKUP(E16,Picklists!$D$3:$E$139,2,FALSE),"")
C17: 10 | F17: =IFERROR(VLOOKUP(E17,Picklists!$D$3:$E$139,2,FALSE),"")
C18: 11 | F18: =IFERROR(VLOOKUP(E18,Picklists!$D$3:$E$139,2,FALSE),"")
C19: 12 | F19: =IFERROR(VLOOKUP(E19,Picklists!$D$3:$E$139,2,FALSE),"")
C20: 13 | F20: =IFERROR(VLOOKUP(E20,Picklists!$D$3:$E$139,2,FALSE),"")
C21: 14 | F21: =IFERROR(VLOOKUP(E21,Picklists!$D$3:$E$139,2,FALSE),"")
C22: 15 | F22: =IFERROR(VLOOKUP(E22,Picklists!$D$3:$E$139,2,FALSE),"")
C23: 16 | F23: =IFERROR(VLOOKUP(E23,Picklists!$D$3:$E$139,2,FALSE),"")
C24: 17 | F24: =IFERROR(VLOOKUP(E24,Picklists!$D$3:$E$139,2,FALSE),"")
C25: 18 | F25: =IFERROR(VLOOKUP(E25,Picklists!$D$3:$E$139,2,FALSE),"") | J25: If there is insufficient space please attach a paper record
C26: 19 | F26: =IFERROR(VLOOKUP(E26,Picklists!$D$3:$E$139,2,FALSE),"") | H26: =IF(F26="E",5,(IF(F26="D",4,(IF(F26="C",3,(IF(F26="B",2,(IF(F26="A",1,"")))))))))
C27: 20 | F27: =IFERROR(VLOOKUP(E27,Picklists!$D$3:$E$139,2,FALSE),"") | H27: =IF(F27="E",5,(IF(F27="D",4,(IF(F27="C",3,(IF(F27="B",2,(IF(F27="A",1,"")))))))))
C28: 21 | F28: =IFERROR(VLOOKUP(E28,Picklists!$D$3:$E$139,2,FALSE),"") | H28: =IF(F28="E",5,(IF(F28="D",4,(IF(F28="C",3,(IF(F28="B",2,(IF(F28="A",1,"")))))))))
C29: 22 | F29: =IFERROR(VLOOKUP(E29,Picklists!$D$3:$E$139,2,FALSE),"") | H29: =IF(F29="E",5,(IF(F29="D",4,(IF(F29="C",3,(IF(F29="B",2,(IF(F29="A",1,"")))))))))
C30: 23 | F30: =IFERROR(VLOOKUP(E30,Picklists!$D$3:$E$139,2,FALSE),"") | H30: =IF(F30="E",5,(IF(F30="D",4,(IF(F30="C",3,(IF(F30="B",2,(IF(F30="A",1,"")))))))))
C31: 24 | F31: =IFERROR(VLOOKUP(E31,Picklists!$D$3:$E$139,2,FALSE),"") | H31: =IF(F31="E",5,(IF(F31="D",4,(IF(F31="C",3,(IF(F31="B",2,(IF(F31="A",1,"")))))))))
C32: 25 | F32: =IFERROR(VLOOKUP(E32,Picklists!$D$3:$E$139,2,FALSE),"") | H32: =IF(F32="E",5,(IF(F32="D",4,(IF(F32="C",3,(IF(F32="B",2,(IF(F32="A",1,"")))))))))

Sheet 2 Other activities
B2: Aggregation, Schedule1 Part A(2) and Part B Activities, Medium combustion plant and Specified generators
C4: Organisation Name: | E4: =+Introduction!E10 -> Dairy Partners (Cymru Wales) Ltd
C5: Case Number: | E5: =+Introduction!K10 -> WP3231NB
C8: Schedule 1 Part A(1) - Rule 4 Aggregation Details (Chemical Industry only) Please contact your local NRW Industry Regulation Team if you need to use this rule
D9: Aggregation Group | E9: Description | F9: Schedule 1 Ref | G9: Complexity
C10: 1 | G10: =IFERROR(VLOOKUP(F10,Picklists!D33:E81,2),"")
C11: 2 | G11: =IFERROR(VLOOKUP(F11,Picklists!D34:E82,2),"")
C13: Rule 4 | F13: Not Applied
C15: List of EPR Schedule Part (A) 2, Part B, Medium Combustion Plant (MCP) and Specified Generator (SG) Activities included in the Installation
D16: Enter description of Activity | E16: Part A2 or Part B or Associated process (DAA) or MCP or SG | F16: EPR Schedule Reference
C17: 1
C18: 2
C19: 3
C20: 4
C21: 5
C22: 6
C23: 7
C24: 8
C25: 9
C26: 10
C27: 11
C28: 12
... C36: 20

Sheet 3 Complexities
D1: EPR- Installations Charging Scheme Complexity - Application of Rules | P1: Rule 6 | Q1: Rule 7
P2: This rule is applied if your site is >50Ha The first and highest complexity letter after any E will be increased by one - so a D would be come an E or a C would become a D or a B would become a C or an A would become a B | Q2: This rule is automatically applied if the number of complexities are >6. It drops the complexity by one band for the seventh and subsequent complexity scores
B3: Installation | D3: =+Introduction!E10 -> Dairy Partners (Cymru Wales) Ltd | G3: Rule 3 is applied when there are 4 or more of the identical Schedule reference and the same throughput band the complexity score is "*capped" | P3: Is the site >50 Ha? Please answer Y/N below
B4: Case number | D4: =+Introduction!K10 -> WP3231NB | P4: No
C5: Complexities transferred from 1 Listed activities tab | G5: Rule 3 capping applied but not sorted | L5: Rule 3 applied and sorted
B6: Former Permit Ref (if applicable) | C6: Description / Aggregation Group | D6: Schedule 1 Ref | E6: Complexity | G6: Description / Aggregation Group | H6: Schedule 1 Ref | I6: Complexity | J6: capped Unsorted | L6: Description / Aggregation Group | M6: Schedule 1 Ref | N6: Complexity | O6: capped sorted | P6: Rule 6 | Q6: Rule 7 | S6: e | T6: d | U6: c | V6: b | W6: a
B7: 1 | C7: =+'1 Listed activity'!D8 -> Treatment and processing on milk for the production of dairy products (mozzarella). | D7: =+'1 Listed activity'!E8 -> 6.8 Part A (1) e) | E7: =+'1 Listed activity'!F8 -> B | F7: =+B7 -> 1 | G7: {=_xlfn.SORTBY(C7:E36,D7:D36,-1)} -> Treatment and processing on milk for the production of dairy products (mozzarella). | H7: 6.8 Part A (1) e) | I7: B | J7: =IF(H7=0,"",IF(COUNTIF($H$7:H7,H7)>3,"*Capped",I7)) -> B | L7: {=_xlfn.SORTBY(G7:J36,J7:J36,-1)} -> Treatment and processing on milk for the production of dairy products (mozzarella). | M7: 6.8 Part A (1) e) | N7: B | O7: B | P7: =IF(O7="E","E",IF(AND(T7=1,$P$4="yes",O7="D"),"E",IF(AND(U7=1,$P$4="yes",O7="C"),"D",IF(AND(V7=1,$P$4="yes",O7="b"),"c",IF(AND(W7=1,$P$4="yes",O7="a"),"b",IF($P$4="no",O7,O7)))))) -> B | Q7: =IF(P7=0,"",IF(AND(F7>6,P7="E"),"D",IF(AND(F7>6,P7="D"),"C",IF(AND(F7>6,P7="C"),"B",IF(AND(F7>6,P7="B"),"A",P7))))) -> B | S7: =COUNTIF($O$7:O7,$S$6) -> 0 | T7: =COUNTIF($O$7:O7,$T$6) -> 0 | U7: =IF(T7=0,COUNTIF($O$7:O7,$U$6),0) -> 0 | V7: =IF(U7=0,COUNTIF($O$7:O7,$V$6),0) -> 1 | W7: =IF(V7=0,COUNTIF($O$7:O7,$W$6),0) -> 0
B8: 2 | C8: =+'1 Listed activity'!D9 -> Treatment of process effluent in the effluent treatment plant. | D8: =+'1 Listed activity'!E9 -> 5.4 Part A (1) a) (i) | E8: =+'1 Listed activity'!F9 -> A | F8: =+B8 -> 2 | G8: Treatment of process effluent in the effluent treatment plant. | H8: 5.4 Part A (1) a) (i) | I8: A | J8: =IF(H8=0,"",IF(COUNTIF($H$7:H8,H8)>3,"*Capped",I8)) -> A | L8: Treatment of process effluent in the effluent treatment plant. | M8: 5.4 Part A (1) a) (i) | N8: A | O8: A | P8: =IF(O8="E","E",IF(AND(T8=1,$P$4="yes",O8="D"),"E",IF(AND(U8=1,$P$4="yes",O8="C"),"D",IF(AND(V8=1,$P$4="yes",O8="b"),"c",IF(AND(W8=1,$P$4="yes",O8="a"),"b",IF($P$4="no",O8,O8)))))) -> A | Q8: =IF(P8=0,"",IF(AND(F8>6,P8="E"),"D",IF(AND(F8>6,P8="D"),"C",IF(AND(F8>6,P8="C"),"B",IF(AND(F8>6,P8="B"),"A",P8))))) -> A | S8: =COUNTIF($O$7:O8,$S$6) -> 0 | T8: =COUNTIF($O$7:O8,$T$6) -> 0 | U8: =IF(T8=0,COUNTIF($O$7:O8,$U$6),0) -> 0 | V8: =IF(U8=0,COUNTIF($O$7:O8,$V$6),0) -> 1 | W8: =IF(V8=0,COUNTIF($O$7:O8,$W$6),0) -> 0
B9: 3 | C9: =+'1 Listed activity'!D10 -> 0 | D9: =+'1 Listed activity'!E10 -> 0 | E9: =+'1 Listed activity'!F10 | F9: =+B9 -> 3 | G9: 0 | H9: 0 | J9: =IF(H9=0,"",IF(COUNTIF($H$7:H9,H9)>3,"*Capped",I9)) | L9: 0 | M9: 0 | P9: =IF(O9="E","E",IF(AND(T9=1,$P$4="yes",O9="D"),"E",IF(AND(U9=1,$P$4="yes",O9="C"),"D",IF(AND(V9=1,$P$4="yes",O9="b"),"c",IF(AND(W9=1,$P$4="yes",O9="a"),"b",IF($P$4="no",O9,O9)))))) | Q9: =IF(P9=0,"",IF(AND(F9>6,P9="E"),"D",IF(AND(F9>6,P9="D"),"C",IF(AND(F9>6,P9="C"),"B",IF(AND(F9>6,P9="B"),"A",P9))))) | S9: =COUNTIF($O$7:O9,$S$6) -> 0 | T9: =COUNTIF($O$7:O9,$T$6) -> 0 | U9: =IF(T9=0,COUNTIF($O$7:O9,$U$6),0) -> 0 | V9: =IF(U9=0,COUNTIF($O$7:O9,$V$6),0) -> 1 | W9: =IF(V9=0,COUNTIF($O$7:O9,$W$6),0) -> 0
B10: 4 | C10: =+'1 Listed activity'!D11 -> 0 | D10: =+'1 Listed activity'!E11 -> 0 | E10: =+'1 Listed activity'!F11 | F10: =+B10 -> 4 | G10: 0 | H10: 0 | J10: =IF(H10=0,"",IF(COUNTIF($H$7:H10,H10)>3,"*Capped",I10)) | L10: 0 | M10: 0 | P10: =IF(O10="E","E",IF(AND(T10=1,$P$4="yes",O10="D"),"E",IF(AND(U10=1,$P$4="yes",O10="C"),"D",IF(AND(V10=1,$P$4="yes",O10="b"),"c",IF(AND(W10=1,$P$4="yes",O10="a"),"b",IF($P$4="no",O10,O10)))))) | Q10: =IF(P10=0,"",IF(AND(F10>6,P10="E"),"D",IF(AND(F10>6,P10="D"),"C",IF(AND(F10>6,P10="C"),"B",IF(AND(F10>6,P10="B"),"A",P10))))) | S10: =COUNTIF($O$7:O10,$S$6) -> 0 | T10: =COUNTIF($O$7:O10,$T$6) -> 0 | U10: =IF(T10=0,COUNTIF($O$7:O10,$U$6),0) -> 0 | V10: =IF(U10=0,COUNTIF($O$7:O10,$V$6),0) -> 1 | W10: =IF(V10=0,COUNTIF($O$7:O10,$W$6),0) -> 0
B11: 5 | C11: =+'1 Listed activity'!D12 -> 0 | D11: =+'1 Listed activity'!E12 -> 0 | E11: =+'1 Listed activity'!F12 | F11: =+B11 -> 5 | G11: 0 | H11: 0 | J11: =IF(H11=0,"",IF(COUNTIF($H$7:H11,H11)>3,"*Capped",I11)) | L11: 0 | M11: 0 | P11: =IF(O11="E","E",IF(AND(T11=1,$P$4="yes",O11="D"),"E",IF(AND(U11=1,$P$4="yes",O11="C"),"D",IF(AND(V11=1,$P$4="yes",O11="b"),"c",IF(AND(W11=1,$P$4="yes",O11="a"),"b",IF($P$4="no",O11,O11)))))) | Q11: =IF(P11=0,"",IF(AND(F11>6,P11="E"),"D",IF(AND(F11>6,P11="D"),"C",IF(AND(F11>6,P11="C"),"B",IF(AND(F11>6,P11="B"),"A",P11))))) | S11: =COUNTIF($O$7:O11,$S$6) -> 0 | T11: =COUNTIF($O$7:O11,$T$6) -> 0 | U11: =IF(T11=0,COUNTIF($O$7:O11,$U$6),0) -> 0 | V11: =IF(U11=0,COUNTIF($O$7:O11,$V$6),0) -> 1 | W11: =IF(V11=0,COUNTIF($O$7:O11,$W$6),0) -> 0
B12: 6 | C12: =+'1 Listed activity'!D13 -> 0 | D12: =+'1 Listed activity'!E13 -> 0 | E12: =+'1 Listed activity'!F13 | F12: =+B12 -> 6 | G12: 0 | H12: 0 | J12: =IF(H12=0,"",IF(COUNTIF($H$7:H12,H12)>3,"*Capped",I12)) | L12: 0 | M12: 0 | P12: =IF(O12="E","E",IF(AND(T12=1,$P$4="yes",O12="D"),"E",IF(AND(U12=1,$P$4="yes",O12="C"),"D",IF(AND(V12=1,$P$4="yes",O12="b"),"c",IF(AND(W12=1,$P$4="yes",O12="a"),"b",IF($P$4="no",O12,O12)))))) | Q12: =IF(P12=0,"",IF(AND(F12>6,P12="E"),"D",IF(AND(F12>6,P12="D"),"C",IF(AND(F12>6,P12="C"),"B",IF(AND(F12>6,P12="B"),"A",P12))))) | S12: =COUNTIF($O$7:O12,$S$6) -> 0 | T12: =COUNTIF($O$7:O12,$T$6) -> 0 | U12: =IF(T12=0,COUNTIF($O$7:O12,$U$6),0) -> 0 | V12: =IF(U12=0,COUNTIF($O$7:O12,$V$6),0) -> 1 | W12: =IF(V12=0,COUNTIF($O$7:O12,$W$6),0) -> 0
B13: 7 | C13: =+'1 Listed activity'!D14 -> 0 | D13: =+'1 Listed activity'!E14 -> 0 | E13: =+'1 Listed activity'!F14 | F13: =+B13 -> 7 | G13: 0 | H13: 0 | J13: =IF(H13=0,"",IF(COUNTIF($H$7:H13,H13)>3,"*Capped",I13)) | L13: 0 | M13: 0 | P13: =IF(O13="E","E",IF(AND(T13=1,$P$4="yes",O13="D"),"E",IF(AND(U13=1,$P$4="yes",O13="C"),"D",IF(AND(V13=1,$P$4="yes",O13="b"),"c",IF(AND(W13=1,$P$4="yes",O13="a"),"b",IF($P$4="no",O13,O13)))))) | Q13: =IF(P13=0,"",IF(AND(F13>6,P13="E"),"D",IF(AND(F13>6,P13="D"),"C",IF(AND(F13>6,P13="C"),"B",IF(AND(F13>6,P13="B"),"A",P13))))) | S13: =COUNTIF($O$7:O13,$S$6) -> 0 | T13: =COUNTIF($O$7:O13,$T$6) -> 0 | U13: =IF(T13=0,COUNTIF($O$7:O13,$U$6),0) -> 0 | V13: =IF(U13=0,COUNTIF($O$7:O13,$V$6),0) -> 1 | W13: =IF(V13=0,COUNTIF($O$7:O13,$W$6),0) -> 0
B14: 8 | C14: =+'1 Listed activity'!D15 -> 0 | D14: =+'1 Listed activity'!E15 -> 0 | E14: =+'1 Listed activity'!F15 | F14: =+B14 -> 8 | G14: 0 | H14: 0 | J14: =IF(H14=0,"",IF(COUNTIF($H$7:H14,H14)>3,"*Capped",I14)) | L14: 0 | M14: 0 | P14: =IF(O14="E","E",IF(AND(T14=1,$P$4="yes",O14="D"),"E",IF(AND(U14=1,$P$4="yes",O14="C"),"D",IF(AND(V14=1,$P$4="yes",O14="b"),"c",IF(AND(W14=1,$P$4="yes",O14="a"),"b",IF($P$4="no",O14,O14)))))) | Q14: =IF(P14=0,"",IF(AND(F14>6,P14="E"),"D",IF(AND(F14>6,P14="D"),"C",IF(AND(F14>6,P14="C"),"B",IF(AND(F14>6,P14="B"),"A",P14))))) | S14: =COUNTIF($O$7:O14,$S$6) -> 0 | T14: =COUNTIF($O$7:O14,$T$6) -> 0 | U14: =IF(T14=0,COUNTIF($O$7:O14,$U$6),0) -> 0 | V14: =IF(U14=0,COUNTIF($O$7:O14,$V$6),0) -> 1 | W14: =IF(V14=0,COUNTIF($O$7:O14,$W$6),0) -> 0
B15: 9 | C15: =+'1 Listed activity'!D16 -> 0 | D15: =+'1 Listed activity'!E16 -> 0 | E15: =+'1 Listed activity'!F16 | F15: =+B15 -> 9 | G15: 0 | H15: 0 | J15: =IF(H15=0,"",IF(COUNTIF($H$7:H15,H15)>3,"*Capped",I15)) | L15: 0 | M15: 0 | P15: =IF(O15="E","E",IF(AND(T15=1,$P$4="yes",O15="D"),"E",IF(AND(U15=1,$P$4="yes",O15="C"),"D",IF(AND(V15=1,$P$4="yes",O15="b"),"c",IF(AND(W15=1,$P$4="yes",O15="a"),"b",IF($P$4="no",O15,O15)))))) | Q15: =IF(P15=0,"",IF(AND(F15>6,P15="E"),"D",IF(AND(F15>6,P15="D"),"C",IF(AND(F15>6,P15="C"),"B",IF(AND(F15>6,P15="B"),"A",P15))))) | S15: =COUNTIF($O$7:O15,$S$6) -> 0 | T15: =COUNTIF($O$7:O15,$T$6) -> 0 | U15: =IF(T15=0,COUNTIF($O$7:O15,$U$6),0) -> 0 | V15: =IF(U15=0,COUNTIF($O$7:O15,$V$6),0) -> 1 | W15: =IF(V15=0,COUNTIF($O$7:O15,$W$6),0) -> 0
B16: 10 | C16: =+'1 Listed activity'!D17 -> 0 | D16: =+'1 Listed activity'!E17 -> 0 | E16: =+'1 Listed activity'!F17 | F16: =+B16 -> 10 | G16: 0 | H16: 0 | J16: =IF(H16=0,"",IF(COUNTIF($H$7:H16,H16)>3,"*Capped",I16)) | L16: 0 | M16: 0 | P16: =IF(O16="E","E",IF(AND(T16=1,$P$4="yes",O16="D"),"E",IF(AND(U16=1,$P$4="yes",O16="C"),"D",IF(AND(V16=1,$P$4="yes",O16="b"),"c",IF(AND(W16=1,$P$4="yes",O16="a"),"b",IF($P$4="no",O16,O16)))))) | Q16: =IF(P16=0,"",IF(AND(F16>6,P16="E"),"D",IF(AND(F16>6,P16="D"),"C",IF(AND(F16>6,P16="C"),"B",IF(AND(F16>6,P16="B"),"A",P16))))) | S16: =COUNTIF($O$7:O16,$S$6) -> 0 | T16: =COUNTIF($O$7:O16,$T$6) -> 0 | U16: =IF(T16=0,COUNTIF($O$7:O16,$U$6),0) -> 0 | V16: =IF(U16=0,COUNTIF($O$7:O16,$V$6),0) -> 1 | W16: =IF(V16=0,COUNTIF($O$7:O16,$W$6),0) -> 0
B17: 11 | C17: =+'1 Listed activity'!D18 -> 0 | D17: =+'1 Listed activity'!E18 -> 0 | E17: =+'1 Listed activity'!F18 | F17: =+B17 -> 11 | G17: 0 | H17: 0 | J17: =IF(H17=0,"",IF(COUNTIF($H$7:H17,H17)>3,"*Capped",I17)) | L17: 0 | M17: 0 | P17: =IF(O17="E","E",IF(AND(T17=1,$P$4="yes",O17="D"),"E",IF(AND(U17=1,$P$4="yes",O17="C"),"D",IF(AND(V17=1,$P$4="yes",O17="b"),"c",IF(AND(W17=1,$P$4="yes",O17="a"),"b",IF($P$4="no",O17,O17)))))) | Q17: =IF(P17=0,"",IF(AND(F17>6,P17="E"),"D",IF(AND(F17>6,P17="D"),"C",IF(AND(F17>6,P17="C"),"B",IF(AND(F17>6,P17="B"),"A",P17))))) | S17: =COUNTIF($O$7:O17,$S$6) -> 0 | T17: =COUNTIF($O$7:O17,$T$6) -> 0 | U17: =IF(T17=0,COUNTIF($O$7:O17,$U$6),0) -> 0 | V17: =IF(U17=0,COUNTIF($O$7:O17,$V$6),0) -> 1 | W17: =IF(V17=0,COUNTIF($O$7:O17,$W$6),0) -> 0
B18: 12 | C18: =+'1 Listed activity'!D19 -> 0 | D18: =+'1 Listed activity'!E19 -> 0 | E18: =+'1 Listed activity'!F19 | F18: =+B18 -> 12 | G18: 0 | H18: 0 | J18: =IF(H18=0,"",IF(COUNTIF($H$7:H18,H18)>3,"*Capped",I18)) | L18: 0 | M18: 0 | P18: =IF(O18="E","E",IF(AND(T18=1,$P$4="yes",O18="D"),"E",IF(AND(U18=1,$P$4="yes",O18="C"),"D",IF(AND(V18=1,$P$4="yes",O18="b"),"c",IF(AND(W18=1,$P$4="yes",O18="a"),"b",IF($P$4="no",O18,O18)))))) | Q18: =IF(P18=0,"",IF(AND(F18>6,P18="E"),"D",IF(AND(F18>6,P18="D"),"C",IF(AND(F18>6,P18="C"),"B",IF(AND(F18>6,P18="B"),"A",P18))))) | S18: =COUNTIF($O$7:O18,$S$6) -> 0 | T18: =COUNTIF($O$7:O18,$T$6) -> 0 | U18: =IF(T18=0,COUNTIF($O$7:O18,$U$6),0) -> 0 | V18: =IF(U18=0,COUNTIF($O$7:O18,$V$6),0) -> 1 | W18: =IF(V18=0,COUNTIF($O$7:O18,$W$6),0) -> 0
B19: 13 | C19: =+'1 Listed activity'!D20 -> 0 | D19: =+'1 Listed activity'!E20 -> 0 | E19: =+'1 Listed activity'!F20 | F19: =+B19 -> 13 | G19: 0 | H19: 0 | J19: =IF(H19=0,"",IF(COUNTIF($H$7:H19,H19)>3,"*Capped",I19)) | L19: 0 | M19: 0 | P19: =IF(O19="E","E",IF(AND(T19=1,$P$4="yes",O19="D"),"E",IF(AND(U19=1,$P$4="yes",O19="C"),"D",IF(AND(V19=1,$P$4="yes",O19="b"),"c",IF(AND(W19=1,$P$4="yes",O19="a"),"b",IF($P$4="no",O19,O19)))))) | Q19: =IF(P19=0,"",IF(AND(F19>6,P19="E"),"D",IF(AND(F19>6,P19="D"),"C",IF(AND(F19>6,P19="C"),"B",IF(AND(F19>6,P19="B"),"A",P19))))) | S19: =COUNTIF($O$7:O19,$S$6) -> 0 | T19: =COUNTIF($O$7:O19,$T$6) -> 0 | U19: =IF(T19=0,COUNTIF($O$7:O19,$U$6),0) -> 0 | V19: =IF(U19=0,COUNTIF($O$7:O19,$V$6),0) -> 1 | W19: =IF(V19=0,COUNTIF($O$7:O19,$W$6),0) -> 0
B20: 14 | F20: =+B20 -> 14 | G20: 0 | H20: 0 | I20: 0 | J20: =IF(H20=0,"",IF(COUNTIF($H$7:H20,H20)>3,"*Capped",I20)) | L20: 0 | M20: 0 | N20: 0 | P20: =IF(O20="E","E",IF(AND(T20=1,$P$4="yes",O20="D"),"E",IF(AND(U20=1,$P$4="yes",O20="C"),"D",IF(AND(V20=1,$P$4="yes",O20="b"),"c",IF(AND(W20=1,$P$4="yes",O20="a"),"b",IF($P$4="no",O20,O20)))))) | Q20: =IF(P20=0,"",IF(AND(F20>6,P20="E"),"D",IF(AND(F20>6,P20="D"),"C",IF(AND(F20>6,P20="C"),"B",IF(AND(F20>6,P20="B"),"A",P20))))) | S20: =COUNTIF($O$7:O20,$S$6) -> 0 | T20: =COUNTIF($O$7:O20,$T$6) -> 0 | U20: =IF(T20=0,COUNTIF($O$7:O20,$U$6),0) -> 0 | V20: =IF(U20=0,COUNTIF($O$7:O20,$V$6),0) -> 1 | W20: =IF(V20=0,COUNTIF($O$7:O20,$W$6),0) -> 0
B21: 15 | F21: =+B21 -> 15 | G21: 0 | H21: 0 | I21: 0 | J21: =IF(H21=0,"",IF(COUNTIF($H$7:H21,H21)>3,"*Capped",I21)) | L21: 0 | M21: 0 | N21: 0 | P21: =IF(O21="E","E",IF(AND(T21=1,$P$4="yes",O21="D"),"E",IF(AND(U21=1,$P$4="yes",O21="C"),"D",IF(AND(V21=1,$P$4="yes",O21="b"),"c",IF(AND(W21=1,$P$4="yes",O21="a"),"b",IF($P$4="no",O21,O21)))))) | Q21: =IF(P21=0,"",IF(AND(F21>6,P21="E"),"D",IF(AND(F21>6,P21="D"),"C",IF(AND(F21>6,P21="C"),"B",IF(AND(F21>6,P21="B"),"A",P21))))) | S21: =COUNTIF($O$7:O21,$S$6) -> 0 | T21: =COUNTIF($O$7:O21,$T$6) -> 0 | U21: =IF(T21=0,COUNTIF($O$7:O21,$U$6),0) -> 0 | V21: =IF(U21=0,COUNTIF($O$7:O21,$V$6),0) -> 1 | W21: =IF(V21=0,COUNTIF($O$7:O21,$W$6),0) -> 0
B22: 16 | F22: =+B22 -> 16 | G22: 0 | H22: 0 | I22: 0 | J22: =IF(H22=0,"",IF(COUNTIF($H$7:H22,H22)>3,"*Capped",I22)) | L22: 0 | M22: 0 | N22: 0 | P22: =IF(O22="E","E",IF(AND(T22=1,$P$4="yes",O22="D"),"E",IF(AND(U22=1,$P$4="yes",O22="C"),"D",IF(AND(V22=1,$P$4="yes",O22="b"),"c",IF(AND(W22=1,$P$4="yes",O22="a"),"b",IF($P$4="no",O22,O22)))))) | Q22: =IF(P22=0,"",IF(AND(F22>6,P22="E"),"D",IF(AND(F22>6,P22="D"),"C",IF(AND(F22>6,P22="C"),"B",IF(AND(F22>6,P22="B"),"A",P22))))) | S22: =COUNTIF($O$7:O22,$S$6) -> 0 | T22: =COUNTIF($O$7:O22,$T$6) -> 0 | U22: =IF(T22=0,COUNTIF($O$7:O22,$U$6),0) -> 0 | V22: =IF(U22=0,COUNTIF($O$7:O22,$V$6),0) -> 1 | W22: =IF(V22=0,COUNTIF($O$7:O22,$W$6),0) -> 0
B23: 17 | F23: =+B23 -> 17 | G23: 0 | H23: 0 | I23: 0 | J23: =IF(H23=0,"",IF(COUNTIF($H$7:H23,H23)>3,"*Capped",I23)) | L23: 0 | M23: 0 | N23: 0 | P23: =IF(O23="E","E",IF(AND(T23=1,$P$4="yes",O23="D"),"E",IF(AND(U23=1,$P$4="yes",O23="C"),"D",IF(AND(V23=1,$P$4="yes",O23="b"),"c",IF(AND(W23=1,$P$4="yes",O23="a"),"b",IF($P$4="no",O23,O23)))))) | Q23: =IF(P23=0,"",IF(AND(F23>6,P23="E"),"D",IF(AND(F23>6,P23="D"),"C",IF(AND(F23>6,P23="C"),"B",IF(AND(F23>6,P23="B"),"A",P23))))) | S23: =COUNTIF($O$7:O23,$S$6) -> 0 | T23: =COUNTIF($O$7:O23,$T$6) -> 0 | U23: =IF(T23=0,COUNTIF($O$7:O23,$U$6),0) -> 0 | V23: =IF(U23=0,COUNTIF($O$7:O23,$V$6),0) -> 1 | W23: =IF(V23=0,COUNTIF($O$7:O23,$W$6),0) -> 0
B24: 18 | F24: =+B24 -> 18 | G24: 0 | H24: 0 | I24: 0 | J24: =IF(H24=0,"",IF(COUNTIF($H$7:H24,H24)>3,"*Capped",I24)) | L24: 0 | M24: 0 | N24: 0 | P24: =IF(O24="E","E",IF(AND(T24=1,$P$4="yes",O24="D"),"E",IF(AND(U24=1,$P$4="yes",O24="C"),"D",IF(AND(V24=1,$P$4="yes",O24="b"),"c",IF(AND(W24=1,$P$4="yes",O24="a"),"b",IF($P$4="no",O24,O24)))))) | Q24: =IF(P24=0,"",IF(AND(F24>6,P24="E"),"D",IF(AND(F24>6,P24="D"),"C",IF(AND(F24>6,P24="C"),"B",IF(AND(F24>6,P24="B"),"A",P24))))) | S24: =COUNTIF($O$7:O24,$S$6) -> 0 | T24: =COUNTIF($O$7:O24,$T$6) -> 0 | U24: =IF(T24=0,COUNTIF($O$7:O24,$U$6),0) -> 0 | V24: =IF(U24=0,COUNTIF($O$7:O24,$V$6),0) -> 1 | W24: =IF(V24=0,COUNTIF($O$7:O24,$W$6),0) -> 0
B25: 19 | F25: =+B25 -> 19 | G25: 0 | H25: 0 | I25: 0 | J25: =IF(H25=0,"",IF(COUNTIF($H$7:H25,H25)>3,"*Capped",I25)) | L25: 0 | M25: 0 | N25: 0 | P25: =IF(O25="E","E",IF(AND(T25=1,$P$4="yes",O25="D"),"E",IF(AND(U25=1,$P$4="yes",O25="C"),"D",IF(AND(V25=1,$P$4="yes",O25="b"),"c",IF(AND(W25=1,$P$4="yes",O25="a"),"b",IF($P$4="no",O25,O25)))))) | Q25: =IF(P25=0,"",IF(AND(F25>6,P25="E"),"D",IF(AND(F25>6,P25="D"),"C",IF(AND(F25>6,P25="C"),"B",IF(AND(F25>6,P25="B"),"A",P25))))) | S25: =COUNTIF($O$7:O25,$S$6) -> 0 | T25: =COUNTIF($O$7:O25,$T$6) -> 0 | U25: =IF(T25=0,COUNTIF($O$7:O25,$U$6),0) -> 0 | V25: =IF(U25=0,COUNTIF($O$7:O25,$V$6),0) -> 1 | W25: =IF(V25=0,COUNTIF($O$7:O25,$W$6),0) -> 0
B26: 20 | F26: =+B26 -> 20 | G26: 0 | H26: 0 | I26: 0 | J26: =IF(H26=0,"",IF(COUNTIF($H$7:H26,H26)>3,"*Capped",I26)) | L26: 0 | M26: 0 | N26: 0 | P26: =IF(O26="E","E",IF(AND(T26=1,$P$4="yes",O26="D"),"E",IF(AND(U26=1,$P$4="yes",O26="C"),"D",IF(AND(V26=1,$P$4="yes",O26="b"),"c",IF(AND(W26=1,$P$4="yes",O26="a"),"b",IF($P$4="no",O26,O26)))))) | Q26: =IF(P26=0,"",IF(AND(F26>6,P26="E"),"D",IF(AND(F26>6,P26="D"),"C",IF(AND(F26>6,P26="C"),"B",IF(AND(F26>6,P26="B"),"A",P26))))) | S26: =COUNTIF($O$7:O26,$S$6) -> 0 | T26: =COUNTIF($O$7:O26,$T$6) -> 0 | U26: =IF(T26=0,COUNTIF($O$7:O26,$U$6),0) -> 0 | V26: =IF(U26=0,COUNTIF($O$7:O26,$V$6),0) -> 1 | W26: =IF(V26=0,COUNTIF($O$7:O26,$W$6),0) -> 0
B27: 21 | F27: =+B27 -> 21 | G27: 0 | H27: 0 | I27: 0 | J27: =IF(H27=0,"",IF(COUNTIF($H$7:H27,H27)>3,"*Capped",I27)) | L27: 0 | M27: 0 | N27: 0 | P27: =IF(O27="E","E",IF(AND(T27=1,$P$4="yes",O27="D"),"E",IF(AND(U27=1,$P$4="yes",O27="C"),"D",IF(AND(V27=1,$P$4="yes",O27="b"),"c",IF(AND(W27=1,$P$4="yes",O27="a"),"b",IF($P$4="no",O27,O27)))))) | Q27: =IF(P27=0,"",IF(AND(F27>6,P27="E"),"D",IF(AND(F27>6,P27="D"),"C",IF(AND(F27>6,P27="C"),"B",IF(AND(F27>6,P27="B"),"A",P27))))) | S27: =COUNTIF($O$7:O27,$S$6) -> 0 | T27: =COUNTIF($O$7:O27,$T$6) -> 0 | U27: =IF(T27=0,COUNTIF($O$7:O27,$U$6),0) -> 0 | V27: =IF(U27=0,COUNTIF($O$7:O27,$V$6),0) -> 1 | W27: =IF(V27=0,COUNTIF($O$7:O27,$W$6),0) -> 0
B28: 22 | F28: =+B28 -> 22 | G28: 0 | H28: 0 | I28: 0 | J28: =IF(H28=0,"",IF(COUNTIF($H$7:H28,H28)>3,"*Capped",I28)) | L28: 0 | M28: 0 | N28: 0 | P28: =IF(O28="E","E",IF(AND(T28=1,$P$4="yes",O28="D"),"E",IF(AND(U28=1,$P$4="yes",O28="C"),"D",IF(AND(V28=1,$P$4="yes",O28="b"),"c",IF(AND(W28=1,$P$4="yes",O28="a"),"b",IF($P$4="no",O28,O28)))))) | Q28: =IF(P28=0,"",IF(AND(F28>6,P28="E"),"D",IF(AND(F28>6,P28="D"),"C",IF(AND(F28>6,P28="C"),"B",IF(AND(F28>6,P28="B"),"A",P28))))) | S28: =COUNTIF($O$7:O28,$S$6) -> 0 | T28: =COUNTIF($O$7:O28,$T$6) -> 0 | U28: =IF(T28=0,COUNTIF($O$7:O28,$U$6),0) -> 0 | V28: =IF(U28=0,COUNTIF($O$7:O28,$V$6),0) -> 1 | W28: =IF(V28=0,COUNTIF($O$7:O28,$W$6),0) -> 0
B29: 23 | F29: =+B29 -> 23 | G29: 0 | H29: 0 | I29: 0 | J29: =IF(H29=0,"",IF(COUNTIF($H$7:H29,H29)>3,"*Capped",I29)) | L29: 0 | M29: 0 | N29: 0 | P29: =IF(O29="E","E",IF(AND(T29=1,$P$4="yes",O29="D"),"E",IF(AND(U29=1,$P$4="yes",O29="C"),"D",IF(AND(V29=1,$P$4="yes",O29="b"),"c",IF(AND(W29=1,$P$4="yes",O29="a"),"b",IF($P$4="no",O29,O29)))))) | Q29: =IF(P29=0,"",IF(AND(F29>6,P29="E"),"D",IF(AND(F29>6,P29="D"),"C",IF(AND(F29>6,P29="C"),"B",IF(AND(F29>6,P29="B"),"A",P29))))) | S29: =COUNTIF($O$7:O29,$S$6) -> 0 | T29: =COUNTIF($O$7:O29,$T$6) -> 0 | U29: =IF(T29=0,COUNTIF($O$7:O29,$U$6),0) -> 0 | V29: =IF(U29=0,COUNTIF($O$7:O29,$V$6),0) -> 1 | W29: =IF(V29=0,COUNTIF($O$7:O29,$W$6),0) -> 0
B30: 24 | F30: =+B30 -> 24 | G30: 0 | H30: 0 | I30: 0 | J30: =IF(H30=0,"",IF(COUNTIF($H$7:H30,H30)>3,"*Capped",I30)) | L30: 0 | M30: 0 | N30: 0 | P30: =IF(O30="E","E",IF(AND(T30=1,$P$4="yes",O30="D"),"E",IF(AND(U30=1,$P$4="yes",O30="C"),"D",IF(AND(V30=1,$P$4="yes",O30="b"),"c",IF(AND(W30=1,$P$4="yes",O30="a"),"b",IF($P$4="no",O30,O30)))))) | Q30: =IF(P30=0,"",IF(AND(F30>6,P30="E"),"D",IF(AND(F30>6,P30="D"),"C",IF(AND(F30>6,P30="C"),"B",IF(AND(F30>6,P30="B"),"A",P30))))) | S30: =COUNTIF($O$7:O30,$S$6) -> 0 | T30: =COUNTIF($O$7:O30,$T$6) -> 0 | U30: =IF(T30=0,COUNTIF($O$7:O30,$U$6),0) -> 0 | V30: =IF(U30=0,COUNTIF($O$7:O30,$V$6),0) -> 1 | W30: =IF(V30=0,COUNTIF($O$7:O30,$W$6),0) -> 0
B31: 25 | F31: =+B31 -> 25 | G31: 0 | H31: 0 | I31: 0 | J31: =IF(H31=0,"",IF(COUNTIF($H$7:H31,H31)>3,"*Capped",I31)) | L31: 0 | M31: 0 | N31: 0 | P31: =IF(O31="E","E",IF(AND(T31=1,$P$4="yes",O31="D"),"E",IF(AND(U31=1,$P$4="yes",O31="C"),"D",IF(AND(V31=1,$P$4="yes",O31="b"),"c",IF(AND(W31=1,$P$4="yes",O31="a"),"b",IF($P$4="no",O31,O31)))))) | Q31: =IF(P31=0,"",IF(AND(F31>6,P31="E"),"D",IF(AND(F31>6,P31="D"),"C",IF(AND(F31>6,P31="C"),"B",IF(AND(F31>6,P31="B"),"A",P31))))) | S31: =COUNTIF($O$7:O31,$S$6) -> 0 | T31: =COUNTIF($O$7:O31,$T$6) -> 0 | U31: =IF(T31=0,COUNTIF($O$7:O31,$U$6),0) -> 0 | V31: =IF(U31=0,COUNTIF($O$7:O31,$V$6),0) -> 1 | W31: =IF(V31=0,COUNTIF($O$7:O31,$W$6),0) -> 0
... B36: 30 | F36: =+B36 -> 30 | G36: 0 | H36: 0 | I36: 0 | J36: =IF(H36=0,"",IF(COUNTIF($H$7:H36,H36)>3,"*Capped",I36)) | L36: 0 | M36: 0 | N36: 0 | P36: =IF(O36="E","E",IF(AND(T36=1,$P$4="yes",O36="D"),"E",IF(AND(U36=1,$P$4="yes",O36="C"),"D",IF(AND(V36=1,$P$4="yes",O36="b"),"c",IF(AND(W36=1,$P$4="yes",O36="a"),"b",IF($P$4="no",O36,O36)))))) | Q36: =IF(P36=0,"",IF(AND(F36>6,P36="E"),"D",IF(AND(F36>6,P36="D"),"C",IF(AND(F36>6,P36="C"),"B",IF(AND(F36>6,P36="B"),"A",P36))))) | S36: =COUNTIF($O$7:O36,$S$6) -> 0 | T36: =COUNTIF($O$7:O36,$T$6) -> 0 | U36: =IF(T36=0,COUNTIF($O$7:O36,$U$6),0) -> 0 | V36: =IF(U36=0,COUNTIF($O$7:O36,$V$6),0) -> 1 | W36: =IF(V36=0,COUNTIF($O$7:O36,$W$6),0) -> 0
C41: Summary of Rules Applied | E41: Status | F41: These totals will be carried forward and used to calculate the Opra Risk Summary and Calculation of Charges
C42: Rule 3 | D42: =IF(COUNTIF(O7:O36,"*capped"),"Yes","no") -> no
C43: Rule 4 | D43: No
C44: Rule 5 | D44: N/A
C45: Rule 6 | D45: =+P4 -> No | E45: =IF(P4=0,"Incomplete","Complete") -> Complete
C46: Rule 7 | D46: =IF(AND(F13>6,Q13="e"),"Yes",IF(AND(F13>6,Q13="d"),"C",IF(AND(F13>6,Q13="c"),"Yes",IF(AND(F13>6,Q13,Q13="b"),"Yes",IF(AND(F13>6,Q13,Q13="a"),"Yes","No"))))) -> No
C48: Scores after Rules applied (Used for calculation of Charges) | G48: Scores before rules applied (Used for summary of Risk)
B49: Complexity | C49: First 6 Complexities | D49: Remaining complexities | E49: Total
B50: A | C50: =COUNTIF(Q$7:Q$12,B50) -> 1 | D50: =COUNTIF(Q$13:Q$36,B50) -> 0 | E50: =C50+D50 -> 1 | G50: =COUNTIF(E$7:E$37,"A") -> 1
B51: B | C51: =COUNTIF(Q$7:Q$12,B51) -> 1 | D51: =COUNTIF(Q$13:Q$36,B51) -> 0 | E51: =C51+D51 -> 1 | G51: =COUNTIF(E$7:E$37,"B") -> 1
B52: C | C52: =COUNTIF(Q$7:Q$12,B52) -> 0 | D52: =COUNTIF(Q$13:Q$36,B52) -> 0 | E52: =C52+D52 -> 0 | G52: =COUNTIF(E$7:E$37,"C") -> 0
B53: D | C53: =COUNTIF(Q$7:Q$12,B53) -> 0 | D53: =COUNTIF(Q$13:Q$36,B53) -> 0 | E53: =C53+D53 -> 0 | G53: =COUNTIF(E$7:E$37,"D") -> 0
B54: E | C54: =COUNTIF(Q$7:Q$12,B54) -> 0 | D54: =COUNTIF(Q$13:Q$36,B54) -> 0 | E54: =C54+D54 -> 0 | G54: =COUNTIF(E$7:E$37,"E") -> 0
B55: *Capped | C55: =COUNTIF(Q$7:Q$12,B55) -> 0 | D55: =COUNTIF(Q$13:Q$36,B55) -> 0 | E55: =C55+D55 -> 0

Sheet 4 Air
C2: Emissions Attribute - Releases to Air
C4: Installation Name: | D4: =+Introduction!E10 -> Dairy Partners (Cymru Wales) Ltd | H4: Please check that the data is entered in the correct units. The Emission Index will only show if the data entered exceeds the threshold.
C5: Case Number: | D5: =+Introduction!K10 -> WP3231NB
C6: Please tick box if this sheet is applicable
C7: Substance | D7: Units | E7: Emission Threshold | F7: Maximum Quantity | G7: Emission Index | H7: Notes
C8: Oxides of Sulphur | D8: Tonnes Year | E8: 10 | G8: =IF(F8/E8<1,0,(F8/E8)) -> 0
C9: Oxides of Nitrogen | D9: Tonnes Year | E9: 10 | G9: =IF(F9/E9<1,0,(F9/E9)) -> 0
C10: Carbon Monoxide | D10: Tonnes Year | E10: 1000 | G10: =IF(F10/E10<1,0,(F10/E10)) -> 0
C13: Beryllium | D13: Kg year | E13: 1 | G13: =IF(F13/E13<1,0,(F13/E13)) -> 0
C14: Cadmium | D14: Kg year | E14: 1 | G14: =IF(F14/E14<1,0,(F14/E14)) -> 0
C15: Lead | D15: Kg year | E15: 1 | G15: =IF(F15/E15<1,0,(F15/E15)) -> 0
C16: Mercury | D16: Kg year | E16: 1 | G16: =IF(F16/E16<1,0,(F16/E16)) -> 0
C18: Antimony | D18: Kg year | E18: 10 | G18: =IF(F18/E18<1,0,(F18/E18)) -> 0
C19: Arsenic | D19: Kg year | E19: 10 | G19: =IF(F19/E19<1,0,(F19/E19)) -> 0
C20: Chromium | D20: Kg year | E20: 10 | G20: =IF(F20/E20<1,0,(F20/E20)) -> 0
C21: Nickel | D21: Kg year | E21: 10 | G21: =IF(F21/E21<1,0,(F21/E21)) -> 0
C22: Selenium | D22: Kg year | E22: 10 | G22: =IF(F22/E22<1,0,(F22/E22)) -> 0
C24: Other Metals Specify
D25: Kg year | E25: 100 | G25: =IF(F25/E25<1,0,(F25/E25)) -> 0
D26: Kg year | E26: 100 | G26: =IF(F26/E26<1,0,(F26/E26)) -> 0
D27: Kg year | E27: 100 | G27: =IF(F27/E27<1,0,(F27/E27)) -> 0
D28: Kg year | E28: 100 | G28: =IF(F28/E28<1,0,(F28/E28)) -> 0
D29: Kg year | E29: 100 | G29: =IF(F29/E29<1,0,(F29/E29)) -> 0
C31: Organic Compounds
C32: Dioxins and Furans | D32: mg TEQ year | E32: 0.1 | G32: =IF(F32/E32<1,0,(F32/E32)) -> 0
C33: PCBs | D33: mg TEF year | E33: 0.1 | G33: =IF(F33/E33<1,0,(F33/E33)) -> 0
C35: PAHs as benzo(a)pyrene | D35: Kg year | E35: 1 | G35: =IF(F35/E35<1,0,(F35/E35)) -> 0
C36: Phosgene | D36: Kg year | E36: 1 | G36: =IF(F36/E36<1,0,(F36/E36)) -> 0
C37: Isocyanates | D37: Kg year | E37: 1 | G37: =IF(F37/E37<1,0,(F37/E37)) -> 0
C38: Di-ethyl sulphate | D38: Kg year | E38: 1 | G38: =IF(F38/E38<1,0,(F38/E38)) -> 0
C39: Di-methyl sulphate | D39: Kg year | E39: 1 | G39: =IF(F39/E39<1,0,(F39/E39)) -> 0
C41: Acrylonitrile | D41: Kg year | E41: 10 | G41: =IF(F41/E41<1,0,(F41/E41)) -> 0
C42: Aniline | D42: Kg year | E42: 10 | G42: =IF(F42/E42<1,0,(F42/E42)) -> 0
C43: Benzene | D43: Kg year | E43: 10 | G43: =IF(F43/E43<1,0,(F43/E43)) -> 0
C44: Benzyl Chloride | D44: Kg year | E44: 10 | G44: =IF(F44/E44<1,0,(F44/E44)) -> 0
C45: 1-chloro-2,3-epoxypropane | D45: Kg year | E45: 10 | G45: =IF(F45/E45<1,0,(F45/E45)) -> 0
... C73: PFC's | D73: Kg year | E73: 100 | G73: =IF(F73/E73<1,0,(F73/E73)) -> 0
D74: Kg year
C75: Benzaldehyde | D75: Kg year | E75: 500 | G75: =IF(F75/E75<1,0,(F75/E75)) -> 0
C76: Benzo(a)pyrene | D76: Kg year | E76: 500 | G76: =IF(F76/E76<1,0,(F76/E76)) -> 0
C77: Butene | D77: Kg year | E77: 500 | G77: =IF(F77/E77<1,0,(F77/E77)) -> 0
C78: Chloromethane | D78: Kg year | E78: 500 | G78: =IF(F78/E78<1,0,(F78/E78)) -> 0
C79: 1,4-dichlorobenzene | D79: Kg year | E79: 500 | G79: =IF(F79/E79<1,0,(F79/E79)) -> 0
C80: Dichloromethane | D80: Kg year | E80: 500 | G80: =IF(F80/E80<1,0,(F80/E80)) -> 0
C81: Ethyl toluene | D81: Kg year | E81: 500 | G81: =IF(F81/E81<1,0,(F81/E81)) -> 0
C82: Ethylene | D82: Kg year | E82: 500 | G82: =IF(F82/E82<1,0,(F82/E82)) -> 0
C83: i-butyraldehyde | D83: Kg year | E83: 500 | G83: =IF(F83/E83<1,0,(F83/E83)) -> 0
C84: Methyl bromide | D84: Kg year | E84: 500 | G84: =IF(F84/E84<1,0,(F84/E84)) -> 0
C85: Pentene | D85: Kg year | E85: 500 | G85: =IF(F85/E85<1,0,(F85/E85)) -> 0
C86: Propene | D86: Kg year | E86: 500 | G86: =IF(F86/E86<1,0,(F86/E86)) -> 0
... C95: Xylene | D95: Kg year | E95: 500 | G95: =IF(F95/E95<1,0,(F95/E95)) -> 0
C98: Other VOCs specify
D99: Kg year | E99: 1000 | G99: =IF(F99/E99<1,0,(F99/E99)) -> 0
D100: Kg year | E100: 1000 | G100: =IF(F100/E100<1,0,(F100/E100)) -> 0
D101: Kg year | E101: 1000 | G101: =IF(F101/E101<1,0,(F101/E101)) -> 0
D102: Kg year | E102: 1000 | G102: =IF(F102/E102<1,0,(F102/E102)) -> 0
D103: Kg year | E103: 1000 | G103: =IF(F103/E103<1,0,(F103/E103)) -> 0
C104: Inorganics
C105: Fluorine | D105: Kg year | E105: 10 | G105: =IF(F105/E105<1,0,(F105/E105)) -> 0
C106: Chlorine | D106: Kg year | E106: 10 | G106: =IF(F106/E106<1,0,(F106/E106)) -> 0
C107: Bromine | D107: Kg year | E107: 10 | G107: =IF(F107/E107<1,0,(F107/E107)) -> 0
C108: Iodine | D108: Kg year | E108: 10 | G108: =IF(F108/E108<1,0,(F108/E108)) -> 0
C109: Hydrogen Fluoride | D109: Kg year | E109: 10 | G109: =IF(F109/E109<1,0,(F109/E109)) -> 0
C110: Hydrogen Bromide | D110: Kg year | E110: 10 | G110: =IF(F110/E110<1,0,(F110/E110)) -> 0
C111: Hydrogen Iodide | D111: Kg year | E111: 10 | G111: =IF(F111/E111<1,0,(F111/E111)) -> 0
C112: Hydrogen Chloride | D112: Kg year | E112: 1000 | G112: =IF(F112/E112<1,0,(F112/E112)) -> 0
C113: Hydrogen Sulphide | D113: Kg year | E113: 10 | G113: =IF(F113/E113<1,0,(F113/E113)) -> 0
C114: Ammonia | D114: Kg year | E114: 100 | G114: =IF(F114/E114<1,0,(F114/E114)) -> 0
C115: Carbon Disulphide | D115: Kg year | E115: 100 | G115: =IF(F115/E115<1,0,(F115/E115)) -> 0
C116: Particulates | D116: Kg year | E116: 100 | G116: =IF(F116/E116<1,0,(F116/E116)) -> 0
C118: Other inorganic compounds specify
C119: Table A1 Substances | D119: Kg year | E119: 0.1 | G119: =IF(E119>0,IF(F119/E119<1,0,(F119/E119)),) -> 0
C120: Table A2 Substances | D120: Kg year | E120: 1 | G120: =IF(E120>0,IF(F120/E120<1,0,(F120/E120)),) -> 0
C121: Table A3 Substances | D121: Kg year | E121: 10 | G121: =IF(E121>0,IF(F121/E121<1,0,(F121/E121)),) -> 0
C122: Table A4 Substances | D122: Kg year | E122: 100 | G122: =IF(E122>0,IF(F122/E122<1,0,(F122/E122)),) -> 0
C123: Table A5 Substances | D123: Kg year | E123: 1000 | G123: =IF(E123>0,IF(F123/E123<1,0,(F123/E123)),) -> 0
C124: Commercial in Confidence If you need to use these entries please contact your local NRW office
G125: 0
G126: 0
G127: 0
G128: 0
F129: Total | G129: =SUM(G8:G128) -> 0

Sheet 5 Water
B3: Emissions Attribute - Releases to Water
B5: Installation Name: | C5: =+Introduction!E10 -> Dairy Partners (Cymru Wales) Ltd | E5: Please check that the data is entered in the correct units. The Emission Index will only show if the data entered exceeds the threshold.
B6: Case Number: | C6: =+Introduction!K10 -> WP3231NB
B7: Please tick box if this sheet is applicable
B8: Substance | C8: Units | D8: Emission Threshold | E8: Maximum Quantity | F8: Emission Index | G8: Notes
B9: Aldrin | C9: Kg year | D9: 0.001 | F9: =IF(E9/D9<1,0,(E9/D9)) -> 0
B10: Azinphos-ethyl | C10: Kg year | D10: 0.001 | F10: =IF(E10/D10<1,0,(E10/D10)) -> 0
B11: DDT all isomers | C11: Kg year | D11: 0.001 | F11: =IF(E11/D11<1,0,(E11/D11)) -> 0
B12: Endosulfan | C12: Kg year | D12: 0.001 | F12: =IF(E12/D12<1,0,(E12/D12)) -> 0
B13: Endrin | C13: Kg year | D13: 0.001 | F13: =IF(E13/D13<1,0,(E13/D13)) -> 0
B14: Fenitrothion | C14: Kg year | D14: 0.001 | F14: =IF(E14/D14<1,0,(E14/D14)) -> 0
B15: Fenthion | C15: Kg year | D15: 0.001 | F15: =IF(E15/D15<1,0,(E15/D15)) -> 0
B16: Isodrin | C16: Kg year | D16: 0.001 | F16: =IF(E16/D16<1,0,(E16/D16)) -> 0
B17: Malathion | C17: Kg year | D17: 0.001 | F17: =IF(E17/D17<1,0,(E17/D17)) -> 0
B18: Parathion | C18: Kg year | D18: 0.001 | F18: =IF(E18/D18<1,0,(E18/D18)) -> 0
B20: Azinphos-methyl | C20: Kg year | D20: 0.01 | F20: =IF(E20/D20<1,0,(E20/D20)) -> 0
B21: Chlorfenvinphos | C21: Kg year | D21: 0.01 | F21: =IF(E21/D21<1,0,(E21/D21)) -> 0
... B40: Trichlorobenzene all isomers | C40: Kg year | D40: 0.1 | F40: =IF(E40/D40<1,0,(E40/D40)) -> 0
C41: Kg year
B42: Benzene | C42: Kg year | D42: 1 | F42: =IF(E42/D42<1,0,(E42/D42)) -> 0
B43: Bentazone | C43: Kg year | D43: 1 | F43: =IF(E43/D43<1,0,(E43/D43)) -> 0
B44: Biphenyl | C44: Kg year | D44: 1 | F44: =IF(E44/D44<1,0,(E44/D44)) -> 0
B45: Carbon Tetrachloride | C45: Kg year | D45: 1 | F45: =IF(E45/D45<1,0,(E45/D45)) -> 0
B46: Chloroform | C46: Kg year | D46: 1 | F46: =IF(E46/D46<1,0,(E46/D46)) -> 0
B47: Chloronitrotoluenes | C47: Kg year | D47: 1 | F47: =IF(E47/D47<1,0,(E47/D47)) -> 0
B48: 4-Chloro-3-Methylphenol | C48: Kg year | D48: 1 | F48: =IF(E48/D48<1,0,(E48/D48)) -> 0
B49: 2-Chlorophenol | C49: Kg year | D49: 1 | F49: =IF(E49/D49<1,0,(E49/D49)) -> 0
B50: 2,4 D non-ester | C50: Kg year | D50: 1 | F50: =IF(E50/D50<1,0,(E50/D50)) -> 0
B51: 2,4 D ester | C51: Kg year | D51: 1 | F51: =IF(E51/D51<1,0,(E51/D51)) -> 0
B52: Demeton | C52: Kg year | D52: 1 | F52: =IF(E52/D52<1,0,(E52/D52)) -> 0
B53: 1,2-Dichloroethane | C53: Kg year | D53: 1 | F53: =IF(E53/D53<1,0,(E53/D53)) -> 0
... B75: Zinc | C75: Kg year | D75: 20 | F75: =IF(E75/D75<1,0,(E75/D75)) -> 0
B77: All consented substances not listed above specify
B78: Table W1 substances | C78: Kg year | D78: 0.01 | F78: =IF(D78>0,IF(E78/D78<1,0,(E78/D78)),) -> 0
B79: Table W2 Substances | C79: Kg year | D79: 0.1 | F79: =IF(D79>0,IF(E79/D79<1,0,(E79/D79)),) -> 0
B80: Table W3 Substances | C80: Kg year | D80: 1 | F80: =IF(D80>0,IF(E80/D80<1,0,(E80/D80)),) -> 0
B81: Table W4 Substances | C81: Kg year | D81: 20 | F81: =IF(D81>0,IF(E81/D81<1,0,(E81/D81)),) -> 0
B82: Table W5 Substances | C82: Kg year | D82: 100 | F82: =IF(D82>0,IF(E82/D82<1,0,(E82/D82)),) -> 0
C83: Kg year | F83: =IF(D83>0,IF(E83/D83<1,0,(E83/D83)),) -> 0
C84: Kg year | F84: =IF(D84>0,IF(E84/D84<1,0,(E84/D84)),) -> 0
C85: Kg year | F85: =IF(D85>0,IF(E85/D85<1,0,(E85/D85)),) -> 0
B86: Commercial in Confidence If you need to use these entries please contact your local NRW office
F87: 0
F88: 0
F89: 0
F90: 0
E91: Total | F91: =SUM(F9:F90) -> 0

Sheet 6 Land
B3: Emissions Attribute Releases to Land
C5: Installation Name: | D5: =+Introduction!E10 -> Dairy Partners (Cymru Wales) Ltd | F5: Please check that the data is entered in the correct units. The Emission Index will only show if the data entered exceeds the threshold.
C6: Case Number: | D6: =+Introduction!K10 -> WP3231NB
C7: Please tick box if this sheet is applicable
C8: Substance/Landfill Type | D8: Units | E8: Emission Threshold | F8: Maximum Quantity | G8: Emission Index | H8: Notes
C9: Inert waste | D9: Tonnes year | E9: 1000 | G9: =IF(F9/E9<1,0,(F9/E9)) -> 0
C10: Non hazardous waste (non biodegradable) | D10: Tonnes year | E10: 350 | G10: =IF(F10/E10<1,0,(F10/E10)) -> 0
C11: Hazardous waste | D11: Tonnes year | E11: 100 | G11: =IF(F11/E11<1,0,(F11/E11)) -> 0
C12: Non hazardous waste (biodegradable) | D12: Tonnes year | E12: 100 | G12: =IF(F12/E12<1,0,(F12/E12)) -> 0
F14: Total | G14: =SUM(G9:G12) -> 0

Sheet 7 Sewer
B2: Emissions Attribute - Off-site Disposals to Sewer
C4: Installation Name: | D4: =+Introduction!E10 -> Dairy Partners (Cymru Wales) Ltd | F4: Please check that the data is entered in the correct units.The Emission Index will only show if the data entered exceeds the threshold.
C5: Case number: | D5: =+Introduction!K10 -> WP3231NB
C6: Please tick box if this sheet is applicable
C7: Substance | D7: Units | E7: Emission Threshold | F7: Maximum Quantity | G7: Emission Index | H7: Notes
C8: Aldrin | D8: Kg year | E8: 0.001 | G8: =IF(F8/E8<1,0,(F8/E8)) -> 0
C9: Azinphos-ethyl | D9: Kg year | E9: 0.001 | G9: =IF(F9/E9<1,0,(F9/E9)) -> 0
C10: DDT all isomers | D10: Kg year | E10: 0.001 | G10: =IF(F10/E10<1,0,(F10/E10)) -> 0
C11: Endosulfan | D11: Kg year | E11: 0.001 | G11: =IF(F11/E11<1,0,(F11/E11)) -> 0
C12: Endrin | D12: Kg year | E12: 0.001 | G12: =IF(F12/E12<1,0,(F12/E12)) -> 0
C13: Fenitrothion | D13: Kg year | E13: 0.001 | G13: =IF(F13/E13<1,0,(F13/E13)) -> 0
C14: Fenthion | D14: Kg year | E14: 0.001 | G14: =IF(F14/E14<1,0,(F14/E14)) -> 0
C15: Isodrin | D15: Kg year | E15: 0.001 | G15: =IF(F15/E15<1,0,(F15/E15)) -> 0
C16: Malathion | D16: Kg year | E16: 0.001 | G16: =IF(F16/E16<1,0,(F16/E16)) -> 0
C17: Parathion | D17: Kg year | E17: 0.001 | G17: =IF(F17/E17<1,0,(F17/E17)) -> 0
D18: Kg year
C19: Azinphos-methyl | D19: Kg year | E19: 0.01 | G19: =IF(F19/E19<1,0,(F19/E19)) -> 0
C20: chlorfenvinphos | D20: Kg year | E20: 0.01 | G20: =IF(F20/E20<1,0,(F20/E20)) -> 0
C21: Diazinon | D21: Kg year | E21: 0.01 | G21: =IF(F21/E21<1,0,(F21/E21)) -> 0
C22: Dieldrin | D22: Kg year | E22: 0.01 | G22: =IF(F22/E22<1,0,(F22/E22)) -> 0
C23: Hexachlorobenzene | D23: Kg year | E23: 0.01 | G23: =IF(F23/E23<1,0,(F23/E23)) -> 0
C24: Hexachlorocyclohexanes | D24: Kg year | E24: 0.01 | G24: =IF(F24/E24<1,0,(F24/E24)) -> 0
C25: Hexachlorobutadiene | D25: Kg year | E25: 0.01 | G25: =IF(F25/E25<1,0,(F25/E25)) -> 0
C26: Mevinphos | D26: Kg year | E26: 0.01 | G26: =IF(F26/E26<1,0,(F26/E26)) -> 0
C27: Omethoate | D27: Kg year | E27: 0.01 | G27: =IF(F27/E27<1,0,(F27/E27)) -> 0
C28: Parathion methyl | D28: Kg year | E28: 0.01 | G28: =IF(F28/E28<1,0,(F28/E28)) -> 0
C29: Permethrin | D29: Kg year | E29: 0.01 | G29: =IF(F29/E29<1,0,(F29/E29)) -> 0
C30: Polychlorinated biphenyls | D30: Kg year | E30: 0.01 | G30: =IF(F30/E30<1,0,(F30/E30)) -> 0
... C74: Zinc | D74: Kg year | E74: 20 | G74: =IF(F74/E74<1,0,(F74/E74)) -> 0
C76: All consented substances not listed above specify
C77: Chemical Oxygen Demand | D77: Kg year | E77: 10000 | G77: =IF(F77/E77<1,0,(F77/E77)) -> 0
C78: Suspended Solids | D78: Kg year | E78: 10000 | G78: =IF(F78/E78<1,0,(F78/E78)) -> 0
C79: Table S1 Substances | D79: Kg year | E79: 0.01 | G79: =IF(E79>0,IF(F79/E79<1,0,(F79/E79)),) -> 0
C80: Table S2 Substances | D80: Kg year | E80: 0.1 | G80: =IF(E80>0,IF(F80/E80<1,0,(F80/E80)),) -> 0
C81: Table S3 Substances | D81: Kg year | E81: 1 | G81: =IF(E81>0,IF(F81/E81<1,0,(F81/E81)),) -> 0
C82: Table S4 Substances | D82: Kg year | E82: 20 | G82: =IF(E82>0,IF(F82/E82<1,0,(F82/E82)),) -> 0
C83: Table S5 Substances | D83: Kg year | E83: 100 | G83: =IF(E83>0,IF(F83/E83<1,0,(F83/E83)),) -> 0
D84: Kg year | G84: =IF(E84>0,IF(F84/E84<1,0,(F84/E84)),) -> 0
C85: Commercial in Confidence If you need to use these entries please contact your local NRW office
G86: 0
G87: 0
G88: 0
G89: 0
E90: Total | G90: =SUM(G8:G89) -> 0
E91: Weighting Factor | G91: 0.33 | H91: (Weighting factor = 0.33)
E92: Weighted Total | G92: =G90*G91 -> 0

Sheet 8 Waste
C3: Emissions Attribute - Off-site Disposals of Waste
C5: Installation Name: | D5: =+Introduction!E10 -> Dairy Partners (Cymru Wales) Ltd | F5: Please check that the data is entered in the correct units. The Emission Index will only show if the data entered exceeds the threshold.
C6: Case Number: | D6: =+Introduction!K10 -> WP3231NB
C8: Substance | D8: Units | E8: Emission Threshold | F8: Maximum Quantity | G8: Emission Index | H8: Notes
C9: Inert waste | D9: Tonnes year | E9: 1000 | G9: =IF(F9/E9<1,0,(F9/E9)) -> 0
C10: Non hazardous waste (non biodegradable) | D10: Tonnes year | E10: 350 | G10: =IF(F10/E10<1,0,(F10/E10)) -> 0
C11: Hazardous waste | D11: Tonnes year | E11: 100 | G11: =IF(F11/E11<1,0,(F11/E11)) -> 0
C12: Non hazardous waste (biodegradable) | D12: Tonnes year | E12: 100 | G12: =IF(F12/E12<1,0,(F12/E12)) -> 0
E13: Total | G13: =SUM(G9:G12) -> 0
E14: Weighting Factor | G14: 0.33 | H14: (Weighting factor = 0.33)
E15: Weighted Total | G15: =G13*G14 -> 0
C22: Emissions Attribute - Off-site Recovery, Recycling, Re-use of Waste
C24: Installation Name: | D24: =D5 -> Dairy Partners (Cymru Wales) Ltd | F24: Please check that the data is entered in the correct units. The Emission Index will only show if the data entered exceeds the threshold.
C25: Case Number: | D25: =D6 -> WP3231NB
C27: Substance | D27: Units | E27: Emission Threshold | F27: Maximum Quantity | G27: Emission Index | H27: Notes
C28: Inert waste | D28: Tonnes year | E28: 1000 | G28: =IF(F28/E28<1,0,(F28/E28)) -> 0
C29: Non hazardous waste (non biodegradable) | D29: Tonnes year | E29: 350 | G29: =IF(F29/E29<1,0,(F29/E29)) -> 0
C30: Hazardous waste | D30: Tonnes year | E30: 100 | G30: =IF(F30/E30<1,0,(F30/E30)) -> 0
C31: Non hazardous waste (biodegradable) | D31: Tonnes year | E31: 100 | F31: 4923.78 | G31: =IF(F31/E31<1,0,(F31/E31)) -> 49.2378 | H31: Includes production waste sent to AD and land
E33: Total | G33: =SUM(G28:G31) -> 49.2378
E34: Weighting Factor | G34: 0.1 | H34: (Weighting factor = 0.1)
E35: Weighted Total | G35: =G33*G34 -> 4.92378
E36: Off-Site Total | G36: =G15+G35 -> 4.92378
B39: The table below should only be completed for S5.3 or 5.4 activities. For these activities the Off-Site Waste tables above should be left blank
C41: Emissions Attribute - Waste Input
C43: Installation Name: | D43: =D24 -> Dairy Partners (Cymru Wales) Ltd | F43: Please check that the data is entered in the correct units. The Emission Index will only show if the data entered exceeds the threshold.
C44: Case Number: | D44: =D25 -> WP3231NB
C46: Substance | D46: Units | E46: Emission Threshold | F46: Maximum Quantity | G46: Emission Index | H46: Notes
C47: Inert waste | D47: Tonnes year | E47: 1000 | G47: =IF(F47/E47<1,0,(F47/E47)) -> 0
C48: Non hazardous waste (non biodegradable) | D48: Tonnes year | E48: 750 | G48: =IF(F48/E48<1,0,(F48/E48)) -> 0
C49: Hazardous waste | D49: Tonnes year | E49: 250 | G49: =IF(F49/E49<1,0,(F49/E49)) -> 0
C50: Non hazardous waste (biodegradable) | D50: Tonnes year | E50: 500 | G50: =IF(F50/E50<1,0,(F50/E50)) -> 0
E52: Waste Input Total | G52: =SUM(G47:G50) -> 0

Sheet 9 Emissions summary
B4: Emissions Attribute Summary Sheet
C6: Installation name | D6: =+Introduction!E10 -> Dairy Partners (Cymru Wales) Ltd
C7: Case Number: | D7: =+Introduction!K10 -> WP3231NB
C9: Pathway | D9: Overall Emission Index
C10: Air | D10: =ROUND('4 Air'!G129,0) -> 0
C11: Water | D11: =ROUND('5 Water'!F91,0) -> 0
C12: Land | D12: =ROUND('6 Land'!G14,0) -> 0
C13: Sewer | D13: =ROUND('7 Sewer'!G92,0) -> 0
C14: Waste Off Site | D14: =ROUND('8 Waste'!G36,0) -> 5
C15: Waste Input | D15: =ROUND('8 Waste'!G52,0) -> 0
C23: Pathway | D23: Band
C24: Air | D24: =IF(D10>0,IF(D10>=10,IF(D10>=100,IF(D10>=1000,IF(D10>=10000,5,4),3),2),1),0) -> 0 | E24: =IF(D24=0,"-",IF(D24=1,"A",IF(D24=2,"B",IF(D24=3,"C",IF(D24=4,"D","E"))))) -> -
C25: Water | D25: =IF(D11>0,IF(D11>=10,IF(D11>=100,IF(D11>=1000,IF(D11>=10000,5,4),3),2),1),0) -> 0 | E25: =IF(D25=0,"-",IF(D25=1,"A",IF(D25=2,"B",IF(D25=3,"C",IF(D25=4,"D","E"))))) -> -
C26: Land | D26: =IF(D12>0,IF(D12>=10,IF(D12>=100,IF(D12>=1000,IF(D12>=10000,5,4),3),2),1),0) -> 0 | E26: =IF(D26=0,"-",IF(D26=1,"A",IF(D26=2,"B",IF(D26=3,"C",IF(D26=4,"D","E"))))) -> -
C27: Sewer | D27: =IF(D13>0,IF(D13>=10,IF(D13>=100,IF(D13>=1000,IF(D13>=10000,5,4),3),2),1),0) -> 0 | E27: =IF(D27=0,"-",IF(D27=1,"A",IF(D27=2,"B",IF(D27=3,"C",IF(D27=4,"D","E"))))) -> -
C28: Waste Off Site | D28: =IF(D14>0,IF(D14>=10,IF(D14>=100,IF(D14>=1000,IF(D14>=10000,5,4),3),2),1),0) -> 1 | E28: =IF(D28=0,"-",IF(D28=1,"A",IF(D28=2,"B",IF(D28=3,"C",IF(D28=4,"D","E"))))) -> A
C29: Waste Input | D29: =IF(D15>0,IF(D15>=10,IF(D15>=100,IF(D15>=1000,IF(D15>=10000,5,4),3),2),1),0) -> 0 | E29: =IF(D29=0,"-",IF(D29=1,"A",IF(D29=2,"B",IF(D29=3,"C",IF(D29=4,"D","E"))))) -> -

Sheet 10 Location
B3: Location Attribute
C5: Installation Name: | D5: =+Introduction!E10 -> Dairy Partners (Cymru Wales) Ltd
C6: Case Number: | D6: =+Introduction!K10 -> WP3231NB
C8: Parameter | D8: Yes/No | E8: Available | F8: Score
C9: Human Occupation/Presence: | F9: =IF(D10="Yes",5,(IF(D12="yes",3,(IF(D14="Yes",1,0))))) -> 5
C10: a) if within 50m of the boundary | D10: Yes | E10: 5
C11: or:
C12: b) if greater than 50m but less than 250m of boundary | D12: Yes | E12: 3
C13: or:
C14: c) if greater than 250m but less than 1km of boundary | D14: Yes | E14: 1
C15: If your installation is within a certain distance of Statutory sites designated under Habitats Directive or CROW Act 2000 then the impact of emissions on these conservation areas must be assessed during our determination : | F15: =IF(D16="yes",3,(IF(D18="Yes",2,0))) -> 3
C16: a) if "relevant" under Habitats Directive | D16: Yes | E16: 3
C17: or
C18: b) if CROW Act 2000 assessment required | D18: No | E18: 2
C19: a) if on an aquifer and within a Groundwater Protection Zone | D19: No | E19: 2 | F19: =IF(D19="yes",2,(IF(D21="Yes",1,0))) -> 1
C20: or
C21: b) if on an aquifer and not within a Groundwater Protection Zone | D21: Yes | E21: 1
C23: Sensitivity of receiving waters (information available from the NRW web site see river basin management plans), if: | D23: see Natural Resources Wales / River basin management plans 2015-2021 | F23: =IF(D26="Yes",3,(IF(D25="yes",2,(IF(D24="Yes",1,0))))) -> 3
C24: a) WFD 'Bad' classification (formerly grade 5 ) | D24: No | E24: 1
C25: b) WFD 'Poor' or 'moderate' (previously grade 4 or 3) | D25: No | E25: 2
C26: c) WFD 'Good' or 'high' (previously grade 2 or 1) or estuarine | D26: Yes | E26: 3
C27: a) If there is direct runoff from the site without interceptors or other active control measures | F27: =IF(D28="yes",2,(IF(D30="Yes",1,0))) -> 2
D28: Yes | E28: 2
C29: or
C30: b) If as above but there are interceptors or active control measures | D30: No | E30: 1
C32: a) If within an Air Quality Management Zone (AQMZ) and emit | F32: =IF(D33="Yes",3,(IF(D36="yes",2,(IF(D38="Yes",1,0))))) -> 0
C33: pollutant that has been declared for that AQMZ | D33: No | E33: 3
C34: or
C35: b) If within 2km of an Air Quality Management Zone (AQMZ) and emit
C36: pollutant that has been declared for that AQMZ | D36: No | E36: 2 | F36: 0
C37: or
C38: c) as a) except do not emit pollutants that have be declared for the | D38: No | E38: 1
C39: AQMZ
C40: If within a flood plain | D40: Yes | E40: 2 | F40: =IF(D40="Yes",2,0) -> 2
C41: Maximum Score = 20 Band A = 0 - 4, B = 5 - 8, C = 9 - 12, D = 13 - 17 and E = 18 - 20 | D41: Total | F41: =SUM(F9:F40) -> 16
D42: Band | F42: =IF(F41>17,"E",(IF(F41>12,"D",(IF(F41>8,"C",(IF(F41>4,"B","A"))))))) -> D
C44: Location attribute | D44: Status
C45: Occupation | D45: =IF(AND(D10=0,D12=0,D14=0),"Incomplete","Complete") -> Complete
C46: Habitats | D46: =IF(AND(D16=0,D18=0),"Incomplete","Complete") -> Complete
C47: Aquifers | D47: =IF(AND(D19=0,D21=0),"Incomplete","Complete") -> Complete
C48: Receiving waters | D48: =IF(AND(D24=0,D25=0,D26=0),"Incomplete","Complete") -> Complete
C49: Run off | D49: =IF(AND(D28=0,D30=0),"Incomplete","Complete") -> Complete
C50: Air Quality | D50: =IF(AND(D33=0,D36=0,D38=0),"Incomplete","Complete") -> Complete
C51: Flood plain | D51: =IF(D40=0,"Incomplete","Complete") -> Complete
C56: Location Attribute Totals | D56: Score
C57: Occupation | D57: =+F9 -> 5
C58: Habitats | D58: =+F15 -> 3
C59: Aquifers | D59: =F19 -> 1
C60: Receiving Waters | D60: =+F23 -> 3
C61: Run Off | D61: =F27 -> 2
C62: Air Quality | D62: =+F32 -> 0
C63: Flood Plain | D63: =F40 -> 2

Sheet 11 Operator performance
C1: Installation name: | D1: =+Introduction!E10 -> Dairy Partners (Cymru Wales) Ltd
C2: Case Number: | D2: =+Introduction!K10 -> WP3231NB
B4: Operator Performance
D6: Yes/No | E6: Points available | F6: Points scored | G6: Post or group responsible for each requirement | I6: Document reference (*) or date by which systems will be in place (*see para 4.4.2)
B8: Operations and Maintenance section - 20%
C9: Effective operational and prev maintenance systems shall be employed on all aspects of the process where any failure could impact on the environment.
B10: 1 | C10: Are there documented operating procedures for operations that may have an adverse impact on the environment? | D10: Yes | E10: 2 | F10: =IF(D10="yes",2,0) -> 2 | G10: Health, Safety & Environmental Lead | I10: MCERTS SOPs, SOPs for abnormal and emergency conditions at the WWTP, site Spill Plan
B11: 2 | C11: Is there a defined procedure for identifying, reviewing and prioritising items of plant for which a preventative maintenance regime is appropriate? | D11: Yes | E11: 2 | F11: =IF(D11="yes",2,0) -> 2 | G11: Site Manager/Engineering Lead | I11: Workmate PPM system
B12: 3 | C12: Are there documented procedures for monitoring emissions or impacts? | D12: Yes | E12: 2 | F12: =IF(D12="yes",2,0) -> 2 | G12: Health, Safety & Environmental Lead | I12: Environmental Permit, WI-HSE-001, WI-HSE-002,
B13: 4 | C13: Is there a preventative maintenance programme for those items of plant whose failure could lead to impact on the environment? | D13: Yes | E13: 1 | F13: =IF(D13="yes",1,0) -> 1 | G13: Site Manager/Engineering Lead | I13: Workmate PPM system
B14: 5 | C14: Does the preventative maintenance programme include regular checks and formal inspections of 'static' items such as tanks, pipework, retaining walls, bunds and ducts? | D14: Yes | E14: 1 | F14: =IF(D14="yes",1,0) -> 1 | G14: Site Manager/Engineering Lead | I14: Quarterly fabrication audit, Workmate PPM system
B15: 6 | C15: Do the operations and maintenance systems include auditing environmental performance? | D15: No | E15: 2 | F15: =IF(D15="yes",2,0) -> 0
B16: 7 | C16: Are the reports, results and recommendations arising from audits made available to senior management on a regular basis? | D16: No | E16: 2 | F16: =IF(D16="yes",2,0) -> 0
B17: 8 | C17: In the last two years, has there been any notifiable incident or release for which lack of maintenance was a contributory cause ? | D17: No | E17: -2 | F17: =IF(D17="yes",-2,0) -> 0
B18: 9 | C18: In the last two years, has there been any notifiable incident or release for which the root cause could not be identified? | D18: Yes | E18: -3 | F18: =IF(D18="yes",-3,0) -> -3 | G18: Site Manager | I18: Compliance Assessment Report CAR_NRW0040744
C19: Operations and Maintenance Total | E19: 12 | F19: =SUM(F10:F18) -> 5 | G19: =+F19/E19 -> 0.41666667
B21: Competence and Training - 20%
C22: The Operator shall ensure that all relevant management and operational staff (including contractors and those responsible for purchasing equipment and materials) receive adequate training with regard to their responsibilities under the Permit. Particular attention should be given to the following:
C23:  Minimisation of all potential environmental effects from operation under normal, abnormal, start up and shut down circumstances;
C24:  Prevention of accidental emissions and action to be taken when accidental emissions occur; and
C25:  The need to report deviation from the permit.
B26: 1 | C26: Has a training needs assessment been carried out which: | D26: Yes | E26: 3 | F26: =IF(D26="yes",3,0) -> 3 | G26: Health, Safety & Environmental Lead | I26: Site HSE training matrix
C27:  Identifies all posts for which specific environmental awareness training is required; and  Identifies the scope and level to which such training is to be given?
B28: 2 | C28: Are training systems in place for all relevant staff that cover the following factors:
C29:  the regulatory requirements associated with the Permit as they affect their work activities and responsibilities; | D29: Yes | E29: 2 | F29: =IF(D29="yes",2,0) -> 2 | G29: Health, Safety & Environmental Lead | I29: Environmental Awareness training lesson
C30:  likely potential environmental impacts which may be caused by plant under their control. This should cover both normal and abnormal circumstances; | D30: Yes | E30: 2 | F30: =IF(D30="yes",2,0) -> 2 | G30: Health, Safety & Environmental Lead | I30: Environmental Awareness training lesson
C31:  reporting procedures to inform supervisors or managers of deviations from permit conditions; | D31: Yes | E31: 1 | F31: =IF(D31="yes",1,0) -> 1 | G31: Health, Safety & Environmental Lead | I31: Environmental Awareness training lesson
C32:  procedures to be used by supervisors or managers and for the reporting of deviations from permit conditions to the Agency; and | D32: Yes | E32: 2 | F32: =IF(D32="yes",2,0) -> 2 | G32: Health, Safety & Environmental Lead | I32: Environmental Awareness training lesson
C33:  prevention of accidental emissions and action to be taken when accidental emissions occur? | D33: Yes | E33: 2 | F33: =IF(D33="yes",2,0) -> 2 | G33: Health, Safety & Environmental Lead | I33: Environmental Awareness training lesson
B34: 3 | C34: Are the skills and competencies necessary for key posts documented and are records of training needs and training received maintained? | D34: Yes | E34: 1 | F34: =IF(D34="yes",1,0) -> 1 | G34: Site Manager | I34: Online Learning Management System and In-house Training Matrix
B35: 4 | C35: Do the key posts include contractors, those responsible for liaising with contractors and those purchasing equipment and materials? | D35: No | E35: 1 | F35: =IF(D35="yes",1,0) -> 0
B36: 5 | C36: Do you assess the potential environmental risks posed by the work of contractors and provide instructions to contractors about protecting the environment while working on site? | D36: No | E36: 1 | F36: =IF(D36="yes",1,0) -> 0
B37: 6 | C37: In the last 2 years, have there been any notifiable incidents or releases, which it has been identified that lack of training was a contributory cause ? | D37: No | E37: -2 | F37: =IF(D37="yes",-2,0) -> 0
B38: 7 | C38: Are there industry standards for training in this sector (e.g. WAMITAB) and if so do you apply them? (If no industry standards please use N/A) | D38: N/A | E38: -2 | F38: =IF(D38="no",-2,0) -> 0
B39: 8 | C39: Are individual and organisational training needs reviewed on a regular (e.g. annual) basis? | D39: Yes | E39: 2 | F39: =IF(D39="yes",2,0) -> 2 | G39: Site Manager | I39: Ongoing - Site HSE training matrix
C40: Competance Training Total | E40: 17 | F40: =SUM(F26:F39) -> 15 | G40: =+F40/E40 -> 0.88235294
B42: Emergency planning - 20%
C43: The Operator shall maintain an accident management plan which identifies potential events or failures which might lead to an environmental impact. The plan shall identify:
C44:  the likelihood of, and the actions to be taken to minimise, these potential occurrences;
C45:  the environmental consequences and an action plan to deal with such occurrences;
C46:  The Operator shall have a written procedure for handling, investigating, communicating and reporting of incidents and actual or potential non-compliance with permit conditions including taking action to mitigate any impacts caused and for initiating and completing corrective action.  In the case of abnormal emissions the operator shall;
C48:  investigate and undertake remedial action immediately;
C49:  promptly record the events and actions taken; and
C50:  ensure the Regulator is made aware, as soon as practicable.
B51: 1 | C51: Is there an accident plan that complies with guidance covering the following aspects of foreseeable scenarios: likelihood, consequences,actions to prevent, action to take in the event it occurs? | D51: Yes | E51: 4 | F51: =IF(D51="yes",4,0) -> 4 | G51: Health, Safety & Environmental Lead | I51: SOP/WWTP/004 - Abnormal and Emergency Response EP-017 – Environmental Accident Management Plan
B52: 2 | C52: Has the plan identified areas where improvement is needed? | D52: Yes | E52: 1 | F52: =IF(D52="no",1,0) -> 0 | G52: Health, Safety & Environmental Lead | I52: EP-017 – Environmental Accident Management Plan
B53: 2.1 | C53: Where improvement has been identified, does the plan include an implementation programme with acceptable timescales to Natural Resources Wales (NRW)? If the plan is not acceptable to NRW, 2 points will be deducted. | D53: Yes | E53: -2 | F53: =IF(D53="NO",-2,0) -> 0 | G53: Health, Safety & Environmental Lead | I53: EP-017 – Environmental Accident Management Plan
B54: 3 | C54: Are there written procedures for handling, investigating, communicating and reporting actual or potential non compliance with operating procedures or emission limits? | D54: Yes | E54: 1 | F54: =IF(D54="yes",1,0) -> 1 | G54: Health, Safety & Environmental Lead | I54: EP-011 - Environmental Communications
B55: 4 | C55: Are there written procedures for handling, investigating, communicating and reporting environmental complaints? | D55: Yes | E55: 1 | F55: =IF(D55="yes",1,0) -> 1 | G55: Health, Safety & Environmental Lead | I55: EP-011 - Environmental Communications
B56: 5 | C56: Are there written procedures for investigating incidents, (and near-misses) including identifying suitable corrective action and following up implementation of that action? | D56: Yes | E56: 2 | F56: =IF(D56="yes",2,0) -> 2 | G56: Health, Safety & Environmental Lead | I56: FRM-EHS-059 - Incident Response Investigation Report
B57: 6 | C57: In the last 2 years, have there been any notifiable incidents or releases for which it has been identified that lack of emergency planning was a contributory cause ? | D57: No | E57: -2 | F57: =IF(D57="yes",-2,0) -> 0
B58: 7 | C58: Are there audit records of investigations into non compliance, complaints and incidents? Does the audit cover follow up actions? Do the audit reports go to senior managers? | D58: No | E58: 3 | F58: =IF(D58="yes",3,0) -> 0
C59: Emergency planning Total | E59: =SUMIF(E51:E58,">0",E51:E58) -> 12 | F59: =SUM(F51:F58) -> 8 | G59: =+F59/E59 -> 0.66666667
B61: Organisation - 40%
C62: If you operate under an externally auditted environment management system answer questions 1, 3 and 4, if you do not have an externally auditted environment management system answer questions 2, 3 and 4.
C63: The following aspects of site management procedures and controls may not be in the permit conditions but are likely to have an impact on the Agency resources required to apply the Env Permitting Regulations.
B64: 1 | C64: Do you operate an externally audited environment management system, if so answer one of the following questions. N.B Please enter your Certificate Number, Name of certification body and their UKAS Registration Number in the space for document reference.
B65: 1.1 | C65: Is your Environmental Management System EMAS registered? If yes select Yes, add the information into cell I65 and go to question 4. | D65: No | E65: 20 | F65: =IF(D65="yes",20,0) -> 0 | J65: =IF(OR(AND(D65="yes",I65=""),(AND(D65="",I65="")),D65=""),"incomplete","complete") -> complete | K65: =IF(D65="yes", "Enter details of your EMAS certifcate number, certification body and their UKAS registration number into cell I65","")
B66: 1.2 | C66: Is your Environmental Management System certified to ISO 14001? If yes enter Yes, add the information into cell I66 and go to questions 3 and 4. | D66: No | E66: 15 | F66: =IF(D66="yes",15,0) -> 0 | J66: =IF(OR(AND(D66="yes",I66=""),(AND(D66="",I66="")),D66=""),"incomplete","complete") -> complete | K66: =IF(D66="yes", "Enter details of your EMS certifcate number, certification body and their UKAS registration number into cell I66","")
B67: 1.3 | C67: Is your system an Environmental Management System subject to external audit through a third party audit programme with a published methodology (excludes in-house company audit programme). If yes enter Yes, add the information into cell I67 and go to questions 3 and 4. | D67: No | E67: 12 | F67: =IF(D67="yes",12,0) -> 0 | J67: =IF(OR(AND(D67="yes",I67=""),(AND(D67="",I67="")),D67=""),"incomplete","complete") -> complete | K67: =IF(D67="yes", "Enter details of your EMS audit body and methodology into cell I67","")
C68: Sub Total | E68: 20 | F68: =IF(D65="yes",F65,(IF(D66="yes",F66,(IF(D67="yes",F67,0))))) -> 0 | G68: =+F68/E68 -> 0 | I68: Maxium score possible =20
B69: 2 | C69: If you do not operate an externally audited environmental management system then assess your system against the criteria below:
B70: 2.1 | C70: Has your company adopted an environmental policy and programme which :
C71:  includes a commitment to continual improvement and prevention of pollution? | D71: Yes | E71: 1 | F71: =IF(D71="Yes",1,0) -> 1 | G71: Site Manager | I71: Environmental and Sustainability Policy | J71: =IF(OR(AND(D71="yes",I71=""),(AND(D71="",I71="")),D71=""),"incomplete","complete") -> complete
C72:  includes a commitment to comply with relevant legislation, and with other requirements that the organisation subscribes to? | D72: Yes | E72: 1 | F72: =IF(D72="Yes",1,0) -> 1 | G72: Site Manager | I72: Environmental and Sustainability Policy | J72: =IF(OR(AND(D72="yes",I72=""),(AND(D72="",I72="")),D72=""),"incomplete","complete") -> complete
C73:  identifies, sets, monitors and reviews environmental objectives, independently of the permit? | D73: Yes | E73: 1 | F73: =IF(D73="Yes",1,0) -> 1 | G73: Site Manager | I73: Environmental and Sustainability Policy | J73: =IF(OR(AND(D73="yes",I73=""),(AND(D73="",I73="")),D73=""),"incomplete","complete") -> complete
B74: 2.2 | C74: Are there procedures that incorporate environmental issues into the following areas (as supported by demonstrable evidence e.g. written procedures):
C75:  the control of process change on the installation; | D75: No | E75: 1 | F75: =IF(D75="Yes",1,0) -> 0 | J75: =IF(OR(AND(D75="yes",I75=""),(AND(D75="",I75="")),D75=""),"incomplete","complete") -> complete
C76:  design and review of new facilities (including provision for their decommisioning), engineering and other capital projects; | D76: No | E76: 1 | F76: =IF(D76="Yes",1,0) -> 0 | J76: =IF(OR(AND(D76="yes",I76=""),(AND(D76="",I76="")),D76=""),"incomplete","complete") -> complete
C77:  capital approval; | D77: No | E77: 1 | F77: =IF(D77="Yes",1,0) -> 0 | J77: =IF(OR(AND(D77="yes",I77=""),(AND(D77="",I77="")),D77=""),"incomplete","complete") -> complete
C78:  purchasing policy; | D78: No | E78: 1 | F78: =IF(D78="Yes",1,0) -> 0 | J78: =IF(OR(AND(D78="yes",I78=""),(AND(D78="",I78="")),D78=""),"incomplete","complete") -> complete
B79: 2.3 | C79: Are there audits, at least annually, to check that all activities are being carried out in conformity with the above requirements? | D79: No | E79: 1 | F79: =IF(D79="Yes",1,0) -> 0 | J79: =IF(OR(AND(D79="yes",I79=""),(AND(D79="",I79="")),D79=""),"incomplete","complete") -> complete
B80: 2.4 | C80: Are they independent? (name the auditing body) | D80: No | E80: 2 | F80: =IF(D80="Yes",2,0) -> 0 | J80: =IF(OR(AND(D80="yes",I80=""),(AND(D80="",I80="")),D80=""),"incomplete","complete") -> complete
B81: 2.5 | C81: Are there reports annually on environmental performance, objectives and targets, future planned improvements and or facilitate (participate in) local community liaison meetings? | D81: Yes | E81: 1 | F81: =IF(D81="Yes",1,0) -> 1 | G81: Health, Safety & Environmental Lead | I81: Environmental Annual Report (internal) | J81: =IF(OR(AND(D81="yes",I81=""),(AND(D81="",I81="")),D81=""),"incomplete","complete") -> complete
C82: All operators need to answer the following two questions
B83: 3 | C83: Does your company produce a public environmental statement? You may score in this box for ISO 14001 and industry systems but not for EMAS as this is a requirement for EMAS. | D83: No | E83: 1 | F83: =IF(D83="Yes",1,0) -> 0 | J83: =IF(OR(AND(D65="yes",I65="",D83=""),OR(AND(D66="yes",D83="yes",I83=""),D83=""),OR(AND(D67="yes",D83="yes",I83=""),D83=""),OR(AND(D65="no",D66="no",D67="no",D83="yes",I83="")),D83=""),"incomplete","complete") -> complete | K83: =IF(D83="Yes","Provide a link to the public environmental statement in cell I83","")
B84: 4 | C84: Within the past 5 years have you failed to meet an improvement condition either set by Natural Resources Wales (NRW) in a Permit or Variation by the due date, without prior agreement? (minus 2 for each failure). ADD NUMBER OF FAILURES NOT Y OR N | D84: 2 | E84: -2 | F84: =IF(D84="none",0,+E84*D84) -> -4 | I84: IC 12 and IC13 (April 2019) | J84: =IF(OR(D8="none",D84>0),"complete","InComplete") -> complete
C85: Organisational Totals | E85: 20 | F85: =SUM(F75:F84)+SUM(F68:F73) -> 0 | G85: =+F85/E85 -> 0
I86: 45017
B87: Enforcement History (0 to -40% weighting)
G88: Notice etc | H88: Date Issued | I88: Date Spent
B89: 1 | C89: Enforcement , Improvement, Works, Compliance or Restoration Notices issued in the past year by Natural Resources Wales (NRW) under any legislation, by the Health and Safety Executive relevant to the COMAH Regulations or by local authorities under Part I of the Environmental Protection Act 1990 or relevant notice or Abatement Notices issued by local authorities or magistrates courts under Part III of the Environmental Protection Act 1990 | D89: =COUNTIF(H89:H94,">1/1/2020") -> 2 | E89: None 0 1st - 5 2nd -10 3rd or more -40 | F89: 1 | G89: Improvement | H89: 44971 | I89: 45138 | K89: =IF(ISBLANK(H89),"","Enter the date the Notice has been completed") -> Enter the date the Notice has been completed
F90: 2 | G90: Enforcement | H90: 44971 | I90: 45016 | K90: =IF(ISBLANK(H90),"","Enter the date the Notice has been completed") -> Enter the date the Notice has been completed
F91: 3 | K91: =IF(ISBLANK(H91),"","Enter the date the Notice has been completed")
F92: 4 | K92: =IF(ISBLANK(H92),"","Enter the date the Notice has been completed")
F93: 5 | K93: =IF(ISBLANK(H93),"","Enter the date the Notice has been completed")
F94: 6 | K94: =IF(ISBLANK(H94),"","Enter the date the Notice has been completed")
B95: 2 | C95: Formal cautions, Enforcement Undertakings or Fixed Monetary Penalties issued by Natural Resources Wales (NRW) in respect of offences under any legislation in the last 3 years. | D95: =COUNTIF(H95:H100,">1/1/2020") -> 1 | E95: None 0 1st - 5 2nd -10 3rd or more -40 | F95: 1 | G95: Formal caution | H95: 44310 | I95: =IF(ISBLANK(H95),"",H95+3*365) -> 45405
F96: 2 | I96: =IF(ISBLANK(H96),"",H96+3*365)
F97: 3 | I97: =IF(ISBLANK(H97),"",H97+3*365)
F98: 4 | I98: =IF(ISBLANK(H98),"",H98+3*365)
F99: 5 | I99: =IF(ISBLANK(H99),"",H99+3*365)
F100: 6 | I100: =IF(ISBLANK(H100),"",H100+3*365)
B101: 3 | C101: Prohibition, Stop, Suspension or Revocation Notices issued by Natural Resources Wales (NRW) under any legislation, by the Health and Safety Executive relevant to the COMAH Regulations or by local authorities under Part I of the Environmental Protection Act 1990 in the last 3 years | D101: =COUNTIF(H101:H106,">1/1/2020") -> 0 | E101: None 0 1st - 10 2nd or more -40 | F101: 1 | I101: =IF(ISBLANK(H101),"",H101+3*365)
F102: 2 | I102: =IF(ISBLANK(H102),"",H102+3*365)
F103: 3 | I103: =IF(ISBLANK(H103),"",H103+3*365)
F104: 4 | I104: =IF(ISBLANK(H104),"",H104+3*365)
F105: 5 | I105: =IF(ISBLANK(H105),"",H105+3*365)
F106: 6 | I106: =IF(ISBLANK(H106),"",H106+3*365)
B107: 4 | C107: Convictions on prosecutions brought by Natural Resources Wales (NRW) under any legislation, by the Health and Safety Executive relevant to the COMAH regulations or by local authorities (in respect of offences under Parts I or III of the Environmental Protection Act 1990) in last 5 years (10 years where imprisonment was imposed). Or any Variable Monetary Penalty. [NB each individual offence counts separately]. | D107: =COUNTIF(H107:H112,">1/1/2020") -> 0 | E107: None 0 1st - 15 2nd or more -40 | F107: 1 | I107: =IF(ISBLANK(H107),"",H107+5*365)
...

Sheet 12 EP Summary
B2: Organisation Name: | D2: =+Introduction!E10 -> Dairy Partners (Cymru Wales) Ltd
B3: Case Number: | D3: =+Introduction!K10 -> WP3231NB
D5: Profile before any rules or capping applied | F5: Opra Banded Profile used for charging (i.e. after capping and applying rules)
B6: Attribute | D6: Number | E6: Band | F6: Number | G6: Band | H6: Status
B7: Complexity | D7: =+'1 Listed activity'!K8 -> 1 | E7: A | F7: =+'3 Complexities'!E50 -> 1 | G7: A
D8: =+'1 Listed activity'!K9 -> 1 | E8: B | F8: =+'3 Complexities'!E51 -> 1 | G8: B
D9: =+'1 Listed activity'!K10 -> 0 | E9: C | F9: =+'3 Complexities'!E52 -> 0 | G9: C
D10: =+'1 Listed activity'!K11 -> 0 | E10: D | F10: =+'3 Complexities'!E53 -> 0 | G10: D
D11: =+'1 Listed activity'!K12 -> 0 | E11: E | F11: =+'3 Complexities'!E54 -> 0 | G11: E
B12: Emissions | C12: Air | E12: =+'9 Emissions summary'!E24 -> - | G12: =+'9 Emissions summary'!E24 -> -
C13: Water | E13: =+'9 Emissions summary'!E25 -> - | G13: =+'9 Emissions summary'!E25 -> -
C14: Land | E14: =+'9 Emissions summary'!E26 -> - | G14: =+'9 Emissions summary'!E26 -> -
C15: Sewer | E15: =+'9 Emissions summary'!E27 -> - | G15: =+'9 Emissions summary'!E27 -> -
C16: Waste Off Site | E16: =+'9 Emissions summary'!E28 -> A | G16: =+'9 Emissions summary'!E28 -> A
C17: Waste Input | E17: =+'9 Emissions summary'!E29 -> - | G17: =+'9 Emissions summary'!E29 -> -
B18: Location | E18: =+'10 Location'!F42 -> D | G18: =+'10 Location'!F42 -> D | H18: =IF(COUNTIF('10 Location'!D45:D51,"incomplete"),"Incomplete","Complete") -> Complete
B19: Operator Performance | E19: =+'11 Operator performance'!H152 -> D | G19: =+'11 Operator performance'!H152 -> D | H19: =IF(COUNTIF('11 Operator performance'!J160:J163,"incomplete"),"Incomplete","Complete") -> Complete

Sheet 13 Calculation
C3: Installation Name: | D3: =+Introduction!E10 -> Dairy Partners (Cymru Wales) Ltd | F3: Case Number: | H3: =+Introduction!K10 -> WP3231NB
C5: EPR Installations Application Charge Calculation
C6: (excludes Compliance Rating)
C7: Scoring Summary - Financial
C9: Attribute | D9: Band | E9: Number | F9: Score | G9: Total Score
C10: Complexity | D10: A | E10: =+'12 EP Summary'!F7 -> 1 | F10: 2 | G10: =+F10*E10 -> 2
D11: B | E11: =+'12 EP Summary'!F8 -> 1 | F11: 15 | G11: =+F11*E11 -> 15
D12: C | E12: =+'12 EP Summary'!F9 -> 0 | F12: 45 | G12: =+F12*E12 -> 0
D13: D | E13: =+'12 EP Summary'!F10 -> 0 | F13: 82 | G13: =+F13*E13 -> 0
D14: E | E14: =+'12 EP Summary'!F11 -> 0 | F14: 110 | G14: =+F14*E14 -> 0
C15: Emissions to Air | D15: =+'12 EP Summary'!G12 -> - | G15: =IF(D15="E",50,(IF(D15="D",35,(IF(D15="C",20,(IF(D15="B",10,(IF(D15="A",3,0))))))))) -> 0
C16: Emissions to Water | D16: =+'12 EP Summary'!G13 -> - | G16: =IF(D16="E",50,(IF(D16="D",35,(IF(D16="C",20,(IF(D16="B",10,(IF(D16="A",3,0))))))))) -> 0
C17: Emissions to Land | D17: =+'12 EP Summary'!G14 -> - | G17: =IF(D17="E",50,(IF(D17="D",35,(IF(D17="C",20,(IF(D17="B",10,(IF(D17="A",3,0))))))))) -> 0
C18: Emissions to Sewer | D18: =+'12 EP Summary'!G15 -> - | G18: =IF(D18="E",10,(IF(D18="D",5,(IF(D18="C",3,(IF(D18="B",2,(IF(D18="A",1,0))))))))) -> 0
C19: Emissions to Off-site Waste | D19: =+'12 EP Summary'!G16 -> A | G19: =IF(D19="E",10,(IF(D19="D",5,(IF(D19="C",3,(IF(D19="B",2,(IF(D19="A",1,0))))))))) -> 1
C20: Emissions - Waste Input | D20: =+'12 EP Summary'!G17 -> - | G20: =IF(D20="E",50,(IF(D20="D",35,(IF(D20="C",20,(IF(D20="B",10,(IF(D20="A",3,0))))))))) -> 0
C21: Location | D21: =+'12 EP Summary'!G18 -> D | G21: =IF(D21="E",60,(IF(D21="D",40,(IF(D21="C",20,(IF(D21="B",10,(IF(D21="A",3,0))))))))) -> 40 | H21: =+'12 EP Summary'!H18 -> Complete
C22: Operator Performance | D22: =+'12 EP Summary'!G19 -> D | G22: =IF(D22="E",75,(IF(D22="D",60,(IF(D22="C",40,(IF(D22="B",25,(IF(D22="A",10,0))))))))) -> 60 | H22: =+'12 EP Summary'!H19 -> Complete
D23: Total Opra charging score | G23: =SUM(G10:G22) -> 118
F25: Part A(2), Part B, MCP and SG Activities
C26: Indicative Fees & Charges | F26: Please ensure that you have completed these entries in the Other Activities sheet. The indicative charge shown here will not include any charges associated with Local Authority Part A (2) or Part B or MCP or SG activities that form part of the installation. Refer to Environmental Permitting Charging Scheme for further details.
C27: Application Fee | D27: =+$G$23*I33 -> 24898
C29: Subsistence Charge* | D29: =+G23*I34 -> 12036
C31: Substantial Variation | D31: =+G23*I35 -> 13688
F32: Opra Charge Multipliers (2022/2023)
C33: Standard Variation | D33: =+G23*I36 -> 6844 | F33: Application | I33: =+Picklists!AO5 -> 211
F34: Subsistence | I34: =+Picklists!AO6 -> 102
C35: Partial Surrender | D35: =+G23*I37 -> 11800 | F35: Substantial Variation | I35: =+Picklists!AO8 -> 116
F36: Standard Variation | I36: =+Picklists!AO7 -> 58
C37: Full Surrender | D37: =+G23*I38 -> 15340 | F37: Partial Surrender | I37: =+Picklists!AO10 -> 100
F38: Full Surrender | I38: =+Picklists!AO9 -> 130
C39: Closure | D39: 0 | F39: Closure (Landfill only)
C41: * Does not take into account Compliance Rating

Sheet Picklists
B1: Introduction | D1: Listed activity | H1: Other activities | J1: Other activities | P1: Other activites | R1: Other activities | W1: Locaton | Y1: Operator performance | AM1: Opra charging mulitpliers
B2: CinC | D2: Schedule 1 | E2: Complexity | J2: Schedule activiites | R2: Rule 4 | W2: Yes | Y2: Yes | AB2: Yes | AC2: No
B3: Yes | D3: 1.1 Part A (1) a) (i) <300MW but >50MW | E3: C | H3: Part A2 or Part B | J3: PartA2 | K3: PartB | L3: PartB_MCP_and_or_SG | M3: DAA | N3: MCP_and_SG | O3: SG | P3: MCP | R3: Schedule 1 | S3: Complexcity | U3: Aggregation Group | W3: No | Y3: No | AB3: No | AC3: N/A
B4: No | D4: 1.1 Part A (1) a) (i) >300MW | E4: D | J4: 1.2 Part A(2) (a) | K4: 1.1 Part B a) | L4: 1.1 Part B MCP-Schedule 25A | M4: Associated process (DAA) | N4: Schedule 25 A & B - Both an MCP & a Specified Generator | O4: Schedule 25B – Specified generator only | P4: Schedule 25A - Medium combustion plant only | R4: Now linkeddirectly to the main schedule activies | U4: 1 | AA4: None | AB4: Yes
D5: 1.2 Part A(1) a) | E5: D | J5: 2.1 Part A(2) (a) | K5: 1.1 Part B b) | L5: 1.1 Part B SG-Schedule 25B | U5: 2 | Y5: Yes | AA5: 1 | AM5: Permit application | AO5: 211
D6: 1.2 Part A(1) b) >250 TPA | E6: E | J6: 2.1 Part A(2) (b) | K6: 1.1 Part B c) ii) | L6: 1.1 Part B MCP & SG _Schedule 25 A&B | U6: 3 | Y6: No | AA6: 2 | AM6: Susbsistance charge | AO6: 102
D7: 1.2 Part A(1) b) <250 TPA | E7: B | J7: 2.1 Part A(2) (c) | K7: 1.1 Part B c) i) | L7: 5.1 Part B MCP-Schedule 25A | U7: 4 | Y7: N/A | AA7: 3 | AM7: Normal vcariaiton | AO7: 58
D8: 1.2 Part A (1) c) (A) | E8: E | J8: 2.1 Part A(2) (d) | K8: 1.2 Part B a) | L8: 5.1 Part B SG-Schedule 25B | U8: 5 | AA8: 4 | AM8: Substantial variaiton | AO8: 116
D9: 1.2 Part A (1) d) | E9: C | J9: 2.2 Part A(2) a) | K9: 1.2 Part B b) | L9: 5.1 Part B MCP & SG-Schedule 25A&B | U9: 6 | AA9: 5 | AM9: Full surrender | AO9: 130
D10: 1.2 Part A(1) e) i) | E10: C | J10: 2.3 Part A(2) a) | K10: 1.2 Part B c) | AA10: 5 or more | AM10: Partialo surrnder | AO10: 100
D11: 1.2 Part A(1) e) ii) | E11: C | J11: 3.1 Part A(2) a) | K11: 1.2 Part B d)
D12: 1.2 Part A(1) e) i) or ii) but <500000 TPA | E12: B | J12: 3.1 Part A(2) b) | K12: 2.1 Part B a)
D13: 1.2 Part A (1) f) | E13: E | J13: 3.3 Part A(2) a) | K13: 2.1 Part B b) i)
D14: 1.2 Part A (1) f) A) | E14: C | J14: 3.5 Part A(2) a) | K14: 2.1 Part B b) ii)
D15: 1.2 Part A (1) g) | E15: E | J15: 3.6 Part A (2) a) i) | K15: 2.1 Part B c)
D16: 2.1 Part A (1) a) | E16: C | J16: 3.6 Part A (2) a) ii) | K16: 2.1 Part B d) i)
D17: 2.1 Part A (1) b) i or ii | E17: E | J17: 5.1 Part A (2) a) | K17: 2.1 Part B d) ii)
D18: 2.1 Part A (1) b) A | E18: D | J18: 5.1 Part A (2) b) | K18: 2.1 Part B d) iii)
D19: 2.1 Part A (1) c) | E19: C | J19: 5.1 Part A (2) c) | K19: 2.1 Part B e)
D20: 2.1 Part A (1) d) | E20: A | J20: 6.1 Part A (2) a) | K20: 2.2 Part B a)
D21: 2.2 Part A(1) a) | E21: C | J21: 6.4 Part A (2) a) | K21: 2.2 Part B b)
D22: 2.2 Part A(1) b) i) | E22: B | J22: 6.7 Part A (2) a) | K22: 2.2 Part B c)
D23: 2.2 Part A(1) b) ii) | E23: B | J23: 6.8 Part A (2) a) | K23: 2.2 Part B d)
D24: 2.2 Part A(1) c) | E24: A | K24: 2.2 Part B e)
D25: 2.3 Part A (1) a) | E25: A | K25: 2.3 Part B a)
D26: 3.1 Part A(1) a) | E26: C | K26: 3.1 Part B a)
D27: 3.1 Part A(1) b) | E27: C | K27: 3.1 Part B b)
D28: 3.2 Part A(1) a) | E28: A | K28: 3.1 Part B c)
D29: 3.2 Part A(1) b) | E29: A | K29: 3.1 Part B d)
D30: 3.3 Part A(1) a) | E30: A | K30: 3.3 Part B a)
D31: 3.4 Part A(1) a) | E31: A | K31: 3.3 Part B b)
D32: 3.6 Part A(1) a) | E32: A | K32: 3.3 Part B c)
D33: 4.1 Part A1 a) (i) <2000TPA | E33: B | K33: 3.3 Part B d) i)
D34: 4.1 Part A1 a) (i) >2000TPA | E34: C | K34: 3.3 Part B d) ii)
D35: 4.1 Part A1 a) (ii) <2000TPA | E35: B | K35: 3.3 Part B e)
... D74: 4.3 Part A1 (a) B) | E74: A | K74: Associated process
D75: 4.4 Part A1 (a) >2000 TPA | E75: C
D76: 4.4 Part A1 (a) <2000 TPA | E76: D
D77: 4.5 Part A1 (a) >2000 TPA | E77: C
D78: 4.5 Part A1 (a) <2000 TPA | E78: D
D79: 4.6 Part A1 (a) >2000 TPA | E79: C
D80: 4.6 Part A1 (a) <2000 TPA | E80: D
D81: 4.7 Part A1 (a) | E81: A
D82: 5.1 Part A1 (a) >10 TPD | E82: E
D83: 5.1 Part A1 (a) (A) | E83: C
D84: 5.1 Part A1 (a) (B) | E84: C
D85: 5.1 Part A1 (a) (C) | E85: B
D86: 5.1 Part A1 (b) | E86: E
... D139: 6.10 Part A (1) a) | E139: E
