Workbook

Sheet Intro
A1: How to use
A2: 1. save a copy of this checklist into your WIP. Do not amend this document (including deleting tabs) without doing this first as deleting tabs cannot be undone.
A3: 2. select what tabs you need to keep/delete based on the application type you are determining. See below for types
A4: 3. on each non-supporting documents tab select the application type on the filtered section, and hide the options (if relevant)
A5: 4. read each question and applicable drafting notes (in pink) carefully, as some of the questions have changed. Remember to delete the drafting notes before saving the final version to the DMS
A6: 5. some questions give pre-recorded answers, you should pick the one answered in the form
A7: 6. the checklist will record the number of "no" answers on each tab and summarise them on the decisions and actions tab.
A8: 7. any "no" that is highlighted as red will trigger a returned application
A11: Type | B11: Drafting note | C11: Tabs
A12: New SRP | B12: Select this for all new waste standard rule applications- site based and mobile plant If the application is for SR2012 No15 then you should send a draft permit to the applicant and get them to review and confirm the PERMIT boundary. | C12: Details & Dates Doc's & info New SRP SRP location Fee Calculator Decision and actions required Relevant supporting doc tab(s)
A13: New Bespoke | B13: Select this for all new bespoke applications. (mining waste to be added to forms) | C13: Details & Dates Doc's & info New Besp Fee Calculator Decision and actions required Relevant supporting doc tab(s)
A14: Vary SRP | B14: Use this option for variation applications to add or to become a standard rule activity, for minor technical variations to increase the permit boundary, or for admin variations of SRPs. If the application is for SR2012 No15 then you should send a draft permit to the applicant and get them to review and confirm the PERMIT boundary | C14: Details & Dates Doc's & info Var SRP Fee Calculator Decision and actions required Relevant supporting doc tab(s)
A15: Vary Bespoke | B15: Use this for all types of variations for bespoke permits- admins, minor technical and normal | C15: Details & Dates Doc's & info Var Besp Fee Calculator Decision and actions required Relevant supporting doc tab(s)
A16: Transfer | B16: Select this for all transfer applications – both full and partial. | C16: Details & Dates Doc's & info Transfer Fee Calculator Decision and actions required Relevant supporting doc tab(s)
A17: Surrender | B17: Select this for all waste facility and non-installation mining waste activity surrender applications. The checklist can be used for all types of surrender application; normal, low risk, basic and ‘non-operational’. This checklist applies to both full and partial surrenders This checklist applies to both site and mobile plant permits. | C17: Details & Dates Doc's & info Surrender Fee Calculator Decision and actions required Relevant supporting doc tab(s)
A18: New Bespoke Extractive Waste | B18: Select this for all new Tier 2 and Tier 3 bespoke mining waste permit applications. For standard rule mining waste permit applications use the standard rule permit option. | C18: Details & Dates Doc's & info Part A Part F1 Part B1/C1 Part B2/C2 Part B5/C5 Decision and actions required Relevant supporting doc tab(s)
A19: New Bespoke Tier 2/SRP with location assessment | B19: Select this for all new Tier 2 bespoke applications, that are not mining waste. | C19: Details & Dates Doc's & info Part A Part F1 Part B2/C2 Part B4/C4 Decision and actions required Relevant supporting doc tab(s)

Sheet Details & Dates
A1: Application details
A2: PAN reference | B2: PAN-022804
A3: EPR reference | B3: DB3095FM
A4: Applicant name | B4: Hydro Aluminium Deeside Limited
A5: Facility name | B5: Hydro Aluminium Deeside Ltd Bridge Road, Wrexham Industrial Estate, Wrexham, LL13 9UT
A6: Area | B6: North East
A7: Operations Team | B7: North East Waste Regulation
A8: Site officer/team leader | B8: Carys Williams WasteReg.NE@cyfoethnaturiolcymru.gov.uk
A9: Total time recording | B9: 1080
A11: Relevant dates | C11: New Bespoke Tier 2 | D11: New SRP | E11: New Bespoke | F11: Var SRP | G11: Var Bespoke | H11: Transfer | I11: Surrender
A12: Date application arrived in NRW | B12: 45135 | C12: Y | D12: Y | E12: Y | F12: Y | G12: Y | H12: Y | I12: Y
A13: Date application acknowledged | B13: 45135 | C13: Y | D13: Y | E13: Y | F13: Y | G13: Y | H13: Y | I13: Y
A14: Date not duly made (information request sent) | B14: 45243 | C14: Y | D14: Y | E14: Y | F14: Y | G14: Y | H14: Y | I14: Y
A15: Date of any additional not duly made requests | B15: n/a | C15: Y | D15: Y | E15: Y | F15: Y | G15: Y | H15: Y | I15: Y
A16: Date duly made The duly made date is either (I) the date the application was originally received at Natural Resources Wales in the event of no additional information being requested during the duly make process. OR (ii) the date at which the final piece of additional information requested during the duly make process is received | B16: 45244 | C16: Y | D16: Y | E16: Y | F16: Y | G16: Y | H16: Y | I16: Y
A17: Date returned to applicant or deemed withdrawn | B17: n/a | C17: Y | D17: Y | E17: Y | F17: Y | G17: Y | H17: Y | I17: Y
A18: Date applicant sent duly made confirmation | B18: 45245 | C18: Y | D18: Y | E18: Y | F18: Y | G18: Y | H18: Y | I18: Y
A19: Date sent to external consultees (if applicable) | C19: N | D19: N | E19: Y | F19: N | G19: Y | H19: N | I19: Y
A20: Date application publicised on Website | C20: N | D20: N | E20: Y | F20: N | G20: Y | H20: N | I20: N
A21: Date advert placed in newspaper (if applicable) | C21: N | D21: N | E21: Y | F21: N | G21: Y | H21: N | I21: N
A22: Date application publicised on Natural Resources Wales Website and on Social Media (Twitter and Facebook Page) | B22: Mining waste only | C22: N | D22: N | E22: Y | F22: N | G22: Y | H22: N | I22: N
A23: Date email sent to MP’s /AM’s (if required and agreed by the Area) | B23: Mining waste only | C23: N | D23: N | E23: Y | F23: N | G23: Y | H23: N | I23: N

Sheet Doc's & info
A1: Documents and information checklist: | D1: New Bespoke Tier 2 | E1: New SRP | F1: New Bespoke | G1: Var SRP | H1: Var Bespoke | I1: Transfer | J1: Surrender
B2: Yes/No/NA | C2: Comments | D2: Y | E2: Y | F2: Y | G2: Y | I2: Y | J2: Y
A3: Environment Management System summary | C3: Full transfer: Only needed if the new holder isn’t/ can’t use the existing management system. Part Transfer: To reflect the split of activities/ those activities transferring to the proposed new holder. | D3: N | E3: N | F3: Y | G3: N | H3: Y | I3: Y | J3: N | L3: Yes
A4: Non technical summary | C4: Mining waste: Non technical summary must include a justification for the waste facility Part Transfer: This must explain the split of activities. Surrender- site- part: ONLY IF required – to better explain the extent of the activities/ area of land being surrendered. | D4: N | E4: N | F4: Y | G4: N | H4: Y | I4: Y | J4: Y | L4: No
A5: Site plan | B5: Yes | C5: Hydro Wrexham sorting HubSite | D5: Y | E5: Y | F5: Y | G5: Y | H5: Y | I5: Y | J5: Y | L5: N/A
A6: Site specific risk assessment | C6: Plan1 | D6: Y | E6: N | F6: Y | G6: N | H6: Y | I6: Y | J6: N
A7: Site condition report | D7: N | E7: N | F7: Y | G7: N | H7: Y | I7: N | J7: N
A8: Odour management plan | C8: Part Transfer: Only needed if the new holder isn’t/ can’t use the existing management system. | D8: N | E8: N | F8: Y | G8: N | H8: Y | I8: Y | J8: N
A9: Waste Recovery Plan | B9: N/A | D9: N | E9: Y | F9: Y | G9: Y | H9: Y | I9: Y | J9: N
A10: Fire prevention mitigation plan | C10: T3 New bespoke: only required if proposed waste is listed as one of the combustible materials in the current guidance – for duly making, ensure the plan has been produced in accordance with our current guidance – look at the headings in the guidance and check that the FPMP is based on this. | D10: N | E10: N | F10: Y | G10: N | H10: Y | I10: Y | J10: N
A11: Noise impact assessment and management plan | C11: T3 New bespoke: required unless there is a low risk of impact, use the qualitative noise screening tool to help guide your decision – for duly making, ensure the NIA report covers the key elements required by clause 12 of BS4142, and that modelling files (we use Candara & Sound Plan, if they used different software they must provide .qi files), calculations and monitoring data has been provided) | D11: N | E11: N | F11: Y | G11: N | H11: Y | I11: Y | J11: N
A12: Waste Management Plan | C12: Mining Waste only Part Transfer: Only needed if the new holder isn’t/ can’t use the existing management system. | D12: N | E12: N | F12: Y | G12: N | H12: Y | I12: Y | J12: N
A13: Other management plans | C13: Part Transfer: Only needed if the new holder isn’t/ can’t use the existing management system. | D13: N | E13: N | F13: Y | G13: N | H13: Y | I13: Y | J13: N
A14: Technical competence information Including continuing competence evidence, if needed | B14: Yes | C14: LRQA audit agreement_hydroaluminiumdeesideltdsigned | D14: Y | E14: Y | F14: Y | G14: Y | H14: Y | I14: Y | J14: N
A15: Financial information | B15: N/A | D15: Y | E15: Y | F15: Y | G15: Y | H15: Y | I15: Y | J15: N
A16: Financial Provision information | B16: N/A | D16: N | E16: Y | F16: Y | G16: Y | H16: Y | I16: Y | J16: N
A17: Relevant conviction information | B17: N/A | D17: Y | E17: Y | F17: Y | G17: Y | H17: Y | I17: Y | J17: N
A18: Fee | B18: Yes | C18: Amount: £1837 Date Paid: 07/05/2023 Transaction Refence: BS020823/24/ D MOREAR WPCC13478 MyNRW reference: 2118098 | D18: Y | E18: Y | F18: Y | G18: Y | H18: Y | I18: Y | J18: Y
A19: Industrial Emissions Directive (IED) Activity Is the activity/is that the applicant has applied for subject to the Industrial Emissions Directive? These activities include: - Pre-treatment of waste for incineration and co-incineration - Storage of hazardous waste - Biological treatment of waste (i.e. composting and anaerobic digestion) - Treatment of slags and ashes - Treatment of metal in shredders | C19: T3 New bespoke: IMPORTANT – Please refer to “IED” in the training folder for further information before you duly make the application. | D19: N | E19: N | F19: Y | G19: N | H19: Y | I19: N | J19: N
A20: If it is an IED activity, has the applicant provided information to demonstrate how they will comply with the relevant limits and therefore be able to remain as a waste facility? | C20: T3 New bespoke: Do not duly make the application if you are unsure. If the applicant cannot comply with the limit, they will need to apply for an installation permit. | D20: N | E20: N | F20: Y | G20: N | H20: Y | I20: N | J20: N
A21: Evidence to support basic surrender | C21: Surrender- site: only if operator claiming basic surrender | D21: N | E21: N | F21: N | G21: N | H21: N | I21: N | J21: Y
A22: Evidence to support low risk surrender | C22: Surrender- site: only if operator claiming low risk surrender | D22: N | E22: N | F22: N | G22: N | H22: N | I22: N | J22: Y
A23: Evidence to support non-operational surrender | C23: Surrender- site: only if operator claims activities haven’t started | D23: N | E23: N | F23: N | G23: N | H23: N | I23: N | J23: Y
A24: Evidence to support full/normal surrender | C24: Surrender- site: only if operator claiming full/normal i.e. has reference data been submitted) | D24: N | E24: N | F24: N | G24: N | H24: N | I24: N | J24: Y
A25: Site closure/ surrender report | C25: Surrender- site: The content of this report should enable us to confirm the area being surrendered matches the relevant permitted area. | D25: N | E25: N | F25: N | G25: N | H25: N | I25: N | J25: Y
A26: Report on ‘steps taken to avoid pollution/ return the site to satisfactory sate’. | D26: N | E26: N | F26: N | G26: N | H26: N | I26: N | J26: Y
A27: Site plan showing area being surrendered | D27: N | E27: N | F27: N | G27: N | H27: N | I27: N | J27: Y
A28: Appropriate forms submitted to the WR or WQ teams? | C28: Mining Waste only | D28: N | E28: N | F28: Y | G28: N | H28: Y | I28: N | J28: N
A29: Has geoscience made any comment on the WQ/WR forms that may be considered in determination? | C29: Mining Waste only | D29: N | E29: N | F29: Y | G29: N | H29: Y | I29: N | J29: N
A30: Percentage of required documents missing | B30: =(100*(COUNTIF(B3:B29,"No"))/((COUNTIF(B3:B29,"Yes"))+(COUNTIF(B3:B29,"No")))) -> 0 | C30: Where over 25% of responses are no, the application is regarded as incomplete | D30: Y | E30: Y | F30: Y | G30: Y | H30: Y | I30: Y | J30: Y

Sheet New SRP
A1: New SRP
A2: Qu | B2: Action | C2: Yes/No/NA | D2: Comments | E2: SR2009 No8 | F2: SR2017 No1 | G2: All other SRPs | I2: Yes
A3: Form | B3: Tell us what type of applicant you are has the type of applicant question answered? | C3: Yes | D3: company or corporate body: Hydro Aluminium Deeside Limited, Company registration number 1786117 | E3: Y | F3: Y | G3: Y | I3: No
A4: Form | B4: Tell us your details if you are applying as an individual If an individual, has the individual information provided? | C4: N/A | E4: Y | F4: Y | G4: Y | I4: N/A
A5: Form | B5: Tell us your details if you're an organisation of individuals (partnerships) If an organisation of individuals has the organisations details been provided? | C5: N/A | E5: Y | F5: Y | G5: Y
A6: Form | B6: Tell us about any partners If an organisation of individuals has partner 1-10 details been provided? | C6: N/A | E6: Y | F6: Y | G6: Y
A7: Form | B7: Tell us about your application as a public body If a public body, has the public body name been given? | C7: N/A | E7: Y | F7: Y | G7: Y
A8: Form | B8: has executive officer's details been given? | C8: N/A | E8: Y | F8: Y | G8: Y
A9: Form | B9: Tell us about your application as a registered company or other corporate body has the registered with Companies House question answered? | C9: Yes | D9: answered Yes- see above | E9: Y | F9: Y | G9: Y
A10: Form | B10: Give us evidence that you are a legal body that we can issue a permit to If answered No; has the legal body details been provided | C10: Yes | E10: Y | F10: Y | G10: Y
A11: Form | B11: has the evidence that you are a legal body been provided? | C11: Yes | E11: Y | F11: Y | G11: Y
A12: Form | B12: Tell us about your application as a registered company or other corporate body If answered Yes: has the company details been given? | C12: Yes | E12: Y | F12: Y | G12: Y
A13: Info | B13: Registered companies only; Is it registered and active on Companies House? | C13: Yes | D13: Date checked: 06/11/23 | E13: Y | F13: Y | G13: Y
A14: Info | B14: Is the applicant a legal person as per definition of ‘operator’? | C14: N/A | E14: Y | F14: Y | G14: Y
A15: Form | B15: Tell us who we can talk to about your application has the application contact details been provided? | C15: Yes | D15: Joel Priest: joel.priest@hydro.com | E15: Y | F15: Y | G15: Y
A16: Form | B16: Give us details of the person we can talk to about your operation has the operation contact details been provided? | C16: Yes | D16: Joel Priest: joel.priest@hydro.com | E16: Y | F16: Y | G16: Y
A17: Form | B17: Tell us who we can talk to about billing has the billing contact details been provided? | C17: Yes | D17: Dan Morear: dan.morear@hydro.com | E17: Y | F17: Y | G17: Y
A18: Form | B18: Tell us about the site's landowner has the landowner question been answered? | C18: Yes | D18: answered yes | E18: Y | F18: Y | G18: Y
A19: Form | B19: Landowner's details Has the landowner's details been provided? | C19: Yes | D19: Hyrdo Aluminium Deeside Limited is the land owner. | E19: Y | F19: Y | G19: Y
A20: Form | B20: Tell us about any pre-application advice we've given you has a pre-application reference been provided? | C20: Yes | D20: PPN-01033 | E20: Y | F20: Y | G20: Y
A21: Info | B21: Pre-application record found in DMS? | C21: Yes | D21: https://cyfoethnaturiolcymru.sharepoint.com/teams/Regulatory/Permitting/North%20EPR%20Waste%20Operations/Forms/NRW%20Perm-Comp%20Document%20Set/docsethomepage.aspx?ID=2747538&FolderCTID=0x0120D52000824C7CCC16790D469B8E16E1874A14710200EAC69A20958F6A4FB12BFE363C9AA20D&List=f4145418-6eb2-4e2f-90f8-d42e4734b249&RootFolder=%2Fteams%2FRegulatory%2FPermitting%2FNorth%20EPR%20Waste%20Operations%2FPPN%2D01033&RecSrc=%2Fteams%2FRegulatory%2FPermitting%2FNorth%20EPR%20Waste%20Operations%2FPPN%2D01033 | E21: Y | F21: Y | G21: Y
A22: Form | B22: Tell us what standard rules you are applying for have we been told what standard rules are being applied for? | C22: Yes | D22: SR2008 No21 Metal | E22: Y | F22: Y | G22: Y
A23: Form | B23: Tell us about the site Has the site name, adress and grid reference been given | C23: Yes | D23: Hydro Wrexham Scrap Hub, Bryn Lane, Wrexham Industrial Estate, Wrexham, LL13 9UU. 339040,350123. Gird reference and postcode go to different locations. Following a Not Duly made email a correct postcode of LL13 9UT was provided. | G23: Y
A24: Form | B24: Upload your site plan Has the site plan been uploaded? | C24: Yes | D24: document reference: Hydro Wrexham sorting HubSite Plan1 | G24: Y
A25: Form | B25: Tell us about any relevant offences has the relevant offences question been answered? | C25: Yes | D25: answered no No offence or convictions noted or declared. | E25: Y | F25: Y | G25: Y
A26: Form | B26: Tell us about the person convicted of a relevant offence If answered yes, have details been given? | C26: N/A | E26: Y | F26: Y | G26: Y
A27: Form | B27: Do you want to tell us about other relevant people with relevant offences? has other relevant people with relevant offences question answered? | C27: N/A | D27: answered no | E27: Y | F27: Y | G27: Y
A28: Form | B28: Tell us about other relevant offences If answered yes, have details been given? | C28: N/A | E28: Y | F28: Y | G28: Y
A29: Form | B29: Tell us about your technical ability Has technical ability question been answered? Do they already hold the relevant, formal qualifications? | C29: Yes | D29: answered no | E29: Y | F29: Y | G29: Y
A30: Form | B30: Give us your technical ability evidence has technical ability evidence been provided? This will be certificates or registration documents | C30: Yes | E30: Y | F30: Y | G30: Y
A31: Form | B31: Tell us about insolvency or bankruptcy has insolvency/ bankruptcy question been answered? | C31: Yes | D31: answered no bankruptcy | E31: Y | F31: Y | G31: Y
A32: Form | B32: Tell us about relevant people with bankruptcy or insolvency If answered yes, have details been given? | C32: N/A | E32: Y | F32: Y | G32: Y
A33: Form | B33: if required, have relevant documents been provided? | C33: N/A | E33: Y | F33: Y | G33: Y
A34: Form | B34: Tell us about your management system has the management system to be used been selected? | C34: Yes | D34: answered ISO 14001 | E34: Y | F34: Y | G34: Y
A35: Form | B35: have they confirmed the management system will meet the guidance | C35: Yes | E35: Y | F35: Y | G35: Y
A36: Form | B36: How we collect your personal data have they confirmed they understand how we will use data? | C36: Yes | E36: Y | F36: Y | G36: Y
A37: Form | B37: Freedom of Information have they confirmed they understand the Freedom of Information Act information? | C37: Yes | E37: Y | F37: Y | G37: Y
A38: Form | B38: National security Has the national security question been answered? | C38: Yes | D38: answered no | E38: Y | F38: Y | G38: Y
A39: Form | B39: Upload the national security letter you sent to Welsh Ministers If answered yes, has the letter been provided? | C39: N/A | E39: Y | F39: Y | G39: Y
A40: Form | B40: Do you want to make a confidentiality claim? Has the confidentiality claim question been answered | C40: Yes | D40: answered no | E40: Y | F40: Y | G40: Y
...

Sheet Var SRP
A1: Variation of an SRP
A2: Qu | B2: Action | C2: Yes/No/NA | D2: Comments | E2: SR2009 No8 | F2: SR2017 No1 | G2: All other SRPs | I2: Yes
A3: Form | B3: Which permit do you want to change? Has the permit number been given? | E3: Y | F3: Y | G3: Y | I3: No
A4: Form | B4: Tell us about any pre-application advice we've given you has a pre-application reference been provided? | D4: n/a if no pre-app has been detailed by the applicant | E4: Y | F4: Y | G4: Y | I4: N/A
A5: Info | B5: Pre-application record found in DMS? | D5: Check DMS even if applicant has not provided info about pre-application- including CAR forms. n/a if none present, as above. | E5: Y | F5: Y | G5: Y
A6: Form | B6: Do your changes involve a name or address? Has the question been answered? | D6: Delete: answered yes/no | E6: Y | F6: Y | G6: Y
A7: Form | B7: Tell us what type of applicant you are has the type of applicant question answered? | D7: Delete: individual/organisation of individuals (e.g. partnership)/public body/company or corporate body | E7: Y | F7: Y | G7: Y
A8: Form | B8: Tell us your up to date details as an individual with a permit If an individual, has the individual information provided? | E8: Y | F8: Y | G8: Y
A9: Form | B9: Has explanation been given? | E9: Y | F9: Y | G9: Y
A10: Form | B10: Changes to details of your organisation of individuals (e.g. partnerships) If a partnership, have details of what's changing been given? | E10: Y | F10: Y | G10: Y
A11: Form | B11: Tell us about administrative changes to your public body If a public body, has the public body name been given? | E11: Y | F11: Y | G11: Y
A12: Form | B12: Have details of what's changing been given? | E12: Y | F12: Y | G12: Y
A13: Form | B13: Tell us about administrative changes to your company If a company, have details of what's changing been given? | E13: Y | F13: Y | G13: Y
A14: Info | B14: Registered companies only; Is it registered and active on Companies House? | D14: Date checked: | E14: Y | F14: Y | G14: Y
A15: Form | B15: Do you want to make any other changes to your permit? Has the question been answered? | D15: Delete: answered yes/no | E15: Y | F15: Y | G15: Y
A16: Form | B16: Do you want to increase the area of your standard rules permit? Has the question been answered? | D16: Delete: answered yes/no | E16: Y | F16: Y | G16: Y
A17: Form | B17: Upload a new site plan Has a site plan been uploaded? | E17: Y | F17: Y | G17: Y
A18: Form | B18: Do you want to add standard rule activities to your permit? Has the question been answered? | D18: Delete: answered yes/no | E18: Y | F18: Y | G18: Y
A19: Form | B19: Tell us what standard rules you are applying to add to your permit If yes, have the rule set(s) been given? | E19: Y | F19: Y | G19: Y
A20: Form | B20: Tell us about your waste recovery plan SR2017 No1 (waste recovery plan) only Has the question re having already assessed the plan been answered? | D20: Delete: answered yes-no changes/yes-changes/no | E20: N | F20: Y | G20: N
A21: Form | B21: Give us your waste recovery plan has the WRP been uploaded? | E21: N | F21: Y | G21: N
A22: Form | B22: Tell us about the changes you have made to your waste recovery plan If changes have been made; has a summary of the changes been given? | E22: N | F22: Y | G22: N
A23: Form | B23: Tell us about your mining waste operation SR2009 No8 (mining waste) only has the waste management plan question been answered? | D23: Delete: answered yes/no | E23: Y | F23: N | G23: N
A24: Form | B24: has the inspection question been answered? | D24: Delete: answered yes/no | E24: Y | F24: N | G24: N
A25: Form | B25: has the Category A facility justification question been answered? | D25: Delete: answered yes/no | E25: Y | F25: N | G25: N
A26: Form | B26: has the characterisation question been answered? | D26: Delete: answered yes/no | E26: Y | F26: N | G26: N
A27: Form | B27: has the inert confirmation question been answered? | D27: Delete: answered yes/no | E27: Y | F27: N | G27: N
A28: Form | B28: has the quantity question been answered? | D28: Delete: answered yes/no | E28: Y | F28: N | G28: N
A29: Form | B29: has the waste generation and treatment question been answered? | D29: Delete: answered yes/no | E29: Y | F29: N | G29: N
A30: Form | B30: has the adverse effect and preventive measures question been answered? | D30: Delete: answered yes/no | E30: Y | F30: N | G30: N
A31: Form | B31: has the closure question been answered? | D31: Delete: answered yes/no | E31: Y | F31: N | G31: N
A32: Form | B32: has the land condition survey question been answered? | D32: Delete: answered yes/no | E32: Y | F32: N | G32: N
A33: Form | B33: has the inert mining waste facility question been answered? | D33: Delete: answered yes/no | E33: Y | F33: N | G33: N
A34: Form | B34: has the number of inert mining waste facilities been given? | E34: Y | F34: N | G34: N
A35: Form | B35: has the sector category been given? | D35: Delete: answered construction/industrial/energy/other | E35: Y | F35: N | G35: N
A36: Form | B36: Confirm that you are able to meet the standard rules criteria Have they confirmed they will meet the SRP? | E36: Y | F36: Y | G36: Y
A37: Form | B37: Do you want to consolidate (combine) a number of permits as part of this proposed change? Has the question been answered? | D37: Delete: answered yes/no | E37: Y | F37: Y | G37: Y
A38: Form | B38: Tell us which permits you want to consolidate Have the permit numbers been given? | E38: Y | F38: Y | G38: Y
A39: Form | B39: Tell us who we can talk to about your application has the application contact details been provided? | E39: Y | F39: Y | G39: Y
A40: Form | B40: Give us details of the person we can talk to about your operation has the operation contact details been provided? | E40: Y | F40: Y | G40: Y
...

Sheet SRP location
A1: Location criteria checks- New SRP and Variation SRP only
B2: Answer: • Yes - if the criteria applies and the site is within the relevant distance, • No – if the criteria applies but the site is not within relevant distance, • N/A – if the criteria isn’t relevant to the rule set(s) you’re determining.
A3: Qu # | B3: Action | C3: Yes/No/NA | D3: Comments/ Document Ref. if given | G3: Yes
A4: 1 | B4: Special Areas of Conservation (SAC) | C4: No | D4: none within 500m of site as per SR conditions. | G4: No
A5: 2 | B5: Special Protection Area (SPA) | C5: No | D5: none within 500m of site as per SR conditions. | G5: N/A
A6: 3 | B6: Ramsar | C6: No | D6: none within 500m of site as per SR conditions.
A7: 4 | B7: Site of Special Scientific Interest (SSSI) | C7: No | D7: none within 500m of site as per SR conditions.
A8: 5 | B8: Protected species | C8: N/A
A9: 6 | B9: Protected Habitats | C9: N/A
A10: 7 | B10: Marine Protected Area (MPA) | C10: N/A
A11: 8 | B11: National Nature Reserve (NNR) | C11: N/A
A12: 9 | B12: Local Nature Reserve (LNR) | C12: N/A
A13: 10 | B13: Local Wildlife Site (LWS) | C13: N/A
A14: 11 | B14: Ancient Woodland | C14: N/A
A15: 12 | B15: World Heritage Site | C15: N/A
A16: 13 | B16: National Park | C16: N/A
A17: 14 | B17: Area of Outstanding Natural Beauty (Aon) | C17: N/A
A18: 15 | B18: Heritage Coast | C18: N/A
A19: 16 | B19: Scheduled Ancient Monument (SAM) | C19: N/A
... A25: 22 | B25: Well used for drinking water | C25: No
A26: 23 | B26: Spring used for drinking water | C26: No | D26: There is a water issue 10ms north of site boundry however having assessed the water course it is not for drinking water or other private use. See mapping report for details.
A27: 24 | B27: Borehole used for drinking water | C27: No
A28: 25 | B28: Water course | C28: N/A
A29: 26 | B29: Groundwater Source Protection Zone 1 | C29: N/A
A30: 27 | B30: Groundwater Source Protection Zone 2 | C30: N/A
A31: 28 | B31: Well used for domestic/ food production | C31: N/A
A32: 29 | B32: Spring used for domestic/ food production | C32: N/A
A33: 30 | B33: Borehole used for domestic/ food production | C33: N/A
A34: 31 | B34: In an Air Quality Management Area (AQMA) | C34: N/A
A35: 32 | B35: Building | C35: N/A

Sheet New Besp
A1: New Bespoke
A2: Qu | B2: Action | C2: Yes/No/NA | D2: Comments | F2: Yes
A3: Form | B3: Tell us what type of applicant you are has the type of applicant question answered? | D3: Delete: individual/organisation of individuals (e.g. partnership)/public body/company or corporate body | F3: No
A4: Form | B4: Tell us your details if you are applying as an individual If an individual, has the individual information provided? | F4: N/A
A5: Form | B5: Tell us your details if you're an organisation of individuals (partnerships) If an organisation of individuals has the organisations details been provided?
A6: Form | B6: Tell us about any partners If an organisation of individuals has partner 1-10 details been provided?
A7: Form | B7: Tell us about your application as a public body If a public body, has the public body name been given?
A8: Form | B8: has executive officer's details been given?
A9: Form | B9: Tell us about your application as a registered company or other corporate body has the registered with Companies House question answered? | D9: Delete: answered yes/no
A10: Form | B10: Tell us about your application as a registered company or other corporate body If answered Yes: has the company details been given?
A11: Info | B11: Registered companies only; Is it registered and active on Companies House? | D11: Date checked:
A12: Info | B12: Is the applicant a legal person as per definition of ‘operator’?
A13: Form | B13: Give us evidence that you are a legal body that we can issue a permit to If answered No; has the legal body details been provided
A14: Form | B14: has the evidence that you are a legal body been provided?
A15: Form | B15: Tell us who we can talk to about your application has the application contact details been provided?
A16: Form | B16: Give us details of the person we can talk to about your operation has the operation contact details been provided?
A17: Form | B17: Tell us who we can talk to about billing has the billing contact details been provided?
A18: Form | B18: Tell us about the site's landowner has the landowner question been answered? | D18: Delete: answered yes/no Not for mobile plant
A19: Form | B19: Landowner's details Has the landowner's details been provided? | D19: If the landowner details have not been correctly provided, we can ask for them, but it is not a reason to not duly make an application. Not for mobile plant
A20: Form | B20: Tell us about any pre-application advice we've given you has a pre-application reference been provided? | D20: n/a if no pre-app has been detailed by the applicant
A21: Info | B21: Pre-application record found in DMS? | D21: Check DMS even if applicant has not provided info about pre-application- including CAR forms. n/a if none present, as above.
A22: Form | B22: Tell us if you are applying for a bespoke mobile plant permit has the mobile plant question been answered? | D22: Delete: answered yes/no
A23: Form | B23: Tell us about the site have the site details been given including site name, address and 12 digit NGR? | D23: Not for mobile plant
A24: Form | B24: Upload your site plan Has a site plan been uploaded? | D24: not for mobile plant check where the activity is required to happen i.e. inside a building or not vs what is included in the site boundary to see if permit can be complied with/site boundary is suitable
A25: Info | B25: Does it meet the guidance? | D25: Not for mobile plant
A26: Form | B26: Give us a site condition report Has a SCR been uploaded? | D26: Not for mobile plant
A27: Form | B27: Give us a non-technical summary of your application Has a NTS been uploaded?
A28: Form | B28: Tell us about the activities you want to do For each waste activity has the name, description, D/R codes, and hazardous/non-hazardous treatment capacities been given?
A29: Form | B29: Tell us about the total storage capacity Have the total storage capacities of hazardous/non-hazardous and total annual throughput been given?
A30: Form | B30: Tell us about the type of waste you will accept on site Has a waste code document been uploaded? | D30: 99 codes should be queried. Please note that you can include a caveat on the waste code if you want to limit the waste that can be accepted.
A31: Form | B31: Do you plan to treat batteries? Has the question been answered? | D31: Delete: answered yes/no
A32: Form | B32: Tell us about your plan for treating batteries If answered yes, has a document been uploaded?
A33: Form | B33: Have you applied to deposit waste for recovery? Has the question been answered? | D33: Delete: answered yes/no
A34: Form | B34: Tell us about your waste recovery plan Has the question re having already assessed the plan been answered? | D34: Delete: answered yes-no changes/yes-changes/no
A35: Form | B35: Give us your waste recovery plan has the WRP been uploaded?
A36: Form | B36: Give us an environmental risk assessment Has a Risk Assessment been provided? | D36: Must include receptors identified during screening
A37: Form | B37: Do you need to tell us about point source emissions to air? Has the question been answered? | D37: Delete: answered yes/no
A38: Form | B38: Point source emissions to air If yes, has information on the Emission point reference and location, Source, Parameter, Amount, and Unit been given for each emission point? | D38: Is the site within an area designated within the Clean Air Plan for Wales?
A39: Form | B39: Do you need to tell us about point source emissions to water (not sewers)? Has the question been answered? | D39: Delete: answered yes/no
A40: Form | B40: Point source emissions to water (not sewers) If yes, has information on the Emission point reference and location, Source, Parameter, Amount, and Unit been given for each emission point?
...

Sheet Var Besp
A1: Variation of a bespoke
A2: Qu | B2: Action | C2: Yes/No/NA | D2: Comments | F2: Yes
A3: Form | B3: Tell us which permit(s) you want to change Has the permit number been given? | F3: No
A4: Form | B4: Tell us about any pre-application advice we've given you has a pre-application reference been provided? | D4: n/a if no pre-app has been detailed by the applicant | F4: N/A
A5: Info | B5: Pre-application record found in DMS? | D5: Check DMS even if applicant has not provided info about pre-application- including CAR forms. n/a if none present, as above.
A6: Form | B6: Do you want to make an administrative change? Has the question been answered? | D6: Delete: answered yes/no
A7: Form | B7: What type of permit holder are you? has the type of permit holder question answered? | D7: Delete: individual/organisation of individuals (e.g. partnership)/public body/company or corporate body
A8: Form | B8: Tell us your up to date details as an individual with a permit If an individual, has the individual information provided?
A9: Form | B9: Has explanation been given?
A10: Form | B10: Tell us about changes to details of your organisation of individuals (e.g. partnerships) If a partnership, have details of what's changing been given?
A11: Form | B11: Tell us about administrative changes to your public body If a public body, has the public body name been given?
A12: Form | B12: Have details of what's changing been given?
A13: Form | B13: Tell us about administrative changes to your company If a company, have details of what's changing been given?
A14: Info | B14: Registered companies only; Is it registered and active on Companies House? | D14: Date checked:
A15: Form | B15: Tell us who we can talk to about this administrative change Have contact details been given?
A16: Form | B16: Do want to make more changes to your permit? Has the question been answered? | D16: Delete: answered yes/no
A17: Form | B17: Do you want to make a minor technical or normal change to your permit? Has the question been answered? | D17: Delete: answered normal/minor technical
A18: Form | B18: Give a summary of your application Has a summary been given?
A19: Form | B19: Do you want to apply to consolidate permits? Has the question been answered? | D19: Delete: answered yes/no
A20: Form | B20: Identify all the permits you want to consolidate If yes, have permit numbers been given?
A21: Form | B21: Do want to make more changes to your permit? Has the question been answered? | D21: Delete: answered yes/no
A22: Form | B22: Do you want to add land to your permit or provide an updated site plan? Has the question been answered? | D22: Delete: answered yes/no
A23: Form | B23: Upload a site condition report and site plans for the extra land Has a SCR and site plan(s) been uploaded?
A24: Form | B24: Are you planning to treat batteries? Has the question been answered? | D24: Delete: answered yes/no
A25: Form | B25: Tell us how you will treat batteries If yes, has document been uploaded?
A26: Form | B26: Tell us about the waste activity you are applying to add or change For each waste activity has the name, description, D/R codes, and hazardous/non-hazardous treatment capacities been given?
A27: Form | B27: Tell us about the total storage capacity and annual throughput Have the total storage capacities of hazardous/non-hazardous and total annual throughput been given?
A28: Form | B28: Do you want to accept new types of waste on site? Has the question been answered? | D28: Delete: answered yes/no
A29: Form | B29: Tell us about new types of waste you will accept on site If yes, has a waste code document been uploaded? | D29: 99 codes should be queried. Please note that you can include a caveat on the waste code if you want to limit the waste that can be accepted.
A30: Form | B30: Have you applied to deposit waste for recovery? Has the question been answered? | D30: Delete: answered yes/no
A31: Form | B31: Tell us about your waste recovery plan Has the question re having already assessed the plan been answered? | D31: Delete: answered yes-no changes/yes-changes/no
A32: Form | B32: Give us your waste recovery plan has the WRP been uploaded?
A33: Form | B33: Tell us about changes you have made to your waste recovery plan Has a summary be given?
A34: Form | B34: Give an assessment of the risks each of your proposed activities cause to the environment Has a risk assessment been uploaded? | D34: Must include receptors identified during screening
A35: Form | B35: Do you need to tell us about point source emissions to air? Has the question been answered? | D35: Delete: answered yes/no
A36: Form | B36: Point source emissions to air If yes, has information on the Emission point reference and location, Source, Parameter, Amount, and Unit been given for each emission point? | D36: Is the site within an area designated within the Clean Air Plan for Wales?
A37: Form | B37: Have the measures used to monitor emissions been given?
A38: Form | B38: Has an assessment of sampling locations been given?
A39: Form | B39: Do you need to tell us about point source emissions to water (not sewers)? Has the question been answered? | D39: Delete: answered yes/no
A40: Form | B40: Point source emissions to water (not sewers) If yes, has information on the Emission point reference and location, Source, Parameter, Amount, and Unit been given for each emission point?
...

Sheet Transfer
A1: Transfer
A2: Qu | B2: Action | C2: Yes/No/NA | D2: Comments | E2: Full | F2: Part | H2: Yes
A3: Form | B3: Tell us what type of applicant you are has the type of applicant question answered? | D3: Delete: individual/organisation of individuals (e.g. partnership)/public body/company or corporate body | E3: Y | F3: Y | H3: No
A4: Form | B4: Tell us your details if you are applying as an individual If an individual, has the individual information provided? | E4: Y | F4: Y | H4: N/A
A5: Form | B5: Tell us your details if you're an organisation of individuals (partnerships) If an organisation of individuals has the organisations details been provided? | E5: Y | F5: Y
A6: Form | B6: Tell us about any partners If an organisation of individuals has partner 1-10 details been provided? | E6: Y | F6: Y
A7: Form | B7: Tell us about your application as a public body If a public body, has the public body name been given? | E7: Y | F7: Y
A8: Form | B8: has executive officer's details been given? | E8: Y | F8: Y
A9: Form | B9: Tell us about your application as a registered company or other corporate body has the registered with Companies House question been answered? | D9: Delete: answered yes/no | E9: Y | F9: Y
A10: Form | B10: Give us evidence that you are a legal body that we can issue a permit to If answered No; has the legal body details been provided | E10: Y | F10: Y
A11: Form | B11: has the evidence that you are a legal body been provided? | E11: Y | F11: Y
A12: Form | B12: Tell us about your application as a registered company or other corporate body If answered Yes: has the company details been given? | E12: Y | F12: Y
A13: Info | B13: Registered companies only; Is it registered and active on Companies House? | D13: Date checked: | E13: Y | F13: Y
A14: Info | B14: Is the applicant a legal person as per definition of ‘operator’? | E14: Y | F14: Y
A15: Form | B15: Tell us who we can talk to about your application has the application contact details been provided? | E15: Y | F15: Y
A16: Form | B16: Give us details of the person we can talk to about your operation has the operation contact details been provided? | E16: Y | F16: Y
A17: Form | B17: Tell us who we can talk to about billing has the billing contact details been provided? | E17: Y | F17: Y
A18: Form | B18: Are you applying to transfer a site or a mobile plant permit? Has question been answered? | D18: Delete: answered site/mobile plant | E18: Y | F18: Y
A19: Form | B19: Tell us about the site Has the site information been provided? | E19: Y | F19: Y
A20: Form | B20: Tell us the number of the permit you are applying to have transferred to you Has permit number been given? | E20: Y | F20: Y
A21: Form | B21: Tell us about any pre-application advice we've given you has a pre-application reference been provided? | D21: n/a if no pre-app has been detailed by the applicant | E21: Y | F21: Y
A22: Info | B22: Pre-application record found in DMS? | D22: Check DMS even if applicant has not provided info about pre-application- including CAR forms. n/a if none present, as above. | E22: Y | F22: Y
A23: Form | B23: Tell us if you are applying to transfer all or part of the permit to yourself Has question been answered? | D23: Delete: answered all/part | E23: Y | F23: Y
A24: Form | B24: Are you transferring a part of a standard rules or bespoke permit? Has question been answered? | D24: Delete: answered standard rules/bespoke | E24: N | F24: Y
A25: Form | B25: Is the applicant a legal person as per definition of ‘operator’? | E25: N | F25: Y
A26: Form | B26: Give the name of the standard rules set or sets you want transferred to you If SRP, has rule set numbers to be transferred been given? | E26: N | F26: Y
A27: Form | B27: Tell us which parts of the bespoke waste permit you want transferred to you If bespoke, have supporting documented been uploaded?? | E27: N | F27: Y
A28: Form | B28: Provide site plans for part transfers Have site plans been uploaded? | E28: N | F28: Y
A29: Form | B29: Tell us if the parts of the permit that are not being transferred need to be changed Has the question been answered? | D29: Delete: answered yes/no | E29: N | F29: Y
A30: Form | B30: Explain why you think the permit will need to be changed (varied) Has the explanation been given? | E30: N | F30: Y
A31: Form | B31: Will the management structure and management system remain substantially the same after transfer? Has question been answered and document(s) uploaded? | D31: Delete: answered yes/no The content of the document(s) uploaded will help dictate potentially the level of assessment required at determination: EXAMPLE: if the submitted document for this question says the TCM is the same as the one when we assessed the original permit, theoretically you do not need to assess the original award at determination, only the continuing competency. | E31: Y | F31: Y
A32: Form | B32: Tell us about any relevant offences has the relevant offences question been answered? | D32: Delete: answered yes/no | E32: Y | F32: Y
A33: Form | B33: Tell us about the person convicted of a relevant offence If answered yes, have details been given? | E33: Y | F33: Y
A34: Form | B34: Do you want to tell us about other relevant people with relevant offences? has other relevant people with relevant offences question answered? | D34: Delete: answered yes/no | E34: Y | F34: Y
A35: Form | B35: Tell us about other relevant offences If answered yes, have details been given? | E35: Y | F35: Y
A36: Form | B36: Tell us about your technical ability has technical ability evidence been provided? This will be certificates only | E36: Y | F36: Y
A37: Form | B37: Tell us about insolvency or bankruptcy has insolvency/ bankruptcy question been answered? | D37: Delete: answered yes/no | E37: Y | F37: Y
A38: Form | B38: Tell us about relevant people with bankruptcy or insolvency If answered yes, have details been given? | D38: Financial provision will be required if insolvent/bankrupt, or depending on activity type. | E38: Y | F38: Y
A39: Form | B39: if required, have relevant documents been provided? | E39: Y | F39: Y
A40: Form | B40: Tell us about your management system has the management system to be used been selected? | D40: Delete: answered EMAS, ISO14001/BS8555/Green Dragon/own | E40: Y | F40: Y
...

Sheet Surrender
A1: Surrender
A2: Qu # | B2: Action | C2: Yes/No/NA | D2: Comments/ Document Ref. if given | E2: Full- Site | F2: Part- Site | G2: Mobile Plant
A3: Form | B3: Tell us what type of applicant you are has the type of applicant question been answered? | D3: Delete: individual/organisation of individuals (e.g. partnership)/public body/company or corporate body | E3: Y | F3: Y | G3: Y | I3: Yes
A4: Form | B4: Tell us your details if you are applying as an individual If an individual have the details been provided? | E4: Y | F4: Y | G4: Y | I4: No
A5: Form | B5: Tell us your details if you're an organisation of individuals (partnerships) If an organisation of individuals has the organisations details been provided? | E5: Y | F5: Y | G5: Y | I5: N/A
A6: Form | B6: Tell us about all of the organisation's partners (Q4-13) If an organisation of individuals has partner 1-10 details been provided? | E6: Y | F6: Y | G6: Y
A7: Form | B7: Tell us about your application as a public body If a Public body; has the name been given? | E7: Y | F7: Y | G7: Y
A8: Form | B8: If a Public body; has the Executive officer’s details been given? | E8: Y | F8: Y | G8: Y
A9: Form | B9: Tell us about your company or corporate body registration If a company or corporate body; has the registered with Companies House question been answered? | D9: Delete: answered yes/no | E9: Y | F9: Y | G9: Y
A10: Form | B10: Tell us about your application as a registered company or other corporate body If answered yes: have the details been provided? | E10: Y | F10: Y | G10: Y
A11: Form | B11: has the date of company registration been given? | E11: Y | F11: Y | G11: Y
A12: Info | B12: Registered companies only. Is it registered and active on Companies House? | D12: Date checked: | E12: Y | F12: Y | G12: Y
A13: Form | B13: Give us evidence you are a legal body we can issue a permit to If answered no; has the legal body details been provided? | E13: Y | F13: Y | G13: Y
A14: Form | B14: has the evidence that you are a legal body been provided? | E14: Y | F14: Y | G14: Y
A15: Form | B15: Tell us who we can talk to about this application has the application contact details been provided? | E15: Y | F15: Y | G15: Y
A16: Form | B16: Give us details of the person we can talk to about your operation has the operation contact details been provided? | E16: Y | F16: Y | G16: Y
A17: Form | B17: Tell us who we can talk to about billing has the billing contact details been provided? | E17: Y | F17: Y | G17: Y
A18: Form | B18: Tell us the number of the permit you want to surrender Has the permit number been given? | E18: Y | F18: Y | G18: Y
A19: Form | B19: Tell us about any pre-application advice we've given you about this application has a pre-application reference been provided? | D19: n/a if no pre-app has been detailed by the applicant | E19: Y | F19: Y | G19: Y
A20: Info | B20: Pre-application record found in DMS? | D20: Check DMS even if applicant has not provided info about pre-application- including CAR forms. n/a if none present, as above. | E20: Y | F20: Y | G20: Y
A21: Form | B21: Are you applying to surrender a site or a mobile plant permit? has the permit type been chosen? | D21: Delete: answered site/mobile plant If Mobile Plant, questions 23 to 33 with be N/A | E21: Y | F21: Y | G21: Y
A22: Form | B22: Tell us about the site Has the site information been provided? | E22: Y | F22: Y | G22: N
A23: Info | B23: Does the site and company address(es) match the current permit? | E23: Y | F23: Y | G23: N
A24: Form | B24: Tell us what level of surrender you are applying for has the surrender type been given? | D24: Delete: answered basic/low risk/normal/non-operational | E24: Y | F24: Y | G24: N
A25: Form | B25: Give us confirmation from your compliance officer has confirmation evidence from site officer been provided? | D25: The area regulatory officer needs to confirm low risk/basic surrender pre-application agreement or other evidence before we can complete duly making. If we don’t have the agreement the application is not duly made and needs to be returned. Within this confirmation have Operations outlined that it is based on a review of the site records (e.g. CAR forms, waste returns, pollution history etc). | E25: Y | F25: Y | G25: N
A26: Form | B26: Tell us if the situation has changed since your site compliance offer gave you confirmation has any changes made been justified? | E26: Y | F26: Y | G26: N
A27: Form | B27: Tell us if you are applying to surrender all or part of the permit Have they told us if they are surrendering all or part of the permit? | D27: Delete: answered all/part | E27: Y | F27: Y | G27: N
A28: Form | B28: Provide maps (or plans) for part surrender If Part surrender has original and new site boundary plans been provided? | E28: N | F28: Y | G28: N
A29: Form | B29: Tell us which parts of the permit you want to cancel (surrender) If Part surrender have they told us what parts of the permit are to be surrendered? | E29: N | F29: Y | G29: N
A30: Form | B30: have additional document been uploaded? | E30: N | F30: Y | G30: N
A31: Form | B31: Tell us if the parts of the permit that are not being surrendered need to be changed If Part surrender; have they told us if conditions need varying? | D31: Delete: answered yes/no | E31: N | F31: Y | G31: N
A32: Form | B32: Give us a site condition report has the surrender site condition record/baseline report been provided? | E32: Y | F32: Y | G32: N
A33: Form | B33: Tell us whether any steps have been taken to avoid any pollution risk or to return the site to a satisfactory state has information on steps taken to avoid pollution/return site to satisfactory state been provided? | E33: Y | F33: Y | G33: N
A34: Form | B34: Tell us if a financial provision arrangement exists for this site has the financial provision question been answered? | D34: Delete: answered yes/no | E34: Y | F34: Y | G34: N
A35: Form | B35: Tell us the date you want to surrender the permit on has the surrender date been given?? | E35: Y | F35: Y | G35: Y
A36: Form | B36: How we collect your personal data have they confirmed they understand how we will use data? | E36: Y | F36: Y | G36: Y
A37: Form | B37: Freedom of Information have they confirmed they understand the Freedom of Information Act information? | E37: Y | F37: Y | G37: Y
A38: Form | B38: Do you want to make a confidentiality claim? Do they want to make a confidentiality claim? | D38: Delete: answered yes/no | E38: Y | F38: Y | G38: Y
A39: Form | B39: Give evidence to support your confidentiality claim If answered yes, has information been provided? | E39: Y | F39: Y | G39: Y
A40: Form | B40: If answered yes, has evidence been provided? | E40: Y | F40: Y | G40: Y
...

Sheet Fee calcs
A1: Type1 | B1: Type2 | C1: Table in charging scheme | D1: Charge code | E1: Fee relevant to your application? (Y/N then filter on Y) | F1: Amount SEE TOTAL AT THE BOTTOM WHEN FILTERED
A2: SRP | B2: New Application | C2: F10b | D2: WAA0001 | F2: 1837
A3: SRP- Mobile Plant | B3: New Application | C3: F10c | D3: WAA0005 | F3: 1284
A4: SRP- Mining Waste (SR2009No8) | B4: New Application | C4: F11b | D4: WAA0016 | F4: 997
A5: SRP | B5: Administrative Variation | C5: F10b | D5: WAA0003, WAA0006 (MP), WAA0018 (MW) | F5: 696
A6: SRP | B6: Minor Technical Variation | C6: F10b | D6: WAA0002, WAA0017 (MW) | F6: 2803
A7: SRP | B7: Transfer | C7: F10b | D7: WAA0004, WAA0007 (MP), WAA0019 (MW) | F7: 1803
A8: SRP- with location assessment- SR2010no12/13 only | B8: New Application | C8: F10d | D8: WAA0008 | F8: 4663
A9: SRP- with location assessment- SR2010no12/13 only | B9: Administrative Variation | C9: F10d | D9: WAA0010 | F9: 696
A10: SRP- with location assessment- SR2010no12/13 only | B10: Minor Technical Variation | C10: F10d | D10: WAA0009 | F10: 2803
A11: SRP- with location assessment- SR2010no12/13 only | B11: Transfer | C11: F10d | D11: WAA0011 | F11: 1803
A12: Tier 2 bespoke- SR2010no7/8/9/10/14 or SR2011no1 only | B12: Normal Variation | C12: F10c | D12: n/a | F12: 2005
A13: Tier 2 bespoke- SR2010no7/8/9/10/14 or SR2011no1 only | B13: Transfer | C13: F10c | D13: n/a | F13: 997
... A54: Component | B54: Bioaerosol risk assessment | C54: G3c | D54: WAA0061 | F54: 3606
A55: Total | F55: =SUBTOTAL(109,F2:F54) -> 1837

Sheet Decision and actions
A1: Decision and actions required | E1: New Bespoke Tier 2 | F1: New SRP | G1: New Bespoke | H1: Vary SRP | I1: Vary Bespoke | J1: Transfer | K1: Surrender
A2: Action | B2: Yes/No/NA | C2: Date | D2: Notes | E2: Y | F2: Y | G2: Y | H2: Y | I2: Y | J2: Y | K2: Y
A3: Are all relevant documents present and do they appear to cover the right information? | B3: No | C3: 13.11.23 | D3: declaration is incorrect | E3: Y | F3: Y | G3: Y | H3: Y | I3: Y | J3: Y | K3: Y | M3: Yes
A4: Is the fee correct? | B4: Yes | C4: 13.11.23 | E4: Y | F4: Y | G4: Y | H4: Y | I4: Y | J4: Y | K4: Y | M4: No
A5: Not duly made email sent for additional information/fee? | B5: Yes | C5: 13.11.23 | E5: Y | F5: Y | G5: Y | H5: Y | I5: Y | J5: Y | K5: Y | M5: N/A
A6: Has the requested information been received by the deadline date? | B6: Yes | C6: 14.11.23 | E6: Y | F6: Y | G6: Y | H6: Y | I6: Y | J6: Y | K6: Y
A7: Application returned? | B7: N/A | E7: Y | F7: Y | G7: Y | H7: Y | I7: Y | J7: Y | K7: Y
A8: Application withdrawn? | B8: N/A | E8: Y | F8: Y | G8: Y | H8: Y | I8: Y | J8: Y | K8: Y
A9: Application duly made? | B9: Yes | C9: 14.11.23 | E9: Y | F9: Y | G9: Y | H9: Y | I9: Y | J9: Y | K9: Y
A10: Status on PALS updated? | B10: Yes | C10: 15.11.23 | E10: Y | F10: Y | G10: Y | H10: Y | I10: Y | J10: Y | K10: Y
A11: Duly made email sent? | B11: Yes | C11: 15.11.23 | E11: Y | F11: Y | G11: Y | H11: Y | I11: Y | J11: Y | K11: Y
A12: Publicise on web? | B12: N/A | E12: Y | F12: Y | G12: Y | H12: Y | I12: Y | J12: N | K12: N
A13: Advertise in newspaper? | B13: N/A | E13: Y | F13: Y | G13: Y | H13: Y | I13: Y | J13: N | K13: N
A14: Publicise in Social Media ( email the link for the web advert to Comms team) | D14: Mining waste only | E14: N | F14: N | G14: Y | H14: N | I14: Y | J14: N | K14: N
A15: Consultation with Consultees (i.e. LPA, PHW, EH, HSE, PCT) | E15: Y | F15: N | G15: Y | H15: N | I15: Y | J15: N | K15: N
A16: Landowner notification letter sent | B16: N/A | E16: Y | F16: Y | G16: Y | H16: N | I16: N | J16: N | K16: N
A17: DM checklist saved to the DMS | B17: Yes | C17: 15.11.23 | E17: Y | F17: Y | G17: Y | H17: Y | I17: Y | J17: Y | K17: Y
A18: Landfill Disposal Tax team informed | B18: N/A | E18: Y | F18: Y | G18: Y | H18: Y | I18: Y | J18: Y | K18: Y
E19: Y | F19: Y | G19: Y | J19: Y | K19: Y
A20: ‘Duly Made’ officers notes: Use this box to record conversations with the applicant/ operator, detailed reasons why the application can/cannot be duly made and any subsequent correspondence or actions. | E20: Y | F20: Y | G20: Y | H20: Y | I20: Y | J20: Y | K20: Y
A21: A request for information, not duly made email was sent 13/11/23. the declaration was not signed by an approved person and the post code led to a different location to the site coordinates. A response was received on the 14/11/23 from the applicant confirming a correct postcode and giving authority to the signatory of the decalration to sign on behalf of the company. | E21: Y | F21: Y | G21: Y | H21: Y | I21: Y | J21: Y | K21: Y
E22: Y | F22: Y | G22: Y | H22: Y | I22: Y | J22: Y | K22: Y
E23: Y | F23: Y | G23: Y | H23: Y | I23: Y | J23: Y | K23: Y
E24: Y | F24: Y | G24: Y | H24: Y | I24: Y | J24: Y | K24: Y
A26: Percentage of forms/documents incomplete
A27: Where over 25% of responses are no, the application is regarded as incomplete
A28: Doc and info check | B28: ='Doc''s & info'!B30 -> 0
A29: New SRP | B29: ='New SRP'!C59 -> 8.3333333
A30: New Bespoke Tier 2 | B30: N/A
A31: New Bespoke | B31: ='New Besp'!C141 -> #DIV/0!
A32: Vary SRP (all types) | B32: ='Var SRP'!C77 -> #DIV/0!
A33: Vary Bespoke (all types) | B33: ='Var Besp'!C146 -> #DIV/0!
A34: Transfer | B34: =Transfer!C65 -> #DIV/0!
A35: Surrender | B35: =Surrender!C59 -> #DIV/0!
A36: EMS | B36: =EMS!C49 -> #DIV/0!
A37: TCM | B37: ='TCM '!C21 -> 0
A38: Risk Assessments | B38: ='Risk Assessment'!C55 -> #DIV/0!
A39: FPMP | B39: ='FPMP '!C68 -> #DIV/0!
A40: Noise | B40: =Noise!C43 -> #DIV/0!
A41: Odour | B41: =Odour!C37 -> #DIV/0!
...

Sheet EMS
A1: Environment Management System
A3: This applies to all new bespoke permits and variations. If the permit is a normal variation, only the relevant parts of the EMS should be updated by the operator and assessed.
A5: Document reference
A6: Time taken
A8: Guidance | B8: https://cdn.cyfoethnaturiol.cymru/media/2110/how-to-comply-with-your-environmental-permit.pdf?mode=pad&rnd=131467604540000000
A10: Section | B10: Part | C10: Yes/No/NA | D10: Comments
A11: Site plans | B11: Does it show the main features of the site and drawn to scale? | D11: It should also meet the guidance as set out in the application form and form guidance. | G11: Yes
B12: Including where relevant; activities, drainage, sensitive receptors | D12: As above | G12: No
A13: Operations | B13: Does it contain information on how to avoid or minimise environmental risk an impact of the normal running operations | D13: Should also be included in the site-specific risk assessment and supporting documents This information should be consistent across all application documents; if there is any confusion the application should not be duly made. | G13: N/A
B14: Does it contain information on waste acceptance, quantities, treatment and storage procedures | D14: As above
B15: Does it contain information on storage of materials on site - storage times and procedures to ensure that these times are not exceeded - maximum storage capacities for specified storage areas and the facility as a whole and procedures to ensure that these capacities are not exceeded - maximum storage heights to prevent or minimise the emission of dust, litter and throughput management | D15: As above
B16: Does it contain information on a procedure to identify the specific waste types stored at your facility | D16: As above
B17: Does it contain information on procedures to segregate incompatible wastes for example use of appropriate separation distances and or suitable engineering measures. | D17: As above
B18: Does it contain information on drainage infrastructure | D18: As above
B19: Does it contain information on transportation and distribution | D19: As above
B20: Does it contain information on how any potential pollution from the above activities could impact on air, water, land and neighbours | D20: As above
