Workbook
Name OLE_LINK1: 'Scoping Waterbody 1'!$D$104
Name OLE_LINK1: 'Scoping Waterbody 2'!$D$104
Name OLE_LINK1: 'Scoping Waterbody 3'!$D$104
Name OLE_LINK1: 'Scoping Waterbody 4'!$D$104
Name Pick_list_for_scoping: 'Pick list'!$A$1:$A$5

Sheet WFD Assessment
A1: Suggested WFD Compliance Assessment template
A2: Guidance on how to complete this assessment form can be found at: - | B2: https://cyfoethnaturiolcymru.sharepoint.com/teams/waterman/wfd/strpl/Guidance and Legislation/How to fill out the WFD assessment form.docx?d=w8076dfb284744e88be2207a0e54bd216&e=4%3A884ae7d9542e41bca7880be833d32550
A3: WFD Compliance Assessment of micro hydro scheme at Pencraig Isaf
A4: If this WFD Compliance Assessment relates to an application by an external party, complete section a, delete section b and go to stage 1. If an NRW team is the proponent/instigator of the project, delete section 1(a), complete section 1(b) and go to stage 1.
A5: a): Project details where an external party has applied to NRW for any form of authorisation
A7: Project details (Permitting officer to complete) | B7: Application reference number (if applicable)
B8: Date application received | C8: dd/mm/yyyy
B9: Applicant details | C9: Natural Resources Wales
B10: Activity proposed
B11: Relevant legislation
B12: List other permissions that may be required where known | C12: Note here any other permissions that are or may be required (from NRW or from other authorities), as far as you are aware
B13: Location | C13: As appropriate: name of application site, and/or grid reference, and/or longitude/latitude
B14: Application documents | C14: Reference the application documents. Use Control K in the cell you want to include the link and it will then allow you to choose the document location/add a website address
B15: Include: Project purpose and background, site map, scaled plan, site photographs and working method statement.
B16: Timing of works | C16: I.e. 10th April – 10th May 2017
B17: List ongoing maintenance requirements. All structures will require maintenance | C17: Provide details I.e. repointing etc
B18: Environmental Statement | C18: If an ES has been prepared, give reference. Otherwise ‘N/A’
B19: Pre-application correspondence | C19: Reference any pre-application correspondence between NRW (and/or legacy body if applicable) and the applicant or their agent. Otherwise ‘N/A’
B20: NRW team responsible for drafting this WFD Compliance Assessment report, and name of lead officer | C20: Name of team and officer
A24: b): Project details where NRW is the project proponent/instigator
A25: Project details (Project Manager to complete) | B25: NRW Project reference | C25: PPN-00084
C27: RH 11 Nant Lluest
B28: Activity proposed | C28: Construction of new impoundment Abstraction Maintenance of impounding structure Diversion works
B29: What ongoing maintenance work will be required? All structures will require maintenance | C29: Cleaning of coanda screen and periodic pigging of penstock and ensuring hands off flow is clear
B30: Breakdown of physical works involved (e.g. new weir, bank reinforcement, riparian vegetation management) | C30: Construction of new weir, burying of penstock, construction of turbine house and discharge point (possible introduction of boulders to dissipate the energy). Tree and vegetation clearance as required
B32: Location of activity | C32: Intake location SS 91833 99536 Turbine house SS 91954 99154 Discharge point SS 91950 99165
B33: Type of scheme | C33: Micro Hydro Scheme
B34: NRW team responsible for drafting this WFD Compliance Assessment report, and name of lead officer | C34: Energy Delivery Team Jane Davies
B35: Length / size of works (m) | C35: 440m depleted reach
B36: Initial estimated extent of footprint/impact of the works | C36: Approx 1.19ha
B37: Timing of works | C37: Post March 2019
B38: Map of site included and scaled plan | C38: Yes
B39: Project documents
B40: Include: Project purpose and background; site map, scaled plan, site photographs and working method statement. | C40: https://cyfoethnaturiolcymru.sharepoint.com/:f:/r/teams/landman/Commercial-Activity/edh/South/Rh11%20Nant%20Lluest/WFD%20Assessment?csf=1
A41: Stage 1: Complete screening for each water body, add or delete as appropriate
A42: Screening | B42: Waterbody 1 | D42: Water body Name | E42: Water body ID | F42: Morphology status (*where a zero appears then assume good status) | G42: Overall water body status
B43: Go to MyMap for Permitting, select EU Directives and WFD, then select Cycle 2 water body types (where the watercourse is not included as a water body then use the river catchment). Select each relevant water body and export data as the .csv file and then copy the sheet into the WFD assessment workbook/spreadsheet and re-name it as waterbody 1,2 etc | D43: ='Waterbody 1 Data'!E4 -> Rhondda R - source to conf Afon Rhondda Fach | E43: ='Waterbody 1 Data'!B4 -> GB109057027200 | F43: ='Waterbody 1 Data'!AW4 -> Supports Good | G43: ='Waterbody 1 Data'!Z4 -> Good
D44: Yes/No | E44: Action needed
B45: Q1.1 | C45: Is the activity listed in Appendix 2 or table 5 of OGN 72? | D45: Construction of new impoundment: yes Abstraction: Yes Maintenance of impounding structure: Yes Diversion works: Yes | E45: Yes – go to Q1.2
B46: Q1.2 | C46: Is the proposal in a water body at high status or high status for morphology? Water bodies at high status or high status morphology have little or no human intervention and are more at risk of deterioration | D46: No | E46: Yes – complete scoping assessment for each water body
...

Sheet Scoping Waterbody 1
A1: Water body name | C1: WB status | G1: Is WB A or HM? | H1: If so Mitigation Measures/other relevant notes | I1: Target WB? | J1: WB Objective | K1: Measures
B2: Water body ID | C2: Overall Status | D2: Chemical Status | E2: Ecological Status | F2: Morphology status* (*where a zero appears then assume good status) | G2: If so state reason for designation | I2: Yes/No | K2: Identify planned water body measures.
A4: ='Waterbody 1 Data'!E4 -> Rhondda R - source to conf Afon Rhondda Fach | B4: ='Waterbody 1 Data'!B4 -> GB109057027200 | C4: ='Waterbody 1 Data'!Y4 -> Good | D4: ='Waterbody 1 Data'!Z4 -> Good | E4: ='Waterbody 1 Data'!AB4 -> Good | F4: ='Waterbody 1 Data'!AW4 -> Supports Good | G4: ='Waterbody 1 Data'!X4 -> No | J4: Good | K4: listed on WWW
A5: Information on how to extract info from MyMap and to link water bodies can be found on the Information tab of this spreadsheet
B6: Component 1 – Intake Weir | E6: Component 2 – Discharge/Turbine House | H6: Component 3 – Pipeline Route | K6: Component 4 – | N6: Add additional components as required
A7: Elements | B7: Applicable (pick from drop down list) | C7: Potential Impact (include direct and indirect potential impacts) | D7: Avoidance measures (briefly describe any measure included within the project at this point that will ensure the potential effects are avoided) | E7: Applicable (tick all those that apply) | F7: Potential Impact (include direct and indirect potential impacts) | G7: Avoidance measures (briefly describe any measure included within the project at this point that will ensure the potential effects are avoided) | H7: Applicable (tick all those that apply) | I7: Potential Impact (include direct and indirect potential impacts) | J7: Avoidance measures (briefly describe any measure included within the project at this point that will ensure the potential effects are avoided) | K7: Applicable (tick all those that apply) | L7: Potential Impact (include direct and indirect potential impacts) | M7: Avoidance measures (briefly describe any measure included within the project at this point that will ensure the potential effects are avoided)
A8: Definition and further info on elements can be found on the 'Explanation of elements tab of this spreadsheet. Seek expert advice from relevant technical expert for this section | C8: Example included | D8: Colour text in green if all impacts can be avoided through measures already included in the scheme. Or red for schemes which require detailed assessment | G8: Colour text in green if all impacts can be avoided through measures already included in the scheme. Or red for schemes which require detailed assessment | J8: Colour text in green if all impacts can be avoided through measures already included in the scheme. Or red for schemes which require detailed assessment | M8: Colour text in green if all impacts can be avoided through measures already included in the scheme
A9: Hydromorphological elements
A10: Hydrological regime:
A11: · Quantity and dynamics of water flow | B11: √ direct | C11: Create impoundment and reduce flow over the length of the scheme | D11: Ensure HoF is kept clear and effective | E11: √ direct | F11: Discharge of water from turbine | G11: Water will be discharged over a rock/boulder shallow cascade to disipate energy prior to returning to the watercourse and no pollutants are involved in the process
A12: · Connection to groundwater bodies | B12: N/A - No impact pathway | E12: N/A - No impact pathway
A13: River continuity:
A14: · Migration of aquatic organisms | B14: √ direct | C14: Barrier to movement | D14: HoF, coanda screen of 1mm | E14: √ direct | F14: Migration of aquatic organisms may be affected | G14: The outfall has been appropriately sited according to best practice.
A15: · Sediment transport | B15: √ direct | C15: Sediment transport maybe impeded by intake structure | D15: Low risk due sensitive to design and siting and steep gradient | E15: √ direct | F15: Sediment Transport | G15: The angle to the flow returning to the river will be such to minimise distruption and will be released onto bedrock or boulders to disepate the rate at which it enters the river.
A16: Morphological conditions:
A17: · River depth and width variation | B17: √ direct | C17: Placement of intake may affect depth and width | D17: Low risk due to sensitve siting and design, sited on riverbed and bedrock | E17: √ direct | F17: Discharge causing changes | G17: low risk siting and design, sited on riverbed
A18: · Structure and substrate of the river bed | B18: √ direct | C18: Could be changed by introduction of intake | D18: Low impact due to siting | E18: √ direct | F18: Speed of water at entry could have an affect | G18: The angle to the flow returning to the river will be such to minimise distruption and will be released onto bedrock or boulders to disepate the rate at which it enters the river.
A19: · Structure of the riparian zone | B19: √ direct | C19: Damage caused to riparian zone during construction | D19: Clear method statements ensuring pollution control and not removing vast areas of riparian zone. | E19: √ direct | F19: Riparian zone could be altered | G19: method statements not removing vast quantities of riparian zone
A20: · Increased risk of scour/erosion and or deposition | B20: √ direct | C20: Potential for scour/erosion | D20: Low risk as intake placed above waterfall | E20: √ direct | F20: Scour/deposition | G20: Low risk as discharge pipe will be angled and positioned over bedrock and boulders
A21: · Other | B21: N/A - No impact pathway | E21: √ direct | F21: Positioning of the turbine house | G21: Turbine house is sited outside flood zone
A22: Biological elements
A23: Phytoplankton:
A24: · Taxanomic composition | B24: √ indirect | C24: Work in the watercourse may cause distrubance to substances | D24: It is highly likely that the river will be affected by mining metals. Care needs to be taken during construction and best practice should be adopted. It is likely there is the presence of lead, nickel and arsenic. Testing would be required on any material being moved off site. This will be assessed in more detail by the local planning authority. | E24: √ indirect | H24: √ indirect
A25: · Average abundance | B25: √ indirect | E25: √ indirect | H25: √ indirect
A26: · Planktonic bloom frequency and intensity | B26: √ indirect | E26: √ indirect | H26: √ indirect
A27: · Biomass | B27: √ indirect | E27: √ indirect | H27: √ indirect
A28: Macrophytes and phytobenthos: | H28: √ indirect
A29: · Taxanomic composition | B29: √ indirect | E29: √ indirect | H29: √ indirect
A30: · Average macrophytes and phytobenthic abundance | B30: √ indirect | E30: √ indirect | H30: √ indirect
A31: Other aquatic flora (e.g. macroalgae, angiosperms, sea grass, sea weed salt marsh): Transitional and Coastal water bodies only
A32: · Composition | B32: N/A - No impact pathway
A33: Benthic invertebrate fauna:
A34: · Composition | B34: √ indirect | C34: Work in the watercourse may cause distrubance to substances | D34: It is highly likely that the river will be affected by mining metals. Care needs to be taken during construction and best practice should be adopted. It is likely there is the presence of lead, nickel and arsenic. Testing would be required on any material being moved off site. This will be assessed in more detail by the local planning authority. | E34: √ indirect | H34: √ indirect
A35: · Abundance
A36: Fish fauna:
A37: · Species composition and abundance | B37: √ direct | C37: Brown Trout | D37: Avoidance of in water working during spawning. Ensure passage for fish is still available downstream - use an open pipe system. Discharge on bedrock, boulders. Once constructed ensure licence requirements and correct screening are maintained.During the life of the scheme ensure correct pollution control is in place during any works. | E37: √ direct | F37: Salmotrutta and Eels | G37: Avoidance of in water working during spawning. Discharge on bedrock/ boulders to avoid spawning gravel. Currently the design includes a 10mm screen.
A38: · Presence of type-specific disturbance sensitive species | B38: √ direct | C38: Brown Trout | E38: √ direct | F38: Salmotrutta and Eels
A39: · Age structure of fish communities | B39: √ direct | C39: Potentially all age classes of brown trout in stream . Potential disturbance during construction - noise and vibration, during operation - screening, disturbance of fish passage upstream/downstream, during de-commissioning noise, pollution risk, silt mobilization, deposition of contaminates. | E39: √ direct | F39: All age classes in stream - ova, juvenille and sexually active adults
A40: · refuge/predation areas | B40: √ direct | C40: Brown Trout | D40: Improve habitat by installing woody debris and boulders to help fish to vary flow, put rootballs into bankside, consider stones/logs pinned into riverbed. | E40: √ direct | F40: Salmotrutta and Eels | G40: Improve habitat by installing woody debris and boulders to help fish to vary flow, put rootballs into bankside, consider stones/logs pinned into riverbed.
A41: Protected Areas and Critical sensitive habitats/species
...

Sheet Waterbody 1 Data
A1: Insert water body data as csv file for each water bdy and link to sheet 1 (WFD assessment) in this workbook
O2: Example
A3: OBJECTID | B3: EA_WB_ID | C3: DS_WBID | D3: WATER_CAT | E3: WB_NAME | F3: COUNTRY | G3: RBD_ID | H3: RBD_NAME | I3: AREA_ID | J3: AREA_NAME | K3: CYCLE_2 | L3: OPCATNAME | M3: MANCATNAME | N3: AREA_SHORT | O3: EDIT_MADE | P3: SHAPE.STLength() | Q3: WBID | R3: Name | S3: RBDDesc | T3: Catchment | U3: Region | V3: Area | W3: Length_Kms_ | X3: HMWB | Y3: OverallStatus | Z3: ChemStatus | AA3: EcoStatusPotential | AB3: EcoStatus | AC3: EcoCert | AD3: DrivEcoQE | AE3: Mitigation_Measures_Assessment | AF3: WoEUsed | AG3: Expert_Judgment | AH3: Expert_Judgment_Source | AI3: ECO_BIO | AJ3: MacPhyCombined | AK3: MacPhyCombinedCert | AL3: PhytoSub | AM3: PhytoSubCert | AN3: PhytoMethod | AO3: PhytoGroup | AP3: MacroSub | AQ3: MacroSubCert | AR3: Invertebrates | AS3: InvertCert | AT3: Fish | AU3: FishCert | AV3: ECO_HM | AW3: Morphology | AX3: HydrologicalRegime | AY3: Flow | AZ3: ECO_GEN | BA3: ECO_GENCert | BB3: Ammonia | BC3: Amm_Cert | BD3: DO | BE3: DOCert | BF3: pH | BG3: pHCert | BH3: P | BI3: P_Cert | BJ3: Temp | BK3: TempCert | BL3: Annex8Chem | BM3: A8Fail | BN3: A8Cert | BO3: F2_4_dichlorophenol | BP3: F2_4_dichlorophenolCert | BQ3: F2_4_dichlorophenoxyacetic_acid | BR3: F2_4_dichlorophenoxyacetic_acidCert | BS3: Arsenic | BT3: ArsenicCert | BU3: Copper | BV3: CopperCert | BW3: Cyanide | BX3: CyanideCert | BY3: Diazinon | BZ3: DiazinonCert | CA3: Dimethoate | CB3: DimethoateCert | CC3: Iron | CD3: IronCert | CE3: Linuron | CF3: LinuronCert | CG3: Mecoprop | CH3: MecopropCert | CI3: Permethrin | CJ3: PermethrinCert | CK3: Phenol | CL3: PhenolCert | CM3: Toluene | CN3: TolueneCert | CO3: Triclosan | CP3: TriclosanCert | CQ3: Un_ionised_ammonia | CR3: Un_ionised_ammoniaCert | CS3: Zinc | CT3: ZincCert | CU3: Dichlorvos | CV3: DichlorvosCert | CW3: BDPECalc | CX3: BDPECalcCert | CY3: Manganese | CZ3: ManganeseCert | DA3: Annex10 | DB3: A10Fail | DC3: A10Cert | DD3: F1_2_dichloroethane | DE3: F1_2_dichloroethaneCert | DF3: Anthracene | DG3: AnthraceneCert | DH3: Atrazine | DI3: AtrazineCert | DJ3: Benzene | DK3: BenzeneCert | DL3: Benzo__a__and__k__fluoranthene | DM3: Benzo__a__and__k__fluorantheneCert | DN3: Benz_p_i_p | DO3: Benz_p_i_pCert | DP3: Benzo_a_pyrene | DQ3: Benzo_a_pyreneCert | DR3: Cadmium | DS3: CadmiumCert | DT3: Chlorfenvinphos | DU3: ChlorfenvinphosCert | DV3: Chlorpyrifos | DW3: ChlorpyrifosCert | DX3: Di_2_ethylhexyl_phthalate | DY3: Di_2_ethylhexyl_phthalateCert | DZ3: Dichloromethane | EA3: DichloromethaneCert | EB3: Diuron | EC3: DiuronCert | ED3: Endosulfan | EE3: EndosulfanCert | EF3: Fluoranthene | EG3: FluorantheneCert | EH3: Hexachlorobenzene | EI3: HexachlorobenzeneCert | EJ3: Hexachlorobutadiene | EK3: HexachlorobutadieneCert | EL3: Hexachlorocyclohexane | EM3: HexachlorocyclohexaneCert | EN3: Isoproturon | EO3: IsoproturonCert | EP3: Lead_And_Its_Compounds | EQ3: Lead_And_Its_CompoundsCert | ER3: Mercury_And_Its_Compounds | ES3: Mercury_And_Its_CompoundsCert | ET3: Napthalene | EU3: NapthaleneCert | EV3: Nickel_And_Its_Compounds | EW3: Nickel_And_Its_CompoundsCert | EX3: Nonylphenol | EY3: NonylphenolCert | EZ3: Pentachlorophenol | FA3: PentachlorophenolCert | FB3: Simazine | FC3: SimazineCert | FD3: Tributyltin_Compounds | FE3: Tributyltin_CompoundsCert | FF3: Trichlorobenzenes | FG3: TrichlorobenzenesCert | FH3: Trichloromethane | FI3: TrichloromethaneCert | FJ3: Trifluralin | FK3: TrifluralinCert | FL3: Aldrin__Dieldrin__Endrin___Isodrin | FM3: Aldrin__Dieldrin__Endrin___IsodrinCert | FN3: Carbon_Tetrachloride | FO3: Carbon_TetrachlorideCert | FP3: DDT_Total | FQ3: DDT_TotalCert | FR3: para___para_DDT | FS3: para___para_DDTCert | FT3: Tetrachloroethylene | FU3: TetrachloroethyleneCert | FV3: Trichloroethylene | FW3: TrichloroethyleneCert | FX3: Other_Pollutants | FY3: Other_Pollutants_Cert | FZ3: Shape
A4: 3537 | B4: GB109057027200 | C4: GB109057027230 | D4: River | E4: Rhondda R - source to conf Afon Rhondda Fach | F4: Wales | G4: 9 | H4: Severn | I4: 0 | J4: NRW | K4: REPORT NEXT RBMP | L4: Rhondda | M4: South East Valleys | N4: NRW | P4: 30766.484 | Q4: GB109057027200 | R4: Rhondda R - source to conf Afon Rhondda Fach | S4: Severn | T4: South East Valleys | U4: EA Wales | V4: WA South East | W4: 30.77 | X4: No | Y4: Good | Z4: Good | AA4: Status | AB4: Good | AC4: Not Applicable | AD4: Fish | AE4: NYA | AF4: No | AI4: Good | AR4: High | AS4: Not Applicable | AT4: Good | AU4: Not Applicable | AV4: Supports Good | AW4: Supports Good | AX4: Supports Good | AY4: Pass | AZ4: High | BA4: Not Applicable | BB4: High | BC4: Not Applicable | BD4: High | BE4: Not Applicable | BF4: High | BG4: Not Applicable | BH4: High | BI4: Not Applicable | BJ4: High | BK4: Not Applicable | BL4: High | BN4: Not Applicable | BS4: Good | BT4: Not Applicable | BU4: Good | BV4: Not Applicable | CC4: Good | CD4: Not Applicable | CS4: Good | CT4: Not Applicable | CY4: Good | CZ4: Not Applicable | DA4: Good | DC4: Not Applicable | DR4: Good | DS4: Not Applicable | EP4: Good | EQ4: Not Applicable | EV4: Good | EW4: Not Applicable | FY4: Not Applicable | FZ4: Polyline

Sheet Scoping Waterbody 2
A1: Water body name | C1: WB status | G1: Is WB A or HM? | H1: If so Mitigation Measures/other relevant notes | I1: Target WB? | J1: WB Objective | K1: Measures
B2: Water body ID | C2: Overall Status | D2: Chemical Status | E2: Ecological Status | F2: Morphology status* (*where a zero appears then assume good status) | G2: If so state reason for designation | I2: Yes/No | K2: Identify planned water body measures.
A4: ='Waterbody 2 Data'!E4 -> Rhondda R - conf Afon Rhondda Fach to conf R Taff | B4: ='Waterbody 2 Data'!B4 -> GB109057027230 | C4: ='Waterbody 2 Data'!Y4 -> No | D4: ='Waterbody 2 Data'!Z4 -> Good | E4: ='Waterbody 2 Data'!AB4 -> Status | F4: ='Waterbody 2 Data'!AW4 -> Supports Good | G4: ='Waterbody 2 Data'!X4 -> 6.15 | J4: Good | K4: listed on WWW
A5: Information on how to extract info from MyMap and to link water bodies can be found on the Information tab of this spreadsheet
B6: Component 1 – Intake Weir | E6: Component 2 – Discharge/Turbine House | H6: Component 3 | K6: Component 4 – | N6: Add additional components as required
A7: Elements | B7: Applicable (pick from drop down list) | C7: Potential Impact (include direct and indirect potential impacts) | D7: Avoidance measures (briefly describe any measure included within the project at this point that will ensure the potential effects are avoided) | E7: Applicable (tick all those that apply) | F7: Potential Impact (include direct and indirect potential impacts) | G7: Avoidance measures (briefly describe any measure included within the project at this point that will ensure the potential effects are avoided) | H7: Applicable (tick all those that apply) | I7: Potential Impact (include direct and indirect potential impacts) | J7: Avoidance measures (briefly describe any measure included within the project at this point that will ensure the potential effects are avoided) | K7: Applicable (tick all those that apply) | L7: Potential Impact (include direct and indirect potential impacts) | M7: Avoidance measures (briefly describe any measure included within the project at this point that will ensure the potential effects are avoided)
A8: Definition and further info on elements can be found on the 'Explanation of elements tab of this spreadsheet. Seek expert advice from relevant technical expert for this section | C8: Example included | D8: Colour text in green if all impacts can be avoided through measures already included in the scheme. Or red for schemes which require detailed assessment | G8: Colour text in green if all impacts can be avoided through measures already included in the scheme. Or red for schemes which require detailed assessment | J8: Colour text in green if all impacts can be avoided through measures already included in the scheme. Or red for schemes which require detailed assessment | M8: Colour text in green if all impacts can be avoided through measures already included in the scheme
A9: Hydromorphological elements
A10: Hydrological regime:
A11: · Quantity and dynamics of water flow | B11: √ direct | C11: Create impoundment and reduce flow over the length of the scheme | D11: Ensure HoF is kept clear and effective | E11: √ direct | F11: Discharge of water from turbine | G11: Water will be discharged over a rock/boulder shallow cascade to disipate energy prior to returning to the watercourse and no pollutants are involved in the process
A12: · Connection to groundwater bodies | B12: N/A - No impact pathway | E12: N/A - No impact pathway
A13: River continuity:
A14: · Migration of aquatic organisms | B14: √ direct | C14: Barrier to movement | D14: HoF, coanda screen of 1mm | E14: √ direct | F14: Migration of aquatic organisms may be affected | G14: The outfall has been appropriately sited according to best practice.
A15: · Sediment transport | B15: √ direct | C15: Sediment transport maybe impeded by intake structure | D15: Low risk due sensitive to design and siting and steep gradient | E15: √ direct | F15: Sediment Transport | G15: The angle to the flow returning to the river will be such to minimise distruption and will be released onto bedrock or boulders to disepate the rate at which it enters the river.
A16: Morphological conditions:
A17: · River depth and width variation | B17: √ direct | C17: Placement of intake may affect depth and width | D17: Low risk due to sensitve siting and design, sited on riverbed and bedrock | E17: √ direct | F17: Discharge causing changes | G17: low risk siting and design, sited on riverbed
A18: · Structure and substrate of the river bed | B18: √ direct | C18: Could be changed by introduction of intake | D18: Low impact due to siting | E18: √ direct | F18: Speed of water at entry could have an affect | G18: The angle to the flow returning to the river will be such to minimise distruption and will be released onto bedrock or boulders to disepate the rate at which it enters the river.
A19: · Structure of the riparian zone | B19: √ direct | C19: Damage caused to riparian zone during construction | D19: Clear method statements ensuring pollution control and not removing vast areas of riparian zone. | E19: √ direct | F19: Riparian zone could be altered | G19: method statements not removing vast quantities of riparian zone
A20: · Increased risk of scour/erosion and or deposition | B20: √ direct | C20: Potential for scour/erosion | D20: Low risk as intake placed above waterfall | E20: √ direct | F20: Scour/deposition | G20: Low risk as discharge pipe will be angled and positioned over bedrock and boulders
A21: · Other | B21: N/A - No impact pathway | E21: √ direct | F21: Positioning of the turbine house | G21: Turbine house is sited outside flood zone
A22: Biological elements
A23: Phytoplankton:
A24: · Taxanomic composition | B24: √ indirect | C24: Work in the watercourse may cause distrubance to substances | D24: It is highly likely that the river will be affected by mining metals. Care needs to be taken during construction and best practice should be adopted. It is likely there is the presence of lead, nickel and arsenic. Testing would be required on any material being moved off site. This will be assessed in more detail by the local planning authority. | E24: √ indirect | F24: Work in the watercourse may cause distrubance to substances | G24: It is highly likely that the river will be affected by mining metals. Care needs to be taken during construction and best practice should be adopted. It is likely there is the presence of lead, nickel and arsenic. Testing would be required on any material being moved off site. This will be assessed in more detail by the local planning authority.
A25: · Average abundance | B25: √ indirect | E25: √ indirect
A26: · Planktonic bloom frequency and intensity | B26: √ indirect | E26: √ indirect
A27: · Biomass | B27: √ indirect | E27: √ indirect
A28: Macrophytes and phytobenthos:
A29: · Taxanomic composition | B29: √ indirect | E29: √ indirect
A30: · Average macrophytes and phytobenthic abundance | B30: √ indirect | E30: √ indirect
A31: Other aquatic flora (e.g. macroalgae, angiosperms, sea grass, sea weed salt marsh): Transitional and Coastal water bodies only
A32: · Composition | B32: N/A - No impact pathway
A33: Benthic invertebrate fauna:
A34: · Composition | B34: √ indirect | C34: Work in the watercourse may cause distrubance to substances | D34: It is highly likely that the river will be affected by mining metals. Care needs to be taken during construction and best practice should be adopted. It is likely there is the presence of lead, nickel and arsenic. Testing would be required on any material being moved off site. This will be assessed in more detail by the local planning authority. | E34: √ indirect | F34: Work in the watercourse may cause distrubance to substances | G34: It is highly likely that the river will be affected by mining metals. Care needs to be taken during construction and best practice should be adopted. It is likely there is the presence of lead, nickel and arsenic. Testing would be required on any material being moved off site. This will be assessed in more detail by the local planning authority.
A35: · Abundance
A36: Fish fauna:
A37: · Species composition and abundance | B37: √ direct | C37: Brown Trout | D37: Avoidance of in water working during spawning. Ensure passage for fish is still available downstream - use an open pipe system. Discharge on bedrock, boulders. Once constructed ensure licence requirements and correct screening are maintained.During the life of the scheme ensure correct pollution control is in place during any works. | E37: √ direct | F37: Brown Trout | G37: Avoidance of in water working during spawning. Ensure passage for fish is still available downstream - use an open pipe system. Discharge on bedrock, boulders. Once constructed ensure licence requirements and correct screening are maintained.During the life of the scheme ensure correct pollution control is in place during any works.
A38: · Presence of type-specific disturbance sensitive species | B38: √ direct | C38: Brown Trout | E38: √ direct | F38: Brown Trout
A39: · Age structure of fish communities | B39: √ direct | C39: Potentially all age classes of brown trout in stream . Potential disturbance during construction - noise and vibration, during operation - screening, disturbance of fish passage upstream/downstream, during de-commissioning noise, pollution risk, silt mobilization, deposition of contaminates. | E39: √ direct | F39: Potentially all age classes of brown trout in stream . Potential disturbance during construction - noise and vibration, during operation - screening, disturbance of fish passage upstream/downstream, during de-commissioning noise, pollution risk, silt mobilization, deposition of contaminates.
A40: · refuge/predation areas | B40: √ direct | C40: Brown Trout | D40: Improve habitat by installing woody debris and boulders to help fish to vary flow, put rootballs into bankside, consider stones/logs pinned into riverbed. | E40: √ direct | F40: Brown Trout | G40: Improve habitat by installing woody debris and boulders to help fish to vary flow, put rootballs into bankside, consider stones/logs pinned into riverbed.
A41: Protected Areas and Critical sensitive habitats/species
...

Sheet Waterbody 2 Data
A1: Insert water body data as csv file for each water bdy and link to sheet 1 (WFD assessment) in this workbook
O2: Example
A3: OBJECTID | B3: EA_WB_ID | C3: SHAPE_Leng | D3: CATEGORY | E3: NAME | F3: CATCHMENT | G3: RBD | H3: AREA_ID | I3: AREA_NAME | J3: REGION_ID | K3: REGION_NAM | L3: COUNTRY | M3: First_RBMP | N3: CREATED_FR | O3: Shape | P3: GlobalID | Q3: Shape.STArea() | R3: Shape.STLength() | S3: WBID | T3: RBD_ID | U3: RBDDesc | V3: Region | W3: Area | X3: Length_Kms_ | Y3: HMWB | Z3: OverallStatus | AA3: ChemStatus | AB3: EcoStatusPotential | AC3: EcoStatus | AD3: EcoCert | AE3: DrivEcoQE | AF3: Mitigation_Measures_Assessment | AG3: WoEUsed | AH3: Expert_Judgment | AI3: Expert_Judgment_Source | AJ3: ECO_BIO | AK3: MacPhyCombined | AL3: MacPhyCombinedCert | AM3: PhytoSub | AN3: PhytoSubCert | AO3: PhytoMethod | AP3: PhytoGroup | AQ3: MacroSub | AR3: MacroSubCert | AS3: Invertebrates | AT3: InvertCert | AU3: Fish | AV3: FishCert | AW3: ECO_HM | AX3: Morphology | AY3: HydrologicalRegime | AZ3: Flow | BA3: ECO_GEN | BB3: ECO_GENCert | BC3: Ammonia | BD3: Amm_Cert | BE3: DO | BF3: DOCert | BG3: pH | BH3: pHCert | BI3: P | BJ3: P_Cert | BK3: Temp | BL3: TempCert | BM3: Annex8Chem | BN3: A8Fail | BO3: A8Cert | BP3: F2_4_dichlorophenol | BQ3: F2_4_dichlorophenolCert | BR3: F2_4_dichlorophenoxyacetic_acid | BS3: F2_4_dichlorophenoxyacetic_acidCert | BT3: Arsenic | BU3: ArsenicCert | BV3: Copper | BW3: CopperCert | BX3: Cyanide | BY3: CyanideCert | BZ3: Diazinon | CA3: DiazinonCert | CB3: Dimethoate | CC3: DimethoateCert | CD3: Iron | CE3: IronCert | CF3: Linuron | CG3: LinuronCert | CH3: Mecoprop | CI3: MecopropCert | CJ3: Permethrin | CK3: PermethrinCert | CL3: Phenol | CM3: PhenolCert | CN3: Toluene | CO3: TolueneCert | CP3: Triclosan | CQ3: TriclosanCert | CR3: Un_ionised_ammonia | CS3: Un_ionised_ammoniaCert | CT3: Zinc | CU3: ZincCert | CV3: Dichlorvos | CW3: DichlorvosCert | CX3: BDPECalc | CY3: BDPECalcCert | CZ3: Manganese | DA3: ManganeseCert | DB3: Annex10 | DC3: A10Fail | DD3: A10Cert | DE3: F1_2_dichloroethane | DF3: F1_2_dichloroethaneCert | DG3: Anthracene | DH3: AnthraceneCert | DI3: Atrazine | DJ3: AtrazineCert | DK3: Benzene | DL3: BenzeneCert | DM3: Benzo__a__and__k__fluoranthene | DN3: Benzo__a__and__k__fluorantheneCert | DO3: Benz_p_i_p | DP3: Benz_p_i_pCert | DQ3: Benzo_a_pyrene | DR3: Benzo_a_pyreneCert | DS3: Cadmium | DT3: CadmiumCert | DU3: Chlorfenvinphos | DV3: ChlorfenvinphosCert | DW3: Chlorpyrifos | DX3: ChlorpyrifosCert | DY3: Di_2_ethylhexyl_phthalate | DZ3: Di_2_ethylhexyl_phthalateCert | EA3: Dichloromethane | EB3: DichloromethaneCert | EC3: Diuron | ED3: DiuronCert | EE3: Endosulfan | EF3: EndosulfanCert | EG3: Fluoranthene | EH3: FluorantheneCert | EI3: Hexachlorobenzene | EJ3: HexachlorobenzeneCert | EK3: Hexachlorobutadiene | EL3: HexachlorobutadieneCert | EM3: Hexachlorocyclohexane | EN3: HexachlorocyclohexaneCert | EO3: Isoproturon | EP3: IsoproturonCert | EQ3: Lead_And_Its_Compounds | ER3: Lead_And_Its_CompoundsCert | ES3: Mercury_And_Its_Compounds | ET3: Mercury_And_Its_CompoundsCert | EU3: Napthalene | EV3: NapthaleneCert | EW3: Nickel_And_Its_Compounds | EX3: Nickel_And_Its_CompoundsCert | EY3: Nonylphenol | EZ3: NonylphenolCert | FA3: Pentachlorophenol | FB3: PentachlorophenolCert | FC3: Simazine | FD3: SimazineCert | FE3: Tributyltin_Compounds | FF3: Tributyltin_CompoundsCert | FG3: Trichlorobenzenes | FH3: TrichlorobenzenesCert | FI3: Trichloromethane | FJ3: TrichloromethaneCert | FK3: Trifluralin | FL3: TrifluralinCert | FM3: Aldrin__Dieldrin__Endrin___Isodrin | FN3: Aldrin__Dieldrin__Endrin___IsodrinCert | FO3: Carbon_Tetrachloride | FP3: Carbon_TetrachlorideCert | FQ3: DDT_Total | FR3: DDT_TotalCert | FS3: para___para_DDT | FT3: para___para_DDTCert | FU3: Tetrachloroethylene | FV3: TetrachloroethyleneCert | FW3: Trichloroethylene | FX3: TrichloroethyleneCert | FY3: Other_Pollutants | FZ3: Other_Pollutants_Cert
A4: 3540 | B4: GB109057027230 | C4: 27169.881 | D4: RIVER | E4: Rhondda R - conf Afon Rhondda Fach to conf R Taff | F4: South East Valleys | G4: 9 | H4: 25 | I4: South East | J4: 8 | K4: EA Wales | L4: Wales | M4: REPORTED | O4: Polygon | P4: {77DCB31F-5DE7-431B-B261-BC8087AF6E7A} | Q4: 17293809 | R4: 27169.881 | S4: GB109057027230 | T4: 9 | U4: Severn | V4: EA Wales | W4: WA South East | X4: 6.15 | Y4: No | Z4: Good | AA4: Good | AB4: Status | AC4: Good | AD4: Not Applicable | AE4: Invertebrates | AF4: NYA | AG4: No | AJ4: Good | AS4: Good | AT4: Not Applicable | AW4: Supports Good | AX4: Supports Good | AY4: Does not Support Good | AZ4: Fail | BA4: High | BB4: Not Applicable | BC4: High | BD4: Not Applicable | BE4: High | BF4: Not Applicable | BG4: High | BH4: Not Applicable | BI4: High | BJ4: Not Applicable | BK4: High | BL4: Not Applicable | BO4: Not Applicable | DB4: Good | DD4: Not Applicable | FZ4: Not Applicable

Sheet Scoping Waterbody 3
A1: Water body name | C1: WB status | G1: Is WB A or HM? | H1: If so Mitigation Measures/other relevant notes | I1: Target WB? | J1: WB Objective | K1: Measures
B2: Water body ID | C2: Overall Status | D2: Chemical Status | E2: Ecological Status | F2: Morphology status* (*where a zero appears then assume good status) | G2: If so state reason for designation | I2: Yes/No | K2: Identify planned water body measures.
A4: ='Waterbody 3 Data'!E4 -> Taff - conf Rhondda R to Castle Street | B4: ='Waterbody 3 Data'!B4 -> GB109057027270 | C4: ='Waterbody 3 Data'!Y4 -> Yes | D4: ='Waterbody 3 Data'!Z4 -> Moderate | E4: ='Waterbody 3 Data'!AB4 -> Potential | F4: ='Waterbody 3 Data'!AW4 -> Supports Good | G4: ='Waterbody 3 Data'!X4 -> 27.44 | J4: Good | K4: listed on WWW
A5: Information on how to extract info from MyMap and to link water bodies can be found on the Information tab of this spreadsheet
B6: Component 1 – Intake Weir | E6: Component 2 – Discharge/Turbine House | H6: Component 3 | K6: Component 4 – | N6: Add additional components as required
A7: Elements | B7: Applicable (pick from drop down list) | C7: Potential Impact (include direct and indirect potential impacts) | D7: Avoidance measures (briefly describe any measure included within the project at this point that will ensure the potential effects are avoided) | E7: Applicable (tick all those that apply) | F7: Potential Impact (include direct and indirect potential impacts) | G7: Avoidance measures (briefly describe any measure included within the project at this point that will ensure the potential effects are avoided) | H7: Applicable (tick all those that apply) | I7: Potential Impact (include direct and indirect potential impacts) | J7: Avoidance measures (briefly describe any measure included within the project at this point that will ensure the potential effects are avoided) | K7: Applicable (tick all those that apply) | L7: Potential Impact (include direct and indirect potential impacts) | M7: Avoidance measures (briefly describe any measure included within the project at this point that will ensure the potential effects are avoided)
A8: Definition and further info on elements can be found on the 'Explanation of elements tab of this spreadsheet. Seek expert advice from relevant technical expert for this section | C8: Example included | D8: Colour text in green if all impacts can be avoided through measures already included in the scheme. Or red for schemes which require detailed assessment | G8: Colour text in green if all impacts can be avoided through measures already included in the scheme. Or red for schemes which require detailed assessment | J8: Colour text in green if all impacts can be avoided through measures already included in the scheme. Or red for schemes which require detailed assessment | M8: Colour text in green if all impacts can be avoided through measures already included in the scheme
A9: Hydromorphological elements
A10: Hydrological regime:
A11: · Quantity and dynamics of water flow | B11: √ direct | C11: Create impoundment and reduce flow over the length of the scheme | D11: Ensure HoF is kept clear and effective | E11: √ direct | F11: Discharge of water from turbine | G11: Water will be discharged over a rock/boulder shallow cascade to disipate energy prior to returning to the watercourse and no pollutants are involved in the process
A12: · Connection to groundwater bodies | B12: N/A - No impact pathway | E12: N/A - No impact pathway
A13: River continuity:
A14: · Migration of aquatic organisms | B14: √ direct | C14: Barrier to movement | D14: HoF, coanda screen of 1mm | E14: √ direct | F14: Migration of aquatic organisms may be affected | G14: The outfall has been appropriately sited according to best practice.
A15: · Sediment transport | B15: √ direct | C15: Sediment transport maybe impeded by intake structure | D15: Low risk due sensitive to design and siting and steep gradient | E15: √ direct | F15: Sediment Transport | G15: The angle to the flow returning to the river will be such to minimise distruption and will be released onto bedrock or boulders to disepate the rate at which it enters the river.
A16: Morphological conditions:
A17: · River depth and width variation | B17: √ direct | C17: Placement of intake may affect depth and width | D17: Low risk due to sensitve siting and design, sited on riverbed and bedrock | E17: √ direct | F17: Discharge causing changes | G17: low risk siting and design, sited on riverbed
A18: · Structure and substrate of the river bed | B18: √ direct | C18: Could be changed by introduction of intake | D18: Low impact due to siting | E18: √ direct | F18: Speed of water at entry could have an affect | G18: The angle to the flow returning to the river will be such to minimise distruption and will be released onto bedrock or boulders to disepate the rate at which it enters the river.
A19: · Structure of the riparian zone | B19: √ direct | C19: Damage caused to riparian zone during construction | D19: Clear method statements ensuring pollution control and not removing vast areas of riparian zone. | E19: √ direct | F19: Riparian zone could be altered | G19: method statements not removing vast quantities of riparian zone
A20: · Increased risk of scour/erosion and or deposition | B20: √ direct | C20: Potential for scour/erosion | D20: Low risk as intake placed above waterfall | E20: √ direct | F20: Scour/deposition | G20: Low risk as discharge pipe will be angled and positioned over bedrock and boulders
A21: · Other | B21: N/A - No impact pathway | E21: √ direct | F21: Positioning of the turbine house | G21: Turbine house is sited outside flood zone
A22: Biological elements
A23: Phytoplankton:
A24: · Taxanomic composition | B24: √ indirect | C24: Work in the watercourse may cause distrubance to substances | D24: It is highly likely that the river will be affected by mining metals. Care needs to be taken during construction and best practice should be adopted. It is likely there is the presence of lead, nickel and arsenic. Testing would be required on any material being moved off site. This will be assessed in more detail by the local planning authority. | E24: √ indirect | F24: Work in the watercourse may cause distrubance to substances | G24: It is highly likely that the river will be affected by mining metals. Care needs to be taken during construction and best practice should be adopted. It is likely there is the presence of lead, nickel and arsenic. Testing would be required on any material being moved off site. This will be assessed in more detail by the local planning authority.
A25: · Average abundance | B25: √ indirect | E25: √ indirect
A26: · Planktonic bloom frequency and intensity | B26: √ indirect | E26: √ indirect
A27: · Biomass | B27: √ indirect | E27: √ indirect
A28: Macrophytes and phytobenthos:
A29: · Taxanomic composition | B29: √ indirect | E29: √ indirect
A30: · Average macrophytes and phytobenthic abundance | B30: √ indirect | E30: √ indirect
A31: Other aquatic flora (e.g. macroalgae, angiosperms, sea grass, sea weed salt marsh): Transitional and Coastal water bodies only
A32: · Composition | B32: N/A - No impact pathway
A33: Benthic invertebrate fauna:
A34: · Composition | B34: √ indirect | C34: Work in the watercourse may cause distrubance to substances | D34: It is highly likely that the river will be affected by mining metals. Care needs to be taken during construction and best practice should be adopted. It is likely there is the presence of lead, nickel and arsenic. Testing would be required on any material being moved off site. This will be assessed in more detail by the local planning authority. | E34: √ indirect | F34: Work in the watercourse may cause distrubance to substances | G34: It is highly likely that the river will be affected by mining metals. Care needs to be taken during construction and best practice should be adopted. It is likely there is the presence of lead, nickel and arsenic. Testing would be required on any material being moved off site. This will be assessed in more detail by the local planning authority.
A35: · Abundance
A36: Fish fauna:
A37: · Species composition and abundance | B37: √ direct | C37: Brown Trout | D37: Avoidance of in water working during spawning. Ensure passage for fish is still available downstream - use an open pipe system. Discharge on bedrock, boulders. Once constructed ensure licence requirements and correct screening are maintained.During the life of the scheme ensure correct pollution control is in place during any works. | E37: √ direct | F37: Brown Trout | G37: Avoidance of in water working during spawning. Ensure passage for fish is still available downstream - use an open pipe system. Discharge on bedrock, boulders. Once constructed ensure licence requirements and correct screening are maintained.During the life of the scheme ensure correct pollution control is in place during any works.
A38: · Presence of type-specific disturbance sensitive species | B38: √ direct | C38: Brown Trout | E38: √ direct | F38: Brown Trout
A39: · Age structure of fish communities | B39: √ direct | C39: Potentially all age classes of brown trout in stream . Potential disturbance during construction - noise and vibration, during operation - screening, disturbance of fish passage upstream/downstream, during de-commissioning noise, pollution risk, silt mobilization, deposition of contaminates. | E39: √ direct | F39: Potentially all age classes of brown trout in stream . Potential disturbance during construction - noise and vibration, during operation - screening, disturbance of fish passage upstream/downstream, during de-commissioning noise, pollution risk, silt mobilization, deposition of contaminates.
A40: · refuge/predation areas | B40: √ direct | C40: Brown Trout | D40: Improve habitat by installing woody debris and boulders to help fish to vary flow, put rootballs into bankside, consider stones/logs pinned into riverbed. | E40: √ direct | F40: Brown Trout | G40: Improve habitat by installing woody debris and boulders to help fish to vary flow, put rootballs into bankside, consider stones/logs pinned into riverbed.
A41: Protected Areas and Critical sensitive habitats/species
...

Sheet Waterbody 3 Data
A1: Insert water body data as csv file for each water bdy and link to sheet 1 (WFD assessment) in this workbook
O2: Example
A3: OBJECTID | B3: EA_WB_ID | C3: SHAPE_Leng | D3: CATEGORY | E3: NAME | F3: CATCHMENT | G3: RBD | H3: AREA_ID | I3: AREA_NAME | J3: REGION_ID | K3: REGION_NAM | L3: COUNTRY | M3: First_RBMP | N3: CREATED_FR | O3: Shape | P3: GlobalID | Q3: Shape.STArea() | R3: Shape.STLength() | S3: WBID | T3: RBD_ID | U3: RBDDesc | V3: Region | W3: Area | X3: Length_Kms_ | Y3: HMWB | Z3: OverallStatus | AA3: ChemStatus | AB3: EcoStatusPotential | AC3: EcoStatus | AD3: EcoCert | AE3: DrivEcoQE | AF3: Mitigation_Measures_Assessment | AG3: WoEUsed | AH3: Expert_Judgment | AI3: Expert_Judgment_Source | AJ3: ECO_BIO | AK3: MacPhyCombined | AL3: MacPhyCombinedCert | AM3: PhytoSub | AN3: PhytoSubCert | AO3: PhytoMethod | AP3: PhytoGroup | AQ3: MacroSub | AR3: MacroSubCert | AS3: Invertebrates | AT3: InvertCert | AU3: Fish | AV3: FishCert | AW3: ECO_HM | AX3: Morphology | AY3: HydrologicalRegime | AZ3: Flow | BA3: ECO_GEN | BB3: ECO_GENCert | BC3: Ammonia | BD3: Amm_Cert | BE3: DO | BF3: DOCert | BG3: pH | BH3: pHCert | BI3: P | BJ3: P_Cert | BK3: Temp | BL3: TempCert | BM3: Annex8Chem | BN3: A8Fail | BO3: A8Cert | BP3: F2_4_dichlorophenol | BQ3: F2_4_dichlorophenolCert | BR3: F2_4_dichlorophenoxyacetic_acid | BS3: F2_4_dichlorophenoxyacetic_acidCert | BT3: Arsenic | BU3: ArsenicCert | BV3: Copper | BW3: CopperCert | BX3: Cyanide | BY3: CyanideCert | BZ3: Diazinon | CA3: DiazinonCert | CB3: Dimethoate | CC3: DimethoateCert | CD3: Iron | CE3: IronCert | CF3: Linuron | CG3: LinuronCert | CH3: Mecoprop | CI3: MecopropCert | CJ3: Permethrin | CK3: PermethrinCert | CL3: Phenol | CM3: PhenolCert | CN3: Toluene | CO3: TolueneCert | CP3: Triclosan | CQ3: TriclosanCert | CR3: Un_ionised_ammonia | CS3: Un_ionised_ammoniaCert | CT3: Zinc | CU3: ZincCert | CV3: Dichlorvos | CW3: DichlorvosCert | CX3: BDPECalc | CY3: BDPECalcCert | CZ3: Manganese | DA3: ManganeseCert | DB3: Annex10 | DC3: A10Fail | DD3: A10Cert | DE3: F1_2_dichloroethane | DF3: F1_2_dichloroethaneCert | DG3: Anthracene | DH3: AnthraceneCert | DI3: Atrazine | DJ3: AtrazineCert | DK3: Benzene | DL3: BenzeneCert | DM3: Benzo__a__and__k__fluoranthene | DN3: Benzo__a__and__k__fluorantheneCert | DO3: Benz_p_i_p | DP3: Benz_p_i_pCert | DQ3: Benzo_a_pyrene | DR3: Benzo_a_pyreneCert | DS3: Cadmium | DT3: CadmiumCert | DU3: Chlorfenvinphos | DV3: ChlorfenvinphosCert | DW3: Chlorpyrifos | DX3: ChlorpyrifosCert | DY3: Di_2_ethylhexyl_phthalate | DZ3: Di_2_ethylhexyl_phthalateCert | EA3: Dichloromethane | EB3: DichloromethaneCert | EC3: Diuron | ED3: DiuronCert | EE3: Endosulfan | EF3: EndosulfanCert | EG3: Fluoranthene | EH3: FluorantheneCert | EI3: Hexachlorobenzene | EJ3: HexachlorobenzeneCert | EK3: Hexachlorobutadiene | EL3: HexachlorobutadieneCert | EM3: Hexachlorocyclohexane | EN3: HexachlorocyclohexaneCert | EO3: Isoproturon | EP3: IsoproturonCert | EQ3: Lead_And_Its_Compounds | ER3: Lead_And_Its_CompoundsCert | ES3: Mercury_And_Its_Compounds | ET3: Mercury_And_Its_CompoundsCert | EU3: Napthalene | EV3: NapthaleneCert | EW3: Nickel_And_Its_Compounds | EX3: Nickel_And_Its_CompoundsCert | EY3: Nonylphenol | EZ3: NonylphenolCert | FA3: Pentachlorophenol | FB3: PentachlorophenolCert | FC3: Simazine | FD3: SimazineCert | FE3: Tributyltin_Compounds | FF3: Tributyltin_CompoundsCert | FG3: Trichlorobenzenes | FH3: TrichlorobenzenesCert | FI3: Trichloromethane | FJ3: TrichloromethaneCert | FK3: Trifluralin | FL3: TrifluralinCert | FM3: Aldrin__Dieldrin__Endrin___Isodrin | FN3: Aldrin__Dieldrin__Endrin___IsodrinCert | FO3: Carbon_Tetrachloride | FP3: Carbon_TetrachlorideCert | FQ3: DDT_Total | FR3: DDT_TotalCert | FS3: para___para_DDT | FT3: para___para_DDTCert | FU3: Tetrachloroethylene | FV3: TetrachloroethyleneCert | FW3: Trichloroethylene | FX3: TrichloroethyleneCert | FY3: Other_Pollutants | FZ3: Other_Pollutants_Cert
A4: 3544 | B4: GB109057027270 | C4: 86572.658 | D4: RIVER | E4: Taff - conf Rhondda R to Castle Street | F4: South East Valleys | G4: 9 | H4: 25 | I4: South East | J4: 8 | K4: EA Wales | L4: Wales | M4: REPORTED | O4: Polygon | P4: {02867A07-8426-47D9-AC2A-F5C5BFA7D0E7} | Q4: 63185376 | R4: 86572.658 | S4: GB109057027270 | T4: 9 | U4: Severn | V4: EA Wales | W4: WA South East | X4: 27.44 | Y4: Yes | Z4: Moderate | AA4: Fail | AB4: Potential | AC4: Moderate | AD4: Not Applicable | AE4: Mitigation Measures Assessment | AF4: Moderate | AG4: No | AJ4: Good | AK4: Good | AL4: Not Applicable | AM4: Good | AN4: Not Applicable | AQ4: Good | AR4: Not Applicable | AS4: High | AT4: Not Applicable | AW4: Supports Good | AY4: Supports Good | AZ4: Pass | BA4: Good | BB4: Not Applicable | BC4: High | BD4: Not Applicable | BE4: High | BF4: Not Applicable | BG4: High | BH4: Not Applicable | BI4: Good | BJ4: Not Applicable | BK4: High | BL4: Not Applicable | BM4: High | BO4: Not Applicable | BT4: Good | BU4: Not Applicable | BV4: Good | BW4: Not Applicable | CD4: Good | CE4: Not Applicable | CT4: Good | CU4: Not Applicable | CZ4: Good | DA4: Not Applicable | DB4: Fail | DC4: Benzo(a)pyrene, Benzo (b) and (k) fluoranthene, Fluoranthene | DD4: Very Certain | DE4: Good | DF4: Not Applicable | DI4: Good | DJ4: Not Applicable | DM4: Fail | DN4: Uncertain | DO4: Good | DP4: Not Applicable | DQ4: Fail | DR4: Very Certain | DS4: Good | DT4: Not Applicable | EG4: Fail | EH4: Quite Certain | EM4: Good | EN4: Not Applicable | EQ4: Good | ER4: Not Applicable | EW4: Good | EX4: Not Applicable | FA4: Good | FB4: Not Applicable | FG4: Good | FH4: Not Applicable | FI4: Good | FJ4: Not Applicable | FM4: Good | FN4: Not Applicable | FO4: Good | FP4: Not Applicable | FQ4: Good | FR4: Not Applicable | FS4: Good | FT4: Not Applicable | FU4: Good | FV4: Not Applicable | FW4: Good | FX4: Not Applicable | FY4: Good | FZ4: Not Applicable

Sheet Scoping Waterbody 4
A1: Water body name | C1: WB status | G1: Is WB A or HM? | H1: If so Mitigation Measures/other relevant notes | I1: Target WB? | J1: WB Objective | K1: Measures
B2: Water body ID | C2: Overall Status | D2: Chemical Status | E2: Ecological Status | F2: Morphology status* (*where a zero appears then assume good status) | G2: If so state reason for designation | I2: Yes/No | K2: Identify planned water body measures.
A4: ='Waterbody 4 Data'!E4 -> SEVERN LOWER | B4: ='Waterbody 4 Data'!B4 -> GB530905415401 | C4: ='Waterbody 4 Data'!Y4 -> Severn | D4: ='Waterbody 4 Data'!Z4 -> Wye MC TraC | E4: ='Waterbody 4 Data'!AB4 -> WA South East | F4: ='Waterbody 4 Data'!AW4 -> 0 | G4: ='Waterbody 4 Data'!X4 -> 9 | J4: Good | K4: listed on WWW
A5: Information on how to extract info from MyMap and to link water bodies can be found on the Information tab of this spreadsheet
B6: Component 1 – Intake Weir | E6: Component 2 – Discharge/Turbine House | H6: Component 3 – Pipeline Route | K6: Component 4 – | N6: Add additional components as required
A7: Elements | B7: Applicable (pick from drop down list) | C7: Potential Impact (include direct and indirect potential impacts) | D7: Avoidance measures (briefly describe any measure included within the project at this point that will ensure the potential effects are avoided) | E7: Applicable (tick all those that apply) | F7: Potential Impact (include direct and indirect potential impacts) | G7: Avoidance measures (briefly describe any measure included within the project at this point that will ensure the potential effects are avoided) | H7: Applicable (tick all those that apply) | I7: Potential Impact (include direct and indirect potential impacts) | J7: Avoidance measures (briefly describe any measure included within the project at this point that will ensure the potential effects are avoided) | K7: Applicable (tick all those that apply) | L7: Potential Impact (include direct and indirect potential impacts) | M7: Avoidance measures (briefly describe any measure included within the project at this point that will ensure the potential effects are avoided)
A8: Definition and further info on elements can be found on the 'Explanation of elements tab of this spreadsheet. Seek expert advice from relevant technical expert for this section | C8: Example included | D8: Colour text in green if all impacts can be avoided through measures already included in the scheme. Or red for schemes which require detailed assessment | G8: Colour text in green if all impacts can be avoided through measures already included in the scheme. Or red for schemes which require detailed assessment | J8: Colour text in green if all impacts can be avoided through measures already included in the scheme. Or red for schemes which require detailed assessment | M8: Colour text in green if all impacts can be avoided through measures already included in the scheme
A9: Hydromorphological elements
A10: Hydrological regime:
A11: · Quantity and dynamics of water flow | B11: √ direct | C11: Create impoundment and reduce flow over the length of the scheme | D11: Ensure HoF is kept clear and effective | E11: √ direct | F11: Discharge of water from turbine | G11: Water will be discharged over a rock/boulder shallow cascade to disipate energy prior to returning to the watercourse and no pollutants are involved in the process
A12: · Connection to groundwater bodies | B12: N/A - No impact pathway | E12: N/A - No impact pathway
A13: River continuity:
A14: · Migration of aquatic organisms | B14: √ direct | C14: Barrier to movement | D14: HoF, coanda screen of 1mm | E14: √ direct | F14: Migration of aquatic organisms may be affected | G14: The outfall has been appropriately sited according to best practice.
A15: · Sediment transport | B15: √ direct | C15: Sediment transport maybe impeded by intake structure | D15: Low risk due sensitive to design and siting and steep gradient | E15: √ direct | F15: Sediment Transport | G15: The angle to the flow returning to the river will be such to minimise distruption and will be released onto bedrock or boulders to disepate the rate at which it enters the river.
A16: Morphological conditions:
A17: · River depth and width variation | B17: √ direct | C17: Placement of intake may affect depth and width | D17: Low risk due to sensitve siting and design, sited on riverbed and bedrock | E17: √ direct | F17: Discharge causing changes | G17: low risk siting and design, sited on riverbed
A18: · Structure and substrate of the river bed | B18: √ direct | C18: Could be changed by introduction of intake | D18: Low impact due to siting | E18: √ direct | F18: Speed of water at entry could have an affect | G18: The angle to the flow returning to the river will be such to minimise distruption and will be released onto bedrock or boulders to disepate the rate at which it enters the river.
A19: · Structure of the riparian zone | B19: √ direct | C19: Damage caused to riparian zone during construction | D19: Clear method statements ensuring pollution control and not removing vast areas of riparian zone. | E19: √ direct | F19: Riparian zone could be altered | G19: method statements not removing vast quantities of riparian zone
A20: · Increased risk of scour/erosion and or deposition | B20: √ direct | C20: Potential for scour/erosion | D20: Low risk as intake placed above waterfall | E20: √ direct | F20: Scour/deposition | G20: Low risk as discharge pipe will be angled and positioned over bedrock and boulders
A21: · Other | B21: N/A - No impact pathway | E21: √ direct | F21: Positioning of the turbine house | G21: Turbine house is sited outside flood zone
A22: Biological elements
A23: Phytoplankton:
A24: · Taxanomic composition | B24: √ indirect | C24: Work in the watercourse may cause distrubance to substances | D24: It is highly likely that the river will be affected by mining metals. Care needs to be taken during construction and best practice should be adopted. It is likely there is the presence of lead, nickel and arsenic. Testing would be required on any material being moved off site. This will be assessed in more detail by the local planning authority. | E24: √ indirect | F24: Work in the watercourse may cause distrubance to substances | G24: It is highly likely that the river will be affected by mining metals. Care needs to be taken during construction and best practice should be adopted. It is likely there is the presence of lead, nickel and arsenic. Testing would be required on any material being moved off site. This will be assessed in more detail by the local planning authority.
A25: · Average abundance | B25: √ indirect | E25: √ indirect
A26: · Planktonic bloom frequency and intensity | B26: √ indirect | E26: √ indirect
A27: · Biomass | B27: √ indirect | E27: √ indirect
A28: Macrophytes and phytobenthos:
A29: · Taxanomic composition | B29: √ indirect | E29: √ indirect
A30: · Average macrophytes and phytobenthic abundance | B30: √ indirect | E30: √ indirect
A31: Other aquatic flora (e.g. macroalgae, angiosperms, sea grass, sea weed salt marsh): Transitional and Coastal water bodies only
A32: · Composition | B32: N/A - No impact pathway
A33: Benthic invertebrate fauna:
A34: · Composition | B34: √ indirect | C34: Work in the watercourse may cause distrubance to substances | D34: It is highly likely that the river will be affected by mining metals. Care needs to be taken during construction and best practice should be adopted. It is likely there is the presence of lead, nickel and arsenic. Testing would be required on any material being moved off site. This will be assessed in more detail by the local planning authority. | E34: √ indirect | F34: Work in the watercourse may cause distrubance to substances | G34: It is highly likely that the river will be affected by mining metals. Care needs to be taken during construction and best practice should be adopted. It is likely there is the presence of lead, nickel and arsenic. Testing would be required on any material being moved off site. This will be assessed in more detail by the local planning authority.
A35: · Abundance
A36: Fish fauna:
