Workbook
Name OLE_LINK1: 'Scoping Waterbody 1'!$D$104
Name OLE_LINK1: 'Scoping Waterbody 2'!$D$104
Name OLE_LINK1: 'Scoping Waterbody 3'!$D$104
Name OLE_LINK1: 'Scoping Waterbody 4'!$D$104
Name Pick_list_for_scoping: 'Pick list'!$A$1:$A$5

Sheet WFD Assessment
A1: Suggested WFD Compliance Assessment template
A2: Guidance on how to complete this assessment form can be found at: - | B2: https://cyfoethnaturiolcymru.sharepoint.com/teams/waterman/wfd/strpl/Guidance and Legislation/How to fill out the WFD assessment form.docx?d=w8076dfb284744e88be2207a0e54bd216&e=4%3A884ae7d9542e41bca7880be833d32550
A3: WFD Compliance Assessment of micro hydro scheme at Pencraig Isaf
A4: If this WFD Compliance Assessment relates to an application by an external party, complete section a, delete section b and go to stage 1. If an NRW team is the proponent/instigator of the project, delete section 1(a), complete section 1(b) and go to stage 1.
A5: a): Project details where an external party has applied to NRW for any form of authorisation
A7: Project details (Permitting officer to complete) | B7: Application reference number (if applicable)
B8: Date application received | C8: dd/mm/yyyy
B9: Applicant details | C9: Natural Resources Wales
B10: Activity proposed
B11: Relevant legislation
B12: List other permissions that may be required where known | C12: Note here any other permissions that are or may be required (from NRW or from other authorities), as far as you are aware
B13: Location | C13: As appropriate: name of application site, and/or grid reference, and/or longitude/latitude
B14: Application documents | C14: Reference the application documents. Use Control K in the cell you want to include the link and it will then allow you to choose the document location/add a website address
B15: Include: Project purpose and background, site map, scaled plan, site photographs and working method statement.
B16: Timing of works | C16: I.e. 10th April – 10th May 2017
B17: List ongoing maintenance requirements. All structures will require maintenance | C17: Provide details I.e. repointing etc
B18: Environmental Statement | C18: If an ES has been prepared, give reference. Otherwise ‘N/A’
B19: Pre-application correspondence | C19: Reference any pre-application correspondence between NRW (and/or legacy body if applicable) and the applicant or their agent. Otherwise ‘N/A’
B20: NRW team responsible for drafting this WFD Compliance Assessment report, and name of lead officer | C20: Name of team and officer
A24: b): Project details where NRW is the project proponent/instigator
A25: Project details (Project Manager to complete) | B25: NRW Project reference | C25: PPN-00084
C27: RH 11 Nant Lluest
B28: Activity proposed | C28: Construction of new impoundment Abstraction Maintenance of impounding structure Diversion works
B29: What ongoing maintenance work will be required? All structures will require maintenance | C29: Cleaning of coanda screen and periodic pigging of penstock and ensuring hands off flow is clear
B30: Breakdown of physical works involved (e.g. new weir, bank reinforcement, riparian vegetation management) | C30: Construction of new weir, burying of penstock, construction of turbine house and discharge point (possible introduction of boulders to dissipate the energy). Tree and vegetation clearance as required
B32: Location of activity | C32: Intake location SS 91833 99536 Turbine house SS 91954 99154 Discharge point SS 91950 99165
B33: Type of scheme | C33: Micro Hydro Scheme
B34: NRW team responsible for drafting this WFD Compliance Assessment report, and name of lead officer | C34: Energy Delivery Team Jane Davies
B35: Length / size of works (m) | C35: 440m depleted reach
B36: Initial estimated extent of footprint/impact of the works | C36: Approx 1.19ha
B37: Timing of works | C37: Post March 2019
B38: Map of site included and scaled plan | C38: Yes
B39: Project documents
B40: Include: Project purpose and background; site map, scaled plan, site photographs and working method statement. | C40: https://cyfoethnaturiolcymru.sharepoint.com/:f:/r/teams/landman/Commercial-Activity/edh/South/Rh11%20Nant%20Lluest/WFD%20Assessment?csf=1
A41: Stage 1: Complete screening for each water body, add or delete as appropriate
A42: Screening | B42: Waterbody 1 | D42: Water body Name | E42: Water body ID | F42: Morphology status (*where a zero appears then assume good status) | G42: Overall water body status
B43: Go to MyMap for Permitting, select EU Directives and WFD, then select Cycle 2 water body types (where the watercourse is not included as a water body then use the river catchment). Select each relevant water body and export data as the .csv file and then copy the sheet into the WFD assessment workbook/spreadsheet and re-name it as waterbody 1,2 etc | D43: ='Waterbody 1 Data'!E4 -> Rhondda R - source to conf Afon Rhondda Fach | E43: ='Waterbody 1 Data'!B4 -> GB109057027200 | F43: ='Waterbody 1 Data'!AW4 -> Supports Good | G43: ='Waterbody 1 Data'!Z4 -> Good
D44: Yes/No | E44: Action needed
B45: Q1.1 | C45: Is the activity listed in Appendix 2 or table 5 of OGN 72? | D45: Construction of new impoundment: yes Abstraction: Yes Maintenance of impounding structure: Yes Diversion works: Yes | E45: Yes – go to Q1.2
B46: Q1.2 | C46: Is the proposal in a water body at high status or high status for morphology? Water bodies at high status or high status morphology have little or no human intervention and are more at risk of deterioration | D46: No | E46: Yes – complete scoping assessment for each water body
B47: Q1.3 | C47: Are there any potential cumulative/in combination impacts? Or is there Local Expert Override? | D47: No | E47: Yes – complete scoping assessment for each water body
B48: Q1.4 | C48: Is the water body at Good overall status? | D48: Yes | E48: No - Go to Q1.5
B49: Q1.5 | C49: Record best practice measures that the works include to help achieve the objectives of the water body. For example a biosecurity plan to ensure the project/activity doesn't introduce or spread Invasive Non Native Species. | D49: The scheme has been designed as low impact and site meetings have been held with NRW fisheries and geomorphology to ensure that suitable mitigation is in place and that best practice guideance is followed. The location and size of the weir has been agreed with geomorphology so that there is minimal impact on sediment transportation. A water management plan will be produced to ensure that soils and run-off do not enter the watercourse during the construction phase. | F49: As a regulator we must determine an authorisation so as to prevent the deterioration of the surface water status or groundwater status of a body of water and otherwise support the achievement of the environmental objectives set for a body of water. For Internal NRW activities and projects we must ensure that any projects and activities we carry out prevent deterioration and protects and enhances the status of aquatic ecosystems and terrestrial ecosystems directly depending on the aquatic ecosystem.
A50: Activities Screened out | B50: Abstraction, maintenance and diversion works
A52: Screening | B52: Waterbody 2 | D52: Water body Name | E52: Water body ID | F52: Morphology status (*where a zero appears then assume good status) | G52: Overall water body status
B53: Go to MyMap for Permitting, select EU Directives and WFD, then select Cycle 2 water body types (where the watercourse is not included as a water body then use the river catchment). Select each relevant water body and export data as the .csv file and then copy the sheet into the WFD assessment workbook/spreadsheet and re-name it as waterbody 1,2 etc | D53: Rhondda R - conf Afon Rhondda Fach to conf R Taff | E53: GB109057027230 | F53: Supports Good | G53: Good
D54: Yes/No | E54: Action needed
B55: Q1.1 | C55: Is the activity listed in Appendix 2 or table 5 of OGN 72? | D55: Construction of new impoundment: yes Abstraction: Yes Maintenance of impounding structure: Yes Diversion works: Yes | E55: Yes – go to Q1.2
B56: Q1.2 | C56: Is the proposal in a water body at high status or high status for morphology? Water bodies at high status or high status morphology have little or no human intervention and are more at risk of deterioration | D56: No | E56: Yes – complete scoping assessment for each water body
B57: Q1.3 | C57: Are there any potential cumulative/in combination impacts? Or is there Local Expert Override? | D57: No | E57: Yes – complete scoping assessment for each water body
B58: Q1.4 | C58: Is the water body at Good overall status? | D58: Yes | E58: No - Go to Q1.5
B59: Q1.5 | C59: Record best practice measures that the works include to help achieve the objectives of the water body. For example a biosecurity plan to ensure the project/activity doesn't introduce or spread Invasive Non Native Species. | D59: The scheme has been designed as low impact and site meetings have been held with NRW fisheries and geomorphology to ensure that suitable mitigation is in place and that best practice guideance is followed. The location and size of the weir has been agreed with geomorphology so that there is minimal impact on sediment transportation. A water management plan will be produced to ensure that soils and run-off do not enter the watercourse during the construction phase. | F59: As a regulator we must determine an authorisation so as to prevent the deterioration of the surface water status or groundwater status of a body of water and otherwise support the achievement of the environmental objectives set for a body of water. For Internal NRW activities and projects we must ensure that any projects and activities we carry out prevent deterioration and protects and enhances the status of aquatic ecosystems and terrestrial ecosystems directly depending on the aquatic ecosystem.
A60: Activities Screened out | B60: Waterbody screened out at stage 1 assessment as is greater than 2km downstream of the proposal and impacts from the screen are believed to be not significant
A62: Screening | B62: Waterbody 3 | D62: Water body Name | E62: Water body ID | F62: Morphology status (*where a zero appears then assume good status) | G62: Overall water body status
B63: Go to MyMap for Permitting, select EU Directives and WFD, then select Cycle 2 water body types (where the watercourse is not included as a water body then use the river catchment). Select each relevant water body and export data as the .csv file and then copy the sheet into the WFD assessment workbook/spreadsheet and re-name it as waterbody 1,2 etc | D63: Taff - conf Rhondda R to Castle Street | E63: GB109057027270 | F63: N/A | G63: Moderate
D64: Yes/No | E64: Action needed
B65: Q1.1 | C65: Is the activity listed in Appendix 2 or table 5 of OGN 72? | D65: Construction of new impoundment: yes Abstraction: Yes Maintenance of impounding structure: Yes Diversion works: Yes | E65: Yes – go to Q1.2
B66: Q1.2 | C66: Is the proposal in a water body at high status or high status for morphology? Water bodies at high status or high status morphology have little or no human intervention and are more at risk of deterioration | D66: No | E66: Yes – complete scoping assessment for each water body
B67: Q1.3 | C67: Are there any potential cumulative/in combination impacts? Or is there Local Expert Override? | D67: No | E67: Yes – complete scoping assessment for each water body
B68: Q1.4 | C68: Is the water body at Good overall status? | D68: No | E68: No - Go to Q1.5
B69: Q1.5 | C69: Record best practice measures that the works include to help achieve the objectives of the water body. For example a biosecurity plan to ensure the project/activity doesn't introduce or spread Invasive Non Native Species. | D69: The scheme has been designed as low impact and site meetings have been held with NRW fisheries and geomorphology to ensure that suitable mitigation is in place and that best practice guideance is followed. The location and size of the weir has been agreed with geomorphology so that there is minimal impact on sediment transportation. A water management plan will be produced to ensure that soils and run-off do not enter the watercourse during the construction phase. | F69: As a regulator we must determine an authorisation so as to prevent the deterioration of the surface water status or groundwater status of a body of water and otherwise support the achievement of the environmental objectives set for a body of water. For Internal NRW activities and projects we must ensure that any projects and activities we carry out prevent deterioration and protects and enhances the status of aquatic ecosystems and terrestrial ecosystems directly depending on the aquatic ecosystem.
A70: Activities Screened out | B70: Waterbody screened out at stage 1 assessment as is greater than 2km downstream of the proposal and impacts from the screen are believed to be not significant
A72: Screening | B72: Waterbody 4 | D72: Water body Name | E72: Water body ID | F72: Morphology status (*where a zero appears then assume good status) | G72: Overall water body status
B73: Go to MyMap for Permitting, select EU Directives and WFD, then select Cycle 2 water body types (where the watercourse is not included as a water body then use the river catchment). Select each relevant water body and export data as the .csv file and then copy the sheet into the WFD assessment workbook/spreadsheet and re-name it as waterbody 1,2 etc | D73: SEVERN LOWER | E73: GB530905415401 | F73: N/A | G73: Moderate
D74: Yes/No | E74: Action needed
B75: Q1.1 | C75: Is the activity listed in Appendix 2 or table 5 of OGN 72? | D75: Construction of new impoundment: yes Abstraction: Yes Maintenance of impounding structure: Yes Diversion works: Yes | E75: Yes – go to Q1.2
B76: Q1.2 | C76: Is the proposal in a water body at high status or high status for morphology? Water bodies at high status or high status morphology have little or no human intervention and are more at risk of deterioration | D76: No | E76: Yes – complete scoping assessment for each water body
B77: Q1.3 | C77: Are there any potential cumulative/in combination impacts? Or is there Local Expert Override? | D77: No | E77: Yes – complete scoping assessment for each water body
B78: Q1.4 | C78: Is the water body at Good overall status? | D78: No | E78: No - Go to Q1.5
B79: Q1.5 | C79: Record best practice measures that the works include to help achieve the objectives of the water body. For example a biosecurity plan to ensure the project/activity doesn't introduce or spread Invasive Non Native Species. | D79: The scheme has been designed as low impact and site meetings have been held with NRW fisheries and geomorphology to ensure that suitable mitigation is in place and that best practice guideance is followed. The location and size of the weir has been agreed with geomorphology so that there is minimal impact on sediment transportation. A water management plan will be produced to ensure that soils and run-off do not enter the watercourse during the construction phase. | F79: As a regulator we must determine an authorisation so as to prevent the deterioration of the surface water status or groundwater status of a body of water and otherwise support the achievement of the environmental objectives set for a body of water. For Internal NRW activities and projects we must ensure that any projects and activities we carry out prevent deterioration and protects and enhances the status of aquatic ecosystems and terrestrial ecosystems directly depending on the aquatic ecosystem.
A80: Activities Screened out | C80: Waterbody screened out at stage 1 assessment as is greater than 2km downstream of the proposal and impacts from the screen are believed to be not significant
A102: Stage 2: Scoping Assessment
A103: Complete scoping assessment in tab 'Scoping Water body 1', add a new work sheet for each water body which can't be screened out (Scoping Water body 2 has already been added)
A104: Each component of the works should be included for example a hydropower scheme may include in-channel impoundment, creation of depleted reach, and bank reinforcement for turbine house. Include vegetation removal/management as a scheme component. Where there is a lack of confidence on whether there is potential risk to an element then these should be scoped in for further assessment.
A108: Scoping Outcomes | B108: Q2.1 Is there a risk that a component of the activity or project may cause deterioration of any element that makes up water body status classification? | C108: All components of the small scale hydro scheme have been designed to be low impact. Site meetings and discussions have been held with the Energy Delivery Team and their consultants TGV to ensure that best practice guidance is incorporated into all elements of the scheme | D108: Use scoping sheet to help make this determination
B109: Q2.2 Is there a risk that a component of the activity/project may prevent the water body or Protected Area from achieving its objectives in the future? | C109: The risk has been mitigated by low impact design for all components of the scheme
B110: Scoping decision of the project ‘alone’ | C110: Use information gathered in scoping section to answer the questions Q2.1 & Q2.2
B113: For Natura 2000 sites (SAC/SPA/Ramsar) Has a Habitats Risk Assessment been completed? | C113: N/A
B114: Scoping decision of the project cumulatively or ‘in combination ’ | C114: There is a natural waterfall below the intake weir and it was agreed with NRW that this would be the optimum situation for the intake.
B115: Overall scoping decision (choose one of the following) | C115: There is no risk of deterioration or prevention of the water body achieving its objectives as a result of the activity/project, either alone or in combination, and no further consideration under the Water Framework Directive/Regulations is required in order to determine the application | D115: Go to authorisation section
D116: Go to stage 3 & seek technical advice from relevant technical experts on scope of detailed impact assessment requirements
A118: Stage 3: Detailed Assessment
A119: Q3.1 Is there a risk the activity or project may cause a deterioration of status (or potential) to a water body or Protected Area?
A120: Q3.2 Is there risk the activity or project may prevent the water body/ PA from meeting its objectives?
A121: Refer to guidance document for further information
A122: Water body name | B122: WFD element/s scoped in | C122: Description of impacts; include a list of all supporting documents for the impact assessment | D122: Is there risk of the activity preventing the water body/ PA from meeting it's objectives? ‘YES’ or ‘NO’* | E122: Can the risk of deterioration be ruled out? ‘YES’ or ‘NO’*
A129: * If it is not known whether potential deterioration can be ruled out, record ‘NO’ in the right hand column
A132: Authorisation
A133: Sign off | B133: Conclusion of WFD Compliance Assessment (choose one of the following and delete the rest)
C135: WFD stage 2 scoping has been completed and the activity/project is considered as having no risk of causing deterioration or preventing any water body/PA from reaching its objectives, and taking account of the advice from technical officers - is considered compliant with the Water Framework Directive/Regulations.
D137: In this instance contact the EPP WFD team for advice and follow the ‘Derogation Determination for Water Framework Directive Article 4(7)’ (OGN: 77).
B138: Name of authorising officer | C138: Jane Davies
B139: Job title and date | C139: Project Support Officer Account Manager 4 June 2018
B141: Technical specialist comments | C141: Where there is a dispute on the conclusion the decision should be taken at the next management tier.
B142: Name, job title and date
A145: Consultation with technical advisors/specialists
A146: Relevant section of the WFD compliance assessment | B146: Date(s) of correspondence* and any meeting(s) with technical advisor(s) | C146: Description of how the comments from technical advisors have been taken into account
A152: *Attach a copy of any written correspondence with the WFD assessment for the audit trail

Sheet Scoping Waterbody 1
A1: Water body name | C1: WB status | G1: Is WB A or HM? | H1: If so Mitigation Measures/other relevant notes | I1: Target WB? | J1: WB Objective | K1: Measures
B2: Water body ID | C2: Overall Status | D2: Chemical Status | E2: Ecological Status | F2: Morphology status* (*where a zero appears then assume good status) | G2: If so state reason for designation | I2: Yes/No | K2: Identify planned water body measures.
A4: ='Waterbody 1 Data'!E4 -> Rhondda R - source to conf Afon Rhondda Fach | B4: ='Waterbody 1 Data'!B4 -> GB109057027200 | C4: ='Waterbody 1 Data'!Y4 -> Good | D4: ='Waterbody 1 Data'!Z4 -> Good | E4: ='Waterbody 1 Data'!AB4 -> Good | F4: ='Waterbody 1 Data'!AW4 -> Supports Good | G4: ='Waterbody 1 Data'!X4 -> No | J4: Good | K4: listed on WWW
A5: Information on how to extract info from MyMap and to link water bodies can be found on the Information tab of this spreadsheet
B6: Component 1 – Intake Weir | E6: Component 2 – Discharge/Turbine House | H6: Component 3 – Pipeline Route | K6: Component 4 – | N6: Add additional components as required
A7: Elements | B7: Applicable (pick from drop down list) | C7: Potential Impact (include direct and indirect potential impacts) | D7: Avoidance measures (briefly describe any measure included within the project at this point that will ensure the potential effects are avoided) | E7: Applicable (tick all those that apply) | F7: Potential Impact (include direct and indirect potential impacts) | G7: Avoidance measures (briefly describe any measure included within the project at this point that will ensure the potential effects are avoided) | H7: Applicable (tick all those that apply) | I7: Potential Impact (include direct and indirect potential impacts) | J7: Avoidance measures (briefly describe any measure included within the project at this point that will ensure the potential effects are avoided) | K7: Applicable (tick all those that apply) | L7: Potential Impact (include direct and indirect potential impacts) | M7: Avoidance measures (briefly describe any measure included within the project at this point that will ensure the potential effects are avoided)
A8: Definition and further info on elements can be found on the 'Explanation of elements tab of this spreadsheet. Seek expert advice from relevant technical expert for this section | C8: Example included | D8: Colour text in green if all impacts can be avoided through measures already included in the scheme. Or red for schemes which require detailed assessment | G8: Colour text in green if all impacts can be avoided through measures already included in the scheme. Or red for schemes which require detailed assessment | J8: Colour text in green if all impacts can be avoided through measures already included in the scheme. Or red for schemes which require detailed assessment | M8: Colour text in green if all impacts can be avoided through measures already included in the scheme
A9: Hydromorphological elements
A10: Hydrological regime:
A11: · Quantity and dynamics of water flow | B11: √ direct | C11: Create impoundment and reduce flow over the length of the scheme | D11: Ensure HoF is kept clear and effective | E11: √ direct | F11: Discharge of water from turbine | G11: Water will be discharged over a rock/boulder shallow cascade to disipate energy prior to returning to the watercourse and no pollutants are involved in the process
A12: · Connection to groundwater bodies | B12: N/A - No impact pathway | E12: N/A - No impact pathway
A13: River continuity:
A14: · Migration of aquatic organisms | B14: √ direct | C14: Barrier to movement | D14: HoF, coanda screen of 1mm | E14: √ direct | F14: Migration of aquatic organisms may be affected | G14: The outfall has been appropriately sited according to best practice.
A15: · Sediment transport | B15: √ direct | C15: Sediment transport maybe impeded by intake structure | D15: Low risk due sensitive to design and siting and steep gradient | E15: √ direct | F15: Sediment Transport | G15: The angle to the flow returning to the river will be such to minimise distruption and will be released onto bedrock or boulders to disepate the rate at which it enters the river.
A16: Morphological conditions:
A17: · River depth and width variation | B17: √ direct | C17: Placement of intake may affect depth and width | D17: Low risk due to sensitve siting and design, sited on riverbed and bedrock | E17: √ direct | F17: Discharge causing changes | G17: low risk siting and design, sited on riverbed
A18: · Structure and substrate of the river bed | B18: √ direct | C18: Could be changed by introduction of intake | D18: Low impact due to siting | E18: √ direct | F18: Speed of water at entry could have an affect | G18: The angle to the flow returning to the river will be such to minimise distruption and will be released onto bedrock or boulders to disepate the rate at which it enters the river.
A19: · Structure of the riparian zone | B19: √ direct | C19: Damage caused to riparian zone during construction | D19: Clear method statements ensuring pollution control and not removing vast areas of riparian zone. | E19: √ direct | F19: Riparian zone could be altered | G19: method statements not removing vast quantities of riparian zone
A20: · Increased risk of scour/erosion and or deposition | B20: √ direct | C20: Potential for scour/erosion | D20: Low risk as intake placed above waterfall | E20: √ direct | F20: Scour/deposition | G20: Low risk as discharge pipe will be angled and positioned over bedrock and boulders
A21: · Other | B21: N/A - No impact pathway | E21: √ direct | F21: Positioning of the turbine house | G21: Turbine house is sited outside flood zone
A22: Biological elements
A23: Phytoplankton:
A24: · Taxanomic composition | B24: √ indirect | C24: Work in the watercourse may cause distrubance to substances | D24: It is highly likely that the river will be affected by mining metals. Care needs to be taken during construction and best practice should be adopted. It is likely there is the presence of lead, nickel and arsenic. Testing would be required on any material being moved off site. This will be assessed in more detail by the local planning authority. | E24: √ indirect | H24: √ indirect
A25: · Average abundance | B25: √ indirect | E25: √ indirect | H25: √ indirect
A26: · Planktonic bloom frequency and intensity | B26: √ indirect | E26: √ indirect | H26: √ indirect
A27: · Biomass | B27: √ indirect | E27: √ indirect | H27: √ indirect
A28: Macrophytes and phytobenthos: | H28: √ indirect
A29: · Taxanomic composition | B29: √ indirect | E29: √ indirect | H29: √ indirect
A30: · Average macrophytes and phytobenthic abundance | B30: √ indirect | E30: √ indirect | H30: √ indirect
A31: Other aquatic flora (e.g. macroalgae, angiosperms, sea grass, sea weed salt marsh): Transitional and Coastal water bodies only
A32: · Composition | B32: N/A - No impact pathway
A33: Benthic invertebrate fauna:
A34: · Composition | B34: √ indirect | C34: Work in the watercourse may cause distrubance to substances | D34: It is highly likely that the river will be affected by mining metals. Care needs to be taken during construction and best practice should be adopted. It is likely there is the presence of lead, nickel and arsenic. Testing would be required on any material being moved off site. This will be assessed in more detail by the local planning authority. | E34: √ indirect | H34: √ indirect
A35: · Abundance
A36: Fish fauna:
A37: · Species composition and abundance | B37: √ direct | C37: Brown Trout | D37: Avoidance of in water working during spawning. Ensure passage for fish is still available downstream - use an open pipe system. Discharge on bedrock, boulders. Once constructed ensure licence requirements and correct screening are maintained.During the life of the scheme ensure correct pollution control is in place during any works. | E37: √ direct | F37: Salmotrutta and Eels | G37: Avoidance of in water working during spawning. Discharge on bedrock/ boulders to avoid spawning gravel. Currently the design includes a 10mm screen.
A38: · Presence of type-specific disturbance sensitive species | B38: √ direct | C38: Brown Trout | E38: √ direct | F38: Salmotrutta and Eels
A39: · Age structure of fish communities | B39: √ direct | C39: Potentially all age classes of brown trout in stream . Potential disturbance during construction - noise and vibration, during operation - screening, disturbance of fish passage upstream/downstream, during de-commissioning noise, pollution risk, silt mobilization, deposition of contaminates. | E39: √ direct | F39: All age classes in stream - ova, juvenille and sexually active adults
A40: · refuge/predation areas | B40: √ direct | C40: Brown Trout | D40: Improve habitat by installing woody debris and boulders to help fish to vary flow, put rootballs into bankside, consider stones/logs pinned into riverbed. | E40: √ direct | F40: Salmotrutta and Eels | G40: Improve habitat by installing woody debris and boulders to help fish to vary flow, put rootballs into bankside, consider stones/logs pinned into riverbed.
A41: Protected Areas and Critical sensitive habitats/species
A42: Protected Areas:
A43: · SACs | B43: N/A - No impact pathway | E43: N/A - No impact pathway
A44: · SPAs | B44: N/A - No impact pathway | E44: N/A - No impact pathway
A45: · RAMSAR | B45: N/A - No impact pathway | E45: N/A - No impact pathway
A46: · Bathing Waters | B46: N/A - No impact pathway | E46: N/A - No impact pathway
A47: · Shellfish Waters | B47: N/A - No impact pathway | E47: N/A - No impact pathway
A48: · Surface Water Drinking Water Protected Areas | B48: N/A - No impact pathway | E48: N/A - No impact pathway
A49: · Ground Water Drinking Water Protected Areas | B49: N/A - No impact pathway | E49: N/A - No impact pathway
A50: · Urban Waste Water Treatment Directive: designated Nutrient Sensitive Area | B50: N/A - No impact pathway | E50: N/A - No impact pathway
A51: · Nitrate Vulnerable Zones | B51: N/A - No impact pathway | E51: N/A - No impact pathway
A52: Other Protected and Priority habitats and species:
A53: · Nationally or locally protected areas ie: SSSI | B53: N/A - No impact pathway | E53: N/A - No impact pathway
A54: · Priority habitats ie: Wetlands (see MyMap) | B54: N/A - No impact pathway | E54: N/A - No impact pathway
A55: · Priority species ie: Watervoles (see MyMap) | B55: N/A - No impact pathway | E55: N/A - No impact pathway
A56: Physico-chemical elements
A57: Salinity | B57: √ direct | C57: Potential for metal rich sediment being disturbed and affecting concentrations of metals. | D57: Good water management practices | E57: √ direct | F57: Potential for metal rich sediment being disturbed and affecting concentrations of metals. | G57: Good water management practices
A58: Nutrient concentrations
A59: pH
A60: Oxygen balance
A61: Acid neutralising capacity
A62: Temperature (including shading)
A63: Transparency
A64: Pollution by all priority substances identified as being discharged into the water body
A65: Pollution by other substances identified as being discharged in significant quantities into the water body.
A66: Invasive Non Native Species
A67: Is there a risk of introducing or spreading INNS? | B67: N/A - No impact pathway | E67: N/A - No impact pathway
A69: Assessing potential in combination and/or cumulative impacts
A70: Do not include activities which have not yet been applied for, unless the activity is well defined and there are solid reasons for believing that it will be taken forward. In general completed activities will be part of the background conditions however some activities which are completed
A71: Other projects/activies with effects that might interact with the effects of the project/activity to render its effects significant (if any) | B71: Nature of the in-combination/cumulative effect (if any) | C71: Describe any conditions, restrictions or other measures, if any, applicable to the activity/project, and/or to the other activities giving rise to the in combination / cumulative effect, which could remove the risk of deterioration or prevent of achieving water body objectives. Include details of how such measures would be applied, and who would be responsible for applying them. | D71: Taking into account any additional measures identified and how they would be applied, can the risk of deterioration or prevention of achieving water body objectives from in combination/ cumulative effects be ruled out?
A72: If none, put ‘N/A’ | C72: If required, further details can be provided in separate clearly referenced documents. | D72: ‘YES’ or ‘NO’ or ‘DON’T KNOW’
A77: (a) If the right hand column is ‘YES’ in all cases | C77: It can be concluded that potential deterioration or prevention of achieving water body objectives from in combination / cumulative effects can be ruled out
A78: (b) If any row is ‘NO’ or 'Don't know' in the right hand column | C78: It cannot be concluded that potential deterioration or prevention of achieving water body objectives from in combination / cumulative effects can be ruled out
A83: List all measures that have been considered, but aren’t technically feasible, or are disproportionately costly as these need to be demonstrated to have been considered, in order to rule them out
A84: WFD parameter likely to be impacted | B84: Mitigation/ Improvement measure | C84: Are measures already in place to maximum effect? | D84: Is the measure technically feasible? | E84: Will the measure make a meaningful contribution to the status of the waterbody? | F84: Is the measure disproportionately costly?

Sheet Waterbody 1 Data
A1: Insert water body data as csv file for each water bdy and link to sheet 1 (WFD assessment) in this workbook
O2: Example
A3: OBJECTID | B3: EA_WB_ID | C3: DS_WBID | D3: WATER_CAT | E3: WB_NAME | F3: COUNTRY | G3: RBD_ID | H3: RBD_NAME | I3: AREA_ID | J3: AREA_NAME | K3: CYCLE_2 | L3: OPCATNAME | M3: MANCATNAME | N3: AREA_SHORT | O3: EDIT_MADE | P3: SHAPE.STLength() | Q3: WBID | R3: Name | S3: RBDDesc | T3: Catchment | U3: Region | V3: Area | W3: Length_Kms_ | X3: HMWB | Y3: OverallStatus | Z3: ChemStatus | AA3: EcoStatusPotential | AB3: EcoStatus | AC3: EcoCert | AD3: DrivEcoQE | AE3: Mitigation_Measures_Assessment | AF3: WoEUsed | AG3: Expert_Judgment | AH3: Expert_Judgment_Source | AI3: ECO_BIO | AJ3: MacPhyCombined | AK3: MacPhyCombinedCert | AL3: PhytoSub | AM3: PhytoSubCert | AN3: PhytoMethod | AO3: PhytoGroup | AP3: MacroSub | AQ3: MacroSubCert | AR3: Invertebrates | AS3: InvertCert | AT3: Fish | AU3: FishCert | AV3: ECO_HM | AW3: Morphology | AX3: HydrologicalRegime | AY3: Flow | AZ3: ECO_GEN | BA3: ECO_GENCert | BB3: Ammonia | BC3: Amm_Cert | BD3: DO | BE3: DOCert | BF3: pH | BG3: pHCert | BH3: P | BI3: P_Cert | BJ3: Temp | BK3: TempCert | BL3: Annex8Chem | BM3: A8Fail | BN3: A8Cert | BO3: F2_4_dichlorophenol | BP3: F2_4_dichlorophenolCert | BQ3: F2_4_dichlorophenoxyacetic_acid | BR3: F2_4_dichlorophenoxyacetic_acidCert | BS3: Arsenic | BT3: ArsenicCert | BU3: Copper | BV3: CopperCert | BW3: Cyanide | BX3: CyanideCert | BY3: Diazinon | BZ3: DiazinonCert | CA3: Dimethoate | CB3: DimethoateCert | CC3: Iron | CD3: IronCert | CE3: Linuron | CF3: LinuronCert | CG3: Mecoprop | CH3: MecopropCert | CI3: Permethrin | CJ3: PermethrinCert | CK3: Phenol | CL3: PhenolCert | CM3: Toluene | CN3: TolueneCert | CO3: Triclosan | CP3: TriclosanCert | CQ3: Un_ionised_ammonia | CR3: Un_ionised_ammoniaCert | CS3: Zinc | CT3: ZincCert | CU3: Dichlorvos | CV3: DichlorvosCert | CW3: BDPECalc | CX3: BDPECalcCert | CY3: Manganese | CZ3: ManganeseCert | DA3: Annex10 | DB3: A10Fail | DC3: A10Cert | DD3: F1_2_dichloroethane | DE3: F1_2_dichloroethaneCert | DF3: Anthracene | DG3: AnthraceneCert | DH3: Atrazine | DI3: AtrazineCert | DJ3: Benzene | DK3: BenzeneCert | DL3: Benzo__a__and__k__fluoranthene | DM3: Benzo__a__and__k__fluorantheneCert | DN3: Benz_p_i_p | DO3: Benz_p_i_pCert | DP3: Benzo_a_pyrene | DQ3: Benzo_a_pyreneCert | DR3: Cadmium | DS3: CadmiumCert | DT3: Chlorfenvinphos | DU3: ChlorfenvinphosCert | DV3: Chlorpyrifos | DW3: ChlorpyrifosCert | DX3: Di_2_ethylhexyl_phthalate | DY3: Di_2_ethylhexyl_phthalateCert | DZ3: Dichloromethane | EA3: DichloromethaneCert | EB3: Diuron | EC3: DiuronCert | ED3: Endosulfan | EE3: EndosulfanCert | EF3: Fluoranthene | EG3: FluorantheneCert | EH3: Hexachlorobenzene | EI3: HexachlorobenzeneCert | EJ3: Hexachlorobutadiene | EK3: HexachlorobutadieneCert | EL3: Hexachlorocyclohexane | EM3: HexachlorocyclohexaneCert | EN3: Isoproturon | EO3: IsoproturonCert | EP3: Lead_And_Its_Compounds | EQ3: Lead_And_Its_CompoundsCert | ER3: Mercury_And_Its_Compounds | ES3: Mercury_And_Its_CompoundsCert | ET3: Napthalene | EU3: NapthaleneCert | EV3: Nickel_And_Its_Compounds | EW3: Nickel_And_Its_CompoundsCert | EX3: Nonylphenol | EY3: NonylphenolCert | EZ3: Pentachlorophenol | FA3: PentachlorophenolCert | FB3: Simazine | FC3: SimazineCert | FD3: Tributyltin_Compounds | FE3: Tributyltin_CompoundsCert | FF3: Trichlorobenzenes | FG3: TrichlorobenzenesCert | FH3: Trichloromethane | FI3: TrichloromethaneCert | FJ3: Trifluralin | FK3: TrifluralinCert | FL3: Aldrin__Dieldrin__Endrin___Isodrin | FM3: Aldrin__Dieldrin__Endrin___IsodrinCert | FN3: Carbon_Tetrachloride | FO3: Carbon_TetrachlorideCert | FP3: DDT_Total | FQ3: DDT_TotalCert | FR3: para___para_DDT | FS3: para___para_DDTCert | FT3: Tetrachloroethylene | FU3: TetrachloroethyleneCert | FV3: Trichloroethylene | FW3: TrichloroethyleneCert | FX3: Other_Pollutants | FY3: Other_Pollutants_Cert | FZ3: Shape
A4: 3537 | B4: GB109057027200 | C4: GB109057027230 | D4: River | E4: Rhondda R - source to conf Afon Rhondda Fach | F4: Wales | G4: 9 | H4: Severn | I4: 0 | J4: NRW | K4: REPORT NEXT RBMP | L4: Rhondda | M4: South East Valleys | N4: NRW | P4: 30766.484 | Q4: GB109057027200 | R4: Rhondda R - source to conf Afon Rhondda Fach | S4: Severn | T4: South East Valleys | U4: EA Wales | V4: WA South East | W4: 30.77 | X4: No | Y4: Good | Z4: Good | AA4: Status | AB4: Good | AC4: Not Applicable | AD4: Fish | AE4: NYA | AF4: No | AI4: Good | AR4: High | AS4: Not Applicable | AT4: Good | AU4: Not Applicable | AV4: Supports Good | AW4: Supports Good | AX4: Supports Good | AY4: Pass | AZ4: High | BA4: Not Applicable | BB4: High | BC4: Not Applicable | BD4: High | BE4: Not Applicable | BF4: High | BG4: Not Applicable | BH4: High | BI4: Not Applicable | BJ4: High | BK4: Not Applicable | BL4: High | BN4: Not Applicable | BS4: Good | BT4: Not Applicable | BU4: Good | BV4: Not Applicable | CC4: Good | CD4: Not Applicable | CS4: Good | CT4: Not Applicable | CY4: Good | CZ4: Not Applicable | DA4: Good | DC4: Not Applicable | DR4: Good | DS4: Not Applicable | EP4: Good | EQ4: Not Applicable | EV4: Good | EW4: Not Applicable | FY4: Not Applicable | FZ4: Polyline

Sheet Scoping Waterbody 2
A1: Water body name | C1: WB status | G1: Is WB A or HM? | H1: If so Mitigation Measures/other relevant notes | I1: Target WB? | J1: WB Objective | K1: Measures
B2: Water body ID | C2: Overall Status | D2: Chemical Status | E2: Ecological Status | F2: Morphology status* (*where a zero appears then assume good status) | G2: If so state reason for designation | I2: Yes/No | K2: Identify planned water body measures.
A4: ='Waterbody 2 Data'!E4 -> Rhondda R - conf Afon Rhondda Fach to conf R Taff | B4: ='Waterbody 2 Data'!B4 -> GB109057027230 | C4: ='Waterbody 2 Data'!Y4 -> No | D4: ='Waterbody 2 Data'!Z4 -> Good | E4: ='Waterbody 2 Data'!AB4 -> Status | F4: ='Waterbody 2 Data'!AW4 -> Supports Good | G4: ='Waterbody 2 Data'!X4 -> 6.15 | J4: Good | K4: listed on WWW
A5: Information on how to extract info from MyMap and to link water bodies can be found on the Information tab of this spreadsheet
B6: Component 1 – Intake Weir | E6: Component 2 – Discharge/Turbine House | H6: Component 3 | K6: Component 4 – | N6: Add additional components as required
A7: Elements | B7: Applicable (pick from drop down list) | C7: Potential Impact (include direct and indirect potential impacts) | D7: Avoidance measures (briefly describe any measure included within the project at this point that will ensure the potential effects are avoided) | E7: Applicable (tick all those that apply) | F7: Potential Impact (include direct and indirect potential impacts) | G7: Avoidance measures (briefly describe any measure included within the project at this point that will ensure the potential effects are avoided) | H7: Applicable (tick all those that apply) | I7: Potential Impact (include direct and indirect potential impacts) | J7: Avoidance measures (briefly describe any measure included within the project at this point that will ensure the potential effects are avoided) | K7: Applicable (tick all those that apply) | L7: Potential Impact (include direct and indirect potential impacts) | M7: Avoidance measures (briefly describe any measure included within the project at this point that will ensure the potential effects are avoided)
A8: Definition and further info on elements can be found on the 'Explanation of elements tab of this spreadsheet. Seek expert advice from relevant technical expert for this section | C8: Example included | D8: Colour text in green if all impacts can be avoided through measures already included in the scheme. Or red for schemes which require detailed assessment | G8: Colour text in green if all impacts can be avoided through measures already included in the scheme. Or red for schemes which require detailed assessment | J8: Colour text in green if all impacts can be avoided through measures already included in the scheme. Or red for schemes which require detailed assessment | M8: Colour text in green if all impacts can be avoided through measures already included in the scheme
A9: Hydromorphological elements
A10: Hydrological regime:
A11: · Quantity and dynamics of water flow | B11: √ direct | C11: Create impoundment and reduce flow over the length of the scheme | D11: Ensure HoF is kept clear and effective | E11: √ direct | F11: Discharge of water from turbine | G11: Water will be discharged over a rock/boulder shallow cascade to disipate energy prior to returning to the watercourse and no pollutants are involved in the process
A12: · Connection to groundwater bodies | B12: N/A - No impact pathway | E12: N/A - No impact pathway
A13: River continuity:
A14: · Migration of aquatic organisms | B14: √ direct | C14: Barrier to movement | D14: HoF, coanda screen of 1mm | E14: √ direct | F14: Migration of aquatic organisms may be affected | G14: The outfall has been appropriately sited according to best practice.
A15: · Sediment transport | B15: √ direct | C15: Sediment transport maybe impeded by intake structure | D15: Low risk due sensitive to design and siting and steep gradient | E15: √ direct | F15: Sediment Transport | G15: The angle to the flow returning to the river will be such to minimise distruption and will be released onto bedrock or boulders to disepate the rate at which it enters the river.
A16: Morphological conditions:
A17: · River depth and width variation | B17: √ direct | C17: Placement of intake may affect depth and width | D17: Low risk due to sensitve siting and design, sited on riverbed and bedrock | E17: √ direct | F17: Discharge causing changes | G17: low risk siting and design, sited on riverbed
A18: · Structure and substrate of the river bed | B18: √ direct | C18: Could be changed by introduction of intake | D18: Low impact due to siting | E18: √ direct | F18: Speed of water at entry could have an affect | G18: The angle to the flow returning to the river will be such to minimise distruption and will be released onto bedrock or boulders to disepate the rate at which it enters the river.
A19: · Structure of the riparian zone | B19: √ direct | C19: Damage caused to riparian zone during construction | D19: Clear method statements ensuring pollution control and not removing vast areas of riparian zone. | E19: √ direct | F19: Riparian zone could be altered | G19: method statements not removing vast quantities of riparian zone
A20: · Increased risk of scour/erosion and or deposition | B20: √ direct | C20: Potential for scour/erosion | D20: Low risk as intake placed above waterfall | E20: √ direct | F20: Scour/deposition | G20: Low risk as discharge pipe will be angled and positioned over bedrock and boulders
A21: · Other | B21: N/A - No impact pathway | E21: √ direct | F21: Positioning of the turbine house | G21: Turbine house is sited outside flood zone
A22: Biological elements
A23: Phytoplankton:
A24: · Taxanomic composition | B24: √ indirect | C24: Work in the watercourse may cause distrubance to substances | D24: It is highly likely that the river will be affected by mining metals. Care needs to be taken during construction and best practice should be adopted. It is likely there is the presence of lead, nickel and arsenic. Testing would be required on any material being moved off site. This will be assessed in more detail by the local planning authority. | E24: √ indirect | F24: Work in the watercourse may cause distrubance to substances | G24: It is highly likely that the river will be affected by mining metals. Care needs to be taken during construction and best practice should be adopted. It is likely there is the presence of lead, nickel and arsenic. Testing would be required on any material being moved off site. This will be assessed in more detail by the local planning authority.
A25: · Average abundance | B25: √ indirect | E25: √ indirect
A26: · Planktonic bloom frequency and intensity | B26: √ indirect | E26: √ indirect
A27: · Biomass | B27: √ indirect | E27: √ indirect
A28: Macrophytes and phytobenthos:
A29: · Taxanomic composition | B29: √ indirect | E29: √ indirect
A30: · Average macrophytes and phytobenthic abundance | B30: √ indirect | E30: √ indirect
A31: Other aquatic flora (e.g. macroalgae, angiosperms, sea grass, sea weed salt marsh): Transitional and Coastal water bodies only
A32: · Composition | B32: N/A - No impact pathway
A33: Benthic invertebrate fauna:
A34: · Composition | B34: √ indirect | C34: Work in the watercourse may cause distrubance to substances | D34: It is highly likely that the river will be affected by mining metals. Care needs to be taken during construction and best practice should be adopted. It is likely there is the presence of lead, nickel and arsenic. Testing would be required on any material being moved off site. This will be assessed in more detail by the local planning authority. | E34: √ indirect | F34: Work in the watercourse may cause distrubance to substances | G34: It is highly likely that the river will be affected by mining metals. Care needs to be taken during construction and best practice should be adopted. It is likely there is the presence of lead, nickel and arsenic. Testing would be required on any material being moved off site. This will be assessed in more detail by the local planning authority.
A35: · Abundance
A36: Fish fauna:
A37: · Species composition and abundance | B37: √ direct | C37: Brown Trout | D37: Avoidance of in water working during spawning. Ensure passage for fish is still available downstream - use an open pipe system. Discharge on bedrock, boulders. Once constructed ensure licence requirements and correct screening are maintained.During the life of the scheme ensure correct pollution control is in place during any works. | E37: √ direct | F37: Brown Trout | G37: Avoidance of in water working during spawning. Ensure passage for fish is still available downstream - use an open pipe system. Discharge on bedrock, boulders. Once constructed ensure licence requirements and correct screening are maintained.During the life of the scheme ensure correct pollution control is in place during any works.
A38: · Presence of type-specific disturbance sensitive species | B38: √ direct | C38: Brown Trout | E38: √ direct | F38: Brown Trout
A39: · Age structure of fish communities | B39: √ direct | C39: Potentially all age classes of brown trout in stream . Potential disturbance during construction - noise and vibration, during operation - screening, disturbance of fish passage upstream/downstream, during de-commissioning noise, pollution risk, silt mobilization, deposition of contaminates. | E39: √ direct | F39: Potentially all age classes of brown trout in stream . Potential disturbance during construction - noise and vibration, during operation - screening, disturbance of fish passage upstream/downstream, during de-commissioning noise, pollution risk, silt mobilization, deposition of contaminates.
A40: · refuge/predation areas | B40: √ direct | C40: Brown Trout | D40: Improve habitat by installing woody debris and boulders to help fish to vary flow, put rootballs into bankside, consider stones/logs pinned into riverbed. | E40: √ direct | F40: Brown Trout | G40: Improve habitat by installing woody debris and boulders to help fish to vary flow, put rootballs into bankside, consider stones/logs pinned into riverbed.
A41: Protected Areas and Critical sensitive habitats/species
A42: Protected Areas:
A43: · SACs | B43: N/A - No impact pathway | E43: N/A - No impact pathway
A44: · SPAs | B44: N/A - No impact pathway | E44: N/A - No impact pathway
A45: · RAMSAR | B45: N/A - No impact pathway | E45: N/A - No impact pathway
A46: · Bathing Waters | B46: N/A - No impact pathway | E46: N/A - No impact pathway
A47: · Shellfish Waters | B47: N/A - No impact pathway | E47: N/A - No impact pathway
A48: · Surface Water Drinking Water Protected Areas | B48: N/A - No impact pathway | E48: N/A - No impact pathway
A49: · Ground Water Drinking Water Protected Areas | B49: N/A - No impact pathway | E49: N/A - No impact pathway
A50: · Urban Waste Water Treatment Directive: designated Nutrient Sensitive Area | B50: N/A - No impact pathway | E50: N/A - No impact pathway
A51: · Nitrate Vulnerable Zones | B51: N/A - No impact pathway | E51: N/A - No impact pathway
A52: Other Protected and Priority habitats and species:
A53: · Nationally or locally protected areas ie: SSSI | B53: N/A - No impact pathway | E53: N/A - No impact pathway
A54: · Priority habitats ie: Wetlands (see MyMap) | B54: N/A - No impact pathway | E54: N/A - No impact pathway
A55: · Priority species ie: Watervoles (see MyMap) | B55: N/A - No impact pathway | E55: N/A - No impact pathway
A56: Physico-chemical elements
A57: Salinity | B57: √ direct | C57: The risk of metal rich sediment being disturbed and affecting concentrations of metals. | D57: Good water management practices | E57: √ direct | F57: The risk of metal rich sediment being disturbed and affecting concentrations of metals. | G57: Good water management practices
A58: Nutrient concentrations
A59: pH
A60: Oxygen balance
A61: Acid neutralising capacity
A62: Temperature (including shading)
A63: Transparency
A64: Pollution by all priority substances identified as being discharged into the water body
A65: Pollution by other substances identified as being discharged in significant quantities into the water body.
A66: Invasive Non Native Species
A67: Is there a risk of introducing or spreading INNS? | B67: N/A - No impact pathway | E67: N/A - No impact pathway
A69: Assessing potential in combination and/or cumulative impacts
A70: Do not include activities which have not yet been applied for, unless the activity is well defined and there are solid reasons for believing that it will be taken forward. In general completed activities will be part of the background conditions however some activities which are completed
A71: Other projects/activies with effects that might interact with the effects of the project/activity to render its effects significant (if any) | B71: Nature of the in-combination/cumulative effect (if any) | C71: Describe any conditions, restrictions or other measures, if any, applicable to the activity/project, and/or to the other activities giving rise to the in combination / cumulative effect, which could remove the risk of deterioration or prevent of achieving water body objectives. Include details of how such measures would be applied, and who would be responsible for applying them. | D71: Taking into account any additional measures identified and how they would be applied, can the risk of deterioration or prevention of achieving water body objectives from in combination/ cumulative effects be ruled out?
A72: If none, put ‘N/A’ | C72: If required, further details can be provided in separate clearly referenced documents. | D72: ‘YES’ or ‘NO’ or ‘DON’T KNOW’
A74: 1.87km Training Camp Capel Curig
A75: 2.01km Log House Hydro
A77: (a) If the right hand column is ‘YES’ in all cases | C77: It can be concluded that potential deterioration or prevention of achieving water body objectives from in combination / cumulative effects can be ruled out
A78: (b) If any row is ‘NO’ or 'Don't know' in the right hand column | C78: It cannot be concluded that potential deterioration or prevention of achieving water body objectives from in combination / cumulative effects can be ruled out
A83: List all measures that have been considered, but aren’t technically feasible, or are disproportionately costly as these need to be demonstrated to have been considered, in order to rule them out
A84: WFD parameter likely to be impacted | B84: Mitigation/ Improvement measure | C84: Are measures already in place to maximum effect? | D84: Is the measure technically feasible? | E84: Will the measure make a meaningful contribution to the status of the waterbody? | F84: Is the measure disproportionately costly?

Sheet Waterbody 2 Data
A1: Insert water body data as csv file for each water bdy and link to sheet 1 (WFD assessment) in this workbook
O2: Example
A3: OBJECTID | B3: EA_WB_ID | C3: SHAPE_Leng | D3: CATEGORY | E3: NAME | F3: CATCHMENT | G3: RBD | H3: AREA_ID | I3: AREA_NAME | J3: REGION_ID | K3: REGION_NAM | L3: COUNTRY | M3: First_RBMP | N3: CREATED_FR | O3: Shape | P3: GlobalID | Q3: Shape.STArea() | R3: Shape.STLength() | S3: WBID | T3: RBD_ID | U3: RBDDesc | V3: Region | W3: Area | X3: Length_Kms_ | Y3: HMWB | Z3: OverallStatus | AA3: ChemStatus | AB3: EcoStatusPotential | AC3: EcoStatus | AD3: EcoCert | AE3: DrivEcoQE | AF3: Mitigation_Measures_Assessment | AG3: WoEUsed | AH3: Expert_Judgment | AI3: Expert_Judgment_Source | AJ3: ECO_BIO | AK3: MacPhyCombined | AL3: MacPhyCombinedCert | AM3: PhytoSub | AN3: PhytoSubCert | AO3: PhytoMethod | AP3: PhytoGroup | AQ3: MacroSub | AR3: MacroSubCert | AS3: Invertebrates | AT3: InvertCert | AU3: Fish | AV3: FishCert | AW3: ECO_HM | AX3: Morphology | AY3: HydrologicalRegime | AZ3: Flow | BA3: ECO_GEN | BB3: ECO_GENCert | BC3: Ammonia | BD3: Amm_Cert | BE3: DO | BF3: DOCert | BG3: pH | BH3: pHCert | BI3: P | BJ3: P_Cert | BK3: Temp | BL3: TempCert | BM3: Annex8Chem | BN3: A8Fail | BO3: A8Cert | BP3: F2_4_dichlorophenol | BQ3: F2_4_dichlorophenolCert | BR3: F2_4_dichlorophenoxyacetic_acid | BS3: F2_4_dichlorophenoxyacetic_acidCert | BT3: Arsenic | BU3: ArsenicCert | BV3: Copper | BW3: CopperCert | BX3: Cyanide | BY3: CyanideCert | BZ3: Diazinon | CA3: DiazinonCert | CB3: Dimethoate | CC3: DimethoateCert | CD3: Iron | CE3: IronCert | CF3: Linuron | CG3: LinuronCert | CH3: Mecoprop | CI3: MecopropCert | CJ3: Permethrin | CK3: PermethrinCert | CL3: Phenol | CM3: PhenolCert | CN3: Toluene | CO3: TolueneCert | CP3: Triclosan | CQ3: TriclosanCert | CR3: Un_ionised_ammonia | CS3: Un_ionised_ammoniaCert | CT3: Zinc | CU3: ZincCert | CV3: Dichlorvos | CW3: DichlorvosCert | CX3: BDPECalc | CY3: BDPECalcCert | CZ3: Manganese | DA3: ManganeseCert | DB3: Annex10 | DC3: A10Fail | DD3: A10Cert | DE3: F1_2_dichloroethane | DF3: F1_2_dichloroethaneCert | DG3: Anthracene | DH3: AnthraceneCert | DI3: Atrazine | DJ3: AtrazineCert | DK3: Benzene | DL3: BenzeneCert | DM3: Benzo__a__and__k__fluoranthene | DN3: Benzo__a__and__k__fluorantheneCert | DO3: Benz_p_i_p | DP3: Benz_p_i_pCert | DQ3: Benzo_a_pyrene | DR3: Benzo_a_pyreneCert | DS3: Cadmium | DT3: CadmiumCert | DU3: Chlorfenvinphos | DV3: ChlorfenvinphosCert | DW3: Chlorpyrifos | DX3: ChlorpyrifosCert | DY3: Di_2_ethylhexyl_phthalate | DZ3: Di_2_ethylhexyl_phthalateCert | EA3: Dichloromethane | EB3: DichloromethaneCert | EC3: Diuron | ED3: DiuronCert | EE3: Endosulfan | EF3: EndosulfanCert | EG3: Fluoranthene | EH3: FluorantheneCert | EI3: Hexachlorobenzene | EJ3: HexachlorobenzeneCert | EK3: Hexachlorobutadiene | EL3: HexachlorobutadieneCert | EM3: Hexachlorocyclohexane | EN3: HexachlorocyclohexaneCert | EO3: Isoproturon | EP3: IsoproturonCert | EQ3: Lead_And_Its_Compounds | ER3: Lead_And_Its_CompoundsCert | ES3: Mercury_And_Its_Compounds | ET3: Mercury_And_Its_CompoundsCert | EU3: Napthalene | EV3: NapthaleneCert | EW3: Nickel_And_Its_Compounds | EX3: Nickel_And_Its_CompoundsCert | EY3: Nonylphenol | EZ3: NonylphenolCert | FA3: Pentachlorophenol | FB3: PentachlorophenolCert | FC3: Simazine | FD3: SimazineCert | FE3: Tributyltin_Compounds | FF3: Tributyltin_CompoundsCert | FG3: Trichlorobenzenes | FH3: TrichlorobenzenesCert | FI3: Trichloromethane | FJ3: TrichloromethaneCert | FK3: Trifluralin | FL3: TrifluralinCert | FM3: Aldrin__Dieldrin__Endrin___Isodrin | FN3: Aldrin__Dieldrin__Endrin___IsodrinCert | FO3: Carbon_Tetrachloride | FP3: Carbon_TetrachlorideCert | FQ3: DDT_Total | FR3: DDT_TotalCert | FS3: para___para_DDT | FT3: para___para_DDTCert | FU3: Tetrachloroethylene | FV3: TetrachloroethyleneCert | FW3: Trichloroethylene | FX3: TrichloroethyleneCert | FY3: Other_Pollutants | FZ3: Other_Pollutants_Cert
A4: 3540 | B4: GB109057027230 | C4: 27169.881 | D4: RIVER | E4: Rhondda R - conf Afon Rhondda Fach to conf R Taff | F4: South East Valleys | G4: 9 | H4: 25 | I4: South East | J4: 8 | K4: EA Wales | L4: Wales | M4: REPORTED | O4: Polygon | P4: {77DCB31F-5DE7-431B-B261-BC8087AF6E7A} | Q4: 17293809 | R4: 27169.881 | S4: GB109057027230 | T4: 9 | U4: Severn | V4: EA Wales | W4: WA South East | X4: 6.15 | Y4: No | Z4: Good | AA4: Good | AB4: Status | AC4: Good | AD4: Not Applicable | AE4: Invertebrates | AF4: NYA | AG4: No | AJ4: Good | AS4: Good | AT4: Not Applicable | AW4: Supports Good | AX4: Supports Good | AY4: Does not Support Good | AZ4: Fail | BA4: High | BB4: Not Applicable | BC4: High | BD4: Not Applicable | BE4: High | BF4: Not Applicable | BG4: High | BH4: Not Applicable | BI4: High | BJ4: Not Applicable | BK4: High | BL4: Not Applicable | BO4: Not Applicable | DB4: Good | DD4: Not Applicable | FZ4: Not Applicable

Sheet Scoping Waterbody 3
A1: Water body name | C1: WB status | G1: Is WB A or HM? | H1: If so Mitigation Measures/other relevant notes | I1: Target WB? | J1: WB Objective | K1: Measures
B2: Water body ID | C2: Overall Status | D2: Chemical Status | E2: Ecological Status | F2: Morphology status* (*where a zero appears then assume good status) | G2: If so state reason for designation | I2: Yes/No | K2: Identify planned water body measures.
A4: ='Waterbody 3 Data'!E4 -> Taff - conf Rhondda R to Castle Street | B4: ='Waterbody 3 Data'!B4 -> GB109057027270 | C4: ='Waterbody 3 Data'!Y4 -> Yes | D4: ='Waterbody 3 Data'!Z4 -> Moderate | E4: ='Waterbody 3 Data'!AB4 -> Potential | F4: ='Waterbody 3 Data'!AW4 -> Supports Good | G4: ='Waterbody 3 Data'!X4 -> 27.44 | J4: Good | K4: listed on WWW
A5: Information on how to extract info from MyMap and to link water bodies can be found on the Information tab of this spreadsheet
B6: Component 1 – Intake Weir | E6: Component 2 – Discharge/Turbine House | H6: Component 3 | K6: Component 4 – | N6: Add additional components as required
A7: Elements | B7: Applicable (pick from drop down list) | C7: Potential Impact (include direct and indirect potential impacts) | D7: Avoidance measures (briefly describe any measure included within the project at this point that will ensure the potential effects are avoided) | E7: Applicable (tick all those that apply) | F7: Potential Impact (include direct and indirect potential impacts) | G7: Avoidance measures (briefly describe any measure included within the project at this point that will ensure the potential effects are avoided) | H7: Applicable (tick all those that apply) | I7: Potential Impact (include direct and indirect potential impacts) | J7: Avoidance measures (briefly describe any measure included within the project at this point that will ensure the potential effects are avoided) | K7: Applicable (tick all those that apply) | L7: Potential Impact (include direct and indirect potential impacts) | M7: Avoidance measures (briefly describe any measure included within the project at this point that will ensure the potential effects are avoided)
A8: Definition and further info on elements can be found on the 'Explanation of elements tab of this spreadsheet. Seek expert advice from relevant technical expert for this section | C8: Example included | D8: Colour text in green if all impacts can be avoided through measures already included in the scheme. Or red for schemes which require detailed assessment | G8: Colour text in green if all impacts can be avoided through measures already included in the scheme. Or red for schemes which require detailed assessment | J8: Colour text in green if all impacts can be avoided through measures already included in the scheme. Or red for schemes which require detailed assessment | M8: Colour text in green if all impacts can be avoided through measures already included in the scheme
A9: Hydromorphological elements
A10: Hydrological regime:
A11: · Quantity and dynamics of water flow | B11: √ direct | C11: Create impoundment and reduce flow over the length of the scheme | D11: Ensure HoF is kept clear and effective | E11: √ direct | F11: Discharge of water from turbine | G11: Water will be discharged over a rock/boulder shallow cascade to disipate energy prior to returning to the watercourse and no pollutants are involved in the process
A12: · Connection to groundwater bodies | B12: N/A - No impact pathway | E12: N/A - No impact pathway
A13: River continuity:
A14: · Migration of aquatic organisms | B14: √ direct | C14: Barrier to movement | D14: HoF, coanda screen of 1mm | E14: √ direct | F14: Migration of aquatic organisms may be affected | G14: The outfall has been appropriately sited according to best practice.
A15: · Sediment transport | B15: √ direct | C15: Sediment transport maybe impeded by intake structure | D15: Low risk due sensitive to design and siting and steep gradient | E15: √ direct | F15: Sediment Transport | G15: The angle to the flow returning to the river will be such to minimise distruption and will be released onto bedrock or boulders to disepate the rate at which it enters the river.
A16: Morphological conditions:
A17: · River depth and width variation | B17: √ direct | C17: Placement of intake may affect depth and width | D17: Low risk due to sensitve siting and design, sited on riverbed and bedrock | E17: √ direct | F17: Discharge causing changes | G17: low risk siting and design, sited on riverbed
A18: · Structure and substrate of the river bed | B18: √ direct | C18: Could be changed by introduction of intake | D18: Low impact due to siting | E18: √ direct | F18: Speed of water at entry could have an affect | G18: The angle to the flow returning to the river will be such to minimise distruption and will be released onto bedrock or boulders to disepate the rate at which it enters the river.
A19: · Structure of the riparian zone | B19: √ direct | C19: Damage caused to riparian zone during construction | D19: Clear method statements ensuring pollution control and not removing vast areas of riparian zone. | E19: √ direct | F19: Riparian zone could be altered | G19: method statements not removing vast quantities of riparian zone
A20: · Increased risk of scour/erosion and or deposition | B20: √ direct | C20: Potential for scour/erosion | D20: Low risk as intake placed above waterfall | E20: √ direct | F20: Scour/deposition | G20: Low risk as discharge pipe will be angled and positioned over bedrock and boulders
A21: · Other | B21: N/A - No impact pathway | E21: √ direct | F21: Positioning of the turbine house | G21: Turbine house is sited outside flood zone
A22: Biological elements
A23: Phytoplankton:
A24: · Taxanomic composition | B24: √ indirect | C24: Work in the watercourse may cause distrubance to substances | D24: It is highly likely that the river will be affected by mining metals. Care needs to be taken during construction and best practice should be adopted. It is likely there is the presence of lead, nickel and arsenic. Testing would be required on any material being moved off site. This will be assessed in more detail by the local planning authority. | E24: √ indirect | F24: Work in the watercourse may cause distrubance to substances | G24: It is highly likely that the river will be affected by mining metals. Care needs to be taken during construction and best practice should be adopted. It is likely there is the presence of lead, nickel and arsenic. Testing would be required on any material being moved off site. This will be assessed in more detail by the local planning authority.
A25: · Average abundance | B25: √ indirect | E25: √ indirect
A26: · Planktonic bloom frequency and intensity | B26: √ indirect | E26: √ indirect
A27: · Biomass | B27: √ indirect | E27: √ indirect
A28: Macrophytes and phytobenthos:
A29: · Taxanomic composition | B29: √ indirect | E29: √ indirect
A30: · Average macrophytes and phytobenthic abundance | B30: √ indirect | E30: √ indirect
A31: Other aquatic flora (e.g. macroalgae, angiosperms, sea grass, sea weed salt marsh): Transitional and Coastal water bodies only
A32: · Composition | B32: N/A - No impact pathway
A33: Benthic invertebrate fauna:
A34: · Composition | B34: √ indirect | C34: Work in the watercourse may cause distrubance to substances | D34: It is highly likely that the river will be affected by mining metals. Care needs to be taken during construction and best practice should be adopted. It is likely there is the presence of lead, nickel and arsenic. Testing would be required on any material being moved off site. This will be assessed in more detail by the local planning authority. | E34: √ indirect | F34: Work in the watercourse may cause distrubance to substances | G34: It is highly likely that the river will be affected by mining metals. Care needs to be taken during construction and best practice should be adopted. It is likely there is the presence of lead, nickel and arsenic. Testing would be required on any material being moved off site. This will be assessed in more detail by the local planning authority.
A35: · Abundance
A36: Fish fauna:
A37: · Species composition and abundance | B37: √ direct | C37: Brown Trout | D37: Avoidance of in water working during spawning. Ensure passage for fish is still available downstream - use an open pipe system. Discharge on bedrock, boulders. Once constructed ensure licence requirements and correct screening are maintained.During the life of the scheme ensure correct pollution control is in place during any works. | E37: √ direct | F37: Brown Trout | G37: Avoidance of in water working during spawning. Ensure passage for fish is still available downstream - use an open pipe system. Discharge on bedrock, boulders. Once constructed ensure licence requirements and correct screening are maintained.During the life of the scheme ensure correct pollution control is in place during any works.
A38: · Presence of type-specific disturbance sensitive species | B38: √ direct | C38: Brown Trout | E38: √ direct | F38: Brown Trout
A39: · Age structure of fish communities | B39: √ direct | C39: Potentially all age classes of brown trout in stream . Potential disturbance during construction - noise and vibration, during operation - screening, disturbance of fish passage upstream/downstream, during de-commissioning noise, pollution risk, silt mobilization, deposition of contaminates. | E39: √ direct | F39: Potentially all age classes of brown trout in stream . Potential disturbance during construction - noise and vibration, during operation - screening, disturbance of fish passage upstream/downstream, during de-commissioning noise, pollution risk, silt mobilization, deposition of contaminates.
A40: · refuge/predation areas | B40: √ direct | C40: Brown Trout | D40: Improve habitat by installing woody debris and boulders to help fish to vary flow, put rootballs into bankside, consider stones/logs pinned into riverbed. | E40: √ direct | F40: Brown Trout | G40: Improve habitat by installing woody debris and boulders to help fish to vary flow, put rootballs into bankside, consider stones/logs pinned into riverbed.
A41: Protected Areas and Critical sensitive habitats/species
A42: Protected Areas:
A43: · SACs | B43: N/A - No impact pathway | E43: N/A - No impact pathway
A44: · SPAs | B44: N/A - No impact pathway | E44: N/A - No impact pathway
A45: · RAMSAR | B45: N/A - No impact pathway | E45: N/A - No impact pathway
A46: · Bathing Waters | B46: N/A - No impact pathway | E46: N/A - No impact pathway
A47: · Shellfish Waters | B47: N/A - No impact pathway | E47: N/A - No impact pathway
A48: · Surface Water Drinking Water Protected Areas | B48: N/A - No impact pathway | E48: N/A - No impact pathway
A49: · Ground Water Drinking Water Protected Areas | B49: N/A - No impact pathway | E49: N/A - No impact pathway
A50: · Urban Waste Water Treatment Directive: designated Nutrient Sensitive Area | B50: N/A - No impact pathway | E50: N/A - No impact pathway
A51: · Nitrate Vulnerable Zones | B51: N/A - No impact pathway | E51: N/A - No impact pathway
A52: Other Protected and Priority habitats and species:
A53: · Nationally or locally protected areas ie: SSSI | B53: N/A - No impact pathway | E53: N/A - No impact pathway
A54: · Priority habitats ie: Wetlands (see MyMap) | B54: N/A - No impact pathway | E54: N/A - No impact pathway
A55: · Priority species ie: Watervoles (see MyMap) | B55: N/A - No impact pathway | E55: N/A - No impact pathway
A56: Physico-chemical elements
A57: Salinity | B57: √ direct | C57: The risk of metal rich sediment being disturbed and affecting concentrations of metals. | D57: Good water management practices | E57: √ direct | F57: The risk of metal rich sediment being disturbed and affecting concentrations of metals. | G57: Good water management practices
A58: Nutrient concentrations
A59: pH
A60: Oxygen balance
A61: Acid neutralising capacity
A62: Temperature (including shading)
A63: Transparency
A64: Pollution by all priority substances identified as being discharged into the water body
A65: Pollution by other substances identified as being discharged in significant quantities into the water body.
A66: Invasive Non Native Species
A67: Is there a risk of introducing or spreading INNS? | B67: N/A - No impact pathway | E67: N/A - No impact pathway
A69: Assessing potential in combination and/or cumulative impacts
A70: Do not include activities which have not yet been applied for, unless the activity is well defined and there are solid reasons for believing that it will be taken forward. In general completed activities will be part of the background conditions however some activities which are completed
A71: Other projects/activies with effects that might interact with the effects of the project/activity to render its effects significant (if any) | B71: Nature of the in-combination/cumulative effect (if any) | C71: Describe any conditions, restrictions or other measures, if any, applicable to the activity/project, and/or to the other activities giving rise to the in combination / cumulative effect, which could remove the risk of deterioration or prevent of achieving water body objectives. Include details of how such measures would be applied, and who would be responsible for applying them. | D71: Taking into account any additional measures identified and how they would be applied, can the risk of deterioration or prevention of achieving water body objectives from in combination/ cumulative effects be ruled out?
A72: If none, put ‘N/A’ | C72: If required, further details can be provided in separate clearly referenced documents. | D72: ‘YES’ or ‘NO’ or ‘DON’T KNOW’
A74: 1.87km Training Camp Capel Curig
A75: 2.01km Log House Hydro
A77: (a) If the right hand column is ‘YES’ in all cases | C77: It can be concluded that potential deterioration or prevention of achieving water body objectives from in combination / cumulative effects can be ruled out
A78: (b) If any row is ‘NO’ or 'Don't know' in the right hand column | C78: It cannot be concluded that potential deterioration or prevention of achieving water body objectives from in combination / cumulative effects can be ruled out
A83: List all measures that have been considered, but aren’t technically feasible, or are disproportionately costly as these need to be demonstrated to have been considered, in order to rule them out
A84: WFD parameter likely to be impacted | B84: Mitigation/ Improvement measure | C84: Are measures already in place to maximum effect? | D84: Is the measure technically feasible? | E84: Will the measure make a meaningful contribution to the status of the waterbody? | F84: Is the measure disproportionately costly?

Sheet Waterbody 3 Data
A1: Insert water body data as csv file for each water bdy and link to sheet 1 (WFD assessment) in this workbook
O2: Example
A3: OBJECTID | B3: EA_WB_ID | C3: SHAPE_Leng | D3: CATEGORY | E3: NAME | F3: CATCHMENT | G3: RBD | H3: AREA_ID | I3: AREA_NAME | J3: REGION_ID | K3: REGION_NAM | L3: COUNTRY | M3: First_RBMP | N3: CREATED_FR | O3: Shape | P3: GlobalID | Q3: Shape.STArea() | R3: Shape.STLength() | S3: WBID | T3: RBD_ID | U3: RBDDesc | V3: Region | W3: Area | X3: Length_Kms_ | Y3: HMWB | Z3: OverallStatus | AA3: ChemStatus | AB3: EcoStatusPotential | AC3: EcoStatus | AD3: EcoCert | AE3: DrivEcoQE | AF3: Mitigation_Measures_Assessment | AG3: WoEUsed | AH3: Expert_Judgment | AI3: Expert_Judgment_Source | AJ3: ECO_BIO | AK3: MacPhyCombined | AL3: MacPhyCombinedCert | AM3: PhytoSub | AN3: PhytoSubCert | AO3: PhytoMethod | AP3: PhytoGroup | AQ3: MacroSub | AR3: MacroSubCert | AS3: Invertebrates | AT3: InvertCert | AU3: Fish | AV3: FishCert | AW3: ECO_HM | AX3: Morphology | AY3: HydrologicalRegime | AZ3: Flow | BA3: ECO_GEN | BB3: ECO_GENCert | BC3: Ammonia | BD3: Amm_Cert | BE3: DO | BF3: DOCert | BG3: pH | BH3: pHCert | BI3: P | BJ3: P_Cert | BK3: Temp | BL3: TempCert | BM3: Annex8Chem | BN3: A8Fail | BO3: A8Cert | BP3: F2_4_dichlorophenol | BQ3: F2_4_dichlorophenolCert | BR3: F2_4_dichlorophenoxyacetic_acid | BS3: F2_4_dichlorophenoxyacetic_acidCert | BT3: Arsenic | BU3: ArsenicCert | BV3: Copper | BW3: CopperCert | BX3: Cyanide | BY3: CyanideCert | BZ3: Diazinon | CA3: DiazinonCert | CB3: Dimethoate | CC3: DimethoateCert | CD3: Iron | CE3: IronCert | CF3: Linuron | CG3: LinuronCert | CH3: Mecoprop | CI3: MecopropCert | CJ3: Permethrin | CK3: PermethrinCert | CL3: Phenol | CM3: PhenolCert | CN3: Toluene | CO3: TolueneCert | CP3: Triclosan | CQ3: TriclosanCert | CR3: Un_ionised_ammonia | CS3: Un_ionised_ammoniaCert | CT3: Zinc | CU3: ZincCert | CV3: Dichlorvos | CW3: DichlorvosCert | CX3: BDPECalc | CY3: BDPECalcCert | CZ3: Manganese | DA3: ManganeseCert | DB3: Annex10 | DC3: A10Fail | DD3: A10Cert | DE3: F1_2_dichloroethane | DF3: F1_2_dichloroethaneCert | DG3: Anthracene | DH3: AnthraceneCert | DI3: Atrazine | DJ3: AtrazineCert | DK3: Benzene | DL3: BenzeneCert | DM3: Benzo__a__and__k__fluoranthene | DN3: Benzo__a__and__k__fluorantheneCert | DO3: Benz_p_i_p | DP3: Benz_p_i_pCert | DQ3: Benzo_a_pyrene | DR3: Benzo_a_pyreneCert | DS3: Cadmium | DT3: CadmiumCert | DU3: Chlorfenvinphos | DV3: ChlorfenvinphosCert | DW3: Chlorpyrifos | DX3: ChlorpyrifosCert | DY3: Di_2_ethylhexyl_phthalate | DZ3: Di_2_ethylhexyl_phthalateCert | EA3: Dichloromethane | EB3: DichloromethaneCert | EC3: Diuron | ED3: DiuronCert | EE3: Endosulfan | EF3: EndosulfanCert | EG3: Fluoranthene | EH3: FluorantheneCert | EI3: Hexachlorobenzene | EJ3: HexachlorobenzeneCert | EK3: Hexachlorobutadiene | EL3: HexachlorobutadieneCert | EM3: Hexachlorocyclohexane | EN3: HexachlorocyclohexaneCert | EO3: Isoproturon | EP3: IsoproturonCert | EQ3: Lead_And_Its_Compounds | ER3: Lead_And_Its_CompoundsCert | ES3: Mercury_And_Its_Compounds | ET3: Mercury_And_Its_CompoundsCert | EU3: Napthalene | EV3: NapthaleneCert | EW3: Nickel_And_Its_Compounds | EX3: Nickel_And_Its_CompoundsCert | EY3: Nonylphenol | EZ3: NonylphenolCert | FA3: Pentachlorophenol | FB3: PentachlorophenolCert | FC3: Simazine | FD3: SimazineCert | FE3: Tributyltin_Compounds | FF3: Tributyltin_CompoundsCert | FG3: Trichlorobenzenes | FH3: TrichlorobenzenesCert | FI3: Trichloromethane | FJ3: TrichloromethaneCert | FK3: Trifluralin | FL3: TrifluralinCert | FM3: Aldrin__Dieldrin__Endrin___Isodrin | FN3: Aldrin__Dieldrin__Endrin___IsodrinCert | FO3: Carbon_Tetrachloride | FP3: Carbon_TetrachlorideCert | FQ3: DDT_Total | FR3: DDT_TotalCert | FS3: para___para_DDT | FT3: para___para_DDTCert | FU3: Tetrachloroethylene | FV3: TetrachloroethyleneCert | FW3: Trichloroethylene | FX3: TrichloroethyleneCert | FY3: Other_Pollutants | FZ3: Other_Pollutants_Cert
A4: 3544 | B4: GB109057027270 | C4: 86572.658 | D4: RIVER | E4: Taff - conf Rhondda R to Castle Street | F4: South East Valleys | G4: 9 | H4: 25 | I4: South East | J4: 8 | K4: EA Wales | L4: Wales | M4: REPORTED | O4: Polygon | P4: {02867A07-8426-47D9-AC2A-F5C5BFA7D0E7} | Q4: 63185376 | R4: 86572.658 | S4: GB109057027270 | T4: 9 | U4: Severn | V4: EA Wales | W4: WA South East | X4: 27.44 | Y4: Yes | Z4: Moderate | AA4: Fail | AB4: Potential | AC4: Moderate | AD4: Not Applicable | AE4: Mitigation Measures Assessment | AF4: Moderate | AG4: No | AJ4: Good | AK4: Good | AL4: Not Applicable | AM4: Good | AN4: Not Applicable | AQ4: Good | AR4: Not Applicable | AS4: High | AT4: Not Applicable | AW4: Supports Good | AY4: Supports Good | AZ4: Pass | BA4: Good | BB4: Not Applicable | BC4: High | BD4: Not Applicable | BE4: High | BF4: Not Applicable | BG4: High | BH4: Not Applicable | BI4: Good | BJ4: Not Applicable | BK4: High | BL4: Not Applicable | BM4: High | BO4: Not Applicable | BT4: Good | BU4: Not Applicable | BV4: Good | BW4: Not Applicable | CD4: Good | CE4: Not Applicable | CT4: Good | CU4: Not Applicable | CZ4: Good | DA4: Not Applicable | DB4: Fail | DC4: Benzo(a)pyrene, Benzo (b) and (k) fluoranthene, Fluoranthene | DD4: Very Certain | DE4: Good | DF4: Not Applicable | DI4: Good | DJ4: Not Applicable | DM4: Fail | DN4: Uncertain | DO4: Good | DP4: Not Applicable | DQ4: Fail | DR4: Very Certain | DS4: Good | DT4: Not Applicable | EG4: Fail | EH4: Quite Certain | EM4: Good | EN4: Not Applicable | EQ4: Good | ER4: Not Applicable | EW4: Good | EX4: Not Applicable | FA4: Good | FB4: Not Applicable | FG4: Good | FH4: Not Applicable | FI4: Good | FJ4: Not Applicable | FM4: Good | FN4: Not Applicable | FO4: Good | FP4: Not Applicable | FQ4: Good | FR4: Not Applicable | FS4: Good | FT4: Not Applicable | FU4: Good | FV4: Not Applicable | FW4: Good | FX4: Not Applicable | FY4: Good | FZ4: Not Applicable

Sheet Scoping Waterbody 4
A1: Water body name | C1: WB status | G1: Is WB A or HM? | H1: If so Mitigation Measures/other relevant notes | I1: Target WB? | J1: WB Objective | K1: Measures
B2: Water body ID | C2: Overall Status | D2: Chemical Status | E2: Ecological Status | F2: Morphology status* (*where a zero appears then assume good status) | G2: If so state reason for designation | I2: Yes/No | K2: Identify planned water body measures.
A4: ='Waterbody 4 Data'!E4 -> SEVERN LOWER | B4: ='Waterbody 4 Data'!B4 -> GB530905415401 | C4: ='Waterbody 4 Data'!Y4 -> Severn | D4: ='Waterbody 4 Data'!Z4 -> Wye MC TraC | E4: ='Waterbody 4 Data'!AB4 -> WA South East | F4: ='Waterbody 4 Data'!AW4 -> 0 | G4: ='Waterbody 4 Data'!X4 -> 9 | J4: Good | K4: listed on WWW
A5: Information on how to extract info from MyMap and to link water bodies can be found on the Information tab of this spreadsheet
B6: Component 1 – Intake Weir | E6: Component 2 – Discharge/Turbine House | H6: Component 3 – Pipeline Route | K6: Component 4 – | N6: Add additional components as required
A7: Elements | B7: Applicable (pick from drop down list) | C7: Potential Impact (include direct and indirect potential impacts) | D7: Avoidance measures (briefly describe any measure included within the project at this point that will ensure the potential effects are avoided) | E7: Applicable (tick all those that apply) | F7: Potential Impact (include direct and indirect potential impacts) | G7: Avoidance measures (briefly describe any measure included within the project at this point that will ensure the potential effects are avoided) | H7: Applicable (tick all those that apply) | I7: Potential Impact (include direct and indirect potential impacts) | J7: Avoidance measures (briefly describe any measure included within the project at this point that will ensure the potential effects are avoided) | K7: Applicable (tick all those that apply) | L7: Potential Impact (include direct and indirect potential impacts) | M7: Avoidance measures (briefly describe any measure included within the project at this point that will ensure the potential effects are avoided)
A8: Definition and further info on elements can be found on the 'Explanation of elements tab of this spreadsheet. Seek expert advice from relevant technical expert for this section | C8: Example included | D8: Colour text in green if all impacts can be avoided through measures already included in the scheme. Or red for schemes which require detailed assessment | G8: Colour text in green if all impacts can be avoided through measures already included in the scheme. Or red for schemes which require detailed assessment | J8: Colour text in green if all impacts can be avoided through measures already included in the scheme. Or red for schemes which require detailed assessment | M8: Colour text in green if all impacts can be avoided through measures already included in the scheme
A9: Hydromorphological elements
A10: Hydrological regime:
A11: · Quantity and dynamics of water flow | B11: √ direct | C11: Create impoundment and reduce flow over the length of the scheme | D11: Ensure HoF is kept clear and effective | E11: √ direct | F11: Discharge of water from turbine | G11: Water will be discharged over a rock/boulder shallow cascade to disipate energy prior to returning to the watercourse and no pollutants are involved in the process
A12: · Connection to groundwater bodies | B12: N/A - No impact pathway | E12: N/A - No impact pathway
A13: River continuity:
A14: · Migration of aquatic organisms | B14: √ direct | C14: Barrier to movement | D14: HoF, coanda screen of 1mm | E14: √ direct | F14: Migration of aquatic organisms may be affected | G14: The outfall has been appropriately sited according to best practice.
A15: · Sediment transport | B15: √ direct | C15: Sediment transport maybe impeded by intake structure | D15: Low risk due sensitive to design and siting and steep gradient | E15: √ direct | F15: Sediment Transport | G15: The angle to the flow returning to the river will be such to minimise distruption and will be released onto bedrock or boulders to disepate the rate at which it enters the river.
A16: Morphological conditions:
A17: · River depth and width variation | B17: √ direct | C17: Placement of intake may affect depth and width | D17: Low risk due to sensitve siting and design, sited on riverbed and bedrock | E17: √ direct | F17: Discharge causing changes | G17: low risk siting and design, sited on riverbed
A18: · Structure and substrate of the river bed | B18: √ direct | C18: Could be changed by introduction of intake | D18: Low impact due to siting | E18: √ direct | F18: Speed of water at entry could have an affect | G18: The angle to the flow returning to the river will be such to minimise distruption and will be released onto bedrock or boulders to disepate the rate at which it enters the river.
A19: · Structure of the riparian zone | B19: √ direct | C19: Damage caused to riparian zone during construction | D19: Clear method statements ensuring pollution control and not removing vast areas of riparian zone. | E19: √ direct | F19: Riparian zone could be altered | G19: method statements not removing vast quantities of riparian zone
A20: · Increased risk of scour/erosion and or deposition | B20: √ direct | C20: Potential for scour/erosion | D20: Low risk as intake placed above waterfall | E20: √ direct | F20: Scour/deposition | G20: Low risk as discharge pipe will be angled and positioned over bedrock and boulders
A21: · Other | B21: N/A - No impact pathway | E21: √ direct | F21: Positioning of the turbine house | G21: Turbine house is sited outside flood zone
A22: Biological elements
A23: Phytoplankton:
A24: · Taxanomic composition | B24: √ indirect | C24: Work in the watercourse may cause distrubance to substances | D24: It is highly likely that the river will be affected by mining metals. Care needs to be taken during construction and best practice should be adopted. It is likely there is the presence of lead, nickel and arsenic. Testing would be required on any material being moved off site. This will be assessed in more detail by the local planning authority. | E24: √ indirect | F24: Work in the watercourse may cause distrubance to substances | G24: It is highly likely that the river will be affected by mining metals. Care needs to be taken during construction and best practice should be adopted. It is likely there is the presence of lead, nickel and arsenic. Testing would be required on any material being moved off site. This will be assessed in more detail by the local planning authority.
A25: · Average abundance | B25: √ indirect | E25: √ indirect
A26: · Planktonic bloom frequency and intensity | B26: √ indirect | E26: √ indirect
A27: · Biomass | B27: √ indirect | E27: √ indirect
A28: Macrophytes and phytobenthos:
A29: · Taxanomic composition | B29: √ indirect | E29: √ indirect
A30: · Average macrophytes and phytobenthic abundance | B30: √ indirect | E30: √ indirect
A31: Other aquatic flora (e.g. macroalgae, angiosperms, sea grass, sea weed salt marsh): Transitional and Coastal water bodies only
A32: · Composition | B32: N/A - No impact pathway
A33: Benthic invertebrate fauna:
A34: · Composition | B34: √ indirect | C34: Work in the watercourse may cause distrubance to substances | D34: It is highly likely that the river will be affected by mining metals. Care needs to be taken during construction and best practice should be adopted. It is likely there is the presence of lead, nickel and arsenic. Testing would be required on any material being moved off site. This will be assessed in more detail by the local planning authority. | E34: √ indirect | F34: Work in the watercourse may cause distrubance to substances | G34: It is highly likely that the river will be affected by mining metals. Care needs to be taken during construction and best practice should be adopted. It is likely there is the presence of lead, nickel and arsenic. Testing would be required on any material being moved off site. This will be assessed in more detail by the local planning authority.
A35: · Abundance
A36: Fish fauna:
A37: · Species composition and abundance | B37: √ direct | C37: Brown Trout | D37: Avoidance of in water working during spawning. Ensure passage for fish is still available downstream - use an open pipe system. Discharge on bedrock, boulders. Once constructed ensure licence requirements and correct screening are maintained.During the life of the scheme ensure correct pollution control is in place during any works. | E37: √ direct | F37: Brown Trout | G37: Avoidance of in water working during spawning. Ensure passage for fish is still available downstream - use an open pipe system. Discharge on bedrock, boulders. Once constructed ensure licence requirements and correct screening are maintained.During the life of the scheme ensure correct pollution control is in place during any works.
A38: · Presence of type-specific disturbance sensitive species | B38: √ direct | C38: Brown Trout | E38: √ direct | F38: Brown Trout
A39: · Age structure of fish communities | B39: √ direct | C39: Potentially all age classes of brown trout in stream . Potential disturbance during construction - noise and vibration, during operation - screening, disturbance of fish passage upstream/downstream, during de-commissioning noise, pollution risk, silt mobilization, deposition of contaminates. | E39: √ direct | F39: Potentially all age classes of brown trout in stream . Potential disturbance during construction - noise and vibration, during operation - screening, disturbance of fish passage upstream/downstream, during de-commissioning noise, pollution risk, silt mobilization, deposition of contaminates.
A40: · refuge/predation areas | B40: √ direct | C40: Brown Trout | D40: Improve habitat by installing woody debris and boulders to help fish to vary flow, put rootballs into bankside, consider stones/logs pinned into riverbed. | E40: √ direct | F40: Brown Trout | G40: Improve habitat by installing woody debris and boulders to help fish to vary flow, put rootballs into bankside, consider stones/logs pinned into riverbed.
A41: Protected Areas and Critical sensitive habitats/species
A42: Protected Areas:
A43: · SACs | B43: N/A - No impact pathway | E43: N/A - No impact pathway
A44: · SPAs | B44: N/A - No impact pathway | E44: N/A - No impact pathway
A45: · RAMSAR | B45: N/A - No impact pathway | E45: N/A - No impact pathway
A46: · Bathing Waters | B46: N/A - No impact pathway | E46: N/A - No impact pathway
A47: · Shellfish Waters | B47: N/A - No impact pathway | E47: N/A - No impact pathway
A48: · Surface Water Drinking Water Protected Areas | B48: N/A - No impact pathway | E48: N/A - No impact pathway
A49: · Ground Water Drinking Water Protected Areas | B49: N/A - No impact pathway | E49: N/A - No impact pathway
A50: · Urban Waste Water Treatment Directive: designated Nutrient Sensitive Area | B50: N/A - No impact pathway | E50: N/A - No impact pathway
A51: · Nitrate Vulnerable Zones | B51: N/A - No impact pathway | E51: N/A - No impact pathway
A52: Other Protected and Priority habitats and species:
A53: · Nationally or locally protected areas ie: SSSI | B53: N/A - No impact pathway | E53: N/A - No impact pathway
A54: · Priority habitats ie: Wetlands (see MyMap) | B54: N/A - No impact pathway | E54: N/A - No impact pathway
A55: · Priority species ie: Watervoles (see MyMap) | B55: N/A - No impact pathway | E55: N/A - No impact pathway
A56: Physico-chemical elements
A57: Salinity | B57: √ direct | C57: The risk of metal rich sediment being disturbed and affecting concentrations of metals. | D57: Good water management practices | E57: √ direct | F57: The risk of metal rich sediment being disturbed and affecting concentrations of metals. | G57: Good water management practices
A58: Nutrient concentrations
A59: pH
A60: Oxygen balance
A61: Acid neutralising capacity
A62: Temperature (including shading)
A63: Transparency
A64: Pollution by all priority substances identified as being discharged into the water body
A65: Pollution by other substances identified as being discharged in significant quantities into the water body.
A66: Invasive Non Native Species
A67: Is there a risk of introducing or spreading INNS? | B67: N/A - No impact pathway | E67: N/A - No impact pathway
A69: Assessing potential in combination and/or cumulative impacts
A70: Do not include activities which have not yet been applied for, unless the activity is well defined and there are solid reasons for believing that it will be taken forward. In general completed activities will be part of the background conditions however some activities which are completed
A71: Other projects/activies with effects that might interact with the effects of the project/activity to render its effects significant (if any) | B71: Nature of the in-combination/cumulative effect (if any) | C71: Describe any conditions, restrictions or other measures, if any, applicable to the activity/project, and/or to the other activities giving rise to the in combination / cumulative effect, which could remove the risk of deterioration or prevent of achieving water body objectives. Include details of how such measures would be applied, and who would be responsible for applying them. | D71: Taking into account any additional measures identified and how they would be applied, can the risk of deterioration or prevention of achieving water body objectives from in combination/ cumulative effects be ruled out?
A72: If none, put ‘N/A’ | C72: If required, further details can be provided in separate clearly referenced documents. | D72: ‘YES’ or ‘NO’ or ‘DON’T KNOW’
A74: 1.87km Training Camp Capel Curig
A75: 2.01km Log House Hydro
A77: (a) If the right hand column is ‘YES’ in all cases | C77: It can be concluded that potential deterioration or prevention of achieving water body objectives from in combination / cumulative effects can be ruled out
A78: (b) If any row is ‘NO’ or 'Don't know' in the right hand column | C78: It cannot be concluded that potential deterioration or prevention of achieving water body objectives from in combination / cumulative effects can be ruled out
A83: List all measures that have been considered, but aren’t technically feasible, or are disproportionately costly as these need to be demonstrated to have been considered, in order to rule them out
A84: WFD parameter likely to be impacted | B84: Mitigation/ Improvement measure | C84: Are measures already in place to maximum effect? | D84: Is the measure technically feasible? | E84: Will the measure make a meaningful contribution to the status of the waterbody? | F84: Is the measure disproportionately costly?

Sheet Waterbody 4 Data
A1: Insert water body data as csv file for each water bdy and link to sheet 1 (WFD assessment) in this workbook
O2: Example
A3: OBJECTID | B3: EA_WB_ID | C3: WB_CAT | D3: BASIN_CD | E3: NAME | F3: SALINITY | G3: DSTREAM_WB | H3: PRINC_CD | I3: EA_REG_CD | J3: EA_AREA_CD | K3: TIDAL | L3: TYPE | M3: HYDRO_STAT | N3: AREA_NAME | O3: REGION_NAM | P3: RBD_NAME | Q3: AREA_SqM | R3: Shape | S3: GlobalID | T3: Shape.STArea() | U3: Shape.STLength() | V3: WBID | W3: Country | X3: RBD_ID | Y3: RBDDesc | Z3: Catchment | AA3: Region | AB3: Area | AC3: SqKms | AD3: HMWB | AE3: OverallStatus | AF3: ChemStatus | AG3: EcoStatusPotential | AH3: EcoStatus | AI3: EcoCert | AJ3: DrivEcoQE | AK3: Mitigation_Measures_Assessment | AL3: WoEUsed | AM3: Expert_Judgment | AN3: Expert_Judgment_Source | AO3: ECO_BIO | AP3: Angiosperms | AQ3: SeagrassSub | AR3: SeagrassSubCert | AS3: SaltmarshSub | AT3: SaltmarshSubCert | AU3: Phytoplankton | AV3: Phytop_Cert | AW3: Macroalgae | AX3: MacroCert | AY3: OppMacroalgaeSub | AZ3: OppMacroalgaeSubCert | BA3: FucoidExtentSub | BB3: FucoidExtentSubCert | BC3: Invertebrates | BD3: InvertCert | BE3: InfaunalQIndexSub | BF3: InfaunalQIndexSubCert | BG3: Fish | BH3: FishCert | BI3: ECO_HM | BJ3: Morphology | BK3: HydrologicalRegime | BL3: Flow | BM3: ECO_GEN | BN3: ECO_GENCert | BO3: Ammonia_PhysChem_ | BP3: Ammonia_PhysChem__Cert | BQ3: DO | BR3: DOCert | BS3: DIN | BT3: DIN_Cert | BU3: pH | BV3: pH_Cert | BW3: Phosphate | BX3: Phosphate_Cert | BY3: Temp | BZ3: Temp_Cert | CA3: Annex8Chem | CB3: A8Fail | CC3: A8Cert | CD3: F2_4_dichlorophenol | CE3: F2_4_dichlorophenolCert | CF3: F2_4_dichlorophenoxyacetic_acid | CG3: F2_4_dichlorophenoxyacetic_acidCert | CH3: Arsenic | CI3: ArsenicCert | CJ3: Copper | CK3: CopperCert | CL3: Cyanide | CM3: CyanideCert | CN3: Diazinon | CO3: DiazinonCert | CP3: Dimethoate | CQ3: DimethoateCert | CR3: Iron | CS3: IronCert | CT3: Linuron | CU3: LinuronCert | CV3: Mecoprop | CW3: MecopropCert | CX3: Permethrin | CY3: PermethrinCert | CZ3: Phenol | DA3: PhenolCert | DB3: Toluene | DC3: TolueneCert | DD3: Triclosan | DE3: TriclosanCert | DF3: Un_ionised_ammonia | DG3: Un_ionised_ammoniaCert | DH3: Zinc | DI3: ZincCert | DJ3: Dichlorvos | DK3: DichlorvosCert | DL3: BDPECalc | DM3: BDPECalcCert | DN3: Manganese | DO3: ManganeseCert | DP3: Annex10 | DQ3: A10Fail | DR3: A10Cert | DS3: F1_2_dichloroethane | DT3: F1_2_dichloroethaneCert | DU3: Anthracene | DV3: AnthraceneCert | DW3: Atrazine | DX3: AtrazineCert | DY3: Benzene | DZ3: BenzeneCert | EA3: Benzo__a__and__k__fluoranthene | EB3: Benzo__a__and__k__fluorantheneCert | EC3: Benz_p_i_p | ED3: Benz_p_i_pCert | EE3: Benzo_a_pyrene | EF3: Benzo_a_pyreneCert | EG3: Cadmium | EH3: CadmiumCert | EI3: Chlorfenvinphos | EJ3: ChlorfenvinphosCert | EK3: Chlorpyrifos | EL3: ChlorpyrifosCert | EM3: Di_2_ethylhexyl_phthalate | EN3: Di_2_ethylhexyl_phthalateCert | EO3: Dichloromethane | EP3: DichloromethaneCert | EQ3: Diuron | ER3: DiuronCert | ES3: Endosulfan | ET3: EndosulfanCert | EU3: Fluoranthene | EV3: FluorantheneCert | EW3: Hexachlorobenzene | EX3: HexachlorobenzeneCert | EY3: Hexachlorobutadiene | EZ3: HexachlorobutadieneCert | FA3: Hexachlorocyclohexane | FB3: HexachlorocyclohexaneCert | FC3: Isoproturon | FD3: IsoproturonCert | FE3: Lead_And_Its_Compounds | FF3: Lead_And_Its_CompoundsCert | FG3: Mercury_And_Its_Compounds | FH3: Mercury_And_Its_CompoundsCert | FI3: Napthalene | FJ3: NapthaleneCert | FK3: Nickel_And_Its_Compounds | FL3: Nickel_And_Its_CompoundsCert | FM3: Nonylphenol | FN3: NonylphenolCert | FO3: Pentachlorophenol | FP3: PentachlorophenolCert | FQ3: Simazine | FR3: SimazineCert | FS3: Tributyltin_Compounds | FT3: Tributyltin_CompoundsCert | FU3: Trichlorobenzenes | FV3: TrichlorobenzenesCert | FW3: Trichloromethane | FX3: TrichloromethaneCert | FY3: Trifluralin | FZ3: TrifluralinCert | GA3: Aldrin__Dieldrin__Endrin___Isodrin | GB3: Aldrin__Dieldrin__Endrin___IsodrinCert | GC3: Carbon_Tetrachloride | GD3: Carbon_TetrachlorideCert | GE3: DDT_Total | GF3: DDT_TotalCert | GG3: para___para_DDT | GH3: para___para_DDTCert | GI3: Tetrachloroethylene | GJ3: TetrachloroethyleneCert | GK3: Trichloroethylene | GL3: TrichloroethyleneCert | GM3: Other_Pollutants | GN3: Other_Pollutants_Cert
A4: 84 | B4: GB530905415401 | C4: Transitional | D4: 9 | E4: SEVERN LOWER | F4: P | G4: GB641008660000 | H4: England | I4: 8 | J4: 25 | K4: MACRO | L4: 3 | M4: cHMWB | N4: West | O4: Midlands | P4: Severn | Q4: 4.6592132e+08 | R4: Polygon | S4: {36CFE3DC-C689-4730-8481-B9264EC1B7CF} | T4: 4.6592132e+08 | U4: 173768.99 | V4: GB530905415401 | W4: Wales | X4: 9 | Y4: Severn | Z4: Wye MC TraC | AA4: EA Wales | AB4: WA South East | AC4: 465.976 | AD4: Yes | AE4: Moderate | AF4: Fail | AG4: Potential | AH4: Moderate | AI4: Very Certain | AJ4: Angiosperms, Mitigation Measures Assessment | AK4: Moderate | AL4: No | AO4: Moderate | AP4: Moderate | AQ4: Good | AR4: Not Applicable | AS4: Moderate | AT4: Very Certain | AU4: High | AV4: Not Applicable | BC4: Good | BD4: Not Applicable | BE4: Good | BF4: Not Applicable | BG4: Good | BH4: Not Applicable | BL4: Pass | BM4: Good | BN4: Not Applicable | BQ4: High | BR4: Not Applicable | BS4: Good | BT4: Not Applicable | CA4: High | CC4: Not Applicable | CH4: Good | CI4: Not Applicable | CJ4: Good | CK4: Not Applicable | CR4: Good | CS4: Not Applicable | DH4: Good | DI4: Not Applicable | DL4: Fail | DM4: Very Certain | DP4: Fail | DQ4: Mercury and Its Compounds, Brominated diphenylether (BDPE) Calc | DR4: Very Certain | EE4: Good | EF4: Not Applicable | EG4: Good | EH4: Not Applicable | EU4: Good | EV4: Not Applicable | EW4: Good | EX4: Not Applicable | EY4: Good | EZ4: Not Applicable | FE4: Good | FF4: Not Applicable | FG4: Fail | FH4: Very Certain | FK4: Good | FL4: Not Applicable | FM4: Good | FN4: Not Applicable | FW4: Good | FX4: Not Applicable | GN4: Not Applicable

Sheet Information
A2: Adding more water bodies
A3: Add 2 new work sheets for each water body progressing to Stage 2 - scoping; one for the data from My Map; and one for the scoping assessment. Rename each sheet by right clicking on the worksheet and clicking rename.
A5: To copy the cells for the scoping assessment - click on the triangle in the top left hand corner of the work sheet you want to copy ie Scoping for Water body 1 (corner of column A and row 1). Once the date is selected then right click and copy. Go to the newly created worksheet and click paste in the first cell (A1).
A7: To link the scoping work sheet data to the data for the new water body click on the cell you want to change. Delete the formula and create a new one by adding the equals symbol (=) then clicking on the worksheet you want the data to be sourced from ie water body 3 data, then click on the correct cell for the data you want to display ie WBID. Then click the return botton and your cell should display the formula for example: ='Water body 3 Data'! X3 if you click on it but will display the information from the attached cell ie GB12345 etc.
A10: MyMap
A11: To select water bodies - go to Data Sources; map layers. Click on EU Directives (ensure there is a tick in the box) and select Water Framework Directive. Select each cycle 2 water body type - coastal, transitional, lakes, rivers, canals, surface water transfers again ensuring there is a tick in each box.
A12: You can either click on each individual water body at a time to display the attribute data or use the selection tool (identify (i) button) and draw a box - MyMap will then display all the water bodies within the selected area.
A14: To copy the csv file -
A15: Change view to Table view, select water body then click 'export to csv', which will then give you the option to name the file and save it in a folder.
A16: Once this is complete for each water body, open the csv file which is in excel format, copy the data by selecting the top two rows and right click copy and paste it into the correct water body data work sheet. To save confusion have a separate work sheet for each water body and remember to ensure the data links to the correct scoping assessment sheet.
A18: Linking files
A19: Use Control K in the cell you want to include the link and it will then allow you to choose the document location/add a website address
A22: Pathway - Pathways are the means or routes by which specific substances can migrate or are transported from their various sources to the aquatic environment. Following release, substances may be directly emitted to a waterbody or transferred to and stored within environmental media including soil and impermeable surfaces, before entering the aquatic environment. Aerial emission is an important pathway for certain Priority Substances and can result in subsequent direct deposition to a waterbody or indirect entry via soil or a sewer system. Common Implementation Strategy for the Water Framework Directive (2000/60/EC)

Sheet Explanation of elements
A1: Quality element | B1: Definition | C1: What are we concerned with | D1: Interpretation/comments
A3: Hydrological regime:
A4: · Quantity and dynamics of water flow | B4: • The discharge of water and its fluctuations over time • Water velocities and their variability over space (i.e. within a river reach) and over time | C4: 1. the water available to sustain freshwater plant and animal communities throughout their various life stages 2. the water available to sustain the up-and downstream movement of aquatic species 3. the water available to sustain downstream sediment transfer 4. changes to discharge or water velocities that limit the ability of the channel to: • create new physical habitat, for example through redistribution of bed sediment, or • maintain the biological function of existing habitats, for example the continued flow of oxygenated water through gravels 5. changes to the variability of water velocities, either within a reach or over time
A5: · Connection to groundwater bodies | B5: The ability for water in the channel to pass into the surrounding sediment and rock, or for water held in the ground to enter the channel. | C5: 1. the exchange of water between the channel, the hyporheic zone and deeper groundwaters 2. rates of groundwater recharge from the floodplain (in those locations where this is seen as a significant mechanism of recharge)
A6: River continuity: including migration of aquatic organisms and sediment transport | B6: The lateral connectivity of the river to its adjacent floodplain and the longitudinal connectivity of the river along its entire length. Speak to Geomorphology experts information for terms lateral and longitudinal connectivity. | C6: 1. changes to the channel (such as widening or deepening) or the bank (such as raising with embankments) or changes to flow that reduce the frequency, duration or extent of floodplain inundation 2. changes to the channel (such as impoundments) or to the flow of water that prevent, limit or deter the up-and downstream movement of aquatic plants and animals 3. changes to the channel or to the flow of water that alters the patterns or rates of channel bed and bank erosion, downstream transfer and deposition
A7: Morphological conditions:
A8: · River depth and width variation | B8: The shape of the river channel, both in planform and in cross-section, and the variability in shape that exists at a site and along the length of channel. | C8: 1. changes to the channel bed or the flow regime(such as gravel extraction or water abstraction) , both of which can change water depth and its variability at reach scale 2. changes to the width of the channel or any reduction in the variability of channel width that occurs at reach scale 3. changes to the profile of the river bank between low water line and bank top, such as increasing or decreasing the angle of the bank or making bank profiles more uniform 4. changes to channel planform or long profile, for example by straightening or impounding the channel 5. activities that limit or prevent the continued evolution of channel planform (linked to the supply of sediment from channel banks and other sources, the ability of flow to transport sediment and the freedom of the channel to move)
A9: · Structure and substrate of the river bed | B9: The composition, arrangement and structure of sediment that forms the bed of the channel, both above and beneath the surface of the water. | C9: 1. changes to channel bed sediment size or distribution (such as increasing fine sediment loads or decreasing the range of sediment size present) 2. changes to bed sediment structure, either at the surface or subsurface (for example activities that cause bed armouring and compaction or that break-up / loosen bed sediments) 3. reduction in the range of different bedform types present in a channel (loss of morphological diversity) 4. the loss of bedform types considered critical for the habitat they provide or because of their limited presence in the river system 5. the addition of sediment or the creation of bedforms that would not naturally be present in that environment
A10: · Structure of the riparian zone | B10: The abundance and diversity of plants present at the wetted edges of the channel, on the banks and bank top, including their complexity of structure. | C10: 1. the direct or indirect loss of vegetation in the riparian zone 2. changes to the range of plant species present 3. changes to the structure of vegetation cover along the river length
A11: · Other | B11: • reduced morphological diversity • headward migration • regrading • increased sediment supply downstream • reduced sediment supply downstream • destabilisation of downstream bed and banks • siltation downstream • loss of shading associated to riparian zone • loss of floodplain ecology associated with connectivity • reduction /prevention of sediment input • reduction/prevention of channel in/outflow • increase in channel bank-full capacity • upstream flow impoundment • increased upstream siltation • reduced upstream siltation • reduction of flushing flows • higher probability of flood plain inundation • downstream erosional scour • alteration of morphology • total loss of riparian zone • removal of natural floodplain • may reduce flow dynamics • reduction of upstream impoundment • loss of increased channel bank full capacity | C11: Change to the existing status quo where deviation from natural or recovering is likely to occur
A12: Biological elements
A13: Phytoplankton: | B13: Unicellular algae and cyanobacteria, both solitary and colonial, that live, at least part of their lifecycle, in the water column of surface water bodies. | C13: See WFD Expert Assessment of Flood Management Impacts, R&D Technical Report FD2609/TR, for information on biological elements
A14: · Taxanomic composition
A15: · Average abundance
A16: · Planktonic bloom frequency and intensity
A17: · Biomass
A18: Macrophytes and phytobenthos: | B18: Macrophytes: All aquatic higher plants, mosses and characean algae, but excluding single celled phytoplankton and diatoms. Phytobenthos: Vascular plants, heterotrophic organisms and photosynthetic algae (including cyanobacteria) living on or attached to substrate or other organisms in surface waters.
A19: · Taxanomic composition
A20: · Average macrophytes and phytobenthic abundance
A21: Other aquatic flora (e.g. macroalgae, angiosperms, sea grass, sea weed salt marsh): Transitional and Coastal water bodies | B21: Macroalgae: Multicellular algae such as seaweeds and filamentous algae. Angiosperms: The flowering plants. The group is specified in the Directive as a relevant biological element in transitional and coastal water. In these waters, angiosperms include sea grasses and the flowering plants found in salt marshes.
A22: · Composition
A23: Benthic invertebrate fauna: | B23: Invertebrate animals living at least part of their lifecycles on or in the benthic substrates.
A24: · Composition
A25: · Abundance
A26: Fish fauna: | B26: Indigenous fish species present within the water body.
A27: · Species composition and abundance
A28: · Presence of type-specific disturbance sensitive species
A29: · Age structure of fish communities
A30: Protected Areas and Critical sensitive habitats/species
A31: Protected Areas:
A32: · SACs | B32: Special Areas of Conservation desinated under the Habitats Regulations | C32: Water dependent Natura 2000 protected areas. These designated sites have specific standards/objectives they must reach and these are included on the Protected Area Register. https://naturalresources.wales/media/676156/protected-area-register.xlsx
A33: · SPAs | B33: Special Protection Areas designated under the Birds Directive
A34: · Ramsar | B34: Ramsar sites are wetlands of international importance designated under the Ramsar Convention.
A35: · Bathing Waters | B35: The designation list includes those designations reported under the Bathing Water Directive in 2014. | C35: These designated sites have specific standards/objectives they must reach and these are included on the Protected Area Register. https://naturalresources.wales/media/676156/protected-area-register.xlsx
A36: · Shellfish Waters | B36: Shellfish Water (SFW) designations
A37: · Surface Water Drinking Water Protected Areas | B37: Surface Water Drinking Water Protected Areas
A38: · Ground Water Drinking Water Protected Areas | B38: All WFD Groundwater bodies are Drinking Water Protected Areas
A39: · Urban Waste Water Treatment Directive: designated Nutrient Sensitive Area | B39: Urban Waste Water Treatment Directive: The list of designated Nutrient Sensitive Areas was provided by NRW and the EA.
A40: · Nitrate Vulnerable Zones | B40: Nitrate Vulnerable Zones
A41: Other Protected and Priority habitats and species:
A42: · Nationally or locally protected areas ie: SSSI | B42: Nature sites and areas of countryside can be ‘designated’, which means they have special status as protected areas because of their natural and cultural importance | C42: There are restrictions on activities and developments that might affect a designated or protected area, for example building new houses or roads. This includes areas next to as well as in those areas.
A43: · Priority habitats where the maintenance or improvement of the status of water is an important factor in their protection ie: Wetlands (see MyMap) | B43: Section 6 of the Environment (Wales) Act 2016 places a duty on public authorities to ‘seek to maintain and enhance biodiversity’ so far as it is consistent with the proper exercise of those functions. In so doing, public authorities must also seek to ‘promote the resilience of ecosystems’. Section 7 of the Act; includes a list of the habitats and species of principal importance for the purpose of maintain and enhancing biodiversity in relation to Wales. Additional protection is also provided by the Wildlife and Countryside Act (as amended) 1981. The Conservation of Habitats and Species Regulations 2010 offers similar protection and lists the fully protected European species of flora and fauna in Great Britain. For further information contact Protected Species Licencing as European Protected Species are assessed separately. | C43: Although the extent or physical impact of a scheme may be minimal it may directly impact upon priority habitats or species in the water body. If the proposed project/activity directly impacts habitats that are critical to the individual biological quality elements or on a particularly sensitive habitat then further assessment is required. Critical habitats could be those of unique importance or offering a rare combination of features that are critical to the ecological health of the water body. Sensitive habitats are those which are sensitive to change, sensitive species are those which are dependent on the aquatic environment.
A44: · Priority secies where the maintenance or improvement of the status of water is an important factor in their protection ie: Watervoles (see MyMap)
A45: Physico-chemical elements
A46: Salinity | B46: see Water Framework Directive implementation in England and Wales: new and updated standards to protect the water environment May 2014 https://www.gov.uk/government/uploads/system/uploads/attachment_data/file/307788/river-basin-planning-standards.pdf
A47: Nutrient concentrations
A48: pH
A49: Oxygen balance
A50: Acid neutralising capacity
A51: Temperature
A52: Transparency
A53: Pollution by all priority substances identified as being discharged into the water body
A54: Pollution by other substances identified as being discharged in significant quantities into the water body.
A55: Invasive Non Native Species (INNS) | B55: Section 14(1) of the Wildlife and Countryside Act makes it illegal to release or allow to escape into the wild any animal which is not ordinarily resident in Great Britain and is not a regular visitor to Great Britain in a wild state, or is listed in Schedule 9 to the Act. It is also illegal to plant or otherwise cause to grow in the wild any plant listed in Schedule 9 to the Act | C55: Risks of introducing or spreading INNS include: • materials or equipment that have come from, had use in or travelled through other water bodies • activities that help spread existing INNS, either within the immediate water body or to other water bodies
A57: Look up table A - WFD quality elements
A59: RIVERS - Quality elements for the classification of ecological status
A61: WFD quality element | B61: Classification
A63: Biological elements
A64: Phytoplankton | B64: Composition Abundance Planktonic bloom frequency and intensity
A65: Macrophytes and phytobenthos | B65: Composition Abundance
A66: Benthic invertebrate fauna | B66: Composition Abundance
A67: Fish fauna | B67: Composition Abundance Age
A68: Hydromorphological elements supporting the biological elements
A69: Hydrological regime
A70: Quantity and dynamics of water flow
A71: Connection to groundwater bodies
A72: River continuity
A73: Morphological conditions
A74: River depth and width variation
A75: Structure and substrate of the river bed
A76: Structure of the riparian zone
A77: Chemical and physico-chemical elements supporting the biological elements
A78: Thermal conditions
A79: Oxygenation conditions
... A87: LAKES - Quality elements for the classification of ecological status
A89: WFD quality element | B89: Classification
A91: Biological elements
A92: Phytoplankton | B92: Composition Abundance Planktonic bloom frequency and intensity Biomass
A93: Macrophytes and phytobenthos | B93: Composition Abundance
A94: Benthic invertebrate fauna | B94: Composition Abundance
A95: Fish fauna | B95: Composition Abundance Age
A96: Hydromorphological elements supporting the biological elements
A97: Hydrological regime
A98: Quantity and dynamics of water flow
A99: Residence time
A100: Connection to the groundwater body
A101: Morphological conditions
A102: Lake depth variation
A103: Quantity, structure and substrate of the lake bed
A104: Structure of the lake shore
A105: Chemical and physico-chemical elements supporting the biological elements
A106: Transparency
A107: Thermal conditions
... A116: ESTUARINE - Quality elements for the classification of ecological status
A118: WFD quality element | B118: Classification
A120: Biological elements
A121: Phytoplankton | B121: Composition Abundance Planktonic bloom frequency and intensity Biomass
A122: Other aquatic flora (e.g. macroalgae, angiosperms, sea grass, sea weed salt marsh) | B122: Composition
A123: Benthic invertebrate fauna | B123: Composition Abundance
A124: Fish fauna | B124: Composition Abundance
...

Sheet Pick list
A1: Pick list for scoping
A2: √ direct | B2: potential risk - direct impact
A3: √ indirect | B3: potential risk - indirect impact
A4: N/A - No impact pathway | B4: No impact pathway
A5: N/A - Other | B5: Include additional text
A10: But when I use Tahoma font on the cell and used the trick ( holding ALT+ typing 251 from the number keypad) worked great.
A17: It is highly likely that the river will be affected by mining metals. Care needs to be taken during construction and best practice should be adopted. It is likely there is the presence of lead, nickel and arsenic. Testing would be required on any material being moved off site
