Workbook
Name _Ref520278494: 'Form WRD'!$A$2
Name _Ref520280992: 'Form WRD'!$A$12

Sheet Information
B2: Electronic Calculation Sheet
B4: Project Number | E4: 10013310
B5: Project Title | E5: Cog Moors
B6: Document Number | E6: Cog Moors HIA calcs
B8: Spreadsheet name:
B9: Spreadsheet Location: | E9: =CELL("filename",A1) -> https://cyfoethnaturiolcymru-my.sharepoint.com/personal/mary_beckett_cyfoethnaturiolcymru_gov_uk/Documents/Desktop/[Application_supporting info_HIA calcs.xlsx]Information
B11: The spreadsheet contains the following worksheets:
B12: Worksheet | E12: Contents and notes
B13: Water strike tests | E13: Rising head test analysis of groundwater strike data
B14: Kozeny Carman | E14: Estimates of permeability using Kozeny - Carman method
B15: PSD data | E15: Particle Size Distribution data from Ground Investigation (Arcadis, 2018)
B16: PSD summary | E16: Summary of results from Kozeny Carman analysis of PSD data, sorted by rock type
B17: CSM | E17: Conceptual model data plotted. As shown in Fig 7 of HIA report
B18: BH logs summary | E18: Summary of borehole logs, water strikes and groundwater levels from Ground Investigation (Arcadis, 2018)
B19: Rain dewatering | E19: Estimate of rainfall entering excvations
B20: Form WRD | E20: Calculations to support form WRD for abstraction licence application

Sheet Water strike tests
A1: BH102 - Alluvium CLAY | E1: Time (min) | F1: Time (sec) | G1: Depth (m) | H1: Ht (m) | I1: Ho/Ht | J1: Ln (Ho/Ht) | K1: Ht/Ho
E2: 0 | F2: =E2*60 -> 0 | G2: 0 | H2: 3.8 | I2: =$B$9/H2 -> 1 | J2: =LN(I2) -> 0 | K2: =H2/$B$9 -> 1
A3: Borehole | B3: BH102 | E3: 1 | F3: =E3*60 -> 60 | K3: =H3/$B$9 -> 0
A4: Test | B4: 1 | E4: 2 | F4: =E4*60 -> 120 | K4: =H4/$B$9 -> 0
A5: Diameter | B5: =115/1000 -> 0.115 | C5: m | E5: 3 | F5: =E5*60 -> 180 | K5: =H5/$B$9 -> 0
A6: Depth | B6: 3.8 | C6: m | E6: 4 | F6: =E6*60 -> 240 | K6: =H6/$B$9 -> 0
A7: Casing | B7: 3.7 | C7: m | E7: 5 | F7: =E7*60 -> 300 | K7: =H7/$B$9 -> 0
A8: RWL | B8: 2.9 | C8: m bgl | E8: 7 | F8: =E8*60 -> 420 | K8: =H8/$B$9 -> 0
A9: Initial head (Ho) | B9: 3.8 | E9: 10 | F9: =E9*60 -> 600 | K9: =H9/$B$9 -> 0
E10: 15 | F10: =E10*60 -> 900 | K10: =H10/$B$9 -> 0
A11: Cross-section Area | B11: =PI()*B5^2 -> 0.041547563 | C11: m2 | E11: 20 | F11: =E11*60 -> 1200 | G11: 0.82 | H11: 2.9 | I11: =$B$9/H11 -> 1.3103448 | J11: =LN(I11) -> 0.27029033 | K11: =H11/$B$9 -> 0.76315789
A12: Length of test section (L) | B12: =B6-B7 -> 0.1 | C12: m | E12: 30 | F12: =E12*60 -> 1800 | G12: 1.16 | K12: =H12/$B$9 -> 0
A13: Shape Factor (F) | B13: =2*PI()*B12/(LN(2*(B12/B5))) -> 1.1354089
A14: Time lag (37%) | B14: =B9-(B9-B8)*0.37 -> 3.467 | I14: Slope | J14: =SLOPE(J2:J12,F2:F12) -> 0.00022524194
B15: =(B14-3.8)/-0.045 -> 7.4 | C15: mins
B16: =B15*60 -> 444 | C16: sec
A18: Permeability (K) | B18: =J14*(B11/B13) -> 8.242188e-06 | C18: m/s | E18: Velocity graph method
A22: BH103 - Alluvium CLAY | E22: Time (min) | F22: Time (sec) | G22: Depth (m) | H22: Ht (m) | I22: Ho/Ht | J22: Ln (Ho/Ht) | K22: Ht/Ho | AA22: Summary
E23: 0 | F23: =E23*60 -> 0 | G23: 0 | H23: 3.8 | I23: =B30/H23 -> 1 | J23: =LN(I23) -> 0 | K23: =H23/$B$9 -> 1 | AA23: BH102 - Alluvium CLAY | AB23: Permeability (K) | AC23: 8.242188e-06 | AD23: m/s | AF23: Velocity graph method
A24: Borehole | B24: BH103 | E24: 1 | F24: =E24*60 -> 60 | K24: =H24/$B$9 -> 0 | AA24: BH103 - Alluvium CLAY | AB24: Permeability (K) | AC24: 1.9572585e-05 | AD24: m/s | AF24: Velocity graph method
A25: Test | B25: 1 | E25: 2 | F25: =E25*60 -> 120 | K25: =H25/$B$9 -> 0 | AA25: BH105 - Alluvium CLAy | AB25: Permeability (K) | AC25: 4.700645e-06 | AD25: m/s | AF25: Velocity graph method
A26: Diameter | B26: =115/1000 -> 0.115 | C26: m | E26: 3 | F26: =E26*60 -> 180 | K26: =H26/$B$9 -> 0 | AA26: BH106 - Alluvium CLAy | AB26: Permeability (K) | AC26: 3.8981294e-06 | AD26: m/s | AF26: Velocity graph method
A27: Depth | B27: 3.8 | C27: m | E27: 4 | F27: =E27*60 -> 240 | K27: =H27/$B$9 -> 0 | AA27: BH107 - Alluvium CLAy | AB27: Permeability (K) | AC27: 5.3952954e-06 | AD27: m/s | AF27: Velocity graph method
A28: Casing | B28: 3.7 | C28: m | E28: 5 | F28: =E28*60 -> 300 | K28: =H28/$B$9 -> 0 | AA28: BH107 - Alluvium CLAy | AB28: Permeability (K) | AC28: 1.0352874e-05 | AD28: m/s | AF28: Velocity graph method
A29: RWL | B29: 2 | C29: m bgl | E29: 7 | F29: =E29*60 -> 420 | K29: =H29/$B$9 -> 0 | AA29: BH108 - Alluvium CLAy | AB29: Permeability (K) | AC29: 9.6315669e-06 | AD29: m/s | AF29: Velocity graph method
A30: Initial head (Ho) | B30: 3.8 | E30: 10 | F30: =E30*60 -> 600 | K30: =H30/$B$9 -> 0 | AF30: Velocity graph method
E31: 15 | F31: =E31*60 -> 900 | K31: =H31/$B$9 -> 0 | AC31: =MIN(AC23:AC29) -> 3.8981294e-06 | AF31: Velocity graph method
A32: Cross-section Area | B32: =PI()*B26^2 -> 0.041547563 | C32: m2 | E32: 20 | F32: =E32*60 -> 1200 | G32: 0.82 | H32: 2 | I32: =B30/H32 -> 1.9 | J32: =LN(I32) -> 0.64185389 | K32: =H32/$B$9 -> 0.52631579 | AC32: =MAX(AC23:AC29) -> 1.9572585e-05
A33: Length of test section (L) | B33: =B27-B28 -> 0.1 | C33: m | E33: 30 | F33: =E33*60 -> 1800 | G33: 1.16 | K33: =H33/$B$9 -> 0 | AC33: =GEOMEAN(AC23:AC29) -> 7.6899826e-06
A34: Shape Factor (F) | B34: =2*PI()*B33/(LN(2*(B33/B26))) -> 1.1354089
A35: Time lag (37%) | B35: =B30-(B30-B29)*0.37 -> 3.134 | I35: Slope | J35: =SLOPE(J23:J33,F23:F33) -> 0.00053487824
B36: =(B35-B30)/-0.09 -> 7.4 | C36: mins
B37: =B36*60 -> 444 | C37: sec
AA38: BH104 - Made Ground | AB38: Permeability (K) | AC38: 4.3636931e-06 | AD38: m/s
A39: Permeability (K) | B39: =J35*(B32/B34) -> 1.9572585e-05 | C39: m/s | E39: Velocity graph method | AA39: BH104 - Alluvium GRAVEL | AB39: Permeability (K) | AC39: 6.3657343e-06 | AD39: m/s
A43: BH104 - Made Ground | E43: Time (min) | F43: Time (sec) | G43: Depth (m) | H43: Ht (m) | I43: Ho/Ht | J43: Ln (Ho/Ht) | K43: Ht/Ho
E44: 0 | F44: =E44*60 -> 0 | G44: 0 | H44: 4.5 | I44: =B51/H44 -> 1 | J44: =LN(I44) -> 0 | K44: =H44/$B$9 -> 1.1842105
A45: Borehole | B45: BH104 | E45: 1 | F45: =E45*60 -> 60 | K45: =H45/$B$9 -> 0
A46: Test | B46: 1 | E46: 2 | F46: =E46*60 -> 120 | K46: =H46/$B$9 -> 0
A47: Diameter | B47: =115/1000 -> 0.115 | C47: m | E47: 3 | F47: =E47*60 -> 180 | K47: =H47/$B$9 -> 0
...

Sheet KozenyCarman
B1: Location ID | C1: Depth Top | D1: Depth Base
B2: BH101 | C2: 0.25 | D2: 0.55 | I2: BH101 | J2: 9 | K2: 9.2 | P2: BH102 | Q2: 0.3 | R2: 0.65 | W2: BH103 | X2: 0.3 | Y2: 0.75 | AD2: BH103 | AE2: 6 | AF2: 6.45 | AK2: BH104 | AL2: 1 | AM2: 1.45 | AR2: BH104 | AS2: 3 | AT2: 3.45 | AY2: BH104 | AZ2: 7 | BA2: 7.45 | BF2: BH105 | BG2: 1 | BH2: 1.45 | BM2: BH105 | BN2: 4 | BO2: 4.45 | BT2: BH105 | BU2: 10 | BV2: 10.5 | CA2: BH106 | CB2: 1 | CC2: 1.45 | CH2: BH106 | CI2: 5 | CJ2: 5.45 | CO2: BH106 | CP2: 11.5 | CQ2: 11.95 | CV2: BH107 | CW2: 0.4 | DC2: BH108 | DD2: 0.1 | DJ2: TP103 | DK2: 0.5 | DL2: 0.6 | DQ2: TP103 | DR2: 3 | DS2: 3.2 | DX2: TP106 | DY2: 1.5 | DZ2: 2 | EE2: TP106 | EF2: 3 | EG2: 3.5 | EL2: TP107 | EM2: 0.1 | ES2: TP107 | ET2: 0.3 | EU2: 0.8
B3: Brown fine to coarse sandy fine to coarse gravelly SILT/CLAY
B5: Sieve (mm) | C5: % pass | D5: % retain | E5: S | F5: Angle (f) | G5: fS2 | I5: Sieve (mm) | J5: % pass | K5: % retain | L5: S | M5: Angle (f) | N5: fS2 | P5: Sieve (mm) | Q5: % pass | R5: % retain | S5: S | T5: Angle (f) | U5: fS2 | W5: Sieve (mm) | X5: % pass | Y5: % retain | Z5: S | AA5: Angle (f) | AB5: fS2 | AD5: Sieve (mm) | AE5: % pass | AF5: % retain | AG5: S | AH5: Angle (f) | AI5: fS2 | AK5: Sieve (mm) | AL5: % pass | AM5: % retain | AN5: S | AO5: Angle (f) | AP5: fS2 | AR5: Sieve (mm) | AS5: % pass | AT5: % retain | AU5: S | AV5: Angle (f) | AW5: fS2 | AY5: Sieve (mm) | AZ5: % pass | BA5: % retain | BB5: S | BC5: Angle (f) | BD5: fS2 | BF5: Sieve (mm) | BG5: % pass | BH5: % retain | BI5: S | BJ5: Angle (f) | BK5: fS2 | BM5: Sieve (mm) | BN5: % pass | BO5: % retain | BP5: S | BQ5: Angle (f) | BR5: fS2 | BT5: Sieve (mm) | BU5: % pass | BV5: % retain | BW5: S | BX5: Angle (f) | BY5: fS2 | CA5: Sieve (mm) | CB5: % pass | CC5: % retain | CD5: S | CE5: Angle (f) | CF5: fS2 | CH5: Sieve (mm) | CI5: % pass | CJ5: % retain | CK5: S | CL5: Angle (f) | CM5: fS2 | CO5: Sieve (mm) | CP5: % pass | CQ5: % retain | CR5: S | CS5: Angle (f) | CT5: fS2 | CV5: Sieve (mm) | CW5: % pass | CX5: % retain | CY5: S | CZ5: Angle (f) | DA5: fS2 | DC5: Sieve (mm) | DD5: % pass | DE5: % retain | DF5: S | DG5: Angle (f) | DH5: fS2 | DJ5: Sieve (mm) | DK5: % pass | DL5: % retain | DM5: S | DN5: Angle (f) | DO5: fS2 | DQ5: Sieve (mm) | DR5: % pass | DS5: % retain | DT5: S | DU5: Angle (f) | DV5: fS2 | DX5: Sieve (mm) | DY5: % pass | DZ5: % retain | EA5: S | EB5: Angle (f) | EC5: fS2 | EE5: Sieve (mm) | EF5: % pass | EG5: % retain | EH5: S | EI5: Angle (f) | EJ5: fS2 | EL5: Sieve (mm) | EM5: % pass | EN5: % retain | EO5: S | EP5: Angle (f) | EQ5: fS2 | ES5: Sieve (mm) | ET5: % pass | EU5: % retain | EV5: S | EW5: Angle (f) | EX5: fS2
B6: 125 | C6: 100 | I6: 125 | J6: 100 | P6: 125 | Q6: 100 | W6: 125 | X6: 100 | AD6: 125 | AE6: 100 | AK6: 125 | AL6: 100 | AR6: 125 | AS6: 100 | AY6: 125 | AZ6: 100 | BF6: 125 | BG6: 100 | BM6: 125 | BN6: 100 | BT6: 125 | BU6: 100 | CA6: 125 | CB6: 100 | CH6: 125 | CI6: 100 | CO6: 125 | CP6: 100 | CV6: 125 | CW6: 100 | DC6: 125 | DD6: 100 | DJ6: 125 | DK6: 100 | DQ6: 125 | DR6: 100 | DX6: 125 | DY6: 100 | EE6: 125 | EF6: 100 | EL6: 125 | EM6: 100 | ES6: 125 | ET6: 100
B7: 75 | C7: 100 | D7: =C6-C7 -> 0 | E7: =6/SQRT(B6*B7) -> 0.061967734 | F7: 1.25 | G7: =(D7/100)*(E7^2)*F7 -> 0 | I7: 75 | J7: 100 | K7: =J6-J7 -> 0 | L7: =6/SQRT(I6*I7) -> 0.061967734 | M7: 1.25 | N7: =(K7/100)*(L7^2)*M7 -> 0 | P7: 75 | Q7: 100 | R7: =Q6-Q7 -> 0 | S7: =6/SQRT(P6*P7) -> 0.061967734 | T7: 1.25 | U7: =(R7/100)*(S7^2)*T7 -> 0 | W7: 75 | X7: 100 | Y7: =X6-X7 -> 0 | Z7: =6/SQRT(W6*W7) -> 0.061967734 | AA7: 1.25 | AB7: =(Y7/100)*(Z7^2)*AA7 -> 0 | AD7: 75 | AE7: 100 | AF7: =AE6-AE7 -> 0 | AG7: =6/SQRT(AD6*AD7) -> 0.061967734 | AH7: 1.25 | AI7: =(AF7/100)*(AG7^2)*AH7 -> 0 | AK7: 75 | AL7: 56 | AM7: =AL6-AL7 -> 44 | AN7: =6/SQRT(AK6*AK7) -> 0.061967734 | AO7: 1.25 | AP7: =(AM7/100)*(AN7^2)*AO7 -> 0.002112 | AR7: 75 | AS7: 100 | AT7: =AS6-AS7 -> 0 | AU7: =6/SQRT(AR6*AR7) -> 0.061967734 | AV7: 1.25 | AW7: =(AT7/100)*(AU7^2)*AV7 -> 0 | AY7: 75 | AZ7: 100 | BA7: =AZ6-AZ7 -> 0 | BB7: =6/SQRT(AY6*AY7) -> 0.061967734 | BC7: 1.25 | BD7: =(BA7/100)*(BB7^2)*BC7 -> 0 | BF7: 75 | BG7: 100 | BH7: =BG6-BG7 -> 0 | BI7: =6/SQRT(BF6*BF7) -> 0.061967734 | BJ7: 1.25 | BK7: =(BH7/100)*(BI7^2)*BJ7 -> 0 | BM7: 75 | BN7: 100 | BO7: =BN6-BN7 -> 0 | BP7: =6/SQRT(BM6*BM7) -> 0.061967734 | BQ7: 1.25 | BR7: =(BO7/100)*(BP7^2)*BQ7 -> 0 | BT7: 75 | BU7: 100 | BV7: =BU6-BU7 -> 0 | BW7: =6/SQRT(BT6*BT7) -> 0.061967734 | BX7: 1.25 | BY7: =(BV7/100)*(BW7^2)*BX7 -> 0 | CA7: 75 | CB7: 100 | CC7: =CB6-CB7 -> 0 | CD7: =6/SQRT(CA6*CA7) -> 0.061967734 | CE7: 1.25 | CF7: =(CC7/100)*(CD7^2)*CE7 -> 0 | CH7: 75 | CI7: 100 | CJ7: =CI6-CI7 -> 0 | CK7: =6/SQRT(CH6*CH7) -> 0.061967734 | CL7: 1.25 | CM7: =(CJ7/100)*(CK7^2)*CL7 -> 0 | CO7: 75 | CP7: 100 | CQ7: =CP6-CP7 -> 0 | CR7: =6/SQRT(CO6*CO7) -> 0.061967734 | CS7: 1.25 | CT7: =(CQ7/100)*(CR7^2)*CS7 -> 0 | CV7: 75 | CW7: 100 | CX7: =CW6-CW7 -> 0 | CY7: =6/SQRT(CV6*CV7) -> 0.061967734 | CZ7: 1.25 | DA7: =(CX7/100)*(CY7^2)*CZ7 -> 0 | DC7: 75 | DD7: 100 | DE7: =DD6-DD7 -> 0 | DF7: =6/SQRT(DC6*DC7) -> 0.061967734 | DG7: 1.25 | DH7: =(DE7/100)*(DF7^2)*DG7 -> 0 | DJ7: 75 | DK7: 100 | DL7: =DK6-DK7 -> 0 | DM7: =6/SQRT(DJ6*DJ7) -> 0.061967734 | DN7: 1.25 | DO7: =(DL7/100)*(DM7^2)*DN7 -> 0 | DQ7: 75 | DR7: 100 | DS7: =DR6-DR7 -> 0 | DT7: =6/SQRT(DQ6*DQ7) -> 0.061967734 | DU7: 1.25 | DV7: =(DS7/100)*(DT7^2)*DU7 -> 0 | DX7: 75 | DY7: 100 | DZ7: =DY6-DY7 -> 0 | EA7: =6/SQRT(DX6*DX7) -> 0.061967734 | EB7: 1.25 | EC7: =(DZ7/100)*(EA7^2)*EB7 -> 0 | EE7: 75 | EF7: 100 | EG7: =EF6-EF7 -> 0 | EH7: =6/SQRT(EE6*EE7) -> 0.061967734 | EI7: 1.25 | EJ7: =(EG7/100)*(EH7^2)*EI7 -> 0 | EL7: 75 | EM7: 100 | EN7: =EM6-EM7 -> 0 | EO7: =6/SQRT(EL6*EL7) -> 0.061967734 | EP7: 1.25 | EQ7: =(EN7/100)*(EO7^2)*EP7 -> 0 | ES7: 75 | ET7: 100 | EU7: =ET6-ET7 -> 0 | EV7: =6/SQRT(ES6*ES7) -> 0.061967734 | EW7: 1.25 | EX7: =(EU7/100)*(EV7^2)*EW7 -> 0
B8: 63 | C8: 100 | D8: =C7-C8 -> 0 | E8: =6/SQRT(B7*B8) -> 0.087287156 | F8: 1.25 | G8: =(D8/100)*(E8^2)*F8 -> 0 | I8: 63 | J8: 100 | K8: =J7-J8 -> 0 | L8: =6/SQRT(I7*I8) -> 0.087287156 | M8: 1.25 | N8: =(K8/100)*(L8^2)*M8 -> 0 | P8: 63 | Q8: 100 | R8: =Q7-Q8 -> 0 | S8: =6/SQRT(P7*P8) -> 0.087287156 | T8: 1.25 | U8: =(R8/100)*(S8^2)*T8 -> 0 | W8: 63 | X8: 100 | Y8: =X7-X8 -> 0 | Z8: =6/SQRT(W7*W8) -> 0.087287156 | AA8: 1.25 | AB8: =(Y8/100)*(Z8^2)*AA8 -> 0 | AD8: 63 | AE8: 100 | AF8: =AE7-AE8 -> 0 | AG8: =6/SQRT(AD7*AD8) -> 0.087287156 | AH8: 1.25 | AI8: =(AF8/100)*(AG8^2)*AH8 -> 0 | AK8: 63 | AL8: 56 | AM8: =AL7-AL8 -> 0 | AN8: =6/SQRT(AK7*AK8) -> 0.087287156 | AO8: 1.25 | AP8: =(AM8/100)*(AN8^2)*AO8 -> 0 | AR8: 63 | AS8: 100 | AT8: =AS7-AS8 -> 0 | AU8: =6/SQRT(AR7*AR8) -> 0.087287156 | AV8: 1.25 | AW8: =(AT8/100)*(AU8^2)*AV8 -> 0 | AY8: 63 | AZ8: 100 | BA8: =AZ7-AZ8 -> 0 | BB8: =6/SQRT(AY7*AY8) -> 0.087287156 | BC8: 1.25 | BD8: =(BA8/100)*(BB8^2)*BC8 -> 0 | BF8: 63 | BG8: 100 | BH8: =BG7-BG8 -> 0 | BI8: =6/SQRT(BF7*BF8) -> 0.087287156 | BJ8: 1.25 | BK8: =(BH8/100)*(BI8^2)*BJ8 -> 0 | BM8: 63 | BN8: 100 | BO8: =BN7-BN8 -> 0 | BP8: =6/SQRT(BM7*BM8) -> 0.087287156 | BQ8: 1.25 | BR8: =(BO8/100)*(BP8^2)*BQ8 -> 0 | BT8: 63 | BU8: 100 | BV8: =BU7-BU8 -> 0 | BW8: =6/SQRT(BT7*BT8) -> 0.087287156 | BX8: 1.25 | BY8: =(BV8/100)*(BW8^2)*BX8 -> 0 | CA8: 63 | CB8: 100 | CC8: =CB7-CB8 -> 0 | CD8: =6/SQRT(CA7*CA8) -> 0.087287156 | CE8: 1.25 | CF8: =(CC8/100)*(CD8^2)*CE8 -> 0 | CH8: 63 | CI8: 100 | CJ8: =CI7-CI8 -> 0 | CK8: =6/SQRT(CH7*CH8) -> 0.087287156 | CL8: 1.25 | CM8: =(CJ8/100)*(CK8^2)*CL8 -> 0 | CO8: 63 | CP8: 100 | CQ8: =CP7-CP8 -> 0 | CR8: =6/SQRT(CO7*CO8) -> 0.087287156 | CS8: 1.25 | CT8: =(CQ8/100)*(CR8^2)*CS8 -> 0 | CV8: 63 | CW8: 100 | CX8: =CW7-CW8 -> 0 | CY8: =6/SQRT(CV7*CV8) -> 0.087287156 | CZ8: 1.25 | DA8: =(CX8/100)*(CY8^2)*CZ8 -> 0 | DC8: 63 | DD8: 100 | DE8: =DD7-DD8 -> 0 | DF8: =6/SQRT(DC7*DC8) -> 0.087287156 | DG8: 1.25 | DH8: =(DE8/100)*(DF8^2)*DG8 -> 0 | DJ8: 63 | DK8: 100 | DL8: =DK7-DK8 -> 0 | DM8: =6/SQRT(DJ7*DJ8) -> 0.087287156 | DN8: 1.25 | DO8: =(DL8/100)*(DM8^2)*DN8 -> 0 | DQ8: 63 | DR8: 100 | DS8: =DR7-DR8 -> 0 | DT8: =6/SQRT(DQ7*DQ8) -> 0.087287156 | DU8: 1.25 | DV8: =(DS8/100)*(DT8^2)*DU8 -> 0 | DX8: 63 | DY8: 100 | DZ8: =DY7-DY8 -> 0 | EA8: =6/SQRT(DX7*DX8) -> 0.087287156 | EB8: 1.25 | EC8: =(DZ8/100)*(EA8^2)*EB8 -> 0 | EE8: 63 | EF8: 100 | EG8: =EF7-EF8 -> 0 | EH8: =6/SQRT(EE7*EE8) -> 0.087287156 | EI8: 1.25 | EJ8: =(EG8/100)*(EH8^2)*EI8 -> 0 | EL8: 63 | EM8: 100 | EN8: =EM7-EM8 -> 0 | EO8: =6/SQRT(EL7*EL8) -> 0.087287156 | EP8: 1.25 | EQ8: =(EN8/100)*(EO8^2)*EP8 -> 0 | ES8: 63 | ET8: 100 | EU8: =ET7-ET8 -> 0 | EV8: =6/SQRT(ES7*ES8) -> 0.087287156 | EW8: 1.25 | EX8: =(EU8/100)*(EV8^2)*EW8 -> 0
B9: 50 | C9: 100 | D9: =C8-C9 -> 0 | E9: =6/SQRT(B8*B9) -> 0.1069045 | F9: 1.25 | G9: =(D9/100)*(E9^2)*F9 -> 0 | I9: 50 | J9: 100 | K9: =J8-J9 -> 0 | L9: =6/SQRT(I8*I9) -> 0.1069045 | M9: 1.25 | N9: =(K9/100)*(L9^2)*M9 -> 0 | P9: 50 | Q9: 100 | R9: =Q8-Q9 -> 0 | S9: =6/SQRT(P8*P9) -> 0.1069045 | T9: 1.25 | U9: =(R9/100)*(S9^2)*T9 -> 0 | W9: 50 | X9: 89 | Y9: =X8-X9 -> 11 | Z9: =6/SQRT(W8*W9) -> 0.1069045 | AA9: 1.25 | AB9: =(Y9/100)*(Z9^2)*AA9 -> 0.0015714286 | AD9: 50 | AE9: 100 | AF9: =AE8-AE9 -> 0 | AG9: =6/SQRT(AD8*AD9) -> 0.1069045 | AH9: 1.25 | AI9: =(AF9/100)*(AG9^2)*AH9 -> 0 | AK9: 50 | AL9: 48 | AM9: =AL8-AL9 -> 8 | AN9: =6/SQRT(AK8*AK9) -> 0.1069045 | AO9: 1.25 | AP9: =(AM9/100)*(AN9^2)*AO9 -> 0.0011428571 | AR9: 50 | AS9: 100 | AT9: =AS8-AS9 -> 0 | AU9: =6/SQRT(AR8*AR9) -> 0.1069045 | AV9: 1.25 | AW9: =(AT9/100)*(AU9^2)*AV9 -> 0 | AY9: 50 | AZ9: 100 | BA9: =AZ8-AZ9 -> 0 | BB9: =6/SQRT(AY8*AY9) -> 0.1069045 | BC9: 1.25 | BD9: =(BA9/100)*(BB9^2)*BC9 -> 0 | BF9: 50 | BG9: 100 | BH9: =BG8-BG9 -> 0 | BI9: =6/SQRT(BF8*BF9) -> 0.1069045 | BJ9: 1.25 | BK9: =(BH9/100)*(BI9^2)*BJ9 -> 0 | BM9: 50 | BN9: 100 | BO9: =BN8-BN9 -> 0 | BP9: =6/SQRT(BM8*BM9) -> 0.1069045 | BQ9: 1.25 | BR9: =(BO9/100)*(BP9^2)*BQ9 -> 0 | BT9: 50 | BU9: 100 | BV9: =BU8-BU9 -> 0 | BW9: =6/SQRT(BT8*BT9) -> 0.1069045 | BX9: 1.25 | BY9: =(BV9/100)*(BW9^2)*BX9 -> 0 | CA9: 50 | CB9: 100 | CC9: =CB8-CB9 -> 0 | CD9: =6/SQRT(CA8*CA9) -> 0.1069045 | CE9: 1.25 | CF9: =(CC9/100)*(CD9^2)*CE9 -> 0 | CH9: 50 | CI9: 100 | CJ9: =CI8-CI9 -> 0 | CK9: =6/SQRT(CH8*CH9) -> 0.1069045 | CL9: 1.25 | CM9: =(CJ9/100)*(CK9^2)*CL9 -> 0 | CO9: 50 | CP9: 100 | CQ9: =CP8-CP9 -> 0 | CR9: =6/SQRT(CO8*CO9) -> 0.1069045 | CS9: 1.25 | CT9: =(CQ9/100)*(CR9^2)*CS9 -> 0 | CV9: 50 | CW9: 100 | CX9: =CW8-CW9 -> 0 | CY9: =6/SQRT(CV8*CV9) -> 0.1069045 | CZ9: 1.25 | DA9: =(CX9/100)*(CY9^2)*CZ9 -> 0 | DC9: 50 | DD9: 100 | DE9: =DD8-DD9 -> 0 | DF9: =6/SQRT(DC8*DC9) -> 0.1069045 | DG9: 1.25 | DH9: =(DE9/100)*(DF9^2)*DG9 -> 0 | DJ9: 50 | DK9: 100 | DL9: =DK8-DK9 -> 0 | DM9: =6/SQRT(DJ8*DJ9) -> 0.1069045 | DN9: 1.25 | DO9: =(DL9/100)*(DM9^2)*DN9 -> 0 | DQ9: 50 | DR9: 100 | DS9: =DR8-DR9 -> 0 | DT9: =6/SQRT(DQ8*DQ9) -> 0.1069045 | DU9: 1.25 | DV9: =(DS9/100)*(DT9^2)*DU9 -> 0 | DX9: 50 | DY9: 100 | DZ9: =DY8-DY9 -> 0 | EA9: =6/SQRT(DX8*DX9) -> 0.1069045 | EB9: 1.25 | EC9: =(DZ9/100)*(EA9^2)*EB9 -> 0 | EE9: 50 | EF9: 100 | EG9: =EF8-EF9 -> 0 | EH9: =6/SQRT(EE8*EE9) -> 0.1069045 | EI9: 1.25 | EJ9: =(EG9/100)*(EH9^2)*EI9 -> 0 | EL9: 50 | EM9: 100 | EN9: =EM8-EM9 -> 0 | EO9: =6/SQRT(EL8*EL9) -> 0.1069045 | EP9: 1.25 | EQ9: =(EN9/100)*(EO9^2)*EP9 -> 0 | ES9: 50 | ET9: 100 | EU9: =ET8-ET9 -> 0 | EV9: =6/SQRT(ES8*ES9) -> 0.1069045 | EW9: 1.25 | EX9: =(EU9/100)*(EV9^2)*EW9 -> 0
B10: 37.5 | C10: 93 | D10: =C9-C10 -> 7 | E10: =6/SQRT(B9*B10) -> 0.13856406 | F10: 1.25 | G10: =(D10/100)*(E10^2)*F10 -> 0.00168 | I10: 37.5 | J10: 100 | K10: =J9-J10 -> 0 | L10: =6/SQRT(I9*I10) -> 0.13856406 | M10: 1.25 | N10: =(K10/100)*(L10^2)*M10 -> 0 | P10: 37.5 | Q10: 95 | R10: =Q9-Q10 -> 5 | S10: =6/SQRT(P9*P10) -> 0.13856406 | T10: 1.25 | U10: =(R10/100)*(S10^2)*T10 -> 0.0012 | W10: 37.5 | X10: 76 | Y10: =X9-X10 -> 13 | Z10: =6/SQRT(W9*W10) -> 0.13856406 | AA10: 1.25 | AB10: =(Y10/100)*(Z10^2)*AA10 -> 0.00312 | AD10: 37.5 | AE10: 97 | AF10: =AE9-AE10 -> 3 | AG10: =6/SQRT(AD9*AD10) -> 0.13856406 | AH10: 1.25 | AI10: =(AF10/100)*(AG10^2)*AH10 -> 0.00072 | AK10: 37.5 | AL10: 48 | AM10: =AL9-AL10 -> 0 | AN10: =6/SQRT(AK9*AK10) -> 0.13856406 | AO10: 1.25 | AP10: =(AM10/100)*(AN10^2)*AO10 -> 0 | AR10: 37.5 | AS10: 100 | AT10: =AS9-AS10 -> 0 | AU10: =6/SQRT(AR9*AR10) -> 0.13856406 | AV10: 1.25 | AW10: =(AT10/100)*(AU10^2)*AV10 -> 0 | AY10: 37.5 | AZ10: 100 | BA10: =AZ9-AZ10 -> 0 | BB10: =6/SQRT(AY9*AY10) -> 0.13856406 | BC10: 1.25 | BD10: =(BA10/100)*(BB10^2)*BC10 -> 0 | BF10: 37.5 | BG10: 96 | BH10: =BG9-BG10 -> 4 | BI10: =6/SQRT(BF9*BF10) -> 0.13856406 | BJ10: 1.25 | BK10: =(BH10/100)*(BI10^2)*BJ10 -> 0.00096 | BM10: 37.5 | BN10: 100 | BO10: =BN9-BN10 -> 0 | BP10: =6/SQRT(BM9*BM10) -> 0.13856406 | BQ10: 1.25 | BR10: =(BO10/100)*(BP10^2)*BQ10 -> 0 | BT10: 37.5 | BU10: 100 | BV10: =BU9-BU10 -> 0 | BW10: =6/SQRT(BT9*BT10) -> 0.13856406 | BX10: 1.25 | BY10: =(BV10/100)*(BW10^2)*BX10 -> 0 | CA10: 37.5 | CB10: 100 | CC10: =CB9-CB10 -> 0 | CD10: =6/SQRT(CA9*CA10) -> 0.13856406 | CE10: 1.25 | CF10: =(CC10/100)*(CD10^2)*CE10 -> 0 | CH10: 37.5 | CI10: 100 | CJ10: =CI9-CI10 -> 0 | CK10: =6/SQRT(CH9*CH10) -> 0.13856406 | CL10: 1.25 | CM10: =(CJ10/100)*(CK10^2)*CL10 -> 0 | CO10: 37.5 | CP10: 96 | CQ10: =CP9-CP10 -> 4 | CR10: =6/SQRT(CO9*CO10) -> 0.13856406 | CS10: 1.25 | CT10: =(CQ10/100)*(CR10^2)*CS10 -> 0.00096 | CV10: 37.5 | CW10: 80 | CX10: =CW9-CW10 -> 20 | CY10: =6/SQRT(CV9*CV10) -> 0.13856406 | CZ10: 1.25 | DA10: =(CX10/100)*(CY10^2)*CZ10 -> 0.0048 | DC10: 37.5 | DD10: 100 | DE10: =DD9-DD10 -> 0 | DF10: =6/SQRT(DC9*DC10) -> 0.13856406 | DG10: 1.25 | DH10: =(DE10/100)*(DF10^2)*DG10 -> 0 | DJ10: 37.5 | DK10: 100 | DL10: =DK9-DK10 -> 0 | DM10: =6/SQRT(DJ9*DJ10) -> 0.13856406 | DN10: 1.25 | DO10: =(DL10/100)*(DM10^2)*DN10 -> 0 | DQ10: 37.5 | DR10: 100 | DS10: =DR9-DR10 -> 0 | DT10: =6/SQRT(DQ9*DQ10) -> 0.13856406 | DU10: 1.25 | DV10: =(DS10/100)*(DT10^2)*DU10 -> 0 | DX10: 37.5 | DY10: 100 | DZ10: =DY9-DY10 -> 0 | EA10: =6/SQRT(DX9*DX10) -> 0.13856406 | EB10: 1.25 | EC10: =(DZ10/100)*(EA10^2)*EB10 -> 0 | EE10: 37.5 | EF10: 100 | EG10: =EF9-EF10 -> 0 | EH10: =6/SQRT(EE9*EE10) -> 0.13856406 | EI10: 1.25 | EJ10: =(EG10/100)*(EH10^2)*EI10 -> 0 | EL10: 37.5 | EM10: 100 | EN10: =EM9-EM10 -> 0 | EO10: =6/SQRT(EL9*EL10) -> 0.13856406 | EP10: 1.25 | EQ10: =(EN10/100)*(EO10^2)*EP10 -> 0 | ES10: 37.5 | ET10: 100 | EU10: =ET9-ET10 -> 0 | EV10: =6/SQRT(ES9*ES10) -> 0.13856406 | EW10: 1.25 | EX10: =(EU10/100)*(EV10^2)*EW10 -> 0
B11: 30 | C11: 93 | D11: =C10-C11 -> 0 | E11: =6/SQRT(B10*B11) -> 0.17888544 | F11: 1.25 | G11: =(D11/100)*(E11^2)*F11 -> 0 | I11: 30 | J11: 100 | K11: =J10-J11 -> 0 | L11: =6/SQRT(I10*I11) -> 0.17888544 | M11: 1.25 | N11: =(K11/100)*(L11^2)*M11 -> 0 | P11: 30 | Q11: 100 | R11: =Q10-Q11 -> -5 | S11: =6/SQRT(P10*P11) -> 0.17888544 | T11: 1.25 | U11: =(R11/100)*(S11^2)*T11 -> -0.002 | W11: 30 | X11: 100 | Y11: =X10-X11 -> -24 | Z11: =6/SQRT(W10*W11) -> 0.17888544 | AA11: 1.25 | AB11: =(Y11/100)*(Z11^2)*AA11 -> -0.0096 | AD11: 30 | AE11: 100 | AF11: =AE10-AE11 -> -3 | AG11: =6/SQRT(AD10*AD11) -> 0.17888544 | AH11: 1.25 | AI11: =(AF11/100)*(AG11^2)*AH11 -> -0.0012 | AK11: 30 | AL11: 56 | AM11: =AL10-AL11 -> -8 | AN11: =6/SQRT(AK10*AK11) -> 0.17888544 | AO11: 1.25 | AP11: =(AM11/100)*(AN11^2)*AO11 -> -0.0032 | AR11: 30 | AS11: 100 | AT11: =AS10-AS11 -> 0 | AU11: =6/SQRT(AR10*AR11) -> 0.17888544 | AV11: 1.25 | AW11: =(AT11/100)*(AU11^2)*AV11 -> 0 | AY11: 30 | AZ11: 100 | BA11: =AZ10-AZ11 -> 0 | BB11: =6/SQRT(AY10*AY11) -> 0.17888544 | BC11: 1.25 | BD11: =(BA11/100)*(BB11^2)*BC11 -> 0 | BF11: 30 | BG11: 100 | BH11: =BG10-BG11 -> -4 | BI11: =6/SQRT(BF10*BF11) -> 0.17888544 | BJ11: 1.25 | BK11: =(BH11/100)*(BI11^2)*BJ11 -> -0.0016 | BM11: 30 | BN11: 100 | BO11: =BN10-BN11 -> 0 | BP11: =6/SQRT(BM10*BM11) -> 0.17888544 | BQ11: 1.25 | BR11: =(BO11/100)*(BP11^2)*BQ11 -> 0 | BT11: 30 | BU11: 100 | BV11: =BU10-BU11 -> 0 | BW11: =6/SQRT(BT10*BT11) -> 0.17888544 | BX11: 1.25 | BY11: =(BV11/100)*(BW11^2)*BX11 -> 0 | CA11: 30 | CB11: 100 | CC11: =CB10-CB11 -> 0 | CD11: =6/SQRT(CA10*CA11) -> 0.17888544 | CE11: 1.25 | CF11: =(CC11/100)*(CD11^2)*CE11 -> 0 | CH11: 30 | CI11: 100 | CJ11: =CI10-CI11 -> 0 | CK11: =6/SQRT(CH10*CH11) -> 0.17888544 | CL11: 1.25 | CM11: =(CJ11/100)*(CK11^2)*CL11 -> 0 | CO11: 30 | CP11: 100 | CQ11: =CP10-CP11 -> -4 | CR11: =6/SQRT(CO10*CO11) -> 0.17888544 | CS11: 1.25 | CT11: =(CQ11/100)*(CR11^2)*CS11 -> -0.0016 | CV11: 30 | CW11: 100 | CX11: =CW10-CW11 -> -20 | CY11: =6/SQRT(CV10*CV11) -> 0.17888544 | CZ11: 1.25 | DA11: =(CX11/100)*(CY11^2)*CZ11 -> -0.008 | DC11: 30 | DD11: 100 | DE11: =DD10-DD11 -> 0 | DF11: =6/SQRT(DC10*DC11) -> 0.17888544 | DG11: 1.25 | DH11: =(DE11/100)*(DF11^2)*DG11 -> 0 | DJ11: 30 | DK11: 100 | DL11: =DK10-DK11 -> 0 | DM11: =6/SQRT(DJ10*DJ11) -> 0.17888544 | DN11: 1.25 | DO11: =(DL11/100)*(DM11^2)*DN11 -> 0 | DQ11: 30 | DR11: 100 | DS11: =DR10-DR11 -> 0 | DT11: =6/SQRT(DQ10*DQ11) -> 0.17888544 | DU11: 1.25 | DV11: =(DS11/100)*(DT11^2)*DU11 -> 0 | DX11: 30 | DY11: 100 | DZ11: =DY10-DY11 -> 0 | EA11: =6/SQRT(DX10*DX11) -> 0.17888544 | EB11: 1.25 | EC11: =(DZ11/100)*(EA11^2)*EB11 -> 0 | EE11: 30 | EF11: 100 | EG11: =EF10-EF11 -> 0 | EH11: =6/SQRT(EE10*EE11) -> 0.17888544 | EI11: 1.25 | EJ11: =(EG11/100)*(EH11^2)*EI11 -> 0 | EL11: 30 | EM11: 100 | EN11: =EM10-EM11 -> 0 | EO11: =6/SQRT(EL10*EL11) -> 0.17888544 | EP11: 1.25 | EQ11: =(EN11/100)*(EO11^2)*EP11 -> 0 | ES11: 30 | ET11: 100 | EU11: =ET10-ET11 -> 0 | EV11: =6/SQRT(ES10*ES11) -> 0.17888544 | EW11: 1.25 | EX11: =(EU11/100)*(EV11^2)*EW11 -> 0
B12: 28 | C12: 93 | D12: =C11-C12 -> 0 | E12: =6/SQRT(B11*B12) -> 0.20701967 | F12: 1.25 | G12: =(D12/100)*(E12^2)*F12 -> 0 | I12: 28 | J12: 93 | K12: =J11-J12 -> 7 | L12: =6/SQRT(I11*I12) -> 0.20701967 | M12: 1.25 | N12: =(K12/100)*(L12^2)*M12 -> 0.00375 | P12: 28 | Q12: 89 | R12: =Q11-Q12 -> 11 | S12: =6/SQRT(P11*P12) -> 0.20701967 | T12: 1.25 | U12: =(R12/100)*(S12^2)*T12 -> 0.0058928571 | W12: 28 | X12: 71 | Y12: =X11-X12 -> 29 | Z12: =6/SQRT(W11*W12) -> 0.20701967 | AA12: 1.25 | AB12: =(Y12/100)*(Z12^2)*AA12 -> 0.015535714 | AD12: 28 | AE12: 89 | AF12: =AE11-AE12 -> 11 | AG12: =6/SQRT(AD11*AD12) -> 0.20701967 | AH12: 1.25 | AI12: =(AF12/100)*(AG12^2)*AH12 -> 0.0058928571 | AK12: 28 | AL12: 48 | AM12: =AL11-AL12 -> 8 | AN12: =6/SQRT(AK11*AK12) -> 0.20701967 | AO12: 1.25 | AP12: =(AM12/100)*(AN12^2)*AO12 -> 0.0042857143 | AR12: 28 | AS12: 100 | AT12: =AS11-AS12 -> 0 | AU12: =6/SQRT(AR11*AR12) -> 0.20701967 | AV12: 1.25 | AW12: =(AT12/100)*(AU12^2)*AV12 -> 0 | AY12: 28 | AZ12: 100 | BA12: =AZ11-AZ12 -> 0 | BB12: =6/SQRT(AY11*AY12) -> 0.20701967 | BC12: 1.25 | BD12: =(BA12/100)*(BB12^2)*BC12 -> 0 | BF12: 28 | BG12: 96 | BH12: =BG11-BG12 -> 4 | BI12: =6/SQRT(BF11*BF12) -> 0.20701967 | BJ12: 1.25 | BK12: =(BH12/100)*(BI12^2)*BJ12 -> 0.0021428571 | BM12: 28 | BN12: 100 | BO12: =BN11-BN12 -> 0 | BP12: =6/SQRT(BM11*BM12) -> 0.20701967 | BQ12: 1.25 | BR12: =(BO12/100)*(BP12^2)*BQ12 -> 0 | BT12: 28 | BU12: 100 | BV12: =BU11-BU12 -> 0 | BW12: =6/SQRT(BT11*BT12) -> 0.20701967 | BX12: 1.25 | BY12: =(BV12/100)*(BW12^2)*BX12 -> 0 | CA12: 28 | CB12: 98 | CC12: =CB11-CB12 -> 2 | CD12: =6/SQRT(CA11*CA12) -> 0.20701967 | CE12: 1.25 | CF12: =(CC12/100)*(CD12^2)*CE12 -> 0.0010714286 | CH12: 28 | CI12: 100 | CJ12: =CI11-CI12 -> 0 | CK12: =6/SQRT(CH11*CH12) -> 0.20701967 | CL12: 1.25 | CM12: =(CJ12/100)*(CK12^2)*CL12 -> 0 | CO12: 28 | CP12: 96 | CQ12: =CP11-CP12 -> 4 | CR12: =6/SQRT(CO11*CO12) -> 0.20701967 | CS12: 1.25 | CT12: =(CQ12/100)*(CR12^2)*CS12 -> 0.0021428571 | CV12: 28 | CW12: 60 | CX12: =CW11-CW12 -> 40 | CY12: =6/SQRT(CV11*CV12) -> 0.20701967 | CZ12: 1.25 | DA12: =(CX12/100)*(CY12^2)*CZ12 -> 0.021428571 | DC12: 28 | DD12: 100 | DE12: =DD11-DD12 -> 0 | DF12: =6/SQRT(DC11*DC12) -> 0.20701967 | DG12: 1.25 | DH12: =(DE12/100)*(DF12^2)*DG12 -> 0 | DJ12: 28 | DK12: 100 | DL12: =DK11-DK12 -> 0 | DM12: =6/SQRT(DJ11*DJ12) -> 0.20701967 | DN12: 1.25 | DO12: =(DL12/100)*(DM12^2)*DN12 -> 0 | DQ12: 28 | DR12: 100 | DS12: =DR11-DR12 -> 0 | DT12: =6/SQRT(DQ11*DQ12) -> 0.20701967 | DU12: 1.25 | DV12: =(DS12/100)*(DT12^2)*DU12 -> 0 | DX12: 28 | DY12: 100 | DZ12: =DY11-DY12 -> 0 | EA12: =6/SQRT(DX11*DX12) -> 0.20701967 | EB12: 1.25 | EC12: =(DZ12/100)*(EA12^2)*EB12 -> 0 | EE12: 28 | EF12: 95 | EG12: =EF11-EF12 -> 5 | EH12: =6/SQRT(EE11*EE12) -> 0.20701967 | EI12: 1.25 | EJ12: =(EG12/100)*(EH12^2)*EI12 -> 0.0026785714 | EL12: 28 | EM12: 100 | EN12: =EM11-EM12 -> 0 | EO12: =6/SQRT(EL11*EL12) -> 0.20701967 | EP12: 1.25 | EQ12: =(EN12/100)*(EO12^2)*EP12 -> 0 | ES12: 28 | ET12: 100 | EU12: =ET11-ET12 -> 0 | EV12: =6/SQRT(ES11*ES12) -> 0.20701967 | EW12: 1.25 | EX12: =(EU12/100)*(EV12^2)*EW12 -> 0
B13: 20 | C13: 91 | D13: =C12-C13 -> 2 | E13: =6/SQRT(B12*B13) -> 0.25354628 | F13: 1.25 | G13: =(D13/100)*(E13^2)*F13 -> 0.0016071429 | I13: 20 | J13: 76 | K13: =J12-J13 -> 17 | L13: =6/SQRT(I12*I13) -> 0.25354628 | M13: 1.25 | N13: =(K13/100)*(L13^2)*M13 -> 0.013660714 | P13: 20 | Q13: 76 | R13: =Q12-Q13 -> 13 | S13: =6/SQRT(P12*P13) -> 0.25354628 | T13: 1.25 | U13: =(R13/100)*(S13^2)*T13 -> 0.010446429 | W13: 20 | X13: 55 | Y13: =X12-X13 -> 16 | Z13: =6/SQRT(W12*W13) -> 0.25354628 | AA13: 1.25 | AB13: =(Y13/100)*(Z13^2)*AA13 -> 0.012857143 | AD13: 20 | AE13: 84 | AF13: =AE12-AE13 -> 5 | AG13: =6/SQRT(AD12*AD13) -> 0.25354628 | AH13: 1.25 | AI13: =(AF13/100)*(AG13^2)*AH13 -> 0.0040178571 | AK13: 20 | AL13: 46 | AM13: =AL12-AL13 -> 2 | AN13: =6/SQRT(AK12*AK13) -> 0.25354628 | AO13: 1.25 | AP13: =(AM13/100)*(AN13^2)*AO13 -> 0.0016071429 | AR13: 20 | AS13: 98 | AT13: =AS12-AS13 -> 2 | AU13: =6/SQRT(AR12*AR13) -> 0.25354628 | AV13: 1.25 | AW13: =(AT13/100)*(AU13^2)*AV13 -> 0.0016071429 | AY13: 20 | AZ13: 99 | BA13: =AZ12-AZ13 -> 1 | BB13: =6/SQRT(AY12*AY13) -> 0.25354628 | BC13: 1.25 | BD13: =(BA13/100)*(BB13^2)*BC13 -> 0.00080357143 | BF13: 20 | BG13: 92 | BH13: =BG12-BG13 -> 4 | BI13: =6/SQRT(BF12*BF13) -> 0.25354628 | BJ13: 1.25 | BK13: =(BH13/100)*(BI13^2)*BJ13 -> 0.0032142857 | BM13: 20 | BN13: 99 | BO13: =BN12-BN13 -> 1 | BP13: =6/SQRT(BM12*BM13) -> 0.25354628 | BQ13: 1.25 | BR13: =(BO13/100)*(BP13^2)*BQ13 -> 0.00080357143 | BT13: 20 | BU13: 100 | BV13: =BU12-BU13 -> 0 | BW13: =6/SQRT(BT12*BT13) -> 0.25354628 | BX13: 1.25 | BY13: =(BV13/100)*(BW13^2)*BX13 -> 0 | CA13: 20 | CB13: 96 | CC13: =CB12-CB13 -> 2 | CD13: =6/SQRT(CA12*CA13) -> 0.25354628 | CE13: 1.25 | CF13: =(CC13/100)*(CD13^2)*CE13 -> 0.0016071429 | CH13: 20 | CI13: 100 | CJ13: =CI12-CI13 -> 0 | CK13: =6/SQRT(CH12*CH13) -> 0.25354628 | CL13: 1.25 | CM13: =(CJ13/100)*(CK13^2)*CL13 -> 0 | CO13: 20 | CP13: 96 | CQ13: =CP12-CP13 -> 0 | CR13: =6/SQRT(CO12*CO13) -> 0.25354628 | CS13: 1.25 | CT13: =(CQ13/100)*(CR13^2)*CS13 -> 0 | CV13: 20 | CW13: 52 | CX13: =CW12-CW13 -> 8 | CY13: =6/SQRT(CV12*CV13) -> 0.25354628 | CZ13: 1.25 | DA13: =(CX13/100)*(CY13^2)*CZ13 -> 0.0064285714 | DC13: 20 | DD13: 94 | DE13: =DD12-DD13 -> 6 | DF13: =6/SQRT(DC12*DC13) -> 0.25354628 | DG13: 1.25 | DH13: =(DE13/100)*(DF13^2)*DG13 -> 0.0048214286 | DJ13: 20 | DK13: 96 | DL13: =DK12-DK13 -> 4 | DM13: =6/SQRT(DJ12*DJ13) -> 0.25354628 | DN13: 1.25 | DO13: =(DL13/100)*(DM13^2)*DN13 -> 0.0032142857 | DQ13: 20 | DR13: 91 | DS13: =DR12-DR13 -> 9 | DT13: =6/SQRT(DQ12*DQ13) -> 0.25354628 | DU13: 1.25 | DV13: =(DS13/100)*(DT13^2)*DU13 -> 0.0072321429 | DX13: 20 | DY13: 95 | DZ13: =DY12-DY13 -> 5 | EA13: =6/SQRT(DX12*DX13) -> 0.25354628 | EB13: 1.25 | EC13: =(DZ13/100)*(EA13^2)*EB13 -> 0.0040178571 | EE13: 20 | EF13: 86 | EG13: =EF12-EF13 -> 9 | EH13: =6/SQRT(EE12*EE13) -> 0.25354628 | EI13: 1.25 | EJ13: =(EG13/100)*(EH13^2)*EI13 -> 0.0072321429 | EL13: 20 | EM13: 98 | EN13: =EM12-EM13 -> 2 | EO13: =6/SQRT(EL12*EL13) -> 0.25354628 | EP13: 1.25 | EQ13: =(EN13/100)*(EO13^2)*EP13 -> 0.0016071429 | ES13: 20 | ET13: 99 | EU13: =ET12-ET13 -> 1 | EV13: =6/SQRT(ES12*ES13) -> 0.25354628 | EW13: 1.25 | EX13: =(EU13/100)*(EV13^2)*EW13 -> 0.00080357143
B14: 14 | C14: 85 | D14: =C13-C14 -> 6 | E14: =6/SQRT(B13*B14) -> 0.35856858 | F14: 1.25 | G14: =(D14/100)*(E14^2)*F14 -> 0.0096428571 | I14: 14 | J14: 76 | K14: =J13-J14 -> 0 | L14: =6/SQRT(I13*I14) -> 0.35856858 | M14: 1.25 | N14: =(K14/100)*(L14^2)*M14 -> 0 | P14: 14 | Q14: 61 | R14: =Q13-Q14 -> 15 | S14: =6/SQRT(P13*P14) -> 0.35856858 | T14: 1.25 | U14: =(R14/100)*(S14^2)*T14 -> 0.024107143 | W14: 14 | X14: 47 | Y14: =X13-X14 -> 8 | Z14: =6/SQRT(W13*W14) -> 0.35856858 | AA14: 1.25 | AB14: =(Y14/100)*(Z14^2)*AA14 -> 0.012857143 | AD14: 14 | AE14: 84 | AF14: =AE13-AE14 -> 0 | AG14: =6/SQRT(AD13*AD14) -> 0.35856858 | AH14: 1.25 | AI14: =(AF14/100)*(AG14^2)*AH14 -> 0 | AK14: 14 | AL14: 44 | AM14: =AL13-AL14 -> 2 | AN14: =6/SQRT(AK13*AK14) -> 0.35856858 | AO14: 1.25 | AP14: =(AM14/100)*(AN14^2)*AO14 -> 0.0032142857 | AR14: 14 | AS14: 95 | AT14: =AS13-AS14 -> 3 | AU14: =6/SQRT(AR13*AR14) -> 0.35856858 | AV14: 1.25 | AW14: =(AT14/100)*(AU14^2)*AV14 -> 0.0048214286 | AY14: 14 | AZ14: 97 | BA14: =AZ13-AZ14 -> 2 | BB14: =6/SQRT(AY13*AY14) -> 0.35856858 | BC14: 1.25 | BD14: =(BA14/100)*(BB14^2)*BC14 -> 0.0032142857 | BF14: 14 | BG14: 92 | BH14: =BG13-BG14 -> 0 | BI14: =6/SQRT(BF13*BF14) -> 0.35856858 | BJ14: 1.25 | BK14: =(BH14/100)*(BI14^2)*BJ14 -> 0 | BM14: 14 | BN14: 90 | BO14: =BN13-BN14 -> 9 | BP14: =6/SQRT(BM13*BM14) -> 0.35856858 | BQ14: 1.25 | BR14: =(BO14/100)*(BP14^2)*BQ14 -> 0.014464286 | BT14: 14 | BU14: 100 | BV14: =BU13-BU14 -> 0 | BW14: =6/SQRT(BT13*BT14) -> 0.35856858 | BX14: 1.25 | BY14: =(BV14/100)*(BW14^2)*BX14 -> 0 | CA14: 14 | CB14: 91 | CC14: =CB13-CB14 -> 5 | CD14: =6/SQRT(CA13*CA14) -> 0.35856858 | CE14: 1.25 | CF14: =(CC14/100)*(CD14^2)*CE14 -> 0.0080357143 | CH14: 14 | CI14: 100 | CJ14: =CI13-CI14 -> 0 | CK14: =6/SQRT(CH13*CH14) -> 0.35856858 | CL14: 1.25 | CM14: =(CJ14/100)*(CK14^2)*CL14 -> 0 | CO14: 14 | CP14: 96 | CQ14: =CP13-CP14 -> 0 | CR14: =6/SQRT(CO13*CO14) -> 0.35856858 | CS14: 1.25 | CT14: =(CQ14/100)*(CR14^2)*CS14 -> 0 | CV14: 14 | CW14: 44 | CX14: =CW13-CW14 -> 8 | CY14: =6/SQRT(CV13*CV14) -> 0.35856858 | CZ14: 1.25 | DA14: =(CX14/100)*(CY14^2)*CZ14 -> 0.012857143 | DC14: 14 | DD14: 86 | DE14: =DD13-DD14 -> 8 | DF14: =6/SQRT(DC13*DC14) -> 0.35856858 | DG14: 1.25 | DH14: =(DE14/100)*(DF14^2)*DG14 -> 0.012857143 | DJ14: 14 | DK14: 94 | DL14: =DK13-DK14 -> 2 | DM14: =6/SQRT(DJ13*DJ14) -> 0.35856858 | DN14: 1.25 | DO14: =(DL14/100)*(DM14^2)*DN14 -> 0.0032142857 | DQ14: 14 | DR14: 80 | DS14: =DR13-DR14 -> 11 | DT14: =6/SQRT(DQ13*DQ14) -> 0.35856858 | DU14: 1.25 | DV14: =(DS14/100)*(DT14^2)*DU14 -> 0.017678571 | DX14: 14 | DY14: 91 | DZ14: =DY13-DY14 -> 4 | EA14: =6/SQRT(DX13*DX14) -> 0.35856858 | EB14: 1.25 | EC14: =(DZ14/100)*(EA14^2)*EB14 -> 0.0064285714 | EE14: 14 | EF14: 79 | EG14: =EF13-EF14 -> 7 | EH14: =6/SQRT(EE13*EE14) -> 0.35856858 | EI14: 1.25 | EJ14: =(EG14/100)*(EH14^2)*EI14 -> 0.01125 | EL14: 14 | EM14: 97 | EN14: =EM13-EM14 -> 1 | EO14: =6/SQRT(EL13*EL14) -> 0.35856858 | EP14: 1.25 | EQ14: =(EN14/100)*(EO14^2)*EP14 -> 0.0016071429 | ES14: 14 | ET14: 95 | EU14: =ET13-ET14 -> 4 | EV14: =6/SQRT(ES13*ES14) -> 0.35856858 | EW14: 1.25 | EX14: =(EU14/100)*(EV14^2)*EW14 -> 0.0064285714
B15: 10 | C15: 82 | D15: =C14-C15 -> 3 | E15: =6/SQRT(B14*B15) -> 0.50709255 | F15: 1.25 | G15: =(D15/100)*(E15^2)*F15 -> 0.0096428571 | I15: 10 | J15: 76 | K15: =J14-J15 -> 0 | L15: =6/SQRT(I14*I15) -> 0.50709255 | M15: 1.25 | N15: =(K15/100)*(L15^2)*M15 -> 0 | P15: 10 | Q15: 55 | R15: =Q14-Q15 -> 6 | S15: =6/SQRT(P14*P15) -> 0.50709255 | T15: 1.25 | U15: =(R15/100)*(S15^2)*T15 -> 0.019285714 | W15: 10 | X15: 41 | Y15: =X14-X15 -> 6 | Z15: =6/SQRT(W14*W15) -> 0.50709255 | AA15: 1.25 | AB15: =(Y15/100)*(Z15^2)*AA15 -> 0.019285714 | AD15: 10 | AE15: 84 | AF15: =AE14-AE15 -> 0 | AG15: =6/SQRT(AD14*AD15) -> 0.50709255 | AH15: 1.25 | AI15: =(AF15/100)*(AG15^2)*AH15 -> 0 | AK15: 10 | AL15: 42 | AM15: =AL14-AL15 -> 2 | AN15: =6/SQRT(AK14*AK15) -> 0.50709255 | AO15: 1.25 | AP15: =(AM15/100)*(AN15^2)*AO15 -> 0.0064285714 | AR15: 10 | AS15: 93 | AT15: =AS14-AS15 -> 2 | AU15: =6/SQRT(AR14*AR15) -> 0.50709255 | AV15: 1.25 | AW15: =(AT15/100)*(AU15^2)*AV15 -> 0.0064285714 | AY15: 10 | AZ15: 97 | BA15: =AZ14-AZ15 -> 0 | BB15: =6/SQRT(AY14*AY15) -> 0.50709255 | BC15: 1.25 | BD15: =(BA15/100)*(BB15^2)*BC15 -> 0 | BF15: 10 | BG15: 87 | BH15: =BG14-BG15 -> 5 | BI15: =6/SQRT(BF14*BF15) -> 0.50709255 | BJ15: 1.25 | BK15: =(BH15/100)*(BI15^2)*BJ15 -> 0.016071429 | BM15: 10 | BN15: 87 | BO15: =BN14-BN15 -> 3 | BP15: =6/SQRT(BM14*BM15) -> 0.50709255 | BQ15: 1.25 | BR15: =(BO15/100)*(BP15^2)*BQ15 -> 0.0096428571 | BT15: 10 | BU15: 100 | BV15: =BU14-BU15 -> 0 | BW15: =6/SQRT(BT14*BT15) -> 0.50709255 | BX15: 1.25 | BY15: =(BV15/100)*(BW15^2)*BX15 -> 0 | CA15: 10 | CB15: 88 | CC15: =CB14-CB15 -> 3 | CD15: =6/SQRT(CA14*CA15) -> 0.50709255 | CE15: 1.25 | CF15: =(CC15/100)*(CD15^2)*CE15 -> 0.0096428571 | CH15: 10 | CI15: 100 | CJ15: =CI14-CI15 -> 0 | CK15: =6/SQRT(CH14*CH15) -> 0.50709255 | CL15: 1.25 | CM15: =(CJ15/100)*(CK15^2)*CL15 -> 0 | CO15: 10 | CP15: 96 | CQ15: =CP14-CP15 -> 0 | CR15: =6/SQRT(CO14*CO15) -> 0.50709255 | CS15: 1.25 | CT15: =(CQ15/100)*(CR15^2)*CS15 -> 0 | CV15: 10 | CW15: 37 | CX15: =CW14-CW15 -> 7 | CY15: =6/SQRT(CV14*CV15) -> 0.50709255 | CZ15: 1.25 | DA15: =(CX15/100)*(CY15^2)*CZ15 -> 0.0225 | DC15: 10 | DD15: 82 | DE15: =DD14-DD15 -> 4 | DF15: =6/SQRT(DC14*DC15) -> 0.50709255 | DG15: 1.25 | DH15: =(DE15/100)*(DF15^2)*DG15 -> 0.012857143 | DJ15: 10 | DK15: 94 | DL15: =DK14-DK15 -> 0 | DM15: =6/SQRT(DJ14*DJ15) -> 0.50709255 | DN15: 1.25 | DO15: =(DL15/100)*(DM15^2)*DN15 -> 0 | DQ15: 10 | DR15: 75 | DS15: =DR14-DR15 -> 5 | DT15: =6/SQRT(DQ14*DQ15) -> 0.50709255 | DU15: 1.25 | DV15: =(DS15/100)*(DT15^2)*DU15 -> 0.016071429 | DX15: 10 | DY15: 86 | DZ15: =DY14-DY15 -> 5 | EA15: =6/SQRT(DX14*DX15) -> 0.50709255 | EB15: 1.25 | EC15: =(DZ15/100)*(EA15^2)*EB15 -> 0.016071429 | EE15: 10 | EF15: 74 | EG15: =EF14-EF15 -> 5 | EH15: =6/SQRT(EE14*EE15) -> 0.50709255 | EI15: 1.25 | EJ15: =(EG15/100)*(EH15^2)*EI15 -> 0.016071429 | EL15: 10 | EM15: 92 | EN15: =EM14-EM15 -> 5 | EO15: =6/SQRT(EL14*EL15) -> 0.50709255 | EP15: 1.25 | EQ15: =(EN15/100)*(EO15^2)*EP15 -> 0.016071429 | ES15: 10 | ET15: 94 | EU15: =ET14-ET15 -> 1 | EV15: =6/SQRT(ES14*ES15) -> 0.50709255 | EW15: 1.25 | EX15: =(EU15/100)*(EV15^2)*EW15 -> 0.0032142857
B16: 6.3 | C16: 73 | D16: =C15-C16 -> 9 | E16: =6/SQRT(B15*B16) -> 0.75592895 | F16: 1.25 | G16: =(D16/100)*(E16^2)*F16 -> 0.064285714 | I16: 6.3 | J16: 73 | K16: =J15-J16 -> 3 | L16: =6/SQRT(I15*I16) -> 0.75592895 | M16: 1.25 | N16: =(K16/100)*(L16^2)*M16 -> 0.021428571 | P16: 6.3 | Q16: 49 | R16: =Q15-Q16 -> 6 | S16: =6/SQRT(P15*P16) -> 0.75592895 | T16: 1.25 | U16: =(R16/100)*(S16^2)*T16 -> 0.042857143 | W16: 6.3 | X16: 35 | Y16: =X15-X16 -> 6 | Z16: =6/SQRT(W15*W16) -> 0.75592895 | AA16: 1.25 | AB16: =(Y16/100)*(Z16^2)*AA16 -> 0.042857143 | AD16: 6.3 | AE16: 83 | AF16: =AE15-AE16 -> 1 | AG16: =6/SQRT(AD15*AD16) -> 0.75592895 | AH16: 1.25 | AI16: =(AF16/100)*(AG16^2)*AH16 -> 0.0071428571 | AK16: 6.3 | AL16: 41 | AM16: =AL15-AL16 -> 1 | AN16: =6/SQRT(AK15*AK16) -> 0.75592895 | AO16: 1.25 | AP16: =(AM16/100)*(AN16^2)*AO16 -> 0.0071428571 | AR16: 6.3 | AS16: 90 | AT16: =AS15-AS16 -> 3 | AU16: =6/SQRT(AR15*AR16) -> 0.75592895 | AV16: 1.25 | AW16: =(AT16/100)*(AU16^2)*AV16 -> 0.021428571 | AY16: 6.3 | AZ16: 96 | BA16: =AZ15-AZ16 -> 1 | BB16: =6/SQRT(AY15*AY16) -> 0.75592895 | BC16: 1.25 | BD16: =(BA16/100)*(BB16^2)*BC16 -> 0.0071428571 | BF16: 6.3 | BG16: 82 | BH16: =BG15-BG16 -> 5 | BI16: =6/SQRT(BF15*BF16) -> 0.75592895 | BJ16: 1.25 | BK16: =(BH16/100)*(BI16^2)*BJ16 -> 0.035714286 | BM16: 6.3 | BN16: 83 | BO16: =BN15-BN16 -> 4 | BP16: =6/SQRT(BM15*BM16) -> 0.75592895 | BQ16: 1.25 | BR16: =(BO16/100)*(BP16^2)*BQ16 -> 0.028571429 | BT16: 6.3 | BU16: 99 | BV16: =BU15-BU16 -> 1 | BW16: =6/SQRT(BT15*BT16) -> 0.75592895 | BX16: 1.25 | BY16: =(BV16/100)*(BW16^2)*BX16 -> 0.0071428571 | CA16: 6.3 | CB16: 85 | CC16: =CB15-CB16 -> 3 | CD16: =6/SQRT(CA15*CA16) -> 0.75592895 | CE16: 1.25 | CF16: =(CC16/100)*(CD16^2)*CE16 -> 0.021428571 | CH16: 6.3 | CI16: 99 | CJ16: =CI15-CI16 -> 1 | CK16: =6/SQRT(CH15*CH16) -> 0.75592895 | CL16: 1.25 | CM16: =(CJ16/100)*(CK16^2)*CL16 -> 0.0071428571 | CO16: 6.3 | CP16: 95 | CQ16: =CP15-CP16 -> 1 | CR16: =6/SQRT(CO15*CO16) -> 0.75592895 | CS16: 1.25 | CT16: =(CQ16/100)*(CR16^2)*CS16 -> 0.0071428571 | CV16: 6.3 | CW16: 32 | CX16: =CW15-CW16 -> 5 | CY16: =6/SQRT(CV15*CV16) -> 0.75592895 | CZ16: 1.25 | DA16: =(CX16/100)*(CY16^2)*CZ16 -> 0.035714286 | DC16: 6.3 | DD16: 77 | DE16: =DD15-DD16 -> 5 | DF16: =6/SQRT(DC15*DC16) -> 0.75592895 | DG16: 1.25 | DH16: =(DE16/100)*(DF16^2)*DG16 -> 0.035714286 | DJ16: 6.3 | DK16: 92 | DL16: =DK15-DK16 -> 2 | DM16: =6/SQRT(DJ15*DJ16) -> 0.75592895 | DN16: 1.25 | DO16: =(DL16/100)*(DM16^2)*DN16 -> 0.014285714 | DQ16: 6.3 | DR16: 70 | DS16: =DR15-DR16 -> 5 | DT16: =6/SQRT(DQ15*DQ16) -> 0.75592895 | DU16: 1.25 | DV16: =(DS16/100)*(DT16^2)*DU16 -> 0.035714286 | DX16: 6.3 | DY16: 81 | DZ16: =DY15-DY16 -> 5 | EA16: =6/SQRT(DX15*DX16) -> 0.75592895 | EB16: 1.25 | EC16: =(DZ16/100)*(EA16^2)*EB16 -> 0.035714286 | EE16: 6.3 | EF16: 67 | EG16: =EF15-EF16 -> 7 | EH16: =6/SQRT(EE15*EE16) -> 0.75592895 | EI16: 1.25 | EJ16: =(EG16/100)*(EH16^2)*EI16 -> 0.05 | EL16: 6.3 | EM16: 90 | EN16: =EM15-EM16 -> 2 | EO16: =6/SQRT(EL15*EL16) -> 0.75592895 | EP16: 1.25 | EQ16: =(EN16/100)*(EO16^2)*EP16 -> 0.014285714 | ES16: 6.3 | ET16: 92 | EU16: =ET15-ET16 -> 2 | EV16: =6/SQRT(ES15*ES16) -> 0.75592895 | EW16: 1.25 | EX16: =(EU16/100)*(EV16^2)*EW16 -> 0.014285714
B17: 5 | C17: 70 | D17: =C16-C17 -> 3 | E17: =6/SQRT(B16*B17) -> 1.069045 | F17: 1.25 | G17: =(D17/100)*(E17^2)*F17 -> 0.042857143 | I17: 5 | J17: 72 | K17: =J16-J17 -> 1 | L17: =6/SQRT(I16*I17) -> 1.069045 | M17: 1.25 | N17: =(K17/100)*(L17^2)*M17 -> 0.014285714 | P17: 5 | Q17: 47 | R17: =Q16-Q17 -> 2 | S17: =6/SQRT(P16*P17) -> 1.069045 | T17: 1.25 | U17: =(R17/100)*(S17^2)*T17 -> 0.028571429 | W17: 5 | X17: 31 | Y17: =X16-X17 -> 4 | Z17: =6/SQRT(W16*W17) -> 1.069045 | AA17: 1.25 | AB17: =(Y17/100)*(Z17^2)*AA17 -> 0.057142857 | AD17: 5 | AE17: 83 | AF17: =AE16-AE17 -> 0 | AG17: =6/SQRT(AD16*AD17) -> 1.069045 | AH17: 1.25 | AI17: =(AF17/100)*(AG17^2)*AH17 -> 0 | AK17: 5 | AL17: 40 | AM17: =AL16-AL17 -> 1 | AN17: =6/SQRT(AK16*AK17) -> 1.069045 | AO17: 1.25 | AP17: =(AM17/100)*(AN17^2)*AO17 -> 0.014285714 | AR17: 5 | AS17: 89 | AT17: =AS16-AS17 -> 1 | AU17: =6/SQRT(AR16*AR17) -> 1.069045 | AV17: 1.25 | AW17: =(AT17/100)*(AU17^2)*AV17 -> 0.014285714 | AY17: 5 | AZ17: 96 | BA17: =AZ16-AZ17 -> 0 | BB17: =6/SQRT(AY16*AY17) -> 1.069045 | BC17: 1.25 | BD17: =(BA17/100)*(BB17^2)*BC17 -> 0 | BF17: 5 | BG17: 80 | BH17: =BG16-BG17 -> 2 | BI17: =6/SQRT(BF16*BF17) -> 1.069045 | BJ17: 1.25 | BK17: =(BH17/100)*(BI17^2)*BJ17 -> 0.028571429 | BM17: 5 | BN17: 82 | BO17: =BN16-BN17 -> 1 | BP17: =6/SQRT(BM16*BM17) -> 1.069045 | BQ17: 1.25 | BR17: =(BO17/100)*(BP17^2)*BQ17 -> 0.014285714 | BT17: 5 | BU17: 99 | BV17: =BU16-BU17 -> 0 | BW17: =6/SQRT(BT16*BT17) -> 1.069045 | BX17: 1.25 | BY17: =(BV17/100)*(BW17^2)*BX17 -> 0 | CA17: 5 | CB17: 83 | CC17: =CB16-CB17 -> 2 | CD17: =6/SQRT(CA16*CA17) -> 1.069045 | CE17: 1.25 | CF17: =(CC17/100)*(CD17^2)*CE17 -> 0.028571429 | CH17: 5 | CI17: 99 | CJ17: =CI16-CI17 -> 0 | CK17: =6/SQRT(CH16*CH17) -> 1.069045 | CL17: 1.25 | CM17: =(CJ17/100)*(CK17^2)*CL17 -> 0 | CO17: 5 | CP17: 95 | CQ17: =CP16-CP17 -> 0 | CR17: =6/SQRT(CO16*CO17) -> 1.069045 | CS17: 1.25 | CT17: =(CQ17/100)*(CR17^2)*CS17 -> 0 | CV17: 5 | CW17: 31 | CX17: =CW16-CW17 -> 1 | CY17: =6/SQRT(CV16*CV17) -> 1.069045 | CZ17: 1.25 | DA17: =(CX17/100)*(CY17^2)*CZ17 -> 0.014285714 | DC17: 5 | DD17: 75 | DE17: =DD16-DD17 -> 2 | DF17: =6/SQRT(DC16*DC17) -> 1.069045 | DG17: 1.25 | DH17: =(DE17/100)*(DF17^2)*DG17 -> 0.028571429 | DJ17: 5 | DK17: 91 | DL17: =DK16-DK17 -> 1 | DM17: =6/SQRT(DJ16*DJ17) -> 1.069045 | DN17: 1.25 | DO17: =(DL17/100)*(DM17^2)*DN17 -> 0.014285714 | DQ17: 5 | DR17: 68 | DS17: =DR16-DR17 -> 2 | DT17: =6/SQRT(DQ16*DQ17) -> 1.069045 | DU17: 1.25 | DV17: =(DS17/100)*(DT17^2)*DU17 -> 0.028571429 | DX17: 5 | DY17: 79 | DZ17: =DY16-DY17 -> 2 | EA17: =6/SQRT(DX16*DX17) -> 1.069045 | EB17: 1.25 | EC17: =(DZ17/100)*(EA17^2)*EB17 -> 0.028571429 | EE17: 5 | EF17: 66 | EG17: =EF16-EF17 -> 1 | EH17: =6/SQRT(EE16*EE17) -> 1.069045 | EI17: 1.25 | EJ17: =(EG17/100)*(EH17^2)*EI17 -> 0.014285714 | EL17: 5 | EM17: 88 | EN17: =EM16-EM17 -> 2 | EO17: =6/SQRT(EL16*EL17) -> 1.069045 | EP17: 1.25 | EQ17: =(EN17/100)*(EO17^2)*EP17 -> 0.028571429 | ES17: 5 | ET17: 91 | EU17: =ET16-ET17 -> 1 | EV17: =6/SQRT(ES16*ES17) -> 1.069045 | EW17: 1.25 | EX17: =(EU17/100)*(EV17^2)*EW17 -> 0.014285714
B18: 3.35 | C18: 67 | D18: =C17-C18 -> 3 | E18: =6/SQRT(B17*B18) -> 1.4660333 | F18: 1.25 | G18: =(D18/100)*(E18^2)*F18 -> 0.080597015 | I18: 3.35 | J18: 69 | K18: =J17-J18 -> 3 | L18: =6/SQRT(I17*I18) -> 1.4660333 | M18: 1.25 | N18: =(K18/100)*(L18^2)*M18 -> 0.080597015 | P18: 3.35 | Q18: 44 | R18: =Q17-Q18 -> 3 | S18: =6/SQRT(P17*P18) -> 1.4660333 | T18: 1.25 | U18: =(R18/100)*(S18^2)*T18 -> 0.080597015 | W18: 3.35 | X18: 26 | Y18: =X17-X18 -> 5 | Z18: =6/SQRT(W17*W18) -> 1.4660333 | AA18: 1.25 | AB18: =(Y18/100)*(Z18^2)*AA18 -> 0.13432836 | AD18: 3.35 | AE18: 81 | AF18: =AE17-AE18 -> 2 | AG18: =6/SQRT(AD17*AD18) -> 1.4660333 | AH18: 1.25 | AI18: =(AF18/100)*(AG18^2)*AH18 -> 0.053731343 | AK18: 3.35 | AL18: 40 | AM18: =AL17-AL18 -> 0 | AN18: =6/SQRT(AK17*AK18) -> 1.4660333 | AO18: 1.25 | AP18: =(AM18/100)*(AN18^2)*AO18 -> 0 | AR18: 3.35 | AS18: 87 | AT18: =AS17-AS18 -> 2 | AU18: =6/SQRT(AR17*AR18) -> 1.4660333 | AV18: 1.25 | AW18: =(AT18/100)*(AU18^2)*AV18 -> 0.053731343 | AY18: 3.35 | AZ18: 96 | BA18: =AZ17-AZ18 -> 0 | BB18: =6/SQRT(AY17*AY18) -> 1.4660333 | BC18: 1.25 | BD18: =(BA18/100)*(BB18^2)*BC18 -> 0 | BF18: 3.35 | BG18: 77 | BH18: =BG17-BG18 -> 3 | BI18: =6/SQRT(BF17*BF18) -> 1.4660333 | BJ18: 1.25 | BK18: =(BH18/100)*(BI18^2)*BJ18 -> 0.080597015 | BM18: 3.35 | BN18: 79 | BO18: =BN17-BN18 -> 3 | BP18: =6/SQRT(BM17*BM18) -> 1.4660333 | BQ18: 1.25 | BR18: =(BO18/100)*(BP18^2)*BQ18 -> 0.080597015 | BT18: 3.35 | BU18: 98 | BV18: =BU17-BU18 -> 1 | BW18: =6/SQRT(BT17*BT18) -> 1.4660333 | BX18: 1.25 | BY18: =(BV18/100)*(BW18^2)*BX18 -> 0.026865672 | CA18: 3.35 | CB18: 80 | CC18: =CB17-CB18 -> 3 | CD18: =6/SQRT(CA17*CA18) -> 1.4660333 | CE18: 1.25 | CF18: =(CC18/100)*(CD18^2)*CE18 -> 0.080597015 | CH18: 3.35 | CI18: 98 | CJ18: =CI17-CI18 -> 1 | CK18: =6/SQRT(CH17*CH18) -> 1.4660333 | CL18: 1.25 | CM18: =(CJ18/100)*(CK18^2)*CL18 -> 0.026865672 | CO18: 3.35 | CP18: 94 | CQ18: =CP17-CP18 -> 1 | CR18: =6/SQRT(CO17*CO18) -> 1.4660333 | CS18: 1.25 | CT18: =(CQ18/100)*(CR18^2)*CS18 -> 0.026865672 | CV18: 3.35 | CW18: 29 | CX18: =CW17-CW18 -> 2 | CY18: =6/SQRT(CV17*CV18) -> 1.4660333 | CZ18: 1.25 | DA18: =(CX18/100)*(CY18^2)*CZ18 -> 0.053731343 | DC18: 3.35 | DD18: 73 | DE18: =DD17-DD18 -> 2 | DF18: =6/SQRT(DC17*DC18) -> 1.4660333 | DG18: 1.25 | DH18: =(DE18/100)*(DF18^2)*DG18 -> 0.053731343 | DJ18: 3.35 | DK18: 90 | DL18: =DK17-DK18 -> 1 | DM18: =6/SQRT(DJ17*DJ18) -> 1.4660333 | DN18: 1.25 | DO18: =(DL18/100)*(DM18^2)*DN18 -> 0.026865672 | DQ18: 3.35 | DR18: 65 | DS18: =DR17-DR18 -> 3 | DT18: =6/SQRT(DQ17*DQ18) -> 1.4660333 | DU18: 1.25 | DV18: =(DS18/100)*(DT18^2)*DU18 -> 0.080597015 | DX18: 3.35 | DY18: 76 | DZ18: =DY17-DY18 -> 3 | EA18: =6/SQRT(DX17*DX18) -> 1.4660333 | EB18: 1.25 | EC18: =(DZ18/100)*(EA18^2)*EB18 -> 0.080597015 | EE18: 3.35 | EF18: 64 | EG18: =EF17-EF18 -> 2 | EH18: =6/SQRT(EE17*EE18) -> 1.4660333 | EI18: 1.25 | EJ18: =(EG18/100)*(EH18^2)*EI18 -> 0.053731343 | EL18: 3.35 | EM18: 86 | EN18: =EM17-EM18 -> 2 | EO18: =6/SQRT(EL17*EL18) -> 1.4660333 | EP18: 1.25 | EQ18: =(EN18/100)*(EO18^2)*EP18 -> 0.053731343 | ES18: 3.35 | ET18: 89 | EU18: =ET17-ET18 -> 2 | EV18: =6/SQRT(ES17*ES18) -> 1.4660333 | EW18: 1.25 | EX18: =(EU18/100)*(EV18^2)*EW18 -> 0.053731343
... B26: 0.063 | C26: 42 | D26: =C25-C26 -> 3 | E26: =6/SQRT(B25*B26) -> 61.72134 | F26: 1.25 | G26: =(D26/100)*(E26^2)*F26 -> 142.85714 | I26: 0.063 | J26: 16 | K26: =J25-J26 -> 4 | L26: =6/SQRT(I25*I26) -> 61.72134 | M26: 1.25 | N26: =(K26/100)*(L26^2)*M26 -> 190.47619 | P26: 0.063 | Q26: 30 | R26: =Q25-Q26 -> 2 | S26: =6/SQRT(P25*P26) -> 61.72134 | T26: 1.25 | U26: =(R26/100)*(S26^2)*T26 -> 95.238095 | W26: 0.063 | X26: 9 | Y26: =X25-X26 -> 1 | Z26: =6/SQRT(W25*W26) -> 61.72134 | AA26: 1.25 | AB26: =(Y26/100)*(Z26^2)*AA26 -> 47.619048 | AD26: 0.063 | AE26: 18 | AF26: =AE25-AE26 -> 3 | AG26: =6/SQRT(AD25*AD26) -> 61.72134 | AH26: 1.25 | AI26: =(AF26/100)*(AG26^2)*AH26 -> 142.85714 | AK26: 0.063 | AL26: 24 | AM26: =AL25-AL26 -> 3 | AN26: =6/SQRT(AK25*AK26) -> 61.72134 | AO26: 1.25 | AP26: =(AM26/100)*(AN26^2)*AO26 -> 142.85714 | AR26: 0.063 | AS26: 40 | AT26: =AS25-AS26 -> 6 | AU26: =6/SQRT(AR25*AR26) -> 61.72134 | AV26: 1.25 | AW26: =(AT26/100)*(AU26^2)*AV26 -> 285.71429 | AY26: 0.063 | AZ26: 31 | BA26: =AZ25-AZ26 -> 8 | BB26: =6/SQRT(AY25*AY26) -> 61.72134 | BC26: 1.25 | BD26: =(BA26/100)*(BB26^2)*BC26 -> 380.95238 | BF26: 0.063 | BG26: 46 | BH26: =BG25-BG26 -> 4 | BI26: =6/SQRT(BF25*BF26) -> 61.72134 | BJ26: 1.25 | BK26: =(BH26/100)*(BI26^2)*BJ26 -> 190.47619 | BM26: 0.063 | BN26: 44 | BO26: =BN25-BN26 -> 3 | BP26: =6/SQRT(BM25*BM26) -> 61.72134 | BQ26: 1.25 | BR26: =(BO26/100)*(BP26^2)*BQ26 -> 142.85714 | BT26: 0.063 | BU26: 53 | BV26: =BU25-BU26 -> 10 | BW26: =6/SQRT(BT25*BT26) -> 61.72134 | BX26: 1.25 | BY26: =(BV26/100)*(BW26^2)*BX26 -> 476.19048 | CA26: 0.063 | CB26: 48 | CC26: =CB25-CB26 -> 4 | CD26: =6/SQRT(CA25*CA26) -> 61.72134 | CE26: 1.25 | CF26: =(CC26/100)*(CD26^2)*CE26 -> 190.47619 | CH26: 0.063 | CI26: 76 | CJ26: =CI25-CI26 -> 1 | CK26: =6/SQRT(CH25*CH26) -> 61.72134 | CL26: 1.25 | CM26: =(CJ26/100)*(CK26^2)*CL26 -> 47.619048 | CO26: 0.063 | CP26: 24 | CQ26: =CP25-CP26 -> 6 | CR26: =6/SQRT(CO25*CO26) -> 61.72134 | CS26: 1.25 | CT26: =(CQ26/100)*(CR26^2)*CS26 -> 285.71429 | CV26: 0.063 | CW26: 14 | CX26: =CW25-CW26 -> 2 | CY26: =6/SQRT(CV25*CV26) -> 61.72134 | CZ26: 1.25 | DA26: =(CX26/100)*(CY26^2)*CZ26 -> 95.238095 | DC26: 0.063 | DD26: 31 | DE26: =DD25-DD26 -> 7 | DF26: =6/SQRT(DC25*DC26) -> 61.72134 | DG26: 1.25 | DH26: =(DE26/100)*(DF26^2)*DG26 -> 333.33333 | DJ26: 0.063 | DK26: 85 | DL26: =DK25-DK26 -> 1 | DM26: =6/SQRT(DJ25*DJ26) -> 61.72134 | DN26: 1.25 | DO26: =(DL26/100)*(DM26^2)*DN26 -> 47.619048 | DQ26: 0.063 | DR26: 33 | DS26: =DR25-DR26 -> 4 | DT26: =6/SQRT(DQ25*DQ26) -> 61.72134 | DU26: 1.25 | DV26: =(DS26/100)*(DT26^2)*DU26 -> 190.47619 | DX26: 0.063 | DY26: 47 | DZ26: =DY25-DY26 -> 4 | EA26: =6/SQRT(DX25*DX26) -> 61.72134 | EB26: 1.25 | EC26: =(DZ26/100)*(EA26^2)*EB26 -> 190.47619 | EE26: 0.063 | EF26: 29 | EG26: =EF25-EF26 -> 5 | EH26: =6/SQRT(EE25*EE26) -> 61.72134 | EI26: 1.25 | EJ26: =(EG26/100)*(EH26^2)*EI26 -> 238.09524 | EL26: 0.063 | EM26: 19 | EN26: =EM25-EM26 -> 8 | EO26: =6/SQRT(EL25*EL26) -> 61.72134 | EP26: 1.25 | EQ26: =(EN26/100)*(EO26^2)*EP26 -> 380.95238 | ES26: 0.063 | ET26: 34 | EU26: =ET25-ET26 -> 4 | EV26: =6/SQRT(ES25*ES26) -> 61.72134 | EW26: 1.25 | EX26: =(EU26/100)*(EV26^2)*EW26 -> 190.47619
F27: fS2 = | G27: =SUM(G6:G26) -> 195.7662 | M27: fS2 = | N27: =SUM(N6:N26) -> 298.7327 | T27: fS2 = | U27: =SUM(U6:U26) -> 120.91315 | AA27: fS2 = | AB27: =SUM(AB6:AB26) -> 77.434848 | AH27: fS2 = | AI27: =SUM(AI6:AI26) -> 226.8988 | AO27: fS2 = | AP27: =SUM(AP6:AP26) -> 184.13958 | AV27: fS2 = | AW27: =SUM(AW6:AW26) -> 406.54687 | BC27: fS2 = | BD27: =SUM(BD6:BD26) -> 553.62679 | BJ27: fS2 = | BK27: =SUM(BK6:BK26) -> 266.19156 | BQ27: fS2 = | BR27: =SUM(BR6:BR26) -> 220.27491 | BX27: fS2 = | BY27: =SUM(BY6:BY26) -> 607.43062 | CE27: fS2 = | CF27: =SUM(CF6:CF26) -> 261.89968 | CL27: fS2 = | CM27: =SUM(CM6:CM26) -> 85.64017 | CS27: fS2 = | CT27: =SUM(CT6:CT26) -> 438.84108 | CZ27: fS2 = | DA27: =SUM(DA6:DA26) -> 129.19404 | DG27: fS2 = | DH27: =SUM(DH6:DH26) -> 507.8137 | DN27: fS2 = | DO27: =SUM(DO6:DO26) -> 59.112068 | DU27: fS2 = | DV27: =SUM(DV6:DV26) -> 278.34376 | EB27: fS2 = | EC27: =SUM(EC6:EC26) -> 260.90317 | EI27: fS2 = | EJ27: =SUM(EJ6:EJ26) -> 343.3061 | EP27: fS2 = | EQ27: =SUM(EQ6:EQ26) -> 719.6547 | EW27: fS2 = | EX27: =SUM(EX6:EX26) -> 296.91812
D29: Void Ratio | E29: (formula) | G29: k20 | K29: Void Ratio | L29: (formula) | N29: k20 | R29: Void Ratio | S29: (formula) | U29: k20 | Y29: Void Ratio | Z29: (formula) | AB29: k20 | AF29: Void Ratio | AG29: (formula) | AI29: k20 | AM29: Void Ratio | AN29: (formula) | AP29: k20 | AT29: Void Ratio | AU29: (formula) | AW29: k20 | BA29: Void Ratio | BB29: (formula) | BD29: k20 | BH29: Void Ratio | BI29: (formula) | BK29: k20 | BO29: Void Ratio | BP29: (formula) | BR29: k20 | BV29: Void Ratio | BW29: (formula) | BY29: k20 | CC29: Void Ratio | CD29: (formula) | CF29: k20 | CJ29: Void Ratio | CK29: (formula) | CM29: k20 | CQ29: Void Ratio | CR29: (formula) | CT29: k20 | CX29: Void Ratio | CY29: (formula) | DA29: k20 | DE29: Void Ratio | DF29: (formula) | DH29: k20 | DL29: Void Ratio | DM29: (formula) | DO29: k20 | DS29: Void Ratio | DT29: (formula) | DV29: k20 | DZ29: Void Ratio | EA29: (formula) | EC29: k20 | EG29: Void Ratio | EH29: (formula) | EJ29: k20 | EN29: Void Ratio | EO29: (formula) | EQ29: k20 | EU29: Void Ratio | EV29: (formula) | EX29: k20
D30: 0.5 | E30: =1.962/G27 -> 0.010022159 | F30: =(D30^3)/(1+D30) -> 0.083333333 | G30: =E30*F30 -> 0.00083517994 | K30: 0.5 | L30: =1.962/N27 -> 0.0065677443 | M30: =(K30^3)/(1+K30) -> 0.083333333 | N30: =L30*M30 -> 0.00054731203 | R30: 0.5 | S30: =1.962/U27 -> 0.016226522 | T30: =(R30^3)/(1+R30) -> 0.083333333 | U30: =S30*T30 -> 0.0013522102 | Y30: 0.5 | Z30: =1.962/AB27 -> 0.025337429 | AA30: =(Y30^3)/(1+Y30) -> 0.083333333 | AB30: =Z30*AA30 -> 0.0021114524 | AF30: 0.5 | AG30: =1.962/AI27 -> 0.0086470268 | AH30: =(AF30^3)/(1+AF30) -> 0.083333333 | AI30: =AG30*AH30 -> 0.00072058556 | AM30: 0.5 | AN30: =1.962/AP27 -> 0.010654961 | AO30: =(AM30^3)/(1+AM30) -> 0.083333333 | AP30: =AN30*AO30 -> 0.00088791338 | AT30: 0.5 | AU30: =1.962/AW27 -> 0.0048260118 | AV30: =(AT30^3)/(1+AT30) -> 0.083333333 | AW30: =AU30*AV30 -> 0.00040216765 | BA30: 0.5 | BB30: =1.962/BD27 -> 0.0035439037 | BC30: =(BA30^3)/(1+BA30) -> 0.083333333 | BD30: =BB30*BC30 -> 0.00029532531 | BH30: 0.5 | BI30: =1.962/BK27 -> 0.0073706318 | BJ30: =(BH30^3)/(1+BH30) -> 0.083333333 | BK30: =BI30*BJ30 -> 0.00061421932 | BO30: 0.5 | BP30: =1.962/BR27 -> 0.0089070515 | BQ30: =(BO30^3)/(1+BO30) -> 0.083333333 | BR30: =BP30*BQ30 -> 0.00074225429 | BV30: 0.5 | BW30: =1.962/BY27 -> 0.0032299985 | BX30: =(BV30^3)/(1+BV30) -> 0.083333333 | BY30: =BW30*BX30 -> 0.00026916654 | CC30: 0.5 | CD30: =1.962/CF27 -> 0.0074914182 | CE30: =(CC30^3)/(1+CC30) -> 0.083333333 | CF30: =CD30*CE30 -> 0.00062428485 | CJ30: 0.5 | CK30: =1.962/CM27 -> 0.02290981 | CL30: =(CJ30^3)/(1+CJ30) -> 0.083333333 | CM30: =CK30*CL30 -> 0.0019091508 | CQ30: 0.5 | CR30: =1.962/CT27 -> 0.0044708668 | CS30: =(CQ30^3)/(1+CQ30) -> 0.083333333 | CT30: =CR30*CS30 -> 0.00037257223 | CX30: 0.5 | CY30: =1.962/DA27 -> 0.015186459 | CZ30: =(CX30^3)/(1+CX30) -> 0.083333333 | DA30: =CY30*CZ30 -> 0.0012655383 | DE30: 0.5 | DF30: =1.962/DH27 -> 0.0038636216 | DG30: =(DE30^3)/(1+DE30) -> 0.083333333 | DH30: =DF30*DG30 -> 0.00032196847 | DL30: 0.5 | DM30: =1.962/DO27 -> 0.033191192 | DN30: =(DL30^3)/(1+DL30) -> 0.083333333 | DO30: =DM30*DN30 -> 0.0027659327 | DS30: 0.5 | DT30: =1.962/DV27 -> 0.0070488378 | DU30: =(DS30^3)/(1+DS30) -> 0.083333333 | DV30: =DT30*DU30 -> 0.00058740315 | DZ30: 0.5 | EA30: =1.962/EC27 -> 0.0075200312 | EB30: =(DZ30^3)/(1+DZ30) -> 0.083333333 | EC30: =EA30*EB30 -> 0.00062666926 | EG30: 0.5 | EH30: =1.962/EJ27 -> 0.0057150165 | EI30: =(EG30^3)/(1+EG30) -> 0.083333333 | EJ30: =EH30*EI30 -> 0.00047625137 | EN30: 0.5 | EO30: =1.962/EQ27 -> 0.0027263075 | EP30: =(EN30^3)/(1+EN30) -> 0.083333333 | EQ30: =EO30*EP30 -> 0.00022719229 | EU30: 0.5 | EV30: =1.962/EX27 -> 0.0066078824 | EW30: =(EU30^3)/(1+EU30) -> 0.083333333 | EX30: =EV30*EW30 -> 0.00055065686
B33: Sieve (mm) | C33: % pass | D33: % retain | E33: S | F33: Angle (f) | G33: fS2 | I33: Sieve (mm) | J33: % pass | K33: % retain | L33: S | M33: Angle (f) | N33: fS2 | P33: Sieve (mm) | Q33: % pass | R33: % retain | S33: S | T33: Angle (f) | U33: fS2 | W33: Sieve (mm) | X33: % pass | Y33: % retain | Z33: S | AA33: Angle (f) | AB33: fS2 | AD33: Sieve (mm) | AE33: % pass | AF33: % retain | AG33: S | AH33: Angle (f) | AI33: fS2 | AK33: Sieve (mm) | AL33: % pass | AM33: % retain | AN33: S | AO33: Angle (f) | AP33: fS2 | AR33: Sieve (mm) | AS33: % pass | AT33: % retain | AU33: S | AV33: Angle (f) | AW33: fS2 | AY33: Sieve (mm) | AZ33: % pass | BA33: % retain | BB33: S | BC33: Angle (f) | BD33: fS2 | BF33: Sieve (mm) | BG33: % pass | BH33: % retain | BI33: S | BJ33: Angle (f) | BK33: fS2 | BM33: Sieve (mm) | BN33: % pass | BO33: % retain | BP33: S | BQ33: Angle (f) | BR33: fS2 | BT33: Sieve (mm) | BU33: % pass | BV33: % retain | BW33: S | BX33: Angle (f) | BY33: fS2 | CA33: Sieve (mm) | CB33: % pass | CC33: % retain | CD33: S | CE33: Angle (f) | CF33: fS2 | CH33: Sieve (mm) | CI33: % pass | CJ33: % retain | CK33: S | CL33: Angle (f) | CM33: fS2 | CO33: Sieve (mm) | CP33: % pass | CQ33: % retain | CR33: S | CS33: Angle (f) | CT33: fS2 | CV33: Sieve (mm) | CW33: % pass | CX33: % retain | CY33: S | CZ33: Angle (f) | DA33: fS2 | DC33: Sieve (mm) | DD33: % pass | DE33: % retain | DF33: S | DG33: Angle (f) | DH33: fS2 | DJ33: Sieve (mm) | DK33: % pass | DL33: % retain | DM33: S | DN33: Angle (f) | DO33: fS2 | DQ33: Sieve (mm) | DR33: % pass | DS33: % retain | DT33: S | DU33: Angle (f) | DV33: fS2 | DX33: Sieve (mm) | DY33: % pass | DZ33: % retain | EA33: S | EB33: Angle (f) | EC33: fS2 | EE33: Sieve (mm) | EF33: % pass | EG33: % retain | EH33: S | EI33: Angle (f) | EJ33: fS2 | EL33: Sieve (mm) | EM33: % pass | EN33: % retain | EO33: S | EP33: Angle (f) | EQ33: fS2 | ES33: Sieve (mm) | ET33: % pass | EU33: % retain | EV33: S | EW33: Angle (f) | EX33: fS2
B34: =B6 -> 125 | C34: =C6 -> 100 | I34: =I6 -> 125 | J34: =J6 -> 100 | P34: =P6 -> 125 | Q34: =Q6 -> 100 | W34: =W6 -> 125 | X34: =X6 -> 100 | AD34: =AD6 -> 125 | AE34: =AE6 -> 100 | AK34: =AK6 -> 125 | AL34: =AL6 -> 100 | AR34: =AR6 -> 125 | AS34: =AS6 -> 100 | AY34: =AY6 -> 125 | AZ34: =AZ6 -> 100 | BF34: =BF6 -> 125 | BG34: =BG6 -> 100 | BM34: =BM6 -> 125 | BN34: =BN6 -> 100 | BT34: =BT6 -> 125 | BU34: =BU6 -> 100 | CA34: =CA6 -> 125 | CB34: =CB6 -> 100 | CH34: =CH6 -> 125 | CI34: =CI6 -> 100 | CO34: =CO6 -> 125 | CP34: =CP6 -> 100 | CV34: =CV6 -> 125 | CW34: =CW6 -> 100 | DC34: =DC6 -> 125 | DD34: =DD6 -> 100 | DJ34: =DJ6 -> 125 | DK34: =DK6 -> 100 | DQ34: =DQ6 -> 125 | DR34: =DR6 -> 100 | DX34: =DX6 -> 125 | DY34: =DY6 -> 100 | EE34: =EE6 -> 125 | EF34: =EF6 -> 100 | EL34: =EL6 -> 125 | EM34: =EM6 -> 100 | ES34: =ES6 -> 125 | ET34: =ET6 -> 100
