Workbook
Name _Ref520278494: 'Form WRD'!$A$2
Name _Ref520280992: 'Form WRD'!$A$12

Sheet Information
B2: Electronic Calculation Sheet
B4: Project Number | E4: 10013310
B5: Project Title | E5: Cog Moors
B6: Document Number | E6: Cog Moors HIA calcs
B8: Spreadsheet name:
B9: Spreadsheet Location: | E9: =CELL("filename",A1) -> https://cyfoethnaturiolcymru-my.sharepoint.com/personal/mary_beckett_cyfoethnaturiolcymru_gov_uk/Documents/Desktop/[Application_supporting info_HIA calcs.xlsx]Information
B11: The spreadsheet contains the following worksheets:
B12: Worksheet | E12: Contents and notes
B13: Water strike tests | E13: Rising head test analysis of groundwater strike data
B14: Kozeny Carman | E14: Estimates of permeability using Kozeny - Carman method
B15: PSD data | E15: Particle Size Distribution data from Ground Investigation (Arcadis, 2018)
B16: PSD summary | E16: Summary of results from Kozeny Carman analysis of PSD data, sorted by rock type
B17: CSM | E17: Conceptual model data plotted. As shown in Fig 7 of HIA report
B18: BH logs summary | E18: Summary of borehole logs, water strikes and groundwater levels from Ground Investigation (Arcadis, 2018)
B19: Rain dewatering | E19: Estimate of rainfall entering excvations
B20: Form WRD | E20: Calculations to support form WRD for abstraction licence application

Sheet Water strike tests
A1: BH102 - Alluvium CLAY | E1: Time (min) | F1: Time (sec) | G1: Depth (m) | H1: Ht (m) | I1: Ho/Ht | J1: Ln (Ho/Ht) | K1: Ht/Ho
E2: 0 | F2: =E2*60 -> 0 | G2: 0 | H2: 3.8 | I2: =$B$9/H2 -> 1 | J2: =LN(I2) -> 0 | K2: =H2/$B$9 -> 1
A3: Borehole | B3: BH102 | E3: 1 | F3: =E3*60 -> 60 | K3: =H3/$B$9 -> 0
A4: Test | B4: 1 | E4: 2 | F4: =E4*60 -> 120 | K4: =H4/$B$9 -> 0
A5: Diameter | B5: =115/1000 -> 0.115 | C5: m | E5: 3 | F5: =E5*60 -> 180 | K5: =H5/$B$9 -> 0
A6: Depth | B6: 3.8 | C6: m | E6: 4 | F6: =E6*60 -> 240 | K6: =H6/$B$9 -> 0
A7: Casing | B7: 3.7 | C7: m | E7: 5 | F7: =E7*60 -> 300 | K7: =H7/$B$9 -> 0
A8: RWL | B8: 2.9 | C8: m bgl | E8: 7 | F8: =E8*60 -> 420 | K8: =H8/$B$9 -> 0
A9: Initial head (Ho) | B9: 3.8 | E9: 10 | F9: =E9*60 -> 600 | K9: =H9/$B$9 -> 0
E10: 15 | F10: =E10*60 -> 900 | K10: =H10/$B$9 -> 0
A11: Cross-section Area | B11: =PI()*B5^2 -> 0.041547563 | C11: m2 | E11: 20 | F11: =E11*60 -> 1200 | G11: 0.82 | H11: 2.9 | I11: =$B$9/H11 -> 1.3103448 | J11: =LN(I11) -> 0.27029033 | K11: =H11/$B$9 -> 0.76315789
A12: Length of test section (L) | B12: =B6-B7 -> 0.1 | C12: m | E12: 30 | F12: =E12*60 -> 1800 | G12: 1.16 | K12: =H12/$B$9 -> 0
A13: Shape Factor (F) | B13: =2*PI()*B12/(LN(2*(B12/B5))) -> 1.1354089
A14: Time lag (37%) | B14: =B9-(B9-B8)*0.37 -> 3.467 | I14: Slope | J14: =SLOPE(J2:J12,F2:F12) -> 0.00022524194
B15: =(B14-3.8)/-0.045 -> 7.4 | C15: mins
B16: =B15*60 -> 444 | C16: sec
A18: Permeability (K) | B18: =J14*(B11/B13) -> 8.242188e-06 | C18: m/s | E18: Velocity graph method
A22: BH103 - Alluvium CLAY | E22: Time (min) | F22: Time (sec) | G22: Depth (m) | H22: Ht (m) | I22: Ho/Ht | J22: Ln (Ho/Ht) | K22: Ht/Ho | AA22: Summary
E23: 0 | F23: =E23*60 -> 0 | G23: 0 | H23: 3.8 | I23: =B30/H23 -> 1 | J23: =LN(I23) -> 0 | K23: =H23/$B$9 -> 1 | AA23: BH102 - Alluvium CLAY | AB23: Permeability (K) | AC23: 8.242188e-06 | AD23: m/s | AF23: Velocity graph method
A24: Borehole | B24: BH103 | E24: 1 | F24: =E24*60 -> 60 | K24: =H24/$B$9 -> 0 | AA24: BH103 - Alluvium CLAY | AB24: Permeability (K) | AC24: 1.9572585e-05 | AD24: m/s | AF24: Velocity graph method
A25: Test | B25: 1 | E25: 2 | F25: =E25*60 -> 120 | K25: =H25/$B$9 -> 0 | AA25: BH105 - Alluvium CLAy | AB25: Permeability (K) | AC25: 4.700645e-06 | AD25: m/s | AF25: Velocity graph method
A26: Diameter | B26: =115/1000 -> 0.115 | C26: m | E26: 3 | F26: =E26*60 -> 180 | K26: =H26/$B$9 -> 0 | AA26: BH106 - Alluvium CLAy | AB26: Permeability (K) | AC26: 3.8981294e-06 | AD26: m/s | AF26: Velocity graph method
A27: Depth | B27: 3.8 | C27: m | E27: 4 | F27: =E27*60 -> 240 | K27: =H27/$B$9 -> 0 | AA27: BH107 - Alluvium CLAy | AB27: Permeability (K) | AC27: 5.3952954e-06 | AD27: m/s | AF27: Velocity graph method
A28: Casing | B28: 3.7 | C28: m | E28: 5 | F28: =E28*60 -> 300 | K28: =H28/$B$9 -> 0 | AA28: BH107 - Alluvium CLAy | AB28: Permeability (K) | AC28: 1.0352874e-05 | AD28: m/s | AF28: Velocity graph method
A29: RWL | B29: 2 | C29: m bgl | E29: 7 | F29: =E29*60 -> 420 | K29: =H29/$B$9 -> 0 | AA29: BH108 - Alluvium CLAy | AB29: Permeability (K) | AC29: 9.6315669e-06 | AD29: m/s | AF29: Velocity graph method
A30: Initial head (Ho) | B30: 3.8 | E30: 10 | F30: =E30*60 -> 600 | K30: =H30/$B$9 -> 0 | AF30: Velocity graph method
E31: 15 | F31: =E31*60 -> 900 | K31: =H31/$B$9 -> 0 | AC31: =MIN(AC23:AC29) -> 3.8981294e-06 | AF31: Velocity graph method
A32: Cross-section Area | B32: =PI()*B26^2 -> 0.041547563 | C32: m2 | E32: 20 | F32: =E32*60 -> 1200 | G32: 0.82 | H32: 2 | I32: =B30/H32 -> 1.9 | J32: =LN(I32) -> 0.64185389 | K32: =H32/$B$9 -> 0.52631579 | AC32: =MAX(AC23:AC29) -> 1.9572585e-05
A33: Length of test section (L) | B33: =B27-B28 -> 0.1 | C33: m | E33: 30 | F33: =E33*60 -> 1800 | G33: 1.16 | K33: =H33/$B$9 -> 0 | AC33: =GEOMEAN(AC23:AC29) -> 7.6899826e-06
A34: Shape Factor (F) | B34: =2*PI()*B33/(LN(2*(B33/B26))) -> 1.1354089
A35: Time lag (37%) | B35: =B30-(B30-B29)*0.37 -> 3.134 | I35: Slope | J35: =SLOPE(J23:J33,F23:F33) -> 0.00053487824
B36: =(B35-B30)/-0.09 -> 7.4 | C36: mins
B37: =B36*60 -> 444 | C37: sec
AA38: BH104 - Made Ground | AB38: Permeability (K) | AC38: 4.3636931e-06 | AD38: m/s
A39: Permeability (K) | B39: =J35*(B32/B34) -> 1.9572585e-05 | C39: m/s | E39: Velocity graph method | AA39: BH104 - Alluvium GRAVEL | AB39: Permeability (K) | AC39: 6.3657343e-06 | AD39: m/s
A43: BH104 - Made Ground | E43: Time (min) | F43: Time (sec) | G43: Depth (m) | H43: Ht (m) | I43: Ho/Ht | J43: Ln (Ho/Ht) | K43: Ht/Ho
E44: 0 | F44: =E44*60 -> 0 | G44: 0 | H44: 4.5 | I44: =B51/H44 -> 1 | J44: =LN(I44) -> 0 | K44: =H44/$B$9 -> 1.1842105
A45: Borehole | B45: BH104 | E45: 1 | F45: =E45*60 -> 60 | K45: =H45/$B$9 -> 0
A46: Test | B46: 1 | E46: 2 | F46: =E46*60 -> 120 | K46: =H46/$B$9 -> 0
A47: Diameter | B47: =115/1000 -> 0.115 | C47: m | E47: 3 | F47: =E47*60 -> 180 | K47: =H47/$B$9 -> 0
A48: Depth | B48: 3.9 | C48: m | E48: 4 | F48: =E48*60 -> 240 | K48: =H48/$B$9 -> 0
A49: Casing | B49: 3.8 | C49: m | E49: 5 | F49: =E49*60 -> 300 | K49: =H49/$B$9 -> 0
A50: RWL | B50: 3.9 | C50: m bgl | E50: 7 | F50: =E50*60 -> 420 | K50: =H50/$B$9 -> 0
A51: Initial head (Ho) | B51: 4.5 | E51: 10 | F51: =E51*60 -> 600 | K51: =H51/$B$9 -> 0
E52: 15 | F52: =E52*60 -> 900 | K52: =H52/$B$9 -> 0
A53: Cross-section Area | B53: =PI()*B47^2 -> 0.041547563 | C53: m2 | E53: 20 | F53: =E53*60 -> 1200 | G53: 0.82 | H53: 3.9 | I53: =B51/H53 -> 1.1538462 | J53: =LN(I53) -> 0.14310084 | K53: =H53/$B$9 -> 1.0263158
A54: Length of test section (L) | B54: =B48-B49 -> 0.1 | C54: m | E54: 30 | F54: =E54*60 -> 1800 | G54: 1.16 | K54: =H54/$B$9 -> 0
A55: Shape Factor (F) | B55: =2*PI()*B54/(LN(2*(B54/B47))) -> 1.1354089
A56: Time lag (37%) | B56: =B51-(B51-B50)*0.37 -> 4.278 | I56: Slope | J56: =SLOPE(J44:J54,F44:F54) -> 0.0001192507
B57: =(B56-B51)/-0.03 -> 7.4 | C57: mins
B58: =B57*60 -> 444 | C58: sec
A60: Permeability (K) | B60: =J56*(B53/B55) -> 4.3636931e-06 | C60: m/s | E60: Velocity graph method
A61: Permeability (K) | B61: =(((B47/2)^2)*LN(B54/(B47/2)))/(2*B54*B58) -> 2.0603941e-05 | C61: m/s | E61: Hvorslev method
A63: BH104 - Alluvium GRAVEL | E63: Time (min) | F63: Time (sec) | G63: Depth (m) | H63: Ht (m) | I63: Ho/Ht | J63: Ln (Ho/Ht) | K63: Ht/Ho
E64: 0 | F64: =E64*60 -> 0 | G64: 0 | H64: =B71 -> 6.9 | I64: =B71/H64 -> 1 | J64: =LN(I64) -> 0 | K64: =H64/$B$9 -> 1.8157895
A65: Borehole | B65: BH104 | E65: 1 | F65: =E65*60 -> 60 | K65: =H65/$B$9 -> 0
A66: Test | B66: 2 | E66: 2 | F66: =E66*60 -> 120 | K66: =H66/$B$9 -> 0
A67: Diameter | B67: =115/1000 -> 0.115 | C67: m | E67: 3 | F67: =E67*60 -> 180 | K67: =H67/$B$9 -> 0
A68: Depth | B68: 6.9 | C68: m | E68: 4 | F68: =E68*60 -> 240 | K68: =H68/$B$9 -> 0
A69: Casing | B69: 6.8 | C69: m | E69: 5 | F69: =E69*60 -> 300 | K69: =H69/$B$9 -> 0
A70: RWL | B70: 5.6 | C70: m bgl | E70: 7 | F70: =E70*60 -> 420 | K70: =H70/$B$9 -> 0
A71: Initial head (Ho) | B71: 6.9 | E71: 10 | F71: =E71*60 -> 600 | K71: =H71/$B$9 -> 0
E72: 15 | F72: =E72*60 -> 900 | K72: =H72/$B$9 -> 0
A73: Cross-section Area | B73: =PI()*B67^2 -> 0.041547563 | C73: m2 | E73: 20 | F73: =E73*60 -> 1200 | G73: 0.82 | H73: =B70 -> 5.6 | I73: =B71/H73 -> 1.2321429 | J73: =LN(I73) -> 0.20875481 | K73: =H73/$B$9 -> 1.4736842
A74: Length of test section (L) | B74: =B68-B69 -> 0.1 | C74: m | E74: 30 | F74: =E74*60 -> 1800 | G74: 1.16 | K74: =H74/$B$9 -> 0
A75: Shape Factor (F) | B75: =2*PI()*B74/(LN(2*(B74/B67))) -> 1.1354089
A76: Time lag (37%) | B76: =B71-(B71-B70)*0.37 -> 6.419 | I76: Slope | J76: =SLOPE(J64:J74,F64:F74) -> 0.00017396234
B77: =(B76-B71)/-0.065 -> 7.4 | C77: mins
B78: =B77*60 -> 444 | C78: sec
A80: Permeability (K) | B80: =J76*(B73/B75) -> 6.3657343e-06 | C80: m/s | E80: Velocity graph method
A84: BH105 - Alluvium CLAy | E84: Time (min) | F84: Time (sec) | G84: Depth (m) | H84: Ht (m) | I84: Ho/Ht | J84: Ln (Ho/Ht) | K84: Ht/Ho
E85: 0 | F85: =E85*60 -> 0 | G85: 0 | H85: =B92 -> 7.7 | I85: =B92/H85 -> 1 | J85: =LN(I85) -> 0 | K85: =H85/$B$9 -> 2.0263158
A86: Borehole | B86: BH105 | E86: 1 | F86: =E86*60 -> 60 | K86: =H86/$B$9 -> 0
A87: Test | B87: 1 | E87: 2 | F87: =E87*60 -> 120 | K87: =H87/$B$9 -> 0
A88: Diameter | B88: =115/1000 -> 0.115 | C88: m | E88: 3 | F88: =E88*60 -> 180 | K88: =H88/$B$9 -> 0
A89: Depth | B89: 7.7 | C89: m | E89: 4 | F89: =E89*60 -> 240 | K89: =H89/$B$9 -> 0
A90: Casing | B90: 7.6 | C90: m | E90: 5 | F90: =E90*60 -> 300 | K90: =H90/$B$9 -> 0
A91: RWL | B91: 6.6 | C91: m bgl | E91: 7 | F91: =E91*60 -> 420 | K91: =H91/$B$9 -> 0
A92: Initial head (Ho) | B92: 7.7 | E92: 10 | F92: =E92*60 -> 600 | K92: =H92/$B$9 -> 0
E93: 15 | F93: =E93*60 -> 900 | K93: =H93/$B$9 -> 0
A94: Cross-section Area | B94: =PI()*B88^2 -> 0.041547563 | C94: m2 | E94: 20 | F94: =E94*60 -> 1200 | G94: 0.82 | H94: =B91 -> 6.6 | I94: =B92/H94 -> 1.1666667 | J94: =LN(I94) -> 0.15415068 | K94: =H94/$B$9 -> 1.7368421
A95: Length of test section (L) | B95: =B89-B90 -> 0.1 | C95: m | E95: 30 | F95: =E95*60 -> 1800 | G95: 1.16 | K95: =H95/$B$9 -> 0
A96: Shape Factor (F) | B96: =2*PI()*B95/(LN(2*(B95/B88))) -> 1.1354089
A97: Time lag (37%) | B97: =B92-(B92-B91)*0.37 -> 7.293 | I97: Slope | J97: =SLOPE(J85:J95,F85:F95) -> 0.0001284589
B98: =(B97-B92)/-0.055 -> 7.4 | C98: mins
B99: =B98*60 -> 444 | C99: sec
A101: Permeability (K) | B101: =J97*(B94/B96) -> 4.700645e-06 | C101: m/s | E101: Velocity graph method
A105: BH106 - Alluvium CLAy | E105: Time (min) | F105: Time (sec) | G105: Depth (m) | H105: Ht (m) | I105: Ho/Ht | J105: Ln (Ho/Ht) | K105: Ht/Ho
E106: 0 | F106: =E106*60 -> 0 | G106: 0 | H106: =B113 -> 7.5 | I106: =B113/H106 -> 1 | J106: =LN(I106) -> 0 | K106: =H106/$B$9 -> 1.9736842
A107: Borehole | B107: BH106 | E107: 1 | F107: =E107*60 -> 60 | K107: =H107/$B$9 -> 0
A108: Test | B108: 1 | E108: 2 | F108: =E108*60 -> 120 | K108: =H108/$B$9 -> 0
A109: Diameter | B109: =115/1000 -> 0.115 | C109: m | E109: 3 | F109: =E109*60 -> 180 | K109: =H109/$B$9 -> 0
A110: Depth | B110: 7.5 | C110: m | E110: 4 | F110: =E110*60 -> 240 | K110: =H110/$B$9 -> 0
A111: Casing | B111: 7.4 | C111: m | E111: 5 | F111: =E111*60 -> 300 | K111: =H111/$B$9 -> 0
A112: RWL | B112: 6.6 | C112: m bgl | E112: 7 | F112: =E112*60 -> 420 | K112: =H112/$B$9 -> 0
A113: Initial head (Ho) | B113: 7.5 | E113: 10 | F113: =E113*60 -> 600 | K113: =H113/$B$9 -> 0
E114: 15 | F114: =E114*60 -> 900 | K114: =H114/$B$9 -> 0
A115: Cross-section Area | B115: =PI()*B109^2 -> 0.041547563 | C115: m2 | E115: 20 | F115: =E115*60 -> 1200 | G115: 0.82 | H115: =B112 -> 6.6 | I115: =B113/H115 -> 1.1363636 | J115: =LN(I115) -> 0.12783337 | K115: =H115/$B$9 -> 1.7368421
A116: Length of test section (L) | B116: =B110-B111 -> 0.1 | C116: m | E116: 30 | F116: =E116*60 -> 1800 | G116: 1.16 | K116: =H116/$B$9 -> 0
A117: Shape Factor (F) | B117: =2*PI()*B116/(LN(2*(B116/B109))) -> 1.1354089
...

Sheet KozenyCarman
B1: Location ID | C1: Depth Top | D1: Depth Base
B2: BH101 | C2: 0.25 | D2: 0.55 | I2: BH101 | J2: 9 | K2: 9.2 | P2: BH102 | Q2: 0.3 | R2: 0.65 | W2: BH103 | X2: 0.3 | Y2: 0.75 | AD2: BH103 | AE2: 6 | AF2: 6.45 | AK2: BH104 | AL2: 1 | AM2: 1.45 | AR2: BH104 | AS2: 3 | AT2: 3.45 | AY2: BH104 | AZ2: 7 | BA2: 7.45 | BF2: BH105 | BG2: 1 | BH2: 1.45 | BM2: BH105 | BN2: 4 | BO2: 4.45 | BT2: BH105 | BU2: 10 | BV2: 10.5 | CA2: BH106 | CB2: 1 | CC2: 1.45 | CH2: BH106 | CI2: 5 | CJ2: 5.45 | CO2: BH106 | CP2: 11.5 | CQ2: 11.95 | CV2: BH107 | CW2: 0.4 | DC2: BH108 | DD2: 0.1 | DJ2: TP103 | DK2: 0.5 | DL2: 0.6 | DQ2: TP103 | DR2: 3 | DS2: 3.2 | DX2: TP106 | DY2: 1.5 | DZ2: 2 | EE2: TP106 | EF2: 3 | EG2: 3.5 | EL2: TP107 | EM2: 0.1 | ES2: TP107 | ET2: 0.3 | EU2: 0.8
B3: Brown fine to coarse sandy fine to coarse gravelly SILT/CLAY
B5: Sieve (mm) | C5: % pass | D5: % retain | E5: S | F5: Angle (f) | G5: fS2 | I5: Sieve (mm) | J5: % pass | K5: % retain | L5: S | M5: Angle (f) | N5: fS2 | P5: Sieve (mm) | Q5: % pass | R5: % retain | S5: S | T5: Angle (f) | U5: fS2 | W5: Sieve (mm) | X5: % pass | Y5: % retain | Z5: S | AA5: Angle (f) | AB5: fS2 | AD5: Sieve (mm) | AE5: % pass | AF5: % retain | AG5: S | AH5: Angle (f) | AI5: fS2 | AK5: Sieve (mm) | AL5: % pass | AM5: % retain | AN5: S | AO5: Angle (f) | AP5: fS2 | AR5: Sieve (mm) | AS5: % pass | AT5: % retain | AU5: S | AV5: Angle (f) | AW5: fS2 | AY5: Sieve (mm) | AZ5: % pass | BA5: % retain | BB5: S | BC5: Angle (f) | BD5: fS2 | BF5: Sieve (mm) | BG5: % pass | BH5: % retain | BI5: S | BJ5: Angle (f) | BK5: fS2 | BM5: Sieve (mm) | BN5: % pass | BO5: % retain | BP5: S | BQ5: Angle (f) | BR5: fS2 | BT5: Sieve (mm) | BU5: % pass | BV5: % retain | BW5: S | BX5: Angle (f) | BY5: fS2 | CA5: Sieve (mm) | CB5: % pass | CC5: % retain | CD5: S | CE5: Angle (f) | CF5: fS2 | CH5: Sieve (mm) | CI5: % pass | CJ5: % retain | CK5: S | CL5: Angle (f) | CM5: fS2 | CO5: Sieve (mm) | CP5: % pass | CQ5: % retain | CR5: S | CS5: Angle (f) | CT5: fS2 | CV5: Sieve (mm) | CW5: % pass | CX5: % retain | CY5: S | CZ5: Angle (f) | DA5: fS2 | DC5: Sieve (mm) | DD5: % pass | DE5: % retain | DF5: S | DG5: Angle (f) | DH5: fS2 | DJ5: Sieve (mm) | DK5: % pass | DL5: % retain | DM5: S | DN5: Angle (f) | DO5: fS2 | DQ5: Sieve (mm) | DR5: % pass | DS5: % retain | DT5: S | DU5: Angle (f) | DV5: fS2 | DX5: Sieve (mm) | DY5: % pass | DZ5: % retain | EA5: S | EB5: Angle (f) | EC5: fS2 | EE5: Sieve (mm) | EF5: % pass | EG5: % retain | EH5: S | EI5: Angle (f) | EJ5: fS2 | EL5: Sieve (mm) | EM5: % pass | EN5: % retain | EO5: S | EP5: Angle (f) | EQ5: fS2 | ES5: Sieve (mm) | ET5: % pass | EU5: % retain | EV5: S | EW5: Angle (f) | EX5: fS2
B6: 125 | C6: 100 | I6: 125 | J6: 100 | P6: 125 | Q6: 100 | W6: 125 | X6: 100 | AD6: 125 | AE6: 100 | AK6: 125 | AL6: 100 | AR6: 125 | AS6: 100 | AY6: 125 | AZ6: 100 | BF6: 125 | BG6: 100 | BM6: 125 | BN6: 100 | BT6: 125 | BU6: 100 | CA6: 125 | CB6: 100 | CH6: 125 | CI6: 100 | CO6: 125 | CP6: 100 | CV6: 125 | CW6: 100 | DC6: 125 | DD6: 100 | DJ6: 125 | DK6: 100 | DQ6: 125 | DR6: 100 | DX6: 125 | DY6: 100 | EE6: 125 | EF6: 100 | EL6: 125 | EM6: 100 | ES6: 125 | ET6: 100
B7: 75 | C7: 100 | D7: =C6-C7 -> 0 | E7: =6/SQRT(B6*B7) -> 0.061967734 | F7: 1.25 | G7: =(D7/100)*(E7^2)*F7 -> 0 | I7: 75 | J7: 100 | K7: =J6-J7 -> 0 | L7: =6/SQRT(I6*I7) -> 0.061967734 | M7: 1.25 | N7: =(K7/100)*(L7^2)*M7 -> 0 | P7: 75 | Q7: 100 | R7: =Q6-Q7 -> 0 | S7: =6/SQRT(P6*P7) -> 0.061967734 | T7: 1.25 | U7: =(R7/100)*(S7^2)*T7 -> 0 | W7: 75 | X7: 100 | Y7: =X6-X7 -> 0 | Z7: =6/SQRT(W6*W7) -> 0.061967734 | AA7: 1.25 | AB7: =(Y7/100)*(Z7^2)*AA7 -> 0 | AD7: 75 | AE7: 100 | AF7: =AE6-AE7 -> 0 | AG7: =6/SQRT(AD6*AD7) -> 0.061967734 | AH7: 1.25 | AI7: =(AF7/100)*(AG7^2)*AH7 -> 0 | AK7: 75 | AL7: 56 | AM7: =AL6-AL7 -> 44 | AN7: =6/SQRT(AK6*AK7) -> 0.061967734 | AO7: 1.25 | AP7: =(AM7/100)*(AN7^2)*AO7 -> 0.002112 | AR7: 75 | AS7: 100 | AT7: =AS6-AS7 -> 0 | AU7: =6/SQRT(AR6*AR7) -> 0.061967734 | AV7: 1.25 | AW7: =(AT7/100)*(AU7^2)*AV7 -> 0 | AY7: 75 | AZ7: 100 | BA7: =AZ6-AZ7 -> 0 | BB7: =6/SQRT(AY6*AY7) -> 0.061967734 | BC7: 1.25 | BD7: =(BA7/100)*(BB7^2)*BC7 -> 0 | BF7: 75 | BG7: 100 | BH7: =BG6-BG7 -> 0 | BI7: =6/SQRT(BF6*BF7) -> 0.061967734 | BJ7: 1.25 | BK7: =(BH7/100)*(BI7^2)*BJ7 -> 0 | BM7: 75 | BN7: 100 | BO7: =BN6-BN7 -> 0 | BP7: =6/SQRT(BM6*BM7) -> 0.061967734 | BQ7: 1.25 | BR7: =(BO7/100)*(BP7^2)*BQ7 -> 0 | BT7: 75 | BU7: 100 | BV7: =BU6-BU7 -> 0 | BW7: =6/SQRT(BT6*BT7) -> 0.061967734 | BX7: 1.25 | BY7: =(BV7/100)*(BW7^2)*BX7 -> 0 | CA7: 75 | CB7: 100 | CC7: =CB6-CB7 -> 0 | CD7: =6/SQRT(CA6*CA7) -> 0.061967734 | CE7: 1.25 | CF7: =(CC7/100)*(CD7^2)*CE7 -> 0 | CH7: 75 | CI7: 100 | CJ7: =CI6-CI7 -> 0 | CK7: =6/SQRT(CH6*CH7) -> 0.061967734 | CL7: 1.25 | CM7: =(CJ7/100)*(CK7^2)*CL7 -> 0 | CO7: 75 | CP7: 100 | CQ7: =CP6-CP7 -> 0 | CR7: =6/SQRT(CO6*CO7) -> 0.061967734 | CS7: 1.25 | CT7: =(CQ7/100)*(CR7^2)*CS7 -> 0 | CV7: 75 | CW7: 100 | CX7: =CW6-CW7 -> 0 | CY7: =6/SQRT(CV6*CV7) -> 0.061967734 | CZ7: 1.25 | DA7: =(CX7/100)*(CY7^2)*CZ7 -> 0 | DC7: 75 | DD7: 100 | DE7: =DD6-DD7 -> 0 | DF7: =6/SQRT(DC6*DC7) -> 0.061967734 | DG7: 1.25 | DH7: =(DE7/100)*(DF7^2)*DG7 -> 0 | DJ7: 75 | DK7: 100 | DL7: =DK6-DK7 -> 0 | DM7: =6/SQRT(DJ6*DJ7) -> 0.061967734 | DN7: 1.25 | DO7: =(DL7/100)*(DM7^2)*DN7 -> 0 | DQ7: 75 | DR7: 100 | DS7: =DR6-DR7 -> 0 | DT7: =6/SQRT(DQ6*DQ7) -> 0.061967734 | DU7: 1.25 | DV7: =(DS7/100)*(DT7^2)*DU7 -> 0 | DX7: 75 | DY7: 100 | DZ7: =DY6-DY7 -> 0 | EA7: =6/SQRT(DX6*DX7) -> 0.061967734 | EB7: 1.25 | EC7: =(DZ7/100)*(EA7^2)*EB7 -> 0 | EE7: 75 | EF7: 100 | EG7: =EF6-EF7 -> 0 | EH7: =6/SQRT(EE6*EE7) -> 0.061967734 | EI7: 1.25 | EJ7: =(EG7/100)*(EH7^2)*EI7 -> 0 | EL7: 75 | EM7: 100 | EN7: =EM6-EM7 -> 0 | EO7: =6/SQRT(EL6*EL7) -> 0.061967734 | EP7: 1.25 | EQ7: =(EN7/100)*(EO7^2)*EP7 -> 0 | ES7: 75 | ET7: 100 | EU7: =ET6-ET7 -> 0 | EV7: =6/SQRT(ES6*ES7) -> 0.061967734 | EW7: 1.25 | EX7: =(EU7/100)*(EV7^2)*EW7 -> 0
B8: 63 | C8: 100 | D8: =C7-C8 -> 0 | E8: =6/SQRT(B7*B8) -> 0.087287156 | F8: 1.25 | G8: =(D8/100)*(E8^2)*F8 -> 0 | I8: 63 | J8: 100 | K8: =J7-J8 -> 0 | L8: =6/SQRT(I7*I8) -> 0.087287156 | M8: 1.25 | N8: =(K8/100)*(L8^2)*M8 -> 0 | P8: 63 | Q8: 100 | R8: =Q7-Q8 -> 0 | S8: =6/SQRT(P7*P8) -> 0.087287156 | T8: 1.25 | U8: =(R8/100)*(S8^2)*T8 -> 0 | W8: 63 | X8: 100 | Y8: =X7-X8 -> 0 | Z8: =6/SQRT(W7*W8) -> 0.087287156 | AA8: 1.25 | AB8: =(Y8/100)*(Z8^2)*AA8 -> 0 | AD8: 63 | AE8: 100 | AF8: =AE7-AE8 -> 0 | AG8: =6/SQRT(AD7*AD8) -> 0.087287156 | AH8: 1.25 | AI8: =(AF8/100)*(AG8^2)*AH8 -> 0 | AK8: 63 | AL8: 56 | AM8: =AL7-AL8 -> 0 | AN8: =6/SQRT(AK7*AK8) -> 0.087287156 | AO8: 1.25 | AP8: =(AM8/100)*(AN8^2)*AO8 -> 0 | AR8: 63 | AS8: 100 | AT8: =AS7-AS8 -> 0 | AU8: =6/SQRT(AR7*AR8) -> 0.087287156 | AV8: 1.25 | AW8: =(AT8/100)*(AU8^2)*AV8 -> 0 | AY8: 63 | AZ8: 100 | BA8: =AZ7-AZ8 -> 0 | BB8: =6/SQRT(AY7*AY8) -> 0.087287156 | BC8: 1.25 | BD8: =(BA8/100)*(BB8^2)*BC8 -> 0 | BF8: 63 | BG8: 100 | BH8: =BG7-BG8 -> 0 | BI8: =6/SQRT(BF7*BF8) -> 0.087287156 | BJ8: 1.25 | BK8: =(BH8/100)*(BI8^2)*BJ8 -> 0 | BM8: 63 | BN8: 100 | BO8: =BN7-BN8 -> 0 | BP8: =6/SQRT(BM7*BM8) -> 0.087287156 | BQ8: 1.25 | BR8: =(BO8/100)*(BP8^2)*BQ8 -> 0 | BT8: 63 | BU8: 100 | BV8: =BU7-BU8 -> 0 | BW8: =6/SQRT(BT7*BT8) -> 0.087287156 | BX8: 1.25 | BY8: =(BV8/100)*(BW8^2)*BX8 -> 0 | CA8: 63 | CB8: 100 | CC8: =CB7-CB8 -> 0 | CD8: =6/SQRT(CA7*CA8) -> 0.087287156 | CE8: 1.25 | CF8: =(CC8/100)*(CD8^2)*CE8 -> 0 | CH8: 63 | CI8: 100 | CJ8: =CI7-CI8 -> 0 | CK8: =6/SQRT(CH7*CH8) -> 0.087287156 | CL8: 1.25 | CM8: =(CJ8/100)*(CK8^2)*CL8 -> 0 | CO8: 63 | CP8: 100 | CQ8: =CP7-CP8 -> 0 | CR8: =6/SQRT(CO7*CO8) -> 0.087287156 | CS8: 1.25 | CT8: =(CQ8/100)*(CR8^2)*CS8 -> 0 | CV8: 63 | CW8: 100 | CX8: =CW7-CW8 -> 0 | CY8: =6/SQRT(CV7*CV8) -> 0.087287156 | CZ8: 1.25 | DA8: =(CX8/100)*(CY8^2)*CZ8 -> 0 | DC8: 63 | DD8: 100 | DE8: =DD7-DD8 -> 0 | DF8: =6/SQRT(DC7*DC8) -> 0.087287156 | DG8: 1.25 | DH8: =(DE8/100)*(DF8^2)*DG8 -> 0 | DJ8: 63 | DK8: 100 | DL8: =DK7-DK8 -> 0 | DM8: =6/SQRT(DJ7*DJ8) -> 0.087287156 | DN8: 1.25 | DO8: =(DL8/100)*(DM8^2)*DN8 -> 0 | DQ8: 63 | DR8: 100 | DS8: =DR7-DR8 -> 0 | DT8: =6/SQRT(DQ7*DQ8) -> 0.087287156 | DU8: 1.25 | DV8: =(DS8/100)*(DT8^2)*DU8 -> 0 | DX8: 63 | DY8: 100 | DZ8: =DY7-DY8 -> 0 | EA8: =6/SQRT(DX7*DX8) -> 0.087287156 | EB8: 1.25 | EC8: =(DZ8/100)*(EA8^2)*EB8 -> 0 | EE8: 63 | EF8: 100 | EG8: =EF7-EF8 -> 0 | EH8: =6/SQRT(EE7*EE8) -> 0.087287156 | EI8: 1.25 | EJ8: =(EG8/100)*(EH8^2)*EI8 -> 0 | EL8: 63 | EM8: 100 | EN8: =EM7-EM8 -> 0 | EO8: =6/SQRT(EL7*EL8) -> 0.087287156 | EP8: 1.25 | EQ8: =(EN8/100)*(EO8^2)*EP8 -> 0 | ES8: 63 | ET8: 100 | EU8: =ET7-ET8 -> 0 | EV8: =6/SQRT(ES7*ES8) -> 0.087287156 | EW8: 1.25 | EX8: =(EU8/100)*(EV8^2)*EW8 -> 0
B9: 50 | C9: 100 | D9: =C8-C9 -> 0 | E9: =6/SQRT(B8*B9) -> 0.1069045 | F9: 1.25 | G9: =(D9/100)*(E9^2)*F9 -> 0 | I9: 50 | J9: 100 | K9: =J8-J9 -> 0 | L9: =6/SQRT(I8*I9) -> 0.1069045 | M9: 1.25 | N9: =(K9/100)*(L9^2)*M9 -> 0 | P9: 50 | Q9: 100 | R9: =Q8-Q9 -> 0 | S9: =6/SQRT(P8*P9) -> 0.1069045 | T9: 1.25 | U9: =(R9/100)*(S9^2)*T9 -> 0 | W9: 50 | X9: 89 | Y9: =X8-X9 -> 11 | Z9: =6/SQRT(W8*W9) -> 0.1069045 | AA9: 1.25 | AB9: =(Y9/100)*(Z9^2)*AA9 -> 0.0015714286 | AD9: 50 | AE9: 100 | AF9: =AE8-AE9 -> 0 | AG9: =6/SQRT(AD8*AD9) -> 0.1069045 | AH9: 1.25 | AI9: =(AF9/100)*(AG9^2)*AH9 -> 0 | AK9: 50 | AL9: 48 | AM9: =AL8-AL9 -> 8 | AN9: =6/SQRT(AK8*AK9) -> 0.1069045 | AO9: 1.25 | AP9: =(AM9/100)*(AN9^2)*AO9 -> 0.0011428571 | AR9: 50 | AS9: 100 | AT9: =AS8-AS9 -> 0 | AU9: =6/SQRT(AR8*AR9) -> 0.1069045 | AV9: 1.25 | AW9: =(AT9/100)*(AU9^2)*AV9 -> 0 | AY9: 50 | AZ9: 100 | BA9: =AZ8-AZ9 -> 0 | BB9: =6/SQRT(AY8*AY9) -> 0.1069045 | BC9: 1.25 | BD9: =(BA9/100)*(BB9^2)*BC9 -> 0 | BF9: 50 | BG9: 100 | BH9: =BG8-BG9 -> 0 | BI9: =6/SQRT(BF8*BF9) -> 0.1069045 | BJ9: 1.25 | BK9: =(BH9/100)*(BI9^2)*BJ9 -> 0 | BM9: 50 | BN9: 100 | BO9: =BN8-BN9 -> 0 | BP9: =6/SQRT(BM8*BM9) -> 0.1069045 | BQ9: 1.25 | BR9: =(BO9/100)*(BP9^2)*BQ9 -> 0 | BT9: 50 | BU9: 100 | BV9: =BU8-BU9 -> 0 | BW9: =6/SQRT(BT8*BT9) -> 0.1069045 | BX9: 1.25 | BY9: =(BV9/100)*(BW9^2)*BX9 -> 0 | CA9: 50 | CB9: 100 | CC9: =CB8-CB9 -> 0 | CD9: =6/SQRT(CA8*CA9) -> 0.1069045 | CE9: 1.25 | CF9: =(CC9/100)*(CD9^2)*CE9 -> 0 | CH9: 50 | CI9: 100 | CJ9: =CI8-CI9 -> 0 | CK9: =6/SQRT(CH8*CH9) -> 0.1069045 | CL9: 1.25 | CM9: =(CJ9/100)*(CK9^2)*CL9 -> 0 | CO9: 50 | CP9: 100 | CQ9: =CP8-CP9 -> 0 | CR9: =6/SQRT(CO8*CO9) -> 0.1069045 | CS9: 1.25 | CT9: =(CQ9/100)*(CR9^2)*CS9 -> 0 | CV9: 50 | CW9: 100 | CX9: =CW8-CW9 -> 0 | CY9: =6/SQRT(CV8*CV9) -> 0.1069045 | CZ9: 1.25 | DA9: =(CX9/100)*(CY9^2)*CZ9 -> 0 | DC9: 50 | DD9: 100 | DE9: =DD8-DD9 -> 0 | DF9: =6/SQRT(DC8*DC9) -> 0.1069045 | DG9: 1.25 | DH9: =(DE9/100)*(DF9^2)*DG9 -> 0 | DJ9: 50 | DK9: 100 | DL9: =DK8-DK9 -> 0 | DM9: =6/SQRT(DJ8*DJ9) -> 0.1069045 | DN9: 1.25 | DO9: =(DL9/100)*(DM9^2)*DN9 -> 0 | DQ9: 50 | DR9: 100 | DS9: =DR8-DR9 -> 0 | DT9: =6/SQRT(DQ8*DQ9) -> 0.1069045 | DU9: 1.25 | DV9: =(DS9/100)*(DT9^2)*DU9 -> 0 | DX9: 50 | DY9: 100 | DZ9: =DY8-DY9 -> 0 | EA9: =6/SQRT(DX8*DX9) -> 0.1069045 | EB9: 1.25 | EC9: =(DZ9/100)*(EA9^2)*EB9 -> 0 | EE9: 50 | EF9: 100 | EG9: =EF8-EF9 -> 0 | EH9: =6/SQRT(EE8*EE9) -> 0.1069045 | EI9: 1.25 | EJ9: =(EG9/100)*(EH9^2)*EI9 -> 0 | EL9: 50 | EM9: 100 | EN9: =EM8-EM9 -> 0 | EO9: =6/SQRT(EL8*EL9) -> 0.1069045 | EP9: 1.25 | EQ9: =(EN9/100)*(EO9^2)*EP9 -> 0 | ES9: 50 | ET9: 100 | EU9: =ET8-ET9 -> 0 | EV9: =6/SQRT(ES8*ES9) -> 0.1069045 | EW9: 1.25 | EX9: =(EU9/100)*(EV9^2)*EW9 -> 0
B10: 37.5 | C10: 93 | D10: =C9-C10 -> 7 | E10: =6/SQRT(B9*B10) -> 0.13856406 | F10: 1.25 | G10: =(D10/100)*(E10^2)*F10 -> 0.00168 | I10: 37.5 | J10: 100 | K10: =J9-J10 -> 0 | L10: =6/SQRT(I9*I10) -> 0.13856406 | M10: 1.25 | N10: =(K10/100)*(L10^2)*M10 -> 0 | P10: 37.5 | Q10: 95 | R10: =Q9-Q10 -> 5 | S10: =6/SQRT(P9*P10) -> 0.13856406 | T10: 1.25 | U10: =(R10/100)*(S10^2)*T10 -> 0.0012 | W10: 37.5 | X10: 76 | Y10: =X9-X10 -> 13 | Z10: =6/SQRT(W9*W10) -> 0.13856406 | AA10: 1.25 | AB10: =(Y10/100)*(Z10^2)*AA10 -> 0.00312 | AD10: 37.5 | AE10: 97 | AF10: =AE9-AE10 -> 3 | AG10: =6/SQRT(AD9*AD10) -> 0.13856406 | AH10: 1.25 | AI10: =(AF10/100)*(AG10^2)*AH10 -> 0.00072 | AK10: 37.5 | AL10: 48 | AM10: =AL9-AL10 -> 0 | AN10: =6/SQRT(AK9*AK10) -> 0.13856406 | AO10: 1.25 | AP10: =(AM10/100)*(AN10^2)*AO10 -> 0 | AR10: 37.5 | AS10: 100 | AT10: =AS9-AS10 -> 0 | AU10: =6/SQRT(AR9*AR10) -> 0.13856406 | AV10: 1.25 | AW10: =(AT10/100)*(AU10^2)*AV10 -> 0 | AY10: 37.5 | AZ10: 100 | BA10: =AZ9-AZ10 -> 0 | BB10: =6/SQRT(AY9*AY10) -> 0.13856406 | BC10: 1.25 | BD10: =(BA10/100)*(BB10^2)*BC10 -> 0 | BF10: 37.5 | BG10: 96 | BH10: =BG9-BG10 -> 4 | BI10: =6/SQRT(BF9*BF10) -> 0.13856406 | BJ10: 1.25 | BK10: =(BH10/100)*(BI10^2)*BJ10 -> 0.00096 | BM10: 37.5 | BN10: 100 | BO10: =BN9-BN10 -> 0 | BP10: =6/SQRT(BM9*BM10) -> 0.13856406 | BQ10: 1.25 | BR10: =(BO10/100)*(BP10^2)*BQ10 -> 0 | BT10: 37.5 | BU10: 100 | BV10: =BU9-BU10 -> 0 | BW10: =6/SQRT(BT9*BT10) -> 0.13856406 | BX10: 1.25 | BY10: =(BV10/100)*(BW10^2)*BX10 -> 0 | CA10: 37.5 | CB10: 100 | CC10: =CB9-CB10 -> 0 | CD10: =6/SQRT(CA9*CA10) -> 0.13856406 | CE10: 1.25 | CF10: =(CC10/100)*(CD10^2)*CE10 -> 0 | CH10: 37.5 | CI10: 100 | CJ10: =CI9-CI10 -> 0 | CK10: =6/SQRT(CH9*CH10) -> 0.13856406 | CL10: 1.25 | CM10: =(CJ10/100)*(CK10^2)*CL10 -> 0 | CO10: 37.5 | CP10: 96 | CQ10: =CP9-CP10 -> 4 | CR10: =6/SQRT(CO9*CO10) -> 0.13856406 | CS10: 1.25 | CT10: =(CQ10/100)*(CR10^2)*CS10 -> 0.00096 | CV10: 37.5 | CW10: 80 | CX10: =CW9-CW10 -> 20 | CY10: =6/SQRT(CV9*CV10) -> 0.13856406 | CZ10: 1.25 | DA10: =(CX10/100)*(CY10^2)*CZ10 -> 0.0048 | DC10: 37.5 | DD10: 100 | DE10: =DD9-DD10 -> 0 | DF10: =6/SQRT(DC9*DC10) -> 0.13856406 | DG10: 1.25 | DH10: =(DE10/100)*(DF10^2)*DG10 -> 0 | DJ10: 37.5 | DK10: 100 | DL10: =DK9-DK10 -> 0 | DM10: =6/SQRT(DJ9*DJ10) -> 0.13856406 | DN10: 1.25 | DO10: =(DL10/100)*(DM10^2)*DN10 -> 0 | DQ10: 37.5 | DR10: 100 | DS10: =DR9-DR10 -> 0 | DT10: =6/SQRT(DQ9*DQ10) -> 0.13856406 | DU10: 1.25 | DV10: =(DS10/100)*(DT10^2)*DU10 -> 0 | DX10: 37.5 | DY10: 100 | DZ10: =DY9-DY10 -> 0 | EA10: =6/SQRT(DX9*DX10) -> 0.13856406 | EB10: 1.25 | EC10: =(DZ10/100)*(EA10^2)*EB10 -> 0 | EE10: 37.5 | EF10: 100 | EG10: =EF9-EF10 -> 0 | EH10: =6/SQRT(EE9*EE10) -> 0.13856406 | EI10: 1.25 | EJ10: =(EG10/100)*(EH10^2)*EI10 -> 0 | EL10: 37.5 | EM10: 100 | EN10: =EM9-EM10 -> 0 | EO10: =6/SQRT(EL9*EL10) -> 0.13856406 | EP10: 1.25 | EQ10: =(EN10/100)*(EO10^2)*EP10 -> 0 | ES10: 37.5 | ET10: 100 | EU10: =ET9-ET10 -> 0 | EV10: =6/SQRT(ES9*ES10) -> 0.13856406 | EW10: 1.25 | EX10: =(EU10/100)*(EV10^2)*EW10 -> 0
B11: 30 | C11: 93 | D11: =C10-C11 -> 0 | E11: =6/SQRT(B10*B11) -> 0.17888544 | F11: 1.25 | G11: =(D11/100)*(E11^2)*F11 -> 0 | I11: 30 | J11: 100 | K11: =J10-J11 -> 0 | L11: =6/SQRT(I10*I11) -> 0.17888544 | M11: 1.25 | N11: =(K11/100)*(L11^2)*M11 -> 0 | P11: 30 | Q11: 100 | R11: =Q10-Q11 -> -5 | S11: =6/SQRT(P10*P11) -> 0.17888544 | T11: 1.25 | U11: =(R11/100)*(S11^2)*T11 -> -0.002 | W11: 30 | X11: 100 | Y11: =X10-X11 -> -24 | Z11: =6/SQRT(W10*W11) -> 0.17888544 | AA11: 1.25 | AB11: =(Y11/100)*(Z11^2)*AA11 -> -0.0096 | AD11: 30 | AE11: 100 | AF11: =AE10-AE11 -> -3 | AG11: =6/SQRT(AD10*AD11) -> 0.17888544 | AH11: 1.25 | AI11: =(AF11/100)*(AG11^2)*AH11 -> -0.0012 | AK11: 30 | AL11: 56 | AM11: =AL10-AL11 -> -8 | AN11: =6/SQRT(AK10*AK11) -> 0.17888544 | AO11: 1.25 | AP11: =(AM11/100)*(AN11^2)*AO11 -> -0.0032 | AR11: 30 | AS11: 100 | AT11: =AS10-AS11 -> 0 | AU11: =6/SQRT(AR10*AR11) -> 0.17888544 | AV11: 1.25 | AW11: =(AT11/100)*(AU11^2)*AV11 -> 0 | AY11: 30 | AZ11: 100 | BA11: =AZ10-AZ11 -> 0 | BB11: =6/SQRT(AY10*AY11) -> 0.17888544 | BC11: 1.25 | BD11: =(BA11/100)*(BB11^2)*BC11 -> 0 | BF11: 30 | BG11: 100 | BH11: =BG10-BG11 -> -4 | BI11: =6/SQRT(BF10*BF11) -> 0.17888544 | BJ11: 1.25 | BK11: =(BH11/100)*(BI11^2)*BJ11 -> -0.0016 | BM11: 30 | BN11: 100 | BO11: =BN10-BN11 -> 0 | BP11: =6/SQRT(BM10*BM11) -> 0.17888544 | BQ11: 1.25 | BR11: =(BO11/100)*(BP11^2)*BQ11 -> 0 | BT11: 30 | BU11: 100 | BV11: =BU10-BU11 -> 0 | BW11: =6/SQRT(BT10*BT11) -> 0.17888544 | BX11: 1.25 | BY11: =(BV11/100)*(BW11^2)*BX11 -> 0 | CA11: 30 | CB11: 100 | CC11: =CB10-CB11 -> 0 | CD11: =6/SQRT(CA10*CA11) -> 0.17888544 | CE11: 1.25 | CF11: =(CC11/100)*(CD11^2)*CE11 -> 0 | CH11: 30 | CI11: 100 | CJ11: =CI10-CI11 -> 0 | CK11: =6/SQRT(CH10*CH11) -> 0.17888544 | CL11: 1.25 | CM11: =(CJ11/100)*(CK11^2)*CL11 -> 0 | CO11: 30 | CP11: 100 | CQ11: =CP10-CP11 -> -4 | CR11: =6/SQRT(CO10*CO11) -> 0.17888544 | CS11: 1.25 | CT11: =(CQ11/100)*(CR11^2)*CS11 -> -0.0016 | CV11: 30 | CW11: 100 | CX11: =CW10-CW11 -> -20 | CY11: =6/SQRT(CV10*CV11) -> 0.17888544 | CZ11: 1.25 | DA11: =(CX11/100)*(CY11^2)*CZ11 -> -0.008 | DC11: 30 | DD11: 100 | DE11: =DD10-DD11 -> 0 | DF11: =6/SQRT(DC10*DC11) -> 0.17888544 | DG11: 1.25 | DH11: =(DE11/100)*(DF11^2)*DG11 -> 0 | DJ11: 30 | DK11: 100 | DL11: =DK10-DK11 -> 0 | DM11: =6/SQRT(DJ10*DJ11) -> 0.17888544 | DN11: 1.25 | DO11: =(DL11/100)*(DM11^2)*DN11 -> 0 | DQ11: 30 | DR11: 100 | DS11: =DR10-DR11 -> 0 | DT11: =6/SQRT(DQ10*DQ11) -> 0.17888544 | DU11: 1.25 | DV11: =(DS11/100)*(DT11^2)*DU11 -> 0 | DX11: 30 | DY11: 100 | DZ11: =DY10-DY11 -> 0 | EA11: =6/SQRT(DX10*DX11) -> 0.17888544 | EB11: 1.25 | EC11: =(DZ11/100)*(EA11^2)*EB11 -> 0 | EE11: 30 | EF11: 100 | EG11: =EF10-EF11 -> 0 | EH11: =6/SQRT(EE10*EE11) -> 0.17888544 | EI11: 1.25 | EJ11: =(EG11/100)*(EH11^2)*EI11 -> 0 | EL11: 30 | EM11: 100 | EN11: =EM10-EM11 -> 0 | EO11: =6/SQRT(EL10*EL11) -> 0.17888544 | EP11: 1.25 | EQ11: =(EN11/100)*(EO11^2)*EP11 -> 0 | ES11: 30 | ET11: 100 | EU11: =ET10-ET11 -> 0 | EV11: =6/SQRT(ES10*ES11) -> 0.17888544 | EW11: 1.25 | EX11: =(EU11/100)*(EV11^2)*EW11 -> 0
B12: 28 | C12: 93 | D12: =C11-C12 -> 0 | E12: =6/SQRT(B11*B12) -> 0.20701967 | F12: 1.25 | G12: =(D12/100)*(E12^2)*F12 -> 0 | I12: 28 | J12: 93 | K12: =J11-J12 -> 7 | L12: =6/SQRT(I11*I12) -> 0.20701967 | M12: 1.25 | N12: =(K12/100)*(L12^2)*M12 -> 0.00375 | P12: 28 | Q12: 89 | R12: =Q11-Q12 -> 11 | S12: =6/SQRT(P11*P12) -> 0.20701967 | T12: 1.25 | U12: =(R12/100)*(S12^2)*T12 -> 0.0058928571 | W12: 28 | X12: 71 | Y12: =X11-X12 -> 29 | Z12: =6/SQRT(W11*W12) -> 0.20701967 | AA12: 1.25 | AB12: =(Y12/100)*(Z12^2)*AA12 -> 0.015535714 | AD12: 28 | AE12: 89 | AF12: =AE11-AE12 -> 11 | AG12: =6/SQRT(AD11*AD12) -> 0.20701967 | AH12: 1.25 | AI12: =(AF12/100)*(AG12^2)*AH12 -> 0.0058928571 | AK12: 28 | AL12: 48 | AM12: =AL11-AL12 -> 8 | AN12: =6/SQRT(AK11*AK12) -> 0.20701967 | AO12: 1.25 | AP12: =(AM12/100)*(AN12^2)*AO12 -> 0.0042857143 | AR12: 28 | AS12: 100 | AT12: =AS11-AS12 -> 0 | AU12: =6/SQRT(AR11*AR12) -> 0.20701967 | AV12: 1.25 | AW12: =(AT12/100)*(AU12^2)*AV12 -> 0 | AY12: 28 | AZ12: 100 | BA12: =AZ11-AZ12 -> 0 | BB12: =6/SQRT(AY11*AY12) -> 0.20701967 | BC12: 1.25 | BD12: =(BA12/100)*(BB12^2)*BC12 -> 0 | BF12: 28 | BG12: 96 | BH12: =BG11-BG12 -> 4 | BI12: =6/SQRT(BF11*BF12) -> 0.20701967 | BJ12: 1.25 | BK12: =(BH12/100)*(BI12^2)*BJ12 -> 0.0021428571 | BM12: 28 | BN12: 100 | BO12: =BN11-BN12 -> 0 | BP12: =6/SQRT(BM11*BM12) -> 0.20701967 | BQ12: 1.25 | BR12: =(BO12/100)*(BP12^2)*BQ12 -> 0 | BT12: 28 | BU12: 100 | BV12: =BU11-BU12 -> 0 | BW12: =6/SQRT(BT11*BT12) -> 0.20701967 | BX12: 1.25 | BY12: =(BV12/100)*(BW12^2)*BX12 -> 0 | CA12: 28 | CB12: 98 | CC12: =CB11-CB12 -> 2 | CD12: =6/SQRT(CA11*CA12) -> 0.20701967 | CE12: 1.25 | CF12: =(CC12/100)*(CD12^2)*CE12 -> 0.0010714286 | CH12: 28 | CI12: 100 | CJ12: =CI11-CI12 -> 0 | CK12: =6/SQRT(CH11*CH12) -> 0.20701967 | CL12: 1.25 | CM12: =(CJ12/100)*(CK12^2)*CL12 -> 0 | CO12: 28 | CP12: 96 | CQ12: =CP11-CP12 -> 4 | CR12: =6/SQRT(CO11*CO12) -> 0.20701967 | CS12: 1.25 | CT12: =(CQ12/100)*(CR12^2)*CS12 -> 0.0021428571 | CV12: 28 | CW12: 60 | CX12: =CW11-CW12 -> 40 | CY12: =6/SQRT(CV11*CV12) -> 0.20701967 | CZ12: 1.25 | DA12: =(CX12/100)*(CY12^2)*CZ12 -> 0.021428571 | DC12: 28 | DD12: 100 | DE12: =DD11-DD12 -> 0 | DF12: =6/SQRT(DC11*DC12) -> 0.20701967 | DG12: 1.25 | DH12: =(DE12/100)*(DF12^2)*DG12 -> 0 | DJ12: 28 | DK12: 100 | DL12: =DK11-DK12 -> 0 | DM12: =6/SQRT(DJ11*DJ12) -> 0.20701967 | DN12: 1.25 | DO12: =(DL12/100)*(DM12^2)*DN12 -> 0 | DQ12: 28 | DR12: 100 | DS12: =DR11-DR12 -> 0 | DT12: =6/SQRT(DQ11*DQ12) -> 0.20701967 | DU12: 1.25 | DV12: =(DS12/100)*(DT12^2)*DU12 -> 0 | DX12: 28 | DY12: 100 | DZ12: =DY11-DY12 -> 0 | EA12: =6/SQRT(DX11*DX12) -> 0.20701967 | EB12: 1.25 | EC12: =(DZ12/100)*(EA12^2)*EB12 -> 0 | EE12: 28 | EF12: 95 | EG12: =EF11-EF12 -> 5 | EH12: =6/SQRT(EE11*EE12) -> 0.20701967 | EI12: 1.25 | EJ12: =(EG12/100)*(EH12^2)*EI12 -> 0.0026785714 | EL12: 28 | EM12: 100 | EN12: =EM11-EM12 -> 0 | EO12: =6/SQRT(EL11*EL12) -> 0.20701967 | EP12: 1.25 | EQ12: =(EN12/100)*(EO12^2)*EP12 -> 0 | ES12: 28 | ET12: 100 | EU12: =ET11-ET12 -> 0 | EV12: =6/SQRT(ES11*ES12) -> 0.20701967 | EW12: 1.25 | EX12: =(EU12/100)*(EV12^2)*EW12 -> 0
B13: 20 | C13: 91 | D13: =C12-C13 -> 2 | E13: =6/SQRT(B12*B13) -> 0.25354628 | F13: 1.25 | G13: =(D13/100)*(E13^2)*F13 -> 0.0016071429 | I13: 20 | J13: 76 | K13: =J12-J13 -> 17 | L13: =6/SQRT(I12*I13) -> 0.25354628 | M13: 1.25 | N13: =(K13/100)*(L13^2)*M13 -> 0.013660714 | P13: 20 | Q13: 76 | R13: =Q12-Q13 -> 13 | S13: =6/SQRT(P12*P13) -> 0.25354628 | T13: 1.25 | U13: =(R13/100)*(S13^2)*T13 -> 0.010446429 | W13: 20 | X13: 55 | Y13: =X12-X13 -> 16 | Z13: =6/SQRT(W12*W13) -> 0.25354628 | AA13: 1.25 | AB13: =(Y13/100)*(Z13^2)*AA13 -> 0.012857143 | AD13: 20 | AE13: 84 | AF13: =AE12-AE13 -> 5 | AG13: =6/SQRT(AD12*AD13) -> 0.25354628 | AH13: 1.25 | AI13: =(AF13/100)*(AG13^2)*AH13 -> 0.0040178571 | AK13: 20 | AL13: 46 | AM13: =AL12-AL13 -> 2 | AN13: =6/SQRT(AK12*AK13) -> 0.25354628 | AO13: 1.25 | AP13: =(AM13/100)*(AN13^2)*AO13 -> 0.0016071429 | AR13: 20 | AS13: 98 | AT13: =AS12-AS13 -> 2 | AU13: =6/SQRT(AR12*AR13) -> 0.25354628 | AV13: 1.25 | AW13: =(AT13/100)*(AU13^2)*AV13 -> 0.0016071429 | AY13: 20 | AZ13: 99 | BA13: =AZ12-AZ13 -> 1 | BB13: =6/SQRT(AY12*AY13) -> 0.25354628 | BC13: 1.25 | BD13: =(BA13/100)*(BB13^2)*BC13 -> 0.00080357143 | BF13: 20 | BG13: 92 | BH13: =BG12-BG13 -> 4 | BI13: =6/SQRT(BF12*BF13) -> 0.25354628 | BJ13: 1.25 | BK13: =(BH13/100)*(BI13^2)*BJ13 -> 0.0032142857 | BM13: 20 | BN13: 99 | BO13: =BN12-BN13 -> 1 | BP13: =6/SQRT(BM12*BM13) -> 0.25354628 | BQ13: 1.25 | BR13: =(BO13/100)*(BP13^2)*BQ13 -> 0.00080357143 | BT13: 20 | BU13: 100 | BV13: =BU12-BU13 -> 0 | BW13: =6/SQRT(BT12*BT13) -> 0.25354628 | BX13: 1.25 | BY13: =(BV13/100)*(BW13^2)*BX13 -> 0 | CA13: 20 | CB13: 96 | CC13: =CB12-CB13 -> 2 | CD13: =6/SQRT(CA12*CA13) -> 0.25354628 | CE13: 1.25 | CF13: =(CC13/100)*(CD13^2)*CE13 -> 0.0016071429 | CH13: 20 | CI13: 100 | CJ13: =CI12-CI13 -> 0 | CK13: =6/SQRT(CH12*CH13) -> 0.25354628 | CL13: 1.25 | CM13: =(CJ13/100)*(CK13^2)*CL13 -> 0 | CO13: 20 | CP13: 96 | CQ13: =CP12-CP13 -> 0 | CR13: =6/SQRT(CO12*CO13) -> 0.25354628 | CS13: 1.25 | CT13: =(CQ13/100)*(CR13^2)*CS13 -> 0 | CV13: 20 | CW13: 52 | CX13: =CW12-CW13 -> 8 | CY13: =6/SQRT(CV12*CV13) -> 0.25354628 | CZ13: 1.25 | DA13: =(CX13/100)*(CY13^2)*CZ13 -> 0.0064285714 | DC13: 20 | DD13: 94 | DE13: =DD12-DD13 -> 6 | DF13: =6/SQRT(DC12*DC13) -> 0.25354628 | DG13: 1.25 | DH13: =(DE13/100)*(DF13^2)*DG13 -> 0.0048214286 | DJ13: 20 | DK13: 96 | DL13: =DK12-DK13 -> 4 | DM13: =6/SQRT(DJ12*DJ13) -> 0.25354628 | DN13: 1.25 | DO13: =(DL13/100)*(DM13^2)*DN13 -> 0.0032142857 | DQ13: 20 | DR13: 91 | DS13: =DR12-DR13 -> 9 | DT13: =6/SQRT(DQ12*DQ13) -> 0.25354628 | DU13: 1.25 | DV13: =(DS13/100)*(DT13^2)*DU13 -> 0.0072321429 | DX13: 20 | DY13: 95 | DZ13: =DY12-DY13 -> 5 | EA13: =6/SQRT(DX12*DX13) -> 0.25354628 | EB13: 1.25 | EC13: =(DZ13/100)*(EA13^2)*EB13 -> 0.0040178571 | EE13: 20 | EF13: 86 | EG13: =EF12-EF13 -> 9 | EH13: =6/SQRT(EE12*EE13) -> 0.25354628 | EI13: 1.25 | EJ13: =(EG13/100)*(EH13^2)*EI13 -> 0.0072321429 | EL13: 20 | EM13: 98 | EN13: =EM12-EM13 -> 2 | EO13: =6/SQRT(EL12*EL13) -> 0.25354628 | EP13: 1.25 | EQ13: =(EN13/100)*(EO13^2)*EP13 -> 0.0016071429 | ES13: 20 | ET13: 99 | EU13: =ET12-ET13 -> 1 | EV13: =6/SQRT(ES12*ES13) -> 0.25354628 | EW13: 1.25 | EX13: =(EU13/100)*(EV13^2)*EW13 -> 0.00080357143
B14: 14 | C14: 85 | D14: =C13-C14 -> 6 | E14: =6/SQRT(B13*B14) -> 0.35856858 | F14: 1.25 | G14: =(D14/100)*(E14^2)*F14 -> 0.0096428571 | I14: 14 | J14: 76 | K14: =J13-J14 -> 0 | L14: =6/SQRT(I13*I14) -> 0.35856858 | M14: 1.25 | N14: =(K14/100)*(L14^2)*M14 -> 0 | P14: 14 | Q14: 61 | R14: =Q13-Q14 -> 15 | S14: =6/SQRT(P13*P14) -> 0.35856858 | T14: 1.25 | U14: =(R14/100)*(S14^2)*T14 -> 0.024107143 | W14: 14 | X14: 47 | Y14: =X13-X14 -> 8 | Z14: =6/SQRT(W13*W14) -> 0.35856858 | AA14: 1.25 | AB14: =(Y14/100)*(Z14^2)*AA14 -> 0.012857143 | AD14: 14 | AE14: 84 | AF14: =AE13-AE14 -> 0 | AG14: =6/SQRT(AD13*AD14) -> 0.35856858 | AH14: 1.25 | AI14: =(AF14/100)*(AG14^2)*AH14 -> 0 | AK14: 14 | AL14: 44 | AM14: =AL13-AL14 -> 2 | AN14: =6/SQRT(AK13*AK14) -> 0.35856858 | AO14: 1.25 | AP14: =(AM14/100)*(AN14^2)*AO14 -> 0.0032142857 | AR14: 14 | AS14: 95 | AT14: =AS13-AS14 -> 3 | AU14: =6/SQRT(AR13*AR14) -> 0.35856858 | AV14: 1.25 | AW14: =(AT14/100)*(AU14^2)*AV14 -> 0.0048214286 | AY14: 14 | AZ14: 97 | BA14: =AZ13-AZ14 -> 2 | BB14: =6/SQRT(AY13*AY14) -> 0.35856858 | BC14: 1.25 | BD14: =(BA14/100)*(BB14^2)*BC14 -> 0.0032142857 | BF14: 14 | BG14: 92 | BH14: =BG13-BG14 -> 0 | BI14: =6/SQRT(BF13*BF14) -> 0.35856858 | BJ14: 1.25 | BK14: =(BH14/100)*(BI14^2)*BJ14 -> 0 | BM14: 14 | BN14: 90 | BO14: =BN13-BN14 -> 9 | BP14: =6/SQRT(BM13*BM14) -> 0.35856858 | BQ14: 1.25 | BR14: =(BO14/100)*(BP14^2)*BQ14 -> 0.014464286 | BT14: 14 | BU14: 100 | BV14: =BU13-BU14 -> 0 | BW14: =6/SQRT(BT13*BT14) -> 0.35856858 | BX14: 1.25 | BY14: =(BV14/100)*(BW14^2)*BX14 -> 0 | CA14: 14 | CB14: 91 | CC14: =CB13-CB14 -> 5 | CD14: =6/SQRT(CA13*CA14) -> 0.35856858 | CE14: 1.25 | CF14: =(CC14/100)*(CD14^2)*CE14 -> 0.0080357143 | CH14: 14 | CI14: 100 | CJ14: =CI13-CI14 -> 0 | CK14: =6/SQRT(CH13*CH14) -> 0.35856858 | CL14: 1.25 | CM14: =(CJ14/100)*(CK14^2)*CL14 -> 0 | CO14: 14 | CP14: 96 | CQ14: =CP13-CP14 -> 0 | CR14: =6/SQRT(CO13*CO14) -> 0.35856858 | CS14: 1.25 | CT14: =(CQ14/100)*(CR14^2)*CS14 -> 0 | CV14: 14 | CW14: 44 | CX14: =CW13-CW14 -> 8 | CY14: =6/SQRT(CV13*CV14) -> 0.35856858 | CZ14: 1.25 | DA14: =(CX14/100)*(CY14^2)*CZ14 -> 0.012857143 | DC14: 14 | DD14: 86 | DE14: =DD13-DD14 -> 8 | DF14: =6/SQRT(DC13*DC14) -> 0.35856858 | DG14: 1.25 | DH14: =(DE14/100)*(DF14^2)*DG14 -> 0.012857143 | DJ14: 14 | DK14: 94 | DL14: =DK13-DK14 -> 2 | DM14: =6/SQRT(DJ13*DJ14) -> 0.35856858 | DN14: 1.25 | DO14: =(DL14/100)*(DM14^2)*DN14 -> 0.0032142857 | DQ14: 14 | DR14: 80 | DS14: =DR13-DR14 -> 11 | DT14: =6/SQRT(DQ13*DQ14) -> 0.35856858 | DU14: 1.25 | DV14: =(DS14/100)*(DT14^2)*DU14 -> 0.017678571 | DX14: 14 | DY14: 91 | DZ14: =DY13-DY14 -> 4 | EA14: =6/SQRT(DX13*DX14) -> 0.35856858 | EB14: 1.25 | EC14: =(DZ14/100)*(EA14^2)*EB14 -> 0.0064285714 | EE14: 14 | EF14: 79 | EG14: =EF13-EF14 -> 7 | EH14: =6/SQRT(EE13*EE14) -> 0.35856858 | EI14: 1.25 | EJ14: =(EG14/100)*(EH14^2)*EI14 -> 0.01125 | EL14: 14 | EM14: 97 | EN14: =EM13-EM14 -> 1 | EO14: =6/SQRT(EL13*EL14) -> 0.35856858 | EP14: 1.25 | EQ14: =(EN14/100)*(EO14^2)*EP14 -> 0.0016071429 | ES14: 14 | ET14: 95 | EU14: =ET13-ET14 -> 4 | EV14: =6/SQRT(ES13*ES14) -> 0.35856858 | EW14: 1.25 | EX14: =(EU14/100)*(EV14^2)*EW14 -> 0.0064285714
B15: 10 | C15: 82 | D15: =C14-C15 -> 3 | E15: =6/SQRT(B14*B15) -> 0.50709255 | F15: 1.25 | G15: =(D15/100)*(E15^2)*F15 -> 0.0096428571 | I15: 10 | J15: 76 | K15: =J14-J15 -> 0 | L15: =6/SQRT(I14*I15) -> 0.50709255 | M15: 1.25 | N15: =(K15/100)*(L15^2)*M15 -> 0 | P15: 10 | Q15: 55 | R15: =Q14-Q15 -> 6 | S15: =6/SQRT(P14*P15) -> 0.50709255 | T15: 1.25 | U15: =(R15/100)*(S15^2)*T15 -> 0.019285714 | W15: 10 | X15: 41 | Y15: =X14-X15 -> 6 | Z15: =6/SQRT(W14*W15) -> 0.50709255 | AA15: 1.25 | AB15: =(Y15/100)*(Z15^2)*AA15 -> 0.019285714 | AD15: 10 | AE15: 84 | AF15: =AE14-AE15 -> 0 | AG15: =6/SQRT(AD14*AD15) -> 0.50709255 | AH15: 1.25 | AI15: =(AF15/100)*(AG15^2)*AH15 -> 0 | AK15: 10 | AL15: 42 | AM15: =AL14-AL15 -> 2 | AN15: =6/SQRT(AK14*AK15) -> 0.50709255 | AO15: 1.25 | AP15: =(AM15/100)*(AN15^2)*AO15 -> 0.0064285714 | AR15: 10 | AS15: 93 | AT15: =AS14-AS15 -> 2 | AU15: =6/SQRT(AR14*AR15) -> 0.50709255 | AV15: 1.25 | AW15: =(AT15/100)*(AU15^2)*AV15 -> 0.0064285714 | AY15: 10 | AZ15: 97 | BA15: =AZ14-AZ15 -> 0 | BB15: =6/SQRT(AY14*AY15) -> 0.50709255 | BC15: 1.25 | BD15: =(BA15/100)*(BB15^2)*BC15 -> 0 | BF15: 10 | BG15: 87 | BH15: =BG14-BG15 -> 5 | BI15: =6/SQRT(BF14*BF15) -> 0.50709255 | BJ15: 1.25 | BK15: =(BH15/100)*(BI15^2)*BJ15 -> 0.016071429 | BM15: 10 | BN15: 87 | BO15: =BN14-BN15 -> 3 | BP15: =6/SQRT(BM14*BM15) -> 0.50709255 | BQ15: 1.25 | BR15: =(BO15/100)*(BP15^2)*BQ15 -> 0.0096428571 | BT15: 10 | BU15: 100 | BV15: =BU14-BU15 -> 0 | BW15: =6/SQRT(BT14*BT15) -> 0.50709255 | BX15: 1.25 | BY15: =(BV15/100)*(BW15^2)*BX15 -> 0 | CA15: 10 | CB15: 88 | CC15: =CB14-CB15 -> 3 | CD15: =6/SQRT(CA14*CA15) -> 0.50709255 | CE15: 1.25 | CF15: =(CC15/100)*(CD15^2)*CE15 -> 0.0096428571 | CH15: 10 | CI15: 100 | CJ15: =CI14-CI15 -> 0 | CK15: =6/SQRT(CH14*CH15) -> 0.50709255 | CL15: 1.25 | CM15: =(CJ15/100)*(CK15^2)*CL15 -> 0 | CO15: 10 | CP15: 96 | CQ15: =CP14-CP15 -> 0 | CR15: =6/SQRT(CO14*CO15) -> 0.50709255 | CS15: 1.25 | CT15: =(CQ15/100)*(CR15^2)*CS15 -> 0 | CV15: 10 | CW15: 37 | CX15: =CW14-CW15 -> 7 | CY15: =6/SQRT(CV14*CV15) -> 0.50709255 | CZ15: 1.25 | DA15: =(CX15/100)*(CY15^2)*CZ15 -> 0.0225 | DC15: 10 | DD15: 82 | DE15: =DD14-DD15 -> 4 | DF15: =6/SQRT(DC14*DC15) -> 0.50709255 | DG15: 1.25 | DH15: =(DE15/100)*(DF15^2)*DG15 -> 0.012857143 | DJ15: 10 | DK15: 94 | DL15: =DK14-DK15 -> 0 | DM15: =6/SQRT(DJ14*DJ15) -> 0.50709255 | DN15: 1.25 | DO15: =(DL15/100)*(DM15^2)*DN15 -> 0 | DQ15: 10 | DR15: 75 | DS15: =DR14-DR15 -> 5 | DT15: =6/SQRT(DQ14*DQ15) -> 0.50709255 | DU15: 1.25 | DV15: =(DS15/100)*(DT15^2)*DU15 -> 0.016071429 | DX15: 10 | DY15: 86 | DZ15: =DY14-DY15 -> 5 | EA15: =6/SQRT(DX14*DX15) -> 0.50709255 | EB15: 1.25 | EC15: =(DZ15/100)*(EA15^2)*EB15 -> 0.016071429 | EE15: 10 | EF15: 74 | EG15: =EF14-EF15 -> 5 | EH15: =6/SQRT(EE14*EE15) -> 0.50709255 | EI15: 1.25 | EJ15: =(EG15/100)*(EH15^2)*EI15 -> 0.016071429 | EL15: 10 | EM15: 92 | EN15: =EM14-EM15 -> 5 | EO15: =6/SQRT(EL14*EL15) -> 0.50709255 | EP15: 1.25 | EQ15: =(EN15/100)*(EO15^2)*EP15 -> 0.016071429 | ES15: 10 | ET15: 94 | EU15: =ET14-ET15 -> 1 | EV15: =6/SQRT(ES14*ES15) -> 0.50709255 | EW15: 1.25 | EX15: =(EU15/100)*(EV15^2)*EW15 -> 0.0032142857
B16: 6.3 | C16: 73 | D16: =C15-C16 -> 9 | E16: =6/SQRT(B15*B16) -> 0.75592895 | F16: 1.25 | G16: =(D16/100)*(E16^2)*F16 -> 0.064285714 | I16: 6.3 | J16: 73 | K16: =J15-J16 -> 3 | L16: =6/SQRT(I15*I16) -> 0.75592895 | M16: 1.25 | N16: =(K16/100)*(L16^2)*M16 -> 0.021428571 | P16: 6.3 | Q16: 49 | R16: =Q15-Q16 -> 6 | S16: =6/SQRT(P15*P16) -> 0.75592895 | T16: 1.25 | U16: =(R16/100)*(S16^2)*T16 -> 0.042857143 | W16: 6.3 | X16: 35 | Y16: =X15-X16 -> 6 | Z16: =6/SQRT(W15*W16) -> 0.75592895 | AA16: 1.25 | AB16: =(Y16/100)*(Z16^2)*AA16 -> 0.042857143 | AD16: 6.3 | AE16: 83 | AF16: =AE15-AE16 -> 1 | AG16: =6/SQRT(AD15*AD16) -> 0.75592895 | AH16: 1.25 | AI16: =(AF16/100)*(AG16^2)*AH16 -> 0.0071428571 | AK16: 6.3 | AL16: 41 | AM16: =AL15-AL16 -> 1 | AN16: =6/SQRT(AK15*AK16) -> 0.75592895 | AO16: 1.25 | AP16: =(AM16/100)*(AN16^2)*AO16 -> 0.0071428571 | AR16: 6.3 | AS16: 90 | AT16: =AS15-AS16 -> 3 | AU16: =6/SQRT(AR15*AR16) -> 0.75592895 | AV16: 1.25 | AW16: =(AT16/100)*(AU16^2)*AV16 -> 0.021428571 | AY16: 6.3 | AZ16: 96 | BA16: =AZ15-AZ16 -> 1 | BB16: =6/SQRT(AY15*AY16) -> 0.75592895 | BC16: 1.25 | BD16: =(BA16/100)*(BB16^2)*BC16 -> 0.0071428571 | BF16: 6.3 | BG16: 82 | BH16: =BG15-BG16 -> 5 | BI16: =6/SQRT(BF15*BF16) -> 0.75592895 | BJ16: 1.25 | BK16: =(BH16/100)*(BI16^2)*BJ16 -> 0.035714286 | BM16: 6.3 | BN16: 83 | BO16: =BN15-BN16 -> 4 | BP16: =6/SQRT(BM15*BM16) -> 0.75592895 | BQ16: 1.25 | BR16: =(BO16/100)*(BP16^2)*BQ16 -> 0.028571429 | BT16: 6.3 | BU16: 99 | BV16: =BU15-BU16 -> 1 | BW16: =6/SQRT(BT15*BT16) -> 0.75592895 | BX16: 1.25 | BY16: =(BV16/100)*(BW16^2)*BX16 -> 0.0071428571 | CA16: 6.3 | CB16: 85 | CC16: =CB15-CB16 -> 3 | CD16: =6/SQRT(CA15*CA16) -> 0.75592895 | CE16: 1.25 | CF16: =(CC16/100)*(CD16^2)*CE16 -> 0.021428571 | CH16: 6.3 | CI16: 99 | CJ16: =CI15-CI16 -> 1 | CK16: =6/SQRT(CH15*CH16) -> 0.75592895 | CL16: 1.25 | CM16: =(CJ16/100)*(CK16^2)*CL16 -> 0.0071428571 | CO16: 6.3 | CP16: 95 | CQ16: =CP15-CP16 -> 1 | CR16: =6/SQRT(CO15*CO16) -> 0.75592895 | CS16: 1.25 | CT16: =(CQ16/100)*(CR16^2)*CS16 -> 0.0071428571 | CV16: 6.3 | CW16: 32 | CX16: =CW15-CW16 -> 5 | CY16: =6/SQRT(CV15*CV16) -> 0.75592895 | CZ16: 1.25 | DA16: =(CX16/100)*(CY16^2)*CZ16 -> 0.035714286 | DC16: 6.3 | DD16: 77 | DE16: =DD15-DD16 -> 5 | DF16: =6/SQRT(DC15*DC16) -> 0.75592895 | DG16: 1.25 | DH16: =(DE16/100)*(DF16^2)*DG16 -> 0.035714286 | DJ16: 6.3 | DK16: 92 | DL16: =DK15-DK16 -> 2 | DM16: =6/SQRT(DJ15*DJ16) -> 0.75592895 | DN16: 1.25 | DO16: =(DL16/100)*(DM16^2)*DN16 -> 0.014285714 | DQ16: 6.3 | DR16: 70 | DS16: =DR15-DR16 -> 5 | DT16: =6/SQRT(DQ15*DQ16) -> 0.75592895 | DU16: 1.25 | DV16: =(DS16/100)*(DT16^2)*DU16 -> 0.035714286 | DX16: 6.3 | DY16: 81 | DZ16: =DY15-DY16 -> 5 | EA16: =6/SQRT(DX15*DX16) -> 0.75592895 | EB16: 1.25 | EC16: =(DZ16/100)*(EA16^2)*EB16 -> 0.035714286 | EE16: 6.3 | EF16: 67 | EG16: =EF15-EF16 -> 7 | EH16: =6/SQRT(EE15*EE16) -> 0.75592895 | EI16: 1.25 | EJ16: =(EG16/100)*(EH16^2)*EI16 -> 0.05 | EL16: 6.3 | EM16: 90 | EN16: =EM15-EM16 -> 2 | EO16: =6/SQRT(EL15*EL16) -> 0.75592895 | EP16: 1.25 | EQ16: =(EN16/100)*(EO16^2)*EP16 -> 0.014285714 | ES16: 6.3 | ET16: 92 | EU16: =ET15-ET16 -> 2 | EV16: =6/SQRT(ES15*ES16) -> 0.75592895 | EW16: 1.25 | EX16: =(EU16/100)*(EV16^2)*EW16 -> 0.014285714
B17: 5 | C17: 70 | D17: =C16-C17 -> 3 | E17: =6/SQRT(B16*B17) -> 1.069045 | F17: 1.25 | G17: =(D17/100)*(E17^2)*F17 -> 0.042857143 | I17: 5 | J17: 72 | K17: =J16-J17 -> 1 | L17: =6/SQRT(I16*I17) -> 1.069045 | M17: 1.25 | N17: =(K17/100)*(L17^2)*M17 -> 0.014285714 | P17: 5 | Q17: 47 | R17: =Q16-Q17 -> 2 | S17: =6/SQRT(P16*P17) -> 1.069045 | T17: 1.25 | U17: =(R17/100)*(S17^2)*T17 -> 0.028571429 | W17: 5 | X17: 31 | Y17: =X16-X17 -> 4 | Z17: =6/SQRT(W16*W17) -> 1.069045 | AA17: 1.25 | AB17: =(Y17/100)*(Z17^2)*AA17 -> 0.057142857 | AD17: 5 | AE17: 83 | AF17: =AE16-AE17 -> 0 | AG17: =6/SQRT(AD16*AD17) -> 1.069045 | AH17: 1.25 | AI17: =(AF17/100)*(AG17^2)*AH17 -> 0 | AK17: 5 | AL17: 40 | AM17: =AL16-AL17 -> 1 | AN17: =6/SQRT(AK16*AK17) -> 1.069045 | AO17: 1.25 | AP17: =(AM17/100)*(AN17^2)*AO17 -> 0.014285714 | AR17: 5 | AS17: 89 | AT17: =AS16-AS17 -> 1 | AU17: =6/SQRT(AR16*AR17) -> 1.069045 | AV17: 1.25 | AW17: =(AT17/100)*(AU17^2)*AV17 -> 0.014285714 | AY17: 5 | AZ17: 96 | BA17: =AZ16-AZ17 -> 0 | BB17: =6/SQRT(AY16*AY17) -> 1.069045 | BC17: 1.25 | BD17: =(BA17/100)*(BB17^2)*BC17 -> 0 | BF17: 5 | BG17: 80 | BH17: =BG16-BG17 -> 2 | BI17: =6/SQRT(BF16*BF17) -> 1.069045 | BJ17: 1.25 | BK17: =(BH17/100)*(BI17^2)*BJ17 -> 0.028571429 | BM17: 5 | BN17: 82 | BO17: =BN16-BN17 -> 1 | BP17: =6/SQRT(BM16*BM17) -> 1.069045 | BQ17: 1.25 | BR17: =(BO17/100)*(BP17^2)*BQ17 -> 0.014285714 | BT17: 5 | BU17: 99 | BV17: =BU16-BU17 -> 0 | BW17: =6/SQRT(BT16*BT17) -> 1.069045 | BX17: 1.25 | BY17: =(BV17/100)*(BW17^2)*BX17 -> 0 | CA17: 5 | CB17: 83 | CC17: =CB16-CB17 -> 2 | CD17: =6/SQRT(CA16*CA17) -> 1.069045 | CE17: 1.25 | CF17: =(CC17/100)*(CD17^2)*CE17 -> 0.028571429 | CH17: 5 | CI17: 99 | CJ17: =CI16-CI17 -> 0 | CK17: =6/SQRT(CH16*CH17) -> 1.069045 | CL17: 1.25 | CM17: =(CJ17/100)*(CK17^2)*CL17 -> 0 | CO17: 5 | CP17: 95 | CQ17: =CP16-CP17 -> 0 | CR17: =6/SQRT(CO16*CO17) -> 1.069045 | CS17: 1.25 | CT17: =(CQ17/100)*(CR17^2)*CS17 -> 0 | CV17: 5 | CW17: 31 | CX17: =CW16-CW17 -> 1 | CY17: =6/SQRT(CV16*CV17) -> 1.069045 | CZ17: 1.25 | DA17: =(CX17/100)*(CY17^2)*CZ17 -> 0.014285714 | DC17: 5 | DD17: 75 | DE17: =DD16-DD17 -> 2 | DF17: =6/SQRT(DC16*DC17) -> 1.069045 | DG17: 1.25 | DH17: =(DE17/100)*(DF17^2)*DG17 -> 0.028571429 | DJ17: 5 | DK17: 91 | DL17: =DK16-DK17 -> 1 | DM17: =6/SQRT(DJ16*DJ17) -> 1.069045 | DN17: 1.25 | DO17: =(DL17/100)*(DM17^2)*DN17 -> 0.014285714 | DQ17: 5 | DR17: 68 | DS17: =DR16-DR17 -> 2 | DT17: =6/SQRT(DQ16*DQ17) -> 1.069045 | DU17: 1.25 | DV17: =(DS17/100)*(DT17^2)*DU17 -> 0.028571429 | DX17: 5 | DY17: 79 | DZ17: =DY16-DY17 -> 2 | EA17: =6/SQRT(DX16*DX17) -> 1.069045 | EB17: 1.25 | EC17: =(DZ17/100)*(EA17^2)*EB17 -> 0.028571429 | EE17: 5 | EF17: 66 | EG17: =EF16-EF17 -> 1 | EH17: =6/SQRT(EE16*EE17) -> 1.069045 | EI17: 1.25 | EJ17: =(EG17/100)*(EH17^2)*EI17 -> 0.014285714 | EL17: 5 | EM17: 88 | EN17: =EM16-EM17 -> 2 | EO17: =6/SQRT(EL16*EL17) -> 1.069045 | EP17: 1.25 | EQ17: =(EN17/100)*(EO17^2)*EP17 -> 0.028571429 | ES17: 5 | ET17: 91 | EU17: =ET16-ET17 -> 1 | EV17: =6/SQRT(ES16*ES17) -> 1.069045 | EW17: 1.25 | EX17: =(EU17/100)*(EV17^2)*EW17 -> 0.014285714
B18: 3.35 | C18: 67 | D18: =C17-C18 -> 3 | E18: =6/SQRT(B17*B18) -> 1.4660333 | F18: 1.25 | G18: =(D18/100)*(E18^2)*F18 -> 0.080597015 | I18: 3.35 | J18: 69 | K18: =J17-J18 -> 3 | L18: =6/SQRT(I17*I18) -> 1.4660333 | M18: 1.25 | N18: =(K18/100)*(L18^2)*M18 -> 0.080597015 | P18: 3.35 | Q18: 44 | R18: =Q17-Q18 -> 3 | S18: =6/SQRT(P17*P18) -> 1.4660333 | T18: 1.25 | U18: =(R18/100)*(S18^2)*T18 -> 0.080597015 | W18: 3.35 | X18: 26 | Y18: =X17-X18 -> 5 | Z18: =6/SQRT(W17*W18) -> 1.4660333 | AA18: 1.25 | AB18: =(Y18/100)*(Z18^2)*AA18 -> 0.13432836 | AD18: 3.35 | AE18: 81 | AF18: =AE17-AE18 -> 2 | AG18: =6/SQRT(AD17*AD18) -> 1.4660333 | AH18: 1.25 | AI18: =(AF18/100)*(AG18^2)*AH18 -> 0.053731343 | AK18: 3.35 | AL18: 40 | AM18: =AL17-AL18 -> 0 | AN18: =6/SQRT(AK17*AK18) -> 1.4660333 | AO18: 1.25 | AP18: =(AM18/100)*(AN18^2)*AO18 -> 0 | AR18: 3.35 | AS18: 87 | AT18: =AS17-AS18 -> 2 | AU18: =6/SQRT(AR17*AR18) -> 1.4660333 | AV18: 1.25 | AW18: =(AT18/100)*(AU18^2)*AV18 -> 0.053731343 | AY18: 3.35 | AZ18: 96 | BA18: =AZ17-AZ18 -> 0 | BB18: =6/SQRT(AY17*AY18) -> 1.4660333 | BC18: 1.25 | BD18: =(BA18/100)*(BB18^2)*BC18 -> 0 | BF18: 3.35 | BG18: 77 | BH18: =BG17-BG18 -> 3 | BI18: =6/SQRT(BF17*BF18) -> 1.4660333 | BJ18: 1.25 | BK18: =(BH18/100)*(BI18^2)*BJ18 -> 0.080597015 | BM18: 3.35 | BN18: 79 | BO18: =BN17-BN18 -> 3 | BP18: =6/SQRT(BM17*BM18) -> 1.4660333 | BQ18: 1.25 | BR18: =(BO18/100)*(BP18^2)*BQ18 -> 0.080597015 | BT18: 3.35 | BU18: 98 | BV18: =BU17-BU18 -> 1 | BW18: =6/SQRT(BT17*BT18) -> 1.4660333 | BX18: 1.25 | BY18: =(BV18/100)*(BW18^2)*BX18 -> 0.026865672 | CA18: 3.35 | CB18: 80 | CC18: =CB17-CB18 -> 3 | CD18: =6/SQRT(CA17*CA18) -> 1.4660333 | CE18: 1.25 | CF18: =(CC18/100)*(CD18^2)*CE18 -> 0.080597015 | CH18: 3.35 | CI18: 98 | CJ18: =CI17-CI18 -> 1 | CK18: =6/SQRT(CH17*CH18) -> 1.4660333 | CL18: 1.25 | CM18: =(CJ18/100)*(CK18^2)*CL18 -> 0.026865672 | CO18: 3.35 | CP18: 94 | CQ18: =CP17-CP18 -> 1 | CR18: =6/SQRT(CO17*CO18) -> 1.4660333 | CS18: 1.25 | CT18: =(CQ18/100)*(CR18^2)*CS18 -> 0.026865672 | CV18: 3.35 | CW18: 29 | CX18: =CW17-CW18 -> 2 | CY18: =6/SQRT(CV17*CV18) -> 1.4660333 | CZ18: 1.25 | DA18: =(CX18/100)*(CY18^2)*CZ18 -> 0.053731343 | DC18: 3.35 | DD18: 73 | DE18: =DD17-DD18 -> 2 | DF18: =6/SQRT(DC17*DC18) -> 1.4660333 | DG18: 1.25 | DH18: =(DE18/100)*(DF18^2)*DG18 -> 0.053731343 | DJ18: 3.35 | DK18: 90 | DL18: =DK17-DK18 -> 1 | DM18: =6/SQRT(DJ17*DJ18) -> 1.4660333 | DN18: 1.25 | DO18: =(DL18/100)*(DM18^2)*DN18 -> 0.026865672 | DQ18: 3.35 | DR18: 65 | DS18: =DR17-DR18 -> 3 | DT18: =6/SQRT(DQ17*DQ18) -> 1.4660333 | DU18: 1.25 | DV18: =(DS18/100)*(DT18^2)*DU18 -> 0.080597015 | DX18: 3.35 | DY18: 76 | DZ18: =DY17-DY18 -> 3 | EA18: =6/SQRT(DX17*DX18) -> 1.4660333 | EB18: 1.25 | EC18: =(DZ18/100)*(EA18^2)*EB18 -> 0.080597015 | EE18: 3.35 | EF18: 64 | EG18: =EF17-EF18 -> 2 | EH18: =6/SQRT(EE17*EE18) -> 1.4660333 | EI18: 1.25 | EJ18: =(EG18/100)*(EH18^2)*EI18 -> 0.053731343 | EL18: 3.35 | EM18: 86 | EN18: =EM17-EM18 -> 2 | EO18: =6/SQRT(EL17*EL18) -> 1.4660333 | EP18: 1.25 | EQ18: =(EN18/100)*(EO18^2)*EP18 -> 0.053731343 | ES18: 3.35 | ET18: 89 | EU18: =ET17-ET18 -> 2 | EV18: =6/SQRT(ES17*ES18) -> 1.4660333 | EW18: 1.25 | EX18: =(EU18/100)*(EV18^2)*EW18 -> 0.053731343
... B26: 0.063 | C26: 42 | D26: =C25-C26 -> 3 | E26: =6/SQRT(B25*B26) -> 61.72134 | F26: 1.25 | G26: =(D26/100)*(E26^2)*F26 -> 142.85714 | I26: 0.063 | J26: 16 | K26: =J25-J26 -> 4 | L26: =6/SQRT(I25*I26) -> 61.72134 | M26: 1.25 | N26: =(K26/100)*(L26^2)*M26 -> 190.47619 | P26: 0.063 | Q26: 30 | R26: =Q25-Q26 -> 2 | S26: =6/SQRT(P25*P26) -> 61.72134 | T26: 1.25 | U26: =(R26/100)*(S26^2)*T26 -> 95.238095 | W26: 0.063 | X26: 9 | Y26: =X25-X26 -> 1 | Z26: =6/SQRT(W25*W26) -> 61.72134 | AA26: 1.25 | AB26: =(Y26/100)*(Z26^2)*AA26 -> 47.619048 | AD26: 0.063 | AE26: 18 | AF26: =AE25-AE26 -> 3 | AG26: =6/SQRT(AD25*AD26) -> 61.72134 | AH26: 1.25 | AI26: =(AF26/100)*(AG26^2)*AH26 -> 142.85714 | AK26: 0.063 | AL26: 24 | AM26: =AL25-AL26 -> 3 | AN26: =6/SQRT(AK25*AK26) -> 61.72134 | AO26: 1.25 | AP26: =(AM26/100)*(AN26^2)*AO26 -> 142.85714 | AR26: 0.063 | AS26: 40 | AT26: =AS25-AS26 -> 6 | AU26: =6/SQRT(AR25*AR26) -> 61.72134 | AV26: 1.25 | AW26: =(AT26/100)*(AU26^2)*AV26 -> 285.71429 | AY26: 0.063 | AZ26: 31 | BA26: =AZ25-AZ26 -> 8 | BB26: =6/SQRT(AY25*AY26) -> 61.72134 | BC26: 1.25 | BD26: =(BA26/100)*(BB26^2)*BC26 -> 380.95238 | BF26: 0.063 | BG26: 46 | BH26: =BG25-BG26 -> 4 | BI26: =6/SQRT(BF25*BF26) -> 61.72134 | BJ26: 1.25 | BK26: =(BH26/100)*(BI26^2)*BJ26 -> 190.47619 | BM26: 0.063 | BN26: 44 | BO26: =BN25-BN26 -> 3 | BP26: =6/SQRT(BM25*BM26) -> 61.72134 | BQ26: 1.25 | BR26: =(BO26/100)*(BP26^2)*BQ26 -> 142.85714 | BT26: 0.063 | BU26: 53 | BV26: =BU25-BU26 -> 10 | BW26: =6/SQRT(BT25*BT26) -> 61.72134 | BX26: 1.25 | BY26: =(BV26/100)*(BW26^2)*BX26 -> 476.19048 | CA26: 0.063 | CB26: 48 | CC26: =CB25-CB26 -> 4 | CD26: =6/SQRT(CA25*CA26) -> 61.72134 | CE26: 1.25 | CF26: =(CC26/100)*(CD26^2)*CE26 -> 190.47619 | CH26: 0.063 | CI26: 76 | CJ26: =CI25-CI26 -> 1 | CK26: =6/SQRT(CH25*CH26) -> 61.72134 | CL26: 1.25 | CM26: =(CJ26/100)*(CK26^2)*CL26 -> 47.619048 | CO26: 0.063 | CP26: 24 | CQ26: =CP25-CP26 -> 6 | CR26: =6/SQRT(CO25*CO26) -> 61.72134 | CS26: 1.25 | CT26: =(CQ26/100)*(CR26^2)*CS26 -> 285.71429 | CV26: 0.063 | CW26: 14 | CX26: =CW25-CW26 -> 2 | CY26: =6/SQRT(CV25*CV26) -> 61.72134 | CZ26: 1.25 | DA26: =(CX26/100)*(CY26^2)*CZ26 -> 95.238095 | DC26: 0.063 | DD26: 31 | DE26: =DD25-DD26 -> 7 | DF26: =6/SQRT(DC25*DC26) -> 61.72134 | DG26: 1.25 | DH26: =(DE26/100)*(DF26^2)*DG26 -> 333.33333 | DJ26: 0.063 | DK26: 85 | DL26: =DK25-DK26 -> 1 | DM26: =6/SQRT(DJ25*DJ26) -> 61.72134 | DN26: 1.25 | DO26: =(DL26/100)*(DM26^2)*DN26 -> 47.619048 | DQ26: 0.063 | DR26: 33 | DS26: =DR25-DR26 -> 4 | DT26: =6/SQRT(DQ25*DQ26) -> 61.72134 | DU26: 1.25 | DV26: =(DS26/100)*(DT26^2)*DU26 -> 190.47619 | DX26: 0.063 | DY26: 47 | DZ26: =DY25-DY26 -> 4 | EA26: =6/SQRT(DX25*DX26) -> 61.72134 | EB26: 1.25 | EC26: =(DZ26/100)*(EA26^2)*EB26 -> 190.47619 | EE26: 0.063 | EF26: 29 | EG26: =EF25-EF26 -> 5 | EH26: =6/SQRT(EE25*EE26) -> 61.72134 | EI26: 1.25 | EJ26: =(EG26/100)*(EH26^2)*EI26 -> 238.09524 | EL26: 0.063 | EM26: 19 | EN26: =EM25-EM26 -> 8 | EO26: =6/SQRT(EL25*EL26) -> 61.72134 | EP26: 1.25 | EQ26: =(EN26/100)*(EO26^2)*EP26 -> 380.95238 | ES26: 0.063 | ET26: 34 | EU26: =ET25-ET26 -> 4 | EV26: =6/SQRT(ES25*ES26) -> 61.72134 | EW26: 1.25 | EX26: =(EU26/100)*(EV26^2)*EW26 -> 190.47619
F27: fS2 = | G27: =SUM(G6:G26) -> 195.7662 | M27: fS2 = | N27: =SUM(N6:N26) -> 298.7327 | T27: fS2 = | U27: =SUM(U6:U26) -> 120.91315 | AA27: fS2 = | AB27: =SUM(AB6:AB26) -> 77.434848 | AH27: fS2 = | AI27: =SUM(AI6:AI26) -> 226.8988 | AO27: fS2 = | AP27: =SUM(AP6:AP26) -> 184.13958 | AV27: fS2 = | AW27: =SUM(AW6:AW26) -> 406.54687 | BC27: fS2 = | BD27: =SUM(BD6:BD26) -> 553.62679 | BJ27: fS2 = | BK27: =SUM(BK6:BK26) -> 266.19156 | BQ27: fS2 = | BR27: =SUM(BR6:BR26) -> 220.27491 | BX27: fS2 = | BY27: =SUM(BY6:BY26) -> 607.43062 | CE27: fS2 = | CF27: =SUM(CF6:CF26) -> 261.89968 | CL27: fS2 = | CM27: =SUM(CM6:CM26) -> 85.64017 | CS27: fS2 = | CT27: =SUM(CT6:CT26) -> 438.84108 | CZ27: fS2 = | DA27: =SUM(DA6:DA26) -> 129.19404 | DG27: fS2 = | DH27: =SUM(DH6:DH26) -> 507.8137 | DN27: fS2 = | DO27: =SUM(DO6:DO26) -> 59.112068 | DU27: fS2 = | DV27: =SUM(DV6:DV26) -> 278.34376 | EB27: fS2 = | EC27: =SUM(EC6:EC26) -> 260.90317 | EI27: fS2 = | EJ27: =SUM(EJ6:EJ26) -> 343.3061 | EP27: fS2 = | EQ27: =SUM(EQ6:EQ26) -> 719.6547 | EW27: fS2 = | EX27: =SUM(EX6:EX26) -> 296.91812
D29: Void Ratio | E29: (formula) | G29: k20 | K29: Void Ratio | L29: (formula) | N29: k20 | R29: Void Ratio | S29: (formula) | U29: k20 | Y29: Void Ratio | Z29: (formula) | AB29: k20 | AF29: Void Ratio | AG29: (formula) | AI29: k20 | AM29: Void Ratio | AN29: (formula) | AP29: k20 | AT29: Void Ratio | AU29: (formula) | AW29: k20 | BA29: Void Ratio | BB29: (formula) | BD29: k20 | BH29: Void Ratio | BI29: (formula) | BK29: k20 | BO29: Void Ratio | BP29: (formula) | BR29: k20 | BV29: Void Ratio | BW29: (formula) | BY29: k20 | CC29: Void Ratio | CD29: (formula) | CF29: k20 | CJ29: Void Ratio | CK29: (formula) | CM29: k20 | CQ29: Void Ratio | CR29: (formula) | CT29: k20 | CX29: Void Ratio | CY29: (formula) | DA29: k20 | DE29: Void Ratio | DF29: (formula) | DH29: k20 | DL29: Void Ratio | DM29: (formula) | DO29: k20 | DS29: Void Ratio | DT29: (formula) | DV29: k20 | DZ29: Void Ratio | EA29: (formula) | EC29: k20 | EG29: Void Ratio | EH29: (formula) | EJ29: k20 | EN29: Void Ratio | EO29: (formula) | EQ29: k20 | EU29: Void Ratio | EV29: (formula) | EX29: k20
D30: 0.5 | E30: =1.962/G27 -> 0.010022159 | F30: =(D30^3)/(1+D30) -> 0.083333333 | G30: =E30*F30 -> 0.00083517994 | K30: 0.5 | L30: =1.962/N27 -> 0.0065677443 | M30: =(K30^3)/(1+K30) -> 0.083333333 | N30: =L30*M30 -> 0.00054731203 | R30: 0.5 | S30: =1.962/U27 -> 0.016226522 | T30: =(R30^3)/(1+R30) -> 0.083333333 | U30: =S30*T30 -> 0.0013522102 | Y30: 0.5 | Z30: =1.962/AB27 -> 0.025337429 | AA30: =(Y30^3)/(1+Y30) -> 0.083333333 | AB30: =Z30*AA30 -> 0.0021114524 | AF30: 0.5 | AG30: =1.962/AI27 -> 0.0086470268 | AH30: =(AF30^3)/(1+AF30) -> 0.083333333 | AI30: =AG30*AH30 -> 0.00072058556 | AM30: 0.5 | AN30: =1.962/AP27 -> 0.010654961 | AO30: =(AM30^3)/(1+AM30) -> 0.083333333 | AP30: =AN30*AO30 -> 0.00088791338 | AT30: 0.5 | AU30: =1.962/AW27 -> 0.0048260118 | AV30: =(AT30^3)/(1+AT30) -> 0.083333333 | AW30: =AU30*AV30 -> 0.00040216765 | BA30: 0.5 | BB30: =1.962/BD27 -> 0.0035439037 | BC30: =(BA30^3)/(1+BA30) -> 0.083333333 | BD30: =BB30*BC30 -> 0.00029532531 | BH30: 0.5 | BI30: =1.962/BK27 -> 0.0073706318 | BJ30: =(BH30^3)/(1+BH30) -> 0.083333333 | BK30: =BI30*BJ30 -> 0.00061421932 | BO30: 0.5 | BP30: =1.962/BR27 -> 0.0089070515 | BQ30: =(BO30^3)/(1+BO30) -> 0.083333333 | BR30: =BP30*BQ30 -> 0.00074225429 | BV30: 0.5 | BW30: =1.962/BY27 -> 0.0032299985 | BX30: =(BV30^3)/(1+BV30) -> 0.083333333 | BY30: =BW30*BX30 -> 0.00026916654 | CC30: 0.5 | CD30: =1.962/CF27 -> 0.0074914182 | CE30: =(CC30^3)/(1+CC30) -> 0.083333333 | CF30: =CD30*CE30 -> 0.00062428485 | CJ30: 0.5 | CK30: =1.962/CM27 -> 0.02290981 | CL30: =(CJ30^3)/(1+CJ30) -> 0.083333333 | CM30: =CK30*CL30 -> 0.0019091508 | CQ30: 0.5 | CR30: =1.962/CT27 -> 0.0044708668 | CS30: =(CQ30^3)/(1+CQ30) -> 0.083333333 | CT30: =CR30*CS30 -> 0.00037257223 | CX30: 0.5 | CY30: =1.962/DA27 -> 0.015186459 | CZ30: =(CX30^3)/(1+CX30) -> 0.083333333 | DA30: =CY30*CZ30 -> 0.0012655383 | DE30: 0.5 | DF30: =1.962/DH27 -> 0.0038636216 | DG30: =(DE30^3)/(1+DE30) -> 0.083333333 | DH30: =DF30*DG30 -> 0.00032196847 | DL30: 0.5 | DM30: =1.962/DO27 -> 0.033191192 | DN30: =(DL30^3)/(1+DL30) -> 0.083333333 | DO30: =DM30*DN30 -> 0.0027659327 | DS30: 0.5 | DT30: =1.962/DV27 -> 0.0070488378 | DU30: =(DS30^3)/(1+DS30) -> 0.083333333 | DV30: =DT30*DU30 -> 0.00058740315 | DZ30: 0.5 | EA30: =1.962/EC27 -> 0.0075200312 | EB30: =(DZ30^3)/(1+DZ30) -> 0.083333333 | EC30: =EA30*EB30 -> 0.00062666926 | EG30: 0.5 | EH30: =1.962/EJ27 -> 0.0057150165 | EI30: =(EG30^3)/(1+EG30) -> 0.083333333 | EJ30: =EH30*EI30 -> 0.00047625137 | EN30: 0.5 | EO30: =1.962/EQ27 -> 0.0027263075 | EP30: =(EN30^3)/(1+EN30) -> 0.083333333 | EQ30: =EO30*EP30 -> 0.00022719229 | EU30: 0.5 | EV30: =1.962/EX27 -> 0.0066078824 | EW30: =(EU30^3)/(1+EU30) -> 0.083333333 | EX30: =EV30*EW30 -> 0.00055065686
B33: Sieve (mm) | C33: % pass | D33: % retain | E33: S | F33: Angle (f) | G33: fS2 | I33: Sieve (mm) | J33: % pass | K33: % retain | L33: S | M33: Angle (f) | N33: fS2 | P33: Sieve (mm) | Q33: % pass | R33: % retain | S33: S | T33: Angle (f) | U33: fS2 | W33: Sieve (mm) | X33: % pass | Y33: % retain | Z33: S | AA33: Angle (f) | AB33: fS2 | AD33: Sieve (mm) | AE33: % pass | AF33: % retain | AG33: S | AH33: Angle (f) | AI33: fS2 | AK33: Sieve (mm) | AL33: % pass | AM33: % retain | AN33: S | AO33: Angle (f) | AP33: fS2 | AR33: Sieve (mm) | AS33: % pass | AT33: % retain | AU33: S | AV33: Angle (f) | AW33: fS2 | AY33: Sieve (mm) | AZ33: % pass | BA33: % retain | BB33: S | BC33: Angle (f) | BD33: fS2 | BF33: Sieve (mm) | BG33: % pass | BH33: % retain | BI33: S | BJ33: Angle (f) | BK33: fS2 | BM33: Sieve (mm) | BN33: % pass | BO33: % retain | BP33: S | BQ33: Angle (f) | BR33: fS2 | BT33: Sieve (mm) | BU33: % pass | BV33: % retain | BW33: S | BX33: Angle (f) | BY33: fS2 | CA33: Sieve (mm) | CB33: % pass | CC33: % retain | CD33: S | CE33: Angle (f) | CF33: fS2 | CH33: Sieve (mm) | CI33: % pass | CJ33: % retain | CK33: S | CL33: Angle (f) | CM33: fS2 | CO33: Sieve (mm) | CP33: % pass | CQ33: % retain | CR33: S | CS33: Angle (f) | CT33: fS2 | CV33: Sieve (mm) | CW33: % pass | CX33: % retain | CY33: S | CZ33: Angle (f) | DA33: fS2 | DC33: Sieve (mm) | DD33: % pass | DE33: % retain | DF33: S | DG33: Angle (f) | DH33: fS2 | DJ33: Sieve (mm) | DK33: % pass | DL33: % retain | DM33: S | DN33: Angle (f) | DO33: fS2 | DQ33: Sieve (mm) | DR33: % pass | DS33: % retain | DT33: S | DU33: Angle (f) | DV33: fS2 | DX33: Sieve (mm) | DY33: % pass | DZ33: % retain | EA33: S | EB33: Angle (f) | EC33: fS2 | EE33: Sieve (mm) | EF33: % pass | EG33: % retain | EH33: S | EI33: Angle (f) | EJ33: fS2 | EL33: Sieve (mm) | EM33: % pass | EN33: % retain | EO33: S | EP33: Angle (f) | EQ33: fS2 | ES33: Sieve (mm) | ET33: % pass | EU33: % retain | EV33: S | EW33: Angle (f) | EX33: fS2
B34: =B6 -> 125 | C34: =C6 -> 100 | I34: =I6 -> 125 | J34: =J6 -> 100 | P34: =P6 -> 125 | Q34: =Q6 -> 100 | W34: =W6 -> 125 | X34: =X6 -> 100 | AD34: =AD6 -> 125 | AE34: =AE6 -> 100 | AK34: =AK6 -> 125 | AL34: =AL6 -> 100 | AR34: =AR6 -> 125 | AS34: =AS6 -> 100 | AY34: =AY6 -> 125 | AZ34: =AZ6 -> 100 | BF34: =BF6 -> 125 | BG34: =BG6 -> 100 | BM34: =BM6 -> 125 | BN34: =BN6 -> 100 | BT34: =BT6 -> 125 | BU34: =BU6 -> 100 | CA34: =CA6 -> 125 | CB34: =CB6 -> 100 | CH34: =CH6 -> 125 | CI34: =CI6 -> 100 | CO34: =CO6 -> 125 | CP34: =CP6 -> 100 | CV34: =CV6 -> 125 | CW34: =CW6 -> 100 | DC34: =DC6 -> 125 | DD34: =DD6 -> 100 | DJ34: =DJ6 -> 125 | DK34: =DK6 -> 100 | DQ34: =DQ6 -> 125 | DR34: =DR6 -> 100 | DX34: =DX6 -> 125 | DY34: =DY6 -> 100 | EE34: =EE6 -> 125 | EF34: =EF6 -> 100 | EL34: =EL6 -> 125 | EM34: =EM6 -> 100 | ES34: =ES6 -> 125 | ET34: =ET6 -> 100
B35: =B7 -> 75 | C35: =C7 -> 100 | D35: =C34-C35 -> 0 | E35: =6/SQRT(B34*B35) -> 0.061967734 | F35: 1.4 | G35: =(D35/100)*(E35^2)*F35 -> 0 | I35: =I7 -> 75 | J35: =J7 -> 100 | K35: =J34-J35 -> 0 | L35: =6/SQRT(I34*I35) -> 0.061967734 | M35: 1.4 | N35: =(K35/100)*(L35^2)*M35 -> 0 | P35: =P7 -> 75 | Q35: =Q7 -> 100 | R35: =Q34-Q35 -> 0 | S35: =6/SQRT(P34*P35) -> 0.061967734 | T35: 1.4 | U35: =(R35/100)*(S35^2)*T35 -> 0 | W35: =W7 -> 75 | X35: =X7 -> 100 | Y35: =X34-X35 -> 0 | Z35: =6/SQRT(W34*W35) -> 0.061967734 | AA35: 1.4 | AB35: =(Y35/100)*(Z35^2)*AA35 -> 0 | AD35: =AD7 -> 75 | AE35: =AE7 -> 100 | AF35: =AE34-AE35 -> 0 | AG35: =6/SQRT(AD34*AD35) -> 0.061967734 | AH35: 1.4 | AI35: =(AF35/100)*(AG35^2)*AH35 -> 0 | AK35: =AK7 -> 75 | AL35: =AL7 -> 56 | AM35: =AL34-AL35 -> 44 | AN35: =6/SQRT(AK34*AK35) -> 0.061967734 | AO35: 1.4 | AP35: =(AM35/100)*(AN35^2)*AO35 -> 0.00236544 | AR35: =AR7 -> 75 | AS35: =AS7 -> 100 | AT35: =AS34-AS35 -> 0 | AU35: =6/SQRT(AR34*AR35) -> 0.061967734 | AV35: 1.4 | AW35: =(AT35/100)*(AU35^2)*AV35 -> 0 | AY35: =AY7 -> 75 | AZ35: =AZ7 -> 100 | BA35: =AZ34-AZ35 -> 0 | BB35: =6/SQRT(AY34*AY35) -> 0.061967734 | BC35: 1.4 | BD35: =(BA35/100)*(BB35^2)*BC35 -> 0 | BF35: =BF7 -> 75 | BG35: =BG7 -> 100 | BH35: =BG34-BG35 -> 0 | BI35: =6/SQRT(BF34*BF35) -> 0.061967734 | BJ35: 1.4 | BK35: =(BH35/100)*(BI35^2)*BJ35 -> 0 | BM35: =BM7 -> 75 | BN35: =BN7 -> 100 | BO35: =BN34-BN35 -> 0 | BP35: =6/SQRT(BM34*BM35) -> 0.061967734 | BQ35: 1.4 | BR35: =(BO35/100)*(BP35^2)*BQ35 -> 0 | BT35: =BT7 -> 75 | BU35: =BU7 -> 100 | BV35: =BU34-BU35 -> 0 | BW35: =6/SQRT(BT34*BT35) -> 0.061967734 | BX35: 1.4 | BY35: =(BV35/100)*(BW35^2)*BX35 -> 0 | CA35: =CA7 -> 75 | CB35: =CB7 -> 100 | CC35: =CB34-CB35 -> 0 | CD35: =6/SQRT(CA34*CA35) -> 0.061967734 | CE35: 1.4 | CF35: =(CC35/100)*(CD35^2)*CE35 -> 0 | CH35: =CH7 -> 75 | CI35: =CI7 -> 100 | CJ35: =CI34-CI35 -> 0 | CK35: =6/SQRT(CH34*CH35) -> 0.061967734 | CL35: 1.4 | CM35: =(CJ35/100)*(CK35^2)*CL35 -> 0 | CO35: =CO7 -> 75 | CP35: =CP7 -> 100 | CQ35: =CP34-CP35 -> 0 | CR35: =6/SQRT(CO34*CO35) -> 0.061967734 | CS35: 1.4 | CT35: =(CQ35/100)*(CR35^2)*CS35 -> 0 | CV35: =CV7 -> 75 | CW35: =CW7 -> 100 | CX35: =CW34-CW35 -> 0 | CY35: =6/SQRT(CV34*CV35) -> 0.061967734 | CZ35: 1.4 | DA35: =(CX35/100)*(CY35^2)*CZ35 -> 0 | DC35: =DC7 -> 75 | DD35: =DD7 -> 100 | DE35: =DD34-DD35 -> 0 | DF35: =6/SQRT(DC34*DC35) -> 0.061967734 | DG35: 1.4 | DH35: =(DE35/100)*(DF35^2)*DG35 -> 0 | DJ35: =DJ7 -> 75 | DK35: =DK7 -> 100 | DL35: =DK34-DK35 -> 0 | DM35: =6/SQRT(DJ34*DJ35) -> 0.061967734 | DN35: 1.4 | DO35: =(DL35/100)*(DM35^2)*DN35 -> 0 | DQ35: =DQ7 -> 75 | DR35: =DR7 -> 100 | DS35: =DR34-DR35 -> 0 | DT35: =6/SQRT(DQ34*DQ35) -> 0.061967734 | DU35: 1.4 | DV35: =(DS35/100)*(DT35^2)*DU35 -> 0 | DX35: =DX7 -> 75 | DY35: =DY7 -> 100 | DZ35: =DY34-DY35 -> 0 | EA35: =6/SQRT(DX34*DX35) -> 0.061967734 | EB35: 1.4 | EC35: =(DZ35/100)*(EA35^2)*EB35 -> 0 | EE35: =EE7 -> 75 | EF35: =EF7 -> 100 | EG35: =EF34-EF35 -> 0 | EH35: =6/SQRT(EE34*EE35) -> 0.061967734 | EI35: 1.4 | EJ35: =(EG35/100)*(EH35^2)*EI35 -> 0 | EL35: =EL7 -> 75 | EM35: =EM7 -> 100 | EN35: =EM34-EM35 -> 0 | EO35: =6/SQRT(EL34*EL35) -> 0.061967734 | EP35: 1.4 | EQ35: =(EN35/100)*(EO35^2)*EP35 -> 0 | ES35: =ES7 -> 75 | ET35: =ET7 -> 100 | EU35: =ET34-ET35 -> 0 | EV35: =6/SQRT(ES34*ES35) -> 0.061967734 | EW35: 1.4 | EX35: =(EU35/100)*(EV35^2)*EW35 -> 0
B36: =B8 -> 63 | C36: =C8 -> 100 | D36: =C35-C36 -> 0 | E36: =6/SQRT(B35*B36) -> 0.087287156 | F36: 1.4 | G36: =(D36/100)*(E36^2)*F36 -> 0 | I36: =I8 -> 63 | J36: =J8 -> 100 | K36: =J35-J36 -> 0 | L36: =6/SQRT(I35*I36) -> 0.087287156 | M36: 1.4 | N36: =(K36/100)*(L36^2)*M36 -> 0 | P36: =P8 -> 63 | Q36: =Q8 -> 100 | R36: =Q35-Q36 -> 0 | S36: =6/SQRT(P35*P36) -> 0.087287156 | T36: 1.4 | U36: =(R36/100)*(S36^2)*T36 -> 0 | W36: =W8 -> 63 | X36: =X8 -> 100 | Y36: =X35-X36 -> 0 | Z36: =6/SQRT(W35*W36) -> 0.087287156 | AA36: 1.4 | AB36: =(Y36/100)*(Z36^2)*AA36 -> 0 | AD36: =AD8 -> 63 | AE36: =AE8 -> 100 | AF36: =AE35-AE36 -> 0 | AG36: =6/SQRT(AD35*AD36) -> 0.087287156 | AH36: 1.4 | AI36: =(AF36/100)*(AG36^2)*AH36 -> 0 | AK36: =AK8 -> 63 | AL36: =AL8 -> 56 | AM36: =AL35-AL36 -> 0 | AN36: =6/SQRT(AK35*AK36) -> 0.087287156 | AO36: 1.4 | AP36: =(AM36/100)*(AN36^2)*AO36 -> 0 | AR36: =AR8 -> 63 | AS36: =AS8 -> 100 | AT36: =AS35-AS36 -> 0 | AU36: =6/SQRT(AR35*AR36) -> 0.087287156 | AV36: 1.4 | AW36: =(AT36/100)*(AU36^2)*AV36 -> 0 | AY36: =AY8 -> 63 | AZ36: =AZ8 -> 100 | BA36: =AZ35-AZ36 -> 0 | BB36: =6/SQRT(AY35*AY36) -> 0.087287156 | BC36: 1.4 | BD36: =(BA36/100)*(BB36^2)*BC36 -> 0 | BF36: =BF8 -> 63 | BG36: =BG8 -> 100 | BH36: =BG35-BG36 -> 0 | BI36: =6/SQRT(BF35*BF36) -> 0.087287156 | BJ36: 1.4 | BK36: =(BH36/100)*(BI36^2)*BJ36 -> 0 | BM36: =BM8 -> 63 | BN36: =BN8 -> 100 | BO36: =BN35-BN36 -> 0 | BP36: =6/SQRT(BM35*BM36) -> 0.087287156 | BQ36: 1.4 | BR36: =(BO36/100)*(BP36^2)*BQ36 -> 0 | BT36: =BT8 -> 63 | BU36: =BU8 -> 100 | BV36: =BU35-BU36 -> 0 | BW36: =6/SQRT(BT35*BT36) -> 0.087287156 | BX36: 1.4 | BY36: =(BV36/100)*(BW36^2)*BX36 -> 0 | CA36: =CA8 -> 63 | CB36: =CB8 -> 100 | CC36: =CB35-CB36 -> 0 | CD36: =6/SQRT(CA35*CA36) -> 0.087287156 | CE36: 1.4 | CF36: =(CC36/100)*(CD36^2)*CE36 -> 0 | CH36: =CH8 -> 63 | CI36: =CI8 -> 100 | CJ36: =CI35-CI36 -> 0 | CK36: =6/SQRT(CH35*CH36) -> 0.087287156 | CL36: 1.4 | CM36: =(CJ36/100)*(CK36^2)*CL36 -> 0 | CO36: =CO8 -> 63 | CP36: =CP8 -> 100 | CQ36: =CP35-CP36 -> 0 | CR36: =6/SQRT(CO35*CO36) -> 0.087287156 | CS36: 1.4 | CT36: =(CQ36/100)*(CR36^2)*CS36 -> 0 | CV36: =CV8 -> 63 | CW36: =CW8 -> 100 | CX36: =CW35-CW36 -> 0 | CY36: =6/SQRT(CV35*CV36) -> 0.087287156 | CZ36: 1.4 | DA36: =(CX36/100)*(CY36^2)*CZ36 -> 0 | DC36: =DC8 -> 63 | DD36: =DD8 -> 100 | DE36: =DD35-DD36 -> 0 | DF36: =6/SQRT(DC35*DC36) -> 0.087287156 | DG36: 1.4 | DH36: =(DE36/100)*(DF36^2)*DG36 -> 0 | DJ36: =DJ8 -> 63 | DK36: =DK8 -> 100 | DL36: =DK35-DK36 -> 0 | DM36: =6/SQRT(DJ35*DJ36) -> 0.087287156 | DN36: 1.4 | DO36: =(DL36/100)*(DM36^2)*DN36 -> 0 | DQ36: =DQ8 -> 63 | DR36: =DR8 -> 100 | DS36: =DR35-DR36 -> 0 | DT36: =6/SQRT(DQ35*DQ36) -> 0.087287156 | DU36: 1.4 | DV36: =(DS36/100)*(DT36^2)*DU36 -> 0 | DX36: =DX8 -> 63 | DY36: =DY8 -> 100 | DZ36: =DY35-DY36 -> 0 | EA36: =6/SQRT(DX35*DX36) -> 0.087287156 | EB36: 1.4 | EC36: =(DZ36/100)*(EA36^2)*EB36 -> 0 | EE36: =EE8 -> 63 | EF36: =EF8 -> 100 | EG36: =EF35-EF36 -> 0 | EH36: =6/SQRT(EE35*EE36) -> 0.087287156 | EI36: 1.4 | EJ36: =(EG36/100)*(EH36^2)*EI36 -> 0 | EL36: =EL8 -> 63 | EM36: =EM8 -> 100 | EN36: =EM35-EM36 -> 0 | EO36: =6/SQRT(EL35*EL36) -> 0.087287156 | EP36: 1.4 | EQ36: =(EN36/100)*(EO36^2)*EP36 -> 0 | ES36: =ES8 -> 63 | ET36: =ET8 -> 100 | EU36: =ET35-ET36 -> 0 | EV36: =6/SQRT(ES35*ES36) -> 0.087287156 | EW36: 1.4 | EX36: =(EU36/100)*(EV36^2)*EW36 -> 0
B37: =B9 -> 50 | C37: =C9 -> 100 | D37: =C36-C37 -> 0 | E37: =6/SQRT(B36*B37) -> 0.1069045 | F37: 1.4 | G37: =(D37/100)*(E37^2)*F37 -> 0 | I37: =I9 -> 50 | J37: =J9 -> 100 | K37: =J36-J37 -> 0 | L37: =6/SQRT(I36*I37) -> 0.1069045 | M37: 1.4 | N37: =(K37/100)*(L37^2)*M37 -> 0 | P37: =P9 -> 50 | Q37: =Q9 -> 100 | R37: =Q36-Q37 -> 0 | S37: =6/SQRT(P36*P37) -> 0.1069045 | T37: 1.4 | U37: =(R37/100)*(S37^2)*T37 -> 0 | W37: =W9 -> 50 | X37: =X9 -> 89 | Y37: =X36-X37 -> 11 | Z37: =6/SQRT(W36*W37) -> 0.1069045 | AA37: 1.4 | AB37: =(Y37/100)*(Z37^2)*AA37 -> 0.00176 | AD37: =AD9 -> 50 | AE37: =AE9 -> 100 | AF37: =AE36-AE37 -> 0 | AG37: =6/SQRT(AD36*AD37) -> 0.1069045 | AH37: 1.4 | AI37: =(AF37/100)*(AG37^2)*AH37 -> 0 | AK37: =AK9 -> 50 | AL37: =AL9 -> 48 | AM37: =AL36-AL37 -> 8 | AN37: =6/SQRT(AK36*AK37) -> 0.1069045 | AO37: 1.4 | AP37: =(AM37/100)*(AN37^2)*AO37 -> 0.00128 | AR37: =AR9 -> 50 | AS37: =AS9 -> 100 | AT37: =AS36-AS37 -> 0 | AU37: =6/SQRT(AR36*AR37) -> 0.1069045 | AV37: 1.4 | AW37: =(AT37/100)*(AU37^2)*AV37 -> 0 | AY37: =AY9 -> 50 | AZ37: =AZ9 -> 100 | BA37: =AZ36-AZ37 -> 0 | BB37: =6/SQRT(AY36*AY37) -> 0.1069045 | BC37: 1.4 | BD37: =(BA37/100)*(BB37^2)*BC37 -> 0 | BF37: =BF9 -> 50 | BG37: =BG9 -> 100 | BH37: =BG36-BG37 -> 0 | BI37: =6/SQRT(BF36*BF37) -> 0.1069045 | BJ37: 1.4 | BK37: =(BH37/100)*(BI37^2)*BJ37 -> 0 | BM37: =BM9 -> 50 | BN37: =BN9 -> 100 | BO37: =BN36-BN37 -> 0 | BP37: =6/SQRT(BM36*BM37) -> 0.1069045 | BQ37: 1.4 | BR37: =(BO37/100)*(BP37^2)*BQ37 -> 0 | BT37: =BT9 -> 50 | BU37: =BU9 -> 100 | BV37: =BU36-BU37 -> 0 | BW37: =6/SQRT(BT36*BT37) -> 0.1069045 | BX37: 1.4 | BY37: =(BV37/100)*(BW37^2)*BX37 -> 0 | CA37: =CA9 -> 50 | CB37: =CB9 -> 100 | CC37: =CB36-CB37 -> 0 | CD37: =6/SQRT(CA36*CA37) -> 0.1069045 | CE37: 1.4 | CF37: =(CC37/100)*(CD37^2)*CE37 -> 0 | CH37: =CH9 -> 50 | CI37: =CI9 -> 100 | CJ37: =CI36-CI37 -> 0 | CK37: =6/SQRT(CH36*CH37) -> 0.1069045 | CL37: 1.4 | CM37: =(CJ37/100)*(CK37^2)*CL37 -> 0 | CO37: =CO9 -> 50 | CP37: =CP9 -> 100 | CQ37: =CP36-CP37 -> 0 | CR37: =6/SQRT(CO36*CO37) -> 0.1069045 | CS37: 1.4 | CT37: =(CQ37/100)*(CR37^2)*CS37 -> 0 | CV37: =CV9 -> 50 | CW37: =CW9 -> 100 | CX37: =CW36-CW37 -> 0 | CY37: =6/SQRT(CV36*CV37) -> 0.1069045 | CZ37: 1.4 | DA37: =(CX37/100)*(CY37^2)*CZ37 -> 0 | DC37: =DC9 -> 50 | DD37: =DD9 -> 100 | DE37: =DD36-DD37 -> 0 | DF37: =6/SQRT(DC36*DC37) -> 0.1069045 | DG37: 1.4 | DH37: =(DE37/100)*(DF37^2)*DG37 -> 0 | DJ37: =DJ9 -> 50 | DK37: =DK9 -> 100 | DL37: =DK36-DK37 -> 0 | DM37: =6/SQRT(DJ36*DJ37) -> 0.1069045 | DN37: 1.4 | DO37: =(DL37/100)*(DM37^2)*DN37 -> 0 | DQ37: =DQ9 -> 50 | DR37: =DR9 -> 100 | DS37: =DR36-DR37 -> 0 | DT37: =6/SQRT(DQ36*DQ37) -> 0.1069045 | DU37: 1.4 | DV37: =(DS37/100)*(DT37^2)*DU37 -> 0 | DX37: =DX9 -> 50 | DY37: =DY9 -> 100 | DZ37: =DY36-DY37 -> 0 | EA37: =6/SQRT(DX36*DX37) -> 0.1069045 | EB37: 1.4 | EC37: =(DZ37/100)*(EA37^2)*EB37 -> 0 | EE37: =EE9 -> 50 | EF37: =EF9 -> 100 | EG37: =EF36-EF37 -> 0 | EH37: =6/SQRT(EE36*EE37) -> 0.1069045 | EI37: 1.4 | EJ37: =(EG37/100)*(EH37^2)*EI37 -> 0 | EL37: =EL9 -> 50 | EM37: =EM9 -> 100 | EN37: =EM36-EM37 -> 0 | EO37: =6/SQRT(EL36*EL37) -> 0.1069045 | EP37: 1.4 | EQ37: =(EN37/100)*(EO37^2)*EP37 -> 0 | ES37: =ES9 -> 50 | ET37: =ET9 -> 100 | EU37: =ET36-ET37 -> 0 | EV37: =6/SQRT(ES36*ES37) -> 0.1069045 | EW37: 1.4 | EX37: =(EU37/100)*(EV37^2)*EW37 -> 0
B38: =B10 -> 37.5 | C38: =C10 -> 93 | D38: =C37-C38 -> 7 | E38: =6/SQRT(B37*B38) -> 0.13856406 | F38: 1.4 | G38: =(D38/100)*(E38^2)*F38 -> 0.0018816 | I38: =I10 -> 37.5 | J38: =J10 -> 100 | K38: =J37-J38 -> 0 | L38: =6/SQRT(I37*I38) -> 0.13856406 | M38: 1.4 | N38: =(K38/100)*(L38^2)*M38 -> 0 | P38: =P10 -> 37.5 | Q38: =Q10 -> 95 | R38: =Q37-Q38 -> 5 | S38: =6/SQRT(P37*P38) -> 0.13856406 | T38: 1.4 | U38: =(R38/100)*(S38^2)*T38 -> 0.001344 | W38: =W10 -> 37.5 | X38: =X10 -> 76 | Y38: =X37-X38 -> 13 | Z38: =6/SQRT(W37*W38) -> 0.13856406 | AA38: 1.4 | AB38: =(Y38/100)*(Z38^2)*AA38 -> 0.0034944 | AD38: =AD10 -> 37.5 | AE38: =AE10 -> 97 | AF38: =AE37-AE38 -> 3 | AG38: =6/SQRT(AD37*AD38) -> 0.13856406 | AH38: 1.4 | AI38: =(AF38/100)*(AG38^2)*AH38 -> 0.0008064 | AK38: =AK10 -> 37.5 | AL38: =AL10 -> 48 | AM38: =AL37-AL38 -> 0 | AN38: =6/SQRT(AK37*AK38) -> 0.13856406 | AO38: 1.4 | AP38: =(AM38/100)*(AN38^2)*AO38 -> 0 | AR38: =AR10 -> 37.5 | AS38: =AS10 -> 100 | AT38: =AS37-AS38 -> 0 | AU38: =6/SQRT(AR37*AR38) -> 0.13856406 | AV38: 1.4 | AW38: =(AT38/100)*(AU38^2)*AV38 -> 0 | AY38: =AY10 -> 37.5 | AZ38: =AZ10 -> 100 | BA38: =AZ37-AZ38 -> 0 | BB38: =6/SQRT(AY37*AY38) -> 0.13856406 | BC38: 1.4 | BD38: =(BA38/100)*(BB38^2)*BC38 -> 0 | BF38: =BF10 -> 37.5 | BG38: =BG10 -> 96 | BH38: =BG37-BG38 -> 4 | BI38: =6/SQRT(BF37*BF38) -> 0.13856406 | BJ38: 1.4 | BK38: =(BH38/100)*(BI38^2)*BJ38 -> 0.0010752 | BM38: =BM10 -> 37.5 | BN38: =BN10 -> 100 | BO38: =BN37-BN38 -> 0 | BP38: =6/SQRT(BM37*BM38) -> 0.13856406 | BQ38: 1.4 | BR38: =(BO38/100)*(BP38^2)*BQ38 -> 0 | BT38: =BT10 -> 37.5 | BU38: =BU10 -> 100 | BV38: =BU37-BU38 -> 0 | BW38: =6/SQRT(BT37*BT38) -> 0.13856406 | BX38: 1.4 | BY38: =(BV38/100)*(BW38^2)*BX38 -> 0 | CA38: =CA10 -> 37.5 | CB38: =CB10 -> 100 | CC38: =CB37-CB38 -> 0 | CD38: =6/SQRT(CA37*CA38) -> 0.13856406 | CE38: 1.4 | CF38: =(CC38/100)*(CD38^2)*CE38 -> 0 | CH38: =CH10 -> 37.5 | CI38: =CI10 -> 100 | CJ38: =CI37-CI38 -> 0 | CK38: =6/SQRT(CH37*CH38) -> 0.13856406 | CL38: 1.4 | CM38: =(CJ38/100)*(CK38^2)*CL38 -> 0 | CO38: =CO10 -> 37.5 | CP38: =CP10 -> 96 | CQ38: =CP37-CP38 -> 4 | CR38: =6/SQRT(CO37*CO38) -> 0.13856406 | CS38: 1.4 | CT38: =(CQ38/100)*(CR38^2)*CS38 -> 0.0010752 | CV38: =CV10 -> 37.5 | CW38: =CW10 -> 80 | CX38: =CW37-CW38 -> 20 | CY38: =6/SQRT(CV37*CV38) -> 0.13856406 | CZ38: 1.4 | DA38: =(CX38/100)*(CY38^2)*CZ38 -> 0.005376 | DC38: =DC10 -> 37.5 | DD38: =DD10 -> 100 | DE38: =DD37-DD38 -> 0 | DF38: =6/SQRT(DC37*DC38) -> 0.13856406 | DG38: 1.4 | DH38: =(DE38/100)*(DF38^2)*DG38 -> 0 | DJ38: =DJ10 -> 37.5 | DK38: =DK10 -> 100 | DL38: =DK37-DK38 -> 0 | DM38: =6/SQRT(DJ37*DJ38) -> 0.13856406 | DN38: 1.4 | DO38: =(DL38/100)*(DM38^2)*DN38 -> 0 | DQ38: =DQ10 -> 37.5 | DR38: =DR10 -> 100 | DS38: =DR37-DR38 -> 0 | DT38: =6/SQRT(DQ37*DQ38) -> 0.13856406 | DU38: 1.4 | DV38: =(DS38/100)*(DT38^2)*DU38 -> 0 | DX38: =DX10 -> 37.5 | DY38: =DY10 -> 100 | DZ38: =DY37-DY38 -> 0 | EA38: =6/SQRT(DX37*DX38) -> 0.13856406 | EB38: 1.4 | EC38: =(DZ38/100)*(EA38^2)*EB38 -> 0 | EE38: =EE10 -> 37.5 | EF38: =EF10 -> 100 | EG38: =EF37-EF38 -> 0 | EH38: =6/SQRT(EE37*EE38) -> 0.13856406 | EI38: 1.4 | EJ38: =(EG38/100)*(EH38^2)*EI38 -> 0 | EL38: =EL10 -> 37.5 | EM38: =EM10 -> 100 | EN38: =EM37-EM38 -> 0 | EO38: =6/SQRT(EL37*EL38) -> 0.13856406 | EP38: 1.4 | EQ38: =(EN38/100)*(EO38^2)*EP38 -> 0 | ES38: =ES10 -> 37.5 | ET38: =ET10 -> 100 | EU38: =ET37-ET38 -> 0 | EV38: =6/SQRT(ES37*ES38) -> 0.13856406 | EW38: 1.4 | EX38: =(EU38/100)*(EV38^2)*EW38 -> 0
B39: =B11 -> 30 | C39: =C11 -> 93 | D39: =C38-C39 -> 0 | E39: =6/SQRT(B38*B39) -> 0.17888544 | F39: 1.4 | G39: =(D39/100)*(E39^2)*F39 -> 0 | I39: =I11 -> 30 | J39: =J11 -> 100 | K39: =J38-J39 -> 0 | L39: =6/SQRT(I38*I39) -> 0.17888544 | M39: 1.4 | N39: =(K39/100)*(L39^2)*M39 -> 0 | P39: =P11 -> 30 | Q39: =Q11 -> 100 | R39: =Q38-Q39 -> -5 | S39: =6/SQRT(P38*P39) -> 0.17888544 | T39: 1.4 | U39: =(R39/100)*(S39^2)*T39 -> -0.00224 | W39: =W11 -> 30 | X39: =X11 -> 100 | Y39: =X38-X39 -> -24 | Z39: =6/SQRT(W38*W39) -> 0.17888544 | AA39: 1.4 | AB39: =(Y39/100)*(Z39^2)*AA39 -> -0.010752 | AD39: =AD11 -> 30 | AE39: =AE11 -> 100 | AF39: =AE38-AE39 -> -3 | AG39: =6/SQRT(AD38*AD39) -> 0.17888544 | AH39: 1.4 | AI39: =(AF39/100)*(AG39^2)*AH39 -> -0.001344 | AK39: =AK11 -> 30 | AL39: =AL11 -> 56 | AM39: =AL38-AL39 -> -8 | AN39: =6/SQRT(AK38*AK39) -> 0.17888544 | AO39: 1.4 | AP39: =(AM39/100)*(AN39^2)*AO39 -> -0.003584 | AR39: =AR11 -> 30 | AS39: =AS11 -> 100 | AT39: =AS38-AS39 -> 0 | AU39: =6/SQRT(AR38*AR39) -> 0.17888544 | AV39: 1.4 | AW39: =(AT39/100)*(AU39^2)*AV39 -> 0 | AY39: =AY11 -> 30 | AZ39: =AZ11 -> 100 | BA39: =AZ38-AZ39 -> 0 | BB39: =6/SQRT(AY38*AY39) -> 0.17888544 | BC39: 1.4 | BD39: =(BA39/100)*(BB39^2)*BC39 -> 0 | BF39: =BF11 -> 30 | BG39: =BG11 -> 100 | BH39: =BG38-BG39 -> -4 | BI39: =6/SQRT(BF38*BF39) -> 0.17888544 | BJ39: 1.4 | BK39: =(BH39/100)*(BI39^2)*BJ39 -> -0.001792 | BM39: =BM11 -> 30 | BN39: =BN11 -> 100 | BO39: =BN38-BN39 -> 0 | BP39: =6/SQRT(BM38*BM39) -> 0.17888544 | BQ39: 1.4 | BR39: =(BO39/100)*(BP39^2)*BQ39 -> 0 | BT39: =BT11 -> 30 | BU39: =BU11 -> 100 | BV39: =BU38-BU39 -> 0 | BW39: =6/SQRT(BT38*BT39) -> 0.17888544 | BX39: 1.4 | BY39: =(BV39/100)*(BW39^2)*BX39 -> 0 | CA39: =CA11 -> 30 | CB39: =CB11 -> 100 | CC39: =CB38-CB39 -> 0 | CD39: =6/SQRT(CA38*CA39) -> 0.17888544 | CE39: 1.4 | CF39: =(CC39/100)*(CD39^2)*CE39 -> 0 | CH39: =CH11 -> 30 | CI39: =CI11 -> 100 | CJ39: =CI38-CI39 -> 0 | CK39: =6/SQRT(CH38*CH39) -> 0.17888544 | CL39: 1.4 | CM39: =(CJ39/100)*(CK39^2)*CL39 -> 0 | CO39: =CO11 -> 30 | CP39: =CP11 -> 100 | CQ39: =CP38-CP39 -> -4 | CR39: =6/SQRT(CO38*CO39) -> 0.17888544 | CS39: 1.4 | CT39: =(CQ39/100)*(CR39^2)*CS39 -> -0.001792 | CV39: =CV11 -> 30 | CW39: =CW11 -> 100 | CX39: =CW38-CW39 -> -20 | CY39: =6/SQRT(CV38*CV39) -> 0.17888544 | CZ39: 1.4 | DA39: =(CX39/100)*(CY39^2)*CZ39 -> -0.00896 | DC39: =DC11 -> 30 | DD39: =DD11 -> 100 | DE39: =DD38-DD39 -> 0 | DF39: =6/SQRT(DC38*DC39) -> 0.17888544 | DG39: 1.4 | DH39: =(DE39/100)*(DF39^2)*DG39 -> 0 | DJ39: =DJ11 -> 30 | DK39: =DK11 -> 100 | DL39: =DK38-DK39 -> 0 | DM39: =6/SQRT(DJ38*DJ39) -> 0.17888544 | DN39: 1.4 | DO39: =(DL39/100)*(DM39^2)*DN39 -> 0 | DQ39: =DQ11 -> 30 | DR39: =DR11 -> 100 | DS39: =DR38-DR39 -> 0 | DT39: =6/SQRT(DQ38*DQ39) -> 0.17888544 | DU39: 1.4 | DV39: =(DS39/100)*(DT39^2)*DU39 -> 0 | DX39: =DX11 -> 30 | DY39: =DY11 -> 100 | DZ39: =DY38-DY39 -> 0 | EA39: =6/SQRT(DX38*DX39) -> 0.17888544 | EB39: 1.4 | EC39: =(DZ39/100)*(EA39^2)*EB39 -> 0 | EE39: =EE11 -> 30 | EF39: =EF11 -> 100 | EG39: =EF38-EF39 -> 0 | EH39: =6/SQRT(EE38*EE39) -> 0.17888544 | EI39: 1.4 | EJ39: =(EG39/100)*(EH39^2)*EI39 -> 0 | EL39: =EL11 -> 30 | EM39: =EM11 -> 100 | EN39: =EM38-EM39 -> 0 | EO39: =6/SQRT(EL38*EL39) -> 0.17888544 | EP39: 1.4 | EQ39: =(EN39/100)*(EO39^2)*EP39 -> 0 | ES39: =ES11 -> 30 | ET39: =ET11 -> 100 | EU39: =ET38-ET39 -> 0 | EV39: =6/SQRT(ES38*ES39) -> 0.17888544 | EW39: 1.4 | EX39: =(EU39/100)*(EV39^2)*EW39 -> 0
B40: =B12 -> 28 | C40: =C12 -> 93 | D40: =C39-C40 -> 0 | E40: =6/SQRT(B39*B40) -> 0.20701967 | F40: 1.4 | G40: =(D40/100)*(E40^2)*F40 -> 0 | I40: =I12 -> 28 | J40: =J12 -> 93 | K40: =J39-J40 -> 7 | L40: =6/SQRT(I39*I40) -> 0.20701967 | M40: 1.4 | N40: =(K40/100)*(L40^2)*M40 -> 0.0042 | P40: =P12 -> 28 | Q40: =Q12 -> 89 | R40: =Q39-Q40 -> 11 | S40: =6/SQRT(P39*P40) -> 0.20701967 | T40: 1.4 | U40: =(R40/100)*(S40^2)*T40 -> 0.0066 | W40: =W12 -> 28 | X40: =X12 -> 71 | Y40: =X39-X40 -> 29 | Z40: =6/SQRT(W39*W40) -> 0.20701967 | AA40: 1.4 | AB40: =(Y40/100)*(Z40^2)*AA40 -> 0.0174 | AD40: =AD12 -> 28 | AE40: =AE12 -> 89 | AF40: =AE39-AE40 -> 11 | AG40: =6/SQRT(AD39*AD40) -> 0.20701967 | AH40: 1.4 | AI40: =(AF40/100)*(AG40^2)*AH40 -> 0.0066 | AK40: =AK12 -> 28 | AL40: =AL12 -> 48 | AM40: =AL39-AL40 -> 8 | AN40: =6/SQRT(AK39*AK40) -> 0.20701967 | AO40: 1.4 | AP40: =(AM40/100)*(AN40^2)*AO40 -> 0.0048 | AR40: =AR12 -> 28 | AS40: =AS12 -> 100 | AT40: =AS39-AS40 -> 0 | AU40: =6/SQRT(AR39*AR40) -> 0.20701967 | AV40: 1.4 | AW40: =(AT40/100)*(AU40^2)*AV40 -> 0 | AY40: =AY12 -> 28 | AZ40: =AZ12 -> 100 | BA40: =AZ39-AZ40 -> 0 | BB40: =6/SQRT(AY39*AY40) -> 0.20701967 | BC40: 1.4 | BD40: =(BA40/100)*(BB40^2)*BC40 -> 0 | BF40: =BF12 -> 28 | BG40: =BG12 -> 96 | BH40: =BG39-BG40 -> 4 | BI40: =6/SQRT(BF39*BF40) -> 0.20701967 | BJ40: 1.4 | BK40: =(BH40/100)*(BI40^2)*BJ40 -> 0.0024 | BM40: =BM12 -> 28 | BN40: =BN12 -> 100 | BO40: =BN39-BN40 -> 0 | BP40: =6/SQRT(BM39*BM40) -> 0.20701967 | BQ40: 1.4 | BR40: =(BO40/100)*(BP40^2)*BQ40 -> 0 | BT40: =BT12 -> 28 | BU40: =BU12 -> 100 | BV40: =BU39-BU40 -> 0 | BW40: =6/SQRT(BT39*BT40) -> 0.20701967 | BX40: 1.4 | BY40: =(BV40/100)*(BW40^2)*BX40 -> 0 | CA40: =CA12 -> 28 | CB40: =CB12 -> 98 | CC40: =CB39-CB40 -> 2 | CD40: =6/SQRT(CA39*CA40) -> 0.20701967 | CE40: 1.4 | CF40: =(CC40/100)*(CD40^2)*CE40 -> 0.0012 | CH40: =CH12 -> 28 | CI40: =CI12 -> 100 | CJ40: =CI39-CI40 -> 0 | CK40: =6/SQRT(CH39*CH40) -> 0.20701967 | CL40: 1.4 | CM40: =(CJ40/100)*(CK40^2)*CL40 -> 0 | CO40: =CO12 -> 28 | CP40: =CP12 -> 96 | CQ40: =CP39-CP40 -> 4 | CR40: =6/SQRT(CO39*CO40) -> 0.20701967 | CS40: 1.4 | CT40: =(CQ40/100)*(CR40^2)*CS40 -> 0.0024 | CV40: =CV12 -> 28 | CW40: =CW12 -> 60 | CX40: =CW39-CW40 -> 40 | CY40: =6/SQRT(CV39*CV40) -> 0.20701967 | CZ40: 1.4 | DA40: =(CX40/100)*(CY40^2)*CZ40 -> 0.024 | DC40: =DC12 -> 28 | DD40: =DD12 -> 100 | DE40: =DD39-DD40 -> 0 | DF40: =6/SQRT(DC39*DC40) -> 0.20701967 | DG40: 1.4 | DH40: =(DE40/100)*(DF40^2)*DG40 -> 0 | DJ40: =DJ12 -> 28 | DK40: =DK12 -> 100 | DL40: =DK39-DK40 -> 0 | DM40: =6/SQRT(DJ39*DJ40) -> 0.20701967 | DN40: 1.4 | DO40: =(DL40/100)*(DM40^2)*DN40 -> 0 | DQ40: =DQ12 -> 28 | DR40: =DR12 -> 100 | DS40: =DR39-DR40 -> 0 | DT40: =6/SQRT(DQ39*DQ40) -> 0.20701967 | DU40: 1.4 | DV40: =(DS40/100)*(DT40^2)*DU40 -> 0 | DX40: =DX12 -> 28 | DY40: =DY12 -> 100 | DZ40: =DY39-DY40 -> 0 | EA40: =6/SQRT(DX39*DX40) -> 0.20701967 | EB40: 1.4 | EC40: =(DZ40/100)*(EA40^2)*EB40 -> 0 | EE40: =EE12 -> 28 | EF40: =EF12 -> 95 | EG40: =EF39-EF40 -> 5 | EH40: =6/SQRT(EE39*EE40) -> 0.20701967 | EI40: 1.4 | EJ40: =(EG40/100)*(EH40^2)*EI40 -> 0.003 | EL40: =EL12 -> 28 | EM40: =EM12 -> 100 | EN40: =EM39-EM40 -> 0 | EO40: =6/SQRT(EL39*EL40) -> 0.20701967 | EP40: 1.4 | EQ40: =(EN40/100)*(EO40^2)*EP40 -> 0 | ES40: =ES12 -> 28 | ET40: =ET12 -> 100 | EU40: =ET39-ET40 -> 0 | EV40: =6/SQRT(ES39*ES40) -> 0.20701967 | EW40: 1.4 | EX40: =(EU40/100)*(EV40^2)*EW40 -> 0
B41: =B13 -> 20 | C41: =C13 -> 91 | D41: =C40-C41 -> 2 | E41: =6/SQRT(B40*B41) -> 0.25354628 | F41: 1.4 | G41: =(D41/100)*(E41^2)*F41 -> 0.0018 | I41: =I13 -> 20 | J41: =J13 -> 76 | K41: =J40-J41 -> 17 | L41: =6/SQRT(I40*I41) -> 0.25354628 | M41: 1.4 | N41: =(K41/100)*(L41^2)*M41 -> 0.0153 | P41: =P13 -> 20 | Q41: =Q13 -> 76 | R41: =Q40-Q41 -> 13 | S41: =6/SQRT(P40*P41) -> 0.25354628 | T41: 1.4 | U41: =(R41/100)*(S41^2)*T41 -> 0.0117 | W41: =W13 -> 20 | X41: =X13 -> 55 | Y41: =X40-X41 -> 16 | Z41: =6/SQRT(W40*W41) -> 0.25354628 | AA41: 1.4 | AB41: =(Y41/100)*(Z41^2)*AA41 -> 0.0144 | AD41: =AD13 -> 20 | AE41: =AE13 -> 84 | AF41: =AE40-AE41 -> 5 | AG41: =6/SQRT(AD40*AD41) -> 0.25354628 | AH41: 1.4 | AI41: =(AF41/100)*(AG41^2)*AH41 -> 0.0045 | AK41: =AK13 -> 20 | AL41: =AL13 -> 46 | AM41: =AL40-AL41 -> 2 | AN41: =6/SQRT(AK40*AK41) -> 0.25354628 | AO41: 1.4 | AP41: =(AM41/100)*(AN41^2)*AO41 -> 0.0018 | AR41: =AR13 -> 20 | AS41: =AS13 -> 98 | AT41: =AS40-AS41 -> 2 | AU41: =6/SQRT(AR40*AR41) -> 0.25354628 | AV41: 1.4 | AW41: =(AT41/100)*(AU41^2)*AV41 -> 0.0018 | AY41: =AY13 -> 20 | AZ41: =AZ13 -> 99 | BA41: =AZ40-AZ41 -> 1 | BB41: =6/SQRT(AY40*AY41) -> 0.25354628 | BC41: 1.4 | BD41: =(BA41/100)*(BB41^2)*BC41 -> 0.0009 | BF41: =BF13 -> 20 | BG41: =BG13 -> 92 | BH41: =BG40-BG41 -> 4 | BI41: =6/SQRT(BF40*BF41) -> 0.25354628 | BJ41: 1.4 | BK41: =(BH41/100)*(BI41^2)*BJ41 -> 0.0036 | BM41: =BM13 -> 20 | BN41: =BN13 -> 99 | BO41: =BN40-BN41 -> 1 | BP41: =6/SQRT(BM40*BM41) -> 0.25354628 | BQ41: 1.4 | BR41: =(BO41/100)*(BP41^2)*BQ41 -> 0.0009 | BT41: =BT13 -> 20 | BU41: =BU13 -> 100 | BV41: =BU40-BU41 -> 0 | BW41: =6/SQRT(BT40*BT41) -> 0.25354628 | BX41: 1.4 | BY41: =(BV41/100)*(BW41^2)*BX41 -> 0 | CA41: =CA13 -> 20 | CB41: =CB13 -> 96 | CC41: =CB40-CB41 -> 2 | CD41: =6/SQRT(CA40*CA41) -> 0.25354628 | CE41: 1.4 | CF41: =(CC41/100)*(CD41^2)*CE41 -> 0.0018 | CH41: =CH13 -> 20 | CI41: =CI13 -> 100 | CJ41: =CI40-CI41 -> 0 | CK41: =6/SQRT(CH40*CH41) -> 0.25354628 | CL41: 1.4 | CM41: =(CJ41/100)*(CK41^2)*CL41 -> 0 | CO41: =CO13 -> 20 | CP41: =CP13 -> 96 | CQ41: =CP40-CP41 -> 0 | CR41: =6/SQRT(CO40*CO41) -> 0.25354628 | CS41: 1.4 | CT41: =(CQ41/100)*(CR41^2)*CS41 -> 0 | CV41: =CV13 -> 20 | CW41: =CW13 -> 52 | CX41: =CW40-CW41 -> 8 | CY41: =6/SQRT(CV40*CV41) -> 0.25354628 | CZ41: 1.4 | DA41: =(CX41/100)*(CY41^2)*CZ41 -> 0.0072 | DC41: =DC13 -> 20 | DD41: =DD13 -> 94 | DE41: =DD40-DD41 -> 6 | DF41: =6/SQRT(DC40*DC41) -> 0.25354628 | DG41: 1.4 | DH41: =(DE41/100)*(DF41^2)*DG41 -> 0.0054 | DJ41: =DJ13 -> 20 | DK41: =DK13 -> 96 | DL41: =DK40-DK41 -> 4 | DM41: =6/SQRT(DJ40*DJ41) -> 0.25354628 | DN41: 1.4 | DO41: =(DL41/100)*(DM41^2)*DN41 -> 0.0036 | DQ41: =DQ13 -> 20 | DR41: =DR13 -> 91 | DS41: =DR40-DR41 -> 9 | DT41: =6/SQRT(DQ40*DQ41) -> 0.25354628 | DU41: 1.4 | DV41: =(DS41/100)*(DT41^2)*DU41 -> 0.0081 | DX41: =DX13 -> 20 | DY41: =DY13 -> 95 | DZ41: =DY40-DY41 -> 5 | EA41: =6/SQRT(DX40*DX41) -> 0.25354628 | EB41: 1.4 | EC41: =(DZ41/100)*(EA41^2)*EB41 -> 0.0045 | EE41: =EE13 -> 20 | EF41: =EF13 -> 86 | EG41: =EF40-EF41 -> 9 | EH41: =6/SQRT(EE40*EE41) -> 0.25354628 | EI41: 1.4 | EJ41: =(EG41/100)*(EH41^2)*EI41 -> 0.0081 | EL41: =EL13 -> 20 | EM41: =EM13 -> 98 | EN41: =EM40-EM41 -> 2 | EO41: =6/SQRT(EL40*EL41) -> 0.25354628 | EP41: 1.4 | EQ41: =(EN41/100)*(EO41^2)*EP41 -> 0.0018 | ES41: =ES13 -> 20 | ET41: =ET13 -> 99 | EU41: =ET40-ET41 -> 1 | EV41: =6/SQRT(ES40*ES41) -> 0.25354628 | EW41: 1.4 | EX41: =(EU41/100)*(EV41^2)*EW41 -> 0.0009
B42: =B14 -> 14 | C42: =C14 -> 85 | D42: =C41-C42 -> 6 | E42: =6/SQRT(B41*B42) -> 0.35856858 | F42: 1.4 | G42: =(D42/100)*(E42^2)*F42 -> 0.0108 | I42: =I14 -> 14 | J42: =J14 -> 76 | K42: =J41-J42 -> 0 | L42: =6/SQRT(I41*I42) -> 0.35856858 | M42: 1.4 | N42: =(K42/100)*(L42^2)*M42 -> 0 | P42: =P14 -> 14 | Q42: =Q14 -> 61 | R42: =Q41-Q42 -> 15 | S42: =6/SQRT(P41*P42) -> 0.35856858 | T42: 1.4 | U42: =(R42/100)*(S42^2)*T42 -> 0.027 | W42: =W14 -> 14 | X42: =X14 -> 47 | Y42: =X41-X42 -> 8 | Z42: =6/SQRT(W41*W42) -> 0.35856858 | AA42: 1.4 | AB42: =(Y42/100)*(Z42^2)*AA42 -> 0.0144 | AD42: =AD14 -> 14 | AE42: =AE14 -> 84 | AF42: =AE41-AE42 -> 0 | AG42: =6/SQRT(AD41*AD42) -> 0.35856858 | AH42: 1.4 | AI42: =(AF42/100)*(AG42^2)*AH42 -> 0 | AK42: =AK14 -> 14 | AL42: =AL14 -> 44 | AM42: =AL41-AL42 -> 2 | AN42: =6/SQRT(AK41*AK42) -> 0.35856858 | AO42: 1.4 | AP42: =(AM42/100)*(AN42^2)*AO42 -> 0.0036 | AR42: =AR14 -> 14 | AS42: =AS14 -> 95 | AT42: =AS41-AS42 -> 3 | AU42: =6/SQRT(AR41*AR42) -> 0.35856858 | AV42: 1.4 | AW42: =(AT42/100)*(AU42^2)*AV42 -> 0.0054 | AY42: =AY14 -> 14 | AZ42: =AZ14 -> 97 | BA42: =AZ41-AZ42 -> 2 | BB42: =6/SQRT(AY41*AY42) -> 0.35856858 | BC42: 1.4 | BD42: =(BA42/100)*(BB42^2)*BC42 -> 0.0036 | BF42: =BF14 -> 14 | BG42: =BG14 -> 92 | BH42: =BG41-BG42 -> 0 | BI42: =6/SQRT(BF41*BF42) -> 0.35856858 | BJ42: 1.4 | BK42: =(BH42/100)*(BI42^2)*BJ42 -> 0 | BM42: =BM14 -> 14 | BN42: =BN14 -> 90 | BO42: =BN41-BN42 -> 9 | BP42: =6/SQRT(BM41*BM42) -> 0.35856858 | BQ42: 1.4 | BR42: =(BO42/100)*(BP42^2)*BQ42 -> 0.0162 | BT42: =BT14 -> 14 | BU42: =BU14 -> 100 | BV42: =BU41-BU42 -> 0 | BW42: =6/SQRT(BT41*BT42) -> 0.35856858 | BX42: 1.4 | BY42: =(BV42/100)*(BW42^2)*BX42 -> 0 | CA42: =CA14 -> 14 | CB42: =CB14 -> 91 | CC42: =CB41-CB42 -> 5 | CD42: =6/SQRT(CA41*CA42) -> 0.35856858 | CE42: 1.4 | CF42: =(CC42/100)*(CD42^2)*CE42 -> 0.009 | CH42: =CH14 -> 14 | CI42: =CI14 -> 100 | CJ42: =CI41-CI42 -> 0 | CK42: =6/SQRT(CH41*CH42) -> 0.35856858 | CL42: 1.4 | CM42: =(CJ42/100)*(CK42^2)*CL42 -> 0 | CO42: =CO14 -> 14 | CP42: =CP14 -> 96 | CQ42: =CP41-CP42 -> 0 | CR42: =6/SQRT(CO41*CO42) -> 0.35856858 | CS42: 1.4 | CT42: =(CQ42/100)*(CR42^2)*CS42 -> 0 | CV42: =CV14 -> 14 | CW42: =CW14 -> 44 | CX42: =CW41-CW42 -> 8 | CY42: =6/SQRT(CV41*CV42) -> 0.35856858 | CZ42: 1.4 | DA42: =(CX42/100)*(CY42^2)*CZ42 -> 0.0144 | DC42: =DC14 -> 14 | DD42: =DD14 -> 86 | DE42: =DD41-DD42 -> 8 | DF42: =6/SQRT(DC41*DC42) -> 0.35856858 | DG42: 1.4 | DH42: =(DE42/100)*(DF42^2)*DG42 -> 0.0144 | DJ42: =DJ14 -> 14 | DK42: =DK14 -> 94 | DL42: =DK41-DK42 -> 2 | DM42: =6/SQRT(DJ41*DJ42) -> 0.35856858 | DN42: 1.4 | DO42: =(DL42/100)*(DM42^2)*DN42 -> 0.0036 | DQ42: =DQ14 -> 14 | DR42: =DR14 -> 80 | DS42: =DR41-DR42 -> 11 | DT42: =6/SQRT(DQ41*DQ42) -> 0.35856858 | DU42: 1.4 | DV42: =(DS42/100)*(DT42^2)*DU42 -> 0.0198 | DX42: =DX14 -> 14 | DY42: =DY14 -> 91 | DZ42: =DY41-DY42 -> 4 | EA42: =6/SQRT(DX41*DX42) -> 0.35856858 | EB42: 1.4 | EC42: =(DZ42/100)*(EA42^2)*EB42 -> 0.0072 | EE42: =EE14 -> 14 | EF42: =EF14 -> 79 | EG42: =EF41-EF42 -> 7 | EH42: =6/SQRT(EE41*EE42) -> 0.35856858 | EI42: 1.4 | EJ42: =(EG42/100)*(EH42^2)*EI42 -> 0.0126 | EL42: =EL14 -> 14 | EM42: =EM14 -> 97 | EN42: =EM41-EM42 -> 1 | EO42: =6/SQRT(EL41*EL42) -> 0.35856858 | EP42: 1.4 | EQ42: =(EN42/100)*(EO42^2)*EP42 -> 0.0018 | ES42: =ES14 -> 14 | ET42: =ET14 -> 95 | EU42: =ET41-ET42 -> 4 | EV42: =6/SQRT(ES41*ES42) -> 0.35856858 | EW42: 1.4 | EX42: =(EU42/100)*(EV42^2)*EW42 -> 0.0072
B43: =B15 -> 10 | C43: =C15 -> 82 | D43: =C42-C43 -> 3 | E43: =6/SQRT(B42*B43) -> 0.50709255 | F43: 1.4 | G43: =(D43/100)*(E43^2)*F43 -> 0.0108 | I43: =I15 -> 10 | J43: =J15 -> 76 | K43: =J42-J43 -> 0 | L43: =6/SQRT(I42*I43) -> 0.50709255 | M43: 1.4 | N43: =(K43/100)*(L43^2)*M43 -> 0 | P43: =P15 -> 10 | Q43: =Q15 -> 55 | R43: =Q42-Q43 -> 6 | S43: =6/SQRT(P42*P43) -> 0.50709255 | T43: 1.4 | U43: =(R43/100)*(S43^2)*T43 -> 0.0216 | W43: =W15 -> 10 | X43: =X15 -> 41 | Y43: =X42-X43 -> 6 | Z43: =6/SQRT(W42*W43) -> 0.50709255 | AA43: 1.4 | AB43: =(Y43/100)*(Z43^2)*AA43 -> 0.0216 | AD43: =AD15 -> 10 | AE43: =AE15 -> 84 | AF43: =AE42-AE43 -> 0 | AG43: =6/SQRT(AD42*AD43) -> 0.50709255 | AH43: 1.4 | AI43: =(AF43/100)*(AG43^2)*AH43 -> 0 | AK43: =AK15 -> 10 | AL43: =AL15 -> 42 | AM43: =AL42-AL43 -> 2 | AN43: =6/SQRT(AK42*AK43) -> 0.50709255 | AO43: 1.4 | AP43: =(AM43/100)*(AN43^2)*AO43 -> 0.0072 | AR43: =AR15 -> 10 | AS43: =AS15 -> 93 | AT43: =AS42-AS43 -> 2 | AU43: =6/SQRT(AR42*AR43) -> 0.50709255 | AV43: 1.4 | AW43: =(AT43/100)*(AU43^2)*AV43 -> 0.0072 | AY43: =AY15 -> 10 | AZ43: =AZ15 -> 97 | BA43: =AZ42-AZ43 -> 0 | BB43: =6/SQRT(AY42*AY43) -> 0.50709255 | BC43: 1.4 | BD43: =(BA43/100)*(BB43^2)*BC43 -> 0 | BF43: =BF15 -> 10 | BG43: =BG15 -> 87 | BH43: =BG42-BG43 -> 5 | BI43: =6/SQRT(BF42*BF43) -> 0.50709255 | BJ43: 1.4 | BK43: =(BH43/100)*(BI43^2)*BJ43 -> 0.018 | BM43: =BM15 -> 10 | BN43: =BN15 -> 87 | BO43: =BN42-BN43 -> 3 | BP43: =6/SQRT(BM42*BM43) -> 0.50709255 | BQ43: 1.4 | BR43: =(BO43/100)*(BP43^2)*BQ43 -> 0.0108 | BT43: =BT15 -> 10 | BU43: =BU15 -> 100 | BV43: =BU42-BU43 -> 0 | BW43: =6/SQRT(BT42*BT43) -> 0.50709255 | BX43: 1.4 | BY43: =(BV43/100)*(BW43^2)*BX43 -> 0 | CA43: =CA15 -> 10 | CB43: =CB15 -> 88 | CC43: =CB42-CB43 -> 3 | CD43: =6/SQRT(CA42*CA43) -> 0.50709255 | CE43: 1.4 | CF43: =(CC43/100)*(CD43^2)*CE43 -> 0.0108 | CH43: =CH15 -> 10 | CI43: =CI15 -> 100 | CJ43: =CI42-CI43 -> 0 | CK43: =6/SQRT(CH42*CH43) -> 0.50709255 | CL43: 1.4 | CM43: =(CJ43/100)*(CK43^2)*CL43 -> 0 | CO43: =CO15 -> 10 | CP43: =CP15 -> 96 | CQ43: =CP42-CP43 -> 0 | CR43: =6/SQRT(CO42*CO43) -> 0.50709255 | CS43: 1.4 | CT43: =(CQ43/100)*(CR43^2)*CS43 -> 0 | CV43: =CV15 -> 10 | CW43: =CW15 -> 37 | CX43: =CW42-CW43 -> 7 | CY43: =6/SQRT(CV42*CV43) -> 0.50709255 | CZ43: 1.4 | DA43: =(CX43/100)*(CY43^2)*CZ43 -> 0.0252 | DC43: =DC15 -> 10 | DD43: =DD15 -> 82 | DE43: =DD42-DD43 -> 4 | DF43: =6/SQRT(DC42*DC43) -> 0.50709255 | DG43: 1.4 | DH43: =(DE43/100)*(DF43^2)*DG43 -> 0.0144 | DJ43: =DJ15 -> 10 | DK43: =DK15 -> 94 | DL43: =DK42-DK43 -> 0 | DM43: =6/SQRT(DJ42*DJ43) -> 0.50709255 | DN43: 1.4 | DO43: =(DL43/100)*(DM43^2)*DN43 -> 0 | DQ43: =DQ15 -> 10 | DR43: =DR15 -> 75 | DS43: =DR42-DR43 -> 5 | DT43: =6/SQRT(DQ42*DQ43) -> 0.50709255 | DU43: 1.4 | DV43: =(DS43/100)*(DT43^2)*DU43 -> 0.018 | DX43: =DX15 -> 10 | DY43: =DY15 -> 86 | DZ43: =DY42-DY43 -> 5 | EA43: =6/SQRT(DX42*DX43) -> 0.50709255 | EB43: 1.4 | EC43: =(DZ43/100)*(EA43^2)*EB43 -> 0.018 | EE43: =EE15 -> 10 | EF43: =EF15 -> 74 | EG43: =EF42-EF43 -> 5 | EH43: =6/SQRT(EE42*EE43) -> 0.50709255 | EI43: 1.4 | EJ43: =(EG43/100)*(EH43^2)*EI43 -> 0.018 | EL43: =EL15 -> 10 | EM43: =EM15 -> 92 | EN43: =EM42-EM43 -> 5 | EO43: =6/SQRT(EL42*EL43) -> 0.50709255 | EP43: 1.4 | EQ43: =(EN43/100)*(EO43^2)*EP43 -> 0.018 | ES43: =ES15 -> 10 | ET43: =ET15 -> 94 | EU43: =ET42-ET43 -> 1 | EV43: =6/SQRT(ES42*ES43) -> 0.50709255 | EW43: 1.4 | EX43: =(EU43/100)*(EV43^2)*EW43 -> 0.0036
B44: =B16 -> 6.3 | C44: =C16 -> 73 | D44: =C43-C44 -> 9 | E44: =6/SQRT(B43*B44) -> 0.75592895 | F44: 1.4 | G44: =(D44/100)*(E44^2)*F44 -> 0.072 | I44: =I16 -> 6.3 | J44: =J16 -> 73 | K44: =J43-J44 -> 3 | L44: =6/SQRT(I43*I44) -> 0.75592895 | M44: 1.4 | N44: =(K44/100)*(L44^2)*M44 -> 0.024 | P44: =P16 -> 6.3 | Q44: =Q16 -> 49 | R44: =Q43-Q44 -> 6 | S44: =6/SQRT(P43*P44) -> 0.75592895 | T44: 1.4 | U44: =(R44/100)*(S44^2)*T44 -> 0.048 | W44: =W16 -> 6.3 | X44: =X16 -> 35 | Y44: =X43-X44 -> 6 | Z44: =6/SQRT(W43*W44) -> 0.75592895 | AA44: 1.4 | AB44: =(Y44/100)*(Z44^2)*AA44 -> 0.048 | AD44: =AD16 -> 6.3 | AE44: =AE16 -> 83 | AF44: =AE43-AE44 -> 1 | AG44: =6/SQRT(AD43*AD44) -> 0.75592895 | AH44: 1.4 | AI44: =(AF44/100)*(AG44^2)*AH44 -> 0.008 | AK44: =AK16 -> 6.3 | AL44: =AL16 -> 41 | AM44: =AL43-AL44 -> 1 | AN44: =6/SQRT(AK43*AK44) -> 0.75592895 | AO44: 1.4 | AP44: =(AM44/100)*(AN44^2)*AO44 -> 0.008 | AR44: =AR16 -> 6.3 | AS44: =AS16 -> 90 | AT44: =AS43-AS44 -> 3 | AU44: =6/SQRT(AR43*AR44) -> 0.75592895 | AV44: 1.4 | AW44: =(AT44/100)*(AU44^2)*AV44 -> 0.024 | AY44: =AY16 -> 6.3 | AZ44: =AZ16 -> 96 | BA44: =AZ43-AZ44 -> 1 | BB44: =6/SQRT(AY43*AY44) -> 0.75592895 | BC44: 1.4 | BD44: =(BA44/100)*(BB44^2)*BC44 -> 0.008 | BF44: =BF16 -> 6.3 | BG44: =BG16 -> 82 | BH44: =BG43-BG44 -> 5 | BI44: =6/SQRT(BF43*BF44) -> 0.75592895 | BJ44: 1.4 | BK44: =(BH44/100)*(BI44^2)*BJ44 -> 0.04 | BM44: =BM16 -> 6.3 | BN44: =BN16 -> 83 | BO44: =BN43-BN44 -> 4 | BP44: =6/SQRT(BM43*BM44) -> 0.75592895 | BQ44: 1.4 | BR44: =(BO44/100)*(BP44^2)*BQ44 -> 0.032 | BT44: =BT16 -> 6.3 | BU44: =BU16 -> 99 | BV44: =BU43-BU44 -> 1 | BW44: =6/SQRT(BT43*BT44) -> 0.75592895 | BX44: 1.4 | BY44: =(BV44/100)*(BW44^2)*BX44 -> 0.008 | CA44: =CA16 -> 6.3 | CB44: =CB16 -> 85 | CC44: =CB43-CB44 -> 3 | CD44: =6/SQRT(CA43*CA44) -> 0.75592895 | CE44: 1.4 | CF44: =(CC44/100)*(CD44^2)*CE44 -> 0.024 | CH44: =CH16 -> 6.3 | CI44: =CI16 -> 99 | CJ44: =CI43-CI44 -> 1 | CK44: =6/SQRT(CH43*CH44) -> 0.75592895 | CL44: 1.4 | CM44: =(CJ44/100)*(CK44^2)*CL44 -> 0.008 | CO44: =CO16 -> 6.3 | CP44: =CP16 -> 95 | CQ44: =CP43-CP44 -> 1 | CR44: =6/SQRT(CO43*CO44) -> 0.75592895 | CS44: 1.4 | CT44: =(CQ44/100)*(CR44^2)*CS44 -> 0.008 | CV44: =CV16 -> 6.3 | CW44: =CW16 -> 32 | CX44: =CW43-CW44 -> 5 | CY44: =6/SQRT(CV43*CV44) -> 0.75592895 | CZ44: 1.4 | DA44: =(CX44/100)*(CY44^2)*CZ44 -> 0.04 | DC44: =DC16 -> 6.3 | DD44: =DD16 -> 77 | DE44: =DD43-DD44 -> 5 | DF44: =6/SQRT(DC43*DC44) -> 0.75592895 | DG44: 1.4 | DH44: =(DE44/100)*(DF44^2)*DG44 -> 0.04 | DJ44: =DJ16 -> 6.3 | DK44: =DK16 -> 92 | DL44: =DK43-DK44 -> 2 | DM44: =6/SQRT(DJ43*DJ44) -> 0.75592895 | DN44: 1.4 | DO44: =(DL44/100)*(DM44^2)*DN44 -> 0.016 | DQ44: =DQ16 -> 6.3 | DR44: =DR16 -> 70 | DS44: =DR43-DR44 -> 5 | DT44: =6/SQRT(DQ43*DQ44) -> 0.75592895 | DU44: 1.4 | DV44: =(DS44/100)*(DT44^2)*DU44 -> 0.04 | DX44: =DX16 -> 6.3 | DY44: =DY16 -> 81 | DZ44: =DY43-DY44 -> 5 | EA44: =6/SQRT(DX43*DX44) -> 0.75592895 | EB44: 1.4 | EC44: =(DZ44/100)*(EA44^2)*EB44 -> 0.04 | EE44: =EE16 -> 6.3 | EF44: =EF16 -> 67 | EG44: =EF43-EF44 -> 7 | EH44: =6/SQRT(EE43*EE44) -> 0.75592895 | EI44: 1.4 | EJ44: =(EG44/100)*(EH44^2)*EI44 -> 0.056 | EL44: =EL16 -> 6.3 | EM44: =EM16 -> 90 | EN44: =EM43-EM44 -> 2 | EO44: =6/SQRT(EL43*EL44) -> 0.75592895 | EP44: 1.4 | EQ44: =(EN44/100)*(EO44^2)*EP44 -> 0.016 | ES44: =ES16 -> 6.3 | ET44: =ET16 -> 92 | EU44: =ET43-ET44 -> 2 | EV44: =6/SQRT(ES43*ES44) -> 0.75592895 | EW44: 1.4 | EX44: =(EU44/100)*(EV44^2)*EW44 -> 0.016
B45: =B17 -> 5 | C45: =C17 -> 70 | D45: =C44-C45 -> 3 | E45: =6/SQRT(B44*B45) -> 1.069045 | F45: 1.4 | G45: =(D45/100)*(E45^2)*F45 -> 0.048 | I45: =I17 -> 5 | J45: =J17 -> 72 | K45: =J44-J45 -> 1 | L45: =6/SQRT(I44*I45) -> 1.069045 | M45: 1.4 | N45: =(K45/100)*(L45^2)*M45 -> 0.016 | P45: =P17 -> 5 | Q45: =Q17 -> 47 | R45: =Q44-Q45 -> 2 | S45: =6/SQRT(P44*P45) -> 1.069045 | T45: 1.4 | U45: =(R45/100)*(S45^2)*T45 -> 0.032 | W45: =W17 -> 5 | X45: =X17 -> 31 | Y45: =X44-X45 -> 4 | Z45: =6/SQRT(W44*W45) -> 1.069045 | AA45: 1.4 | AB45: =(Y45/100)*(Z45^2)*AA45 -> 0.064 | AD45: =AD17 -> 5 | AE45: =AE17 -> 83 | AF45: =AE44-AE45 -> 0 | AG45: =6/SQRT(AD44*AD45) -> 1.069045 | AH45: 1.4 | AI45: =(AF45/100)*(AG45^2)*AH45 -> 0 | AK45: =AK17 -> 5 | AL45: =AL17 -> 40 | AM45: =AL44-AL45 -> 1 | AN45: =6/SQRT(AK44*AK45) -> 1.069045 | AO45: 1.4 | AP45: =(AM45/100)*(AN45^2)*AO45 -> 0.016 | AR45: =AR17 -> 5 | AS45: =AS17 -> 89 | AT45: =AS44-AS45 -> 1 | AU45: =6/SQRT(AR44*AR45) -> 1.069045 | AV45: 1.4 | AW45: =(AT45/100)*(AU45^2)*AV45 -> 0.016 | AY45: =AY17 -> 5 | AZ45: =AZ17 -> 96 | BA45: =AZ44-AZ45 -> 0 | BB45: =6/SQRT(AY44*AY45) -> 1.069045 | BC45: 1.4 | BD45: =(BA45/100)*(BB45^2)*BC45 -> 0 | BF45: =BF17 -> 5 | BG45: =BG17 -> 80 | BH45: =BG44-BG45 -> 2 | BI45: =6/SQRT(BF44*BF45) -> 1.069045 | BJ45: 1.4 | BK45: =(BH45/100)*(BI45^2)*BJ45 -> 0.032 | BM45: =BM17 -> 5 | BN45: =BN17 -> 82 | BO45: =BN44-BN45 -> 1 | BP45: =6/SQRT(BM44*BM45) -> 1.069045 | BQ45: 1.4 | BR45: =(BO45/100)*(BP45^2)*BQ45 -> 0.016 | BT45: =BT17 -> 5 | BU45: =BU17 -> 99 | BV45: =BU44-BU45 -> 0 | BW45: =6/SQRT(BT44*BT45) -> 1.069045 | BX45: 1.4 | BY45: =(BV45/100)*(BW45^2)*BX45 -> 0 | CA45: =CA17 -> 5 | CB45: =CB17 -> 83 | CC45: =CB44-CB45 -> 2 | CD45: =6/SQRT(CA44*CA45) -> 1.069045 | CE45: 1.4 | CF45: =(CC45/100)*(CD45^2)*CE45 -> 0.032 | CH45: =CH17 -> 5 | CI45: =CI17 -> 99 | CJ45: =CI44-CI45 -> 0 | CK45: =6/SQRT(CH44*CH45) -> 1.069045 | CL45: 1.4 | CM45: =(CJ45/100)*(CK45^2)*CL45 -> 0 | CO45: =CO17 -> 5 | CP45: =CP17 -> 95 | CQ45: =CP44-CP45 -> 0 | CR45: =6/SQRT(CO44*CO45) -> 1.069045 | CS45: 1.4 | CT45: =(CQ45/100)*(CR45^2)*CS45 -> 0 | CV45: =CV17 -> 5 | CW45: =CW17 -> 31 | CX45: =CW44-CW45 -> 1 | CY45: =6/SQRT(CV44*CV45) -> 1.069045 | CZ45: 1.4 | DA45: =(CX45/100)*(CY45^2)*CZ45 -> 0.016 | DC45: =DC17 -> 5 | DD45: =DD17 -> 75 | DE45: =DD44-DD45 -> 2 | DF45: =6/SQRT(DC44*DC45) -> 1.069045 | DG45: 1.4 | DH45: =(DE45/100)*(DF45^2)*DG45 -> 0.032 | DJ45: =DJ17 -> 5 | DK45: =DK17 -> 91 | DL45: =DK44-DK45 -> 1 | DM45: =6/SQRT(DJ44*DJ45) -> 1.069045 | DN45: 1.4 | DO45: =(DL45/100)*(DM45^2)*DN45 -> 0.016 | DQ45: =DQ17 -> 5 | DR45: =DR17 -> 68 | DS45: =DR44-DR45 -> 2 | DT45: =6/SQRT(DQ44*DQ45) -> 1.069045 | DU45: 1.4 | DV45: =(DS45/100)*(DT45^2)*DU45 -> 0.032 | DX45: =DX17 -> 5 | DY45: =DY17 -> 79 | DZ45: =DY44-DY45 -> 2 | EA45: =6/SQRT(DX44*DX45) -> 1.069045 | EB45: 1.4 | EC45: =(DZ45/100)*(EA45^2)*EB45 -> 0.032 | EE45: =EE17 -> 5 | EF45: =EF17 -> 66 | EG45: =EF44-EF45 -> 1 | EH45: =6/SQRT(EE44*EE45) -> 1.069045 | EI45: 1.4 | EJ45: =(EG45/100)*(EH45^2)*EI45 -> 0.016 | EL45: =EL17 -> 5 | EM45: =EM17 -> 88 | EN45: =EM44-EM45 -> 2 | EO45: =6/SQRT(EL44*EL45) -> 1.069045 | EP45: 1.4 | EQ45: =(EN45/100)*(EO45^2)*EP45 -> 0.032 | ES45: =ES17 -> 5 | ET45: =ET17 -> 91 | EU45: =ET44-ET45 -> 1 | EV45: =6/SQRT(ES44*ES45) -> 1.069045 | EW45: 1.4 | EX45: =(EU45/100)*(EV45^2)*EW45 -> 0.016
B46: =B18 -> 3.35 | C46: =C18 -> 67 | D46: =C45-C46 -> 3 | E46: =6/SQRT(B45*B46) -> 1.4660333 | F46: 1.4 | G46: =(D46/100)*(E46^2)*F46 -> 0.090268657 | I46: =I18 -> 3.35 | J46: =J18 -> 69 | K46: =J45-J46 -> 3 | L46: =6/SQRT(I45*I46) -> 1.4660333 | M46: 1.4 | N46: =(K46/100)*(L46^2)*M46 -> 0.090268657 | P46: =P18 -> 3.35 | Q46: =Q18 -> 44 | R46: =Q45-Q46 -> 3 | S46: =6/SQRT(P45*P46) -> 1.4660333 | T46: 1.4 | U46: =(R46/100)*(S46^2)*T46 -> 0.090268657 | W46: =W18 -> 3.35 | X46: =X18 -> 26 | Y46: =X45-X46 -> 5 | Z46: =6/SQRT(W45*W46) -> 1.4660333 | AA46: 1.4 | AB46: =(Y46/100)*(Z46^2)*AA46 -> 0.15044776 | AD46: =AD18 -> 3.35 | AE46: =AE18 -> 81 | AF46: =AE45-AE46 -> 2 | AG46: =6/SQRT(AD45*AD46) -> 1.4660333 | AH46: 1.4 | AI46: =(AF46/100)*(AG46^2)*AH46 -> 0.060179104 | AK46: =AK18 -> 3.35 | AL46: =AL18 -> 40 | AM46: =AL45-AL46 -> 0 | AN46: =6/SQRT(AK45*AK46) -> 1.4660333 | AO46: 1.4 | AP46: =(AM46/100)*(AN46^2)*AO46 -> 0 | AR46: =AR18 -> 3.35 | AS46: =AS18 -> 87 | AT46: =AS45-AS46 -> 2 | AU46: =6/SQRT(AR45*AR46) -> 1.4660333 | AV46: 1.4 | AW46: =(AT46/100)*(AU46^2)*AV46 -> 0.060179104 | AY46: =AY18 -> 3.35 | AZ46: =AZ18 -> 96 | BA46: =AZ45-AZ46 -> 0 | BB46: =6/SQRT(AY45*AY46) -> 1.4660333 | BC46: 1.4 | BD46: =(BA46/100)*(BB46^2)*BC46 -> 0 | BF46: =BF18 -> 3.35 | BG46: =BG18 -> 77 | BH46: =BG45-BG46 -> 3 | BI46: =6/SQRT(BF45*BF46) -> 1.4660333 | BJ46: 1.4 | BK46: =(BH46/100)*(BI46^2)*BJ46 -> 0.090268657 | BM46: =BM18 -> 3.35 | BN46: =BN18 -> 79 | BO46: =BN45-BN46 -> 3 | BP46: =6/SQRT(BM45*BM46) -> 1.4660333 | BQ46: 1.4 | BR46: =(BO46/100)*(BP46^2)*BQ46 -> 0.090268657 | BT46: =BT18 -> 3.35 | BU46: =BU18 -> 98 | BV46: =BU45-BU46 -> 1 | BW46: =6/SQRT(BT45*BT46) -> 1.4660333 | BX46: 1.4 | BY46: =(BV46/100)*(BW46^2)*BX46 -> 0.030089552 | CA46: =CA18 -> 3.35 | CB46: =CB18 -> 80 | CC46: =CB45-CB46 -> 3 | CD46: =6/SQRT(CA45*CA46) -> 1.4660333 | CE46: 1.4 | CF46: =(CC46/100)*(CD46^2)*CE46 -> 0.090268657 | CH46: =CH18 -> 3.35 | CI46: =CI18 -> 98 | CJ46: =CI45-CI46 -> 1 | CK46: =6/SQRT(CH45*CH46) -> 1.4660333 | CL46: 1.4 | CM46: =(CJ46/100)*(CK46^2)*CL46 -> 0.030089552 | CO46: =CO18 -> 3.35 | CP46: =CP18 -> 94 | CQ46: =CP45-CP46 -> 1 | CR46: =6/SQRT(CO45*CO46) -> 1.4660333 | CS46: 1.4 | CT46: =(CQ46/100)*(CR46^2)*CS46 -> 0.030089552 | CV46: =CV18 -> 3.35 | CW46: =CW18 -> 29 | CX46: =CW45-CW46 -> 2 | CY46: =6/SQRT(CV45*CV46) -> 1.4660333 | CZ46: 1.4 | DA46: =(CX46/100)*(CY46^2)*CZ46 -> 0.060179104 | DC46: =DC18 -> 3.35 | DD46: =DD18 -> 73 | DE46: =DD45-DD46 -> 2 | DF46: =6/SQRT(DC45*DC46) -> 1.4660333 | DG46: 1.4 | DH46: =(DE46/100)*(DF46^2)*DG46 -> 0.060179104 | DJ46: =DJ18 -> 3.35 | DK46: =DK18 -> 90 | DL46: =DK45-DK46 -> 1 | DM46: =6/SQRT(DJ45*DJ46) -> 1.4660333 | DN46: 1.4 | DO46: =(DL46/100)*(DM46^2)*DN46 -> 0.030089552 | DQ46: =DQ18 -> 3.35 | DR46: =DR18 -> 65 | DS46: =DR45-DR46 -> 3 | DT46: =6/SQRT(DQ45*DQ46) -> 1.4660333 | DU46: 1.4 | DV46: =(DS46/100)*(DT46^2)*DU46 -> 0.090268657 | DX46: =DX18 -> 3.35 | DY46: =DY18 -> 76 | DZ46: =DY45-DY46 -> 3 | EA46: =6/SQRT(DX45*DX46) -> 1.4660333 | EB46: 1.4 | EC46: =(DZ46/100)*(EA46^2)*EB46 -> 0.090268657 | EE46: =EE18 -> 3.35 | EF46: =EF18 -> 64 | EG46: =EF45-EF46 -> 2 | EH46: =6/SQRT(EE45*EE46) -> 1.4660333 | EI46: 1.4 | EJ46: =(EG46/100)*(EH46^2)*EI46 -> 0.060179104 | EL46: =EL18 -> 3.35 | EM46: =EM18 -> 86 | EN46: =EM45-EM46 -> 2 | EO46: =6/SQRT(EL45*EL46) -> 1.4660333 | EP46: 1.4 | EQ46: =(EN46/100)*(EO46^2)*EP46 -> 0.060179104 | ES46: =ES18 -> 3.35 | ET46: =ET18 -> 89 | EU46: =ET45-ET46 -> 2 | EV46: =6/SQRT(ES45*ES46) -> 1.4660333 | EW46: 1.4 | EX46: =(EU46/100)*(EV46^2)*EW46 -> 0.060179104
... B54: =B26 -> 0.063 | C54: =C26 -> 42 | D54: =C53-C54 -> 3 | E54: =6/SQRT(B53*B54) -> 61.72134 | F54: 1.4 | G54: =(D54/100)*(E54^2)*F54 -> 160 | I54: =I26 -> 0.063 | J54: =J26 -> 16 | K54: =J53-J54 -> 4 | L54: =6/SQRT(I53*I54) -> 61.72134 | M54: 1.4 | N54: =(K54/100)*(L54^2)*M54 -> 213.33333 | P54: =P26 -> 0.063 | Q54: =Q26 -> 30 | R54: =Q53-Q54 -> 2 | S54: =6/SQRT(P53*P54) -> 61.72134 | T54: 1.4 | U54: =(R54/100)*(S54^2)*T54 -> 106.66667 | W54: =W26 -> 0.063 | X54: =X26 -> 9 | Y54: =X53-X54 -> 1 | Z54: =6/SQRT(W53*W54) -> 61.72134 | AA54: 1.4 | AB54: =(Y54/100)*(Z54^2)*AA54 -> 53.333333 | AD54: =AD26 -> 0.063 | AE54: =AE26 -> 18 | AF54: =AE53-AE54 -> 3 | AG54: =6/SQRT(AD53*AD54) -> 61.72134 | AH54: 1.4 | AI54: =(AF54/100)*(AG54^2)*AH54 -> 160 | AK54: =AK26 -> 0.063 | AL54: =AL26 -> 24 | AM54: =AL53-AL54 -> 3 | AN54: =6/SQRT(AK53*AK54) -> 61.72134 | AO54: 1.4 | AP54: =(AM54/100)*(AN54^2)*AO54 -> 160 | AR54: =AR26 -> 0.063 | AS54: =AS26 -> 40 | AT54: =AS53-AS54 -> 6 | AU54: =6/SQRT(AR53*AR54) -> 61.72134 | AV54: 1.4 | AW54: =(AT54/100)*(AU54^2)*AV54 -> 320 | AY54: =AY26 -> 0.063 | AZ54: =AZ26 -> 31 | BA54: =AZ53-AZ54 -> 8 | BB54: =6/SQRT(AY53*AY54) -> 61.72134 | BC54: 1.4 | BD54: =(BA54/100)*(BB54^2)*BC54 -> 426.66667 | BF54: =BF26 -> 0.063 | BG54: =BG26 -> 46 | BH54: =BG53-BG54 -> 4 | BI54: =6/SQRT(BF53*BF54) -> 61.72134 | BJ54: 1.4 | BK54: =(BH54/100)*(BI54^2)*BJ54 -> 213.33333 | BM54: =BM26 -> 0.063 | BN54: =BN26 -> 44 | BO54: =BN53-BN54 -> 3 | BP54: =6/SQRT(BM53*BM54) -> 61.72134 | BQ54: 1.4 | BR54: =(BO54/100)*(BP54^2)*BQ54 -> 160 | BT54: =BT26 -> 0.063 | BU54: =BU26 -> 53 | BV54: =BU53-BU54 -> 10 | BW54: =6/SQRT(BT53*BT54) -> 61.72134 | BX54: 1.4 | BY54: =(BV54/100)*(BW54^2)*BX54 -> 533.33333 | CA54: =CA26 -> 0.063 | CB54: =CB26 -> 48 | CC54: =CB53-CB54 -> 4 | CD54: =6/SQRT(CA53*CA54) -> 61.72134 | CE54: 1.4 | CF54: =(CC54/100)*(CD54^2)*CE54 -> 213.33333 | CH54: =CH26 -> 0.063 | CI54: =CI26 -> 76 | CJ54: =CI53-CI54 -> 1 | CK54: =6/SQRT(CH53*CH54) -> 61.72134 | CL54: 1.4 | CM54: =(CJ54/100)*(CK54^2)*CL54 -> 53.333333 | CO54: =CO26 -> 0.063 | CP54: =CP26 -> 24 | CQ54: =CP53-CP54 -> 6 | CR54: =6/SQRT(CO53*CO54) -> 61.72134 | CS54: 1.4 | CT54: =(CQ54/100)*(CR54^2)*CS54 -> 320 | CV54: =CV26 -> 0.063 | CW54: =CW26 -> 14 | CX54: =CW53-CW54 -> 2 | CY54: =6/SQRT(CV53*CV54) -> 61.72134 | CZ54: 1.4 | DA54: =(CX54/100)*(CY54^2)*CZ54 -> 106.66667 | DC54: =DC26 -> 0.063 | DD54: =DD26 -> 31 | DE54: =DD53-DD54 -> 7 | DF54: =6/SQRT(DC53*DC54) -> 61.72134 | DG54: 1.4 | DH54: =(DE54/100)*(DF54^2)*DG54 -> 373.33333 | DJ54: =DJ26 -> 0.063 | DK54: =DK26 -> 85 | DL54: =DK53-DK54 -> 1 | DM54: =6/SQRT(DJ53*DJ54) -> 61.72134 | DN54: 1.4 | DO54: =(DL54/100)*(DM54^2)*DN54 -> 53.333333 | DQ54: =DQ26 -> 0.063 | DR54: =DR26 -> 33 | DS54: =DR53-DR54 -> 4 | DT54: =6/SQRT(DQ53*DQ54) -> 61.72134 | DU54: 1.4 | DV54: =(DS54/100)*(DT54^2)*DU54 -> 213.33333 | DX54: =DX26 -> 0.063 | DY54: =DY26 -> 47 | DZ54: =DY53-DY54 -> 4 | EA54: =6/SQRT(DX53*DX54) -> 61.72134 | EB54: 1.4 | EC54: =(DZ54/100)*(EA54^2)*EB54 -> 213.33333 | EE54: =EE26 -> 0.063 | EF54: =EF26 -> 29 | EG54: =EF53-EF54 -> 5 | EH54: =6/SQRT(EE53*EE54) -> 61.72134 | EI54: 1.4 | EJ54: =(EG54/100)*(EH54^2)*EI54 -> 266.66667 | EL54: =EL26 -> 0.063 | EM54: =EM26 -> 19 | EN54: =EM53-EM54 -> 8 | EO54: =6/SQRT(EL53*EL54) -> 61.72134 | EP54: 1.4 | EQ54: =(EN54/100)*(EO54^2)*EP54 -> 426.66667 | ES54: =ES26 -> 0.063 | ET54: =ET26 -> 34 | EU54: =ET53-ET54 -> 4 | EV54: =6/SQRT(ES53*ES54) -> 61.72134 | EW54: 1.4 | EX54: =(EU54/100)*(EV54^2)*EW54 -> 213.33333
F55: fS2 = | G55: =SUM(G34:G54) -> 219.25814 | M55: fS2 = | N55: =SUM(N34:N54) -> 334.58062 | T55: fS2 = | U55: =SUM(U34:U54) -> 135.42273 | AA55: fS2 = | AB55: =SUM(AB34:AB54) -> 86.72703 | AH55: fS2 = | AI55: =SUM(AI34:AI54) -> 254.12666 | AO55: fS2 = | AP55: =SUM(AP34:AP54) -> 206.23633 | AV55: fS2 = | AW55: =SUM(AW34:AW54) -> 455.3325 | BC55: fS2 = | BD55: =SUM(BD34:BD54) -> 620.062 | BJ55: fS2 = | BK55: =SUM(BK34:BK54) -> 298.13455 | BQ55: fS2 = | BR55: =SUM(BR34:BR54) -> 246.7079 | BX55: fS2 = | BY55: =SUM(BY34:BY54) -> 680.3223 | CE55: fS2 = | CF55: =SUM(CF34:CF54) -> 293.32764 | CL55: fS2 = | CM55: =SUM(CM34:CM54) -> 95.916991 | CS55: fS2 = | CT55: =SUM(CT34:CT54) -> 491.50201 | CZ55: fS2 = | DA55: =SUM(DA34:DA54) -> 144.69732 | DG55: fS2 = | DH55: =SUM(DH34:DH54) -> 568.75134 | DN55: fS2 = | DO55: =SUM(DO34:DO54) -> 66.205516 | DU55: fS2 = | DV55: =SUM(DV34:DV54) -> 311.74501 | EB55: fS2 = | EC55: =SUM(EC34:EC54) -> 292.21155 | EI55: fS2 = | EJ55: =SUM(EJ34:EJ54) -> 384.50283 | EP55: fS2 = | EQ55: =SUM(EQ34:EQ54) -> 806.01327 | EW55: fS2 = | EX55: =SUM(EX34:EX54) -> 332.54829
D57: Void Ratio | E57: (formula) | G57: k20 | K57: Void Ratio | L57: (formula) | N57: k20 | R57: Void Ratio | S57: (formula) | U57: k20 | Y57: Void Ratio | Z57: (formula) | AB57: k20 | AF57: Void Ratio | AG57: (formula) | AI57: k20 | AM57: Void Ratio | AN57: (formula) | AP57: k20 | AT57: Void Ratio | AU57: (formula) | AW57: k20 | BA57: Void Ratio | BB57: (formula) | BD57: k20 | BH57: Void Ratio | BI57: (formula) | BK57: k20 | BO57: Void Ratio | BP57: (formula) | BR57: k20 | BV57: Void Ratio | BW57: (formula) | BY57: k20 | CC57: Void Ratio | CD57: (formula) | CF57: k20 | CJ57: Void Ratio | CK57: (formula) | CM57: k20 | CQ57: Void Ratio | CR57: (formula) | CT57: k20 | CX57: Void Ratio | CY57: (formula) | DA57: k20 | DE57: Void Ratio | DF57: (formula) | DH57: k20 | DL57: Void Ratio | DM57: (formula) | DO57: k20 | DS57: Void Ratio | DT57: (formula) | DV57: k20 | DZ57: Void Ratio | EA57: (formula) | EC57: k20 | EG57: Void Ratio | EH57: (formula) | EJ57: k20 | EN57: Void Ratio | EO57: (formula) | EQ57: k20 | EU57: Void Ratio | EV57: (formula) | EX57: k20
D58: 0.2 | E58: =1.962/G55 -> 0.0089483565 | F58: =(D58^3)/(1+D58) -> 0.0066666667 | G58: =E58*F58 -> 5.965571e-05 | K58: 0.2 | L58: =1.962/N55 -> 0.0058640574 | M58: =(K58^3)/(1+K58) -> 0.0066666667 | N58: =L58*M58 -> 3.9093716e-05 | R58: 0.2 | S58: =1.962/U55 -> 0.014487966 | T58: =(R58^3)/(1+R58) -> 0.0066666667 | U58: =S58*T58 -> 9.6586443e-05 | Y58: 0.2 | Z58: =1.962/AB55 -> 0.022622705 | AA58: =(Y58^3)/(1+Y58) -> 0.0066666667 | AB58: =Z58*AA58 -> 0.00015081803 | AF58: 0.2 | AG58: =1.962/AI55 -> 0.0077205596 | AH58: =(AF58^3)/(1+AF58) -> 0.0066666667 | AI58: =AG58*AH58 -> 5.1470397e-05 | AM58: 0.2 | AN58: =1.962/AP55 -> 0.0095133576 | AO58: =(AM58^3)/(1+AM58) -> 0.0066666667 | AP58: =AN58*AO58 -> 6.3422384e-05 | AT58: 0.2 | AU58: =1.962/AW55 -> 0.0043089391 | AV58: =(AT58^3)/(1+AT58) -> 0.0066666667 | AW58: =AU58*AV58 -> 2.8726261e-05 | BA58: 0.2 | BB58: =1.962/BD55 -> 0.0031641997 | BC58: =(BA58^3)/(1+BA58) -> 0.0066666667 | BD58: =BB58*BC58 -> 2.1094665e-05 | BH58: 0.2 | BI58: =1.962/BK55 -> 0.0065809213 | BJ58: =(BH58^3)/(1+BH58) -> 0.0066666667 | BK58: =BI58*BJ58 -> 4.3872808e-05 | BO58: 0.2 | BP58: =1.962/BR55 -> 0.0079527245 | BQ58: =(BO58^3)/(1+BO58) -> 0.0066666667 | BR58: =BP58*BQ58 -> 5.3018163e-05 | BV58: 0.2 | BW58: =1.962/BY55 -> 0.0028839272 | BX58: =(BV58^3)/(1+BV58) -> 0.0066666667 | BY58: =BW58*BX58 -> 1.9226182e-05 | CC58: 0.2 | CD58: =1.962/CF55 -> 0.0066887662 | CE58: =(CC58^3)/(1+CC58) -> 0.0066666667 | CF58: =CD58*CE58 -> 4.4591775e-05 | CJ58: 0.2 | CK58: =1.962/CM55 -> 0.020455187 | CL58: =(CJ58^3)/(1+CJ58) -> 0.0066666667 | CM58: =CK58*CL58 -> 0.00013636791 | CQ58: 0.2 | CR58: =1.962/CT55 -> 0.0039918453 | CS58: =(CQ58^3)/(1+CQ58) -> 0.0066666667 | CT58: =CR58*CS58 -> 2.6612302e-05 | CX58: 0.2 | CY58: =1.962/DA55 -> 0.013559338 | CZ58: =(CX58^3)/(1+CX58) -> 0.0066666667 | DA58: =CY58*CZ58 -> 9.039559e-05 | DE58: 0.2 | DF58: =1.962/DH55 -> 0.0034496622 | DG58: =(DE58^3)/(1+DE58) -> 0.0066666667 | DH58: =DF58*DG58 -> 2.2997748e-05 | DL58: 0.2 | DM58: =1.962/DO55 -> 0.029634993 | DN58: =(DL58^3)/(1+DL58) -> 0.0066666667 | DO58: =DM58*DN58 -> 0.00019756662 | DS58: 0.2 | DT58: =1.962/DV55 -> 0.0062936052 | DU58: =(DS58^3)/(1+DS58) -> 0.0066666667 | DV58: =DT58*DU58 -> 4.1957368e-05 | DZ58: 0.2 | EA58: =1.962/EC55 -> 0.0067143135 | EB58: =(DZ58^3)/(1+DZ58) -> 0.0066666667 | EC58: =EA58*EB58 -> 4.476209e-05 | EG58: 0.2 | EH58: =1.962/EJ55 -> 0.0051026933 | EI58: =(EG58^3)/(1+EG58) -> 0.0066666667 | EJ58: =EH58*EI58 -> 3.4017955e-05 | EN58: 0.2 | EO58: =1.962/EQ55 -> 0.0024342031 | EP58: =(EN58^3)/(1+EN58) -> 0.0066666667 | EQ58: =EO58*EP58 -> 1.6228021e-05 | EU58: 0.2 | EV58: =1.962/EX55 -> 0.005899895 | EW58: =(EU58^3)/(1+EU58) -> 0.0066666667 | EX58: =EV58*EW58 -> 3.9332633e-05
A63: Sample No | B63: fS2 | C63: voids ratio (e) | D63: Angle (f) | E63: k | F63: calc voids ratio (e)

Sheet PSD data
A1: Location ID | B1: Depth Top | C1: Depth Base | D1: Type | E1: Particle Size (mm) | F1: Percentage Passing | G1: Test Type | H1: Remarks
A2: BH101 | B2: 0.25 | C2: 0.55 | D2: B | E2: 125 | F2: 100 | G2: WS | H2: Brown fine to coarse sandy fine to coarse gravelly SILT/CLAY
A3: BH101 | B3: 0.25 | C3: 0.55 | D3: B | E3: 75 | F3: 100 | G3: WS
A4: BH101 | B4: 0.25 | C4: 0.55 | D4: B | E4: 63 | F4: 100 | G4: WS
A5: BH101 | B5: 0.25 | C5: 0.55 | D5: B | E5: 50 | F5: 100 | G5: WS
A6: BH101 | B6: 0.25 | C6: 0.55 | D6: B | E6: 37.5 | F6: 93 | G6: WS
A7: BH101 | B7: 0.25 | C7: 0.55 | D7: B | E7: 30 | F7: 93 | G7: WS
A8: BH101 | B8: 0.25 | C8: 0.55 | D8: B | E8: 28 | F8: 93 | G8: WS
A9: BH101 | B9: 0.25 | C9: 0.55 | D9: B | E9: 20 | F9: 91 | G9: WS
A10: BH101 | B10: 0.25 | C10: 0.55 | D10: B | E10: 14 | F10: 85 | G10: WS
A11: BH101 | B11: 0.25 | C11: 0.55 | D11: B | E11: 10 | F11: 82 | G11: WS
A12: BH101 | B12: 0.25 | C12: 0.55 | D12: B | E12: 6.3 | F12: 73 | G12: WS
A13: BH101 | B13: 0.25 | C13: 0.55 | D13: B | E13: 5 | F13: 70 | G13: WS
A14: BH101 | B14: 0.25 | C14: 0.55 | D14: B | E14: 3.35 | F14: 67 | G14: WS
... A22: BH101 | B22: 0.25 | C22: 0.55 | D22: B | E22: 0.063 | F22: 42 | G22: WS
A23: BH101 | B23: 1.7 | D23: B | E23: 2 | F23: 100 | G23: WS
A24: BH101 | B24: 1.7 | D24: B | E24: 0.6 | F24: 100 | G24: WS
A25: BH101 | B25: 1.7 | D25: B | E25: 0.212 | F25: 100 | G25: WS
A26: BH101 | B26: 1.7 | D26: B | E26: 0.063 | F26: 100 | G26: WS
A27: BH101 | B27: 1.7 | D27: B | E27: 0.02 | F27: 51 | G27: PP
A28: BH101 | B28: 1.7 | D28: B | E28: 0.006 | F28: 47 | G28: PP
A29: BH101 | B29: 1.7 | D29: B | E29: 0.002 | F29: 34 | G29: PP
A30: BH101 | B30: 9 | C30: 9.2 | D30: B | E30: 125 | F30: 100 | G30: WS | H30: Red silty clayey fine to coarse gravelly fine to coarse SAND
A31: BH101 | B31: 9 | C31: 9.2 | D31: B | E31: 75 | F31: 100 | G31: WS
A32: BH101 | B32: 9 | C32: 9.2 | D32: B | E32: 63 | F32: 100 | G32: WS
A33: BH101 | B33: 9 | C33: 9.2 | D33: B | E33: 50 | F33: 100 | G33: WS
A34: BH101 | B34: 9 | C34: 9.2 | D34: B | E34: 37.5 | F34: 100 | G34: WS
A35: BH101 | B35: 9 | C35: 9.2 | D35: B | E35: 30 | F35: 100 | G35: WS
A36: BH101 | B36: 9 | C36: 9.2 | D36: B | E36: 28 | F36: 93 | G36: WS
A37: BH101 | B37: 9 | C37: 9.2 | D37: B | E37: 20 | F37: 76 | G37: WS
A38: BH101 | B38: 9 | C38: 9.2 | D38: B | E38: 14 | F38: 76 | G38: WS
A39: BH101 | B39: 9 | C39: 9.2 | D39: B | E39: 10 | F39: 76 | G39: WS
A40: BH101 | B40: 9 | C40: 9.2 | D40: B | E40: 6.3 | F40: 73 | G40: WS
A41: BH101 | B41: 9 | C41: 9.2 | D41: B | E41: 5 | F41: 72 | G41: WS
A42: BH101 | B42: 9 | C42: 9.2 | D42: B | E42: 3.35 | F42: 69 | G42: WS
... A50: BH101 | B50: 9 | C50: 9.2 | D50: B | E50: 0.063 | F50: 16 | G50: WS
A51: BH102 | B51: 0.3 | C51: 0.65 | D51: B | E51: 125 | F51: 100 | G51: WS | H51: Brown fine to coarse sandy silty clayey fine to coarse GRAVEL.
A52: BH102 | B52: 0.3 | C52: 0.65 | D52: B | E52: 75 | F52: 100 | G52: WS
A53: BH102 | B53: 0.3 | C53: 0.65 | D53: B | E53: 63 | F53: 100 | G53: WS
A54: BH102 | B54: 0.3 | C54: 0.65 | D54: B | E54: 50 | F54: 100 | G54: WS
A55: BH102 | B55: 0.3 | C55: 0.65 | D55: B | E55: 37.5 | F55: 95 | G55: WS
A56: BH102 | B56: 0.3 | C56: 0.65 | D56: B | E56: 30 | F56: 100 | G56: WS
A57: BH102 | B57: 0.3 | C57: 0.65 | D57: B | E57: 28 | F57: 89 | G57: WS
A58: BH102 | B58: 0.3 | C58: 0.65 | D58: B | E58: 20 | F58: 76 | G58: WS
A59: BH102 | B59: 0.3 | C59: 0.65 | D59: B | E59: 14 | F59: 61 | G59: WS
A60: BH102 | B60: 0.3 | C60: 0.65 | D60: B | E60: 10 | F60: 55 | G60: WS
A61: BH102 | B61: 0.3 | C61: 0.65 | D61: B | E61: 6.3 | F61: 49 | G61: WS
A62: BH102 | B62: 0.3 | C62: 0.65 | D62: B | E62: 5 | F62: 47 | G62: WS
A63: BH102 | B63: 0.3 | C63: 0.65 | D63: B | E63: 3.35 | F63: 44 | G63: WS
... A71: BH102 | B71: 0.3 | C71: 0.65 | D71: B | E71: 0.063 | F71: 30 | G71: WS
A72: BH102 | B72: 7 | D72: B | E72: 2 | F72: 86 | G72: WS
A73: BH102 | B73: 7 | D73: B | E73: 0.6 | F73: 62 | G73: WS
A74: BH102 | B74: 7 | D74: B | E74: 0.212 | F74: 46 | G74: WS
A75: BH102 | B75: 7 | D75: B | E75: 0.063 | F75: 28 | G75: WS
A76: BH102 | B76: 7 | D76: B | E76: 0.02 | F76: 8 | G76: PP
A77: BH102 | B77: 7 | D77: B | E77: 0.006 | F77: 7 | G77: PP
A78: BH102 | B78: 7 | D78: B | E78: 0.002 | F78: 1 | G78: PP
A79: BH103 | B79: 0.3 | C79: 0.75 | D79: B | E79: 125 | F79: 100 | G79: WS | H79: Red slightly silty fine to coarse sandy fine to coarse GRAVEL
A80: BH103 | B80: 0.3 | C80: 0.75 | D80: B | E80: 75 | F80: 100 | G80: WS
A81: BH103 | B81: 0.3 | C81: 0.75 | D81: B | E81: 63 | F81: 100 | G81: WS
A82: BH103 | B82: 0.3 | C82: 0.75 | D82: B | E82: 50 | F82: 89 | G82: WS
A83: BH103 | B83: 0.3 | C83: 0.75 | D83: B | E83: 37.5 | F83: 76 | G83: WS
A84: BH103 | B84: 0.3 | C84: 0.75 | D84: B | E84: 30 | F84: 100 | G84: WS
A85: BH103 | B85: 0.3 | C85: 0.75 | D85: B | E85: 28 | F85: 71 | G85: WS
A86: BH103 | B86: 0.3 | C86: 0.75 | D86: B | E86: 20 | F86: 55 | G86: WS
A87: BH103 | B87: 0.3 | C87: 0.75 | D87: B | E87: 14 | F87: 47 | G87: WS
A88: BH103 | B88: 0.3 | C88: 0.75 | D88: B | E88: 10 | F88: 41 | G88: WS
A89: BH103 | B89: 0.3 | C89: 0.75 | D89: B | E89: 6.3 | F89: 35 | G89: WS
A90: BH103 | B90: 0.3 | C90: 0.75 | D90: B | E90: 5 | F90: 31 | G90: WS
A91: BH103 | B91: 0.3 | C91: 0.75 | D91: B | E91: 3.35 | F91: 26 | G91: WS
... A99: BH103 | B99: 0.3 | C99: 0.75 | D99: B | E99: 0.063 | F99: 9 | G99: WS
A100: BH103 | B100: 6 | C100: 6.45 | D100: B | E100: 125 | F100: 100 | G100: WS | H100: Red silty clayey fine to coarse gravelly fine to coarse SAND
A101: BH103 | B101: 6 | C101: 6.45 | D101: B | E101: 75 | F101: 100 | G101: WS
A102: BH103 | B102: 6 | C102: 6.45 | D102: B | E102: 63 | F102: 100 | G102: WS
A103: BH103 | B103: 6 | C103: 6.45 | D103: B | E103: 50 | F103: 100 | G103: WS
A104: BH103 | B104: 6 | C104: 6.45 | D104: B | E104: 37.5 | F104: 97 | G104: WS
A105: BH103 | B105: 6 | C105: 6.45 | D105: B | E105: 30 | F105: 100 | G105: WS
A106: BH103 | B106: 6 | C106: 6.45 | D106: B | E106: 28 | F106: 89 | G106: WS
A107: BH103 | B107: 6 | C107: 6.45 | D107: B | E107: 20 | F107: 84 | G107: WS
A108: BH103 | B108: 6 | C108: 6.45 | D108: B | E108: 14 | F108: 84 | G108: WS
A109: BH103 | B109: 6 | C109: 6.45 | D109: B | E109: 10 | F109: 84 | G109: WS
A110: BH103 | B110: 6 | C110: 6.45 | D110: B | E110: 6.3 | F110: 83 | G110: WS
A111: BH103 | B111: 6 | C111: 6.45 | D111: B | E111: 5 | F111: 83 | G111: WS
A112: BH103 | B112: 6 | C112: 6.45 | D112: B | E112: 3.35 | F112: 81 | G112: WS
... A120: BH103 | B120: 6 | C120: 6.45 | D120: B | E120: 0.063 | F120: 18 | G120: WS
A121: BH104 | B121: 1 | C121: 1.45 | D121: B | E121: 125 | F121: 100 | G121: WS | H121: Brown fine to coarse sandy fine to coarse gravelly SILT/CLAY with many cobbles
A122: BH104 | B122: 1 | C122: 1.45 | D122: B | E122: 75 | F122: 56 | G122: WS
A123: BH104 | B123: 1 | C123: 1.45 | D123: B | E123: 63 | F123: 56 | G123: WS
A124: BH104 | B124: 1 | C124: 1.45 | D124: B | E124: 50 | F124: 48 | G124: WS
A125: BH104 | B125: 1 | C125: 1.45 | D125: B | E125: 37.5 | F125: 48 | G125: WS
A126: BH104 | B126: 1 | C126: 1.45 | D126: B | E126: 30 | F126: 56 | G126: WS
A127: BH104 | B127: 1 | C127: 1.45 | D127: B | E127: 28 | F127: 48 | G127: WS
A128: BH104 | B128: 1 | C128: 1.45 | D128: B | E128: 20 | F128: 46 | G128: WS
A129: BH104 | B129: 1 | C129: 1.45 | D129: B | E129: 14 | F129: 44 | G129: WS
A130: BH104 | B130: 1 | C130: 1.45 | D130: B | E130: 10 | F130: 42 | G130: WS
A131: BH104 | B131: 1 | C131: 1.45 | D131: B | E131: 6.3 | F131: 41 | G131: WS
A132: BH104 | B132: 1 | C132: 1.45 | D132: B | E132: 5 | F132: 40 | G132: WS
A133: BH104 | B133: 1 | C133: 1.45 | D133: B | E133: 3.35 | F133: 40 | G133: WS
... A141: BH104 | B141: 1 | C141: 1.45 | D141: B | E141: 0.063 | F141: 24 | G141: WS
A142: BH104 | B142: 3 | C142: 3.45 | D142: B | E142: 125 | F142: 100 | G142: WS | H142: Brown fine to coarse gravelly silty clayey fine to coarse SAND
...

Sheet PSD summary
A1: Location ID | B1: Depth Top | C1: Depth Base | D1: Description | E1: K m/s | F1: K m/s | G1: Strata
A2: BH101 | B2: 0.25 | C2: 0.55 | D2: Brown fine to coarse sandy fine to coarse gravelly SILT/CLAY | E2: =KozenyCarman!G30 -> 0.00083517994 | F2: =KozenyCarman!G58 -> 5.965571e-05 | G2: Made Ground
A3: BH101 | B3: 9 | C3: 9.2 | D3: Red silty clayey fine to coarse gravelly fine to coarse SAND | E3: =KozenyCarman!N30 -> 0.00054731203 | F3: =KozenyCarman!N58 -> 3.9093716e-05 | G3: Weathered mudstone
A4: BH102 | B4: 0.3 | C4: 0.65 | D4: Brown fine to coarse sandy silty clayey fine to coarse GRAVEL | E4: =KozenyCarman!U30 -> 0.0013522102 | F4: =KozenyCarman!U58 -> 9.6586443e-05 | G4: Made Ground
A5: BH103 | B5: 0.3 | C5: 0.75 | D5: Red slightly silty fine to coarse sandy fine to coarse GRAVEL | E5: =KozenyCarman!AB30 -> 0.0021114524 | F5: =KozenyCarman!AB58 -> 0.00015081803 | G5: Made Ground
A6: BH103 | B6: 6 | C6: 6.45 | D6: Red silty clayey fine to coarse gravelly fine to coarse SAND | E6: =KozenyCarman!AI30 -> 0.00072058556 | F6: =KozenyCarman!AI58 -> 5.1470397e-05 | G6: Weathered mudstone
A7: BH104 | B7: 1 | C7: 1.45 | D7: Brown fine to coarse sandy fine to coarse gravelly SILT/CLAY with many cobbles | E7: =KozenyCarman!AP30 -> 0.00088791338 | F7: =KozenyCarman!AP58 -> 6.3422384e-05 | G7: Made Ground
A8: BH104 | B8: 3 | C8: 3.45 | D8: Brown fine to coarse gravelly silty clayey fine to coarse SAND | E8: =KozenyCarman!AW30 -> 0.00040216765 | F8: =KozenyCarman!AW58 -> 2.8726261e-05 | G8: Made Ground
A9: BH104 | B9: 7 | C9: 7.45 | D9: Red fine to coarse slightly gravelly silty clayey fine to coarse SAND | E9: =KozenyCarman!BD30 -> 0.00029532531 | F9: =KozenyCarman!BD58 -> 2.1094665e-05 | G9: Weathered mudstone
A10: BH105 | B10: 1 | C10: 1.45 | D10: Brown fine to coarse sandy fine to coarse gravelly SILT/CLAY | E10: =KozenyCarman!BK30 -> 0.00061421932 | F10: =KozenyCarman!BK58 -> 4.3872808e-05 | G10: Made Ground
A11: BH105 | B11: 4 | C11: 4.45 | D11: Brown fine to coarse gravelly fine to coarse sandy SILT/CLAY | E11: =KozenyCarman!BR30 -> 0.00074225429 | F11: =KozenyCarman!BR58 -> 5.3018163e-05 | G11: Made Ground
A12: BH105 | B12: 10 | C12: 10.5 | D12: Brown fine slightly gravelly fine to coarse sandy SILT/CLAY | E12: =KozenyCarman!BY30 -> 0.00026916654 | F12: =KozenyCarman!BY58 -> 1.9226182e-05 | G12: Weathered mudstone
A13: BH106 | B13: 1 | C13: 1.45 | D13: Brown fine to coarse gravelly fine to coarse sandy SILT/CLAY | E13: =KozenyCarman!CF30 -> 0.00062428485 | F13: =KozenyCarman!CF58 -> 4.4591775e-05 | G13: Made Ground
A14: BH106 | B14: 5 | C14: 5.45 | D14: Brown fine slightly gravelly fine to coarse sandy SILT/CLAY | E14: =KozenyCarman!CM30 -> 0.0019091508 | F14: =KozenyCarman!CM58 -> 0.00013636791 | G14: Made Ground
A15: BH106 | B15: 11.5 | C15: 11.95 | D15: Brown fine slightly gravelly silty clayey fine to coarse SAND | E15: =KozenyCarman!CT30 -> 0.00037257223 | F15: =KozenyCarman!CT58 -> 2.6612302e-05 | G15: Weathered mudstone
A16: BH107 | B16: 0.4 | D16: Brown fine to coarse sandy silty clayey fine to coarse GRAVEL | E16: =KozenyCarman!DA30 -> 0.0012655383 | F16: =KozenyCarman!DA58 -> 9.039559e-05 | G16: Made Ground
A17: BH108 | B17: 0.1 | D17: Brown fine to coarse gavelly silty clayey fine to coarse SAND | E17: =KozenyCarman!DH30 -> 0.00032196847 | F17: =KozenyCarman!DH58 -> 2.2997748e-05 | G17: Made Ground
A18: TP103 | B18: 0.5 | C18: 0.6 | D18: Brown slightly fine to coarse sandy fine to coarse gravelly SILT/CLAY | E18: =KozenyCarman!DO30 -> 0.0027659327 | F18: =KozenyCarman!DO58 -> 0.00019756662 | G18: Made Ground
A19: TP103 | B19: 3 | C19: 3.2 | D19: Brown fine to coarse sandy silty clayey fine to coarse GRAVEL | E19: =KozenyCarman!DV30 -> 0.00058740315 | F19: =KozenyCarman!DV58 -> 4.1957368e-05 | G19: Made Ground
A20: TP106 | B20: 1.5 | C20: 2 | D20: Brown fine to coarse sandy fine to coarse gravelly SILT/CLAY | E20: =KozenyCarman!EC30 -> 0.00062666926 | F20: =KozenyCarman!EC58 -> 4.476209e-05 | G20: Made Ground | J20: m/s | K20: m/d
A21: TP106 | B21: 3 | C21: 3.5 | D21: Brown clayey silty fine to coarse sandy fine to coarse GRAVEL | E21: =KozenyCarman!EJ30 -> 0.00047625137 | F21: =KozenyCarman!EJ58 -> 3.4017955e-05 | G21: Made Ground | I21: min | J21: =MIN(E2:F23) -> 1.6228021e-05 | K21: =J21*86400 -> 1.402101
A22: TP107 | B22: 0.1 | D22: Grey/brown fine to coarse gravelly silty fine to coarse SAND | E22: =KozenyCarman!EQ30 -> 0.00022719229 | F22: =KozenyCarman!EQ58 -> 1.6228021e-05 | G22: Made Ground | I22: max | J22: =MAX(E2:F23) -> 0.0027659327 | K22: =J22*86400 -> 238.97658
A23: TP107 | B23: 0.3 | C23: 0.8 | D23: Brown fine to coarse gravelly clayey silty fine to coarse SAND | E23: =KozenyCarman!EX30 -> 0.00055065686 | F23: =KozenyCarman!EX58 -> 3.9332633e-05 | G23: Made Ground | I23: geomean | J23: =GEOMEAN(E2:F23) -> 0.00017816966 | K23: =J23*86400 -> 15.393859
A26: Location ID | B26: Depth Top | C26: Depth Base | D26: Description | E26: K m/s | F26: K m/s | G26: Strata
A27: BH101 | B27: 9 | C27: 9.2 | D27: Red silty clayey fine to coarse gravelly fine to coarse SAND | E27: 0.00054731203 | F27: 3.9093716e-05 | G27: Weathered mudstone
A28: BH103 | B28: 6 | C28: 6.45 | D28: Red silty clayey fine to coarse gravelly fine to coarse SAND | E28: 0.00072058556 | F28: 5.1470397e-05 | G28: Weathered mudstone | J28: m/s | K28: m/d
A29: BH104 | B29: 7 | C29: 7.45 | D29: Red fine to coarse slightly gravelly silty clayey fine to coarse SAND | E29: 0.00029532531 | F29: 2.1094665e-05 | G29: Weathered mudstone | I29: min | J29: =MIN(E27:F31) -> 1.9226182e-05 | K29: =J29*86400 -> 1.6611421
A30: BH105 | B30: 10 | C30: 10.5 | D30: Brown fine slightly gravelly fine to coarse sandy SILT/CLAY | E30: 0.00026916654 | F30: 1.9226182e-05 | G30: Weathered mudstone | I30: max | J30: =MAX(E27:F31) -> 0.00072058556 | K30: =J30*86400 -> 62.258593
A31: BH106 | B31: 11.5 | C31: 11.95 | D31: Brown fine slightly gravelly silty clayey fine to coarse SAND | E31: 0.00037257223 | F31: 2.6612302e-05 | G31: Weathered mudstone | I31: geomean | J31: =GEOMEAN(E27:F31) -> 0.00010975556 | K31: =J31*86400 -> 9.4828805
A33: Location ID | B33: Depth Top | C33: Depth Base | D33: Description | E33: K m/s | F33: K m/s | G33: Strata
A34: BH101 | B34: 0.25 | C34: 0.55 | D34: Brown fine to coarse sandy fine to coarse gravelly SILT/CLAY | E34: 0.00083517994 | F34: 5.965571e-05 | G34: Made Ground
A35: BH102 | B35: 0.3 | C35: 0.65 | D35: Brown fine to coarse sandy silty clayey fine to coarse GRAVEL | E35: 0.0013522102 | F35: 9.6586443e-05 | G35: Made Ground
A36: BH103 | B36: 0.3 | C36: 0.75 | D36: Red slightly silty fine to coarse sandy fine to coarse GRAVEL | E36: 0.0021114524 | F36: 0.00015081803 | G36: Made Ground
A37: BH104 | B37: 1 | C37: 1.45 | D37: Brown fine to coarse sandy fine to coarse gravelly SILT/CLAY with many cobbles | E37: 0.00088791338 | F37: 6.3422384e-05 | G37: Made Ground
A38: BH104 | B38: 3 | C38: 3.45 | D38: Brown fine to coarse gravelly silty clayey fine to coarse SAND | E38: 0.00040216765 | F38: 2.8726261e-05 | G38: Made Ground
A39: BH105 | B39: 1 | C39: 1.45 | D39: Brown fine to coarse sandy fine to coarse gravelly SILT/CLAY | E39: 0.00061421932 | F39: 4.3872808e-05 | G39: Made Ground
A40: BH105 | B40: 4 | C40: 4.45 | D40: Brown fine to coarse gravelly fine to coarse sandy SILT/CLAY | E40: 0.00074225429 | F40: 5.3018163e-05 | G40: Made Ground
A41: BH106 | B41: 1 | C41: 1.45 | D41: Brown fine to coarse gravelly fine to coarse sandy SILT/CLAY | E41: 0.00062428485 | F41: 4.4591775e-05 | G41: Made Ground
A42: BH106 | B42: 5 | C42: 5.45 | D42: Brown fine slightly gravelly fine to coarse sandy SILT/CLAY | E42: 0.0019091508 | F42: 0.00013636791 | G42: Made Ground
A43: BH107 | B43: 0.4 | D43: Brown fine to coarse sandy silty clayey fine to coarse GRAVEL | E43: 0.0012655383 | F43: 9.039559e-05 | G43: Made Ground
A44: BH108 | B44: 0.1 | D44: Brown fine to coarse gavelly silty clayey fine to coarse SAND | E44: 0.00032196847 | F44: 2.2997748e-05 | G44: Made Ground
A45: TP103 | B45: 0.5 | C45: 0.6 | D45: Brown slightly fine to coarse sandy fine to coarse gravelly SILT/CLAY | E45: 0.0027659327 | F45: 0.00019756662 | G45: Made Ground
A46: TP103 | B46: 3 | C46: 3.2 | D46: Brown fine to coarse sandy silty clayey fine to coarse GRAVEL | E46: 0.00058740315 | F46: 4.1957368e-05 | G46: Made Ground | J46: m/s | K46: m/d
A47: TP106 | B47: 1.5 | C47: 2 | D47: Brown fine to coarse sandy fine to coarse gravelly SILT/CLAY | E47: 0.00062666926 | F47: 4.476209e-05 | G47: Made Ground | I47: min | J47: =MIN(E34:F50) -> 1.6228021e-05 | K47: =J47*86400 -> 1.402101
A48: TP106 | B48: 3 | C48: 3.5 | D48: Brown clayey silty fine to coarse sandy fine to coarse GRAVEL | E48: 0.00047625137 | F48: 3.4017955e-05 | G48: Made Ground | I48: max | J48: =MAX(E34:F50) -> 0.0027659327 | K48: =J48*86400 -> 238.97658
A49: TP107 | B49: 0.1 | D49: Grey/brown fine to coarse gravelly silty fine to coarse SAND | E49: 0.00022719229 | F49: 1.6228021e-05 | G49: Made Ground | I49: geomean | J49: =GEOMEAN(E34:F50) -> 0.00020545572 | K49: =J49*86400 -> 17.751374
A50: TP107 | B50: 0.3 | C50: 0.8 | D50: Brown fine to coarse gravelly clayey silty fine to coarse SAND | E50: 0.00055065686 | F50: 3.9332633e-05 | G50: Made Ground

Sheet CSM
A1: Topography
A2: distance (cm) | B2: distance (m) | C2: elevation (m aOD)
B3: 0 | C3: 8 | H3: Final Effluent PS | I3: 2.5 | J3: 124.9 | K3: 7.17 | N3: RoI
B4: 20 | C4: 7.75 | J4: 125 | K4: =K3-4.7 -> 2.47 | M4: Radius of Influence (expected) | N4: 39.1 | O4: =J4-N4 -> 85.9 | P4: 12
B5: 40 | C5: 7.5 | J5: 130 | K5: =K4 -> 2.47 | O5: =J5+N4 -> 169.1 | P5: 12
B6: 60 | C6: 7.25 | J6: 130.1 | K6: 7.17
B7: 80 | C7: 7.25 | E7: 14.9 | M7: Radius of Influence (max) | N7: 99.7 | O7: =J4-N7 -> 25.3 | P7: 12
B8: 100 | C8: 7.2 | O8: =J5+N7 -> 229.7 | P8: 12
B9: 120 | C9: 7.17 | D9: BH108 | J9: Base of clay | K9: base of hole | L9: Base of sand and gravel | M9: Base of made ground | N9: Base of alluvium
B10: 140 | C10: 7.1 | I10: distance | J10: elevation
B11: 160 | C11: 7.1 | H11: ST16NE8 | I11: 60 | J11: 2.1 | K11: -1 | N11: 5
B12: 180 | C12: 7.1 | H12: BH108 | I12: 115 | J12: ='BH logs summary'!I25 -> 0.17 | K12: ='BH logs summary'!I28 -> -7.83 | L12: ='BH logs summary'!I26 -> -3.33 | M12: ='BH logs summary'!I23 -> 5.87 | N12: 3.87
B13: 200 | C13: 7.1 | H13: ST16NE10 | I13: 227 | J13: 1 | K13: -7.7 | N13: 3.2
B14: 220 | C14: 7.1 | E14: 14.9 | H14: ST16NE12 | I14: 355 | J14: 1.2 | K14: -0.7 | N14: 4
B15: 240 | C15: 7.1
B16: 260 | C16: 7.1
B17: 280 | C17: 7.1
B18: 300 | C18: 7.1
B19: 320 | C19: 7.1 | S19: =6.8-14.5 -> -7.7
B20: 340 | C20: 7.1
B21: 360 | C21: 7.1
B22: 380 | C22: 7.1
B23: 400 | C23: 7.1
B24: 420 | C24: 7.1
B25: 440 | C25: 7.1 | D25: Sully Brook | E25: 14.9
B26: 460 | C26: 7.1
B27: 480 | C27: 7.1
B28: 500 | C28: 7.1
B29: 520 | C29: 7.2
B30: 540 | C30: 7.25
B31: 560 | C31: 7.5
B32: 580 | C32: 7.75
B33: 600 | C33: 8
B34: 620 | C34: 8.25
B35: 640 | C35: 8.5

Sheet BH logs summary
B1: BH101 | C1: BH102 | D1: BH103 | E1: BH104 | F1: BH105 | G1: BH106 | H1: BH107 | I1: BH108
B2: m bgl | C2: m bgl | D2: m bgl | E2: m bgl | F2: m bgl | G2: m bgl | H2: m bgl | I2: m bgl
A3: Depth to base (m bgl)
A4: Made Ground | B4: 1.5 | C4: 0.6 | D4: 0.8 | E4: 5.4 | F4: 5.7 | G4: 5.2 | H4: 1.7 | I4: 1.3
A5: Alluvium (soft clay) | C5: 1.5 | D5: 2.4 | E5: 6.9 | F5: 6.8 | G5: 6.6 | H5: 3.3 | I5: 3.3
A6: Weathered mudstone - silt/clay | B6: 8.5 | C6: 7 | D6: 6 | G6: 9 | H6: 7 | I6: 7
A7: Weathered mudstone - sand/gravel | B7: 9.2 | C7: 9.2 | D7: 9.8 | E7: 11.5 | F7: 7.3 | G7: 13.2 | H7: 9.3 | I7: 10.5
A8: Weathered mudstone - silt/clay | F8: 11.4
A9: Weathered mudstone | B9: 16.5 | C9: 15 | D9: 16 | E9: 16 | F9: 15 | G9: 16.5 | H9: 15 | I9: 15
A11: Thickness
A12: Made Ground | B12: 0.6 | C12: 0.6 | D12: 0.8 | E12: 5.4 | F12: 5.7 | G12: 5.2 | H12: 1.7 | I12: 1.3
A13: Alluvium (soft clay) | C13: =C5-C4 -> 0.9 | D13: =D5-D4 -> 1.6 | E13: =E5-E4 -> 1.5 | F13: =F5-F4 -> 1.1 | G13: =G5-G4 -> 1.4 | H13: =H5-H4 -> 1.6 | I13: =I5-I4 -> 2
A14: Weathered mudstone - silt/clay | B14: =B6-B4 -> 7 | C14: =C6-C5 -> 5.5 | D14: =D6-D5 -> 3.6 | G14: =G6-G5 -> 2.4 | H14: =H6-H5 -> 3.7 | I14: =I6-I5 -> 3.7
A15: Weathered mudstone - sand/gravel | B15: =B7-B6 -> 0.7 | C15: =C7-C6 -> 2.2 | D15: =D7-D6 -> 3.8 | E15: =E7-E5 -> 4.6 | F15: =F7-F5 -> 0.5 | G15: =G7-G6 -> 4.2 | H15: =H7-H6 -> 2.3 | I15: =I7-I6 -> 3.5
A16: Weathered mudstone - silt/clay | F16: =F8-F7 -> 4.1
A17: Weathered mudstone | B17: =B9-B7 -> 7.3 | C17: =C9-C7 -> 5.8 | D17: =D9-D7 -> 6.2 | E17: =E9-E7 -> 4.5 | F17: =F9-F8 -> 3.6 | G17: =G9-G7 -> 3.3 | H17: =H9-H7 -> 5.7 | I17: =I9-I7 -> 4.5
A21: Depth to base (m aOD) | B21: m aOD | C21: m aOD | D21: m aOD | E21: m aOD | F21: m aOD | G21: m aOD | H21: m aOD | I21: m aOD
A22: Ground level | B22: 8.02 | C22: 7.94 | D22: 7.19 | E22: 11.62 | F22: 11.37 | G22: 11.59 | H22: 7.9 | I22: 7.17
A23: Made Ground | B23: =B$22-B4 -> 6.52 | C23: =C$22-C4 -> 7.34 | D23: =D$22-D4 -> 6.39 | E23: =E$22-E4 -> 6.22 | F23: =F$22-F4 -> 5.67 | G23: =G$22-G4 -> 6.39 | H23: =H$22-H4 -> 6.2 | I23: =I$22-I4 -> 5.87
A24: Alluvium (soft clay) | C24: =C$22-C5 -> 6.44 | D24: =D$22-D5 -> 4.79 | E24: =E$22-E5 -> 4.72 | F24: =F$22-F5 -> 4.57 | G24: =G$22-G5 -> 4.99 | H24: =H$22-H5 -> 4.6 | I24: =I$22-I5 -> 3.87
A25: Weathered mudstone - silt/clay | B25: =B$22-B6 -> -0.48 | C25: =C$22-C6 -> 0.94 | D25: =D$22-D6 -> 1.19 | G25: =G$22-G6 -> 2.59 | H25: =H$22-H6 -> 0.9 | I25: =I$22-I6 -> 0.17
A26: Weathered mudstone - sand/gravel | B26: =B$22-B7 -> -1.18 | C26: =C$22-C7 -> -1.26 | D26: =D$22-D7 -> -2.61 | E26: =E$22-E7 -> 0.12 | F26: =F$22-F7 -> 4.07 | G26: =G$22-G7 -> -1.61 | H26: =H$22-H7 -> -1.4 | I26: =I$22-I7 -> -3.33
A27: Weathered mudstone - silt/clay | F27: =F$22-F8 -> -0.03
A28: Weathered mudstone | B28: =B$22-B9 -> -8.48 | C28: =C$22-C9 -> -7.06 | D28: =D$22-D9 -> -8.81 | E28: =E$22-E9 -> -4.38 | F28: =F$22-F9 -> -3.63 | G28: =G$22-G9 -> -4.91 | H28: =H$22-H9 -> -7.1 | I28: =I$22-I9 -> -7.83
B30: m bgl
A31: Water strike | C31: 3.8 | D31: 1.4 | E31: 4.5 | F31: 7.7 | G31: 7.5 | H31: 3.7 | I31: 4.8
A32: after 20 mins | C32: 2.9 | E32: 3.9 | F32: 6.3 | G32: 6.6 | H32: 3.1 | I32: 3.5
A33: Water strike | D33: 3.8 | E33: 6.9 | H33: 6.6
A34: after 20 mins | D34: 2 | E34: 5.6 | H34: 4.7
B35: m aOD
A36: Water strike | C36: =C$22-C31 -> 4.14 | D36: =D$22-D31 -> 5.79 | E36: =E$22-E31 -> 7.12 | F36: =F$22-F31 -> 3.67 | G36: =G$22-G31 -> 4.09 | H36: =H$22-H31 -> 4.2 | I36: =I$22-I31 -> 2.37
A37: after 20 mins | C37: =C$22-C32 -> 5.04 | E37: =E$22-E32 -> 7.72 | F37: =F$22-F32 -> 5.07 | G37: =G$22-G32 -> 4.99 | H37: =H$22-H32 -> 4.8 | I37: =I$22-I32 -> 3.67
A38: Water strike | D38: =D$22-D33 -> 3.39 | E38: =E$22-E33 -> 4.72 | H38: =H$22-H33 -> 1.3
A39: after 20 mins | D39: =D$22-D34 -> 5.19 | E39: =E$22-E34 -> 6.02 | H39: =H$22-H34 -> 3.2
A42: Groundwater levels | B42: BH101 | C42: BH102 | D42: BH103 | E42: BH104 | F42: BH105 | G42: BH106 | H42: BH107 | I42: BH108
A43: Max (m aOD | B43: 6.78 | C43: 6.32 | D43: 5.82 | E43: 7.97 | F43: 7.63 | G43: 7.74 | H43: 5.23 | I43: 5.26
A44: Min (m aOD) | B44: 2.15 | C44: 2.16 | D44: 1.18 | E44: 4.24 | F44: 4.16 | G44: 4.3 | H44: 1.93 | I44: 0.96
A45: deepest (m bgl) | B45: 5.87 | C45: 5.78 | D45: 6.01 | E45: 7.38 | F45: 7.21 | G45: 7.29 | H45: 5.97 | I45: 6.21
A46: shallowest (m bgl) | B46: 1.24 | C46: 1.62 | D46: 1.37 | E46: 3.65 | F46: 3.74 | G46: 3.85 | H46: 2.67 | I46: 1.91
A47: Range (m) | B47: =B45-B46 -> 4.63 | C47: =C45-C46 -> 4.16 | D47: =D45-D46 -> 4.64 | E47: =E45-E46 -> 3.73 | F47: =F45-F46 -> 3.47 | G47: =G45-G46 -> 3.44 | H47: =H45-H46 -> 3.3 | I47: =I45-I46 -> 4.3
A48: Response Zone top (m bgl) | B48: 3 | C48: 3 | D48: 3 | E48: 6.9 | F48: 3 | G48: 1 | H48: 3 | I48: 6
A49: Response Zone base (m bgl) | B49: 9 | C49: 9 | D49: 8 | E49: 11 | F49: 9.5 | G49: 9.5 | H49: 9 | I49: 10.5
G56: 42972 | H56: 43011 | I56: 43025 | N56: 42972 | O56: 43011 | P56: 43025
B57: Ground level (m aOD) | C57: Response Zone top (m bgl) | D57: Response Zone base (m bgl) | E57: Response Zone top (m aOD) | F57: Response Zone base (m aOD) | G57: GWL (m bgl) | H57: GWL (m bgl) | I57: GWL (m bgl) | J57: Max | K57: Min | N57: GWL (m aOD) | O57: GWL (m aOD) | P57: GWL (m aOD) | Q57: Max | R57: Min | S57: range
A58: BH101 | B58: 8.02 | C58: 3 | D58: 9 | E58: =B58-C58 -> 5.02 | F58: =B58-D58 -> -0.98 | G58: 5.87 | H58: 1.24 | I58: 3.25 | J58: =MAX(G58:I58) -> 5.87 | K58: =MIN(G58:I58) -> 1.24 | L58: =H58-I58 -> -2.01 | M58: BH101 | N58: =B58-G58 -> 2.15 | O58: =B58-H58 -> 6.78 | P58: =B58-I58 -> 4.77 | Q58: =MAX(N58:P58) -> 6.78 | R58: =MIN(N58:P58) -> 2.15 | S58: =Q58-R58 -> 4.63 | U58: =CONCATENATE(C58," to ",D58) -> 3 to 9
A59: BH102 | B59: 7.94 | C59: 3 | D59: 9 | E59: =B59-C59 -> 4.94 | F59: =B59-D59 -> -1.06 | G59: 5.78 | H59: 1.62 | I59: 4.28 | J59: =MAX(G59:I59) -> 5.78 | K59: =MIN(G59:I59) -> 1.62 | L59: =H59-I59 -> -2.66 | M59: BH102 | N59: =B59-G59 -> 2.16 | O59: =B59-H59 -> 6.32 | P59: =B59-I59 -> 3.66 | Q59: =MAX(N59:P59) -> 6.32 | R59: =MIN(N59:P59) -> 2.16 | S59: =Q59-R59 -> 4.16 | U59: =CONCATENATE(C59," to ",D59) -> 3 to 9
A60: BH103 | B60: 7.19 | C60: 3 | D60: 8 | E60: =B60-C60 -> 4.19 | F60: =B60-D60 -> -0.81 | G60: 6.01 | H60: 1.37 | I60: 3.56 | J60: =MAX(G60:I60) -> 6.01 | K60: =MIN(G60:I60) -> 1.37 | L60: =H60-I60 -> -2.19 | M60: BH103 | N60: =B60-G60 -> 1.18 | O60: =B60-H60 -> 5.82 | P60: =B60-I60 -> 3.63 | Q60: =MAX(N60:P60) -> 5.82 | R60: =MIN(N60:P60) -> 1.18 | S60: =Q60-R60 -> 4.64 | U60: =CONCATENATE(C60," to ",D60) -> 3 to 8
A61: BH104 | B61: 11.62 | C61: 6.9 | D61: 11 | E61: =B61-C61 -> 4.72 | F61: =B61-D61 -> 0.62 | G61: 7.38 | H61: 5.9 | I61: 3.65 | J61: =MAX(G61:I61) -> 7.38 | K61: =MIN(G61:I61) -> 3.65 | L61: =H61-I61 -> 2.25 | M61: BH104 | N61: =B61-G61 -> 4.24 | O61: =B61-H61 -> 5.72 | P61: =B61-I61 -> 7.97 | Q61: =MAX(N61:P61) -> 7.97 | R61: =MIN(N61:P61) -> 4.24 | S61: =Q61-R61 -> 3.73 | U61: =CONCATENATE(C61," to ",D61) -> 6.9 to 11
A62: BH105 | B62: 11.37 | C62: 3 | D62: 9.5 | E62: =B62-C62 -> 8.37 | F62: =B62-D62 -> 1.87 | G62: 7.21 | H62: 5.69 | I62: 3.74 | J62: =MAX(G62:I62) -> 7.21 | K62: =MIN(G62:I62) -> 3.74 | L62: =H62-I62 -> 1.95 | M62: BH105 | N62: =B62-G62 -> 4.16 | O62: =B62-H62 -> 5.68 | P62: =B62-I62 -> 7.63 | Q62: =MAX(N62:P62) -> 7.63 | R62: =MIN(N62:P62) -> 4.16 | S62: =Q62-R62 -> 3.47 | U62: =CONCATENATE(C62," to ",D62) -> 3 to 9.5
A63: BH106 | B63: 11.59 | C63: 1 | D63: 9.5 | E63: =B63-C63 -> 10.59 | F63: =B63-D63 -> 2.09 | G63: 7.29 | H63: 5.92 | I63: 3.85 | J63: =MAX(G63:I63) -> 7.29 | K63: =MIN(G63:I63) -> 3.85 | L63: =H63-I63 -> 2.07 | M63: BH106 | N63: =B63-G63 -> 4.3 | O63: =B63-H63 -> 5.67 | P63: =B63-I63 -> 7.74 | Q63: =MAX(N63:P63) -> 7.74 | R63: =MIN(N63:P63) -> 4.3 | S63: =Q63-R63 -> 3.44 | U63: =CONCATENATE(C63," to ",D63) -> 1 to 9.5
A64: BH107 | B64: 7.9 | C64: 3 | D64: 9 | E64: =B64-C64 -> 4.9 | F64: =B64-D64 -> -1.1 | G64: 5.97 | H64: 2.67 | I64: 3.65 | J64: =MAX(G64:I64) -> 5.97 | K64: =MIN(G64:I64) -> 2.67 | L64: =H64-I64 -> -0.98 | M64: BH107 | N64: =B64-G64 -> 1.93 | O64: =B64-H64 -> 5.23 | P64: =B64-I64 -> 4.25 | Q64: =MAX(N64:P64) -> 5.23 | R64: =MIN(N64:P64) -> 1.93 | S64: =Q64-R64 -> 3.3 | U64: =CONCATENATE(C64," to ",D64) -> 3 to 9
A65: BH108 | B65: 7.17 | C65: 6 | D65: 10.5 | E65: =B65-C65 -> 1.17 | F65: =B65-D65 -> -3.33 | G65: 6.21 | H65: 1.91 | I65: 2.98 | J65: =MAX(G65:I65) -> 6.21 | K65: =MIN(G65:I65) -> 1.91 | L65: =H65-I65 -> -1.07 | M65: BH108 | N65: =B65-G65 -> 0.96 | O65: =B65-H65 -> 5.26 | P65: =B65-I65 -> 4.19 | Q65: =MAX(N65:P65) -> 5.26 | R65: =MIN(N65:P65) -> 0.96 | S65: =Q65-R65 -> 4.3 | U65: =CONCATENATE(C65," to ",D65) -> 6 to 10.5
N68: BH101 to BH103
M69: dh | N69: =N58-N60 -> 0.97
M70: dx | N70: =#REF! -> #REF!
M71: Hydraulic gradient | N71: =N69/N70 -> #REF!
M72: Estimated K m/d | N72: =N85/($N$88*N71) -> #REF!
M73: Estimated K m/s | N73: =N72/86400 -> #REF!
N75: BH101 to BH107
M76: dh | N76: =N58-N64 -> 0.22
M77: dx | N77: =#REF! -> #REF!
M78: Hydraulic gradient | N78: =N76/N77 -> #REF!
M79: Estimated K m/d | N79: =N86/($N$88*N78) -> #REF!
M80: Estimated K m/s | N80: =N79/86400 -> #REF!
M83: Likely recharge rate
M84: mm/d | N84: m/d
M85: 0.1 | N85: =M85/1000 -> 0.0001
M86: 2 | N86: =M86/1000 -> 0.002
M87: 0.5 | N87: =M87/1000 -> 0.0005
M88: Aquifer thickness | N88: 8

Sheet Rain dewatering
A2: Area | B2: =25*25 -> 625 | C2: m2 | G2: Catchment area | H2: 317845 | I2: m2
A3: Rainfall | B3: 70 | C3: mm | G3: Annaul rainfall average | H3: 1100 | I3: mm
B4: =B3/1000 -> 0.07 | C4: m | H4: =H3/1000 -> 1.1 | I4: m
A5: Volume | B5: =B2*B4 -> 43.75 | C5: m3 | G5: Total rainfall | H5: =H2*H4 -> 349629.5 | I5: m3
A6: duration | B6: 6 | C6: hours | G6: Recharge % | H6: 0.3
H7: =H5*H6 -> 104888.85
A8: rate | B8: =B5/B6 -> 7.2916667 | C8: m3/hr
B9: =B8*1000/60/60 -> 2.025463 | C9: l/s

Sheet Form WRD
A2: Table 7 | B2: Dewatering rate estimates in litres per second | G2: Thiem - Dupuit calcs | L2: Estimates of the dewatering rates are given below based on the Theim-Dupuit equation for steady-state flow to a well in an unconfined aquifer:
A3: Parameter | B3: Collection point A | C3: Collection point B | D3: Two trench sections
A4: Seepage from alluvium and weathered mudstone | B4: =H11 -> 4.5766854 | C4: =I11 -> 2.0812626 | D4: =J11*2 -> 85.106529 | E4: =SUM(B4:D4) -> 91.764477 | G4: Parameter | H4: Collection point A | I4: Collection point B
A5: Seepage from made ground | B5: 1 | C5: 1 | D5: 2 | I5: Collection point Trenches (per 15 m section)
A6: Rainfall and runoff | B6: 2 | C6: 2 | D6: 4 | E6: =SUM(B6:D6) -> 8 | G6: K (m/s) | H6: 5e-05 | I6: 5e-05 | J6: 0.000721
A7: Totals | B7: =SUM(B4:B6) -> 7.5766854 | C7: =SUM(C4:D6) -> 96.187792 | E7: =SUM(B7:D7) -> 103.76448 | G7: H (m) | H7: 10.5 | I7: 9.8 | J7: 11.5 | L7: Where:
A8: Totals rounded up to nearest 10 l/s | B8: 10 | C8: 100 | G8: h (m) | H8: 5.8 | I8: 5.8 | J8: 7.5 | L8: Q | M8: flow rate into the well (or excavation)
G9: R0 (m) | H9: 39.1 | I9: 33.3 | J9: 125.7 | L9: K | M9: hydraulic conductivity (permeability)
G10: r (m) | H10: 2.82 | I10: 0.3 | J10: 2.2 | L10: H | M10: height of the water table above the base of the aquifer at the radius of influence
G11: Q (l/s) | H11: =H16*1000 -> 4.5766854 | I11: =I16*1000 -> 2.0812626 | J11: =J16*1000 -> 42.553265 | L11: h | M11: height of the water table above the base of the aquifer at the well (excavation)
B12: Dewatering rate estimates in cubic metres per day | G12: Seepage from made ground (l/s) | H12: 1 | I12: 1 | J12: 1 | L12: R0 | M12: radius of influence
A13: Parameter | B13: Collection point A | C13: Collection point B | D13: Two trench sections | E13: Totals | G13: Rainfall (l/s) | H13: 2 | I13: 2 | J13: 2 | L13: r | M13: radius of the well (or equivalent radius of excavation)
A14: Groundwater seepage including made ground | B14: =B4*86.4 -> 395.42562 | C14: =C4*86.4 -> 179.82109 | D14: =D4*86.4 -> 7353.2041 | E14: =SUM(B14:D15) -> 8274.0508 | G14: Total dewatering rate (l/s) | H14: =SUM(H11:H13) -> 7.5766854 | I14: =SUM(I11:I13) -> 5.0812626 | J14: =SUM(J11:J13) -> 45.553265
A15: Seepage from made ground | B15: =B5*86.4 -> 86.4 | C15: =C5*86.4 -> 86.4 | D15: =D5*86.4 -> 172.8
A16: Rainfall and runoff | B16: =B6*86.4 -> 172.8 | C16: =C6*86.4 -> 172.8 | D16: =D6*86.4 -> 345.6 | E16: =SUM(B16:D16) -> 691.2 | G16: Q m3/s | H16: =PI()*H6*(H7^2-H8^2)/LN(H9/H10) -> 0.0045766854 | I16: =PI()*I6*(I7^2-I8^2)/LN(I9/I10) -> 0.0020812626 | J16: =PI()*J6*(J7^2-J8^2)/LN(J9/J10) -> 0.042553265
A17: Totals | B17: =B7*86.4 -> 654.62562 | C17: =C7*86.4 -> 8310.6252 | E17: =SUM(B17:D17) -> 8965.2508
A18: Totals rounded up to nearest 10 l/s | B18: =B8*86.4 -> 864 | C18: =C8*86.4 -> 8640 | E18: =SUM(B18:D18) -> 9504
D20: =C18*365 -> 3153600
A26: Abstraction | B26: Purpose which water will be used for | C26: Abstraction period | D26: Maximum annual abstraction volume | E26: Maximum daily abstraction volume | F26: Maximum hourly abstraction volume | G26: Number of hours of abstraction per day | H26: Peak abstraction rate
A27: location name / reference | C27: (state ‘all year’ or give months) | D27: (cubic metres) | E27: (cubic metres) | F27: (cubic metres) | H27: (litres per second)
A28: Collection Point A | B28: Transfer for the prupose of removal of nuisance waters from excavtions | C28: All year | E28: =F28*24 -> 864 | F28: =H28*60*60/1000 -> 36 | G28: 24 | H28: 10
A29: Collection Point B | B29: Transfer for the prupose of removal of nuisance waters from excavtions | C29: All year | E29: =F29*24 -> 8640 | F29: =H29*60*60/1000 -> 360 | G29: 24 | H29: 100
C35: Total | D35: =SUM(D28:D30) -> 0 | E35: =SUM(E28:E30) -> 9504 | F35: =SUM(F28:F30) -> 396
D39: 2986074.2
