Workbook

Sheet Conditions
A1: Licence Number | B1: CML2403
A2: Issue Date | B2: 45415
A3: Start Date | B3: 45415
A4: End Date | B4: 45960
A5: Work Commencement Date
A6: Work Completion Date
A7: Licence Status | B7: =IF(ISBLANK(B2), "",IF(B4<(TODAY()+1), "Expired", IF(B3<(TODAY()+1), "Active", IF(B3>B2, "Not Active", "")))) -> Active
A9: Condition number | B9: Licence Number | C9: Condition Formula Type | D9: Wording | E9: Discharge Deadline | F9: Discharge Date | G9: Condition Status | H9: Condition Update | I9: Comments
A10: 3.18.1 | B10: =$B$1 -> CML2403 | C10: 6 weeks prior to commencement of Licensed Activities | D10: =_xlfn.IFNA(VLOOKUP(Table15[[#This Row],[Condition Formula Type ]],'Lookups - hide when in use'!$A:$B,2,FALSE), "") -> The Licence Holder must submit a XXXX to the Licensing Authority for written approval at least 6 weeks prior to commencement of the Licensed Activities taking place. | E10: =VLOOKUP(Table15[[#This Row],[Condition Formula Type ]],'Lookups - hide when in use'!A:D,4,FALSE) | G10: =IF(ISBLANK(Table15[[#This Row],[Discharge Date]]), "Not discharged", "Discharged") -> Not discharged | H10: =IF(Table15[[#This Row],[Condition Formula Type ]]='Lookups - hide when in use'!$A$11,"Complete",IF(Table15[[#This Row],[Condition Formula Type ]]='Lookups - hide when in use'!$A$2, IF(ISBLANK(Table15[[#This Row],[Discharge Date]]),"No action required", "Complete"),IF(Table15[[#This Row],[Condition Formula Type ]]="Annual Biosecurity", IF(ISBLANK(Table15[[#This Row],[Discharge Date]]),"Incomplete","Complete"), IF(LEFT(Table15[[#This Row],[Condition Formula Type ]],8)="Biannual", IF(ISBLANK(Table15[[#This Row],[Discharge Date]]), "Incomplete","Complete"), IF(RIGHT(Table15[[#This Row],[Condition Formula Type ]],44)="prior to commencement of Licensed Activities",IF(ISBLANK(Table15[[#This Row],[Discharge Deadline]]), "Enter Discharge Deadline", IF(Table15[[#This Row],[Discharge Deadline]]<TODAY(), "Overdue",IF(ISBLANK(Table15[[#This Row],[Discharge Date]]), "Incomplete", "Complete"))),IF(Table15[[#This Row],[Condition Status]]="Discharged", "Complete", IF(ISBLANK(Table15[[#This Row],[Discharge Deadline]]), "Enter Discharge Deadline", IF(Table15[[#This Row],[Discharge Deadline]]<TODAY(), "Overdue", "Incomplete")))))))) -> Incomplete | I10: 3.18 Approval of Schemes/Plans 3.18.1 The Licence Holder must submit a Written Scheme of Investigation to the Licensing Authority for written approval at least 6 weeks prior to commencement of the Licensed Activities. No Works may be undertaken prior to written approval from the Licensing Authority.
A11: 3.18.2 | B11: =$B$1 -> CML2403 | C11: 6 weeks prior to commencement of Licensed Activities | D11: =_xlfn.IFNA(VLOOKUP(Table15[[#This Row],[Condition Formula Type ]],'Lookups - hide when in use'!$A:$B,2,FALSE), "") -> The Licence Holder must submit a XXXX to the Licensing Authority for written approval at least 6 weeks prior to commencement of the Licensed Activities taking place. | G11: =IF(ISBLANK(Table15[[#This Row],[Discharge Date]]), "Not discharged", "Discharged") -> Not discharged | H11: =IF(Table15[[#This Row],[Condition Formula Type ]]='Lookups - hide when in use'!$A$11,"Complete",IF(Table15[[#This Row],[Condition Formula Type ]]='Lookups - hide when in use'!$A$2, IF(ISBLANK(Table15[[#This Row],[Discharge Date]]),"No action required", "Complete"),IF(Table15[[#This Row],[Condition Formula Type ]]="Annual Biosecurity", IF(ISBLANK(Table15[[#This Row],[Discharge Date]]),"Incomplete","Complete"), IF(LEFT(Table15[[#This Row],[Condition Formula Type ]],8)="Biannual", IF(ISBLANK(Table15[[#This Row],[Discharge Date]]), "Incomplete","Complete"), IF(RIGHT(Table15[[#This Row],[Condition Formula Type ]],44)="prior to commencement of Licensed Activities",IF(ISBLANK(Table15[[#This Row],[Discharge Deadline]]), "Enter Discharge Deadline", IF(Table15[[#This Row],[Discharge Deadline]]<TODAY(), "Overdue",IF(ISBLANK(Table15[[#This Row],[Discharge Date]]), "Incomplete", "Complete"))),IF(Table15[[#This Row],[Condition Status]]="Discharged", "Complete", IF(ISBLANK(Table15[[#This Row],[Discharge Deadline]]), "Enter Discharge Deadline", IF(Table15[[#This Row],[Discharge Deadline]]<TODAY(), "Overdue", "Incomplete")))))))) -> Enter Discharge Deadline | I11: 3.18.2 The Licence Holder must ensure that any actions outlined in the documents detailed in condition(s) 3.18.1 are implemented as approved in writing by the Licensing Authority. Any proposed changes to the actions outlined in the documents must be submitted to, and approved in writing by the Licensing Authority prior to any changes being enacted.
C23: 3.18 Approval of Schemes/Plans
C25: 3.18.1 The Licence Holder must submit a Written Scheme of Investigation to the Licensing Authority for written approval at least 6 weeks prior to commencement of the Licensed Activities. No Works may be undertaken prior to written approval from the Licensing Authority.

Sheet Lookups - hide when in use
A1: Condition Type | B1: Condition wording | C1: Discharge required | D1: Discharge required by
A2: Commencemet of Licensed Activities | B2: The Licence Holder must notify the Licensing Authority no less than 10 days before the commencement of the Licensed Activities, or an individual phase of the Licensed Activities, is expected to commence. | C2: No
A3: Completetion of Licensed Activities | B3: The Licence Holder must notify the Licensing Authority within 10 days of completion of the Licensed Activities. | C3: Yes if | D3: =IF(ISBLANK(Conditions!B4), "Enter 'End Date in Cell B4", (Conditions!B4+10)) -> 45970
A4: 4 weeks prior to commencement of Licensed Activities | B4: The Licence Holder must submit a XXXX to the Licensing Authority for written approval at least 4 weeks prior to commencement of the Licensed Activities taking place. | C4: Yes | D4: =IF(ISBLANK(Conditions!B5), "", Conditions!B5-4*7)
A5: 6 weeks prior to commencement of Licensed Activities | B5: The Licence Holder must submit a XXXX to the Licensing Authority for written approval at least 6 weeks prior to commencement of the Licensed Activities taking place. | C5: Yes | D5: =IF(ISBLANK(Conditions!B5),"",Conditions!B5-(6*7))
A6: 8 weeks prior to commencement of Licensed Activities | B6: The Licence Holder must submit a XXXX to the Licensing Authority for written approval at least 8 weeks prior to commencement of the Licensed Activities taking place. | C6: Yes | D6: =IF(ISBLANK(Conditions!B5),"",Conditions!B5-(8*7))
A7: 2 months prior to commencement of Licensed Activities | B7: The Licence Holder must submit a XXXX to the Licensing Authority for written approval at least 2 months prior to commencement of the Licensed Activities taking place. | C7: Yes | D7: =IF(ISBLANK(Conditions!B5),"",DATE(YEAR(Conditions!B5),(MONTH(Conditions!B5)-2),DAY(Conditions!B5)))
A8: 4 months prior to commencement of Licensed Activities | B8: The Licence Holder must submit a XXXX to the Licensing Authority for written approval at least 4 months prior to commencement of the Licensed Activities taking place. | C8: Yes | D8: =IF(ISBLANK(Conditions!B5),"",DATE(YEAR(Conditions!$B$5),(MONTH(Conditions!$B$5)-4),DAY(Conditions!$B$5)))
A9: 6 months prior to commencement of Licensed Activities | B9: The Licence Holder must submit a XXXX to the Licensing Authority for written approval at least 6 months prior to commencement of the Licensed Activities taking place. | C9: Yes | D9: =IF(ISBLANK(Conditions!B5),"",DATE(YEAR(Conditions!$B$5),(MONTH(Conditions!$B$5)-6),DAY(Conditions!$B$5)))
A10: Specific date deadline for document submission | B10: Enter condition text after all rows added | C10: Yes if | D10: Enter Date
A11: No specific date deadline for condition | B11: Enter condition text after all rows added | C11: No | D11: =IF(ISBLANK(Conditions!$B$6),"",(Conditions!$B$6+(4*7)))
A12: 4 weeks after the completed date | B12: The Licence Holder must submit a XXXX to the Licensing Authority for written approval no more than 4 weeks after the completed date. | C12: Yes | D12: =IF(ISBLANK(Conditions!$B$6),"",(Conditions!$B$6+(6*7)))
A13: 6 weeks after the completed date | B13: The Licence Holder must submit a XXXX to the Licensing Authority for written approval no more than 6 weeks after the completed date. | C13: Yes | D13: =IF(ISBLANK(Conditions!$B$6),"",(Conditions!$B$6+(8*7)))
A14: 8 weeks after the completed date | B14: The Licence Holder must submit a XXXX to the Licensing Authority for written approval no more than 8 weeks after the completed date. | C14: Yes | D14: =IF(ISBLANK(Conditions!B6),"",DATE(YEAR(Conditions!$B$6),(MONTH(Conditions!$B$6)+2),DAY(Conditions!$B$6)))
A15: 2 months after the completed date | B15: The Licence Holder must submit a XXXX to the Licensing Authority for written approval no more than 2 months after the completed date. | C15: Yes | D15: =IF(ISBLANK(Conditions!B6),"",DATE(YEAR(Conditions!$B$6),(MONTH(Conditions!$B$6)+4),DAY(Conditions!$B$6)))
A16: 4 months after the completed date | B16: The Licence Holder must submit a XXXX to the Licensing Authority for written approval no more than 4 months after the completed date. | C16: Yes | D16: =IF(ISBLANK(Conditions!B6),"",DATE(YEAR(Conditions!$B$6),(MONTH(Conditions!$B$6)+6),DAY(Conditions!$B$6)))
A17: 6 months after the completed date | B17: The Licence Holder must submit a XXXX to the Licensing Authority for written approval no more than 6 months after the completed date. | C17: Yes
