Workbook

Sheet DAF
A1: PAN reference | C1: PAN-024920 | E1: Total spread area | F1: 50 | G1: Waste pH | I1: 6.6 | J1: Ammonium Nitrogen (mg/kg) | L1: 27 | AD1: Choose | AI1: Crop | AJ1: P Offtake | AK1: K Offtake | AL1: Order | AM1: Lime pH requirement | AN1: Column1
A2: Permit reference | C2: EPR/JB3533RJ | E2: Waste type EWC | F2: 02 05 02 | G2: Conductivity µS/cm (limit 5000 µS/cm) | I2: 262 | J2: Total Nitrogen (% w/w) | L2: 0.13 | AB2: %w/w SAR | AD2: Sandy | AG2: Solid | AI2: Choose | AJ2: 0 | AK2: 0 | AL2: 0 | AM2: 0 | AN2: 0
A3: Operator | C3: Simon Jones | E3: Waste physical form | F3: Solid | G3: Fats & Oils (mg/kg) (limit 40,000 mg/kg or 4%) | I3: 11520 | J3: Readily available nitrogen content % | L3: =(L1/(L2*10000))*100 -> 2.0769231 | AB3: %w/w DM | AD3: Sandy Loam | AG3: Liquid | AI3: Grass Silage (25% DM) | AJ3: 1.7 | AK3: 6 | AL3: 1 | AM3: 6.2 | AN3: Grass
A4: Farm Address | C4: Land at Sarn Fadog, Llanerchymedd, LL71 8ER | E4: Waste Ref/Name | F4: Glanbia cheese | AB4: kg/t SAR | AD4: Medium/Clay | AG4: Sludge | AI4: Winter wheat- grain & straw | AJ4: 7 | AK4: 10.5 | AL4: 2 | AM4: 6.7 | AN4: Arable
A5: Assessed By | C5: Megan Tucker | AB5: kg/t DM | AD5: Organic | AG5: Sludge Cake | AI5: Winter wheat- grain only | AJ5: 6.5 | AK5: 5.5 | AL5: 3 | AM5: 6.7 | AN5: Arable
AB6: mg/kg SAR | AD6: Peat | AI6: Spring wheat/barley | AJ6: 8.5 | AK6: 12 | AL6: 4 | AM6: 6.7 | AN6: Arable
A7: Field number | C7: 1 | D7: 2 | E7: 3 | F7: 4 | G7: 5 | H7: 6 | I7: 7 | J7: 8 | K7: 9 | L7: 10 | M7: 11 | N7: 12 | O7: 13 | P7: 14 | Q7: 15 | R7: 16 | S7: 17 | T7: 18 | U7: 19 | V7: 20 | AB7: mg/kg DM | AI7: Winter barley/triticale/rye | AJ7: 8.5 | AK7: 10.5 | AL7: 5 | AM7: 6.7 | AN7: Arable
A8: Field Ref | C8: T1 | D8: T2 | E8: T3 | F8: T4 | G8: T5 | H8: T6 | I8: T7 | J8: T8 | K8: SJ1 | L8: SJ2 | AE8: lime pH | AI8: Maize- Silage (30% DM) | AJ8: 1.4 | AK8: 4.4 | AL8: 6 | AM8: 6.7 | AN8: Arable
A9: SNS Index | C9: M | D9: M | E9: M | F9: M | G9: M | H9: M | I9: M | J9: M | K9: M | L9: M | AD9: Sandy I Grass | AE9: 4.5 | AI9: Fodder beet (roots only) | AJ9: 0.7 | AK9: 4 | AL9: 7 | AM9: 6.7 | AN9: Arable
A10: Field pH | C10: 7.1 | D10: 6.8 | E10: 6.9 | F10: 5.6 | G10: 5.8 | H10: 5.7 | I10: 5.7 | J10: 5.6 | K10: 5.3 | L10: 5.4 | AD10: Sandy Loam I Grass | AE10: 5 | AI10: Oats | AJ10: 9 | AK10: 16.5 | AL10: 8 | AM10: 6.7 | AN10: Arable
A11: Phosphorus Index | C11: 2 | D11: 2 | E11: 2 | F11: 2 | G11: 1 | H11: 1 | I11: 2 | J11: 3 | K11: 2 | L11: 2 | AD11: Medium/Clay I Grass | AE11: 6 | AI11: Oilseed rape- seed & straw | AJ11: 15 | AK11: 17.5 | AL11: 9 | AM11: 7 | AN11: Arable
A12: Potassium Index | C12: 3 | D12: 2 | E12: 3 | F12: 1 | G12: 0 | H12: 1 | I12: 1 | J12: 1 | K12: 2 | L12: 2 | AD12: Organic I Grass | AE12: 7.5 | AI12: Oilseed rape- seed only | AJ12: 14 | AK12: 11 | AL12: 10 | AM12: 7 | AN12: Arable
A13: Magnesium Index | C13: 3 | D13: 2 | E13: 2 | F13: 3 | G13: 3 | H13: 3 | I13: 3 | J13: 3 | K13: 3 | L13: 3 | AD13: Peat I Grass | AE13: 12 | AI13: Sugar beet- roots & tops | AJ13: 1.9 | AK13: 7.5 | AL13: 11 | AM13: 6.7 | AN13: Arable
A14: Benefiting Crop | C14: Grass Silage (30% DM) | D14: Grass Silage (30% DM) | E14: Grass Silage (30% DM) | F14: Grass Silage (30% DM) | G14: Grass Silage (30% DM) | H14: Swedes- roots only | I14: Grass Silage (30% DM) | J14: Swedes- roots only | K14: Grass Silage (30% DM) | L14: Grass Silage (30% DM) | AD14: Sandy I Arable | AE14: 6 | AI14: Sugar beet- roots only | AJ14: 0.8 | AK14: 1.7 | AL14: 12 | AM14: 6.7 | AN14: Arable
A15: Expected Yield | C15: 47 | D15: 47 | E15: 47 | F15: 47 | G15: 47 | H15: 65 | I15: 47 | J15: 65 | K15: 47 | L15: 47 | AD15: Sandy Loam I Arable | AE15: 7 | AI15: Wholecrop cereals | AJ15: 1.8 | AK15: 5.4 | AL15: 13 | AM15: 6.7 | AN15: Arable
A16: Soil Type | C16: Medium/Clay | D16: Medium/Clay | E16: Medium/Clay | F16: Medium/Clay | G16: Medium/Clay | H16: Medium/Clay | I16: Medium/Clay | J16: Medium/Clay | K16: Medium/Clay | L16: Medium/Clay | AD16: Medium/Clay I Arable | AE16: 8 | AI16: All other cereals- grain only | AJ16: 8 | AK16: 5.5 | AL16: 14 | AM16: 6.7 | AN16: Arable
A17: Phosphate Offtake | C17: =(VLOOKUP(C$14,$AI2:$AK26,2,FALSE))*C$15 -> 98.7 | D17: =(VLOOKUP(D$14,$AI2:$AK26,2,FALSE))*D$15 -> 98.7 | E17: =(VLOOKUP(E$14,$AI2:$AK26,2,FALSE))*E$15 -> 98.7 | F17: =(VLOOKUP(F$14,$AI2:$AK26,2,FALSE))*F$15 -> 98.7 | G17: =(VLOOKUP(G$14,$AI2:$AK26,2,FALSE))*G$15 -> 98.7 | H17: =(VLOOKUP(H$14,$AI2:$AK26,2,FALSE))*H$15 -> 45.5 | I17: =(VLOOKUP(I$14,$AI2:$AK26,2,FALSE))*I$15 -> 98.7 | J17: =(VLOOKUP(J$14,$AI2:$AK26,2,FALSE))*J$15 -> 45.5 | ... V17: =(VLOOKUP(V$14,$AI2:$AK26,2,FALSE))*V$15 -> #N/A | AD17: Organic I Arable | AE17: 10 | AI17: Fresh grass (15-20% DM) | AJ17: 1.4 | AK17: 4.8 | AL17: 15 | AM17: 6.2 | AN17: Grass
A18: Phosphate Addition | C18: =$D31 -> 98.513 | D18: =$D32 -> 98.513 | E18: =$D33 -> 98.513 | F18: =$D34 -> 98.513 | G18: =$D35 -> 98.513 | H18: =$D36 -> 44.33085 | I18: =$D37 -> 98.513 | J18: =$D38 -> 44.33085 | K18: =$D39 -> 98.513 | L18: =$D40 -> 98.513 | M18: =$D41 -> 0 | N18: =$D42 -> 0 | O18: =$D43 -> 0 | P18: =$D44 -> 0 | Q18: =$D45 -> 0 | R18: =$D46 -> 0 | S18: =$D47 -> 0 | T18: =$D48 -> 0 | U18: =$D49 -> 0 | V18: =$D50 -> 0 | AD18: Peat I Arable | AE18: 16 | AI18: Hay (86% DM) | AJ18: 5.9 | AK18: 18 | AL18: 16 | AM18: 6.2 | AN18: Grass
A19: Phosphate Difference | C19: =C18-C17 -> -0.187 | D19: =D18-D17 -> -0.187 | E19: =E18-E17 -> -0.187 | F19: =F18-F17 -> -0.187 | G19: =G18-G17 -> -0.187 | H19: =H18-H17 -> -1.16915 | I19: =I18-I17 -> -0.187 | J19: =J18-J17 -> -1.16915 | ... V19: =V18-V17 -> #N/A | AI19: Haylage (45% DM) | AJ19: 3.2 | AK19: 10.5 | AL19: 17 | AM19: 6.2 | AN19: Grass
A20: Phosphate Increase/decrease | C20: =IF($B31="","",IF(C$19>=0,"INCREASE","DECREASE")) -> DECREASE | D20: =IF($B32="","",IF(D$19>=0,"INCREASE","DECREASE")) -> DECREASE | E20: =IF($B33="","",IF(E$19>=0,"INCREASE","DECREASE")) -> DECREASE | F20: =IF($B34="","",IF(F$19>=0,"INCREASE","DECREASE")) -> DECREASE | G20: =IF($B35="","",IF(G$19>=0,"INCREASE","DECREASE")) -> DECREASE | H20: =IF($B36="","",IF(H$19>=0,"INCREASE","DECREASE")) -> DECREASE | I20: =IF($B37="","",IF(I$19>=0,"INCREASE","DECREASE")) -> DECREASE | J20: =IF($B38="","",IF(J$19>=0,"INCREASE","DECREASE")) -> DECREASE | K20: =IF($B39="","",IF(K$19>=0,"INCREASE","DECREASE")) -> DECREASE | L20: =IF($B40="","",IF(L$19>=0,"INCREASE","DECREASE")) -> DECREASE | M20: =IF($B41="","",IF(M$19>=0,"INCREASE","DECREASE")) | N20: =IF($B42="","",IF(N$19>=0,"INCREASE","DECREASE")) | O20: =IF($B43="","",IF(O$19>=0,"INCREASE","DECREASE")) | P20: =IF($B44="","",IF(P$19>=0,"INCREASE","DECREASE")) | Q20: =IF($B45="","",IF(Q$19>=0,"INCREASE","DECREASE")) | R20: =IF($B46="","",IF(R$19>=0,"INCREASE","DECREASE")) | S20: =IF($B47="","",IF(S$19>=0,"INCREASE","DECREASE")) | T20: =IF($B48="","",IF(T$19>=0,"INCREASE","DECREASE")) | U20: =IF($B49="","",IF(U$19>=0,"INCREASE","DECREASE")) | V20: =IF($B50="","",IF(V$19>=0,"INCREASE","DECREASE")) | AI20: Grass Silage (30% DM) | AJ20: 2.1 | AK20: 7.2 | AL20: 18 | AM20: 6.2 | AN20: Grass
A21: Potash Offtake | C21: =(VLOOKUP(C$14,$AI2:$AK26,3,FALSE))*C$15 -> 338.4 | D21: =(VLOOKUP(D$14,$AI2:$AK26,3,FALSE))*D$15 -> 338.4 | E21: =(VLOOKUP(E$14,$AI2:$AK26,3,FALSE))*E$15 -> 338.4 | F21: =(VLOOKUP(F$14,$AI2:$AK26,3,FALSE))*F$15 -> 338.4 | G21: =(VLOOKUP(G$14,$AI2:$AK26,3,FALSE))*G$15 -> 338.4 | H21: =(VLOOKUP(H$14,$AI2:$AK26,3,FALSE))*H$15 -> 156 | I21: =(VLOOKUP(I$14,$AI2:$AK26,3,FALSE))*I$15 -> 338.4 | J21: =(VLOOKUP(J$14,$AI2:$AK26,3,FALSE))*J$15 -> 156 | ... V21: =(VLOOKUP(V$14,$AI2:$AK26,3,FALSE))*V$15 -> #N/A | AI21: Field beans | AJ21: 11 | AK21: 12 | AL21: 19 | AM21: 6.7 | AN21: Arable
A22: Potash Addition | C22: =$E31 -> 7.23 | D22: =$E32 -> 7.23 | E22: =$E33 -> 7.23 | F22: =$E34 -> 7.23 | G22: =$E35 -> 7.23 | H22: =$E36 -> 3.2535 | I22: =$E37 -> 7.23 | J22: =$E38 -> 3.2535 | K22: =$E39 -> 7.23 | L22: =$E40 -> 7.23 | M22: =$E41 -> 0 | N22: =$E42 -> 0 | O22: =$E43 -> 0 | P22: =$E44 -> 0 | Q22: =$E45 -> 0 | R22: =$E46 -> 0 | S22: =$E47 -> 0 | T22: =$E48 -> 0 | U22: =$E49 -> 0 | V22: =$E50 -> 0 | AI22: Kale | AJ22: 1.2 | AK22: 5 | AL22: 20 | AM22: 6.7 | AN22: Arable
A23: Potash Difference | C23: =C22-C21 -> -331.17 | D23: =D22-D21 -> -331.17 | E23: =E22-E21 -> -331.17 | F23: =F22-F21 -> -331.17 | G23: =G22-G21 -> -331.17 | H23: =H22-H21 -> -152.7465 | I23: =I22-I21 -> -331.17 | J23: =J22-J21 -> -152.7465 | ... V23: =V22-V21 -> #N/A | AI23: Peas- Dried | AJ23: 9 | AK23: 10 | AL23: 21 | AM23: 6.7 | AN23: Arable
A24: Potash Increase/decrease | C24: =IF($B31="","",IF(C$23>=0,"INCREASE","DECREASE")) -> DECREASE | D24: =IF($B31="","",IF(D$23>=0,"INCREASE","DECREASE")) -> DECREASE | E24: =IF($B31="","",IF(E$23>=0,"INCREASE","DECREASE")) -> DECREASE | F24: =IF($B31="","",IF(F$23>=0,"INCREASE","DECREASE")) -> DECREASE | G24: =IF($B31="","",IF(G$23>=0,"INCREASE","DECREASE")) -> DECREASE | H24: =IF($B31="","",IF(H$23>=0,"INCREASE","DECREASE")) -> DECREASE | I24: =IF($B31="","",IF(I$23>=0,"INCREASE","DECREASE")) -> DECREASE | J24: =IF($B31="","",IF(J$23>=0,"INCREASE","DECREASE")) -> DECREASE | ... V24: =IF($B31="","",IF(V$23>=0,"INCREASE","DECREASE")) -> #N/A | AI24: Peas- Vining | AJ24: 1.5 | AK24: 3 | AL24: 22 | AM24: 6.7 | AN24: Arable
AI25: Potatoes- tubers only | AJ25: 1 | AK25: 5.8 | AL25: 23 | AM25: 6.7 | AN25: Arable
B26: Dry Matter | C26: Total Nitrogen | D26: Total Phosphorus (P) | E26: Total Potassium (K) | F26: Total Magnesium (Mg) | G26: Total Copper | H26: Total Zinc | I26: Total Lead | J26: Total Cadmium | K26: Total Mercury | L26: Total Nickel | M26: Total Chromium | N26: Total Aluminium | O26: Total Iron | P26: Total Na (Sodium) | Q26: Total Sulphur (S) | R26: Total Selenium | S26: Total Arsenic | T26: Total Mo | U26: Total Fluoride | AI26: Swedes- roots only | AJ26: 0.7 | AK26: 2.4 | AL26: 24 | AM26: 6.7 | AN26: Arable
B27: % | C27: %w/w SAR | D27: %w/w SAR | E27: %w/w SAR | F27: %w/w SAR | G27: mg/kg SAR | H27: mg/kg SAR | I27: mg/kg SAR | J27: mg/kg SAR | K27: mg/kg SAR | L27: mg/kg SAR | M27: mg/kg SAR | P27: %w/w SAR | Q27: %w/w SAR | S27: mg/kg SAR
B28: 2.88 | C28: 0.13 | D28: 0.043 | E28: 0.006 | F28: 0.001 | G28: 0.2 | H28: 0.5 | I28: 0.5 | J28: 0.01 | K28: 0.05 | L28: 0.2 | M28: 0.253 | P28: 0.032 | Q28: 0.007 | S28: 0.5
A29: Field Ref | B29: Application Rate | C29: Nitrogen Addition | D29: Phosphate Addition | E29: Potash Addition | F29: Mg Oxide Addition | G29: Copper Addition | H29: Zinc Addition | I29: Lead Addition | J29: Cadmium Addition | K29: Mercury Addition | L29: Nickel Addition | M29: Chromium Addition | N29: Aluminium Addition | O29: Iron Addition | P29: Sodium Addition | Q29: SO3 Addition kg/ha | R29: Selenium Addition | S29: Arsenic Addition | T29: Molybdenum Addition | U29: Fluoride Addition
B30: tonnes/ha | C30: kg/ha | D30: P2O5 kg/ha | E30: K2O kg/ha | F30: MgO kg/ha | G30: kg/ha | H30: kg/ha | I30: kg/ha | J30: kg/ha | K30: kg/ha | L30: kg/ha | M30: kg/ha | N30: kg/ha | O30: kg/ha | P30: kg/ha | Q30: kg/ha | R30: kg/ha | S30: kg/ha | T30: kg/ha | U30: kg/ha
A31: =C8 -> T1 | B31: 100 | C31: =IF(C$27="%w/w SAR",((C$28*10)*$B31),IF(C$27="%w/w DM",(((C$28*10)*($B$28/100))*$B31),IF(C$27="kg/t SAR",(C$28*$B31),IF(C$27="kg/t DM",((C$28*($B$28/100))*$B31),IF(C$27="mg/kg SAR",((C$28*0.001)*$B31),IF(C$27="mg/kg DM",(((C$28*0.001)*($B$28/100))*$B31),0)))))) -> 130 | D31: =(IF(D$27="%w/w SAR",((D$28*10)*$B31),IF(D$27="%w/w DM",(((D$28*10)*($B$28/100))*$B31),IF(D$27="kg/t SAR",(D$28*$B31),IF(D$27="kg/t DM",((D$28*($B$28/100))*$B31),IF(D$27="mg/kg SAR",((D$28*0.001)*$B31),IF(D$27="mg/kg DM",(((D$28*0.001)*($B$28/100))*$B31),"0")))))))*2.291 -> 98.513 | E31: =(IF(E$27="%w/w SAR",((E$28*10)*$B31),IF(E$27="%w/w DM",(((E$28*10)*($B$28/100))*$B31),IF(E$27="kg/t SAR",(E$28*$B31),IF(E$27="kg/t DM",((E$28*($B$28/100))*$B31),IF(E$27="mg/kg SAR",((E$28*0.001)*$B31),IF(E$27="mg/kg DM",(((E$28*0.001)*($B$28/100))*$B31),"0")))))))*1.205 -> 7.23 | F31: =(IF(F$27="%w/w SAR",((F$28*10)*$B31),IF(F$27="%w/w DM",(((F$28*10)*($B$28/100))*$B31),IF(F$27="kg/t SAR",(F$28*$B31),IF(F$27="kg/t DM",((F$28*($B$28/100))*$B31),IF(F$27="mg/kg SAR",((F$28*0.001)*$B31),IF(F$27="mg/kg DM",(((F$28*0.001)*($B$28/100))*$B31),"0")))))))*1.658 -> 1.658 | G31: =IF(G$27="%w/w SAR",((G$28*10)*$B31),IF(G$27="%w/w DM",(((G$28*10)*($B$28/100))*$B31),IF(G$27="kg/t SAR",(G$28*$B31),IF(G$27="kg/t DM",((G$28*($B$28/100))*$B31),IF(G$27="mg/kg SAR",((G$28*0.001)*$B31),IF(G$27="mg/kg DM",(((G$28*0.001)*($B$28/100))*$B31),0)))))) -> 0.02 | H31: =IF(H$27="%w/w SAR",((H$28*10)*$B31),IF(H$27="%w/w DM",(((H$28*10)*($B$28/100))*$B31),IF(H$27="kg/t SAR",(H$28*$B31),IF(H$27="kg/t DM",((H$28*($B$28/100))*$B31),IF(H$27="mg/kg SAR",((H$28*0.001)*$B31),IF(H$27="mg/kg DM",(((H$28*0.001)*($B$28/100))*$B31),0)))))) -> 0.05 | I31: =IF(I$27="%w/w SAR",((I$28*10)*$B31),IF(I$27="%w/w DM",(((I$28*10)*($B$28/100))*$B31),IF(I$27="kg/t SAR",(I$28*$B31),IF(I$27="kg/t DM",((I$28*($B$28/100))*$B31),IF(I$27="mg/kg SAR",((I$28*0.001)*$B31),IF(I$27="mg/kg DM",(((I$28*0.001)*($B$28/100))*$B31),0)))))) -> 0.05 | J31: =IF(J$27="%w/w SAR",((J$28*10)*$B31),IF(J$27="%w/w DM",(((J$28*10)*($B$28/100))*$B31),IF(J$27="kg/t SAR",(J$28*$B31),IF(J$27="kg/t DM",((J$28*($B$28/100))*$B31),IF(J$27="mg/kg SAR",((J$28*0.001)*$B31),IF(J$27="mg/kg DM",(((J$28*0.001)*($B$28/100))*$B31),0)))))) -> 0.001 | K31: =IF(K$27="%w/w SAR",((K$28*10)*$B31),IF(K$27="%w/w DM",(((K$28*10)*($B$28/100))*$B31),IF(K$27="kg/t SAR",(K$28*$B31),IF(K$27="kg/t DM",((K$28*($B$28/100))*$B31),IF(K$27="mg/kg SAR",((K$28*0.001)*$B31),IF(K$27="mg/kg DM",(((K$28*0.001)*($B$28/100))*$B31),0)))))) -> 0.005 | L31: =IF(L$27="%w/w SAR",((L$28*10)*$B31),IF(L$27="%w/w DM",(((L$28*10)*($B$28/100))*$B31),IF(L$27="kg/t SAR",(L$28*$B31),IF(L$27="kg/t DM",((L$28*($B$28/100))*$B31),IF(L$27="mg/kg SAR",((L$28*0.001)*$B31),IF(L$27="mg/kg DM",(((L$28*0.001)*($B$28/100))*$B31),0)))))) -> 0.02 | M31: =IF(M$27="%w/w SAR",((M$28*10)*$B31),IF(M$27="%w/w DM",(((M$28*10)*($B$28/100))*$B31),IF(M$27="kg/t SAR",(M$28*$B31),IF(M$27="kg/t DM",((M$28*($B$28/100))*$B31),IF(M$27="mg/kg SAR",((M$28*0.001)*$B31),IF(M$27="mg/kg DM",(((M$28*0.001)*($B$28/100))*$B31),0)))))) -> 0.0253 | N31: =IF(N$27="%w/w SAR",((N$28*10)*$B31),IF(N$27="%w/w DM",(((N$28*10)*($B$28/100))*$B31),IF(N$27="kg/t SAR",(N$28*$B31),IF(N$27="kg/t DM",((N$28*($B$28/100))*$B31),IF(N$27="mg/kg SAR",((N$28*0.001)*$B31),IF(N$27="mg/kg DM",(((N$28*0.001)*($B$28/100))*$B31),0)))))) -> 0 | ... P31: =IF(P$27="%w/w SAR",((P$28*10)*$B31),IF(P$27="%w/w DM",(((P$28*10)*($B$28/100))*$B31),IF(P$27="kg/t SAR",(P$28*$B31),IF(P$27="kg/t DM",((P$28*($B$28/100))*$B31),IF(P$27="mg/kg SAR",((P$28*0.001)*$B31),IF(P$27="mg/kg DM",(((P$28*0.001)*($B$28/100))*$B31),0)))))) -> 32 | Q31: =(IF(Q$27="%w/w SAR",((Q$28*10)*$B31),IF(Q$27="%w/w DM",(((Q$28*10)*($B$28/100))*$B31),IF(Q$27="kg/t SAR",(Q$28*$B31),IF(Q$27="kg/t DM",((Q$28*($B$28/100))*$B31),IF(Q$27="mg/kg SAR",((Q$28*0.001)*$B31),IF(Q$27="mg/kg DM",(((Q$28*0.001)*($B$28/100))*$B31),0)))))))*2.5 -> 17.5 | R31: =IF(R$27="%w/w SAR",((R$28*10)*$B31),IF(R$27="%w/w DM",(((R$28*10)*($B$28/100))*$B31),IF(R$27="kg/t SAR",(R$28*$B31),IF(R$27="kg/t DM",((R$28*($B$28/100))*$B31),IF(R$27="mg/kg SAR",((R$28*0.001)*$B31),IF(R$27="mg/kg DM",(((R$28*0.001)*($B$28/100))*$B31),0)))))) -> 0 | S31: =IF(S$27="%w/w SAR",((S$28*10)*$B31),IF(S$27="%w/w DM",(((S$28*10)*($B$28/100))*$B31),IF(S$27="kg/t SAR",(S$28*$B31),IF(S$27="kg/t DM",((S$28*($B$28/100))*$B31),IF(S$27="mg/kg SAR",((S$28*0.001)*$B31),IF(S$27="mg/kg DM",(((S$28*0.001)*($B$28/100))*$B31),0)))))) -> 0.05 | T31: =IF(T$27="%w/w SAR",((T$28*10)*$B31),IF(T$27="%w/w DM",(((T$28*10)*($B$28/100))*$B31),IF(T$27="kg/t SAR",(T$28*$B31),IF(T$27="kg/t DM",((T$28*($B$28/100))*$B31),IF(T$27="mg/kg SAR",((T$28*0.001)*$B31),IF(T$27="mg/kg DM",(((T$28*0.001)*($B$28/100))*$B31),0)))))) -> 0 | U31: =IF(U$27="%w/w SAR",((U$28*10)*$B31),IF(U$27="%w/w DM",(((U$28*10)*($B$28/100))*$B31),IF(U$27="kg/t SAR",(U$28*$B31),IF(U$27="kg/t DM",((U$28*($B$28/100))*$B31),IF(U$27="mg/kg SAR",((U$28*0.001)*$B31),IF(U$27="mg/kg DM",(((U$28*0.001)*($B$28/100))*$B31),0)))))) -> 0
A32: =D8 -> T2 | B32: 100 | C32: =IF(C$27="%w/w SAR",((C$28*10)*$B32),IF(C$27="%w/w DM",(((C$28*10)*($B$28/100))*$B32),IF(C$27="kg/t SAR",(C$28*$B32),IF(C$27="kg/t DM",((C$28*($B$28/100))*$B32),IF(C$27="mg/kg SAR",((C$28*0.001)*$B32),IF(C$27="mg/kg DM",(((C$28*0.001)*($B$28/100))*$B32),0)))))) -> 130 | D32: =(IF(D$27="%w/w SAR",((D$28*10)*$B32),IF(D$27="%w/w DM",(((D$28*10)*($B$28/100))*$B32),IF(D$27="kg/t SAR",(D$28*$B32),IF(D$27="kg/t DM",((D$28*($B$28/100))*$B32),IF(D$27="mg/kg SAR",((D$28*0.001)*$B32),IF(D$27="mg/kg DM",(((D$28*0.001)*($B$28/100))*$B32),"0")))))))*2.291 -> 98.513 | E32: =(IF(E$27="%w/w SAR",((E$28*10)*$B32),IF(E$27="%w/w DM",(((E$28*10)*($B$28/100))*$B32),IF(E$27="kg/t SAR",(E$28*$B32),IF(E$27="kg/t DM",((E$28*($B$28/100))*$B32),IF(E$27="mg/kg SAR",((E$28*0.001)*$B32),IF(E$27="mg/kg DM",(((E$28*0.001)*($B$28/100))*$B32),"0")))))))*1.205 -> 7.23 | F32: =(IF(F$27="%w/w SAR",((F$28*10)*$B32),IF(F$27="%w/w DM",(((F$28*10)*($B$28/100))*$B32),IF(F$27="kg/t SAR",(F$28*$B32),IF(F$27="kg/t DM",((F$28*($B$28/100))*$B32),IF(F$27="mg/kg SAR",((F$28*0.001)*$B32),IF(F$27="mg/kg DM",(((F$28*0.001)*($B$28/100))*$B32),"0")))))))*1.658 -> 1.658 | G32: =IF(G$27="%w/w SAR",((G$28*10)*$B32),IF(G$27="%w/w DM",(((G$28*10)*($B$28/100))*$B32),IF(G$27="kg/t SAR",(G$28*$B32),IF(G$27="kg/t DM",((G$28*($B$28/100))*$B32),IF(G$27="mg/kg SAR",((G$28*0.001)*$B32),IF(G$27="mg/kg DM",(((G$28*0.001)*($B$28/100))*$B32),0)))))) -> 0.02 | H32: =IF(H$27="%w/w SAR",((H$28*10)*$B32),IF(H$27="%w/w DM",(((H$28*10)*($B$28/100))*$B32),IF(H$27="kg/t SAR",(H$28*$B32),IF(H$27="kg/t DM",((H$28*($B$28/100))*$B32),IF(H$27="mg/kg SAR",((H$28*0.001)*$B32),IF(H$27="mg/kg DM",(((H$28*0.001)*($B$28/100))*$B32),0)))))) -> 0.05 | I32: =IF(I$27="%w/w SAR",((I$28*10)*$B32),IF(I$27="%w/w DM",(((I$28*10)*($B$28/100))*$B32),IF(I$27="kg/t SAR",(I$28*$B32),IF(I$27="kg/t DM",((I$28*($B$28/100))*$B32),IF(I$27="mg/kg SAR",((I$28*0.001)*$B32),IF(I$27="mg/kg DM",(((I$28*0.001)*($B$28/100))*$B32),0)))))) -> 0.05 | J32: =IF(J$27="%w/w SAR",((J$28*10)*$B32),IF(J$27="%w/w DM",(((J$28*10)*($B$28/100))*$B32),IF(J$27="kg/t SAR",(J$28*$B32),IF(J$27="kg/t DM",((J$28*($B$28/100))*$B32),IF(J$27="mg/kg SAR",((J$28*0.001)*$B32),IF(J$27="mg/kg DM",(((J$28*0.001)*($B$28/100))*$B32),0)))))) -> 0.001 | K32: =IF(K$27="%w/w SAR",((K$28*10)*$B32),IF(K$27="%w/w DM",(((K$28*10)*($B$28/100))*$B32),IF(K$27="kg/t SAR",(K$28*$B32),IF(K$27="kg/t DM",((K$28*($B$28/100))*$B32),IF(K$27="mg/kg SAR",((K$28*0.001)*$B32),IF(K$27="mg/kg DM",(((K$28*0.001)*($B$28/100))*$B32),0)))))) -> 0.005 | L32: =IF(L$27="%w/w SAR",((L$28*10)*$B32),IF(L$27="%w/w DM",(((L$28*10)*($B$28/100))*$B32),IF(L$27="kg/t SAR",(L$28*$B32),IF(L$27="kg/t DM",((L$28*($B$28/100))*$B32),IF(L$27="mg/kg SAR",((L$28*0.001)*$B32),IF(L$27="mg/kg DM",(((L$28*0.001)*($B$28/100))*$B32),0)))))) -> 0.02 | M32: =IF(M$27="%w/w SAR",((M$28*10)*$B32),IF(M$27="%w/w DM",(((M$28*10)*($B$28/100))*$B32),IF(M$27="kg/t SAR",(M$28*$B32),IF(M$27="kg/t DM",((M$28*($B$28/100))*$B32),IF(M$27="mg/kg SAR",((M$28*0.001)*$B32),IF(M$27="mg/kg DM",(((M$28*0.001)*($B$28/100))*$B32),0)))))) -> 0.0253 | N32: =IF(N$27="%w/w SAR",((N$28*10)*$B32),IF(N$27="%w/w DM",(((N$28*10)*($B$28/100))*$B32),IF(N$27="kg/t SAR",(N$28*$B32),IF(N$27="kg/t DM",((N$28*($B$28/100))*$B32),IF(N$27="mg/kg SAR",((N$28*0.001)*$B32),IF(N$27="mg/kg DM",(((N$28*0.001)*($B$28/100))*$B32),0)))))) -> 0 | ... P32: =IF(P$27="%w/w SAR",((P$28*10)*$B32),IF(P$27="%w/w DM",(((P$28*10)*($B$28/100))*$B32),IF(P$27="kg/t SAR",(P$28*$B32),IF(P$27="kg/t DM",((P$28*($B$28/100))*$B32),IF(P$27="mg/kg SAR",((P$28*0.001)*$B32),IF(P$27="mg/kg DM",(((P$28*0.001)*($B$28/100))*$B32),0)))))) -> 32 | Q32: =(IF(Q$27="%w/w SAR",((Q$28*10)*$B32),IF(Q$27="%w/w DM",(((Q$28*10)*($B$28/100))*$B32),IF(Q$27="kg/t SAR",(Q$28*$B32),IF(Q$27="kg/t DM",((Q$28*($B$28/100))*$B32),IF(Q$27="mg/kg SAR",((Q$28*0.001)*$B32),IF(Q$27="mg/kg DM",(((Q$28*0.001)*($B$28/100))*$B32),0)))))))*2.5 -> 17.5 | R32: =IF(R$27="%w/w SAR",((R$28*10)*$B32),IF(R$27="%w/w DM",(((R$28*10)*($B$28/100))*$B32),IF(R$27="kg/t SAR",(R$28*$B32),IF(R$27="kg/t DM",((R$28*($B$28/100))*$B32),IF(R$27="mg/kg SAR",((R$28*0.001)*$B32),IF(R$27="mg/kg DM",(((R$28*0.001)*($B$28/100))*$B32),0)))))) -> 0 | S32: =IF(S$27="%w/w SAR",((S$28*10)*$B32),IF(S$27="%w/w DM",(((S$28*10)*($B$28/100))*$B32),IF(S$27="kg/t SAR",(S$28*$B32),IF(S$27="kg/t DM",((S$28*($B$28/100))*$B32),IF(S$27="mg/kg SAR",((S$28*0.001)*$B32),IF(S$27="mg/kg DM",(((S$28*0.001)*($B$28/100))*$B32),0)))))) -> 0.05 | T32: =IF(T$27="%w/w SAR",((T$28*10)*$B32),IF(T$27="%w/w DM",(((T$28*10)*($B$28/100))*$B32),IF(T$27="kg/t SAR",(T$28*$B32),IF(T$27="kg/t DM",((T$28*($B$28/100))*$B32),IF(T$27="mg/kg SAR",((T$28*0.001)*$B32),IF(T$27="mg/kg DM",(((T$28*0.001)*($B$28/100))*$B32),0)))))) -> 0 | U32: =IF(U$27="%w/w SAR",((U$28*10)*$B32),IF(U$27="%w/w DM",(((U$28*10)*($B$28/100))*$B32),IF(U$27="kg/t SAR",(U$28*$B32),IF(U$27="kg/t DM",((U$28*($B$28/100))*$B32),IF(U$27="mg/kg SAR",((U$28*0.001)*$B32),IF(U$27="mg/kg DM",(((U$28*0.001)*($B$28/100))*$B32),0)))))) -> 0
A33: =E8 -> T3 | B33: 100 | C33: =IF(C$27="%w/w SAR",((C$28*10)*$B33),IF(C$27="%w/w DM",(((C$28*10)*($B$28/100))*$B33),IF(C$27="kg/t SAR",(C$28*$B33),IF(C$27="kg/t DM",((C$28*($B$28/100))*$B33),IF(C$27="mg/kg SAR",((C$28*0.001)*$B33),IF(C$27="mg/kg DM",(((C$28*0.001)*($B$28/100))*$B33),0)))))) -> 130 | D33: =(IF(D$27="%w/w SAR",((D$28*10)*$B33),IF(D$27="%w/w DM",(((D$28*10)*($B$28/100))*$B33),IF(D$27="kg/t SAR",(D$28*$B33),IF(D$27="kg/t DM",((D$28*($B$28/100))*$B33),IF(D$27="mg/kg SAR",((D$28*0.001)*$B33),IF(D$27="mg/kg DM",(((D$28*0.001)*($B$28/100))*$B33),"0")))))))*2.291 -> 98.513 | E33: =(IF(E$27="%w/w SAR",((E$28*10)*$B33),IF(E$27="%w/w DM",(((E$28*10)*($B$28/100))*$B33),IF(E$27="kg/t SAR",(E$28*$B33),IF(E$27="kg/t DM",((E$28*($B$28/100))*$B33),IF(E$27="mg/kg SAR",((E$28*0.001)*$B33),IF(E$27="mg/kg DM",(((E$28*0.001)*($B$28/100))*$B33),"0")))))))*1.205 -> 7.23 | F33: =(IF(F$27="%w/w SAR",((F$28*10)*$B33),IF(F$27="%w/w DM",(((F$28*10)*($B$28/100))*$B33),IF(F$27="kg/t SAR",(F$28*$B33),IF(F$27="kg/t DM",((F$28*($B$28/100))*$B33),IF(F$27="mg/kg SAR",((F$28*0.001)*$B33),IF(F$27="mg/kg DM",(((F$28*0.001)*($B$28/100))*$B33),"0")))))))*1.658 -> 1.658 | G33: =IF(G$27="%w/w SAR",((G$28*10)*$B33),IF(G$27="%w/w DM",(((G$28*10)*($B$28/100))*$B33),IF(G$27="kg/t SAR",(G$28*$B33),IF(G$27="kg/t DM",((G$28*($B$28/100))*$B33),IF(G$27="mg/kg SAR",((G$28*0.001)*$B33),IF(G$27="mg/kg DM",(((G$28*0.001)*($B$28/100))*$B33),0)))))) -> 0.02 | H33: =IF(H$27="%w/w SAR",((H$28*10)*$B33),IF(H$27="%w/w DM",(((H$28*10)*($B$28/100))*$B33),IF(H$27="kg/t SAR",(H$28*$B33),IF(H$27="kg/t DM",((H$28*($B$28/100))*$B33),IF(H$27="mg/kg SAR",((H$28*0.001)*$B33),IF(H$27="mg/kg DM",(((H$28*0.001)*($B$28/100))*$B33),0)))))) -> 0.05 | I33: =IF(I$27="%w/w SAR",((I$28*10)*$B33),IF(I$27="%w/w DM",(((I$28*10)*($B$28/100))*$B33),IF(I$27="kg/t SAR",(I$28*$B33),IF(I$27="kg/t DM",((I$28*($B$28/100))*$B33),IF(I$27="mg/kg SAR",((I$28*0.001)*$B33),IF(I$27="mg/kg DM",(((I$28*0.001)*($B$28/100))*$B33),0)))))) -> 0.05 | J33: =IF(J$27="%w/w SAR",((J$28*10)*$B33),IF(J$27="%w/w DM",(((J$28*10)*($B$28/100))*$B33),IF(J$27="kg/t SAR",(J$28*$B33),IF(J$27="kg/t DM",((J$28*($B$28/100))*$B33),IF(J$27="mg/kg SAR",((J$28*0.001)*$B33),IF(J$27="mg/kg DM",(((J$28*0.001)*($B$28/100))*$B33),0)))))) -> 0.001 | K33: =IF(K$27="%w/w SAR",((K$28*10)*$B33),IF(K$27="%w/w DM",(((K$28*10)*($B$28/100))*$B33),IF(K$27="kg/t SAR",(K$28*$B33),IF(K$27="kg/t DM",((K$28*($B$28/100))*$B33),IF(K$27="mg/kg SAR",((K$28*0.001)*$B33),IF(K$27="mg/kg DM",(((K$28*0.001)*($B$28/100))*$B33),0)))))) -> 0.005 | L33: =IF(L$27="%w/w SAR",((L$28*10)*$B33),IF(L$27="%w/w DM",(((L$28*10)*($B$28/100))*$B33),IF(L$27="kg/t SAR",(L$28*$B33),IF(L$27="kg/t DM",((L$28*($B$28/100))*$B33),IF(L$27="mg/kg SAR",((L$28*0.001)*$B33),IF(L$27="mg/kg DM",(((L$28*0.001)*($B$28/100))*$B33),0)))))) -> 0.02 | M33: =IF(M$27="%w/w SAR",((M$28*10)*$B33),IF(M$27="%w/w DM",(((M$28*10)*($B$28/100))*$B33),IF(M$27="kg/t SAR",(M$28*$B33),IF(M$27="kg/t DM",((M$28*($B$28/100))*$B33),IF(M$27="mg/kg SAR",((M$28*0.001)*$B33),IF(M$27="mg/kg DM",(((M$28*0.001)*($B$28/100))*$B33),0)))))) -> 0.0253 | N33: =IF(N$27="%w/w SAR",((N$28*10)*$B33),IF(N$27="%w/w DM",(((N$28*10)*($B$28/100))*$B33),IF(N$27="kg/t SAR",(N$28*$B33),IF(N$27="kg/t DM",((N$28*($B$28/100))*$B33),IF(N$27="mg/kg SAR",((N$28*0.001)*$B33),IF(N$27="mg/kg DM",(((N$28*0.001)*($B$28/100))*$B33),0)))))) -> 0 | ... P33: =IF(P$27="%w/w SAR",((P$28*10)*$B33),IF(P$27="%w/w DM",(((P$28*10)*($B$28/100))*$B33),IF(P$27="kg/t SAR",(P$28*$B33),IF(P$27="kg/t DM",((P$28*($B$28/100))*$B33),IF(P$27="mg/kg SAR",((P$28*0.001)*$B33),IF(P$27="mg/kg DM",(((P$28*0.001)*($B$28/100))*$B33),0)))))) -> 32 | Q33: =(IF(Q$27="%w/w SAR",((Q$28*10)*$B33),IF(Q$27="%w/w DM",(((Q$28*10)*($B$28/100))*$B33),IF(Q$27="kg/t SAR",(Q$28*$B33),IF(Q$27="kg/t DM",((Q$28*($B$28/100))*$B33),IF(Q$27="mg/kg SAR",((Q$28*0.001)*$B33),IF(Q$27="mg/kg DM",(((Q$28*0.001)*($B$28/100))*$B33),0)))))))*2.5 -> 17.5 | R33: =IF(R$27="%w/w SAR",((R$28*10)*$B33),IF(R$27="%w/w DM",(((R$28*10)*($B$28/100))*$B33),IF(R$27="kg/t SAR",(R$28*$B33),IF(R$27="kg/t DM",((R$28*($B$28/100))*$B33),IF(R$27="mg/kg SAR",((R$28*0.001)*$B33),IF(R$27="mg/kg DM",(((R$28*0.001)*($B$28/100))*$B33),0)))))) -> 0 | S33: =IF(S$27="%w/w SAR",((S$28*10)*$B33),IF(S$27="%w/w DM",(((S$28*10)*($B$28/100))*$B33),IF(S$27="kg/t SAR",(S$28*$B33),IF(S$27="kg/t DM",((S$28*($B$28/100))*$B33),IF(S$27="mg/kg SAR",((S$28*0.001)*$B33),IF(S$27="mg/kg DM",(((S$28*0.001)*($B$28/100))*$B33),0)))))) -> 0.05 | T33: =IF(T$27="%w/w SAR",((T$28*10)*$B33),IF(T$27="%w/w DM",(((T$28*10)*($B$28/100))*$B33),IF(T$27="kg/t SAR",(T$28*$B33),IF(T$27="kg/t DM",((T$28*($B$28/100))*$B33),IF(T$27="mg/kg SAR",((T$28*0.001)*$B33),IF(T$27="mg/kg DM",(((T$28*0.001)*($B$28/100))*$B33),0)))))) -> 0 | U33: =IF(U$27="%w/w SAR",((U$28*10)*$B33),IF(U$27="%w/w DM",(((U$28*10)*($B$28/100))*$B33),IF(U$27="kg/t SAR",(U$28*$B33),IF(U$27="kg/t DM",((U$28*($B$28/100))*$B33),IF(U$27="mg/kg SAR",((U$28*0.001)*$B33),IF(U$27="mg/kg DM",(((U$28*0.001)*($B$28/100))*$B33),0)))))) -> 0
A34: =F8 -> T4 | B34: 100 | C34: =IF(C$27="%w/w SAR",((C$28*10)*$B34),IF(C$27="%w/w DM",(((C$28*10)*($B$28/100))*$B34),IF(C$27="kg/t SAR",(C$28*$B34),IF(C$27="kg/t DM",((C$28*($B$28/100))*$B34),IF(C$27="mg/kg SAR",((C$28*0.001)*$B34),IF(C$27="mg/kg DM",(((C$28*0.001)*($B$28/100))*$B34),0)))))) -> 130 | D34: =(IF(D$27="%w/w SAR",((D$28*10)*$B34),IF(D$27="%w/w DM",(((D$28*10)*($B$28/100))*$B34),IF(D$27="kg/t SAR",(D$28*$B34),IF(D$27="kg/t DM",((D$28*($B$28/100))*$B34),IF(D$27="mg/kg SAR",((D$28*0.001)*$B34),IF(D$27="mg/kg DM",(((D$28*0.001)*($B$28/100))*$B34),"0")))))))*2.291 -> 98.513 | E34: =(IF(E$27="%w/w SAR",((E$28*10)*$B34),IF(E$27="%w/w DM",(((E$28*10)*($B$28/100))*$B34),IF(E$27="kg/t SAR",(E$28*$B34),IF(E$27="kg/t DM",((E$28*($B$28/100))*$B34),IF(E$27="mg/kg SAR",((E$28*0.001)*$B34),IF(E$27="mg/kg DM",(((E$28*0.001)*($B$28/100))*$B34),"0")))))))*1.205 -> 7.23 | F34: =(IF(F$27="%w/w SAR",((F$28*10)*$B34),IF(F$27="%w/w DM",(((F$28*10)*($B$28/100))*$B34),IF(F$27="kg/t SAR",(F$28*$B34),IF(F$27="kg/t DM",((F$28*($B$28/100))*$B34),IF(F$27="mg/kg SAR",((F$28*0.001)*$B34),IF(F$27="mg/kg DM",(((F$28*0.001)*($B$28/100))*$B34),"0")))))))*1.658 -> 1.658 | G34: =IF(G$27="%w/w SAR",((G$28*10)*$B34),IF(G$27="%w/w DM",(((G$28*10)*($B$28/100))*$B34),IF(G$27="kg/t SAR",(G$28*$B34),IF(G$27="kg/t DM",((G$28*($B$28/100))*$B34),IF(G$27="mg/kg SAR",((G$28*0.001)*$B34),IF(G$27="mg/kg DM",(((G$28*0.001)*($B$28/100))*$B34),0)))))) -> 0.02 | H34: =IF(H$27="%w/w SAR",((H$28*10)*$B34),IF(H$27="%w/w DM",(((H$28*10)*($B$28/100))*$B34),IF(H$27="kg/t SAR",(H$28*$B34),IF(H$27="kg/t DM",((H$28*($B$28/100))*$B34),IF(H$27="mg/kg SAR",((H$28*0.001)*$B34),IF(H$27="mg/kg DM",(((H$28*0.001)*($B$28/100))*$B34),0)))))) -> 0.05 | I34: =IF(I$27="%w/w SAR",((I$28*10)*$B34),IF(I$27="%w/w DM",(((I$28*10)*($B$28/100))*$B34),IF(I$27="kg/t SAR",(I$28*$B34),IF(I$27="kg/t DM",((I$28*($B$28/100))*$B34),IF(I$27="mg/kg SAR",((I$28*0.001)*$B34),IF(I$27="mg/kg DM",(((I$28*0.001)*($B$28/100))*$B34),0)))))) -> 0.05 | J34: =IF(J$27="%w/w SAR",((J$28*10)*$B34),IF(J$27="%w/w DM",(((J$28*10)*($B$28/100))*$B34),IF(J$27="kg/t SAR",(J$28*$B34),IF(J$27="kg/t DM",((J$28*($B$28/100))*$B34),IF(J$27="mg/kg SAR",((J$28*0.001)*$B34),IF(J$27="mg/kg DM",(((J$28*0.001)*($B$28/100))*$B34),0)))))) -> 0.001 | K34: =IF(K$27="%w/w SAR",((K$28*10)*$B34),IF(K$27="%w/w DM",(((K$28*10)*($B$28/100))*$B34),IF(K$27="kg/t SAR",(K$28*$B34),IF(K$27="kg/t DM",((K$28*($B$28/100))*$B34),IF(K$27="mg/kg SAR",((K$28*0.001)*$B34),IF(K$27="mg/kg DM",(((K$28*0.001)*($B$28/100))*$B34),0)))))) -> 0.005 | L34: =IF(L$27="%w/w SAR",((L$28*10)*$B34),IF(L$27="%w/w DM",(((L$28*10)*($B$28/100))*$B34),IF(L$27="kg/t SAR",(L$28*$B34),IF(L$27="kg/t DM",((L$28*($B$28/100))*$B34),IF(L$27="mg/kg SAR",((L$28*0.001)*$B34),IF(L$27="mg/kg DM",(((L$28*0.001)*($B$28/100))*$B34),0)))))) -> 0.02 | M34: =IF(M$27="%w/w SAR",((M$28*10)*$B34),IF(M$27="%w/w DM",(((M$28*10)*($B$28/100))*$B34),IF(M$27="kg/t SAR",(M$28*$B34),IF(M$27="kg/t DM",((M$28*($B$28/100))*$B34),IF(M$27="mg/kg SAR",((M$28*0.001)*$B34),IF(M$27="mg/kg DM",(((M$28*0.001)*($B$28/100))*$B34),0)))))) -> 0.0253 | N34: =IF(N$27="%w/w SAR",((N$28*10)*$B34),IF(N$27="%w/w DM",(((N$28*10)*($B$28/100))*$B34),IF(N$27="kg/t SAR",(N$28*$B34),IF(N$27="kg/t DM",((N$28*($B$28/100))*$B34),IF(N$27="mg/kg SAR",((N$28*0.001)*$B34),IF(N$27="mg/kg DM",(((N$28*0.001)*($B$28/100))*$B34),0)))))) -> 0 | ... P34: =IF(P$27="%w/w SAR",((P$28*10)*$B34),IF(P$27="%w/w DM",(((P$28*10)*($B$28/100))*$B34),IF(P$27="kg/t SAR",(P$28*$B34),IF(P$27="kg/t DM",((P$28*($B$28/100))*$B34),IF(P$27="mg/kg SAR",((P$28*0.001)*$B34),IF(P$27="mg/kg DM",(((P$28*0.001)*($B$28/100))*$B34),0)))))) -> 32 | Q34: =(IF(Q$27="%w/w SAR",((Q$28*10)*$B34),IF(Q$27="%w/w DM",(((Q$28*10)*($B$28/100))*$B34),IF(Q$27="kg/t SAR",(Q$28*$B34),IF(Q$27="kg/t DM",((Q$28*($B$28/100))*$B34),IF(Q$27="mg/kg SAR",((Q$28*0.001)*$B34),IF(Q$27="mg/kg DM",(((Q$28*0.001)*($B$28/100))*$B34),0)))))))*2.5 -> 17.5 | R34: =IF(R$27="%w/w SAR",((R$28*10)*$B34),IF(R$27="%w/w DM",(((R$28*10)*($B$28/100))*$B34),IF(R$27="kg/t SAR",(R$28*$B34),IF(R$27="kg/t DM",((R$28*($B$28/100))*$B34),IF(R$27="mg/kg SAR",((R$28*0.001)*$B34),IF(R$27="mg/kg DM",(((R$28*0.001)*($B$28/100))*$B34),0)))))) -> 0 | S34: =IF(S$27="%w/w SAR",((S$28*10)*$B34),IF(S$27="%w/w DM",(((S$28*10)*($B$28/100))*$B34),IF(S$27="kg/t SAR",(S$28*$B34),IF(S$27="kg/t DM",((S$28*($B$28/100))*$B34),IF(S$27="mg/kg SAR",((S$28*0.001)*$B34),IF(S$27="mg/kg DM",(((S$28*0.001)*($B$28/100))*$B34),0)))))) -> 0.05 | T34: =IF(T$27="%w/w SAR",((T$28*10)*$B34),IF(T$27="%w/w DM",(((T$28*10)*($B$28/100))*$B34),IF(T$27="kg/t SAR",(T$28*$B34),IF(T$27="kg/t DM",((T$28*($B$28/100))*$B34),IF(T$27="mg/kg SAR",((T$28*0.001)*$B34),IF(T$27="mg/kg DM",(((T$28*0.001)*($B$28/100))*$B34),0)))))) -> 0 | U34: =IF(U$27="%w/w SAR",((U$28*10)*$B34),IF(U$27="%w/w DM",(((U$28*10)*($B$28/100))*$B34),IF(U$27="kg/t SAR",(U$28*$B34),IF(U$27="kg/t DM",((U$28*($B$28/100))*$B34),IF(U$27="mg/kg SAR",((U$28*0.001)*$B34),IF(U$27="mg/kg DM",(((U$28*0.001)*($B$28/100))*$B34),0)))))) -> 0
A35: =G8 -> T5 | B35: 100 | C35: =IF(C$27="%w/w SAR",((C$28*10)*$B35),IF(C$27="%w/w DM",(((C$28*10)*($B$28/100))*$B35),IF(C$27="kg/t SAR",(C$28*$B35),IF(C$27="kg/t DM",((C$28*($B$28/100))*$B35),IF(C$27="mg/kg SAR",((C$28*0.001)*$B35),IF(C$27="mg/kg DM",(((C$28*0.001)*($B$28/100))*$B35),0)))))) -> 130 | D35: =(IF(D$27="%w/w SAR",((D$28*10)*$B35),IF(D$27="%w/w DM",(((D$28*10)*($B$28/100))*$B35),IF(D$27="kg/t SAR",(D$28*$B35),IF(D$27="kg/t DM",((D$28*($B$28/100))*$B35),IF(D$27="mg/kg SAR",((D$28*0.001)*$B35),IF(D$27="mg/kg DM",(((D$28*0.001)*($B$28/100))*$B35),"0")))))))*2.291 -> 98.513 | E35: =(IF(E$27="%w/w SAR",((E$28*10)*$B35),IF(E$27="%w/w DM",(((E$28*10)*($B$28/100))*$B35),IF(E$27="kg/t SAR",(E$28*$B35),IF(E$27="kg/t DM",((E$28*($B$28/100))*$B35),IF(E$27="mg/kg SAR",((E$28*0.001)*$B35),IF(E$27="mg/kg DM",(((E$28*0.001)*($B$28/100))*$B35),"0")))))))*1.205 -> 7.23 | F35: =(IF(F$27="%w/w SAR",((F$28*10)*$B35),IF(F$27="%w/w DM",(((F$28*10)*($B$28/100))*$B35),IF(F$27="kg/t SAR",(F$28*$B35),IF(F$27="kg/t DM",((F$28*($B$28/100))*$B35),IF(F$27="mg/kg SAR",((F$28*0.001)*$B35),IF(F$27="mg/kg DM",(((F$28*0.001)*($B$28/100))*$B35),"0")))))))*1.658 -> 1.658 | G35: =IF(G$27="%w/w SAR",((G$28*10)*$B35),IF(G$27="%w/w DM",(((G$28*10)*($B$28/100))*$B35),IF(G$27="kg/t SAR",(G$28*$B35),IF(G$27="kg/t DM",((G$28*($B$28/100))*$B35),IF(G$27="mg/kg SAR",((G$28*0.001)*$B35),IF(G$27="mg/kg DM",(((G$28*0.001)*($B$28/100))*$B35),0)))))) -> 0.02 | H35: =IF(H$27="%w/w SAR",((H$28*10)*$B35),IF(H$27="%w/w DM",(((H$28*10)*($B$28/100))*$B35),IF(H$27="kg/t SAR",(H$28*$B35),IF(H$27="kg/t DM",((H$28*($B$28/100))*$B35),IF(H$27="mg/kg SAR",((H$28*0.001)*$B35),IF(H$27="mg/kg DM",(((H$28*0.001)*($B$28/100))*$B35),0)))))) -> 0.05 | I35: =IF(I$27="%w/w SAR",((I$28*10)*$B35),IF(I$27="%w/w DM",(((I$28*10)*($B$28/100))*$B35),IF(I$27="kg/t SAR",(I$28*$B35),IF(I$27="kg/t DM",((I$28*($B$28/100))*$B35),IF(I$27="mg/kg SAR",((I$28*0.001)*$B35),IF(I$27="mg/kg DM",(((I$28*0.001)*($B$28/100))*$B35),0)))))) -> 0.05 | J35: =IF(J$27="%w/w SAR",((J$28*10)*$B35),IF(J$27="%w/w DM",(((J$28*10)*($B$28/100))*$B35),IF(J$27="kg/t SAR",(J$28*$B35),IF(J$27="kg/t DM",((J$28*($B$28/100))*$B35),IF(J$27="mg/kg SAR",((J$28*0.001)*$B35),IF(J$27="mg/kg DM",(((J$28*0.001)*($B$28/100))*$B35),0)))))) -> 0.001 | K35: =IF(K$27="%w/w SAR",((K$28*10)*$B35),IF(K$27="%w/w DM",(((K$28*10)*($B$28/100))*$B35),IF(K$27="kg/t SAR",(K$28*$B35),IF(K$27="kg/t DM",((K$28*($B$28/100))*$B35),IF(K$27="mg/kg SAR",((K$28*0.001)*$B35),IF(K$27="mg/kg DM",(((K$28*0.001)*($B$28/100))*$B35),0)))))) -> 0.005 | L35: =IF(L$27="%w/w SAR",((L$28*10)*$B35),IF(L$27="%w/w DM",(((L$28*10)*($B$28/100))*$B35),IF(L$27="kg/t SAR",(L$28*$B35),IF(L$27="kg/t DM",((L$28*($B$28/100))*$B35),IF(L$27="mg/kg SAR",((L$28*0.001)*$B35),IF(L$27="mg/kg DM",(((L$28*0.001)*($B$28/100))*$B35),0)))))) -> 0.02 | M35: =IF(M$27="%w/w SAR",((M$28*10)*$B35),IF(M$27="%w/w DM",(((M$28*10)*($B$28/100))*$B35),IF(M$27="kg/t SAR",(M$28*$B35),IF(M$27="kg/t DM",((M$28*($B$28/100))*$B35),IF(M$27="mg/kg SAR",((M$28*0.001)*$B35),IF(M$27="mg/kg DM",(((M$28*0.001)*($B$28/100))*$B35),0)))))) -> 0.0253 | N35: =IF(N$27="%w/w SAR",((N$28*10)*$B35),IF(N$27="%w/w DM",(((N$28*10)*($B$28/100))*$B35),IF(N$27="kg/t SAR",(N$28*$B35),IF(N$27="kg/t DM",((N$28*($B$28/100))*$B35),IF(N$27="mg/kg SAR",((N$28*0.001)*$B35),IF(N$27="mg/kg DM",(((N$28*0.001)*($B$28/100))*$B35),0)))))) -> 0 | ... P35: =IF(P$27="%w/w SAR",((P$28*10)*$B35),IF(P$27="%w/w DM",(((P$28*10)*($B$28/100))*$B35),IF(P$27="kg/t SAR",(P$28*$B35),IF(P$27="kg/t DM",((P$28*($B$28/100))*$B35),IF(P$27="mg/kg SAR",((P$28*0.001)*$B35),IF(P$27="mg/kg DM",(((P$28*0.001)*($B$28/100))*$B35),0)))))) -> 32 | Q35: =(IF(Q$27="%w/w SAR",((Q$28*10)*$B35),IF(Q$27="%w/w DM",(((Q$28*10)*($B$28/100))*$B35),IF(Q$27="kg/t SAR",(Q$28*$B35),IF(Q$27="kg/t DM",((Q$28*($B$28/100))*$B35),IF(Q$27="mg/kg SAR",((Q$28*0.001)*$B35),IF(Q$27="mg/kg DM",(((Q$28*0.001)*($B$28/100))*$B35),0)))))))*2.5 -> 17.5 | R35: =IF(R$27="%w/w SAR",((R$28*10)*$B35),IF(R$27="%w/w DM",(((R$28*10)*($B$28/100))*$B35),IF(R$27="kg/t SAR",(R$28*$B35),IF(R$27="kg/t DM",((R$28*($B$28/100))*$B35),IF(R$27="mg/kg SAR",((R$28*0.001)*$B35),IF(R$27="mg/kg DM",(((R$28*0.001)*($B$28/100))*$B35),0)))))) -> 0 | S35: =IF(S$27="%w/w SAR",((S$28*10)*$B35),IF(S$27="%w/w DM",(((S$28*10)*($B$28/100))*$B35),IF(S$27="kg/t SAR",(S$28*$B35),IF(S$27="kg/t DM",((S$28*($B$28/100))*$B35),IF(S$27="mg/kg SAR",((S$28*0.001)*$B35),IF(S$27="mg/kg DM",(((S$28*0.001)*($B$28/100))*$B35),0)))))) -> 0.05 | T35: =IF(T$27="%w/w SAR",((T$28*10)*$B35),IF(T$27="%w/w DM",(((T$28*10)*($B$28/100))*$B35),IF(T$27="kg/t SAR",(T$28*$B35),IF(T$27="kg/t DM",((T$28*($B$28/100))*$B35),IF(T$27="mg/kg SAR",((T$28*0.001)*$B35),IF(T$27="mg/kg DM",(((T$28*0.001)*($B$28/100))*$B35),0)))))) -> 0 | U35: =IF(U$27="%w/w SAR",((U$28*10)*$B35),IF(U$27="%w/w DM",(((U$28*10)*($B$28/100))*$B35),IF(U$27="kg/t SAR",(U$28*$B35),IF(U$27="kg/t DM",((U$28*($B$28/100))*$B35),IF(U$27="mg/kg SAR",((U$28*0.001)*$B35),IF(U$27="mg/kg DM",(((U$28*0.001)*($B$28/100))*$B35),0)))))) -> 0
A36: =H8 -> T6 | B36: 45 | C36: =IF(C$27="%w/w SAR",((C$28*10)*$B36),IF(C$27="%w/w DM",(((C$28*10)*($B$28/100))*$B36),IF(C$27="kg/t SAR",(C$28*$B36),IF(C$27="kg/t DM",((C$28*($B$28/100))*$B36),IF(C$27="mg/kg SAR",((C$28*0.001)*$B36),IF(C$27="mg/kg DM",(((C$28*0.001)*($B$28/100))*$B36),0)))))) -> 58.5 | D36: =(IF(D$27="%w/w SAR",((D$28*10)*$B36),IF(D$27="%w/w DM",(((D$28*10)*($B$28/100))*$B36),IF(D$27="kg/t SAR",(D$28*$B36),IF(D$27="kg/t DM",((D$28*($B$28/100))*$B36),IF(D$27="mg/kg SAR",((D$28*0.001)*$B36),IF(D$27="mg/kg DM",(((D$28*0.001)*($B$28/100))*$B36),"0")))))))*2.291 -> 44.33085 | E36: =(IF(E$27="%w/w SAR",((E$28*10)*$B36),IF(E$27="%w/w DM",(((E$28*10)*($B$28/100))*$B36),IF(E$27="kg/t SAR",(E$28*$B36),IF(E$27="kg/t DM",((E$28*($B$28/100))*$B36),IF(E$27="mg/kg SAR",((E$28*0.001)*$B36),IF(E$27="mg/kg DM",(((E$28*0.001)*($B$28/100))*$B36),"0")))))))*1.205 -> 3.2535 | F36: =(IF(F$27="%w/w SAR",((F$28*10)*$B36),IF(F$27="%w/w DM",(((F$28*10)*($B$28/100))*$B36),IF(F$27="kg/t SAR",(F$28*$B36),IF(F$27="kg/t DM",((F$28*($B$28/100))*$B36),IF(F$27="mg/kg SAR",((F$28*0.001)*$B36),IF(F$27="mg/kg DM",(((F$28*0.001)*($B$28/100))*$B36),"0")))))))*1.658 -> 0.7461 | G36: =IF(G$27="%w/w SAR",((G$28*10)*$B36),IF(G$27="%w/w DM",(((G$28*10)*($B$28/100))*$B36),IF(G$27="kg/t SAR",(G$28*$B36),IF(G$27="kg/t DM",((G$28*($B$28/100))*$B36),IF(G$27="mg/kg SAR",((G$28*0.001)*$B36),IF(G$27="mg/kg DM",(((G$28*0.001)*($B$28/100))*$B36),0)))))) -> 0.009 | H36: =IF(H$27="%w/w SAR",((H$28*10)*$B36),IF(H$27="%w/w DM",(((H$28*10)*($B$28/100))*$B36),IF(H$27="kg/t SAR",(H$28*$B36),IF(H$27="kg/t DM",((H$28*($B$28/100))*$B36),IF(H$27="mg/kg SAR",((H$28*0.001)*$B36),IF(H$27="mg/kg DM",(((H$28*0.001)*($B$28/100))*$B36),0)))))) -> 0.0225 | I36: =IF(I$27="%w/w SAR",((I$28*10)*$B36),IF(I$27="%w/w DM",(((I$28*10)*($B$28/100))*$B36),IF(I$27="kg/t SAR",(I$28*$B36),IF(I$27="kg/t DM",((I$28*($B$28/100))*$B36),IF(I$27="mg/kg SAR",((I$28*0.001)*$B36),IF(I$27="mg/kg DM",(((I$28*0.001)*($B$28/100))*$B36),0)))))) -> 0.0225 | J36: =IF(J$27="%w/w SAR",((J$28*10)*$B36),IF(J$27="%w/w DM",(((J$28*10)*($B$28/100))*$B36),IF(J$27="kg/t SAR",(J$28*$B36),IF(J$27="kg/t DM",((J$28*($B$28/100))*$B36),IF(J$27="mg/kg SAR",((J$28*0.001)*$B36),IF(J$27="mg/kg DM",(((J$28*0.001)*($B$28/100))*$B36),0)))))) -> 0.00045 | K36: =IF(K$27="%w/w SAR",((K$28*10)*$B36),IF(K$27="%w/w DM",(((K$28*10)*($B$28/100))*$B36),IF(K$27="kg/t SAR",(K$28*$B36),IF(K$27="kg/t DM",((K$28*($B$28/100))*$B36),IF(K$27="mg/kg SAR",((K$28*0.001)*$B36),IF(K$27="mg/kg DM",(((K$28*0.001)*($B$28/100))*$B36),0)))))) -> 0.00225 | L36: =IF(L$27="%w/w SAR",((L$28*10)*$B36),IF(L$27="%w/w DM",(((L$28*10)*($B$28/100))*$B36),IF(L$27="kg/t SAR",(L$28*$B36),IF(L$27="kg/t DM",((L$28*($B$28/100))*$B36),IF(L$27="mg/kg SAR",((L$28*0.001)*$B36),IF(L$27="mg/kg DM",(((L$28*0.001)*($B$28/100))*$B36),0)))))) -> 0.009 | M36: =IF(M$27="%w/w SAR",((M$28*10)*$B36),IF(M$27="%w/w DM",(((M$28*10)*($B$28/100))*$B36),IF(M$27="kg/t SAR",(M$28*$B36),IF(M$27="kg/t DM",((M$28*($B$28/100))*$B36),IF(M$27="mg/kg SAR",((M$28*0.001)*$B36),IF(M$27="mg/kg DM",(((M$28*0.001)*($B$28/100))*$B36),0)))))) -> 0.011385 | N36: =IF(N$27="%w/w SAR",((N$28*10)*$B36),IF(N$27="%w/w DM",(((N$28*10)*($B$28/100))*$B36),IF(N$27="kg/t SAR",(N$28*$B36),IF(N$27="kg/t DM",((N$28*($B$28/100))*$B36),IF(N$27="mg/kg SAR",((N$28*0.001)*$B36),IF(N$27="mg/kg DM",(((N$28*0.001)*($B$28/100))*$B36),0)))))) -> 0 | ... P36: =IF(P$27="%w/w SAR",((P$28*10)*$B36),IF(P$27="%w/w DM",(((P$28*10)*($B$28/100))*$B36),IF(P$27="kg/t SAR",(P$28*$B36),IF(P$27="kg/t DM",((P$28*($B$28/100))*$B36),IF(P$27="mg/kg SAR",((P$28*0.001)*$B36),IF(P$27="mg/kg DM",(((P$28*0.001)*($B$28/100))*$B36),0)))))) -> 14.4 | Q36: =(IF(Q$27="%w/w SAR",((Q$28*10)*$B36),IF(Q$27="%w/w DM",(((Q$28*10)*($B$28/100))*$B36),IF(Q$27="kg/t SAR",(Q$28*$B36),IF(Q$27="kg/t DM",((Q$28*($B$28/100))*$B36),IF(Q$27="mg/kg SAR",((Q$28*0.001)*$B36),IF(Q$27="mg/kg DM",(((Q$28*0.001)*($B$28/100))*$B36),0)))))))*2.5 -> 7.875 | R36: =IF(R$27="%w/w SAR",((R$28*10)*$B36),IF(R$27="%w/w DM",(((R$28*10)*($B$28/100))*$B36),IF(R$27="kg/t SAR",(R$28*$B36),IF(R$27="kg/t DM",((R$28*($B$28/100))*$B36),IF(R$27="mg/kg SAR",((R$28*0.001)*$B36),IF(R$27="mg/kg DM",(((R$28*0.001)*($B$28/100))*$B36),0)))))) -> 0 | S36: =IF(S$27="%w/w SAR",((S$28*10)*$B36),IF(S$27="%w/w DM",(((S$28*10)*($B$28/100))*$B36),IF(S$27="kg/t SAR",(S$28*$B36),IF(S$27="kg/t DM",((S$28*($B$28/100))*$B36),IF(S$27="mg/kg SAR",((S$28*0.001)*$B36),IF(S$27="mg/kg DM",(((S$28*0.001)*($B$28/100))*$B36),0)))))) -> 0.0225 | T36: =IF(T$27="%w/w SAR",((T$28*10)*$B36),IF(T$27="%w/w DM",(((T$28*10)*($B$28/100))*$B36),IF(T$27="kg/t SAR",(T$28*$B36),IF(T$27="kg/t DM",((T$28*($B$28/100))*$B36),IF(T$27="mg/kg SAR",((T$28*0.001)*$B36),IF(T$27="mg/kg DM",(((T$28*0.001)*($B$28/100))*$B36),0)))))) -> 0 | U36: =IF(U$27="%w/w SAR",((U$28*10)*$B36),IF(U$27="%w/w DM",(((U$28*10)*($B$28/100))*$B36),IF(U$27="kg/t SAR",(U$28*$B36),IF(U$27="kg/t DM",((U$28*($B$28/100))*$B36),IF(U$27="mg/kg SAR",((U$28*0.001)*$B36),IF(U$27="mg/kg DM",(((U$28*0.001)*($B$28/100))*$B36),0)))))) -> 0
A37: =I8 -> T7 | B37: 100 | C37: =IF(C$27="%w/w SAR",((C$28*10)*$B37),IF(C$27="%w/w DM",(((C$28*10)*($B$28/100))*$B37),IF(C$27="kg/t SAR",(C$28*$B37),IF(C$27="kg/t DM",((C$28*($B$28/100))*$B37),IF(C$27="mg/kg SAR",((C$28*0.001)*$B37),IF(C$27="mg/kg DM",(((C$28*0.001)*($B$28/100))*$B37),0)))))) -> 130 | D37: =(IF(D$27="%w/w SAR",((D$28*10)*$B37),IF(D$27="%w/w DM",(((D$28*10)*($B$28/100))*$B37),IF(D$27="kg/t SAR",(D$28*$B37),IF(D$27="kg/t DM",((D$28*($B$28/100))*$B37),IF(D$27="mg/kg SAR",((D$28*0.001)*$B37),IF(D$27="mg/kg DM",(((D$28*0.001)*($B$28/100))*$B37),"0")))))))*2.291 -> 98.513 | E37: =(IF(E$27="%w/w SAR",((E$28*10)*$B37),IF(E$27="%w/w DM",(((E$28*10)*($B$28/100))*$B37),IF(E$27="kg/t SAR",(E$28*$B37),IF(E$27="kg/t DM",((E$28*($B$28/100))*$B37),IF(E$27="mg/kg SAR",((E$28*0.001)*$B37),IF(E$27="mg/kg DM",(((E$28*0.001)*($B$28/100))*$B37),"0")))))))*1.205 -> 7.23 | F37: =(IF(F$27="%w/w SAR",((F$28*10)*$B37),IF(F$27="%w/w DM",(((F$28*10)*($B$28/100))*$B37),IF(F$27="kg/t SAR",(F$28*$B37),IF(F$27="kg/t DM",((F$28*($B$28/100))*$B37),IF(F$27="mg/kg SAR",((F$28*0.001)*$B37),IF(F$27="mg/kg DM",(((F$28*0.001)*($B$28/100))*$B37),"0")))))))*1.658 -> 1.658 | G37: =IF(G$27="%w/w SAR",((G$28*10)*$B37),IF(G$27="%w/w DM",(((G$28*10)*($B$28/100))*$B37),IF(G$27="kg/t SAR",(G$28*$B37),IF(G$27="kg/t DM",((G$28*($B$28/100))*$B37),IF(G$27="mg/kg SAR",((G$28*0.001)*$B37),IF(G$27="mg/kg DM",(((G$28*0.001)*($B$28/100))*$B37),0)))))) -> 0.02 | H37: =IF(H$27="%w/w SAR",((H$28*10)*$B37),IF(H$27="%w/w DM",(((H$28*10)*($B$28/100))*$B37),IF(H$27="kg/t SAR",(H$28*$B37),IF(H$27="kg/t DM",((H$28*($B$28/100))*$B37),IF(H$27="mg/kg SAR",((H$28*0.001)*$B37),IF(H$27="mg/kg DM",(((H$28*0.001)*($B$28/100))*$B37),0)))))) -> 0.05 | I37: =IF(I$27="%w/w SAR",((I$28*10)*$B37),IF(I$27="%w/w DM",(((I$28*10)*($B$28/100))*$B37),IF(I$27="kg/t SAR",(I$28*$B37),IF(I$27="kg/t DM",((I$28*($B$28/100))*$B37),IF(I$27="mg/kg SAR",((I$28*0.001)*$B37),IF(I$27="mg/kg DM",(((I$28*0.001)*($B$28/100))*$B37),0)))))) -> 0.05 | J37: =IF(J$27="%w/w SAR",((J$28*10)*$B37),IF(J$27="%w/w DM",(((J$28*10)*($B$28/100))*$B37),IF(J$27="kg/t SAR",(J$28*$B37),IF(J$27="kg/t DM",((J$28*($B$28/100))*$B37),IF(J$27="mg/kg SAR",((J$28*0.001)*$B37),IF(J$27="mg/kg DM",(((J$28*0.001)*($B$28/100))*$B37),0)))))) -> 0.001 | K37: =IF(K$27="%w/w SAR",((K$28*10)*$B37),IF(K$27="%w/w DM",(((K$28*10)*($B$28/100))*$B37),IF(K$27="kg/t SAR",(K$28*$B37),IF(K$27="kg/t DM",((K$28*($B$28/100))*$B37),IF(K$27="mg/kg SAR",((K$28*0.001)*$B37),IF(K$27="mg/kg DM",(((K$28*0.001)*($B$28/100))*$B37),0)))))) -> 0.005 | L37: =IF(L$27="%w/w SAR",((L$28*10)*$B37),IF(L$27="%w/w DM",(((L$28*10)*($B$28/100))*$B37),IF(L$27="kg/t SAR",(L$28*$B37),IF(L$27="kg/t DM",((L$28*($B$28/100))*$B37),IF(L$27="mg/kg SAR",((L$28*0.001)*$B37),IF(L$27="mg/kg DM",(((L$28*0.001)*($B$28/100))*$B37),0)))))) -> 0.02 | M37: =IF(M$27="%w/w SAR",((M$28*10)*$B37),IF(M$27="%w/w DM",(((M$28*10)*($B$28/100))*$B37),IF(M$27="kg/t SAR",(M$28*$B37),IF(M$27="kg/t DM",((M$28*($B$28/100))*$B37),IF(M$27="mg/kg SAR",((M$28*0.001)*$B37),IF(M$27="mg/kg DM",(((M$28*0.001)*($B$28/100))*$B37),0)))))) -> 0.0253 | N37: =IF(N$27="%w/w SAR",((N$28*10)*$B37),IF(N$27="%w/w DM",(((N$28*10)*($B$28/100))*$B37),IF(N$27="kg/t SAR",(N$28*$B37),IF(N$27="kg/t DM",((N$28*($B$28/100))*$B37),IF(N$27="mg/kg SAR",((N$28*0.001)*$B37),IF(N$27="mg/kg DM",(((N$28*0.001)*($B$28/100))*$B37),0)))))) -> 0 | ... P37: =IF(P$27="%w/w SAR",((P$28*10)*$B37),IF(P$27="%w/w DM",(((P$28*10)*($B$28/100))*$B37),IF(P$27="kg/t SAR",(P$28*$B37),IF(P$27="kg/t DM",((P$28*($B$28/100))*$B37),IF(P$27="mg/kg SAR",((P$28*0.001)*$B37),IF(P$27="mg/kg DM",(((P$28*0.001)*($B$28/100))*$B37),0)))))) -> 32 | Q37: =(IF(Q$27="%w/w SAR",((Q$28*10)*$B37),IF(Q$27="%w/w DM",(((Q$28*10)*($B$28/100))*$B37),IF(Q$27="kg/t SAR",(Q$28*$B37),IF(Q$27="kg/t DM",((Q$28*($B$28/100))*$B37),IF(Q$27="mg/kg SAR",((Q$28*0.001)*$B37),IF(Q$27="mg/kg DM",(((Q$28*0.001)*($B$28/100))*$B37),0)))))))*2.5 -> 17.5 | R37: =IF(R$27="%w/w SAR",((R$28*10)*$B37),IF(R$27="%w/w DM",(((R$28*10)*($B$28/100))*$B37),IF(R$27="kg/t SAR",(R$28*$B37),IF(R$27="kg/t DM",((R$28*($B$28/100))*$B37),IF(R$27="mg/kg SAR",((R$28*0.001)*$B37),IF(R$27="mg/kg DM",(((R$28*0.001)*($B$28/100))*$B37),0)))))) -> 0 | S37: =IF(S$27="%w/w SAR",((S$28*10)*$B37),IF(S$27="%w/w DM",(((S$28*10)*($B$28/100))*$B37),IF(S$27="kg/t SAR",(S$28*$B37),IF(S$27="kg/t DM",((S$28*($B$28/100))*$B37),IF(S$27="mg/kg SAR",((S$28*0.001)*$B37),IF(S$27="mg/kg DM",(((S$28*0.001)*($B$28/100))*$B37),0)))))) -> 0.05 | T37: =IF(T$27="%w/w SAR",((T$28*10)*$B37),IF(T$27="%w/w DM",(((T$28*10)*($B$28/100))*$B37),IF(T$27="kg/t SAR",(T$28*$B37),IF(T$27="kg/t DM",((T$28*($B$28/100))*$B37),IF(T$27="mg/kg SAR",((T$28*0.001)*$B37),IF(T$27="mg/kg DM",(((T$28*0.001)*($B$28/100))*$B37),0)))))) -> 0 | U37: =IF(U$27="%w/w SAR",((U$28*10)*$B37),IF(U$27="%w/w DM",(((U$28*10)*($B$28/100))*$B37),IF(U$27="kg/t SAR",(U$28*$B37),IF(U$27="kg/t DM",((U$28*($B$28/100))*$B37),IF(U$27="mg/kg SAR",((U$28*0.001)*$B37),IF(U$27="mg/kg DM",(((U$28*0.001)*($B$28/100))*$B37),0)))))) -> 0
A38: =J8 -> T8 | B38: 45 | C38: =IF(C$27="%w/w SAR",((C$28*10)*$B38),IF(C$27="%w/w DM",(((C$28*10)*($B$28/100))*$B38),IF(C$27="kg/t SAR",(C$28*$B38),IF(C$27="kg/t DM",((C$28*($B$28/100))*$B38),IF(C$27="mg/kg SAR",((C$28*0.001)*$B38),IF(C$27="mg/kg DM",(((C$28*0.001)*($B$28/100))*$B38),0)))))) -> 58.5 | D38: =(IF(D$27="%w/w SAR",((D$28*10)*$B38),IF(D$27="%w/w DM",(((D$28*10)*($B$28/100))*$B38),IF(D$27="kg/t SAR",(D$28*$B38),IF(D$27="kg/t DM",((D$28*($B$28/100))*$B38),IF(D$27="mg/kg SAR",((D$28*0.001)*$B38),IF(D$27="mg/kg DM",(((D$28*0.001)*($B$28/100))*$B38),"0")))))))*2.291 -> 44.33085 | E38: =(IF(E$27="%w/w SAR",((E$28*10)*$B38),IF(E$27="%w/w DM",(((E$28*10)*($B$28/100))*$B38),IF(E$27="kg/t SAR",(E$28*$B38),IF(E$27="kg/t DM",((E$28*($B$28/100))*$B38),IF(E$27="mg/kg SAR",((E$28*0.001)*$B38),IF(E$27="mg/kg DM",(((E$28*0.001)*($B$28/100))*$B38),"0")))))))*1.205 -> 3.2535 | F38: =(IF(F$27="%w/w SAR",((F$28*10)*$B38),IF(F$27="%w/w DM",(((F$28*10)*($B$28/100))*$B38),IF(F$27="kg/t SAR",(F$28*$B38),IF(F$27="kg/t DM",((F$28*($B$28/100))*$B38),IF(F$27="mg/kg SAR",((F$28*0.001)*$B38),IF(F$27="mg/kg DM",(((F$28*0.001)*($B$28/100))*$B38),"0")))))))*1.658 -> 0.7461 | G38: =IF(G$27="%w/w SAR",((G$28*10)*$B38),IF(G$27="%w/w DM",(((G$28*10)*($B$28/100))*$B38),IF(G$27="kg/t SAR",(G$28*$B38),IF(G$27="kg/t DM",((G$28*($B$28/100))*$B38),IF(G$27="mg/kg SAR",((G$28*0.001)*$B38),IF(G$27="mg/kg DM",(((G$28*0.001)*($B$28/100))*$B38),0)))))) -> 0.009 | H38: =IF(H$27="%w/w SAR",((H$28*10)*$B38),IF(H$27="%w/w DM",(((H$28*10)*($B$28/100))*$B38),IF(H$27="kg/t SAR",(H$28*$B38),IF(H$27="kg/t DM",((H$28*($B$28/100))*$B38),IF(H$27="mg/kg SAR",((H$28*0.001)*$B38),IF(H$27="mg/kg DM",(((H$28*0.001)*($B$28/100))*$B38),0)))))) -> 0.0225 | I38: =IF(I$27="%w/w SAR",((I$28*10)*$B38),IF(I$27="%w/w DM",(((I$28*10)*($B$28/100))*$B38),IF(I$27="kg/t SAR",(I$28*$B38),IF(I$27="kg/t DM",((I$28*($B$28/100))*$B38),IF(I$27="mg/kg SAR",((I$28*0.001)*$B38),IF(I$27="mg/kg DM",(((I$28*0.001)*($B$28/100))*$B38),0)))))) -> 0.0225 | J38: =IF(J$27="%w/w SAR",((J$28*10)*$B38),IF(J$27="%w/w DM",(((J$28*10)*($B$28/100))*$B38),IF(J$27="kg/t SAR",(J$28*$B38),IF(J$27="kg/t DM",((J$28*($B$28/100))*$B38),IF(J$27="mg/kg SAR",((J$28*0.001)*$B38),IF(J$27="mg/kg DM",(((J$28*0.001)*($B$28/100))*$B38),0)))))) -> 0.00045 | K38: =IF(K$27="%w/w SAR",((K$28*10)*$B38),IF(K$27="%w/w DM",(((K$28*10)*($B$28/100))*$B38),IF(K$27="kg/t SAR",(K$28*$B38),IF(K$27="kg/t DM",((K$28*($B$28/100))*$B38),IF(K$27="mg/kg SAR",((K$28*0.001)*$B38),IF(K$27="mg/kg DM",(((K$28*0.001)*($B$28/100))*$B38),0)))))) -> 0.00225 | L38: =IF(L$27="%w/w SAR",((L$28*10)*$B38),IF(L$27="%w/w DM",(((L$28*10)*($B$28/100))*$B38),IF(L$27="kg/t SAR",(L$28*$B38),IF(L$27="kg/t DM",((L$28*($B$28/100))*$B38),IF(L$27="mg/kg SAR",((L$28*0.001)*$B38),IF(L$27="mg/kg DM",(((L$28*0.001)*($B$28/100))*$B38),0)))))) -> 0.009 | M38: =IF(M$27="%w/w SAR",((M$28*10)*$B38),IF(M$27="%w/w DM",(((M$28*10)*($B$28/100))*$B38),IF(M$27="kg/t SAR",(M$28*$B38),IF(M$27="kg/t DM",((M$28*($B$28/100))*$B38),IF(M$27="mg/kg SAR",((M$28*0.001)*$B38),IF(M$27="mg/kg DM",(((M$28*0.001)*($B$28/100))*$B38),0)))))) -> 0.011385 | N38: =IF(N$27="%w/w SAR",((N$28*10)*$B38),IF(N$27="%w/w DM",(((N$28*10)*($B$28/100))*$B38),IF(N$27="kg/t SAR",(N$28*$B38),IF(N$27="kg/t DM",((N$28*($B$28/100))*$B38),IF(N$27="mg/kg SAR",((N$28*0.001)*$B38),IF(N$27="mg/kg DM",(((N$28*0.001)*($B$28/100))*$B38),0)))))) -> 0 | ... P38: =IF(P$27="%w/w SAR",((P$28*10)*$B38),IF(P$27="%w/w DM",(((P$28*10)*($B$28/100))*$B38),IF(P$27="kg/t SAR",(P$28*$B38),IF(P$27="kg/t DM",((P$28*($B$28/100))*$B38),IF(P$27="mg/kg SAR",((P$28*0.001)*$B38),IF(P$27="mg/kg DM",(((P$28*0.001)*($B$28/100))*$B38),0)))))) -> 14.4 | Q38: =(IF(Q$27="%w/w SAR",((Q$28*10)*$B38),IF(Q$27="%w/w DM",(((Q$28*10)*($B$28/100))*$B38),IF(Q$27="kg/t SAR",(Q$28*$B38),IF(Q$27="kg/t DM",((Q$28*($B$28/100))*$B38),IF(Q$27="mg/kg SAR",((Q$28*0.001)*$B38),IF(Q$27="mg/kg DM",(((Q$28*0.001)*($B$28/100))*$B38),0)))))))*2.5 -> 7.875 | R38: =IF(R$27="%w/w SAR",((R$28*10)*$B38),IF(R$27="%w/w DM",(((R$28*10)*($B$28/100))*$B38),IF(R$27="kg/t SAR",(R$28*$B38),IF(R$27="kg/t DM",((R$28*($B$28/100))*$B38),IF(R$27="mg/kg SAR",((R$28*0.001)*$B38),IF(R$27="mg/kg DM",(((R$28*0.001)*($B$28/100))*$B38),0)))))) -> 0 | S38: =IF(S$27="%w/w SAR",((S$28*10)*$B38),IF(S$27="%w/w DM",(((S$28*10)*($B$28/100))*$B38),IF(S$27="kg/t SAR",(S$28*$B38),IF(S$27="kg/t DM",((S$28*($B$28/100))*$B38),IF(S$27="mg/kg SAR",((S$28*0.001)*$B38),IF(S$27="mg/kg DM",(((S$28*0.001)*($B$28/100))*$B38),0)))))) -> 0.0225 | T38: =IF(T$27="%w/w SAR",((T$28*10)*$B38),IF(T$27="%w/w DM",(((T$28*10)*($B$28/100))*$B38),IF(T$27="kg/t SAR",(T$28*$B38),IF(T$27="kg/t DM",((T$28*($B$28/100))*$B38),IF(T$27="mg/kg SAR",((T$28*0.001)*$B38),IF(T$27="mg/kg DM",(((T$28*0.001)*($B$28/100))*$B38),0)))))) -> 0 | U38: =IF(U$27="%w/w SAR",((U$28*10)*$B38),IF(U$27="%w/w DM",(((U$28*10)*($B$28/100))*$B38),IF(U$27="kg/t SAR",(U$28*$B38),IF(U$27="kg/t DM",((U$28*($B$28/100))*$B38),IF(U$27="mg/kg SAR",((U$28*0.001)*$B38),IF(U$27="mg/kg DM",(((U$28*0.001)*($B$28/100))*$B38),0)))))) -> 0
A39: =K8 -> SJ1 | B39: 100 | C39: =IF(C$27="%w/w SAR",((C$28*10)*$B39),IF(C$27="%w/w DM",(((C$28*10)*($B$28/100))*$B39),IF(C$27="kg/t SAR",(C$28*$B39),IF(C$27="kg/t DM",((C$28*($B$28/100))*$B39),IF(C$27="mg/kg SAR",((C$28*0.001)*$B39),IF(C$27="mg/kg DM",(((C$28*0.001)*($B$28/100))*$B39),0)))))) -> 130 | D39: =(IF(D$27="%w/w SAR",((D$28*10)*$B39),IF(D$27="%w/w DM",(((D$28*10)*($B$28/100))*$B39),IF(D$27="kg/t SAR",(D$28*$B39),IF(D$27="kg/t DM",((D$28*($B$28/100))*$B39),IF(D$27="mg/kg SAR",((D$28*0.001)*$B39),IF(D$27="mg/kg DM",(((D$28*0.001)*($B$28/100))*$B39),"0")))))))*2.291 -> 98.513 | E39: =(IF(E$27="%w/w SAR",((E$28*10)*$B39),IF(E$27="%w/w DM",(((E$28*10)*($B$28/100))*$B39),IF(E$27="kg/t SAR",(E$28*$B39),IF(E$27="kg/t DM",((E$28*($B$28/100))*$B39),IF(E$27="mg/kg SAR",((E$28*0.001)*$B39),IF(E$27="mg/kg DM",(((E$28*0.001)*($B$28/100))*$B39),"0")))))))*1.205 -> 7.23 | F39: =(IF(F$27="%w/w SAR",((F$28*10)*$B39),IF(F$27="%w/w DM",(((F$28*10)*($B$28/100))*$B39),IF(F$27="kg/t SAR",(F$28*$B39),IF(F$27="kg/t DM",((F$28*($B$28/100))*$B39),IF(F$27="mg/kg SAR",((F$28*0.001)*$B39),IF(F$27="mg/kg DM",(((F$28*0.001)*($B$28/100))*$B39),"0")))))))*1.658 -> 1.658 | G39: =IF(G$27="%w/w SAR",((G$28*10)*$B39),IF(G$27="%w/w DM",(((G$28*10)*($B$28/100))*$B39),IF(G$27="kg/t SAR",(G$28*$B39),IF(G$27="kg/t DM",((G$28*($B$28/100))*$B39),IF(G$27="mg/kg SAR",((G$28*0.001)*$B39),IF(G$27="mg/kg DM",(((G$28*0.001)*($B$28/100))*$B39),0)))))) -> 0.02 | H39: =IF(H$27="%w/w SAR",((H$28*10)*$B39),IF(H$27="%w/w DM",(((H$28*10)*($B$28/100))*$B39),IF(H$27="kg/t SAR",(H$28*$B39),IF(H$27="kg/t DM",((H$28*($B$28/100))*$B39),IF(H$27="mg/kg SAR",((H$28*0.001)*$B39),IF(H$27="mg/kg DM",(((H$28*0.001)*($B$28/100))*$B39),0)))))) -> 0.05 | I39: =IF(I$27="%w/w SAR",((I$28*10)*$B39),IF(I$27="%w/w DM",(((I$28*10)*($B$28/100))*$B39),IF(I$27="kg/t SAR",(I$28*$B39),IF(I$27="kg/t DM",((I$28*($B$28/100))*$B39),IF(I$27="mg/kg SAR",((I$28*0.001)*$B39),IF(I$27="mg/kg DM",(((I$28*0.001)*($B$28/100))*$B39),0)))))) -> 0.05 | J39: =IF(J$27="%w/w SAR",((J$28*10)*$B39),IF(J$27="%w/w DM",(((J$28*10)*($B$28/100))*$B39),IF(J$27="kg/t SAR",(J$28*$B39),IF(J$27="kg/t DM",((J$28*($B$28/100))*$B39),IF(J$27="mg/kg SAR",((J$28*0.001)*$B39),IF(J$27="mg/kg DM",(((J$28*0.001)*($B$28/100))*$B39),0)))))) -> 0.001 | K39: =IF(K$27="%w/w SAR",((K$28*10)*$B39),IF(K$27="%w/w DM",(((K$28*10)*($B$28/100))*$B39),IF(K$27="kg/t SAR",(K$28*$B39),IF(K$27="kg/t DM",((K$28*($B$28/100))*$B39),IF(K$27="mg/kg SAR",((K$28*0.001)*$B39),IF(K$27="mg/kg DM",(((K$28*0.001)*($B$28/100))*$B39),0)))))) -> 0.005 | L39: =IF(L$27="%w/w SAR",((L$28*10)*$B39),IF(L$27="%w/w DM",(((L$28*10)*($B$28/100))*$B39),IF(L$27="kg/t SAR",(L$28*$B39),IF(L$27="kg/t DM",((L$28*($B$28/100))*$B39),IF(L$27="mg/kg SAR",((L$28*0.001)*$B39),IF(L$27="mg/kg DM",(((L$28*0.001)*($B$28/100))*$B39),0)))))) -> 0.02 | M39: =IF(M$27="%w/w SAR",((M$28*10)*$B39),IF(M$27="%w/w DM",(((M$28*10)*($B$28/100))*$B39),IF(M$27="kg/t SAR",(M$28*$B39),IF(M$27="kg/t DM",((M$28*($B$28/100))*$B39),IF(M$27="mg/kg SAR",((M$28*0.001)*$B39),IF(M$27="mg/kg DM",(((M$28*0.001)*($B$28/100))*$B39),0)))))) -> 0.0253 | N39: =IF(N$27="%w/w SAR",((N$28*10)*$B39),IF(N$27="%w/w DM",(((N$28*10)*($B$28/100))*$B39),IF(N$27="kg/t SAR",(N$28*$B39),IF(N$27="kg/t DM",((N$28*($B$28/100))*$B39),IF(N$27="mg/kg SAR",((N$28*0.001)*$B39),IF(N$27="mg/kg DM",(((N$28*0.001)*($B$28/100))*$B39),0)))))) -> 0 | ... P39: =IF(P$27="%w/w SAR",((P$28*10)*$B39),IF(P$27="%w/w DM",(((P$28*10)*($B$28/100))*$B39),IF(P$27="kg/t SAR",(P$28*$B39),IF(P$27="kg/t DM",((P$28*($B$28/100))*$B39),IF(P$27="mg/kg SAR",((P$28*0.001)*$B39),IF(P$27="mg/kg DM",(((P$28*0.001)*($B$28/100))*$B39),0)))))) -> 32 | Q39: =(IF(Q$27="%w/w SAR",((Q$28*10)*$B39),IF(Q$27="%w/w DM",(((Q$28*10)*($B$28/100))*$B39),IF(Q$27="kg/t SAR",(Q$28*$B39),IF(Q$27="kg/t DM",((Q$28*($B$28/100))*$B39),IF(Q$27="mg/kg SAR",((Q$28*0.001)*$B39),IF(Q$27="mg/kg DM",(((Q$28*0.001)*($B$28/100))*$B39),0)))))))*2.5 -> 17.5 | R39: =IF(R$27="%w/w SAR",((R$28*10)*$B39),IF(R$27="%w/w DM",(((R$28*10)*($B$28/100))*$B39),IF(R$27="kg/t SAR",(R$28*$B39),IF(R$27="kg/t DM",((R$28*($B$28/100))*$B39),IF(R$27="mg/kg SAR",((R$28*0.001)*$B39),IF(R$27="mg/kg DM",(((R$28*0.001)*($B$28/100))*$B39),0)))))) -> 0 | S39: =IF(S$27="%w/w SAR",((S$28*10)*$B39),IF(S$27="%w/w DM",(((S$28*10)*($B$28/100))*$B39),IF(S$27="kg/t SAR",(S$28*$B39),IF(S$27="kg/t DM",((S$28*($B$28/100))*$B39),IF(S$27="mg/kg SAR",((S$28*0.001)*$B39),IF(S$27="mg/kg DM",(((S$28*0.001)*($B$28/100))*$B39),0)))))) -> 0.05 | T39: =IF(T$27="%w/w SAR",((T$28*10)*$B39),IF(T$27="%w/w DM",(((T$28*10)*($B$28/100))*$B39),IF(T$27="kg/t SAR",(T$28*$B39),IF(T$27="kg/t DM",((T$28*($B$28/100))*$B39),IF(T$27="mg/kg SAR",((T$28*0.001)*$B39),IF(T$27="mg/kg DM",(((T$28*0.001)*($B$28/100))*$B39),0)))))) -> 0 | U39: =IF(U$27="%w/w SAR",((U$28*10)*$B39),IF(U$27="%w/w DM",(((U$28*10)*($B$28/100))*$B39),IF(U$27="kg/t SAR",(U$28*$B39),IF(U$27="kg/t DM",((U$28*($B$28/100))*$B39),IF(U$27="mg/kg SAR",((U$28*0.001)*$B39),IF(U$27="mg/kg DM",(((U$28*0.001)*($B$28/100))*$B39),0)))))) -> 0
A40: =L8 -> SJ2 | B40: 100 | C40: =IF(C$27="%w/w SAR",((C$28*10)*$B40),IF(C$27="%w/w DM",(((C$28*10)*($B$28/100))*$B40),IF(C$27="kg/t SAR",(C$28*$B40),IF(C$27="kg/t DM",((C$28*($B$28/100))*$B40),IF(C$27="mg/kg SAR",((C$28*0.001)*$B40),IF(C$27="mg/kg DM",(((C$28*0.001)*($B$28/100))*$B40),0)))))) -> 130 | D40: =(IF(D$27="%w/w SAR",((D$28*10)*$B40),IF(D$27="%w/w DM",(((D$28*10)*($B$28/100))*$B40),IF(D$27="kg/t SAR",(D$28*$B40),IF(D$27="kg/t DM",((D$28*($B$28/100))*$B40),IF(D$27="mg/kg SAR",((D$28*0.001)*$B40),IF(D$27="mg/kg DM",(((D$28*0.001)*($B$28/100))*$B40),"0")))))))*2.291 -> 98.513 | E40: =(IF(E$27="%w/w SAR",((E$28*10)*$B40),IF(E$27="%w/w DM",(((E$28*10)*($B$28/100))*$B40),IF(E$27="kg/t SAR",(E$28*$B40),IF(E$27="kg/t DM",((E$28*($B$28/100))*$B40),IF(E$27="mg/kg SAR",((E$28*0.001)*$B40),IF(E$27="mg/kg DM",(((E$28*0.001)*($B$28/100))*$B40),"0")))))))*1.205 -> 7.23 | F40: =(IF(F$27="%w/w SAR",((F$28*10)*$B40),IF(F$27="%w/w DM",(((F$28*10)*($B$28/100))*$B40),IF(F$27="kg/t SAR",(F$28*$B40),IF(F$27="kg/t DM",((F$28*($B$28/100))*$B40),IF(F$27="mg/kg SAR",((F$28*0.001)*$B40),IF(F$27="mg/kg DM",(((F$28*0.001)*($B$28/100))*$B40),"0")))))))*1.658 -> 1.658 | G40: =IF(G$27="%w/w SAR",((G$28*10)*$B40),IF(G$27="%w/w DM",(((G$28*10)*($B$28/100))*$B40),IF(G$27="kg/t SAR",(G$28*$B40),IF(G$27="kg/t DM",((G$28*($B$28/100))*$B40),IF(G$27="mg/kg SAR",((G$28*0.001)*$B40),IF(G$27="mg/kg DM",(((G$28*0.001)*($B$28/100))*$B40),0)))))) -> 0.02 | H40: =IF(H$27="%w/w SAR",((H$28*10)*$B40),IF(H$27="%w/w DM",(((H$28*10)*($B$28/100))*$B40),IF(H$27="kg/t SAR",(H$28*$B40),IF(H$27="kg/t DM",((H$28*($B$28/100))*$B40),IF(H$27="mg/kg SAR",((H$28*0.001)*$B40),IF(H$27="mg/kg DM",(((H$28*0.001)*($B$28/100))*$B40),0)))))) -> 0.05 | I40: =IF(I$27="%w/w SAR",((I$28*10)*$B40),IF(I$27="%w/w DM",(((I$28*10)*($B$28/100))*$B40),IF(I$27="kg/t SAR",(I$28*$B40),IF(I$27="kg/t DM",((I$28*($B$28/100))*$B40),IF(I$27="mg/kg SAR",((I$28*0.001)*$B40),IF(I$27="mg/kg DM",(((I$28*0.001)*($B$28/100))*$B40),0)))))) -> 0.05 | J40: =IF(J$27="%w/w SAR",((J$28*10)*$B40),IF(J$27="%w/w DM",(((J$28*10)*($B$28/100))*$B40),IF(J$27="kg/t SAR",(J$28*$B40),IF(J$27="kg/t DM",((J$28*($B$28/100))*$B40),IF(J$27="mg/kg SAR",((J$28*0.001)*$B40),IF(J$27="mg/kg DM",(((J$28*0.001)*($B$28/100))*$B40),0)))))) -> 0.001 | K40: =IF(K$27="%w/w SAR",((K$28*10)*$B40),IF(K$27="%w/w DM",(((K$28*10)*($B$28/100))*$B40),IF(K$27="kg/t SAR",(K$28*$B40),IF(K$27="kg/t DM",((K$28*($B$28/100))*$B40),IF(K$27="mg/kg SAR",((K$28*0.001)*$B40),IF(K$27="mg/kg DM",(((K$28*0.001)*($B$28/100))*$B40),0)))))) -> 0.005 | L40: =IF(L$27="%w/w SAR",((L$28*10)*$B40),IF(L$27="%w/w DM",(((L$28*10)*($B$28/100))*$B40),IF(L$27="kg/t SAR",(L$28*$B40),IF(L$27="kg/t DM",((L$28*($B$28/100))*$B40),IF(L$27="mg/kg SAR",((L$28*0.001)*$B40),IF(L$27="mg/kg DM",(((L$28*0.001)*($B$28/100))*$B40),0)))))) -> 0.02 | M40: =IF(M$27="%w/w SAR",((M$28*10)*$B40),IF(M$27="%w/w DM",(((M$28*10)*($B$28/100))*$B40),IF(M$27="kg/t SAR",(M$28*$B40),IF(M$27="kg/t DM",((M$28*($B$28/100))*$B40),IF(M$27="mg/kg SAR",((M$28*0.001)*$B40),IF(M$27="mg/kg DM",(((M$28*0.001)*($B$28/100))*$B40),0)))))) -> 0.0253 | N40: =IF(N$27="%w/w SAR",((N$28*10)*$B40),IF(N$27="%w/w DM",(((N$28*10)*($B$28/100))*$B40),IF(N$27="kg/t SAR",(N$28*$B40),IF(N$27="kg/t DM",((N$28*($B$28/100))*$B40),IF(N$27="mg/kg SAR",((N$28*0.001)*$B40),IF(N$27="mg/kg DM",(((N$28*0.001)*($B$28/100))*$B40),0)))))) -> 0 | ... P40: =IF(P$27="%w/w SAR",((P$28*10)*$B40),IF(P$27="%w/w DM",(((P$28*10)*($B$28/100))*$B40),IF(P$27="kg/t SAR",(P$28*$B40),IF(P$27="kg/t DM",((P$28*($B$28/100))*$B40),IF(P$27="mg/kg SAR",((P$28*0.001)*$B40),IF(P$27="mg/kg DM",(((P$28*0.001)*($B$28/100))*$B40),0)))))) -> 32 | Q40: =(IF(Q$27="%w/w SAR",((Q$28*10)*$B40),IF(Q$27="%w/w DM",(((Q$28*10)*($B$28/100))*$B40),IF(Q$27="kg/t SAR",(Q$28*$B40),IF(Q$27="kg/t DM",((Q$28*($B$28/100))*$B40),IF(Q$27="mg/kg SAR",((Q$28*0.001)*$B40),IF(Q$27="mg/kg DM",(((Q$28*0.001)*($B$28/100))*$B40),0)))))))*2.5 -> 17.5 | R40: =IF(R$27="%w/w SAR",((R$28*10)*$B40),IF(R$27="%w/w DM",(((R$28*10)*($B$28/100))*$B40),IF(R$27="kg/t SAR",(R$28*$B40),IF(R$27="kg/t DM",((R$28*($B$28/100))*$B40),IF(R$27="mg/kg SAR",((R$28*0.001)*$B40),IF(R$27="mg/kg DM",(((R$28*0.001)*($B$28/100))*$B40),0)))))) -> 0 | S40: =IF(S$27="%w/w SAR",((S$28*10)*$B40),IF(S$27="%w/w DM",(((S$28*10)*($B$28/100))*$B40),IF(S$27="kg/t SAR",(S$28*$B40),IF(S$27="kg/t DM",((S$28*($B$28/100))*$B40),IF(S$27="mg/kg SAR",((S$28*0.001)*$B40),IF(S$27="mg/kg DM",(((S$28*0.001)*($B$28/100))*$B40),0)))))) -> 0.05 | T40: =IF(T$27="%w/w SAR",((T$28*10)*$B40),IF(T$27="%w/w DM",(((T$28*10)*($B$28/100))*$B40),IF(T$27="kg/t SAR",(T$28*$B40),IF(T$27="kg/t DM",((T$28*($B$28/100))*$B40),IF(T$27="mg/kg SAR",((T$28*0.001)*$B40),IF(T$27="mg/kg DM",(((T$28*0.001)*($B$28/100))*$B40),0)))))) -> 0 | U40: =IF(U$27="%w/w SAR",((U$28*10)*$B40),IF(U$27="%w/w DM",(((U$28*10)*($B$28/100))*$B40),IF(U$27="kg/t SAR",(U$28*$B40),IF(U$27="kg/t DM",((U$28*($B$28/100))*$B40),IF(U$27="mg/kg SAR",((U$28*0.001)*$B40),IF(U$27="mg/kg DM",(((U$28*0.001)*($B$28/100))*$B40),0)))))) -> 0
A41: =M8 -> 0 | C41: =IF(C$27="%w/w SAR",((C$28*10)*$B41),IF(C$27="%w/w DM",(((C$28*10)*($B$28/100))*$B41),IF(C$27="kg/t SAR",(C$28*$B41),IF(C$27="kg/t DM",((C$28*($B$28/100))*$B41),IF(C$27="mg/kg SAR",((C$28*0.001)*$B41),IF(C$27="mg/kg DM",(((C$28*0.001)*($B$28/100))*$B41),0)))))) -> 0 | D41: =(IF(D$27="%w/w SAR",((D$28*10)*$B41),IF(D$27="%w/w DM",(((D$28*10)*($B$28/100))*$B41),IF(D$27="kg/t SAR",(D$28*$B41),IF(D$27="kg/t DM",((D$28*($B$28/100))*$B41),IF(D$27="mg/kg SAR",((D$28*0.001)*$B41),IF(D$27="mg/kg DM",(((D$28*0.001)*($B$28/100))*$B41),"0")))))))*2.291 -> 0 | E41: =(IF(E$27="%w/w SAR",((E$28*10)*$B41),IF(E$27="%w/w DM",(((E$28*10)*($B$28/100))*$B41),IF(E$27="kg/t SAR",(E$28*$B41),IF(E$27="kg/t DM",((E$28*($B$28/100))*$B41),IF(E$27="mg/kg SAR",((E$28*0.001)*$B41),IF(E$27="mg/kg DM",(((E$28*0.001)*($B$28/100))*$B41),"0")))))))*1.205 -> 0 | F41: =(IF(F$27="%w/w SAR",((F$28*10)*$B41),IF(F$27="%w/w DM",(((F$28*10)*($B$28/100))*$B41),IF(F$27="kg/t SAR",(F$28*$B41),IF(F$27="kg/t DM",((F$28*($B$28/100))*$B41),IF(F$27="mg/kg SAR",((F$28*0.001)*$B41),IF(F$27="mg/kg DM",(((F$28*0.001)*($B$28/100))*$B41),"0")))))))*1.658 -> 0 | G41: =IF(G$27="%w/w SAR",((G$28*10)*$B41),IF(G$27="%w/w DM",(((G$28*10)*($B$28/100))*$B41),IF(G$27="kg/t SAR",(G$28*$B41),IF(G$27="kg/t DM",((G$28*($B$28/100))*$B41),IF(G$27="mg/kg SAR",((G$28*0.001)*$B41),IF(G$27="mg/kg DM",(((G$28*0.001)*($B$28/100))*$B41),0)))))) -> 0 | H41: =IF(H$27="%w/w SAR",((H$28*10)*$B41),IF(H$27="%w/w DM",(((H$28*10)*($B$28/100))*$B41),IF(H$27="kg/t SAR",(H$28*$B41),IF(H$27="kg/t DM",((H$28*($B$28/100))*$B41),IF(H$27="mg/kg SAR",((H$28*0.001)*$B41),IF(H$27="mg/kg DM",(((H$28*0.001)*($B$28/100))*$B41),0)))))) -> 0 | I41: =IF(I$27="%w/w SAR",((I$28*10)*$B41),IF(I$27="%w/w DM",(((I$28*10)*($B$28/100))*$B41),IF(I$27="kg/t SAR",(I$28*$B41),IF(I$27="kg/t DM",((I$28*($B$28/100))*$B41),IF(I$27="mg/kg SAR",((I$28*0.001)*$B41),IF(I$27="mg/kg DM",(((I$28*0.001)*($B$28/100))*$B41),0)))))) -> 0 | J41: =IF(J$27="%w/w SAR",((J$28*10)*$B41),IF(J$27="%w/w DM",(((J$28*10)*($B$28/100))*$B41),IF(J$27="kg/t SAR",(J$28*$B41),IF(J$27="kg/t DM",((J$28*($B$28/100))*$B41),IF(J$27="mg/kg SAR",((J$28*0.001)*$B41),IF(J$27="mg/kg DM",(((J$28*0.001)*($B$28/100))*$B41),0)))))) -> 0 | K41: =IF(K$27="%w/w SAR",((K$28*10)*$B41),IF(K$27="%w/w DM",(((K$28*10)*($B$28/100))*$B41),IF(K$27="kg/t SAR",(K$28*$B41),IF(K$27="kg/t DM",((K$28*($B$28/100))*$B41),IF(K$27="mg/kg SAR",((K$28*0.001)*$B41),IF(K$27="mg/kg DM",(((K$28*0.001)*($B$28/100))*$B41),0)))))) -> 0 | L41: =IF(L$27="%w/w SAR",((L$28*10)*$B41),IF(L$27="%w/w DM",(((L$28*10)*($B$28/100))*$B41),IF(L$27="kg/t SAR",(L$28*$B41),IF(L$27="kg/t DM",((L$28*($B$28/100))*$B41),IF(L$27="mg/kg SAR",((L$28*0.001)*$B41),IF(L$27="mg/kg DM",(((L$28*0.001)*($B$28/100))*$B41),0)))))) -> 0 | M41: =IF(M$27="%w/w SAR",((M$28*10)*$B41),IF(M$27="%w/w DM",(((M$28*10)*($B$28/100))*$B41),IF(M$27="kg/t SAR",(M$28*$B41),IF(M$27="kg/t DM",((M$28*($B$28/100))*$B41),IF(M$27="mg/kg SAR",((M$28*0.001)*$B41),IF(M$27="mg/kg DM",(((M$28*0.001)*($B$28/100))*$B41),0)))))) -> 0 | N41: =IF(N$27="%w/w SAR",((N$28*10)*$B41),IF(N$27="%w/w DM",(((N$28*10)*($B$28/100))*$B41),IF(N$27="kg/t SAR",(N$28*$B41),IF(N$27="kg/t DM",((N$28*($B$28/100))*$B41),IF(N$27="mg/kg SAR",((N$28*0.001)*$B41),IF(N$27="mg/kg DM",(((N$28*0.001)*($B$28/100))*$B41),0)))))) -> 0 | ... P41: =IF(P$27="%w/w SAR",((P$28*10)*$B41),IF(P$27="%w/w DM",(((P$28*10)*($B$28/100))*$B41),IF(P$27="kg/t SAR",(P$28*$B41),IF(P$27="kg/t DM",((P$28*($B$28/100))*$B41),IF(P$27="mg/kg SAR",((P$28*0.001)*$B41),IF(P$27="mg/kg DM",(((P$28*0.001)*($B$28/100))*$B41),0)))))) -> 0 | Q41: =(IF(Q$27="%w/w SAR",((Q$28*10)*$B41),IF(Q$27="%w/w DM",(((Q$28*10)*($B$28/100))*$B41),IF(Q$27="kg/t SAR",(Q$28*$B41),IF(Q$27="kg/t DM",((Q$28*($B$28/100))*$B41),IF(Q$27="mg/kg SAR",((Q$28*0.001)*$B41),IF(Q$27="mg/kg DM",(((Q$28*0.001)*($B$28/100))*$B41),0)))))))*2.5 -> 0 | R41: =IF(R$27="%w/w SAR",((R$28*10)*$B41),IF(R$27="%w/w DM",(((R$28*10)*($B$28/100))*$B41),IF(R$27="kg/t SAR",(R$28*$B41),IF(R$27="kg/t DM",((R$28*($B$28/100))*$B41),IF(R$27="mg/kg SAR",((R$28*0.001)*$B41),IF(R$27="mg/kg DM",(((R$28*0.001)*($B$28/100))*$B41),0)))))) -> 0 | S41: =IF(S$27="%w/w SAR",((S$28*10)*$B41),IF(S$27="%w/w DM",(((S$28*10)*($B$28/100))*$B41),IF(S$27="kg/t SAR",(S$28*$B41),IF(S$27="kg/t DM",((S$28*($B$28/100))*$B41),IF(S$27="mg/kg SAR",((S$28*0.001)*$B41),IF(S$27="mg/kg DM",(((S$28*0.001)*($B$28/100))*$B41),0)))))) -> 0 | T41: =IF(T$27="%w/w SAR",((T$28*10)*$B41),IF(T$27="%w/w DM",(((T$28*10)*($B$28/100))*$B41),IF(T$27="kg/t SAR",(T$28*$B41),IF(T$27="kg/t DM",((T$28*($B$28/100))*$B41),IF(T$27="mg/kg SAR",((T$28*0.001)*$B41),IF(T$27="mg/kg DM",(((T$28*0.001)*($B$28/100))*$B41),0)))))) -> 0 | U41: =IF(U$27="%w/w SAR",((U$28*10)*$B41),IF(U$27="%w/w DM",(((U$28*10)*($B$28/100))*$B41),IF(U$27="kg/t SAR",(U$28*$B41),IF(U$27="kg/t DM",((U$28*($B$28/100))*$B41),IF(U$27="mg/kg SAR",((U$28*0.001)*$B41),IF(U$27="mg/kg DM",(((U$28*0.001)*($B$28/100))*$B41),0)))))) -> 0
A42: =N8 -> 0 | C42: =IF(C$27="%w/w SAR",((C$28*10)*$B42),IF(C$27="%w/w DM",(((C$28*10)*($B$28/100))*$B42),IF(C$27="kg/t SAR",(C$28*$B42),IF(C$27="kg/t DM",((C$28*($B$28/100))*$B42),IF(C$27="mg/kg SAR",((C$28*0.001)*$B42),IF(C$27="mg/kg DM",(((C$28*0.001)*($B$28/100))*$B42),0)))))) -> 0 | D42: =(IF(D$27="%w/w SAR",((D$28*10)*$B42),IF(D$27="%w/w DM",(((D$28*10)*($B$28/100))*$B42),IF(D$27="kg/t SAR",(D$28*$B42),IF(D$27="kg/t DM",((D$28*($B$28/100))*$B42),IF(D$27="mg/kg SAR",((D$28*0.001)*$B42),IF(D$27="mg/kg DM",(((D$28*0.001)*($B$28/100))*$B42),"0")))))))*2.291 -> 0 | E42: =(IF(E$27="%w/w SAR",((E$28*10)*$B42),IF(E$27="%w/w DM",(((E$28*10)*($B$28/100))*$B42),IF(E$27="kg/t SAR",(E$28*$B42),IF(E$27="kg/t DM",((E$28*($B$28/100))*$B42),IF(E$27="mg/kg SAR",((E$28*0.001)*$B42),IF(E$27="mg/kg DM",(((E$28*0.001)*($B$28/100))*$B42),"0")))))))*1.205 -> 0 | F42: =(IF(F$27="%w/w SAR",((F$28*10)*$B42),IF(F$27="%w/w DM",(((F$28*10)*($B$28/100))*$B42),IF(F$27="kg/t SAR",(F$28*$B42),IF(F$27="kg/t DM",((F$28*($B$28/100))*$B42),IF(F$27="mg/kg SAR",((F$28*0.001)*$B42),IF(F$27="mg/kg DM",(((F$28*0.001)*($B$28/100))*$B42),"0")))))))*1.658 -> 0 | G42: =IF(G$27="%w/w SAR",((G$28*10)*$B42),IF(G$27="%w/w DM",(((G$28*10)*($B$28/100))*$B42),IF(G$27="kg/t SAR",(G$28*$B42),IF(G$27="kg/t DM",((G$28*($B$28/100))*$B42),IF(G$27="mg/kg SAR",((G$28*0.001)*$B42),IF(G$27="mg/kg DM",(((G$28*0.001)*($B$28/100))*$B42),0)))))) -> 0 | H42: =IF(H$27="%w/w SAR",((H$28*10)*$B42),IF(H$27="%w/w DM",(((H$28*10)*($B$28/100))*$B42),IF(H$27="kg/t SAR",(H$28*$B42),IF(H$27="kg/t DM",((H$28*($B$28/100))*$B42),IF(H$27="mg/kg SAR",((H$28*0.001)*$B42),IF(H$27="mg/kg DM",(((H$28*0.001)*($B$28/100))*$B42),0)))))) -> 0 | I42: =IF(I$27="%w/w SAR",((I$28*10)*$B42),IF(I$27="%w/w DM",(((I$28*10)*($B$28/100))*$B42),IF(I$27="kg/t SAR",(I$28*$B42),IF(I$27="kg/t DM",((I$28*($B$28/100))*$B42),IF(I$27="mg/kg SAR",((I$28*0.001)*$B42),IF(I$27="mg/kg DM",(((I$28*0.001)*($B$28/100))*$B42),0)))))) -> 0 | J42: =IF(J$27="%w/w SAR",((J$28*10)*$B42),IF(J$27="%w/w DM",(((J$28*10)*($B$28/100))*$B42),IF(J$27="kg/t SAR",(J$28*$B42),IF(J$27="kg/t DM",((J$28*($B$28/100))*$B42),IF(J$27="mg/kg SAR",((J$28*0.001)*$B42),IF(J$27="mg/kg DM",(((J$28*0.001)*($B$28/100))*$B42),0)))))) -> 0 | K42: =IF(K$27="%w/w SAR",((K$28*10)*$B42),IF(K$27="%w/w DM",(((K$28*10)*($B$28/100))*$B42),IF(K$27="kg/t SAR",(K$28*$B42),IF(K$27="kg/t DM",((K$28*($B$28/100))*$B42),IF(K$27="mg/kg SAR",((K$28*0.001)*$B42),IF(K$27="mg/kg DM",(((K$28*0.001)*($B$28/100))*$B42),0)))))) -> 0 | L42: =IF(L$27="%w/w SAR",((L$28*10)*$B42),IF(L$27="%w/w DM",(((L$28*10)*($B$28/100))*$B42),IF(L$27="kg/t SAR",(L$28*$B42),IF(L$27="kg/t DM",((L$28*($B$28/100))*$B42),IF(L$27="mg/kg SAR",((L$28*0.001)*$B42),IF(L$27="mg/kg DM",(((L$28*0.001)*($B$28/100))*$B42),0)))))) -> 0 | M42: =IF(M$27="%w/w SAR",((M$28*10)*$B42),IF(M$27="%w/w DM",(((M$28*10)*($B$28/100))*$B42),IF(M$27="kg/t SAR",(M$28*$B42),IF(M$27="kg/t DM",((M$28*($B$28/100))*$B42),IF(M$27="mg/kg SAR",((M$28*0.001)*$B42),IF(M$27="mg/kg DM",(((M$28*0.001)*($B$28/100))*$B42),0)))))) -> 0 | N42: =IF(N$27="%w/w SAR",((N$28*10)*$B42),IF(N$27="%w/w DM",(((N$28*10)*($B$28/100))*$B42),IF(N$27="kg/t SAR",(N$28*$B42),IF(N$27="kg/t DM",((N$28*($B$28/100))*$B42),IF(N$27="mg/kg SAR",((N$28*0.001)*$B42),IF(N$27="mg/kg DM",(((N$28*0.001)*($B$28/100))*$B42),0)))))) -> 0 | ... P42: =IF(P$27="%w/w SAR",((P$28*10)*$B42),IF(P$27="%w/w DM",(((P$28*10)*($B$28/100))*$B42),IF(P$27="kg/t SAR",(P$28*$B42),IF(P$27="kg/t DM",((P$28*($B$28/100))*$B42),IF(P$27="mg/kg SAR",((P$28*0.001)*$B42),IF(P$27="mg/kg DM",(((P$28*0.001)*($B$28/100))*$B42),0)))))) -> 0 | Q42: =(IF(Q$27="%w/w SAR",((Q$28*10)*$B42),IF(Q$27="%w/w DM",(((Q$28*10)*($B$28/100))*$B42),IF(Q$27="kg/t SAR",(Q$28*$B42),IF(Q$27="kg/t DM",((Q$28*($B$28/100))*$B42),IF(Q$27="mg/kg SAR",((Q$28*0.001)*$B42),IF(Q$27="mg/kg DM",(((Q$28*0.001)*($B$28/100))*$B42),0)))))))*2.5 -> 0 | R42: =IF(R$27="%w/w SAR",((R$28*10)*$B42),IF(R$27="%w/w DM",(((R$28*10)*($B$28/100))*$B42),IF(R$27="kg/t SAR",(R$28*$B42),IF(R$27="kg/t DM",((R$28*($B$28/100))*$B42),IF(R$27="mg/kg SAR",((R$28*0.001)*$B42),IF(R$27="mg/kg DM",(((R$28*0.001)*($B$28/100))*$B42),0)))))) -> 0 | S42: =IF(S$27="%w/w SAR",((S$28*10)*$B42),IF(S$27="%w/w DM",(((S$28*10)*($B$28/100))*$B42),IF(S$27="kg/t SAR",(S$28*$B42),IF(S$27="kg/t DM",((S$28*($B$28/100))*$B42),IF(S$27="mg/kg SAR",((S$28*0.001)*$B42),IF(S$27="mg/kg DM",(((S$28*0.001)*($B$28/100))*$B42),0)))))) -> 0 | T42: =IF(T$27="%w/w SAR",((T$28*10)*$B42),IF(T$27="%w/w DM",(((T$28*10)*($B$28/100))*$B42),IF(T$27="kg/t SAR",(T$28*$B42),IF(T$27="kg/t DM",((T$28*($B$28/100))*$B42),IF(T$27="mg/kg SAR",((T$28*0.001)*$B42),IF(T$27="mg/kg DM",(((T$28*0.001)*($B$28/100))*$B42),0)))))) -> 0 | U42: =IF(U$27="%w/w SAR",((U$28*10)*$B42),IF(U$27="%w/w DM",(((U$28*10)*($B$28/100))*$B42),IF(U$27="kg/t SAR",(U$28*$B42),IF(U$27="kg/t DM",((U$28*($B$28/100))*$B42),IF(U$27="mg/kg SAR",((U$28*0.001)*$B42),IF(U$27="mg/kg DM",(((U$28*0.001)*($B$28/100))*$B42),0)))))) -> 0
A43: =O8 -> 0 | C43: =IF(C$27="%w/w SAR",((C$28*10)*$B43),IF(C$27="%w/w DM",(((C$28*10)*($B$28/100))*$B43),IF(C$27="kg/t SAR",(C$28*$B43),IF(C$27="kg/t DM",((C$28*($B$28/100))*$B43),IF(C$27="mg/kg SAR",((C$28*0.001)*$B43),IF(C$27="mg/kg DM",(((C$28*0.001)*($B$28/100))*$B43),0)))))) -> 0 | D43: =(IF(D$27="%w/w SAR",((D$28*10)*$B43),IF(D$27="%w/w DM",(((D$28*10)*($B$28/100))*$B43),IF(D$27="kg/t SAR",(D$28*$B43),IF(D$27="kg/t DM",((D$28*($B$28/100))*$B43),IF(D$27="mg/kg SAR",((D$28*0.001)*$B43),IF(D$27="mg/kg DM",(((D$28*0.001)*($B$28/100))*$B43),"0")))))))*2.291 -> 0 | E43: =(IF(E$27="%w/w SAR",((E$28*10)*$B43),IF(E$27="%w/w DM",(((E$28*10)*($B$28/100))*$B43),IF(E$27="kg/t SAR",(E$28*$B43),IF(E$27="kg/t DM",((E$28*($B$28/100))*$B43),IF(E$27="mg/kg SAR",((E$28*0.001)*$B43),IF(E$27="mg/kg DM",(((E$28*0.001)*($B$28/100))*$B43),"0")))))))*1.205 -> 0 | F43: =(IF(F$27="%w/w SAR",((F$28*10)*$B43),IF(F$27="%w/w DM",(((F$28*10)*($B$28/100))*$B43),IF(F$27="kg/t SAR",(F$28*$B43),IF(F$27="kg/t DM",((F$28*($B$28/100))*$B43),IF(F$27="mg/kg SAR",((F$28*0.001)*$B43),IF(F$27="mg/kg DM",(((F$28*0.001)*($B$28/100))*$B43),"0")))))))*1.658 -> 0 | G43: =IF(G$27="%w/w SAR",((G$28*10)*$B43),IF(G$27="%w/w DM",(((G$28*10)*($B$28/100))*$B43),IF(G$27="kg/t SAR",(G$28*$B43),IF(G$27="kg/t DM",((G$28*($B$28/100))*$B43),IF(G$27="mg/kg SAR",((G$28*0.001)*$B43),IF(G$27="mg/kg DM",(((G$28*0.001)*($B$28/100))*$B43),0)))))) -> 0 | H43: =IF(H$27="%w/w SAR",((H$28*10)*$B43),IF(H$27="%w/w DM",(((H$28*10)*($B$28/100))*$B43),IF(H$27="kg/t SAR",(H$28*$B43),IF(H$27="kg/t DM",((H$28*($B$28/100))*$B43),IF(H$27="mg/kg SAR",((H$28*0.001)*$B43),IF(H$27="mg/kg DM",(((H$28*0.001)*($B$28/100))*$B43),0)))))) -> 0 | I43: =IF(I$27="%w/w SAR",((I$28*10)*$B43),IF(I$27="%w/w DM",(((I$28*10)*($B$28/100))*$B43),IF(I$27="kg/t SAR",(I$28*$B43),IF(I$27="kg/t DM",((I$28*($B$28/100))*$B43),IF(I$27="mg/kg SAR",((I$28*0.001)*$B43),IF(I$27="mg/kg DM",(((I$28*0.001)*($B$28/100))*$B43),0)))))) -> 0 | J43: =IF(J$27="%w/w SAR",((J$28*10)*$B43),IF(J$27="%w/w DM",(((J$28*10)*($B$28/100))*$B43),IF(J$27="kg/t SAR",(J$28*$B43),IF(J$27="kg/t DM",((J$28*($B$28/100))*$B43),IF(J$27="mg/kg SAR",((J$28*0.001)*$B43),IF(J$27="mg/kg DM",(((J$28*0.001)*($B$28/100))*$B43),0)))))) -> 0 | K43: =IF(K$27="%w/w SAR",((K$28*10)*$B43),IF(K$27="%w/w DM",(((K$28*10)*($B$28/100))*$B43),IF(K$27="kg/t SAR",(K$28*$B43),IF(K$27="kg/t DM",((K$28*($B$28/100))*$B43),IF(K$27="mg/kg SAR",((K$28*0.001)*$B43),IF(K$27="mg/kg DM",(((K$28*0.001)*($B$28/100))*$B43),0)))))) -> 0 | L43: =IF(L$27="%w/w SAR",((L$28*10)*$B43),IF(L$27="%w/w DM",(((L$28*10)*($B$28/100))*$B43),IF(L$27="kg/t SAR",(L$28*$B43),IF(L$27="kg/t DM",((L$28*($B$28/100))*$B43),IF(L$27="mg/kg SAR",((L$28*0.001)*$B43),IF(L$27="mg/kg DM",(((L$28*0.001)*($B$28/100))*$B43),0)))))) -> 0 | M43: =IF(M$27="%w/w SAR",((M$28*10)*$B43),IF(M$27="%w/w DM",(((M$28*10)*($B$28/100))*$B43),IF(M$27="kg/t SAR",(M$28*$B43),IF(M$27="kg/t DM",((M$28*($B$28/100))*$B43),IF(M$27="mg/kg SAR",((M$28*0.001)*$B43),IF(M$27="mg/kg DM",(((M$28*0.001)*($B$28/100))*$B43),0)))))) -> 0 | N43: =IF(N$27="%w/w SAR",((N$28*10)*$B43),IF(N$27="%w/w DM",(((N$28*10)*($B$28/100))*$B43),IF(N$27="kg/t SAR",(N$28*$B43),IF(N$27="kg/t DM",((N$28*($B$28/100))*$B43),IF(N$27="mg/kg SAR",((N$28*0.001)*$B43),IF(N$27="mg/kg DM",(((N$28*0.001)*($B$28/100))*$B43),0)))))) -> 0 | ... P43: =IF(P$27="%w/w SAR",((P$28*10)*$B43),IF(P$27="%w/w DM",(((P$28*10)*($B$28/100))*$B43),IF(P$27="kg/t SAR",(P$28*$B43),IF(P$27="kg/t DM",((P$28*($B$28/100))*$B43),IF(P$27="mg/kg SAR",((P$28*0.001)*$B43),IF(P$27="mg/kg DM",(((P$28*0.001)*($B$28/100))*$B43),0)))))) -> 0 | Q43: =(IF(Q$27="%w/w SAR",((Q$28*10)*$B43),IF(Q$27="%w/w DM",(((Q$28*10)*($B$28/100))*$B43),IF(Q$27="kg/t SAR",(Q$28*$B43),IF(Q$27="kg/t DM",((Q$28*($B$28/100))*$B43),IF(Q$27="mg/kg SAR",((Q$28*0.001)*$B43),IF(Q$27="mg/kg DM",(((Q$28*0.001)*($B$28/100))*$B43),0)))))))*2.5 -> 0 | R43: =IF(R$27="%w/w SAR",((R$28*10)*$B43),IF(R$27="%w/w DM",(((R$28*10)*($B$28/100))*$B43),IF(R$27="kg/t SAR",(R$28*$B43),IF(R$27="kg/t DM",((R$28*($B$28/100))*$B43),IF(R$27="mg/kg SAR",((R$28*0.001)*$B43),IF(R$27="mg/kg DM",(((R$28*0.001)*($B$28/100))*$B43),0)))))) -> 0 | S43: =IF(S$27="%w/w SAR",((S$28*10)*$B43),IF(S$27="%w/w DM",(((S$28*10)*($B$28/100))*$B43),IF(S$27="kg/t SAR",(S$28*$B43),IF(S$27="kg/t DM",((S$28*($B$28/100))*$B43),IF(S$27="mg/kg SAR",((S$28*0.001)*$B43),IF(S$27="mg/kg DM",(((S$28*0.001)*($B$28/100))*$B43),0)))))) -> 0 | T43: =IF(T$27="%w/w SAR",((T$28*10)*$B43),IF(T$27="%w/w DM",(((T$28*10)*($B$28/100))*$B43),IF(T$27="kg/t SAR",(T$28*$B43),IF(T$27="kg/t DM",((T$28*($B$28/100))*$B43),IF(T$27="mg/kg SAR",((T$28*0.001)*$B43),IF(T$27="mg/kg DM",(((T$28*0.001)*($B$28/100))*$B43),0)))))) -> 0 | U43: =IF(U$27="%w/w SAR",((U$28*10)*$B43),IF(U$27="%w/w DM",(((U$28*10)*($B$28/100))*$B43),IF(U$27="kg/t SAR",(U$28*$B43),IF(U$27="kg/t DM",((U$28*($B$28/100))*$B43),IF(U$27="mg/kg SAR",((U$28*0.001)*$B43),IF(U$27="mg/kg DM",(((U$28*0.001)*($B$28/100))*$B43),0)))))) -> 0
A44: =P8 -> 0 | C44: =IF(C$27="%w/w SAR",((C$28*10)*$B44),IF(C$27="%w/w DM",(((C$28*10)*($B$28/100))*$B44),IF(C$27="kg/t SAR",(C$28*$B44),IF(C$27="kg/t DM",((C$28*($B$28/100))*$B44),IF(C$27="mg/kg SAR",((C$28*0.001)*$B44),IF(C$27="mg/kg DM",(((C$28*0.001)*($B$28/100))*$B44),0)))))) -> 0 | D44: =(IF(D$27="%w/w SAR",((D$28*10)*$B44),IF(D$27="%w/w DM",(((D$28*10)*($B$28/100))*$B44),IF(D$27="kg/t SAR",(D$28*$B44),IF(D$27="kg/t DM",((D$28*($B$28/100))*$B44),IF(D$27="mg/kg SAR",((D$28*0.001)*$B44),IF(D$27="mg/kg DM",(((D$28*0.001)*($B$28/100))*$B44),"0")))))))*2.291 -> 0 | E44: =(IF(E$27="%w/w SAR",((E$28*10)*$B44),IF(E$27="%w/w DM",(((E$28*10)*($B$28/100))*$B44),IF(E$27="kg/t SAR",(E$28*$B44),IF(E$27="kg/t DM",((E$28*($B$28/100))*$B44),IF(E$27="mg/kg SAR",((E$28*0.001)*$B44),IF(E$27="mg/kg DM",(((E$28*0.001)*($B$28/100))*$B44),"0")))))))*1.205 -> 0 | F44: =(IF(F$27="%w/w SAR",((F$28*10)*$B44),IF(F$27="%w/w DM",(((F$28*10)*($B$28/100))*$B44),IF(F$27="kg/t SAR",(F$28*$B44),IF(F$27="kg/t DM",((F$28*($B$28/100))*$B44),IF(F$27="mg/kg SAR",((F$28*0.001)*$B44),IF(F$27="mg/kg DM",(((F$28*0.001)*($B$28/100))*$B44),"0")))))))*1.658 -> 0 | G44: =IF(G$27="%w/w SAR",((G$28*10)*$B44),IF(G$27="%w/w DM",(((G$28*10)*($B$28/100))*$B44),IF(G$27="kg/t SAR",(G$28*$B44),IF(G$27="kg/t DM",((G$28*($B$28/100))*$B44),IF(G$27="mg/kg SAR",((G$28*0.001)*$B44),IF(G$27="mg/kg DM",(((G$28*0.001)*($B$28/100))*$B44),0)))))) -> 0 | H44: =IF(H$27="%w/w SAR",((H$28*10)*$B44),IF(H$27="%w/w DM",(((H$28*10)*($B$28/100))*$B44),IF(H$27="kg/t SAR",(H$28*$B44),IF(H$27="kg/t DM",((H$28*($B$28/100))*$B44),IF(H$27="mg/kg SAR",((H$28*0.001)*$B44),IF(H$27="mg/kg DM",(((H$28*0.001)*($B$28/100))*$B44),0)))))) -> 0 | I44: =IF(I$27="%w/w SAR",((I$28*10)*$B44),IF(I$27="%w/w DM",(((I$28*10)*($B$28/100))*$B44),IF(I$27="kg/t SAR",(I$28*$B44),IF(I$27="kg/t DM",((I$28*($B$28/100))*$B44),IF(I$27="mg/kg SAR",((I$28*0.001)*$B44),IF(I$27="mg/kg DM",(((I$28*0.001)*($B$28/100))*$B44),0)))))) -> 0 | J44: =IF(J$27="%w/w SAR",((J$28*10)*$B44),IF(J$27="%w/w DM",(((J$28*10)*($B$28/100))*$B44),IF(J$27="kg/t SAR",(J$28*$B44),IF(J$27="kg/t DM",((J$28*($B$28/100))*$B44),IF(J$27="mg/kg SAR",((J$28*0.001)*$B44),IF(J$27="mg/kg DM",(((J$28*0.001)*($B$28/100))*$B44),0)))))) -> 0 | K44: =IF(K$27="%w/w SAR",((K$28*10)*$B44),IF(K$27="%w/w DM",(((K$28*10)*($B$28/100))*$B44),IF(K$27="kg/t SAR",(K$28*$B44),IF(K$27="kg/t DM",((K$28*($B$28/100))*$B44),IF(K$27="mg/kg SAR",((K$28*0.001)*$B44),IF(K$27="mg/kg DM",(((K$28*0.001)*($B$28/100))*$B44),0)))))) -> 0 | L44: =IF(L$27="%w/w SAR",((L$28*10)*$B44),IF(L$27="%w/w DM",(((L$28*10)*($B$28/100))*$B44),IF(L$27="kg/t SAR",(L$28*$B44),IF(L$27="kg/t DM",((L$28*($B$28/100))*$B44),IF(L$27="mg/kg SAR",((L$28*0.001)*$B44),IF(L$27="mg/kg DM",(((L$28*0.001)*($B$28/100))*$B44),0)))))) -> 0 | M44: =IF(M$27="%w/w SAR",((M$28*10)*$B44),IF(M$27="%w/w DM",(((M$28*10)*($B$28/100))*$B44),IF(M$27="kg/t SAR",(M$28*$B44),IF(M$27="kg/t DM",((M$28*($B$28/100))*$B44),IF(M$27="mg/kg SAR",((M$28*0.001)*$B44),IF(M$27="mg/kg DM",(((M$28*0.001)*($B$28/100))*$B44),0)))))) -> 0 | N44: =IF(N$27="%w/w SAR",((N$28*10)*$B44),IF(N$27="%w/w DM",(((N$28*10)*($B$28/100))*$B44),IF(N$27="kg/t SAR",(N$28*$B44),IF(N$27="kg/t DM",((N$28*($B$28/100))*$B44),IF(N$27="mg/kg SAR",((N$28*0.001)*$B44),IF(N$27="mg/kg DM",(((N$28*0.001)*($B$28/100))*$B44),0)))))) -> 0 | ... P44: =IF(P$27="%w/w SAR",((P$28*10)*$B44),IF(P$27="%w/w DM",(((P$28*10)*($B$28/100))*$B44),IF(P$27="kg/t SAR",(P$28*$B44),IF(P$27="kg/t DM",((P$28*($B$28/100))*$B44),IF(P$27="mg/kg SAR",((P$28*0.001)*$B44),IF(P$27="mg/kg DM",(((P$28*0.001)*($B$28/100))*$B44),0)))))) -> 0 | Q44: =(IF(Q$27="%w/w SAR",((Q$28*10)*$B44),IF(Q$27="%w/w DM",(((Q$28*10)*($B$28/100))*$B44),IF(Q$27="kg/t SAR",(Q$28*$B44),IF(Q$27="kg/t DM",((Q$28*($B$28/100))*$B44),IF(Q$27="mg/kg SAR",((Q$28*0.001)*$B44),IF(Q$27="mg/kg DM",(((Q$28*0.001)*($B$28/100))*$B44),0)))))))*2.5 -> 0 | R44: =IF(R$27="%w/w SAR",((R$28*10)*$B44),IF(R$27="%w/w DM",(((R$28*10)*($B$28/100))*$B44),IF(R$27="kg/t SAR",(R$28*$B44),IF(R$27="kg/t DM",((R$28*($B$28/100))*$B44),IF(R$27="mg/kg SAR",((R$28*0.001)*$B44),IF(R$27="mg/kg DM",(((R$28*0.001)*($B$28/100))*$B44),0)))))) -> 0 | S44: =IF(S$27="%w/w SAR",((S$28*10)*$B44),IF(S$27="%w/w DM",(((S$28*10)*($B$28/100))*$B44),IF(S$27="kg/t SAR",(S$28*$B44),IF(S$27="kg/t DM",((S$28*($B$28/100))*$B44),IF(S$27="mg/kg SAR",((S$28*0.001)*$B44),IF(S$27="mg/kg DM",(((S$28*0.001)*($B$28/100))*$B44),0)))))) -> 0 | T44: =IF(T$27="%w/w SAR",((T$28*10)*$B44),IF(T$27="%w/w DM",(((T$28*10)*($B$28/100))*$B44),IF(T$27="kg/t SAR",(T$28*$B44),IF(T$27="kg/t DM",((T$28*($B$28/100))*$B44),IF(T$27="mg/kg SAR",((T$28*0.001)*$B44),IF(T$27="mg/kg DM",(((T$28*0.001)*($B$28/100))*$B44),0)))))) -> 0 | U44: =IF(U$27="%w/w SAR",((U$28*10)*$B44),IF(U$27="%w/w DM",(((U$28*10)*($B$28/100))*$B44),IF(U$27="kg/t SAR",(U$28*$B44),IF(U$27="kg/t DM",((U$28*($B$28/100))*$B44),IF(U$27="mg/kg SAR",((U$28*0.001)*$B44),IF(U$27="mg/kg DM",(((U$28*0.001)*($B$28/100))*$B44),0)))))) -> 0
A45: =Q8 -> 0 | C45: =IF(C$27="%w/w SAR",((C$28*10)*$B45),IF(C$27="%w/w DM",(((C$28*10)*($B$28/100))*$B45),IF(C$27="kg/t SAR",(C$28*$B45),IF(C$27="kg/t DM",((C$28*($B$28/100))*$B45),IF(C$27="mg/kg SAR",((C$28*0.001)*$B45),IF(C$27="mg/kg DM",(((C$28*0.001)*($B$28/100))*$B45),0)))))) -> 0 | D45: =(IF(D$27="%w/w SAR",((D$28*10)*$B45),IF(D$27="%w/w DM",(((D$28*10)*($B$28/100))*$B45),IF(D$27="kg/t SAR",(D$28*$B45),IF(D$27="kg/t DM",((D$28*($B$28/100))*$B45),IF(D$27="mg/kg SAR",((D$28*0.001)*$B45),IF(D$27="mg/kg DM",(((D$28*0.001)*($B$28/100))*$B45),"0")))))))*2.291 -> 0 | E45: =(IF(E$27="%w/w SAR",((E$28*10)*$B45),IF(E$27="%w/w DM",(((E$28*10)*($B$28/100))*$B45),IF(E$27="kg/t SAR",(E$28*$B45),IF(E$27="kg/t DM",((E$28*($B$28/100))*$B45),IF(E$27="mg/kg SAR",((E$28*0.001)*$B45),IF(E$27="mg/kg DM",(((E$28*0.001)*($B$28/100))*$B45),"0")))))))*1.205 -> 0 | F45: =(IF(F$27="%w/w SAR",((F$28*10)*$B45),IF(F$27="%w/w DM",(((F$28*10)*($B$28/100))*$B45),IF(F$27="kg/t SAR",(F$28*$B45),IF(F$27="kg/t DM",((F$28*($B$28/100))*$B45),IF(F$27="mg/kg SAR",((F$28*0.001)*$B45),IF(F$27="mg/kg DM",(((F$28*0.001)*($B$28/100))*$B45),"0")))))))*1.658 -> 0 | G45: =IF(G$27="%w/w SAR",((G$28*10)*$B45),IF(G$27="%w/w DM",(((G$28*10)*($B$28/100))*$B45),IF(G$27="kg/t SAR",(G$28*$B45),IF(G$27="kg/t DM",((G$28*($B$28/100))*$B45),IF(G$27="mg/kg SAR",((G$28*0.001)*$B45),IF(G$27="mg/kg DM",(((G$28*0.001)*($B$28/100))*$B45),0)))))) -> 0 | H45: =IF(H$27="%w/w SAR",((H$28*10)*$B45),IF(H$27="%w/w DM",(((H$28*10)*($B$28/100))*$B45),IF(H$27="kg/t SAR",(H$28*$B45),IF(H$27="kg/t DM",((H$28*($B$28/100))*$B45),IF(H$27="mg/kg SAR",((H$28*0.001)*$B45),IF(H$27="mg/kg DM",(((H$28*0.001)*($B$28/100))*$B45),0)))))) -> 0 | I45: =IF(I$27="%w/w SAR",((I$28*10)*$B45),IF(I$27="%w/w DM",(((I$28*10)*($B$28/100))*$B45),IF(I$27="kg/t SAR",(I$28*$B45),IF(I$27="kg/t DM",((I$28*($B$28/100))*$B45),IF(I$27="mg/kg SAR",((I$28*0.001)*$B45),IF(I$27="mg/kg DM",(((I$28*0.001)*($B$28/100))*$B45),0)))))) -> 0 | J45: =IF(J$27="%w/w SAR",((J$28*10)*$B45),IF(J$27="%w/w DM",(((J$28*10)*($B$28/100))*$B45),IF(J$27="kg/t SAR",(J$28*$B45),IF(J$27="kg/t DM",((J$28*($B$28/100))*$B45),IF(J$27="mg/kg SAR",((J$28*0.001)*$B45),IF(J$27="mg/kg DM",(((J$28*0.001)*($B$28/100))*$B45),0)))))) -> 0 | K45: =IF(K$27="%w/w SAR",((K$28*10)*$B45),IF(K$27="%w/w DM",(((K$28*10)*($B$28/100))*$B45),IF(K$27="kg/t SAR",(K$28*$B45),IF(K$27="kg/t DM",((K$28*($B$28/100))*$B45),IF(K$27="mg/kg SAR",((K$28*0.001)*$B45),IF(K$27="mg/kg DM",(((K$28*0.001)*($B$28/100))*$B45),0)))))) -> 0 | L45: =IF(L$27="%w/w SAR",((L$28*10)*$B45),IF(L$27="%w/w DM",(((L$28*10)*($B$28/100))*$B45),IF(L$27="kg/t SAR",(L$28*$B45),IF(L$27="kg/t DM",((L$28*($B$28/100))*$B45),IF(L$27="mg/kg SAR",((L$28*0.001)*$B45),IF(L$27="mg/kg DM",(((L$28*0.001)*($B$28/100))*$B45),0)))))) -> 0 | M45: =IF(M$27="%w/w SAR",((M$28*10)*$B45),IF(M$27="%w/w DM",(((M$28*10)*($B$28/100))*$B45),IF(M$27="kg/t SAR",(M$28*$B45),IF(M$27="kg/t DM",((M$28*($B$28/100))*$B45),IF(M$27="mg/kg SAR",((M$28*0.001)*$B45),IF(M$27="mg/kg DM",(((M$28*0.001)*($B$28/100))*$B45),0)))))) -> 0 | N45: =IF(N$27="%w/w SAR",((N$28*10)*$B45),IF(N$27="%w/w DM",(((N$28*10)*($B$28/100))*$B45),IF(N$27="kg/t SAR",(N$28*$B45),IF(N$27="kg/t DM",((N$28*($B$28/100))*$B45),IF(N$27="mg/kg SAR",((N$28*0.001)*$B45),IF(N$27="mg/kg DM",(((N$28*0.001)*($B$28/100))*$B45),0)))))) -> 0 | ... P45: =IF(P$27="%w/w SAR",((P$28*10)*$B45),IF(P$27="%w/w DM",(((P$28*10)*($B$28/100))*$B45),IF(P$27="kg/t SAR",(P$28*$B45),IF(P$27="kg/t DM",((P$28*($B$28/100))*$B45),IF(P$27="mg/kg SAR",((P$28*0.001)*$B45),IF(P$27="mg/kg DM",(((P$28*0.001)*($B$28/100))*$B45),0)))))) -> 0 | Q45: =(IF(Q$27="%w/w SAR",((Q$28*10)*$B45),IF(Q$27="%w/w DM",(((Q$28*10)*($B$28/100))*$B45),IF(Q$27="kg/t SAR",(Q$28*$B45),IF(Q$27="kg/t DM",((Q$28*($B$28/100))*$B45),IF(Q$27="mg/kg SAR",((Q$28*0.001)*$B45),IF(Q$27="mg/kg DM",(((Q$28*0.001)*($B$28/100))*$B45),0)))))))*2.5 -> 0 | R45: =IF(R$27="%w/w SAR",((R$28*10)*$B45),IF(R$27="%w/w DM",(((R$28*10)*($B$28/100))*$B45),IF(R$27="kg/t SAR",(R$28*$B45),IF(R$27="kg/t DM",((R$28*($B$28/100))*$B45),IF(R$27="mg/kg SAR",((R$28*0.001)*$B45),IF(R$27="mg/kg DM",(((R$28*0.001)*($B$28/100))*$B45),0)))))) -> 0 | S45: =IF(S$27="%w/w SAR",((S$28*10)*$B45),IF(S$27="%w/w DM",(((S$28*10)*($B$28/100))*$B45),IF(S$27="kg/t SAR",(S$28*$B45),IF(S$27="kg/t DM",((S$28*($B$28/100))*$B45),IF(S$27="mg/kg SAR",((S$28*0.001)*$B45),IF(S$27="mg/kg DM",(((S$28*0.001)*($B$28/100))*$B45),0)))))) -> 0 | T45: =IF(T$27="%w/w SAR",((T$28*10)*$B45),IF(T$27="%w/w DM",(((T$28*10)*($B$28/100))*$B45),IF(T$27="kg/t SAR",(T$28*$B45),IF(T$27="kg/t DM",((T$28*($B$28/100))*$B45),IF(T$27="mg/kg SAR",((T$28*0.001)*$B45),IF(T$27="mg/kg DM",(((T$28*0.001)*($B$28/100))*$B45),0)))))) -> 0 | U45: =IF(U$27="%w/w SAR",((U$28*10)*$B45),IF(U$27="%w/w DM",(((U$28*10)*($B$28/100))*$B45),IF(U$27="kg/t SAR",(U$28*$B45),IF(U$27="kg/t DM",((U$28*($B$28/100))*$B45),IF(U$27="mg/kg SAR",((U$28*0.001)*$B45),IF(U$27="mg/kg DM",(((U$28*0.001)*($B$28/100))*$B45),0)))))) -> 0
A46: =R8 -> 0 | C46: =IF(C$27="%w/w SAR",((C$28*10)*$B46),IF(C$27="%w/w DM",(((C$28*10)*($B$28/100))*$B46),IF(C$27="kg/t SAR",(C$28*$B46),IF(C$27="kg/t DM",((C$28*($B$28/100))*$B46),IF(C$27="mg/kg SAR",((C$28*0.001)*$B46),IF(C$27="mg/kg DM",(((C$28*0.001)*($B$28/100))*$B46),0)))))) -> 0 | D46: =(IF(D$27="%w/w SAR",((D$28*10)*$B46),IF(D$27="%w/w DM",(((D$28*10)*($B$28/100))*$B46),IF(D$27="kg/t SAR",(D$28*$B46),IF(D$27="kg/t DM",((D$28*($B$28/100))*$B46),IF(D$27="mg/kg SAR",((D$28*0.001)*$B46),IF(D$27="mg/kg DM",(((D$28*0.001)*($B$28/100))*$B46),"0")))))))*2.291 -> 0 | E46: =(IF(E$27="%w/w SAR",((E$28*10)*$B46),IF(E$27="%w/w DM",(((E$28*10)*($B$28/100))*$B46),IF(E$27="kg/t SAR",(E$28*$B46),IF(E$27="kg/t DM",((E$28*($B$28/100))*$B46),IF(E$27="mg/kg SAR",((E$28*0.001)*$B46),IF(E$27="mg/kg DM",(((E$28*0.001)*($B$28/100))*$B46),"0")))))))*1.205 -> 0 | F46: =(IF(F$27="%w/w SAR",((F$28*10)*$B46),IF(F$27="%w/w DM",(((F$28*10)*($B$28/100))*$B46),IF(F$27="kg/t SAR",(F$28*$B46),IF(F$27="kg/t DM",((F$28*($B$28/100))*$B46),IF(F$27="mg/kg SAR",((F$28*0.001)*$B46),IF(F$27="mg/kg DM",(((F$28*0.001)*($B$28/100))*$B46),"0")))))))*1.658 -> 0 | G46: =IF(G$27="%w/w SAR",((G$28*10)*$B46),IF(G$27="%w/w DM",(((G$28*10)*($B$28/100))*$B46),IF(G$27="kg/t SAR",(G$28*$B46),IF(G$27="kg/t DM",((G$28*($B$28/100))*$B46),IF(G$27="mg/kg SAR",((G$28*0.001)*$B46),IF(G$27="mg/kg DM",(((G$28*0.001)*($B$28/100))*$B46),0)))))) -> 0 | H46: =IF(H$27="%w/w SAR",((H$28*10)*$B46),IF(H$27="%w/w DM",(((H$28*10)*($B$28/100))*$B46),IF(H$27="kg/t SAR",(H$28*$B46),IF(H$27="kg/t DM",((H$28*($B$28/100))*$B46),IF(H$27="mg/kg SAR",((H$28*0.001)*$B46),IF(H$27="mg/kg DM",(((H$28*0.001)*($B$28/100))*$B46),0)))))) -> 0 | I46: =IF(I$27="%w/w SAR",((I$28*10)*$B46),IF(I$27="%w/w DM",(((I$28*10)*($B$28/100))*$B46),IF(I$27="kg/t SAR",(I$28*$B46),IF(I$27="kg/t DM",((I$28*($B$28/100))*$B46),IF(I$27="mg/kg SAR",((I$28*0.001)*$B46),IF(I$27="mg/kg DM",(((I$28*0.001)*($B$28/100))*$B46),0)))))) -> 0 | J46: =IF(J$27="%w/w SAR",((J$28*10)*$B46),IF(J$27="%w/w DM",(((J$28*10)*($B$28/100))*$B46),IF(J$27="kg/t SAR",(J$28*$B46),IF(J$27="kg/t DM",((J$28*($B$28/100))*$B46),IF(J$27="mg/kg SAR",((J$28*0.001)*$B46),IF(J$27="mg/kg DM",(((J$28*0.001)*($B$28/100))*$B46),0)))))) -> 0 | K46: =IF(K$27="%w/w SAR",((K$28*10)*$B46),IF(K$27="%w/w DM",(((K$28*10)*($B$28/100))*$B46),IF(K$27="kg/t SAR",(K$28*$B46),IF(K$27="kg/t DM",((K$28*($B$28/100))*$B46),IF(K$27="mg/kg SAR",((K$28*0.001)*$B46),IF(K$27="mg/kg DM",(((K$28*0.001)*($B$28/100))*$B46),0)))))) -> 0 | L46: =IF(L$27="%w/w SAR",((L$28*10)*$B46),IF(L$27="%w/w DM",(((L$28*10)*($B$28/100))*$B46),IF(L$27="kg/t SAR",(L$28*$B46),IF(L$27="kg/t DM",((L$28*($B$28/100))*$B46),IF(L$27="mg/kg SAR",((L$28*0.001)*$B46),IF(L$27="mg/kg DM",(((L$28*0.001)*($B$28/100))*$B46),0)))))) -> 0 | M46: =IF(M$27="%w/w SAR",((M$28*10)*$B46),IF(M$27="%w/w DM",(((M$28*10)*($B$28/100))*$B46),IF(M$27="kg/t SAR",(M$28*$B46),IF(M$27="kg/t DM",((M$28*($B$28/100))*$B46),IF(M$27="mg/kg SAR",((M$28*0.001)*$B46),IF(M$27="mg/kg DM",(((M$28*0.001)*($B$28/100))*$B46),0)))))) -> 0 | N46: =IF(N$27="%w/w SAR",((N$28*10)*$B46),IF(N$27="%w/w DM",(((N$28*10)*($B$28/100))*$B46),IF(N$27="kg/t SAR",(N$28*$B46),IF(N$27="kg/t DM",((N$28*($B$28/100))*$B46),IF(N$27="mg/kg SAR",((N$28*0.001)*$B46),IF(N$27="mg/kg DM",(((N$28*0.001)*($B$28/100))*$B46),0)))))) -> 0 | ... P46: =IF(P$27="%w/w SAR",((P$28*10)*$B46),IF(P$27="%w/w DM",(((P$28*10)*($B$28/100))*$B46),IF(P$27="kg/t SAR",(P$28*$B46),IF(P$27="kg/t DM",((P$28*($B$28/100))*$B46),IF(P$27="mg/kg SAR",((P$28*0.001)*$B46),IF(P$27="mg/kg DM",(((P$28*0.001)*($B$28/100))*$B46),0)))))) -> 0 | Q46: =(IF(Q$27="%w/w SAR",((Q$28*10)*$B46),IF(Q$27="%w/w DM",(((Q$28*10)*($B$28/100))*$B46),IF(Q$27="kg/t SAR",(Q$28*$B46),IF(Q$27="kg/t DM",((Q$28*($B$28/100))*$B46),IF(Q$27="mg/kg SAR",((Q$28*0.001)*$B46),IF(Q$27="mg/kg DM",(((Q$28*0.001)*($B$28/100))*$B46),0)))))))*2.5 -> 0 | R46: =IF(R$27="%w/w SAR",((R$28*10)*$B46),IF(R$27="%w/w DM",(((R$28*10)*($B$28/100))*$B46),IF(R$27="kg/t SAR",(R$28*$B46),IF(R$27="kg/t DM",((R$28*($B$28/100))*$B46),IF(R$27="mg/kg SAR",((R$28*0.001)*$B46),IF(R$27="mg/kg DM",(((R$28*0.001)*($B$28/100))*$B46),0)))))) -> 0 | S46: =IF(S$27="%w/w SAR",((S$28*10)*$B46),IF(S$27="%w/w DM",(((S$28*10)*($B$28/100))*$B46),IF(S$27="kg/t SAR",(S$28*$B46),IF(S$27="kg/t DM",((S$28*($B$28/100))*$B46),IF(S$27="mg/kg SAR",((S$28*0.001)*$B46),IF(S$27="mg/kg DM",(((S$28*0.001)*($B$28/100))*$B46),0)))))) -> 0 | T46: =IF(T$27="%w/w SAR",((T$28*10)*$B46),IF(T$27="%w/w DM",(((T$28*10)*($B$28/100))*$B46),IF(T$27="kg/t SAR",(T$28*$B46),IF(T$27="kg/t DM",((T$28*($B$28/100))*$B46),IF(T$27="mg/kg SAR",((T$28*0.001)*$B46),IF(T$27="mg/kg DM",(((T$28*0.001)*($B$28/100))*$B46),0)))))) -> 0 | U46: =IF(U$27="%w/w SAR",((U$28*10)*$B46),IF(U$27="%w/w DM",(((U$28*10)*($B$28/100))*$B46),IF(U$27="kg/t SAR",(U$28*$B46),IF(U$27="kg/t DM",((U$28*($B$28/100))*$B46),IF(U$27="mg/kg SAR",((U$28*0.001)*$B46),IF(U$27="mg/kg DM",(((U$28*0.001)*($B$28/100))*$B46),0)))))) -> 0
A47: =S8 -> 0 | C47: =IF(C$27="%w/w SAR",((C$28*10)*$B47),IF(C$27="%w/w DM",(((C$28*10)*($B$28/100))*$B47),IF(C$27="kg/t SAR",(C$28*$B47),IF(C$27="kg/t DM",((C$28*($B$28/100))*$B47),IF(C$27="mg/kg SAR",((C$28*0.001)*$B47),IF(C$27="mg/kg DM",(((C$28*0.001)*($B$28/100))*$B47),0)))))) -> 0 | D47: =(IF(D$27="%w/w SAR",((D$28*10)*$B47),IF(D$27="%w/w DM",(((D$28*10)*($B$28/100))*$B47),IF(D$27="kg/t SAR",(D$28*$B47),IF(D$27="kg/t DM",((D$28*($B$28/100))*$B47),IF(D$27="mg/kg SAR",((D$28*0.001)*$B47),IF(D$27="mg/kg DM",(((D$28*0.001)*($B$28/100))*$B47),"0")))))))*2.291 -> 0 | E47: =(IF(E$27="%w/w SAR",((E$28*10)*$B47),IF(E$27="%w/w DM",(((E$28*10)*($B$28/100))*$B47),IF(E$27="kg/t SAR",(E$28*$B47),IF(E$27="kg/t DM",((E$28*($B$28/100))*$B47),IF(E$27="mg/kg SAR",((E$28*0.001)*$B47),IF(E$27="mg/kg DM",(((E$28*0.001)*($B$28/100))*$B47),"0")))))))*1.205 -> 0 | F47: =(IF(F$27="%w/w SAR",((F$28*10)*$B47),IF(F$27="%w/w DM",(((F$28*10)*($B$28/100))*$B47),IF(F$27="kg/t SAR",(F$28*$B47),IF(F$27="kg/t DM",((F$28*($B$28/100))*$B47),IF(F$27="mg/kg SAR",((F$28*0.001)*$B47),IF(F$27="mg/kg DM",(((F$28*0.001)*($B$28/100))*$B47),"0")))))))*1.658 -> 0 | G47: =IF(G$27="%w/w SAR",((G$28*10)*$B47),IF(G$27="%w/w DM",(((G$28*10)*($B$28/100))*$B47),IF(G$27="kg/t SAR",(G$28*$B47),IF(G$27="kg/t DM",((G$28*($B$28/100))*$B47),IF(G$27="mg/kg SAR",((G$28*0.001)*$B47),IF(G$27="mg/kg DM",(((G$28*0.001)*($B$28/100))*$B47),0)))))) -> 0 | H47: =IF(H$27="%w/w SAR",((H$28*10)*$B47),IF(H$27="%w/w DM",(((H$28*10)*($B$28/100))*$B47),IF(H$27="kg/t SAR",(H$28*$B47),IF(H$27="kg/t DM",((H$28*($B$28/100))*$B47),IF(H$27="mg/kg SAR",((H$28*0.001)*$B47),IF(H$27="mg/kg DM",(((H$28*0.001)*($B$28/100))*$B47),0)))))) -> 0 | I47: =IF(I$27="%w/w SAR",((I$28*10)*$B47),IF(I$27="%w/w DM",(((I$28*10)*($B$28/100))*$B47),IF(I$27="kg/t SAR",(I$28*$B47),IF(I$27="kg/t DM",((I$28*($B$28/100))*$B47),IF(I$27="mg/kg SAR",((I$28*0.001)*$B47),IF(I$27="mg/kg DM",(((I$28*0.001)*($B$28/100))*$B47),0)))))) -> 0 | J47: =IF(J$27="%w/w SAR",((J$28*10)*$B47),IF(J$27="%w/w DM",(((J$28*10)*($B$28/100))*$B47),IF(J$27="kg/t SAR",(J$28*$B47),IF(J$27="kg/t DM",((J$28*($B$28/100))*$B47),IF(J$27="mg/kg SAR",((J$28*0.001)*$B47),IF(J$27="mg/kg DM",(((J$28*0.001)*($B$28/100))*$B47),0)))))) -> 0 | K47: =IF(K$27="%w/w SAR",((K$28*10)*$B47),IF(K$27="%w/w DM",(((K$28*10)*($B$28/100))*$B47),IF(K$27="kg/t SAR",(K$28*$B47),IF(K$27="kg/t DM",((K$28*($B$28/100))*$B47),IF(K$27="mg/kg SAR",((K$28*0.001)*$B47),IF(K$27="mg/kg DM",(((K$28*0.001)*($B$28/100))*$B47),0)))))) -> 0 | L47: =IF(L$27="%w/w SAR",((L$28*10)*$B47),IF(L$27="%w/w DM",(((L$28*10)*($B$28/100))*$B47),IF(L$27="kg/t SAR",(L$28*$B47),IF(L$27="kg/t DM",((L$28*($B$28/100))*$B47),IF(L$27="mg/kg SAR",((L$28*0.001)*$B47),IF(L$27="mg/kg DM",(((L$28*0.001)*($B$28/100))*$B47),0)))))) -> 0 | M47: =IF(M$27="%w/w SAR",((M$28*10)*$B47),IF(M$27="%w/w DM",(((M$28*10)*($B$28/100))*$B47),IF(M$27="kg/t SAR",(M$28*$B47),IF(M$27="kg/t DM",((M$28*($B$28/100))*$B47),IF(M$27="mg/kg SAR",((M$28*0.001)*$B47),IF(M$27="mg/kg DM",(((M$28*0.001)*($B$28/100))*$B47),0)))))) -> 0 | N47: =IF(N$27="%w/w SAR",((N$28*10)*$B47),IF(N$27="%w/w DM",(((N$28*10)*($B$28/100))*$B47),IF(N$27="kg/t SAR",(N$28*$B47),IF(N$27="kg/t DM",((N$28*($B$28/100))*$B47),IF(N$27="mg/kg SAR",((N$28*0.001)*$B47),IF(N$27="mg/kg DM",(((N$28*0.001)*($B$28/100))*$B47),0)))))) -> 0 | ... P47: =IF(P$27="%w/w SAR",((P$28*10)*$B47),IF(P$27="%w/w DM",(((P$28*10)*($B$28/100))*$B47),IF(P$27="kg/t SAR",(P$28*$B47),IF(P$27="kg/t DM",((P$28*($B$28/100))*$B47),IF(P$27="mg/kg SAR",((P$28*0.001)*$B47),IF(P$27="mg/kg DM",(((P$28*0.001)*($B$28/100))*$B47),0)))))) -> 0 | Q47: =(IF(Q$27="%w/w SAR",((Q$28*10)*$B47),IF(Q$27="%w/w DM",(((Q$28*10)*($B$28/100))*$B47),IF(Q$27="kg/t SAR",(Q$28*$B47),IF(Q$27="kg/t DM",((Q$28*($B$28/100))*$B47),IF(Q$27="mg/kg SAR",((Q$28*0.001)*$B47),IF(Q$27="mg/kg DM",(((Q$28*0.001)*($B$28/100))*$B47),0)))))))*2.5 -> 0 | R47: =IF(R$27="%w/w SAR",((R$28*10)*$B47),IF(R$27="%w/w DM",(((R$28*10)*($B$28/100))*$B47),IF(R$27="kg/t SAR",(R$28*$B47),IF(R$27="kg/t DM",((R$28*($B$28/100))*$B47),IF(R$27="mg/kg SAR",((R$28*0.001)*$B47),IF(R$27="mg/kg DM",(((R$28*0.001)*($B$28/100))*$B47),0)))))) -> 0 | S47: =IF(S$27="%w/w SAR",((S$28*10)*$B47),IF(S$27="%w/w DM",(((S$28*10)*($B$28/100))*$B47),IF(S$27="kg/t SAR",(S$28*$B47),IF(S$27="kg/t DM",((S$28*($B$28/100))*$B47),IF(S$27="mg/kg SAR",((S$28*0.001)*$B47),IF(S$27="mg/kg DM",(((S$28*0.001)*($B$28/100))*$B47),0)))))) -> 0 | T47: =IF(T$27="%w/w SAR",((T$28*10)*$B47),IF(T$27="%w/w DM",(((T$28*10)*($B$28/100))*$B47),IF(T$27="kg/t SAR",(T$28*$B47),IF(T$27="kg/t DM",((T$28*($B$28/100))*$B47),IF(T$27="mg/kg SAR",((T$28*0.001)*$B47),IF(T$27="mg/kg DM",(((T$28*0.001)*($B$28/100))*$B47),0)))))) -> 0 | U47: =IF(U$27="%w/w SAR",((U$28*10)*$B47),IF(U$27="%w/w DM",(((U$28*10)*($B$28/100))*$B47),IF(U$27="kg/t SAR",(U$28*$B47),IF(U$27="kg/t DM",((U$28*($B$28/100))*$B47),IF(U$27="mg/kg SAR",((U$28*0.001)*$B47),IF(U$27="mg/kg DM",(((U$28*0.001)*($B$28/100))*$B47),0)))))) -> 0
A48: =T8 -> 0 | C48: =IF(C$27="%w/w SAR",((C$28*10)*$B48),IF(C$27="%w/w DM",(((C$28*10)*($B$28/100))*$B48),IF(C$27="kg/t SAR",(C$28*$B48),IF(C$27="kg/t DM",((C$28*($B$28/100))*$B48),IF(C$27="mg/kg SAR",((C$28*0.001)*$B48),IF(C$27="mg/kg DM",(((C$28*0.001)*($B$28/100))*$B48),0)))))) -> 0 | D48: =(IF(D$27="%w/w SAR",((D$28*10)*$B48),IF(D$27="%w/w DM",(((D$28*10)*($B$28/100))*$B48),IF(D$27="kg/t SAR",(D$28*$B48),IF(D$27="kg/t DM",((D$28*($B$28/100))*$B48),IF(D$27="mg/kg SAR",((D$28*0.001)*$B48),IF(D$27="mg/kg DM",(((D$28*0.001)*($B$28/100))*$B48),"0")))))))*2.291 -> 0 | E48: =(IF(E$27="%w/w SAR",((E$28*10)*$B48),IF(E$27="%w/w DM",(((E$28*10)*($B$28/100))*$B48),IF(E$27="kg/t SAR",(E$28*$B48),IF(E$27="kg/t DM",((E$28*($B$28/100))*$B48),IF(E$27="mg/kg SAR",((E$28*0.001)*$B48),IF(E$27="mg/kg DM",(((E$28*0.001)*($B$28/100))*$B48),"0")))))))*1.205 -> 0 | F48: =(IF(F$27="%w/w SAR",((F$28*10)*$B48),IF(F$27="%w/w DM",(((F$28*10)*($B$28/100))*$B48),IF(F$27="kg/t SAR",(F$28*$B48),IF(F$27="kg/t DM",((F$28*($B$28/100))*$B48),IF(F$27="mg/kg SAR",((F$28*0.001)*$B48),IF(F$27="mg/kg DM",(((F$28*0.001)*($B$28/100))*$B48),"0")))))))*1.658 -> 0 | G48: =IF(G$27="%w/w SAR",((G$28*10)*$B48),IF(G$27="%w/w DM",(((G$28*10)*($B$28/100))*$B48),IF(G$27="kg/t SAR",(G$28*$B48),IF(G$27="kg/t DM",((G$28*($B$28/100))*$B48),IF(G$27="mg/kg SAR",((G$28*0.001)*$B48),IF(G$27="mg/kg DM",(((G$28*0.001)*($B$28/100))*$B48),0)))))) -> 0 | H48: =IF(H$27="%w/w SAR",((H$28*10)*$B48),IF(H$27="%w/w DM",(((H$28*10)*($B$28/100))*$B48),IF(H$27="kg/t SAR",(H$28*$B48),IF(H$27="kg/t DM",((H$28*($B$28/100))*$B48),IF(H$27="mg/kg SAR",((H$28*0.001)*$B48),IF(H$27="mg/kg DM",(((H$28*0.001)*($B$28/100))*$B48),0)))))) -> 0 | I48: =IF(I$27="%w/w SAR",((I$28*10)*$B48),IF(I$27="%w/w DM",(((I$28*10)*($B$28/100))*$B48),IF(I$27="kg/t SAR",(I$28*$B48),IF(I$27="kg/t DM",((I$28*($B$28/100))*$B48),IF(I$27="mg/kg SAR",((I$28*0.001)*$B48),IF(I$27="mg/kg DM",(((I$28*0.001)*($B$28/100))*$B48),0)))))) -> 0 | J48: =IF(J$27="%w/w SAR",((J$28*10)*$B48),IF(J$27="%w/w DM",(((J$28*10)*($B$28/100))*$B48),IF(J$27="kg/t SAR",(J$28*$B48),IF(J$27="kg/t DM",((J$28*($B$28/100))*$B48),IF(J$27="mg/kg SAR",((J$28*0.001)*$B48),IF(J$27="mg/kg DM",(((J$28*0.001)*($B$28/100))*$B48),0)))))) -> 0 | K48: =IF(K$27="%w/w SAR",((K$28*10)*$B48),IF(K$27="%w/w DM",(((K$28*10)*($B$28/100))*$B48),IF(K$27="kg/t SAR",(K$28*$B48),IF(K$27="kg/t DM",((K$28*($B$28/100))*$B48),IF(K$27="mg/kg SAR",((K$28*0.001)*$B48),IF(K$27="mg/kg DM",(((K$28*0.001)*($B$28/100))*$B48),0)))))) -> 0 | L48: =IF(L$27="%w/w SAR",((L$28*10)*$B48),IF(L$27="%w/w DM",(((L$28*10)*($B$28/100))*$B48),IF(L$27="kg/t SAR",(L$28*$B48),IF(L$27="kg/t DM",((L$28*($B$28/100))*$B48),IF(L$27="mg/kg SAR",((L$28*0.001)*$B48),IF(L$27="mg/kg DM",(((L$28*0.001)*($B$28/100))*$B48),0)))))) -> 0 | M48: =IF(M$27="%w/w SAR",((M$28*10)*$B48),IF(M$27="%w/w DM",(((M$28*10)*($B$28/100))*$B48),IF(M$27="kg/t SAR",(M$28*$B48),IF(M$27="kg/t DM",((M$28*($B$28/100))*$B48),IF(M$27="mg/kg SAR",((M$28*0.001)*$B48),IF(M$27="mg/kg DM",(((M$28*0.001)*($B$28/100))*$B48),0)))))) -> 0 | N48: =IF(N$27="%w/w SAR",((N$28*10)*$B48),IF(N$27="%w/w DM",(((N$28*10)*($B$28/100))*$B48),IF(N$27="kg/t SAR",(N$28*$B48),IF(N$27="kg/t DM",((N$28*($B$28/100))*$B48),IF(N$27="mg/kg SAR",((N$28*0.001)*$B48),IF(N$27="mg/kg DM",(((N$28*0.001)*($B$28/100))*$B48),0)))))) -> 0 | ... P48: =IF(P$27="%w/w SAR",((P$28*10)*$B48),IF(P$27="%w/w DM",(((P$28*10)*($B$28/100))*$B48),IF(P$27="kg/t SAR",(P$28*$B48),IF(P$27="kg/t DM",((P$28*($B$28/100))*$B48),IF(P$27="mg/kg SAR",((P$28*0.001)*$B48),IF(P$27="mg/kg DM",(((P$28*0.001)*($B$28/100))*$B48),0)))))) -> 0 | Q48: =(IF(Q$27="%w/w SAR",((Q$28*10)*$B48),IF(Q$27="%w/w DM",(((Q$28*10)*($B$28/100))*$B48),IF(Q$27="kg/t SAR",(Q$28*$B48),IF(Q$27="kg/t DM",((Q$28*($B$28/100))*$B48),IF(Q$27="mg/kg SAR",((Q$28*0.001)*$B48),IF(Q$27="mg/kg DM",(((Q$28*0.001)*($B$28/100))*$B48),0)))))))*2.5 -> 0 | R48: =IF(R$27="%w/w SAR",((R$28*10)*$B48),IF(R$27="%w/w DM",(((R$28*10)*($B$28/100))*$B48),IF(R$27="kg/t SAR",(R$28*$B48),IF(R$27="kg/t DM",((R$28*($B$28/100))*$B48),IF(R$27="mg/kg SAR",((R$28*0.001)*$B48),IF(R$27="mg/kg DM",(((R$28*0.001)*($B$28/100))*$B48),0)))))) -> 0 | S48: =IF(S$27="%w/w SAR",((S$28*10)*$B48),IF(S$27="%w/w DM",(((S$28*10)*($B$28/100))*$B48),IF(S$27="kg/t SAR",(S$28*$B48),IF(S$27="kg/t DM",((S$28*($B$28/100))*$B48),IF(S$27="mg/kg SAR",((S$28*0.001)*$B48),IF(S$27="mg/kg DM",(((S$28*0.001)*($B$28/100))*$B48),0)))))) -> 0 | T48: =IF(T$27="%w/w SAR",((T$28*10)*$B48),IF(T$27="%w/w DM",(((T$28*10)*($B$28/100))*$B48),IF(T$27="kg/t SAR",(T$28*$B48),IF(T$27="kg/t DM",((T$28*($B$28/100))*$B48),IF(T$27="mg/kg SAR",((T$28*0.001)*$B48),IF(T$27="mg/kg DM",(((T$28*0.001)*($B$28/100))*$B48),0)))))) -> 0 | U48: =IF(U$27="%w/w SAR",((U$28*10)*$B48),IF(U$27="%w/w DM",(((U$28*10)*($B$28/100))*$B48),IF(U$27="kg/t SAR",(U$28*$B48),IF(U$27="kg/t DM",((U$28*($B$28/100))*$B48),IF(U$27="mg/kg SAR",((U$28*0.001)*$B48),IF(U$27="mg/kg DM",(((U$28*0.001)*($B$28/100))*$B48),0)))))) -> 0
A49: =U8 -> 0 | C49: =IF(C$27="%w/w SAR",((C$28*10)*$B49),IF(C$27="%w/w DM",(((C$28*10)*($B$28/100))*$B49),IF(C$27="kg/t SAR",(C$28*$B49),IF(C$27="kg/t DM",((C$28*($B$28/100))*$B49),IF(C$27="mg/kg SAR",((C$28*0.001)*$B49),IF(C$27="mg/kg DM",(((C$28*0.001)*($B$28/100))*$B49),0)))))) -> 0 | D49: =(IF(D$27="%w/w SAR",((D$28*10)*$B49),IF(D$27="%w/w DM",(((D$28*10)*($B$28/100))*$B49),IF(D$27="kg/t SAR",(D$28*$B49),IF(D$27="kg/t DM",((D$28*($B$28/100))*$B49),IF(D$27="mg/kg SAR",((D$28*0.001)*$B49),IF(D$27="mg/kg DM",(((D$28*0.001)*($B$28/100))*$B49),"0")))))))*2.291 -> 0 | E49: =(IF(E$27="%w/w SAR",((E$28*10)*$B49),IF(E$27="%w/w DM",(((E$28*10)*($B$28/100))*$B49),IF(E$27="kg/t SAR",(E$28*$B49),IF(E$27="kg/t DM",((E$28*($B$28/100))*$B49),IF(E$27="mg/kg SAR",((E$28*0.001)*$B49),IF(E$27="mg/kg DM",(((E$28*0.001)*($B$28/100))*$B49),"0")))))))*1.205 -> 0 | F49: =(IF(F$27="%w/w SAR",((F$28*10)*$B49),IF(F$27="%w/w DM",(((F$28*10)*($B$28/100))*$B49),IF(F$27="kg/t SAR",(F$28*$B49),IF(F$27="kg/t DM",((F$28*($B$28/100))*$B49),IF(F$27="mg/kg SAR",((F$28*0.001)*$B49),IF(F$27="mg/kg DM",(((F$28*0.001)*($B$28/100))*$B49),"0")))))))*1.658 -> 0 | G49: =IF(G$27="%w/w SAR",((G$28*10)*$B49),IF(G$27="%w/w DM",(((G$28*10)*($B$28/100))*$B49),IF(G$27="kg/t SAR",(G$28*$B49),IF(G$27="kg/t DM",((G$28*($B$28/100))*$B49),IF(G$27="mg/kg SAR",((G$28*0.001)*$B49),IF(G$27="mg/kg DM",(((G$28*0.001)*($B$28/100))*$B49),0)))))) -> 0 | H49: =IF(H$27="%w/w SAR",((H$28*10)*$B49),IF(H$27="%w/w DM",(((H$28*10)*($B$28/100))*$B49),IF(H$27="kg/t SAR",(H$28*$B49),IF(H$27="kg/t DM",((H$28*($B$28/100))*$B49),IF(H$27="mg/kg SAR",((H$28*0.001)*$B49),IF(H$27="mg/kg DM",(((H$28*0.001)*($B$28/100))*$B49),0)))))) -> 0 | I49: =IF(I$27="%w/w SAR",((I$28*10)*$B49),IF(I$27="%w/w DM",(((I$28*10)*($B$28/100))*$B49),IF(I$27="kg/t SAR",(I$28*$B49),IF(I$27="kg/t DM",((I$28*($B$28/100))*$B49),IF(I$27="mg/kg SAR",((I$28*0.001)*$B49),IF(I$27="mg/kg DM",(((I$28*0.001)*($B$28/100))*$B49),0)))))) -> 0 | J49: =IF(J$27="%w/w SAR",((J$28*10)*$B49),IF(J$27="%w/w DM",(((J$28*10)*($B$28/100))*$B49),IF(J$27="kg/t SAR",(J$28*$B49),IF(J$27="kg/t DM",((J$28*($B$28/100))*$B49),IF(J$27="mg/kg SAR",((J$28*0.001)*$B49),IF(J$27="mg/kg DM",(((J$28*0.001)*($B$28/100))*$B49),0)))))) -> 0 | K49: =IF(K$27="%w/w SAR",((K$28*10)*$B49),IF(K$27="%w/w DM",(((K$28*10)*($B$28/100))*$B49),IF(K$27="kg/t SAR",(K$28*$B49),IF(K$27="kg/t DM",((K$28*($B$28/100))*$B49),IF(K$27="mg/kg SAR",((K$28*0.001)*$B49),IF(K$27="mg/kg DM",(((K$28*0.001)*($B$28/100))*$B49),0)))))) -> 0 | L49: =IF(L$27="%w/w SAR",((L$28*10)*$B49),IF(L$27="%w/w DM",(((L$28*10)*($B$28/100))*$B49),IF(L$27="kg/t SAR",(L$28*$B49),IF(L$27="kg/t DM",((L$28*($B$28/100))*$B49),IF(L$27="mg/kg SAR",((L$28*0.001)*$B49),IF(L$27="mg/kg DM",(((L$28*0.001)*($B$28/100))*$B49),0)))))) -> 0 | M49: =IF(M$27="%w/w SAR",((M$28*10)*$B49),IF(M$27="%w/w DM",(((M$28*10)*($B$28/100))*$B49),IF(M$27="kg/t SAR",(M$28*$B49),IF(M$27="kg/t DM",((M$28*($B$28/100))*$B49),IF(M$27="mg/kg SAR",((M$28*0.001)*$B49),IF(M$27="mg/kg DM",(((M$28*0.001)*($B$28/100))*$B49),0)))))) -> 0 | N49: =IF(N$27="%w/w SAR",((N$28*10)*$B49),IF(N$27="%w/w DM",(((N$28*10)*($B$28/100))*$B49),IF(N$27="kg/t SAR",(N$28*$B49),IF(N$27="kg/t DM",((N$28*($B$28/100))*$B49),IF(N$27="mg/kg SAR",((N$28*0.001)*$B49),IF(N$27="mg/kg DM",(((N$28*0.001)*($B$28/100))*$B49),0)))))) -> 0 | ... P49: =IF(P$27="%w/w SAR",((P$28*10)*$B49),IF(P$27="%w/w DM",(((P$28*10)*($B$28/100))*$B49),IF(P$27="kg/t SAR",(P$28*$B49),IF(P$27="kg/t DM",((P$28*($B$28/100))*$B49),IF(P$27="mg/kg SAR",((P$28*0.001)*$B49),IF(P$27="mg/kg DM",(((P$28*0.001)*($B$28/100))*$B49),0)))))) -> 0 | Q49: =(IF(Q$27="%w/w SAR",((Q$28*10)*$B49),IF(Q$27="%w/w DM",(((Q$28*10)*($B$28/100))*$B49),IF(Q$27="kg/t SAR",(Q$28*$B49),IF(Q$27="kg/t DM",((Q$28*($B$28/100))*$B49),IF(Q$27="mg/kg SAR",((Q$28*0.001)*$B49),IF(Q$27="mg/kg DM",(((Q$28*0.001)*($B$28/100))*$B49),0)))))))*2.5 -> 0 | R49: =IF(R$27="%w/w SAR",((R$28*10)*$B49),IF(R$27="%w/w DM",(((R$28*10)*($B$28/100))*$B49),IF(R$27="kg/t SAR",(R$28*$B49),IF(R$27="kg/t DM",((R$28*($B$28/100))*$B49),IF(R$27="mg/kg SAR",((R$28*0.001)*$B49),IF(R$27="mg/kg DM",(((R$28*0.001)*($B$28/100))*$B49),0)))))) -> 0 | S49: =IF(S$27="%w/w SAR",((S$28*10)*$B49),IF(S$27="%w/w DM",(((S$28*10)*($B$28/100))*$B49),IF(S$27="kg/t SAR",(S$28*$B49),IF(S$27="kg/t DM",((S$28*($B$28/100))*$B49),IF(S$27="mg/kg SAR",((S$28*0.001)*$B49),IF(S$27="mg/kg DM",(((S$28*0.001)*($B$28/100))*$B49),0)))))) -> 0 | T49: =IF(T$27="%w/w SAR",((T$28*10)*$B49),IF(T$27="%w/w DM",(((T$28*10)*($B$28/100))*$B49),IF(T$27="kg/t SAR",(T$28*$B49),IF(T$27="kg/t DM",((T$28*($B$28/100))*$B49),IF(T$27="mg/kg SAR",((T$28*0.001)*$B49),IF(T$27="mg/kg DM",(((T$28*0.001)*($B$28/100))*$B49),0)))))) -> 0 | U49: =IF(U$27="%w/w SAR",((U$28*10)*$B49),IF(U$27="%w/w DM",(((U$28*10)*($B$28/100))*$B49),IF(U$27="kg/t SAR",(U$28*$B49),IF(U$27="kg/t DM",((U$28*($B$28/100))*$B49),IF(U$27="mg/kg SAR",((U$28*0.001)*$B49),IF(U$27="mg/kg DM",(((U$28*0.001)*($B$28/100))*$B49),0)))))) -> 0
A50: =V8 -> 0 | C50: =IF(C$27="%w/w SAR",((C$28*10)*$B50),IF(C$27="%w/w DM",(((C$28*10)*($B$28/100))*$B50),IF(C$27="kg/t SAR",(C$28*$B50),IF(C$27="kg/t DM",((C$28*($B$28/100))*$B50),IF(C$27="mg/kg SAR",((C$28*0.001)*$B50),IF(C$27="mg/kg DM",(((C$28*0.001)*($B$28/100))*$B50),0)))))) -> 0 | D50: =(IF(D$27="%w/w SAR",((D$28*10)*$B50),IF(D$27="%w/w DM",(((D$28*10)*($B$28/100))*$B50),IF(D$27="kg/t SAR",(D$28*$B50),IF(D$27="kg/t DM",((D$28*($B$28/100))*$B50),IF(D$27="mg/kg SAR",((D$28*0.001)*$B50),IF(D$27="mg/kg DM",(((D$28*0.001)*($B$28/100))*$B50),"0")))))))*2.291 -> 0 | E50: =(IF(E$27="%w/w SAR",((E$28*10)*$B50),IF(E$27="%w/w DM",(((E$28*10)*($B$28/100))*$B50),IF(E$27="kg/t SAR",(E$28*$B50),IF(E$27="kg/t DM",((E$28*($B$28/100))*$B50),IF(E$27="mg/kg SAR",((E$28*0.001)*$B50),IF(E$27="mg/kg DM",(((E$28*0.001)*($B$28/100))*$B50),"0")))))))*1.205 -> 0 | F50: =(IF(F$27="%w/w SAR",((F$28*10)*$B50),IF(F$27="%w/w DM",(((F$28*10)*($B$28/100))*$B50),IF(F$27="kg/t SAR",(F$28*$B50),IF(F$27="kg/t DM",((F$28*($B$28/100))*$B50),IF(F$27="mg/kg SAR",((F$28*0.001)*$B50),IF(F$27="mg/kg DM",(((F$28*0.001)*($B$28/100))*$B50),"0")))))))*1.658 -> 0 | G50: =IF(G$27="%w/w SAR",((G$28*10)*$B50),IF(G$27="%w/w DM",(((G$28*10)*($B$28/100))*$B50),IF(G$27="kg/t SAR",(G$28*$B50),IF(G$27="kg/t DM",((G$28*($B$28/100))*$B50),IF(G$27="mg/kg SAR",((G$28*0.001)*$B50),IF(G$27="mg/kg DM",(((G$28*0.001)*($B$28/100))*$B50),0)))))) -> 0 | H50: =IF(H$27="%w/w SAR",((H$28*10)*$B50),IF(H$27="%w/w DM",(((H$28*10)*($B$28/100))*$B50),IF(H$27="kg/t SAR",(H$28*$B50),IF(H$27="kg/t DM",((H$28*($B$28/100))*$B50),IF(H$27="mg/kg SAR",((H$28*0.001)*$B50),IF(H$27="mg/kg DM",(((H$28*0.001)*($B$28/100))*$B50),0)))))) -> 0 | I50: =IF(I$27="%w/w SAR",((I$28*10)*$B50),IF(I$27="%w/w DM",(((I$28*10)*($B$28/100))*$B50),IF(I$27="kg/t SAR",(I$28*$B50),IF(I$27="kg/t DM",((I$28*($B$28/100))*$B50),IF(I$27="mg/kg SAR",((I$28*0.001)*$B50),IF(I$27="mg/kg DM",(((I$28*0.001)*($B$28/100))*$B50),0)))))) -> 0 | J50: =IF(J$27="%w/w SAR",((J$28*10)*$B50),IF(J$27="%w/w DM",(((J$28*10)*($B$28/100))*$B50),IF(J$27="kg/t SAR",(J$28*$B50),IF(J$27="kg/t DM",((J$28*($B$28/100))*$B50),IF(J$27="mg/kg SAR",((J$28*0.001)*$B50),IF(J$27="mg/kg DM",(((J$28*0.001)*($B$28/100))*$B50),0)))))) -> 0 | K50: =IF(K$27="%w/w SAR",((K$28*10)*$B50),IF(K$27="%w/w DM",(((K$28*10)*($B$28/100))*$B50),IF(K$27="kg/t SAR",(K$28*$B50),IF(K$27="kg/t DM",((K$28*($B$28/100))*$B50),IF(K$27="mg/kg SAR",((K$28*0.001)*$B50),IF(K$27="mg/kg DM",(((K$28*0.001)*($B$28/100))*$B50),0)))))) -> 0 | L50: =IF(L$27="%w/w SAR",((L$28*10)*$B50),IF(L$27="%w/w DM",(((L$28*10)*($B$28/100))*$B50),IF(L$27="kg/t SAR",(L$28*$B50),IF(L$27="kg/t DM",((L$28*($B$28/100))*$B50),IF(L$27="mg/kg SAR",((L$28*0.001)*$B50),IF(L$27="mg/kg DM",(((L$28*0.001)*($B$28/100))*$B50),0)))))) -> 0 | M50: =IF(M$27="%w/w SAR",((M$28*10)*$B50),IF(M$27="%w/w DM",(((M$28*10)*($B$28/100))*$B50),IF(M$27="kg/t SAR",(M$28*$B50),IF(M$27="kg/t DM",((M$28*($B$28/100))*$B50),IF(M$27="mg/kg SAR",((M$28*0.001)*$B50),IF(M$27="mg/kg DM",(((M$28*0.001)*($B$28/100))*$B50),0)))))) -> 0 | N50: =IF(N$27="%w/w SAR",((N$28*10)*$B50),IF(N$27="%w/w DM",(((N$28*10)*($B$28/100))*$B50),IF(N$27="kg/t SAR",(N$28*$B50),IF(N$27="kg/t DM",((N$28*($B$28/100))*$B50),IF(N$27="mg/kg SAR",((N$28*0.001)*$B50),IF(N$27="mg/kg DM",(((N$28*0.001)*($B$28/100))*$B50),0)))))) -> 0 | ... P50: =IF(P$27="%w/w SAR",((P$28*10)*$B50),IF(P$27="%w/w DM",(((P$28*10)*($B$28/100))*$B50),IF(P$27="kg/t SAR",(P$28*$B50),IF(P$27="kg/t DM",((P$28*($B$28/100))*$B50),IF(P$27="mg/kg SAR",((P$28*0.001)*$B50),IF(P$27="mg/kg DM",(((P$28*0.001)*($B$28/100))*$B50),0)))))) -> 0 | Q50: =(IF(Q$27="%w/w SAR",((Q$28*10)*$B50),IF(Q$27="%w/w DM",(((Q$28*10)*($B$28/100))*$B50),IF(Q$27="kg/t SAR",(Q$28*$B50),IF(Q$27="kg/t DM",((Q$28*($B$28/100))*$B50),IF(Q$27="mg/kg SAR",((Q$28*0.001)*$B50),IF(Q$27="mg/kg DM",(((Q$28*0.001)*($B$28/100))*$B50),0)))))))*2.5 -> 0 | R50: =IF(R$27="%w/w SAR",((R$28*10)*$B50),IF(R$27="%w/w DM",(((R$28*10)*($B$28/100))*$B50),IF(R$27="kg/t SAR",(R$28*$B50),IF(R$27="kg/t DM",((R$28*($B$28/100))*$B50),IF(R$27="mg/kg SAR",((R$28*0.001)*$B50),IF(R$27="mg/kg DM",(((R$28*0.001)*($B$28/100))*$B50),0)))))) -> 0 | S50: =IF(S$27="%w/w SAR",((S$28*10)*$B50),IF(S$27="%w/w DM",(((S$28*10)*($B$28/100))*$B50),IF(S$27="kg/t SAR",(S$28*$B50),IF(S$27="kg/t DM",((S$28*($B$28/100))*$B50),IF(S$27="mg/kg SAR",((S$28*0.001)*$B50),IF(S$27="mg/kg DM",(((S$28*0.001)*($B$28/100))*$B50),0)))))) -> 0 | T50: =IF(T$27="%w/w SAR",((T$28*10)*$B50),IF(T$27="%w/w DM",(((T$28*10)*($B$28/100))*$B50),IF(T$27="kg/t SAR",(T$28*$B50),IF(T$27="kg/t DM",((T$28*($B$28/100))*$B50),IF(T$27="mg/kg SAR",((T$28*0.001)*$B50),IF(T$27="mg/kg DM",(((T$28*0.001)*($B$28/100))*$B50),0)))))) -> 0 | U50: =IF(U$27="%w/w SAR",((U$28*10)*$B50),IF(U$27="%w/w DM",(((U$28*10)*($B$28/100))*$B50),IF(U$27="kg/t SAR",(U$28*$B50),IF(U$27="kg/t DM",((U$28*($B$28/100))*$B50),IF(U$27="mg/kg SAR",((U$28*0.001)*$B50),IF(U$27="mg/kg DM",(((U$28*0.001)*($B$28/100))*$B50),0)))))) -> 0
A51: LIMIT | B51: 250 | C51: 250 | D51: Crop Requirement | E51: Crop Requirement | F51: Crop Requirement | G51: 7.5 | H51: 15 | I51: 15 | J51: 0.15 | K51: 0.1 | L51: 3 | M51: 15 | N51: TBC | O51: TBC | P51: 360 | Q51: Crop requirement x10 | R51: 0.15 | S51: 0.7 | T51: 0.2 | U51: 20
A53: Lime Calculation
B54: Dry Matter (if SAR use 100%) | C54: TNV of Waste as CaO (%) | D54: CaO Calculation | E54: CaO Conversion to CaCO3 | F54: TNV of Waste as CaCo3 (%) | G54: CaCo3 Calculation
D55: =(B55/100)*C55 -> 0 | E55: =G55 -> 0 | G55: =(B55/100)*F55 -> 0
A56: Field number | B56: 1 | C56: 2 | D56: 3 | E56: 4 | F56: 5 | G56: 6 | H56: 7 | I56: 8 | J56: 9 | K56: 10 | L56: 11 | M56: 12 | N56: 13 | O56: 14 | P56: 15 | Q56: 16 | R56: 17 | S56: 18 | T56: 19 | U56: 20
A57: Field Ref | B57: =C8 -> T1 | C57: =D8 -> T2 | D57: =E8 -> T3 | E57: =F8 -> T4 | F57: =G8 -> T5 | G57: =H8 -> T6 | H57: =I8 -> T7 | I57: =J8 -> T8 | ... U57: =V8 -> 0
A58: Soil Crop Type | B58: =C16&" I "&(VLOOKUP(C14,Table24[],6,FALSE)) -> Medium/Clay I Grass | C58: =D16&" I "&(VLOOKUP(D14,Table24[],6,FALSE)) -> Medium/Clay I Grass | D58: =E16&" I "&(VLOOKUP(E14,Table24[],6,FALSE)) -> Medium/Clay I Grass | E58: =F16&" I "&(VLOOKUP(F14,Table24[],6,FALSE)) -> Medium/Clay I Grass | F58: =G16&" I "&(VLOOKUP(G14,Table24[],6,FALSE)) -> Medium/Clay I Grass | G58: =H16&" I "&(VLOOKUP(H14,Table24[],6,FALSE)) -> Medium/Clay I Arable | H58: =I16&" I "&(VLOOKUP(I14,Table24[],6,FALSE)) -> Medium/Clay I Grass | I58: =J16&" I "&(VLOOKUP(J14,Table24[],6,FALSE)) -> Medium/Clay I Arable | ... U58: =V16&" I "&(VLOOKUP(V14,Table24[],6,FALSE)) -> #N/A
A59: Cropping pH | B59: =VLOOKUP(C$14,Table24[],5,FALSE) -> 6.2 | C59: =VLOOKUP(D$14,Table24[],5,FALSE) -> 6.2 | D59: =VLOOKUP(E$14,Table24[],5,FALSE) -> 6.2 | E59: =VLOOKUP(F$14,Table24[],5,FALSE) -> 6.2 | F59: =VLOOKUP(G$14,Table24[],5,FALSE) -> 6.2 | G59: =VLOOKUP(H$14,Table24[],5,FALSE) -> 6.7 | H59: =VLOOKUP(I$14,Table24[],5,FALSE) -> 6.2 | I59: =VLOOKUP(J$14,Table24[],5,FALSE) -> 6.7 | ... U59: =VLOOKUP(V$14,Table24[],5,FALSE) -> #N/A
A60: Field pH | B60: =C10 -> 7.1 | C60: =D10 -> 6.8 | D60: =E10 -> 6.9 | E60: =F10 -> 5.6 | F60: =G10 -> 5.8 | G60: =H10 -> 5.7 | H60: =I10 -> 5.7 | I60: =J10 -> 5.6 | ... U60: =V10 -> 0
A61: Soil pH | B61: =VLOOKUP(B58,$AD9:$AE18,2,FALSE) -> 6 | C61: =VLOOKUP(C58,$AD9:$AE18,2,FALSE) -> 6 | D61: =VLOOKUP(D58,$AD9:$AE18,2,FALSE) -> 6 | E61: =VLOOKUP(E58,$AD9:$AE18,2,FALSE) -> 6 | F61: =VLOOKUP(F58,$AD9:$AE18,2,FALSE) -> 6 | G61: =VLOOKUP(G58,$AD9:$AE18,2,FALSE) -> 8 | H61: =VLOOKUP(H58,$AD9:$AE18,2,FALSE) -> 6 | I61: =VLOOKUP(I58,$AD9:$AE18,2,FALSE) -> 8 | ... U61: =VLOOKUP(U58,$AD9:$AE18,2,FALSE) -> #N/A
A62: App rate | B62: =B31 -> 100 | C62: =B32 -> 100 | D62: =B33 -> 100 | E62: =B34 -> 100 | F62: =B35 -> 100 | G62: =B36 -> 45 | H62: =B37 -> 100 | I62: =B38 -> 45 | J62: =B39 -> 100 | K62: =B40 -> 100 | L62: =B41 -> 0 | M62: =B42 -> 0 | N62: =B43 -> 0 | O62: =B44 -> 0 | P62: =B45 -> 0 | Q62: =B46 -> 0 | R62: =B47 -> 0 | S62: =B48 -> 0 | T62: =B49 -> 0 | U62: =B50 -> 0
A63: Lime applied in waste t/ha | B63: =$E55*(B62/100) -> 0 | C63: =$E55*(C62/100) -> 0 | D63: =$E55*(D62/100) -> 0 | E63: =$E55*(E62/100) -> 0 | F63: =$E55*(F62/100) -> 0 | G63: =$E55*(G62/100) -> 0 | H63: =$E55*(H62/100) -> 0 | I63: =$E55*(I62/100) -> 0 | ... U63: =$E55*(U62/100) -> 0
A64: Lime required to bring pH to target level t/a CaCo3 | B64: =(B59-B60)*B61 -> -5.4 | C64: =(C59-C60)*C61 -> -3.6 | D64: =(D59-D60)*D61 -> -4.2 | E64: =(E59-E60)*E61 -> 3.6 | F64: =(F59-F60)*F61 -> 2.4 | G64: =(G59-G60)*G61 -> 8 | H64: =(H59-H60)*H61 -> 3 | I64: =(I59-I60)*I61 -> 8.8 | ... U64: =(U59-U60)*U61 -> #N/A
A65: Difference between applied and required | B65: =B63-B64 -> 5.4 | C65: =C63-C64 -> 3.6 | D65: =D63-D64 -> 4.2 | E65: =E63-E64 -> -3.6 | F65: =F63-F64 -> -2.4 | G65: =G63-G64 -> -8 | H65: =H63-H64 -> -3 | I65: =I63-I64 -> -8.8 | ... U65: =U63-U64 -> #N/A
A66: Over or Under Applying? | B66: =IF(B64<=B63,"OVER","UNDER") -> OVER | C66: =IF(C64<=C63,"OVER","UNDER") -> OVER | D66: =IF(D64<=D63,"OVER","UNDER") -> OVER | E66: =IF(E64<=E63,"OVER","UNDER") -> UNDER | F66: =IF(F64<=F63,"OVER","UNDER") -> UNDER | G66: =IF(G64<=G63,"OVER","UNDER") -> UNDER | H66: =IF(H64<=H63,"OVER","UNDER") -> UNDER | I66: =IF(I64<=I63,"OVER","UNDER") -> UNDER | ... U66: =IF(U64<=U63,"OVER","UNDER") -> #N/A

Sheet Heavy Eff
A1: PAN reference | C1: =DAF!C1:D1 -> PAN-024920 | E1: Total spread area | F1: =DAF!F1 -> 50 | G1: Waste pH | I1: 6.51 | J1: Ammonium Nitrogen (mg/kg) | L1: 25 | AD1: Choose | AI1: Crop | AJ1: P Offtake | AK1: K Offtake | AL1: Order | AM1: Lime pH requirement | AN1: Column1
A2: Permit reference | C2: =DAF!C2:D2 -> EPR/JB3533RJ | E2: Waste type EWC | F2: 02 05 01 | G2: Conductivity µS/cm (limit 5000 µS/cm) | I2: 607 | J2: Total Nitrogen (% w/w) | L2: 0.17 | AB2: %w/w SAR | AD2: Sandy | AG2: Solid | AI2: Choose | AJ2: 0 | AK2: 0 | AL2: 0 | AM2: 0 | AN2: 0
A3: Operator | C3: =DAF!C3:D3 -> Simon Jones | E3: Waste physical form | F3: Liquid | G3: Fats & Oils (mg/kg) (limit 40,000 mg/kg or 4%) | I3: 200 | J3: Readily available nitrogen content % | L3: =(L1/(L2*10000))*100 -> 1.4705882 | AB3: %w/w DM | AD3: Sandy Loam | AG3: Liquid | AI3: Grass Silage (25% DM) | AJ3: 1.7 | AK3: 6 | AL3: 1 | AM3: 6.2 | AN3: Grass
A4: Farm Address | C4: =DAF!C4:D4 -> Land at Sarn Fadog, Llanerchymedd, LL71 8ER | E4: Waste Ref/Name | F4: Heavy Eff | AB4: kg/t SAR | AD4: Medium/Clay | AG4: Sludge | AI4: Winter wheat- grain & straw | AJ4: 7 | AK4: 10.5 | AL4: 2 | AM4: 6.7 | AN4: Arable
A5: Assessed By | C5: =DAF!C5:D5 -> Megan Tucker | AB5: kg/t DM | AD5: Organic | AG5: Sludge Cake | AI5: Winter wheat- grain only | AJ5: 6.5 | AK5: 5.5 | AL5: 3 | AM5: 6.7 | AN5: Arable
AB6: mg/kg SAR | AD6: Peat | AI6: Spring wheat/barley | AJ6: 8.5 | AK6: 12 | AL6: 4 | AM6: 6.7 | AN6: Arable
A7: Field number | C7: 1 | D7: 2 | E7: 3 | F7: 4 | G7: 5 | H7: 6 | I7: 7 | J7: 8 | K7: 9 | L7: 10 | M7: 11 | N7: 12 | O7: 13 | P7: 14 | Q7: 15 | R7: 16 | S7: 17 | T7: 18 | U7: 19 | V7: 20 | AB7: mg/kg DM | AI7: Winter barley/triticale/rye | AJ7: 8.5 | AK7: 10.5 | AL7: 5 | AM7: 6.7 | AN7: Arable
A8: Field Ref | C8: =DAF!C8 -> T1 | D8: =DAF!D8 -> T2 | E8: =DAF!E8 -> T3 | F8: =DAF!F8 -> T4 | G8: =DAF!G8 -> T5 | H8: =DAF!H8 -> T6 | I8: =DAF!I8 -> T7 | J8: =DAF!J8 -> T8 | ... V8: =DAF!V8 -> 0 | AE8: lime pH | AI8: Maize- Silage (30% DM) | AJ8: 1.4 | AK8: 4.4 | AL8: 6 | AM8: 6.7 | AN8: Arable
A9: SNS Index | C9: =DAF!C9 -> M | D9: =DAF!D9 -> M | E9: =DAF!E9 -> M | F9: =DAF!F9 -> M | G9: =DAF!G9 -> M | H9: =DAF!H9 -> M | I9: =DAF!I9 -> M | J9: =DAF!J9 -> M | ... V9: =DAF!V9 -> 0 | AD9: Sandy I Grass | AE9: 4.5 | AI9: Fodder beet (roots only) | AJ9: 0.7 | AK9: 4 | AL9: 7 | AM9: 6.7 | AN9: Arable
A10: Field pH | C10: =DAF!C10 -> 7.1 | D10: =DAF!D10 -> 6.8 | E10: =DAF!E10 -> 6.9 | F10: =DAF!F10 -> 5.6 | G10: =DAF!G10 -> 5.8 | H10: =DAF!H10 -> 5.7 | I10: =DAF!I10 -> 5.7 | J10: =DAF!J10 -> 5.6 | ... V10: =DAF!V10 -> 0 | AD10: Sandy Loam I Grass | AE10: 5 | AI10: Oats | AJ10: 9 | AK10: 16.5 | AL10: 8 | AM10: 6.7 | AN10: Arable
A11: Phosphorus Index | C11: =DAF!C11 -> 2 | D11: =DAF!D11 -> 2 | E11: =DAF!E11 -> 2 | F11: =DAF!F11 -> 2 | G11: =DAF!G11 -> 1 | H11: =DAF!H11 -> 1 | I11: =DAF!I11 -> 2 | J11: =DAF!J11 -> 3 | ... V11: =DAF!V11 -> 0 | AD11: Medium/Clay I Grass | AE11: 6 | AI11: Oilseed rape- seed & straw | AJ11: 15 | AK11: 17.5 | AL11: 9 | AM11: 7 | AN11: Arable
A12: Potassium Index | C12: =DAF!C12 -> 3 | D12: =DAF!D12 -> 2 | E12: =DAF!E12 -> 3 | F12: =DAF!F12 -> 1 | G12: =DAF!G12 -> 0 | H12: =DAF!H12 -> 1 | I12: =DAF!I12 -> 1 | J12: =DAF!J12 -> 1 | ... V12: =DAF!V12 -> 0 | AD12: Organic I Grass | AE12: 7.5 | AI12: Oilseed rape- seed only | AJ12: 14 | AK12: 11 | AL12: 10 | AM12: 7 | AN12: Arable
A13: Magnesium Index | C13: =DAF!C13 -> 3 | D13: =DAF!D13 -> 2 | E13: =DAF!E13 -> 2 | F13: =DAF!F13 -> 3 | G13: =DAF!G13 -> 3 | H13: =DAF!H13 -> 3 | I13: =DAF!I13 -> 3 | J13: =DAF!J13 -> 3 | ... V13: =DAF!V13 -> 0 | AD13: Peat I Grass | AE13: 12 | AI13: Sugar beet- roots & tops | AJ13: 1.9 | AK13: 7.5 | AL13: 11 | AM13: 6.7 | AN13: Arable
A14: Benefiting Crop | C14: =DAF!C14 -> Grass Silage (30% DM) | D14: =DAF!D14 -> Grass Silage (30% DM) | E14: =DAF!E14 -> Grass Silage (30% DM) | F14: =DAF!F14 -> Grass Silage (30% DM) | G14: =DAF!G14 -> Grass Silage (30% DM) | H14: =DAF!H14 -> Swedes- roots only | I14: =DAF!I14 -> Grass Silage (30% DM) | J14: =DAF!J14 -> Swedes- roots only | ... V14: =DAF!V14 -> 0 | AD14: Sandy I Arable | AE14: 6 | AI14: Sugar beet- roots only | AJ14: 0.8 | AK14: 1.7 | AL14: 12 | AM14: 6.7 | AN14: Arable
A15: Expected Yield | C15: =DAF!C15 -> 47 | D15: =DAF!D15 -> 47 | E15: =DAF!E15 -> 47 | F15: =DAF!F15 -> 47 | G15: =DAF!G15 -> 47 | H15: =DAF!H15 -> 65 | I15: =DAF!I15 -> 47 | J15: =DAF!J15 -> 65 | ... V15: =DAF!V15 -> 0 | AD15: Sandy Loam I Arable | AE15: 7 | AI15: Wholecrop cereals | AJ15: 1.8 | AK15: 5.4 | AL15: 13 | AM15: 6.7 | AN15: Arable
A16: Soil Type | C16: =DAF!C16 -> Medium/Clay | D16: =DAF!D16 -> Medium/Clay | E16: =DAF!E16 -> Medium/Clay | F16: =DAF!F16 -> Medium/Clay | G16: =DAF!G16 -> Medium/Clay | H16: =DAF!H16 -> Medium/Clay | I16: =DAF!I16 -> Medium/Clay | J16: =DAF!J16 -> Medium/Clay | ... V16: =DAF!V16 -> 0 | AD16: Medium/Clay I Arable | AE16: 8 | AI16: All other cereals- grain only | AJ16: 8 | AK16: 5.5 | AL16: 14 | AM16: 6.7 | AN16: Arable
A17: Phosphate Offtake | C17: =(VLOOKUP(C$14,$AI2:$AK26,2,FALSE))*C$15 -> 98.7 | D17: =(VLOOKUP(D$14,$AI2:$AK26,2,FALSE))*D$15 -> 98.7 | E17: =(VLOOKUP(E$14,$AI2:$AK26,2,FALSE))*E$15 -> 98.7 | F17: =(VLOOKUP(F$14,$AI2:$AK26,2,FALSE))*F$15 -> 98.7 | G17: =(VLOOKUP(G$14,$AI2:$AK26,2,FALSE))*G$15 -> 98.7 | H17: =(VLOOKUP(H$14,$AI2:$AK26,2,FALSE))*H$15 -> 45.5 | I17: =(VLOOKUP(I$14,$AI2:$AK26,2,FALSE))*I$15 -> 98.7 | J17: =(VLOOKUP(J$14,$AI2:$AK26,2,FALSE))*J$15 -> 45.5 | ... V17: =(VLOOKUP(V$14,$AI2:$AK26,2,FALSE))*V$15 -> #N/A | AD17: Organic I Arable | AE17: 10 | AI17: Fresh grass (15-20% DM) | AJ17: 1.4 | AK17: 4.8 | AL17: 15 | AM17: 6.2 | AN17: Grass
A18: Phosphate Addition | C18: =$D31 -> 48.68375 | D18: =$D32 -> 48.68375 | E18: =$D33 -> 48.68375 | F18: =$D34 -> 48.68375 | G18: =$D35 -> 48.68375 | H18: =$D36 -> 31.1576 | I18: =$D37 -> 48.68375 | J18: =$D38 -> 31.1576 | K18: =$D39 -> 48.68375 | L18: =$D40 -> 48.68375 | M18: =$D41 -> 0 | N18: =$D42 -> 0 | O18: =$D43 -> 0 | P18: =$D44 -> 0 | Q18: =$D45 -> 0 | R18: =$D46 -> 0 | S18: =$D47 -> 0 | T18: =$D48 -> 0 | U18: =$D49 -> 0 | V18: =$D50 -> 0 | AD18: Peat I Arable | AE18: 16 | AI18: Hay (86% DM) | AJ18: 5.9 | AK18: 18 | AL18: 16 | AM18: 6.2 | AN18: Grass
A19: Phosphate Difference | C19: =C18-C17 -> -50.01625 | D19: =D18-D17 -> -50.01625 | E19: =E18-E17 -> -50.01625 | F19: =F18-F17 -> -50.01625 | G19: =G18-G17 -> -50.01625 | H19: =H18-H17 -> -14.3424 | I19: =I18-I17 -> -50.01625 | J19: =J18-J17 -> -14.3424 | ... V19: =V18-V17 -> #N/A | AI19: Haylage (45% DM) | AJ19: 3.2 | AK19: 10.5 | AL19: 17 | AM19: 6.2 | AN19: Grass
A20: Phosphate Increase/decrease | C20: =IF($B31="","",IF(C$19>=0,"INCREASE","DECREASE")) -> DECREASE | D20: =IF($B32="","",IF(D$19>=0,"INCREASE","DECREASE")) -> DECREASE | E20: =IF($B33="","",IF(E$19>=0,"INCREASE","DECREASE")) -> DECREASE | F20: =IF($B34="","",IF(F$19>=0,"INCREASE","DECREASE")) -> DECREASE | G20: =IF($B35="","",IF(G$19>=0,"INCREASE","DECREASE")) -> DECREASE | H20: =IF($B36="","",IF(H$19>=0,"INCREASE","DECREASE")) -> DECREASE | I20: =IF($B37="","",IF(I$19>=0,"INCREASE","DECREASE")) -> DECREASE | J20: =IF($B38="","",IF(J$19>=0,"INCREASE","DECREASE")) -> DECREASE | K20: =IF($B39="","",IF(K$19>=0,"INCREASE","DECREASE")) -> DECREASE | L20: =IF($B40="","",IF(L$19>=0,"INCREASE","DECREASE")) -> DECREASE | M20: =IF($B41="","",IF(M$19>=0,"INCREASE","DECREASE")) | N20: =IF($B42="","",IF(N$19>=0,"INCREASE","DECREASE")) | O20: =IF($B43="","",IF(O$19>=0,"INCREASE","DECREASE")) | P20: =IF($B44="","",IF(P$19>=0,"INCREASE","DECREASE")) | Q20: =IF($B45="","",IF(Q$19>=0,"INCREASE","DECREASE")) | R20: =IF($B46="","",IF(R$19>=0,"INCREASE","DECREASE")) | S20: =IF($B47="","",IF(S$19>=0,"INCREASE","DECREASE")) | T20: =IF($B48="","",IF(T$19>=0,"INCREASE","DECREASE")) | U20: =IF($B49="","",IF(U$19>=0,"INCREASE","DECREASE")) | V20: =IF($B50="","",IF(V$19>=0,"INCREASE","DECREASE")) | AI20: Grass Silage (30% DM) | AJ20: 2.1 | AK20: 7.2 | AL20: 18 | AM20: 6.2 | AN20: Grass
A21: Potash Offtake | C21: =(VLOOKUP(C$14,$AI2:$AK26,3,FALSE))*C$15 -> 338.4 | D21: =(VLOOKUP(D$14,$AI2:$AK26,3,FALSE))*D$15 -> 338.4 | E21: =(VLOOKUP(E$14,$AI2:$AK26,3,FALSE))*E$15 -> 338.4 | F21: =(VLOOKUP(F$14,$AI2:$AK26,3,FALSE))*F$15 -> 338.4 | G21: =(VLOOKUP(G$14,$AI2:$AK26,3,FALSE))*G$15 -> 338.4 | H21: =(VLOOKUP(H$14,$AI2:$AK26,3,FALSE))*H$15 -> 156 | I21: =(VLOOKUP(I$14,$AI2:$AK26,3,FALSE))*I$15 -> 338.4 | J21: =(VLOOKUP(J$14,$AI2:$AK26,3,FALSE))*J$15 -> 156 | ... V21: =(VLOOKUP(V$14,$AI2:$AK26,3,FALSE))*V$15 -> #N/A | AI21: Field beans | AJ21: 11 | AK21: 12 | AL21: 19 | AM21: 6.7 | AN21: Arable
A22: Potash Addition | C22: =$E31 -> 18.075 | D22: =$E32 -> 18.075 | E22: =$E33 -> 18.075 | F22: =$E34 -> 18.075 | G22: =$E35 -> 18.075 | H22: =$E36 -> 11.568 | I22: =$E37 -> 18.075 | J22: =$E38 -> 11.568 | K22: =$E39 -> 18.075 | L22: =$E40 -> 18.075 | M22: =$E41 -> 0 | N22: =$E42 -> 0 | O22: =$E43 -> 0 | P22: =$E44 -> 0 | Q22: =$E45 -> 0 | R22: =$E46 -> 0 | S22: =$E47 -> 0 | T22: =$E48 -> 0 | U22: =$E49 -> 0 | V22: =$E50 -> 0 | AI22: Kale | AJ22: 1.2 | AK22: 5 | AL22: 20 | AM22: 6.7 | AN22: Arable
A23: Potash Difference | C23: =C22-C21 -> -320.325 | D23: =D22-D21 -> -320.325 | E23: =E22-E21 -> -320.325 | F23: =F22-F21 -> -320.325 | G23: =G22-G21 -> -320.325 | H23: =H22-H21 -> -144.432 | I23: =I22-I21 -> -320.325 | J23: =J22-J21 -> -144.432 | ... V23: =V22-V21 -> #N/A | AI23: Peas- Dried | AJ23: 9 | AK23: 10 | AL23: 21 | AM23: 6.7 | AN23: Arable
A24: Potash Increase/decrease | C24: =IF($B31="","",IF(C$23>=0,"INCREASE","DECREASE")) -> DECREASE | D24: =IF($B31="","",IF(D$23>=0,"INCREASE","DECREASE")) -> DECREASE | E24: =IF($B31="","",IF(E$23>=0,"INCREASE","DECREASE")) -> DECREASE | F24: =IF($B31="","",IF(F$23>=0,"INCREASE","DECREASE")) -> DECREASE | G24: =IF($B31="","",IF(G$23>=0,"INCREASE","DECREASE")) -> DECREASE | H24: =IF($B31="","",IF(H$23>=0,"INCREASE","DECREASE")) -> DECREASE | I24: =IF($B31="","",IF(I$23>=0,"INCREASE","DECREASE")) -> DECREASE | J24: =IF($B31="","",IF(J$23>=0,"INCREASE","DECREASE")) -> DECREASE | ... V24: =IF($B31="","",IF(V$23>=0,"INCREASE","DECREASE")) -> #N/A | AI24: Peas- Vining | AJ24: 1.5 | AK24: 3 | AL24: 22 | AM24: 6.7 | AN24: Arable
AI25: Potatoes- tubers only | AJ25: 1 | AK25: 5.8 | AL25: 23 | AM25: 6.7 | AN25: Arable
B26: Dry Matter | C26: Total Nitrogen | D26: Total Phosphorus (P) | E26: Total Potassium (K) | F26: Total Magnesium (Mg) | G26: Total Copper | H26: Total Zinc | I26: Total Lead | J26: Total Cadmium | K26: Total Mercury | L26: Total Nickel | M26: Total Chromium | N26: Total Aluminium | O26: Total Iron | P26: Total Na (Sodium) | Q26: Total Sulphur (S) | R26: Total Selenium | S26: Total Arsenic | T26: Total Mo | U26: Total Fluoride | AI26: Swedes- roots only | AJ26: 0.7 | AK26: 2.4 | AL26: 24 | AM26: 6.7 | AN26: Arable
B27: % | C27: %w/w SAR | D27: %w/w SAR | E27: %w/w SAR | F27: %w/w SAR | G27: mg/kg SAR | H27: mg/kg SAR | I27: mg/kg SAR | J27: mg/kg SAR | K27: mg/kg SAR | L27: mg/kg SAR | M27: mg/kg SAR | P27: %w/w SAR | Q27: %w/w SAR | S27: mg/kg SAR
B28: 1.81 | C28: 0.17 | D28: 0.017 | E28: 0.012 | F28: 0.001 | G28: 0.2 | H28: 1.1 | I28: 0.5 | J28: 0.01 | K28: 0.05 | L28: 0.2 | M28: 0.2 | P28: 0.083 | Q28: 0.011 | S28: 0.5
A29: Field Ref | B29: Application Rate | C29: Nitrogen Addition | D29: Phosphate Addition | E29: Potash Addition | F29: Mg Oxide Addition | G29: Copper Addition | H29: Zinc Addition | I29: Lead Addition | J29: Cadmium Addition | K29: Mercury Addition | L29: Nickel Addition | M29: Chromium Addition | N29: Aluminium Addition | O29: Iron Addition | P29: Sodium Addition | Q29: SO3 Addition kg/ha | R29: Selenium Addition | S29: Arsenic Addition | T29: Molybdenum Addition | U29: Fluoride Addition
B30: tonnes/ha | C30: kg/ha | D30: P2O5 kg/ha | E30: K2O kg/ha | F30: MgO kg/ha | G30: kg/ha | H30: kg/ha | I30: kg/ha | J30: kg/ha | K30: kg/ha | L30: kg/ha | M30: kg/ha | N30: kg/ha | O30: kg/ha | P30: kg/ha | Q30: kg/ha | R30: kg/ha | S30: kg/ha | T30: kg/ha | U30: kg/ha
A31: =C8 -> T1 | B31: 125 | C31: =IF(C$27="%w/w SAR",((C$28*10)*$B31),IF(C$27="%w/w DM",(((C$28*10)*($B$28/100))*$B31),IF(C$27="kg/t SAR",(C$28*$B31),IF(C$27="kg/t DM",((C$28*($B$28/100))*$B31),IF(C$27="mg/kg SAR",((C$28*0.001)*$B31),IF(C$27="mg/kg DM",(((C$28*0.001)*($B$28/100))*$B31),0)))))) -> 212.5 | D31: =(IF(D$27="%w/w SAR",((D$28*10)*$B31),IF(D$27="%w/w DM",(((D$28*10)*($B$28/100))*$B31),IF(D$27="kg/t SAR",(D$28*$B31),IF(D$27="kg/t DM",((D$28*($B$28/100))*$B31),IF(D$27="mg/kg SAR",((D$28*0.001)*$B31),IF(D$27="mg/kg DM",(((D$28*0.001)*($B$28/100))*$B31),"0")))))))*2.291 -> 48.68375 | E31: =(IF(E$27="%w/w SAR",((E$28*10)*$B31),IF(E$27="%w/w DM",(((E$28*10)*($B$28/100))*$B31),IF(E$27="kg/t SAR",(E$28*$B31),IF(E$27="kg/t DM",((E$28*($B$28/100))*$B31),IF(E$27="mg/kg SAR",((E$28*0.001)*$B31),IF(E$27="mg/kg DM",(((E$28*0.001)*($B$28/100))*$B31),"0")))))))*1.205 -> 18.075 | F31: =(IF(F$27="%w/w SAR",((F$28*10)*$B31),IF(F$27="%w/w DM",(((F$28*10)*($B$28/100))*$B31),IF(F$27="kg/t SAR",(F$28*$B31),IF(F$27="kg/t DM",((F$28*($B$28/100))*$B31),IF(F$27="mg/kg SAR",((F$28*0.001)*$B31),IF(F$27="mg/kg DM",(((F$28*0.001)*($B$28/100))*$B31),"0")))))))*1.658 -> 2.0725 | G31: =IF(G$27="%w/w SAR",((G$28*10)*$B31),IF(G$27="%w/w DM",(((G$28*10)*($B$28/100))*$B31),IF(G$27="kg/t SAR",(G$28*$B31),IF(G$27="kg/t DM",((G$28*($B$28/100))*$B31),IF(G$27="mg/kg SAR",((G$28*0.001)*$B31),IF(G$27="mg/kg DM",(((G$28*0.001)*($B$28/100))*$B31),0)))))) -> 0.025 | H31: =IF(H$27="%w/w SAR",((H$28*10)*$B31),IF(H$27="%w/w DM",(((H$28*10)*($B$28/100))*$B31),IF(H$27="kg/t SAR",(H$28*$B31),IF(H$27="kg/t DM",((H$28*($B$28/100))*$B31),IF(H$27="mg/kg SAR",((H$28*0.001)*$B31),IF(H$27="mg/kg DM",(((H$28*0.001)*($B$28/100))*$B31),0)))))) -> 0.1375 | I31: =IF(I$27="%w/w SAR",((I$28*10)*$B31),IF(I$27="%w/w DM",(((I$28*10)*($B$28/100))*$B31),IF(I$27="kg/t SAR",(I$28*$B31),IF(I$27="kg/t DM",((I$28*($B$28/100))*$B31),IF(I$27="mg/kg SAR",((I$28*0.001)*$B31),IF(I$27="mg/kg DM",(((I$28*0.001)*($B$28/100))*$B31),0)))))) -> 0.0625 | J31: =IF(J$27="%w/w SAR",((J$28*10)*$B31),IF(J$27="%w/w DM",(((J$28*10)*($B$28/100))*$B31),IF(J$27="kg/t SAR",(J$28*$B31),IF(J$27="kg/t DM",((J$28*($B$28/100))*$B31),IF(J$27="mg/kg SAR",((J$28*0.001)*$B31),IF(J$27="mg/kg DM",(((J$28*0.001)*($B$28/100))*$B31),0)))))) -> 0.00125 | K31: =IF(K$27="%w/w SAR",((K$28*10)*$B31),IF(K$27="%w/w DM",(((K$28*10)*($B$28/100))*$B31),IF(K$27="kg/t SAR",(K$28*$B31),IF(K$27="kg/t DM",((K$28*($B$28/100))*$B31),IF(K$27="mg/kg SAR",((K$28*0.001)*$B31),IF(K$27="mg/kg DM",(((K$28*0.001)*($B$28/100))*$B31),0)))))) -> 0.00625 | L31: =IF(L$27="%w/w SAR",((L$28*10)*$B31),IF(L$27="%w/w DM",(((L$28*10)*($B$28/100))*$B31),IF(L$27="kg/t SAR",(L$28*$B31),IF(L$27="kg/t DM",((L$28*($B$28/100))*$B31),IF(L$27="mg/kg SAR",((L$28*0.001)*$B31),IF(L$27="mg/kg DM",(((L$28*0.001)*($B$28/100))*$B31),0)))))) -> 0.025 | M31: =IF(M$27="%w/w SAR",((M$28*10)*$B31),IF(M$27="%w/w DM",(((M$28*10)*($B$28/100))*$B31),IF(M$27="kg/t SAR",(M$28*$B31),IF(M$27="kg/t DM",((M$28*($B$28/100))*$B31),IF(M$27="mg/kg SAR",((M$28*0.001)*$B31),IF(M$27="mg/kg DM",(((M$28*0.001)*($B$28/100))*$B31),0)))))) -> 0.025 | N31: =IF(N$27="%w/w SAR",((N$28*10)*$B31),IF(N$27="%w/w DM",(((N$28*10)*($B$28/100))*$B31),IF(N$27="kg/t SAR",(N$28*$B31),IF(N$27="kg/t DM",((N$28*($B$28/100))*$B31),IF(N$27="mg/kg SAR",((N$28*0.001)*$B31),IF(N$27="mg/kg DM",(((N$28*0.001)*($B$28/100))*$B31),0)))))) -> 0 | ... P31: =IF(P$27="%w/w SAR",((P$28*10)*$B31),IF(P$27="%w/w DM",(((P$28*10)*($B$28/100))*$B31),IF(P$27="kg/t SAR",(P$28*$B31),IF(P$27="kg/t DM",((P$28*($B$28/100))*$B31),IF(P$27="mg/kg SAR",((P$28*0.001)*$B31),IF(P$27="mg/kg DM",(((P$28*0.001)*($B$28/100))*$B31),0)))))) -> 103.75 | Q31: =(IF(Q$27="%w/w SAR",((Q$28*10)*$B31),IF(Q$27="%w/w DM",(((Q$28*10)*($B$28/100))*$B31),IF(Q$27="kg/t SAR",(Q$28*$B31),IF(Q$27="kg/t DM",((Q$28*($B$28/100))*$B31),IF(Q$27="mg/kg SAR",((Q$28*0.001)*$B31),IF(Q$27="mg/kg DM",(((Q$28*0.001)*($B$28/100))*$B31),0)))))))*2.5 -> 34.375 | R31: =IF(R$27="%w/w SAR",((R$28*10)*$B31),IF(R$27="%w/w DM",(((R$28*10)*($B$28/100))*$B31),IF(R$27="kg/t SAR",(R$28*$B31),IF(R$27="kg/t DM",((R$28*($B$28/100))*$B31),IF(R$27="mg/kg SAR",((R$28*0.001)*$B31),IF(R$27="mg/kg DM",(((R$28*0.001)*($B$28/100))*$B31),0)))))) -> 0 | S31: =IF(S$27="%w/w SAR",((S$28*10)*$B31),IF(S$27="%w/w DM",(((S$28*10)*($B$28/100))*$B31),IF(S$27="kg/t SAR",(S$28*$B31),IF(S$27="kg/t DM",((S$28*($B$28/100))*$B31),IF(S$27="mg/kg SAR",((S$28*0.001)*$B31),IF(S$27="mg/kg DM",(((S$28*0.001)*($B$28/100))*$B31),0)))))) -> 0.0625 | T31: =IF(T$27="%w/w SAR",((T$28*10)*$B31),IF(T$27="%w/w DM",(((T$28*10)*($B$28/100))*$B31),IF(T$27="kg/t SAR",(T$28*$B31),IF(T$27="kg/t DM",((T$28*($B$28/100))*$B31),IF(T$27="mg/kg SAR",((T$28*0.001)*$B31),IF(T$27="mg/kg DM",(((T$28*0.001)*($B$28/100))*$B31),0)))))) -> 0 | U31: =IF(U$27="%w/w SAR",((U$28*10)*$B31),IF(U$27="%w/w DM",(((U$28*10)*($B$28/100))*$B31),IF(U$27="kg/t SAR",(U$28*$B31),IF(U$27="kg/t DM",((U$28*($B$28/100))*$B31),IF(U$27="mg/kg SAR",((U$28*0.001)*$B31),IF(U$27="mg/kg DM",(((U$28*0.001)*($B$28/100))*$B31),0)))))) -> 0
A32: =D8 -> T2 | B32: 125 | C32: =IF(C$27="%w/w SAR",((C$28*10)*$B32),IF(C$27="%w/w DM",(((C$28*10)*($B$28/100))*$B32),IF(C$27="kg/t SAR",(C$28*$B32),IF(C$27="kg/t DM",((C$28*($B$28/100))*$B32),IF(C$27="mg/kg SAR",((C$28*0.001)*$B32),IF(C$27="mg/kg DM",(((C$28*0.001)*($B$28/100))*$B32),0)))))) -> 212.5 | D32: =(IF(D$27="%w/w SAR",((D$28*10)*$B32),IF(D$27="%w/w DM",(((D$28*10)*($B$28/100))*$B32),IF(D$27="kg/t SAR",(D$28*$B32),IF(D$27="kg/t DM",((D$28*($B$28/100))*$B32),IF(D$27="mg/kg SAR",((D$28*0.001)*$B32),IF(D$27="mg/kg DM",(((D$28*0.001)*($B$28/100))*$B32),"0")))))))*2.291 -> 48.68375 | E32: =(IF(E$27="%w/w SAR",((E$28*10)*$B32),IF(E$27="%w/w DM",(((E$28*10)*($B$28/100))*$B32),IF(E$27="kg/t SAR",(E$28*$B32),IF(E$27="kg/t DM",((E$28*($B$28/100))*$B32),IF(E$27="mg/kg SAR",((E$28*0.001)*$B32),IF(E$27="mg/kg DM",(((E$28*0.001)*($B$28/100))*$B32),"0")))))))*1.205 -> 18.075 | F32: =(IF(F$27="%w/w SAR",((F$28*10)*$B32),IF(F$27="%w/w DM",(((F$28*10)*($B$28/100))*$B32),IF(F$27="kg/t SAR",(F$28*$B32),IF(F$27="kg/t DM",((F$28*($B$28/100))*$B32),IF(F$27="mg/kg SAR",((F$28*0.001)*$B32),IF(F$27="mg/kg DM",(((F$28*0.001)*($B$28/100))*$B32),"0")))))))*1.658 -> 2.0725 | G32: =IF(G$27="%w/w SAR",((G$28*10)*$B32),IF(G$27="%w/w DM",(((G$28*10)*($B$28/100))*$B32),IF(G$27="kg/t SAR",(G$28*$B32),IF(G$27="kg/t DM",((G$28*($B$28/100))*$B32),IF(G$27="mg/kg SAR",((G$28*0.001)*$B32),IF(G$27="mg/kg DM",(((G$28*0.001)*($B$28/100))*$B32),0)))))) -> 0.025 | H32: =IF(H$27="%w/w SAR",((H$28*10)*$B32),IF(H$27="%w/w DM",(((H$28*10)*($B$28/100))*$B32),IF(H$27="kg/t SAR",(H$28*$B32),IF(H$27="kg/t DM",((H$28*($B$28/100))*$B32),IF(H$27="mg/kg SAR",((H$28*0.001)*$B32),IF(H$27="mg/kg DM",(((H$28*0.001)*($B$28/100))*$B32),0)))))) -> 0.1375 | I32: =IF(I$27="%w/w SAR",((I$28*10)*$B32),IF(I$27="%w/w DM",(((I$28*10)*($B$28/100))*$B32),IF(I$27="kg/t SAR",(I$28*$B32),IF(I$27="kg/t DM",((I$28*($B$28/100))*$B32),IF(I$27="mg/kg SAR",((I$28*0.001)*$B32),IF(I$27="mg/kg DM",(((I$28*0.001)*($B$28/100))*$B32),0)))))) -> 0.0625 | J32: =IF(J$27="%w/w SAR",((J$28*10)*$B32),IF(J$27="%w/w DM",(((J$28*10)*($B$28/100))*$B32),IF(J$27="kg/t SAR",(J$28*$B32),IF(J$27="kg/t DM",((J$28*($B$28/100))*$B32),IF(J$27="mg/kg SAR",((J$28*0.001)*$B32),IF(J$27="mg/kg DM",(((J$28*0.001)*($B$28/100))*$B32),0)))))) -> 0.00125 | K32: =IF(K$27="%w/w SAR",((K$28*10)*$B32),IF(K$27="%w/w DM",(((K$28*10)*($B$28/100))*$B32),IF(K$27="kg/t SAR",(K$28*$B32),IF(K$27="kg/t DM",((K$28*($B$28/100))*$B32),IF(K$27="mg/kg SAR",((K$28*0.001)*$B32),IF(K$27="mg/kg DM",(((K$28*0.001)*($B$28/100))*$B32),0)))))) -> 0.00625 | L32: =IF(L$27="%w/w SAR",((L$28*10)*$B32),IF(L$27="%w/w DM",(((L$28*10)*($B$28/100))*$B32),IF(L$27="kg/t SAR",(L$28*$B32),IF(L$27="kg/t DM",((L$28*($B$28/100))*$B32),IF(L$27="mg/kg SAR",((L$28*0.001)*$B32),IF(L$27="mg/kg DM",(((L$28*0.001)*($B$28/100))*$B32),0)))))) -> 0.025 | M32: =IF(M$27="%w/w SAR",((M$28*10)*$B32),IF(M$27="%w/w DM",(((M$28*10)*($B$28/100))*$B32),IF(M$27="kg/t SAR",(M$28*$B32),IF(M$27="kg/t DM",((M$28*($B$28/100))*$B32),IF(M$27="mg/kg SAR",((M$28*0.001)*$B32),IF(M$27="mg/kg DM",(((M$28*0.001)*($B$28/100))*$B32),0)))))) -> 0.025 | N32: =IF(N$27="%w/w SAR",((N$28*10)*$B32),IF(N$27="%w/w DM",(((N$28*10)*($B$28/100))*$B32),IF(N$27="kg/t SAR",(N$28*$B32),IF(N$27="kg/t DM",((N$28*($B$28/100))*$B32),IF(N$27="mg/kg SAR",((N$28*0.001)*$B32),IF(N$27="mg/kg DM",(((N$28*0.001)*($B$28/100))*$B32),0)))))) -> 0 | ... P32: =IF(P$27="%w/w SAR",((P$28*10)*$B32),IF(P$27="%w/w DM",(((P$28*10)*($B$28/100))*$B32),IF(P$27="kg/t SAR",(P$28*$B32),IF(P$27="kg/t DM",((P$28*($B$28/100))*$B32),IF(P$27="mg/kg SAR",((P$28*0.001)*$B32),IF(P$27="mg/kg DM",(((P$28*0.001)*($B$28/100))*$B32),0)))))) -> 103.75 | Q32: =(IF(Q$27="%w/w SAR",((Q$28*10)*$B32),IF(Q$27="%w/w DM",(((Q$28*10)*($B$28/100))*$B32),IF(Q$27="kg/t SAR",(Q$28*$B32),IF(Q$27="kg/t DM",((Q$28*($B$28/100))*$B32),IF(Q$27="mg/kg SAR",((Q$28*0.001)*$B32),IF(Q$27="mg/kg DM",(((Q$28*0.001)*($B$28/100))*$B32),0)))))))*2.5 -> 34.375 | R32: =IF(R$27="%w/w SAR",((R$28*10)*$B32),IF(R$27="%w/w DM",(((R$28*10)*($B$28/100))*$B32),IF(R$27="kg/t SAR",(R$28*$B32),IF(R$27="kg/t DM",((R$28*($B$28/100))*$B32),IF(R$27="mg/kg SAR",((R$28*0.001)*$B32),IF(R$27="mg/kg DM",(((R$28*0.001)*($B$28/100))*$B32),0)))))) -> 0 | S32: =IF(S$27="%w/w SAR",((S$28*10)*$B32),IF(S$27="%w/w DM",(((S$28*10)*($B$28/100))*$B32),IF(S$27="kg/t SAR",(S$28*$B32),IF(S$27="kg/t DM",((S$28*($B$28/100))*$B32),IF(S$27="mg/kg SAR",((S$28*0.001)*$B32),IF(S$27="mg/kg DM",(((S$28*0.001)*($B$28/100))*$B32),0)))))) -> 0.0625 | T32: =IF(T$27="%w/w SAR",((T$28*10)*$B32),IF(T$27="%w/w DM",(((T$28*10)*($B$28/100))*$B32),IF(T$27="kg/t SAR",(T$28*$B32),IF(T$27="kg/t DM",((T$28*($B$28/100))*$B32),IF(T$27="mg/kg SAR",((T$28*0.001)*$B32),IF(T$27="mg/kg DM",(((T$28*0.001)*($B$28/100))*$B32),0)))))) -> 0 | U32: =IF(U$27="%w/w SAR",((U$28*10)*$B32),IF(U$27="%w/w DM",(((U$28*10)*($B$28/100))*$B32),IF(U$27="kg/t SAR",(U$28*$B32),IF(U$27="kg/t DM",((U$28*($B$28/100))*$B32),IF(U$27="mg/kg SAR",((U$28*0.001)*$B32),IF(U$27="mg/kg DM",(((U$28*0.001)*($B$28/100))*$B32),0)))))) -> 0
A33: =E8 -> T3 | B33: 125 | C33: =IF(C$27="%w/w SAR",((C$28*10)*$B33),IF(C$27="%w/w DM",(((C$28*10)*($B$28/100))*$B33),IF(C$27="kg/t SAR",(C$28*$B33),IF(C$27="kg/t DM",((C$28*($B$28/100))*$B33),IF(C$27="mg/kg SAR",((C$28*0.001)*$B33),IF(C$27="mg/kg DM",(((C$28*0.001)*($B$28/100))*$B33),0)))))) -> 212.5 | D33: =(IF(D$27="%w/w SAR",((D$28*10)*$B33),IF(D$27="%w/w DM",(((D$28*10)*($B$28/100))*$B33),IF(D$27="kg/t SAR",(D$28*$B33),IF(D$27="kg/t DM",((D$28*($B$28/100))*$B33),IF(D$27="mg/kg SAR",((D$28*0.001)*$B33),IF(D$27="mg/kg DM",(((D$28*0.001)*($B$28/100))*$B33),"0")))))))*2.291 -> 48.68375 | E33: =(IF(E$27="%w/w SAR",((E$28*10)*$B33),IF(E$27="%w/w DM",(((E$28*10)*($B$28/100))*$B33),IF(E$27="kg/t SAR",(E$28*$B33),IF(E$27="kg/t DM",((E$28*($B$28/100))*$B33),IF(E$27="mg/kg SAR",((E$28*0.001)*$B33),IF(E$27="mg/kg DM",(((E$28*0.001)*($B$28/100))*$B33),"0")))))))*1.205 -> 18.075 | F33: =(IF(F$27="%w/w SAR",((F$28*10)*$B33),IF(F$27="%w/w DM",(((F$28*10)*($B$28/100))*$B33),IF(F$27="kg/t SAR",(F$28*$B33),IF(F$27="kg/t DM",((F$28*($B$28/100))*$B33),IF(F$27="mg/kg SAR",((F$28*0.001)*$B33),IF(F$27="mg/kg DM",(((F$28*0.001)*($B$28/100))*$B33),"0")))))))*1.658 -> 2.0725 | G33: =IF(G$27="%w/w SAR",((G$28*10)*$B33),IF(G$27="%w/w DM",(((G$28*10)*($B$28/100))*$B33),IF(G$27="kg/t SAR",(G$28*$B33),IF(G$27="kg/t DM",((G$28*($B$28/100))*$B33),IF(G$27="mg/kg SAR",((G$28*0.001)*$B33),IF(G$27="mg/kg DM",(((G$28*0.001)*($B$28/100))*$B33),0)))))) -> 0.025 | H33: =IF(H$27="%w/w SAR",((H$28*10)*$B33),IF(H$27="%w/w DM",(((H$28*10)*($B$28/100))*$B33),IF(H$27="kg/t SAR",(H$28*$B33),IF(H$27="kg/t DM",((H$28*($B$28/100))*$B33),IF(H$27="mg/kg SAR",((H$28*0.001)*$B33),IF(H$27="mg/kg DM",(((H$28*0.001)*($B$28/100))*$B33),0)))))) -> 0.1375 | I33: =IF(I$27="%w/w SAR",((I$28*10)*$B33),IF(I$27="%w/w DM",(((I$28*10)*($B$28/100))*$B33),IF(I$27="kg/t SAR",(I$28*$B33),IF(I$27="kg/t DM",((I$28*($B$28/100))*$B33),IF(I$27="mg/kg SAR",((I$28*0.001)*$B33),IF(I$27="mg/kg DM",(((I$28*0.001)*($B$28/100))*$B33),0)))))) -> 0.0625 | J33: =IF(J$27="%w/w SAR",((J$28*10)*$B33),IF(J$27="%w/w DM",(((J$28*10)*($B$28/100))*$B33),IF(J$27="kg/t SAR",(J$28*$B33),IF(J$27="kg/t DM",((J$28*($B$28/100))*$B33),IF(J$27="mg/kg SAR",((J$28*0.001)*$B33),IF(J$27="mg/kg DM",(((J$28*0.001)*($B$28/100))*$B33),0)))))) -> 0.00125 | K33: =IF(K$27="%w/w SAR",((K$28*10)*$B33),IF(K$27="%w/w DM",(((K$28*10)*($B$28/100))*$B33),IF(K$27="kg/t SAR",(K$28*$B33),IF(K$27="kg/t DM",((K$28*($B$28/100))*$B33),IF(K$27="mg/kg SAR",((K$28*0.001)*$B33),IF(K$27="mg/kg DM",(((K$28*0.001)*($B$28/100))*$B33),0)))))) -> 0.00625 | L33: =IF(L$27="%w/w SAR",((L$28*10)*$B33),IF(L$27="%w/w DM",(((L$28*10)*($B$28/100))*$B33),IF(L$27="kg/t SAR",(L$28*$B33),IF(L$27="kg/t DM",((L$28*($B$28/100))*$B33),IF(L$27="mg/kg SAR",((L$28*0.001)*$B33),IF(L$27="mg/kg DM",(((L$28*0.001)*($B$28/100))*$B33),0)))))) -> 0.025 | M33: =IF(M$27="%w/w SAR",((M$28*10)*$B33),IF(M$27="%w/w DM",(((M$28*10)*($B$28/100))*$B33),IF(M$27="kg/t SAR",(M$28*$B33),IF(M$27="kg/t DM",((M$28*($B$28/100))*$B33),IF(M$27="mg/kg SAR",((M$28*0.001)*$B33),IF(M$27="mg/kg DM",(((M$28*0.001)*($B$28/100))*$B33),0)))))) -> 0.025 | N33: =IF(N$27="%w/w SAR",((N$28*10)*$B33),IF(N$27="%w/w DM",(((N$28*10)*($B$28/100))*$B33),IF(N$27="kg/t SAR",(N$28*$B33),IF(N$27="kg/t DM",((N$28*($B$28/100))*$B33),IF(N$27="mg/kg SAR",((N$28*0.001)*$B33),IF(N$27="mg/kg DM",(((N$28*0.001)*($B$28/100))*$B33),0)))))) -> 0 | ... P33: =IF(P$27="%w/w SAR",((P$28*10)*$B33),IF(P$27="%w/w DM",(((P$28*10)*($B$28/100))*$B33),IF(P$27="kg/t SAR",(P$28*$B33),IF(P$27="kg/t DM",((P$28*($B$28/100))*$B33),IF(P$27="mg/kg SAR",((P$28*0.001)*$B33),IF(P$27="mg/kg DM",(((P$28*0.001)*($B$28/100))*$B33),0)))))) -> 103.75 | Q33: =(IF(Q$27="%w/w SAR",((Q$28*10)*$B33),IF(Q$27="%w/w DM",(((Q$28*10)*($B$28/100))*$B33),IF(Q$27="kg/t SAR",(Q$28*$B33),IF(Q$27="kg/t DM",((Q$28*($B$28/100))*$B33),IF(Q$27="mg/kg SAR",((Q$28*0.001)*$B33),IF(Q$27="mg/kg DM",(((Q$28*0.001)*($B$28/100))*$B33),0)))))))*2.5 -> 34.375 | R33: =IF(R$27="%w/w SAR",((R$28*10)*$B33),IF(R$27="%w/w DM",(((R$28*10)*($B$28/100))*$B33),IF(R$27="kg/t SAR",(R$28*$B33),IF(R$27="kg/t DM",((R$28*($B$28/100))*$B33),IF(R$27="mg/kg SAR",((R$28*0.001)*$B33),IF(R$27="mg/kg DM",(((R$28*0.001)*($B$28/100))*$B33),0)))))) -> 0 | S33: =IF(S$27="%w/w SAR",((S$28*10)*$B33),IF(S$27="%w/w DM",(((S$28*10)*($B$28/100))*$B33),IF(S$27="kg/t SAR",(S$28*$B33),IF(S$27="kg/t DM",((S$28*($B$28/100))*$B33),IF(S$27="mg/kg SAR",((S$28*0.001)*$B33),IF(S$27="mg/kg DM",(((S$28*0.001)*($B$28/100))*$B33),0)))))) -> 0.0625 | T33: =IF(T$27="%w/w SAR",((T$28*10)*$B33),IF(T$27="%w/w DM",(((T$28*10)*($B$28/100))*$B33),IF(T$27="kg/t SAR",(T$28*$B33),IF(T$27="kg/t DM",((T$28*($B$28/100))*$B33),IF(T$27="mg/kg SAR",((T$28*0.001)*$B33),IF(T$27="mg/kg DM",(((T$28*0.001)*($B$28/100))*$B33),0)))))) -> 0 | U33: =IF(U$27="%w/w SAR",((U$28*10)*$B33),IF(U$27="%w/w DM",(((U$28*10)*($B$28/100))*$B33),IF(U$27="kg/t SAR",(U$28*$B33),IF(U$27="kg/t DM",((U$28*($B$28/100))*$B33),IF(U$27="mg/kg SAR",((U$28*0.001)*$B33),IF(U$27="mg/kg DM",(((U$28*0.001)*($B$28/100))*$B33),0)))))) -> 0
A34: =F8 -> T4 | B34: 125 | C34: =IF(C$27="%w/w SAR",((C$28*10)*$B34),IF(C$27="%w/w DM",(((C$28*10)*($B$28/100))*$B34),IF(C$27="kg/t SAR",(C$28*$B34),IF(C$27="kg/t DM",((C$28*($B$28/100))*$B34),IF(C$27="mg/kg SAR",((C$28*0.001)*$B34),IF(C$27="mg/kg DM",(((C$28*0.001)*($B$28/100))*$B34),0)))))) -> 212.5 | D34: =(IF(D$27="%w/w SAR",((D$28*10)*$B34),IF(D$27="%w/w DM",(((D$28*10)*($B$28/100))*$B34),IF(D$27="kg/t SAR",(D$28*$B34),IF(D$27="kg/t DM",((D$28*($B$28/100))*$B34),IF(D$27="mg/kg SAR",((D$28*0.001)*$B34),IF(D$27="mg/kg DM",(((D$28*0.001)*($B$28/100))*$B34),"0")))))))*2.291 -> 48.68375 | E34: =(IF(E$27="%w/w SAR",((E$28*10)*$B34),IF(E$27="%w/w DM",(((E$28*10)*($B$28/100))*$B34),IF(E$27="kg/t SAR",(E$28*$B34),IF(E$27="kg/t DM",((E$28*($B$28/100))*$B34),IF(E$27="mg/kg SAR",((E$28*0.001)*$B34),IF(E$27="mg/kg DM",(((E$28*0.001)*($B$28/100))*$B34),"0")))))))*1.205 -> 18.075 | F34: =(IF(F$27="%w/w SAR",((F$28*10)*$B34),IF(F$27="%w/w DM",(((F$28*10)*($B$28/100))*$B34),IF(F$27="kg/t SAR",(F$28*$B34),IF(F$27="kg/t DM",((F$28*($B$28/100))*$B34),IF(F$27="mg/kg SAR",((F$28*0.001)*$B34),IF(F$27="mg/kg DM",(((F$28*0.001)*($B$28/100))*$B34),"0")))))))*1.658 -> 2.0725 | G34: =IF(G$27="%w/w SAR",((G$28*10)*$B34),IF(G$27="%w/w DM",(((G$28*10)*($B$28/100))*$B34),IF(G$27="kg/t SAR",(G$28*$B34),IF(G$27="kg/t DM",((G$28*($B$28/100))*$B34),IF(G$27="mg/kg SAR",((G$28*0.001)*$B34),IF(G$27="mg/kg DM",(((G$28*0.001)*($B$28/100))*$B34),0)))))) -> 0.025 | H34: =IF(H$27="%w/w SAR",((H$28*10)*$B34),IF(H$27="%w/w DM",(((H$28*10)*($B$28/100))*$B34),IF(H$27="kg/t SAR",(H$28*$B34),IF(H$27="kg/t DM",((H$28*($B$28/100))*$B34),IF(H$27="mg/kg SAR",((H$28*0.001)*$B34),IF(H$27="mg/kg DM",(((H$28*0.001)*($B$28/100))*$B34),0)))))) -> 0.1375 | I34: =IF(I$27="%w/w SAR",((I$28*10)*$B34),IF(I$27="%w/w DM",(((I$28*10)*($B$28/100))*$B34),IF(I$27="kg/t SAR",(I$28*$B34),IF(I$27="kg/t DM",((I$28*($B$28/100))*$B34),IF(I$27="mg/kg SAR",((I$28*0.001)*$B34),IF(I$27="mg/kg DM",(((I$28*0.001)*($B$28/100))*$B34),0)))))) -> 0.0625 | J34: =IF(J$27="%w/w SAR",((J$28*10)*$B34),IF(J$27="%w/w DM",(((J$28*10)*($B$28/100))*$B34),IF(J$27="kg/t SAR",(J$28*$B34),IF(J$27="kg/t DM",((J$28*($B$28/100))*$B34),IF(J$27="mg/kg SAR",((J$28*0.001)*$B34),IF(J$27="mg/kg DM",(((J$28*0.001)*($B$28/100))*$B34),0)))))) -> 0.00125 | K34: =IF(K$27="%w/w SAR",((K$28*10)*$B34),IF(K$27="%w/w DM",(((K$28*10)*($B$28/100))*$B34),IF(K$27="kg/t SAR",(K$28*$B34),IF(K$27="kg/t DM",((K$28*($B$28/100))*$B34),IF(K$27="mg/kg SAR",((K$28*0.001)*$B34),IF(K$27="mg/kg DM",(((K$28*0.001)*($B$28/100))*$B34),0)))))) -> 0.00625 | L34: =IF(L$27="%w/w SAR",((L$28*10)*$B34),IF(L$27="%w/w DM",(((L$28*10)*($B$28/100))*$B34),IF(L$27="kg/t SAR",(L$28*$B34),IF(L$27="kg/t DM",((L$28*($B$28/100))*$B34),IF(L$27="mg/kg SAR",((L$28*0.001)*$B34),IF(L$27="mg/kg DM",(((L$28*0.001)*($B$28/100))*$B34),0)))))) -> 0.025 | M34: =IF(M$27="%w/w SAR",((M$28*10)*$B34),IF(M$27="%w/w DM",(((M$28*10)*($B$28/100))*$B34),IF(M$27="kg/t SAR",(M$28*$B34),IF(M$27="kg/t DM",((M$28*($B$28/100))*$B34),IF(M$27="mg/kg SAR",((M$28*0.001)*$B34),IF(M$27="mg/kg DM",(((M$28*0.001)*($B$28/100))*$B34),0)))))) -> 0.025 | N34: =IF(N$27="%w/w SAR",((N$28*10)*$B34),IF(N$27="%w/w DM",(((N$28*10)*($B$28/100))*$B34),IF(N$27="kg/t SAR",(N$28*$B34),IF(N$27="kg/t DM",((N$28*($B$28/100))*$B34),IF(N$27="mg/kg SAR",((N$28*0.001)*$B34),IF(N$27="mg/kg DM",(((N$28*0.001)*($B$28/100))*$B34),0)))))) -> 0 | ... P34: =IF(P$27="%w/w SAR",((P$28*10)*$B34),IF(P$27="%w/w DM",(((P$28*10)*($B$28/100))*$B34),IF(P$27="kg/t SAR",(P$28*$B34),IF(P$27="kg/t DM",((P$28*($B$28/100))*$B34),IF(P$27="mg/kg SAR",((P$28*0.001)*$B34),IF(P$27="mg/kg DM",(((P$28*0.001)*($B$28/100))*$B34),0)))))) -> 103.75 | Q34: =(IF(Q$27="%w/w SAR",((Q$28*10)*$B34),IF(Q$27="%w/w DM",(((Q$28*10)*($B$28/100))*$B34),IF(Q$27="kg/t SAR",(Q$28*$B34),IF(Q$27="kg/t DM",((Q$28*($B$28/100))*$B34),IF(Q$27="mg/kg SAR",((Q$28*0.001)*$B34),IF(Q$27="mg/kg DM",(((Q$28*0.001)*($B$28/100))*$B34),0)))))))*2.5 -> 34.375 | R34: =IF(R$27="%w/w SAR",((R$28*10)*$B34),IF(R$27="%w/w DM",(((R$28*10)*($B$28/100))*$B34),IF(R$27="kg/t SAR",(R$28*$B34),IF(R$27="kg/t DM",((R$28*($B$28/100))*$B34),IF(R$27="mg/kg SAR",((R$28*0.001)*$B34),IF(R$27="mg/kg DM",(((R$28*0.001)*($B$28/100))*$B34),0)))))) -> 0 | S34: =IF(S$27="%w/w SAR",((S$28*10)*$B34),IF(S$27="%w/w DM",(((S$28*10)*($B$28/100))*$B34),IF(S$27="kg/t SAR",(S$28*$B34),IF(S$27="kg/t DM",((S$28*($B$28/100))*$B34),IF(S$27="mg/kg SAR",((S$28*0.001)*$B34),IF(S$27="mg/kg DM",(((S$28*0.001)*($B$28/100))*$B34),0)))))) -> 0.0625 | T34: =IF(T$27="%w/w SAR",((T$28*10)*$B34),IF(T$27="%w/w DM",(((T$28*10)*($B$28/100))*$B34),IF(T$27="kg/t SAR",(T$28*$B34),IF(T$27="kg/t DM",((T$28*($B$28/100))*$B34),IF(T$27="mg/kg SAR",((T$28*0.001)*$B34),IF(T$27="mg/kg DM",(((T$28*0.001)*($B$28/100))*$B34),0)))))) -> 0 | U34: =IF(U$27="%w/w SAR",((U$28*10)*$B34),IF(U$27="%w/w DM",(((U$28*10)*($B$28/100))*$B34),IF(U$27="kg/t SAR",(U$28*$B34),IF(U$27="kg/t DM",((U$28*($B$28/100))*$B34),IF(U$27="mg/kg SAR",((U$28*0.001)*$B34),IF(U$27="mg/kg DM",(((U$28*0.001)*($B$28/100))*$B34),0)))))) -> 0
A35: =G8 -> T5 | B35: 125 | C35: =IF(C$27="%w/w SAR",((C$28*10)*$B35),IF(C$27="%w/w DM",(((C$28*10)*($B$28/100))*$B35),IF(C$27="kg/t SAR",(C$28*$B35),IF(C$27="kg/t DM",((C$28*($B$28/100))*$B35),IF(C$27="mg/kg SAR",((C$28*0.001)*$B35),IF(C$27="mg/kg DM",(((C$28*0.001)*($B$28/100))*$B35),0)))))) -> 212.5 | D35: =(IF(D$27="%w/w SAR",((D$28*10)*$B35),IF(D$27="%w/w DM",(((D$28*10)*($B$28/100))*$B35),IF(D$27="kg/t SAR",(D$28*$B35),IF(D$27="kg/t DM",((D$28*($B$28/100))*$B35),IF(D$27="mg/kg SAR",((D$28*0.001)*$B35),IF(D$27="mg/kg DM",(((D$28*0.001)*($B$28/100))*$B35),"0")))))))*2.291 -> 48.68375 | E35: =(IF(E$27="%w/w SAR",((E$28*10)*$B35),IF(E$27="%w/w DM",(((E$28*10)*($B$28/100))*$B35),IF(E$27="kg/t SAR",(E$28*$B35),IF(E$27="kg/t DM",((E$28*($B$28/100))*$B35),IF(E$27="mg/kg SAR",((E$28*0.001)*$B35),IF(E$27="mg/kg DM",(((E$28*0.001)*($B$28/100))*$B35),"0")))))))*1.205 -> 18.075 | F35: =(IF(F$27="%w/w SAR",((F$28*10)*$B35),IF(F$27="%w/w DM",(((F$28*10)*($B$28/100))*$B35),IF(F$27="kg/t SAR",(F$28*$B35),IF(F$27="kg/t DM",((F$28*($B$28/100))*$B35),IF(F$27="mg/kg SAR",((F$28*0.001)*$B35),IF(F$27="mg/kg DM",(((F$28*0.001)*($B$28/100))*$B35),"0")))))))*1.658 -> 2.0725 | G35: =IF(G$27="%w/w SAR",((G$28*10)*$B35),IF(G$27="%w/w DM",(((G$28*10)*($B$28/100))*$B35),IF(G$27="kg/t SAR",(G$28*$B35),IF(G$27="kg/t DM",((G$28*($B$28/100))*$B35),IF(G$27="mg/kg SAR",((G$28*0.001)*$B35),IF(G$27="mg/kg DM",(((G$28*0.001)*($B$28/100))*$B35),0)))))) -> 0.025 | H35: =IF(H$27="%w/w SAR",((H$28*10)*$B35),IF(H$27="%w/w DM",(((H$28*10)*($B$28/100))*$B35),IF(H$27="kg/t SAR",(H$28*$B35),IF(H$27="kg/t DM",((H$28*($B$28/100))*$B35),IF(H$27="mg/kg SAR",((H$28*0.001)*$B35),IF(H$27="mg/kg DM",(((H$28*0.001)*($B$28/100))*$B35),0)))))) -> 0.1375 | I35: =IF(I$27="%w/w SAR",((I$28*10)*$B35),IF(I$27="%w/w DM",(((I$28*10)*($B$28/100))*$B35),IF(I$27="kg/t SAR",(I$28*$B35),IF(I$27="kg/t DM",((I$28*($B$28/100))*$B35),IF(I$27="mg/kg SAR",((I$28*0.001)*$B35),IF(I$27="mg/kg DM",(((I$28*0.001)*($B$28/100))*$B35),0)))))) -> 0.0625 | J35: =IF(J$27="%w/w SAR",((J$28*10)*$B35),IF(J$27="%w/w DM",(((J$28*10)*($B$28/100))*$B35),IF(J$27="kg/t SAR",(J$28*$B35),IF(J$27="kg/t DM",((J$28*($B$28/100))*$B35),IF(J$27="mg/kg SAR",((J$28*0.001)*$B35),IF(J$27="mg/kg DM",(((J$28*0.001)*($B$28/100))*$B35),0)))))) -> 0.00125 | K35: =IF(K$27="%w/w SAR",((K$28*10)*$B35),IF(K$27="%w/w DM",(((K$28*10)*($B$28/100))*$B35),IF(K$27="kg/t SAR",(K$28*$B35),IF(K$27="kg/t DM",((K$28*($B$28/100))*$B35),IF(K$27="mg/kg SAR",((K$28*0.001)*$B35),IF(K$27="mg/kg DM",(((K$28*0.001)*($B$28/100))*$B35),0)))))) -> 0.00625 | L35: =IF(L$27="%w/w SAR",((L$28*10)*$B35),IF(L$27="%w/w DM",(((L$28*10)*($B$28/100))*$B35),IF(L$27="kg/t SAR",(L$28*$B35),IF(L$27="kg/t DM",((L$28*($B$28/100))*$B35),IF(L$27="mg/kg SAR",((L$28*0.001)*$B35),IF(L$27="mg/kg DM",(((L$28*0.001)*($B$28/100))*$B35),0)))))) -> 0.025 | M35: =IF(M$27="%w/w SAR",((M$28*10)*$B35),IF(M$27="%w/w DM",(((M$28*10)*($B$28/100))*$B35),IF(M$27="kg/t SAR",(M$28*$B35),IF(M$27="kg/t DM",((M$28*($B$28/100))*$B35),IF(M$27="mg/kg SAR",((M$28*0.001)*$B35),IF(M$27="mg/kg DM",(((M$28*0.001)*($B$28/100))*$B35),0)))))) -> 0.025 | N35: =IF(N$27="%w/w SAR",((N$28*10)*$B35),IF(N$27="%w/w DM",(((N$28*10)*($B$28/100))*$B35),IF(N$27="kg/t SAR",(N$28*$B35),IF(N$27="kg/t DM",((N$28*($B$28/100))*$B35),IF(N$27="mg/kg SAR",((N$28*0.001)*$B35),IF(N$27="mg/kg DM",(((N$28*0.001)*($B$28/100))*$B35),0)))))) -> 0 | ... P35: =IF(P$27="%w/w SAR",((P$28*10)*$B35),IF(P$27="%w/w DM",(((P$28*10)*($B$28/100))*$B35),IF(P$27="kg/t SAR",(P$28*$B35),IF(P$27="kg/t DM",((P$28*($B$28/100))*$B35),IF(P$27="mg/kg SAR",((P$28*0.001)*$B35),IF(P$27="mg/kg DM",(((P$28*0.001)*($B$28/100))*$B35),0)))))) -> 103.75 | Q35: =(IF(Q$27="%w/w SAR",((Q$28*10)*$B35),IF(Q$27="%w/w DM",(((Q$28*10)*($B$28/100))*$B35),IF(Q$27="kg/t SAR",(Q$28*$B35),IF(Q$27="kg/t DM",((Q$28*($B$28/100))*$B35),IF(Q$27="mg/kg SAR",((Q$28*0.001)*$B35),IF(Q$27="mg/kg DM",(((Q$28*0.001)*($B$28/100))*$B35),0)))))))*2.5 -> 34.375 | R35: =IF(R$27="%w/w SAR",((R$28*10)*$B35),IF(R$27="%w/w DM",(((R$28*10)*($B$28/100))*$B35),IF(R$27="kg/t SAR",(R$28*$B35),IF(R$27="kg/t DM",((R$28*($B$28/100))*$B35),IF(R$27="mg/kg SAR",((R$28*0.001)*$B35),IF(R$27="mg/kg DM",(((R$28*0.001)*($B$28/100))*$B35),0)))))) -> 0 | S35: =IF(S$27="%w/w SAR",((S$28*10)*$B35),IF(S$27="%w/w DM",(((S$28*10)*($B$28/100))*$B35),IF(S$27="kg/t SAR",(S$28*$B35),IF(S$27="kg/t DM",((S$28*($B$28/100))*$B35),IF(S$27="mg/kg SAR",((S$28*0.001)*$B35),IF(S$27="mg/kg DM",(((S$28*0.001)*($B$28/100))*$B35),0)))))) -> 0.0625 | T35: =IF(T$27="%w/w SAR",((T$28*10)*$B35),IF(T$27="%w/w DM",(((T$28*10)*($B$28/100))*$B35),IF(T$27="kg/t SAR",(T$28*$B35),IF(T$27="kg/t DM",((T$28*($B$28/100))*$B35),IF(T$27="mg/kg SAR",((T$28*0.001)*$B35),IF(T$27="mg/kg DM",(((T$28*0.001)*($B$28/100))*$B35),0)))))) -> 0 | U35: =IF(U$27="%w/w SAR",((U$28*10)*$B35),IF(U$27="%w/w DM",(((U$28*10)*($B$28/100))*$B35),IF(U$27="kg/t SAR",(U$28*$B35),IF(U$27="kg/t DM",((U$28*($B$28/100))*$B35),IF(U$27="mg/kg SAR",((U$28*0.001)*$B35),IF(U$27="mg/kg DM",(((U$28*0.001)*($B$28/100))*$B35),0)))))) -> 0
A36: =H8 -> T6 | B36: 80 | C36: =IF(C$27="%w/w SAR",((C$28*10)*$B36),IF(C$27="%w/w DM",(((C$28*10)*($B$28/100))*$B36),IF(C$27="kg/t SAR",(C$28*$B36),IF(C$27="kg/t DM",((C$28*($B$28/100))*$B36),IF(C$27="mg/kg SAR",((C$28*0.001)*$B36),IF(C$27="mg/kg DM",(((C$28*0.001)*($B$28/100))*$B36),0)))))) -> 136 | D36: =(IF(D$27="%w/w SAR",((D$28*10)*$B36),IF(D$27="%w/w DM",(((D$28*10)*($B$28/100))*$B36),IF(D$27="kg/t SAR",(D$28*$B36),IF(D$27="kg/t DM",((D$28*($B$28/100))*$B36),IF(D$27="mg/kg SAR",((D$28*0.001)*$B36),IF(D$27="mg/kg DM",(((D$28*0.001)*($B$28/100))*$B36),"0")))))))*2.291 -> 31.1576 | E36: =(IF(E$27="%w/w SAR",((E$28*10)*$B36),IF(E$27="%w/w DM",(((E$28*10)*($B$28/100))*$B36),IF(E$27="kg/t SAR",(E$28*$B36),IF(E$27="kg/t DM",((E$28*($B$28/100))*$B36),IF(E$27="mg/kg SAR",((E$28*0.001)*$B36),IF(E$27="mg/kg DM",(((E$28*0.001)*($B$28/100))*$B36),"0")))))))*1.205 -> 11.568 | F36: =(IF(F$27="%w/w SAR",((F$28*10)*$B36),IF(F$27="%w/w DM",(((F$28*10)*($B$28/100))*$B36),IF(F$27="kg/t SAR",(F$28*$B36),IF(F$27="kg/t DM",((F$28*($B$28/100))*$B36),IF(F$27="mg/kg SAR",((F$28*0.001)*$B36),IF(F$27="mg/kg DM",(((F$28*0.001)*($B$28/100))*$B36),"0")))))))*1.658 -> 1.3264 | G36: =IF(G$27="%w/w SAR",((G$28*10)*$B36),IF(G$27="%w/w DM",(((G$28*10)*($B$28/100))*$B36),IF(G$27="kg/t SAR",(G$28*$B36),IF(G$27="kg/t DM",((G$28*($B$28/100))*$B36),IF(G$27="mg/kg SAR",((G$28*0.001)*$B36),IF(G$27="mg/kg DM",(((G$28*0.001)*($B$28/100))*$B36),0)))))) -> 0.016 | H36: =IF(H$27="%w/w SAR",((H$28*10)*$B36),IF(H$27="%w/w DM",(((H$28*10)*($B$28/100))*$B36),IF(H$27="kg/t SAR",(H$28*$B36),IF(H$27="kg/t DM",((H$28*($B$28/100))*$B36),IF(H$27="mg/kg SAR",((H$28*0.001)*$B36),IF(H$27="mg/kg DM",(((H$28*0.001)*($B$28/100))*$B36),0)))))) -> 0.088 | I36: =IF(I$27="%w/w SAR",((I$28*10)*$B36),IF(I$27="%w/w DM",(((I$28*10)*($B$28/100))*$B36),IF(I$27="kg/t SAR",(I$28*$B36),IF(I$27="kg/t DM",((I$28*($B$28/100))*$B36),IF(I$27="mg/kg SAR",((I$28*0.001)*$B36),IF(I$27="mg/kg DM",(((I$28*0.001)*($B$28/100))*$B36),0)))))) -> 0.04 | J36: =IF(J$27="%w/w SAR",((J$28*10)*$B36),IF(J$27="%w/w DM",(((J$28*10)*($B$28/100))*$B36),IF(J$27="kg/t SAR",(J$28*$B36),IF(J$27="kg/t DM",((J$28*($B$28/100))*$B36),IF(J$27="mg/kg SAR",((J$28*0.001)*$B36),IF(J$27="mg/kg DM",(((J$28*0.001)*($B$28/100))*$B36),0)))))) -> 0.0008 | K36: =IF(K$27="%w/w SAR",((K$28*10)*$B36),IF(K$27="%w/w DM",(((K$28*10)*($B$28/100))*$B36),IF(K$27="kg/t SAR",(K$28*$B36),IF(K$27="kg/t DM",((K$28*($B$28/100))*$B36),IF(K$27="mg/kg SAR",((K$28*0.001)*$B36),IF(K$27="mg/kg DM",(((K$28*0.001)*($B$28/100))*$B36),0)))))) -> 0.004 | L36: =IF(L$27="%w/w SAR",((L$28*10)*$B36),IF(L$27="%w/w DM",(((L$28*10)*($B$28/100))*$B36),IF(L$27="kg/t SAR",(L$28*$B36),IF(L$27="kg/t DM",((L$28*($B$28/100))*$B36),IF(L$27="mg/kg SAR",((L$28*0.001)*$B36),IF(L$27="mg/kg DM",(((L$28*0.001)*($B$28/100))*$B36),0)))))) -> 0.016 | M36: =IF(M$27="%w/w SAR",((M$28*10)*$B36),IF(M$27="%w/w DM",(((M$28*10)*($B$28/100))*$B36),IF(M$27="kg/t SAR",(M$28*$B36),IF(M$27="kg/t DM",((M$28*($B$28/100))*$B36),IF(M$27="mg/kg SAR",((M$28*0.001)*$B36),IF(M$27="mg/kg DM",(((M$28*0.001)*($B$28/100))*$B36),0)))))) -> 0.016 | N36: =IF(N$27="%w/w SAR",((N$28*10)*$B36),IF(N$27="%w/w DM",(((N$28*10)*($B$28/100))*$B36),IF(N$27="kg/t SAR",(N$28*$B36),IF(N$27="kg/t DM",((N$28*($B$28/100))*$B36),IF(N$27="mg/kg SAR",((N$28*0.001)*$B36),IF(N$27="mg/kg DM",(((N$28*0.001)*($B$28/100))*$B36),0)))))) -> 0 | ... P36: =IF(P$27="%w/w SAR",((P$28*10)*$B36),IF(P$27="%w/w DM",(((P$28*10)*($B$28/100))*$B36),IF(P$27="kg/t SAR",(P$28*$B36),IF(P$27="kg/t DM",((P$28*($B$28/100))*$B36),IF(P$27="mg/kg SAR",((P$28*0.001)*$B36),IF(P$27="mg/kg DM",(((P$28*0.001)*($B$28/100))*$B36),0)))))) -> 66.4 | Q36: =(IF(Q$27="%w/w SAR",((Q$28*10)*$B36),IF(Q$27="%w/w DM",(((Q$28*10)*($B$28/100))*$B36),IF(Q$27="kg/t SAR",(Q$28*$B36),IF(Q$27="kg/t DM",((Q$28*($B$28/100))*$B36),IF(Q$27="mg/kg SAR",((Q$28*0.001)*$B36),IF(Q$27="mg/kg DM",(((Q$28*0.001)*($B$28/100))*$B36),0)))))))*2.5 -> 22 | R36: =IF(R$27="%w/w SAR",((R$28*10)*$B36),IF(R$27="%w/w DM",(((R$28*10)*($B$28/100))*$B36),IF(R$27="kg/t SAR",(R$28*$B36),IF(R$27="kg/t DM",((R$28*($B$28/100))*$B36),IF(R$27="mg/kg SAR",((R$28*0.001)*$B36),IF(R$27="mg/kg DM",(((R$28*0.001)*($B$28/100))*$B36),0)))))) -> 0 | S36: =IF(S$27="%w/w SAR",((S$28*10)*$B36),IF(S$27="%w/w DM",(((S$28*10)*($B$28/100))*$B36),IF(S$27="kg/t SAR",(S$28*$B36),IF(S$27="kg/t DM",((S$28*($B$28/100))*$B36),IF(S$27="mg/kg SAR",((S$28*0.001)*$B36),IF(S$27="mg/kg DM",(((S$28*0.001)*($B$28/100))*$B36),0)))))) -> 0.04 | T36: =IF(T$27="%w/w SAR",((T$28*10)*$B36),IF(T$27="%w/w DM",(((T$28*10)*($B$28/100))*$B36),IF(T$27="kg/t SAR",(T$28*$B36),IF(T$27="kg/t DM",((T$28*($B$28/100))*$B36),IF(T$27="mg/kg SAR",((T$28*0.001)*$B36),IF(T$27="mg/kg DM",(((T$28*0.001)*($B$28/100))*$B36),0)))))) -> 0 | U36: =IF(U$27="%w/w SAR",((U$28*10)*$B36),IF(U$27="%w/w DM",(((U$28*10)*($B$28/100))*$B36),IF(U$27="kg/t SAR",(U$28*$B36),IF(U$27="kg/t DM",((U$28*($B$28/100))*$B36),IF(U$27="mg/kg SAR",((U$28*0.001)*$B36),IF(U$27="mg/kg DM",(((U$28*0.001)*($B$28/100))*$B36),0)))))) -> 0
A37: =I8 -> T7 | B37: 125 | C37: =IF(C$27="%w/w SAR",((C$28*10)*$B37),IF(C$27="%w/w DM",(((C$28*10)*($B$28/100))*$B37),IF(C$27="kg/t SAR",(C$28*$B37),IF(C$27="kg/t DM",((C$28*($B$28/100))*$B37),IF(C$27="mg/kg SAR",((C$28*0.001)*$B37),IF(C$27="mg/kg DM",(((C$28*0.001)*($B$28/100))*$B37),0)))))) -> 212.5 | D37: =(IF(D$27="%w/w SAR",((D$28*10)*$B37),IF(D$27="%w/w DM",(((D$28*10)*($B$28/100))*$B37),IF(D$27="kg/t SAR",(D$28*$B37),IF(D$27="kg/t DM",((D$28*($B$28/100))*$B37),IF(D$27="mg/kg SAR",((D$28*0.001)*$B37),IF(D$27="mg/kg DM",(((D$28*0.001)*($B$28/100))*$B37),"0")))))))*2.291 -> 48.68375 | E37: =(IF(E$27="%w/w SAR",((E$28*10)*$B37),IF(E$27="%w/w DM",(((E$28*10)*($B$28/100))*$B37),IF(E$27="kg/t SAR",(E$28*$B37),IF(E$27="kg/t DM",((E$28*($B$28/100))*$B37),IF(E$27="mg/kg SAR",((E$28*0.001)*$B37),IF(E$27="mg/kg DM",(((E$28*0.001)*($B$28/100))*$B37),"0")))))))*1.205 -> 18.075 | F37: =(IF(F$27="%w/w SAR",((F$28*10)*$B37),IF(F$27="%w/w DM",(((F$28*10)*($B$28/100))*$B37),IF(F$27="kg/t SAR",(F$28*$B37),IF(F$27="kg/t DM",((F$28*($B$28/100))*$B37),IF(F$27="mg/kg SAR",((F$28*0.001)*$B37),IF(F$27="mg/kg DM",(((F$28*0.001)*($B$28/100))*$B37),"0")))))))*1.658 -> 2.0725 | G37: =IF(G$27="%w/w SAR",((G$28*10)*$B37),IF(G$27="%w/w DM",(((G$28*10)*($B$28/100))*$B37),IF(G$27="kg/t SAR",(G$28*$B37),IF(G$27="kg/t DM",((G$28*($B$28/100))*$B37),IF(G$27="mg/kg SAR",((G$28*0.001)*$B37),IF(G$27="mg/kg DM",(((G$28*0.001)*($B$28/100))*$B37),0)))))) -> 0.025 | H37: =IF(H$27="%w/w SAR",((H$28*10)*$B37),IF(H$27="%w/w DM",(((H$28*10)*($B$28/100))*$B37),IF(H$27="kg/t SAR",(H$28*$B37),IF(H$27="kg/t DM",((H$28*($B$28/100))*$B37),IF(H$27="mg/kg SAR",((H$28*0.001)*$B37),IF(H$27="mg/kg DM",(((H$28*0.001)*($B$28/100))*$B37),0)))))) -> 0.1375 | I37: =IF(I$27="%w/w SAR",((I$28*10)*$B37),IF(I$27="%w/w DM",(((I$28*10)*($B$28/100))*$B37),IF(I$27="kg/t SAR",(I$28*$B37),IF(I$27="kg/t DM",((I$28*($B$28/100))*$B37),IF(I$27="mg/kg SAR",((I$28*0.001)*$B37),IF(I$27="mg/kg DM",(((I$28*0.001)*($B$28/100))*$B37),0)))))) -> 0.0625 | J37: =IF(J$27="%w/w SAR",((J$28*10)*$B37),IF(J$27="%w/w DM",(((J$28*10)*($B$28/100))*$B37),IF(J$27="kg/t SAR",(J$28*$B37),IF(J$27="kg/t DM",((J$28*($B$28/100))*$B37),IF(J$27="mg/kg SAR",((J$28*0.001)*$B37),IF(J$27="mg/kg DM",(((J$28*0.001)*($B$28/100))*$B37),0)))))) -> 0.00125 | K37: =IF(K$27="%w/w SAR",((K$28*10)*$B37),IF(K$27="%w/w DM",(((K$28*10)*($B$28/100))*$B37),IF(K$27="kg/t SAR",(K$28*$B37),IF(K$27="kg/t DM",((K$28*($B$28/100))*$B37),IF(K$27="mg/kg SAR",((K$28*0.001)*$B37),IF(K$27="mg/kg DM",(((K$28*0.001)*($B$28/100))*$B37),0)))))) -> 0.00625 | L37: =IF(L$27="%w/w SAR",((L$28*10)*$B37),IF(L$27="%w/w DM",(((L$28*10)*($B$28/100))*$B37),IF(L$27="kg/t SAR",(L$28*$B37),IF(L$27="kg/t DM",((L$28*($B$28/100))*$B37),IF(L$27="mg/kg SAR",((L$28*0.001)*$B37),IF(L$27="mg/kg DM",(((L$28*0.001)*($B$28/100))*$B37),0)))))) -> 0.025 | M37: =IF(M$27="%w/w SAR",((M$28*10)*$B37),IF(M$27="%w/w DM",(((M$28*10)*($B$28/100))*$B37),IF(M$27="kg/t SAR",(M$28*$B37),IF(M$27="kg/t DM",((M$28*($B$28/100))*$B37),IF(M$27="mg/kg SAR",((M$28*0.001)*$B37),IF(M$27="mg/kg DM",(((M$28*0.001)*($B$28/100))*$B37),0)))))) -> 0.025 | N37: =IF(N$27="%w/w SAR",((N$28*10)*$B37),IF(N$27="%w/w DM",(((N$28*10)*($B$28/100))*$B37),IF(N$27="kg/t SAR",(N$28*$B37),IF(N$27="kg/t DM",((N$28*($B$28/100))*$B37),IF(N$27="mg/kg SAR",((N$28*0.001)*$B37),IF(N$27="mg/kg DM",(((N$28*0.001)*($B$28/100))*$B37),0)))))) -> 0 | ... P37: =IF(P$27="%w/w SAR",((P$28*10)*$B37),IF(P$27="%w/w DM",(((P$28*10)*($B$28/100))*$B37),IF(P$27="kg/t SAR",(P$28*$B37),IF(P$27="kg/t DM",((P$28*($B$28/100))*$B37),IF(P$27="mg/kg SAR",((P$28*0.001)*$B37),IF(P$27="mg/kg DM",(((P$28*0.001)*($B$28/100))*$B37),0)))))) -> 103.75 | Q37: =(IF(Q$27="%w/w SAR",((Q$28*10)*$B37),IF(Q$27="%w/w DM",(((Q$28*10)*($B$28/100))*$B37),IF(Q$27="kg/t SAR",(Q$28*$B37),IF(Q$27="kg/t DM",((Q$28*($B$28/100))*$B37),IF(Q$27="mg/kg SAR",((Q$28*0.001)*$B37),IF(Q$27="mg/kg DM",(((Q$28*0.001)*($B$28/100))*$B37),0)))))))*2.5 -> 34.375 | R37: =IF(R$27="%w/w SAR",((R$28*10)*$B37),IF(R$27="%w/w DM",(((R$28*10)*($B$28/100))*$B37),IF(R$27="kg/t SAR",(R$28*$B37),IF(R$27="kg/t DM",((R$28*($B$28/100))*$B37),IF(R$27="mg/kg SAR",((R$28*0.001)*$B37),IF(R$27="mg/kg DM",(((R$28*0.001)*($B$28/100))*$B37),0)))))) -> 0 | S37: =IF(S$27="%w/w SAR",((S$28*10)*$B37),IF(S$27="%w/w DM",(((S$28*10)*($B$28/100))*$B37),IF(S$27="kg/t SAR",(S$28*$B37),IF(S$27="kg/t DM",((S$28*($B$28/100))*$B37),IF(S$27="mg/kg SAR",((S$28*0.001)*$B37),IF(S$27="mg/kg DM",(((S$28*0.001)*($B$28/100))*$B37),0)))))) -> 0.0625 | T37: =IF(T$27="%w/w SAR",((T$28*10)*$B37),IF(T$27="%w/w DM",(((T$28*10)*($B$28/100))*$B37),IF(T$27="kg/t SAR",(T$28*$B37),IF(T$27="kg/t DM",((T$28*($B$28/100))*$B37),IF(T$27="mg/kg SAR",((T$28*0.001)*$B37),IF(T$27="mg/kg DM",(((T$28*0.001)*($B$28/100))*$B37),0)))))) -> 0 | U37: =IF(U$27="%w/w SAR",((U$28*10)*$B37),IF(U$27="%w/w DM",(((U$28*10)*($B$28/100))*$B37),IF(U$27="kg/t SAR",(U$28*$B37),IF(U$27="kg/t DM",((U$28*($B$28/100))*$B37),IF(U$27="mg/kg SAR",((U$28*0.001)*$B37),IF(U$27="mg/kg DM",(((U$28*0.001)*($B$28/100))*$B37),0)))))) -> 0
A38: =J8 -> T8 | B38: 80 | C38: =IF(C$27="%w/w SAR",((C$28*10)*$B38),IF(C$27="%w/w DM",(((C$28*10)*($B$28/100))*$B38),IF(C$27="kg/t SAR",(C$28*$B38),IF(C$27="kg/t DM",((C$28*($B$28/100))*$B38),IF(C$27="mg/kg SAR",((C$28*0.001)*$B38),IF(C$27="mg/kg DM",(((C$28*0.001)*($B$28/100))*$B38),0)))))) -> 136 | D38: =(IF(D$27="%w/w SAR",((D$28*10)*$B38),IF(D$27="%w/w DM",(((D$28*10)*($B$28/100))*$B38),IF(D$27="kg/t SAR",(D$28*$B38),IF(D$27="kg/t DM",((D$28*($B$28/100))*$B38),IF(D$27="mg/kg SAR",((D$28*0.001)*$B38),IF(D$27="mg/kg DM",(((D$28*0.001)*($B$28/100))*$B38),"0")))))))*2.291 -> 31.1576 | E38: =(IF(E$27="%w/w SAR",((E$28*10)*$B38),IF(E$27="%w/w DM",(((E$28*10)*($B$28/100))*$B38),IF(E$27="kg/t SAR",(E$28*$B38),IF(E$27="kg/t DM",((E$28*($B$28/100))*$B38),IF(E$27="mg/kg SAR",((E$28*0.001)*$B38),IF(E$27="mg/kg DM",(((E$28*0.001)*($B$28/100))*$B38),"0")))))))*1.205 -> 11.568 | F38: =(IF(F$27="%w/w SAR",((F$28*10)*$B38),IF(F$27="%w/w DM",(((F$28*10)*($B$28/100))*$B38),IF(F$27="kg/t SAR",(F$28*$B38),IF(F$27="kg/t DM",((F$28*($B$28/100))*$B38),IF(F$27="mg/kg SAR",((F$28*0.001)*$B38),IF(F$27="mg/kg DM",(((F$28*0.001)*($B$28/100))*$B38),"0")))))))*1.658 -> 1.3264 | G38: =IF(G$27="%w/w SAR",((G$28*10)*$B38),IF(G$27="%w/w DM",(((G$28*10)*($B$28/100))*$B38),IF(G$27="kg/t SAR",(G$28*$B38),IF(G$27="kg/t DM",((G$28*($B$28/100))*$B38),IF(G$27="mg/kg SAR",((G$28*0.001)*$B38),IF(G$27="mg/kg DM",(((G$28*0.001)*($B$28/100))*$B38),0)))))) -> 0.016 | H38: =IF(H$27="%w/w SAR",((H$28*10)*$B38),IF(H$27="%w/w DM",(((H$28*10)*($B$28/100))*$B38),IF(H$27="kg/t SAR",(H$28*$B38),IF(H$27="kg/t DM",((H$28*($B$28/100))*$B38),IF(H$27="mg/kg SAR",((H$28*0.001)*$B38),IF(H$27="mg/kg DM",(((H$28*0.001)*($B$28/100))*$B38),0)))))) -> 0.088 | I38: =IF(I$27="%w/w SAR",((I$28*10)*$B38),IF(I$27="%w/w DM",(((I$28*10)*($B$28/100))*$B38),IF(I$27="kg/t SAR",(I$28*$B38),IF(I$27="kg/t DM",((I$28*($B$28/100))*$B38),IF(I$27="mg/kg SAR",((I$28*0.001)*$B38),IF(I$27="mg/kg DM",(((I$28*0.001)*($B$28/100))*$B38),0)))))) -> 0.04 | J38: =IF(J$27="%w/w SAR",((J$28*10)*$B38),IF(J$27="%w/w DM",(((J$28*10)*($B$28/100))*$B38),IF(J$27="kg/t SAR",(J$28*$B38),IF(J$27="kg/t DM",((J$28*($B$28/100))*$B38),IF(J$27="mg/kg SAR",((J$28*0.001)*$B38),IF(J$27="mg/kg DM",(((J$28*0.001)*($B$28/100))*$B38),0)))))) -> 0.0008 | K38: =IF(K$27="%w/w SAR",((K$28*10)*$B38),IF(K$27="%w/w DM",(((K$28*10)*($B$28/100))*$B38),IF(K$27="kg/t SAR",(K$28*$B38),IF(K$27="kg/t DM",((K$28*($B$28/100))*$B38),IF(K$27="mg/kg SAR",((K$28*0.001)*$B38),IF(K$27="mg/kg DM",(((K$28*0.001)*($B$28/100))*$B38),0)))))) -> 0.004 | L38: =IF(L$27="%w/w SAR",((L$28*10)*$B38),IF(L$27="%w/w DM",(((L$28*10)*($B$28/100))*$B38),IF(L$27="kg/t SAR",(L$28*$B38),IF(L$27="kg/t DM",((L$28*($B$28/100))*$B38),IF(L$27="mg/kg SAR",((L$28*0.001)*$B38),IF(L$27="mg/kg DM",(((L$28*0.001)*($B$28/100))*$B38),0)))))) -> 0.016 | M38: =IF(M$27="%w/w SAR",((M$28*10)*$B38),IF(M$27="%w/w DM",(((M$28*10)*($B$28/100))*$B38),IF(M$27="kg/t SAR",(M$28*$B38),IF(M$27="kg/t DM",((M$28*($B$28/100))*$B38),IF(M$27="mg/kg SAR",((M$28*0.001)*$B38),IF(M$27="mg/kg DM",(((M$28*0.001)*($B$28/100))*$B38),0)))))) -> 0.016 | N38: =IF(N$27="%w/w SAR",((N$28*10)*$B38),IF(N$27="%w/w DM",(((N$28*10)*($B$28/100))*$B38),IF(N$27="kg/t SAR",(N$28*$B38),IF(N$27="kg/t DM",((N$28*($B$28/100))*$B38),IF(N$27="mg/kg SAR",((N$28*0.001)*$B38),IF(N$27="mg/kg DM",(((N$28*0.001)*($B$28/100))*$B38),0)))))) -> 0 | ... P38: =IF(P$27="%w/w SAR",((P$28*10)*$B38),IF(P$27="%w/w DM",(((P$28*10)*($B$28/100))*$B38),IF(P$27="kg/t SAR",(P$28*$B38),IF(P$27="kg/t DM",((P$28*($B$28/100))*$B38),IF(P$27="mg/kg SAR",((P$28*0.001)*$B38),IF(P$27="mg/kg DM",(((P$28*0.001)*($B$28/100))*$B38),0)))))) -> 66.4 | Q38: =(IF(Q$27="%w/w SAR",((Q$28*10)*$B38),IF(Q$27="%w/w DM",(((Q$28*10)*($B$28/100))*$B38),IF(Q$27="kg/t SAR",(Q$28*$B38),IF(Q$27="kg/t DM",((Q$28*($B$28/100))*$B38),IF(Q$27="mg/kg SAR",((Q$28*0.001)*$B38),IF(Q$27="mg/kg DM",(((Q$28*0.001)*($B$28/100))*$B38),0)))))))*2.5 -> 22 | R38: =IF(R$27="%w/w SAR",((R$28*10)*$B38),IF(R$27="%w/w DM",(((R$28*10)*($B$28/100))*$B38),IF(R$27="kg/t SAR",(R$28*$B38),IF(R$27="kg/t DM",((R$28*($B$28/100))*$B38),IF(R$27="mg/kg SAR",((R$28*0.001)*$B38),IF(R$27="mg/kg DM",(((R$28*0.001)*($B$28/100))*$B38),0)))))) -> 0 | S38: =IF(S$27="%w/w SAR",((S$28*10)*$B38),IF(S$27="%w/w DM",(((S$28*10)*($B$28/100))*$B38),IF(S$27="kg/t SAR",(S$28*$B38),IF(S$27="kg/t DM",((S$28*($B$28/100))*$B38),IF(S$27="mg/kg SAR",((S$28*0.001)*$B38),IF(S$27="mg/kg DM",(((S$28*0.001)*($B$28/100))*$B38),0)))))) -> 0.04 | T38: =IF(T$27="%w/w SAR",((T$28*10)*$B38),IF(T$27="%w/w DM",(((T$28*10)*($B$28/100))*$B38),IF(T$27="kg/t SAR",(T$28*$B38),IF(T$27="kg/t DM",((T$28*($B$28/100))*$B38),IF(T$27="mg/kg SAR",((T$28*0.001)*$B38),IF(T$27="mg/kg DM",(((T$28*0.001)*($B$28/100))*$B38),0)))))) -> 0 | U38: =IF(U$27="%w/w SAR",((U$28*10)*$B38),IF(U$27="%w/w DM",(((U$28*10)*($B$28/100))*$B38),IF(U$27="kg/t SAR",(U$28*$B38),IF(U$27="kg/t DM",((U$28*($B$28/100))*$B38),IF(U$27="mg/kg SAR",((U$28*0.001)*$B38),IF(U$27="mg/kg DM",(((U$28*0.001)*($B$28/100))*$B38),0)))))) -> 0
A39: =K8 -> SJ1 | B39: 125 | C39: =IF(C$27="%w/w SAR",((C$28*10)*$B39),IF(C$27="%w/w DM",(((C$28*10)*($B$28/100))*$B39),IF(C$27="kg/t SAR",(C$28*$B39),IF(C$27="kg/t DM",((C$28*($B$28/100))*$B39),IF(C$27="mg/kg SAR",((C$28*0.001)*$B39),IF(C$27="mg/kg DM",(((C$28*0.001)*($B$28/100))*$B39),0)))))) -> 212.5 | D39: =(IF(D$27="%w/w SAR",((D$28*10)*$B39),IF(D$27="%w/w DM",(((D$28*10)*($B$28/100))*$B39),IF(D$27="kg/t SAR",(D$28*$B39),IF(D$27="kg/t DM",((D$28*($B$28/100))*$B39),IF(D$27="mg/kg SAR",((D$28*0.001)*$B39),IF(D$27="mg/kg DM",(((D$28*0.001)*($B$28/100))*$B39),"0")))))))*2.291 -> 48.68375 | E39: =(IF(E$27="%w/w SAR",((E$28*10)*$B39),IF(E$27="%w/w DM",(((E$28*10)*($B$28/100))*$B39),IF(E$27="kg/t SAR",(E$28*$B39),IF(E$27="kg/t DM",((E$28*($B$28/100))*$B39),IF(E$27="mg/kg SAR",((E$28*0.001)*$B39),IF(E$27="mg/kg DM",(((E$28*0.001)*($B$28/100))*$B39),"0")))))))*1.205 -> 18.075 | F39: =(IF(F$27="%w/w SAR",((F$28*10)*$B39),IF(F$27="%w/w DM",(((F$28*10)*($B$28/100))*$B39),IF(F$27="kg/t SAR",(F$28*$B39),IF(F$27="kg/t DM",((F$28*($B$28/100))*$B39),IF(F$27="mg/kg SAR",((F$28*0.001)*$B39),IF(F$27="mg/kg DM",(((F$28*0.001)*($B$28/100))*$B39),"0")))))))*1.658 -> 2.0725 | G39: =IF(G$27="%w/w SAR",((G$28*10)*$B39),IF(G$27="%w/w DM",(((G$28*10)*($B$28/100))*$B39),IF(G$27="kg/t SAR",(G$28*$B39),IF(G$27="kg/t DM",((G$28*($B$28/100))*$B39),IF(G$27="mg/kg SAR",((G$28*0.001)*$B39),IF(G$27="mg/kg DM",(((G$28*0.001)*($B$28/100))*$B39),0)))))) -> 0.025 | H39: =IF(H$27="%w/w SAR",((H$28*10)*$B39),IF(H$27="%w/w DM",(((H$28*10)*($B$28/100))*$B39),IF(H$27="kg/t SAR",(H$28*$B39),IF(H$27="kg/t DM",((H$28*($B$28/100))*$B39),IF(H$27="mg/kg SAR",((H$28*0.001)*$B39),IF(H$27="mg/kg DM",(((H$28*0.001)*($B$28/100))*$B39),0)))))) -> 0.1375 | I39: =IF(I$27="%w/w SAR",((I$28*10)*$B39),IF(I$27="%w/w DM",(((I$28*10)*($B$28/100))*$B39),IF(I$27="kg/t SAR",(I$28*$B39),IF(I$27="kg/t DM",((I$28*($B$28/100))*$B39),IF(I$27="mg/kg SAR",((I$28*0.001)*$B39),IF(I$27="mg/kg DM",(((I$28*0.001)*($B$28/100))*$B39),0)))))) -> 0.0625 | J39: =IF(J$27="%w/w SAR",((J$28*10)*$B39),IF(J$27="%w/w DM",(((J$28*10)*($B$28/100))*$B39),IF(J$27="kg/t SAR",(J$28*$B39),IF(J$27="kg/t DM",((J$28*($B$28/100))*$B39),IF(J$27="mg/kg SAR",((J$28*0.001)*$B39),IF(J$27="mg/kg DM",(((J$28*0.001)*($B$28/100))*$B39),0)))))) -> 0.00125 | K39: =IF(K$27="%w/w SAR",((K$28*10)*$B39),IF(K$27="%w/w DM",(((K$28*10)*($B$28/100))*$B39),IF(K$27="kg/t SAR",(K$28*$B39),IF(K$27="kg/t DM",((K$28*($B$28/100))*$B39),IF(K$27="mg/kg SAR",((K$28*0.001)*$B39),IF(K$27="mg/kg DM",(((K$28*0.001)*($B$28/100))*$B39),0)))))) -> 0.00625 | L39: =IF(L$27="%w/w SAR",((L$28*10)*$B39),IF(L$27="%w/w DM",(((L$28*10)*($B$28/100))*$B39),IF(L$27="kg/t SAR",(L$28*$B39),IF(L$27="kg/t DM",((L$28*($B$28/100))*$B39),IF(L$27="mg/kg SAR",((L$28*0.001)*$B39),IF(L$27="mg/kg DM",(((L$28*0.001)*($B$28/100))*$B39),0)))))) -> 0.025 | M39: =IF(M$27="%w/w SAR",((M$28*10)*$B39),IF(M$27="%w/w DM",(((M$28*10)*($B$28/100))*$B39),IF(M$27="kg/t SAR",(M$28*$B39),IF(M$27="kg/t DM",((M$28*($B$28/100))*$B39),IF(M$27="mg/kg SAR",((M$28*0.001)*$B39),IF(M$27="mg/kg DM",(((M$28*0.001)*($B$28/100))*$B39),0)))))) -> 0.025 | N39: =IF(N$27="%w/w SAR",((N$28*10)*$B39),IF(N$27="%w/w DM",(((N$28*10)*($B$28/100))*$B39),IF(N$27="kg/t SAR",(N$28*$B39),IF(N$27="kg/t DM",((N$28*($B$28/100))*$B39),IF(N$27="mg/kg SAR",((N$28*0.001)*$B39),IF(N$27="mg/kg DM",(((N$28*0.001)*($B$28/100))*$B39),0)))))) -> 0 | ... P39: =IF(P$27="%w/w SAR",((P$28*10)*$B39),IF(P$27="%w/w DM",(((P$28*10)*($B$28/100))*$B39),IF(P$27="kg/t SAR",(P$28*$B39),IF(P$27="kg/t DM",((P$28*($B$28/100))*$B39),IF(P$27="mg/kg SAR",((P$28*0.001)*$B39),IF(P$27="mg/kg DM",(((P$28*0.001)*($B$28/100))*$B39),0)))))) -> 103.75 | Q39: =(IF(Q$27="%w/w SAR",((Q$28*10)*$B39),IF(Q$27="%w/w DM",(((Q$28*10)*($B$28/100))*$B39),IF(Q$27="kg/t SAR",(Q$28*$B39),IF(Q$27="kg/t DM",((Q$28*($B$28/100))*$B39),IF(Q$27="mg/kg SAR",((Q$28*0.001)*$B39),IF(Q$27="mg/kg DM",(((Q$28*0.001)*($B$28/100))*$B39),0)))))))*2.5 -> 34.375 | R39: =IF(R$27="%w/w SAR",((R$28*10)*$B39),IF(R$27="%w/w DM",(((R$28*10)*($B$28/100))*$B39),IF(R$27="kg/t SAR",(R$28*$B39),IF(R$27="kg/t DM",((R$28*($B$28/100))*$B39),IF(R$27="mg/kg SAR",((R$28*0.001)*$B39),IF(R$27="mg/kg DM",(((R$28*0.001)*($B$28/100))*$B39),0)))))) -> 0 | S39: =IF(S$27="%w/w SAR",((S$28*10)*$B39),IF(S$27="%w/w DM",(((S$28*10)*($B$28/100))*$B39),IF(S$27="kg/t SAR",(S$28*$B39),IF(S$27="kg/t DM",((S$28*($B$28/100))*$B39),IF(S$27="mg/kg SAR",((S$28*0.001)*$B39),IF(S$27="mg/kg DM",(((S$28*0.001)*($B$28/100))*$B39),0)))))) -> 0.0625 | T39: =IF(T$27="%w/w SAR",((T$28*10)*$B39),IF(T$27="%w/w DM",(((T$28*10)*($B$28/100))*$B39),IF(T$27="kg/t SAR",(T$28*$B39),IF(T$27="kg/t DM",((T$28*($B$28/100))*$B39),IF(T$27="mg/kg SAR",((T$28*0.001)*$B39),IF(T$27="mg/kg DM",(((T$28*0.001)*($B$28/100))*$B39),0)))))) -> 0 | U39: =IF(U$27="%w/w SAR",((U$28*10)*$B39),IF(U$27="%w/w DM",(((U$28*10)*($B$28/100))*$B39),IF(U$27="kg/t SAR",(U$28*$B39),IF(U$27="kg/t DM",((U$28*($B$28/100))*$B39),IF(U$27="mg/kg SAR",((U$28*0.001)*$B39),IF(U$27="mg/kg DM",(((U$28*0.001)*($B$28/100))*$B39),0)))))) -> 0
A40: =L8 -> SJ2 | B40: 125 | C40: =IF(C$27="%w/w SAR",((C$28*10)*$B40),IF(C$27="%w/w DM",(((C$28*10)*($B$28/100))*$B40),IF(C$27="kg/t SAR",(C$28*$B40),IF(C$27="kg/t DM",((C$28*($B$28/100))*$B40),IF(C$27="mg/kg SAR",((C$28*0.001)*$B40),IF(C$27="mg/kg DM",(((C$28*0.001)*($B$28/100))*$B40),0)))))) -> 212.5 | D40: =(IF(D$27="%w/w SAR",((D$28*10)*$B40),IF(D$27="%w/w DM",(((D$28*10)*($B$28/100))*$B40),IF(D$27="kg/t SAR",(D$28*$B40),IF(D$27="kg/t DM",((D$28*($B$28/100))*$B40),IF(D$27="mg/kg SAR",((D$28*0.001)*$B40),IF(D$27="mg/kg DM",(((D$28*0.001)*($B$28/100))*$B40),"0")))))))*2.291 -> 48.68375 | E40: =(IF(E$27="%w/w SAR",((E$28*10)*$B40),IF(E$27="%w/w DM",(((E$28*10)*($B$28/100))*$B40),IF(E$27="kg/t SAR",(E$28*$B40),IF(E$27="kg/t DM",((E$28*($B$28/100))*$B40),IF(E$27="mg/kg SAR",((E$28*0.001)*$B40),IF(E$27="mg/kg DM",(((E$28*0.001)*($B$28/100))*$B40),"0")))))))*1.205 -> 18.075 | F40: =(IF(F$27="%w/w SAR",((F$28*10)*$B40),IF(F$27="%w/w DM",(((F$28*10)*($B$28/100))*$B40),IF(F$27="kg/t SAR",(F$28*$B40),IF(F$27="kg/t DM",((F$28*($B$28/100))*$B40),IF(F$27="mg/kg SAR",((F$28*0.001)*$B40),IF(F$27="mg/kg DM",(((F$28*0.001)*($B$28/100))*$B40),"0")))))))*1.658 -> 2.0725 | G40: =IF(G$27="%w/w SAR",((G$28*10)*$B40),IF(G$27="%w/w DM",(((G$28*10)*($B$28/100))*$B40),IF(G$27="kg/t SAR",(G$28*$B40),IF(G$27="kg/t DM",((G$28*($B$28/100))*$B40),IF(G$27="mg/kg SAR",((G$28*0.001)*$B40),IF(G$27="mg/kg DM",(((G$28*0.001)*($B$28/100))*$B40),0)))))) -> 0.025 | H40: =IF(H$27="%w/w SAR",((H$28*10)*$B40),IF(H$27="%w/w DM",(((H$28*10)*($B$28/100))*$B40),IF(H$27="kg/t SAR",(H$28*$B40),IF(H$27="kg/t DM",((H$28*($B$28/100))*$B40),IF(H$27="mg/kg SAR",((H$28*0.001)*$B40),IF(H$27="mg/kg DM",(((H$28*0.001)*($B$28/100))*$B40),0)))))) -> 0.1375 | I40: =IF(I$27="%w/w SAR",((I$28*10)*$B40),IF(I$27="%w/w DM",(((I$28*10)*($B$28/100))*$B40),IF(I$27="kg/t SAR",(I$28*$B40),IF(I$27="kg/t DM",((I$28*($B$28/100))*$B40),IF(I$27="mg/kg SAR",((I$28*0.001)*$B40),IF(I$27="mg/kg DM",(((I$28*0.001)*($B$28/100))*$B40),0)))))) -> 0.0625 | J40: =IF(J$27="%w/w SAR",((J$28*10)*$B40),IF(J$27="%w/w DM",(((J$28*10)*($B$28/100))*$B40),IF(J$27="kg/t SAR",(J$28*$B40),IF(J$27="kg/t DM",((J$28*($B$28/100))*$B40),IF(J$27="mg/kg SAR",((J$28*0.001)*$B40),IF(J$27="mg/kg DM",(((J$28*0.001)*($B$28/100))*$B40),0)))))) -> 0.00125 | K40: =IF(K$27="%w/w SAR",((K$28*10)*$B40),IF(K$27="%w/w DM",(((K$28*10)*($B$28/100))*$B40),IF(K$27="kg/t SAR",(K$28*$B40),IF(K$27="kg/t DM",((K$28*($B$28/100))*$B40),IF(K$27="mg/kg SAR",((K$28*0.001)*$B40),IF(K$27="mg/kg DM",(((K$28*0.001)*($B$28/100))*$B40),0)))))) -> 0.00625 | L40: =IF(L$27="%w/w SAR",((L$28*10)*$B40),IF(L$27="%w/w DM",(((L$28*10)*($B$28/100))*$B40),IF(L$27="kg/t SAR",(L$28*$B40),IF(L$27="kg/t DM",((L$28*($B$28/100))*$B40),IF(L$27="mg/kg SAR",((L$28*0.001)*$B40),IF(L$27="mg/kg DM",(((L$28*0.001)*($B$28/100))*$B40),0)))))) -> 0.025 | M40: =IF(M$27="%w/w SAR",((M$28*10)*$B40),IF(M$27="%w/w DM",(((M$28*10)*($B$28/100))*$B40),IF(M$27="kg/t SAR",(M$28*$B40),IF(M$27="kg/t DM",((M$28*($B$28/100))*$B40),IF(M$27="mg/kg SAR",((M$28*0.001)*$B40),IF(M$27="mg/kg DM",(((M$28*0.001)*($B$28/100))*$B40),0)))))) -> 0.025 | N40: =IF(N$27="%w/w SAR",((N$28*10)*$B40),IF(N$27="%w/w DM",(((N$28*10)*($B$28/100))*$B40),IF(N$27="kg/t SAR",(N$28*$B40),IF(N$27="kg/t DM",((N$28*($B$28/100))*$B40),IF(N$27="mg/kg SAR",((N$28*0.001)*$B40),IF(N$27="mg/kg DM",(((N$28*0.001)*($B$28/100))*$B40),0)))))) -> 0 | ... P40: =IF(P$27="%w/w SAR",((P$28*10)*$B40),IF(P$27="%w/w DM",(((P$28*10)*($B$28/100))*$B40),IF(P$27="kg/t SAR",(P$28*$B40),IF(P$27="kg/t DM",((P$28*($B$28/100))*$B40),IF(P$27="mg/kg SAR",((P$28*0.001)*$B40),IF(P$27="mg/kg DM",(((P$28*0.001)*($B$28/100))*$B40),0)))))) -> 103.75 | Q40: =(IF(Q$27="%w/w SAR",((Q$28*10)*$B40),IF(Q$27="%w/w DM",(((Q$28*10)*($B$28/100))*$B40),IF(Q$27="kg/t SAR",(Q$28*$B40),IF(Q$27="kg/t DM",((Q$28*($B$28/100))*$B40),IF(Q$27="mg/kg SAR",((Q$28*0.001)*$B40),IF(Q$27="mg/kg DM",(((Q$28*0.001)*($B$28/100))*$B40),0)))))))*2.5 -> 34.375 | R40: =IF(R$27="%w/w SAR",((R$28*10)*$B40),IF(R$27="%w/w DM",(((R$28*10)*($B$28/100))*$B40),IF(R$27="kg/t SAR",(R$28*$B40),IF(R$27="kg/t DM",((R$28*($B$28/100))*$B40),IF(R$27="mg/kg SAR",((R$28*0.001)*$B40),IF(R$27="mg/kg DM",(((R$28*0.001)*($B$28/100))*$B40),0)))))) -> 0 | S40: =IF(S$27="%w/w SAR",((S$28*10)*$B40),IF(S$27="%w/w DM",(((S$28*10)*($B$28/100))*$B40),IF(S$27="kg/t SAR",(S$28*$B40),IF(S$27="kg/t DM",((S$28*($B$28/100))*$B40),IF(S$27="mg/kg SAR",((S$28*0.001)*$B40),IF(S$27="mg/kg DM",(((S$28*0.001)*($B$28/100))*$B40),0)))))) -> 0.0625 | T40: =IF(T$27="%w/w SAR",((T$28*10)*$B40),IF(T$27="%w/w DM",(((T$28*10)*($B$28/100))*$B40),IF(T$27="kg/t SAR",(T$28*$B40),IF(T$27="kg/t DM",((T$28*($B$28/100))*$B40),IF(T$27="mg/kg SAR",((T$28*0.001)*$B40),IF(T$27="mg/kg DM",(((T$28*0.001)*($B$28/100))*$B40),0)))))) -> 0 | U40: =IF(U$27="%w/w SAR",((U$28*10)*$B40),IF(U$27="%w/w DM",(((U$28*10)*($B$28/100))*$B40),IF(U$27="kg/t SAR",(U$28*$B40),IF(U$27="kg/t DM",((U$28*($B$28/100))*$B40),IF(U$27="mg/kg SAR",((U$28*0.001)*$B40),IF(U$27="mg/kg DM",(((U$28*0.001)*($B$28/100))*$B40),0)))))) -> 0
A41: =M8 -> 0 | C41: =IF(C$27="%w/w SAR",((C$28*10)*$B41),IF(C$27="%w/w DM",(((C$28*10)*($B$28/100))*$B41),IF(C$27="kg/t SAR",(C$28*$B41),IF(C$27="kg/t DM",((C$28*($B$28/100))*$B41),IF(C$27="mg/kg SAR",((C$28*0.001)*$B41),IF(C$27="mg/kg DM",(((C$28*0.001)*($B$28/100))*$B41),0)))))) -> 0 | D41: =(IF(D$27="%w/w SAR",((D$28*10)*$B41),IF(D$27="%w/w DM",(((D$28*10)*($B$28/100))*$B41),IF(D$27="kg/t SAR",(D$28*$B41),IF(D$27="kg/t DM",((D$28*($B$28/100))*$B41),IF(D$27="mg/kg SAR",((D$28*0.001)*$B41),IF(D$27="mg/kg DM",(((D$28*0.001)*($B$28/100))*$B41),"0")))))))*2.291 -> 0 | E41: =(IF(E$27="%w/w SAR",((E$28*10)*$B41),IF(E$27="%w/w DM",(((E$28*10)*($B$28/100))*$B41),IF(E$27="kg/t SAR",(E$28*$B41),IF(E$27="kg/t DM",((E$28*($B$28/100))*$B41),IF(E$27="mg/kg SAR",((E$28*0.001)*$B41),IF(E$27="mg/kg DM",(((E$28*0.001)*($B$28/100))*$B41),"0")))))))*1.205 -> 0 | F41: =(IF(F$27="%w/w SAR",((F$28*10)*$B41),IF(F$27="%w/w DM",(((F$28*10)*($B$28/100))*$B41),IF(F$27="kg/t SAR",(F$28*$B41),IF(F$27="kg/t DM",((F$28*($B$28/100))*$B41),IF(F$27="mg/kg SAR",((F$28*0.001)*$B41),IF(F$27="mg/kg DM",(((F$28*0.001)*($B$28/100))*$B41),"0")))))))*1.658 -> 0 | G41: =IF(G$27="%w/w SAR",((G$28*10)*$B41),IF(G$27="%w/w DM",(((G$28*10)*($B$28/100))*$B41),IF(G$27="kg/t SAR",(G$28*$B41),IF(G$27="kg/t DM",((G$28*($B$28/100))*$B41),IF(G$27="mg/kg SAR",((G$28*0.001)*$B41),IF(G$27="mg/kg DM",(((G$28*0.001)*($B$28/100))*$B41),0)))))) -> 0 | H41: =IF(H$27="%w/w SAR",((H$28*10)*$B41),IF(H$27="%w/w DM",(((H$28*10)*($B$28/100))*$B41),IF(H$27="kg/t SAR",(H$28*$B41),IF(H$27="kg/t DM",((H$28*($B$28/100))*$B41),IF(H$27="mg/kg SAR",((H$28*0.001)*$B41),IF(H$27="mg/kg DM",(((H$28*0.001)*($B$28/100))*$B41),0)))))) -> 0 | I41: =IF(I$27="%w/w SAR",((I$28*10)*$B41),IF(I$27="%w/w DM",(((I$28*10)*($B$28/100))*$B41),IF(I$27="kg/t SAR",(I$28*$B41),IF(I$27="kg/t DM",((I$28*($B$28/100))*$B41),IF(I$27="mg/kg SAR",((I$28*0.001)*$B41),IF(I$27="mg/kg DM",(((I$28*0.001)*($B$28/100))*$B41),0)))))) -> 0 | J41: =IF(J$27="%w/w SAR",((J$28*10)*$B41),IF(J$27="%w/w DM",(((J$28*10)*($B$28/100))*$B41),IF(J$27="kg/t SAR",(J$28*$B41),IF(J$27="kg/t DM",((J$28*($B$28/100))*$B41),IF(J$27="mg/kg SAR",((J$28*0.001)*$B41),IF(J$27="mg/kg DM",(((J$28*0.001)*($B$28/100))*$B41),0)))))) -> 0 | K41: =IF(K$27="%w/w SAR",((K$28*10)*$B41),IF(K$27="%w/w DM",(((K$28*10)*($B$28/100))*$B41),IF(K$27="kg/t SAR",(K$28*$B41),IF(K$27="kg/t DM",((K$28*($B$28/100))*$B41),IF(K$27="mg/kg SAR",((K$28*0.001)*$B41),IF(K$27="mg/kg DM",(((K$28*0.001)*($B$28/100))*$B41),0)))))) -> 0 | L41: =IF(L$27="%w/w SAR",((L$28*10)*$B41),IF(L$27="%w/w DM",(((L$28*10)*($B$28/100))*$B41),IF(L$27="kg/t SAR",(L$28*$B41),IF(L$27="kg/t DM",((L$28*($B$28/100))*$B41),IF(L$27="mg/kg SAR",((L$28*0.001)*$B41),IF(L$27="mg/kg DM",(((L$28*0.001)*($B$28/100))*$B41),0)))))) -> 0 | M41: =IF(M$27="%w/w SAR",((M$28*10)*$B41),IF(M$27="%w/w DM",(((M$28*10)*($B$28/100))*$B41),IF(M$27="kg/t SAR",(M$28*$B41),IF(M$27="kg/t DM",((M$28*($B$28/100))*$B41),IF(M$27="mg/kg SAR",((M$28*0.001)*$B41),IF(M$27="mg/kg DM",(((M$28*0.001)*($B$28/100))*$B41),0)))))) -> 0 | N41: =IF(N$27="%w/w SAR",((N$28*10)*$B41),IF(N$27="%w/w DM",(((N$28*10)*($B$28/100))*$B41),IF(N$27="kg/t SAR",(N$28*$B41),IF(N$27="kg/t DM",((N$28*($B$28/100))*$B41),IF(N$27="mg/kg SAR",((N$28*0.001)*$B41),IF(N$27="mg/kg DM",(((N$28*0.001)*($B$28/100))*$B41),0)))))) -> 0 | ... P41: =IF(P$27="%w/w SAR",((P$28*10)*$B41),IF(P$27="%w/w DM",(((P$28*10)*($B$28/100))*$B41),IF(P$27="kg/t SAR",(P$28*$B41),IF(P$27="kg/t DM",((P$28*($B$28/100))*$B41),IF(P$27="mg/kg SAR",((P$28*0.001)*$B41),IF(P$27="mg/kg DM",(((P$28*0.001)*($B$28/100))*$B41),0)))))) -> 0 | Q41: =(IF(Q$27="%w/w SAR",((Q$28*10)*$B41),IF(Q$27="%w/w DM",(((Q$28*10)*($B$28/100))*$B41),IF(Q$27="kg/t SAR",(Q$28*$B41),IF(Q$27="kg/t DM",((Q$28*($B$28/100))*$B41),IF(Q$27="mg/kg SAR",((Q$28*0.001)*$B41),IF(Q$27="mg/kg DM",(((Q$28*0.001)*($B$28/100))*$B41),0)))))))*2.5 -> 0 | R41: =IF(R$27="%w/w SAR",((R$28*10)*$B41),IF(R$27="%w/w DM",(((R$28*10)*($B$28/100))*$B41),IF(R$27="kg/t SAR",(R$28*$B41),IF(R$27="kg/t DM",((R$28*($B$28/100))*$B41),IF(R$27="mg/kg SAR",((R$28*0.001)*$B41),IF(R$27="mg/kg DM",(((R$28*0.001)*($B$28/100))*$B41),0)))))) -> 0 | S41: =IF(S$27="%w/w SAR",((S$28*10)*$B41),IF(S$27="%w/w DM",(((S$28*10)*($B$28/100))*$B41),IF(S$27="kg/t SAR",(S$28*$B41),IF(S$27="kg/t DM",((S$28*($B$28/100))*$B41),IF(S$27="mg/kg SAR",((S$28*0.001)*$B41),IF(S$27="mg/kg DM",(((S$28*0.001)*($B$28/100))*$B41),0)))))) -> 0 | T41: =IF(T$27="%w/w SAR",((T$28*10)*$B41),IF(T$27="%w/w DM",(((T$28*10)*($B$28/100))*$B41),IF(T$27="kg/t SAR",(T$28*$B41),IF(T$27="kg/t DM",((T$28*($B$28/100))*$B41),IF(T$27="mg/kg SAR",((T$28*0.001)*$B41),IF(T$27="mg/kg DM",(((T$28*0.001)*($B$28/100))*$B41),0)))))) -> 0 | U41: =IF(U$27="%w/w SAR",((U$28*10)*$B41),IF(U$27="%w/w DM",(((U$28*10)*($B$28/100))*$B41),IF(U$27="kg/t SAR",(U$28*$B41),IF(U$27="kg/t DM",((U$28*($B$28/100))*$B41),IF(U$27="mg/kg SAR",((U$28*0.001)*$B41),IF(U$27="mg/kg DM",(((U$28*0.001)*($B$28/100))*$B41),0)))))) -> 0
A42: =N8 -> 0 | C42: =IF(C$27="%w/w SAR",((C$28*10)*$B42),IF(C$27="%w/w DM",(((C$28*10)*($B$28/100))*$B42),IF(C$27="kg/t SAR",(C$28*$B42),IF(C$27="kg/t DM",((C$28*($B$28/100))*$B42),IF(C$27="mg/kg SAR",((C$28*0.001)*$B42),IF(C$27="mg/kg DM",(((C$28*0.001)*($B$28/100))*$B42),0)))))) -> 0 | D42: =(IF(D$27="%w/w SAR",((D$28*10)*$B42),IF(D$27="%w/w DM",(((D$28*10)*($B$28/100))*$B42),IF(D$27="kg/t SAR",(D$28*$B42),IF(D$27="kg/t DM",((D$28*($B$28/100))*$B42),IF(D$27="mg/kg SAR",((D$28*0.001)*$B42),IF(D$27="mg/kg DM",(((D$28*0.001)*($B$28/100))*$B42),"0")))))))*2.291 -> 0 | E42: =(IF(E$27="%w/w SAR",((E$28*10)*$B42),IF(E$27="%w/w DM",(((E$28*10)*($B$28/100))*$B42),IF(E$27="kg/t SAR",(E$28*$B42),IF(E$27="kg/t DM",((E$28*($B$28/100))*$B42),IF(E$27="mg/kg SAR",((E$28*0.001)*$B42),IF(E$27="mg/kg DM",(((E$28*0.001)*($B$28/100))*$B42),"0")))))))*1.205 -> 0 | F42: =(IF(F$27="%w/w SAR",((F$28*10)*$B42),IF(F$27="%w/w DM",(((F$28*10)*($B$28/100))*$B42),IF(F$27="kg/t SAR",(F$28*$B42),IF(F$27="kg/t DM",((F$28*($B$28/100))*$B42),IF(F$27="mg/kg SAR",((F$28*0.001)*$B42),IF(F$27="mg/kg DM",(((F$28*0.001)*($B$28/100))*$B42),"0")))))))*1.658 -> 0 | G42: =IF(G$27="%w/w SAR",((G$28*10)*$B42),IF(G$27="%w/w DM",(((G$28*10)*($B$28/100))*$B42),IF(G$27="kg/t SAR",(G$28*$B42),IF(G$27="kg/t DM",((G$28*($B$28/100))*$B42),IF(G$27="mg/kg SAR",((G$28*0.001)*$B42),IF(G$27="mg/kg DM",(((G$28*0.001)*($B$28/100))*$B42),0)))))) -> 0 | H42: =IF(H$27="%w/w SAR",((H$28*10)*$B42),IF(H$27="%w/w DM",(((H$28*10)*($B$28/100))*$B42),IF(H$27="kg/t SAR",(H$28*$B42),IF(H$27="kg/t DM",((H$28*($B$28/100))*$B42),IF(H$27="mg/kg SAR",((H$28*0.001)*$B42),IF(H$27="mg/kg DM",(((H$28*0.001)*($B$28/100))*$B42),0)))))) -> 0 | I42: =IF(I$27="%w/w SAR",((I$28*10)*$B42),IF(I$27="%w/w DM",(((I$28*10)*($B$28/100))*$B42),IF(I$27="kg/t SAR",(I$28*$B42),IF(I$27="kg/t DM",((I$28*($B$28/100))*$B42),IF(I$27="mg/kg SAR",((I$28*0.001)*$B42),IF(I$27="mg/kg DM",(((I$28*0.001)*($B$28/100))*$B42),0)))))) -> 0 | J42: =IF(J$27="%w/w SAR",((J$28*10)*$B42),IF(J$27="%w/w DM",(((J$28*10)*($B$28/100))*$B42),IF(J$27="kg/t SAR",(J$28*$B42),IF(J$27="kg/t DM",((J$28*($B$28/100))*$B42),IF(J$27="mg/kg SAR",((J$28*0.001)*$B42),IF(J$27="mg/kg DM",(((J$28*0.001)*($B$28/100))*$B42),0)))))) -> 0 | K42: =IF(K$27="%w/w SAR",((K$28*10)*$B42),IF(K$27="%w/w DM",(((K$28*10)*($B$28/100))*$B42),IF(K$27="kg/t SAR",(K$28*$B42),IF(K$27="kg/t DM",((K$28*($B$28/100))*$B42),IF(K$27="mg/kg SAR",((K$28*0.001)*$B42),IF(K$27="mg/kg DM",(((K$28*0.001)*($B$28/100))*$B42),0)))))) -> 0 | L42: =IF(L$27="%w/w SAR",((L$28*10)*$B42),IF(L$27="%w/w DM",(((L$28*10)*($B$28/100))*$B42),IF(L$27="kg/t SAR",(L$28*$B42),IF(L$27="kg/t DM",((L$28*($B$28/100))*$B42),IF(L$27="mg/kg SAR",((L$28*0.001)*$B42),IF(L$27="mg/kg DM",(((L$28*0.001)*($B$28/100))*$B42),0)))))) -> 0 | M42: =IF(M$27="%w/w SAR",((M$28*10)*$B42),IF(M$27="%w/w DM",(((M$28*10)*($B$28/100))*$B42),IF(M$27="kg/t SAR",(M$28*$B42),IF(M$27="kg/t DM",((M$28*($B$28/100))*$B42),IF(M$27="mg/kg SAR",((M$28*0.001)*$B42),IF(M$27="mg/kg DM",(((M$28*0.001)*($B$28/100))*$B42),0)))))) -> 0 | N42: =IF(N$27="%w/w SAR",((N$28*10)*$B42),IF(N$27="%w/w DM",(((N$28*10)*($B$28/100))*$B42),IF(N$27="kg/t SAR",(N$28*$B42),IF(N$27="kg/t DM",((N$28*($B$28/100))*$B42),IF(N$27="mg/kg SAR",((N$28*0.001)*$B42),IF(N$27="mg/kg DM",(((N$28*0.001)*($B$28/100))*$B42),0)))))) -> 0 | ... P42: =IF(P$27="%w/w SAR",((P$28*10)*$B42),IF(P$27="%w/w DM",(((P$28*10)*($B$28/100))*$B42),IF(P$27="kg/t SAR",(P$28*$B42),IF(P$27="kg/t DM",((P$28*($B$28/100))*$B42),IF(P$27="mg/kg SAR",((P$28*0.001)*$B42),IF(P$27="mg/kg DM",(((P$28*0.001)*($B$28/100))*$B42),0)))))) -> 0 | Q42: =(IF(Q$27="%w/w SAR",((Q$28*10)*$B42),IF(Q$27="%w/w DM",(((Q$28*10)*($B$28/100))*$B42),IF(Q$27="kg/t SAR",(Q$28*$B42),IF(Q$27="kg/t DM",((Q$28*($B$28/100))*$B42),IF(Q$27="mg/kg SAR",((Q$28*0.001)*$B42),IF(Q$27="mg/kg DM",(((Q$28*0.001)*($B$28/100))*$B42),0)))))))*2.5 -> 0 | R42: =IF(R$27="%w/w SAR",((R$28*10)*$B42),IF(R$27="%w/w DM",(((R$28*10)*($B$28/100))*$B42),IF(R$27="kg/t SAR",(R$28*$B42),IF(R$27="kg/t DM",((R$28*($B$28/100))*$B42),IF(R$27="mg/kg SAR",((R$28*0.001)*$B42),IF(R$27="mg/kg DM",(((R$28*0.001)*($B$28/100))*$B42),0)))))) -> 0 | S42: =IF(S$27="%w/w SAR",((S$28*10)*$B42),IF(S$27="%w/w DM",(((S$28*10)*($B$28/100))*$B42),IF(S$27="kg/t SAR",(S$28*$B42),IF(S$27="kg/t DM",((S$28*($B$28/100))*$B42),IF(S$27="mg/kg SAR",((S$28*0.001)*$B42),IF(S$27="mg/kg DM",(((S$28*0.001)*($B$28/100))*$B42),0)))))) -> 0 | T42: =IF(T$27="%w/w SAR",((T$28*10)*$B42),IF(T$27="%w/w DM",(((T$28*10)*($B$28/100))*$B42),IF(T$27="kg/t SAR",(T$28*$B42),IF(T$27="kg/t DM",((T$28*($B$28/100))*$B42),IF(T$27="mg/kg SAR",((T$28*0.001)*$B42),IF(T$27="mg/kg DM",(((T$28*0.001)*($B$28/100))*$B42),0)))))) -> 0 | U42: =IF(U$27="%w/w SAR",((U$28*10)*$B42),IF(U$27="%w/w DM",(((U$28*10)*($B$28/100))*$B42),IF(U$27="kg/t SAR",(U$28*$B42),IF(U$27="kg/t DM",((U$28*($B$28/100))*$B42),IF(U$27="mg/kg SAR",((U$28*0.001)*$B42),IF(U$27="mg/kg DM",(((U$28*0.001)*($B$28/100))*$B42),0)))))) -> 0
A43: =O8 -> 0 | C43: =IF(C$27="%w/w SAR",((C$28*10)*$B43),IF(C$27="%w/w DM",(((C$28*10)*($B$28/100))*$B43),IF(C$27="kg/t SAR",(C$28*$B43),IF(C$27="kg/t DM",((C$28*($B$28/100))*$B43),IF(C$27="mg/kg SAR",((C$28*0.001)*$B43),IF(C$27="mg/kg DM",(((C$28*0.001)*($B$28/100))*$B43),0)))))) -> 0 | D43: =(IF(D$27="%w/w SAR",((D$28*10)*$B43),IF(D$27="%w/w DM",(((D$28*10)*($B$28/100))*$B43),IF(D$27="kg/t SAR",(D$28*$B43),IF(D$27="kg/t DM",((D$28*($B$28/100))*$B43),IF(D$27="mg/kg SAR",((D$28*0.001)*$B43),IF(D$27="mg/kg DM",(((D$28*0.001)*($B$28/100))*$B43),"0")))))))*2.291 -> 0 | E43: =(IF(E$27="%w/w SAR",((E$28*10)*$B43),IF(E$27="%w/w DM",(((E$28*10)*($B$28/100))*$B43),IF(E$27="kg/t SAR",(E$28*$B43),IF(E$27="kg/t DM",((E$28*($B$28/100))*$B43),IF(E$27="mg/kg SAR",((E$28*0.001)*$B43),IF(E$27="mg/kg DM",(((E$28*0.001)*($B$28/100))*$B43),"0")))))))*1.205 -> 0 | F43: =(IF(F$27="%w/w SAR",((F$28*10)*$B43),IF(F$27="%w/w DM",(((F$28*10)*($B$28/100))*$B43),IF(F$27="kg/t SAR",(F$28*$B43),IF(F$27="kg/t DM",((F$28*($B$28/100))*$B43),IF(F$27="mg/kg SAR",((F$28*0.001)*$B43),IF(F$27="mg/kg DM",(((F$28*0.001)*($B$28/100))*$B43),"0")))))))*1.658 -> 0 | G43: =IF(G$27="%w/w SAR",((G$28*10)*$B43),IF(G$27="%w/w DM",(((G$28*10)*($B$28/100))*$B43),IF(G$27="kg/t SAR",(G$28*$B43),IF(G$27="kg/t DM",((G$28*($B$28/100))*$B43),IF(G$27="mg/kg SAR",((G$28*0.001)*$B43),IF(G$27="mg/kg DM",(((G$28*0.001)*($B$28/100))*$B43),0)))))) -> 0 | H43: =IF(H$27="%w/w SAR",((H$28*10)*$B43),IF(H$27="%w/w DM",(((H$28*10)*($B$28/100))*$B43),IF(H$27="kg/t SAR",(H$28*$B43),IF(H$27="kg/t DM",((H$28*($B$28/100))*$B43),IF(H$27="mg/kg SAR",((H$28*0.001)*$B43),IF(H$27="mg/kg DM",(((H$28*0.001)*($B$28/100))*$B43),0)))))) -> 0 | I43: =IF(I$27="%w/w SAR",((I$28*10)*$B43),IF(I$27="%w/w DM",(((I$28*10)*($B$28/100))*$B43),IF(I$27="kg/t SAR",(I$28*$B43),IF(I$27="kg/t DM",((I$28*($B$28/100))*$B43),IF(I$27="mg/kg SAR",((I$28*0.001)*$B43),IF(I$27="mg/kg DM",(((I$28*0.001)*($B$28/100))*$B43),0)))))) -> 0 | J43: =IF(J$27="%w/w SAR",((J$28*10)*$B43),IF(J$27="%w/w DM",(((J$28*10)*($B$28/100))*$B43),IF(J$27="kg/t SAR",(J$28*$B43),IF(J$27="kg/t DM",((J$28*($B$28/100))*$B43),IF(J$27="mg/kg SAR",((J$28*0.001)*$B43),IF(J$27="mg/kg DM",(((J$28*0.001)*($B$28/100))*$B43),0)))))) -> 0 | K43: =IF(K$27="%w/w SAR",((K$28*10)*$B43),IF(K$27="%w/w DM",(((K$28*10)*($B$28/100))*$B43),IF(K$27="kg/t SAR",(K$28*$B43),IF(K$27="kg/t DM",((K$28*($B$28/100))*$B43),IF(K$27="mg/kg SAR",((K$28*0.001)*$B43),IF(K$27="mg/kg DM",(((K$28*0.001)*($B$28/100))*$B43),0)))))) -> 0 | L43: =IF(L$27="%w/w SAR",((L$28*10)*$B43),IF(L$27="%w/w DM",(((L$28*10)*($B$28/100))*$B43),IF(L$27="kg/t SAR",(L$28*$B43),IF(L$27="kg/t DM",((L$28*($B$28/100))*$B43),IF(L$27="mg/kg SAR",((L$28*0.001)*$B43),IF(L$27="mg/kg DM",(((L$28*0.001)*($B$28/100))*$B43),0)))))) -> 0 | M43: =IF(M$27="%w/w SAR",((M$28*10)*$B43),IF(M$27="%w/w DM",(((M$28*10)*($B$28/100))*$B43),IF(M$27="kg/t SAR",(M$28*$B43),IF(M$27="kg/t DM",((M$28*($B$28/100))*$B43),IF(M$27="mg/kg SAR",((M$28*0.001)*$B43),IF(M$27="mg/kg DM",(((M$28*0.001)*($B$28/100))*$B43),0)))))) -> 0 | N43: =IF(N$27="%w/w SAR",((N$28*10)*$B43),IF(N$27="%w/w DM",(((N$28*10)*($B$28/100))*$B43),IF(N$27="kg/t SAR",(N$28*$B43),IF(N$27="kg/t DM",((N$28*($B$28/100))*$B43),IF(N$27="mg/kg SAR",((N$28*0.001)*$B43),IF(N$27="mg/kg DM",(((N$28*0.001)*($B$28/100))*$B43),0)))))) -> 0 | ... P43: =IF(P$27="%w/w SAR",((P$28*10)*$B43),IF(P$27="%w/w DM",(((P$28*10)*($B$28/100))*$B43),IF(P$27="kg/t SAR",(P$28*$B43),IF(P$27="kg/t DM",((P$28*($B$28/100))*$B43),IF(P$27="mg/kg SAR",((P$28*0.001)*$B43),IF(P$27="mg/kg DM",(((P$28*0.001)*($B$28/100))*$B43),0)))))) -> 0 | Q43: =(IF(Q$27="%w/w SAR",((Q$28*10)*$B43),IF(Q$27="%w/w DM",(((Q$28*10)*($B$28/100))*$B43),IF(Q$27="kg/t SAR",(Q$28*$B43),IF(Q$27="kg/t DM",((Q$28*($B$28/100))*$B43),IF(Q$27="mg/kg SAR",((Q$28*0.001)*$B43),IF(Q$27="mg/kg DM",(((Q$28*0.001)*($B$28/100))*$B43),0)))))))*2.5 -> 0 | R43: =IF(R$27="%w/w SAR",((R$28*10)*$B43),IF(R$27="%w/w DM",(((R$28*10)*($B$28/100))*$B43),IF(R$27="kg/t SAR",(R$28*$B43),IF(R$27="kg/t DM",((R$28*($B$28/100))*$B43),IF(R$27="mg/kg SAR",((R$28*0.001)*$B43),IF(R$27="mg/kg DM",(((R$28*0.001)*($B$28/100))*$B43),0)))))) -> 0 | S43: =IF(S$27="%w/w SAR",((S$28*10)*$B43),IF(S$27="%w/w DM",(((S$28*10)*($B$28/100))*$B43),IF(S$27="kg/t SAR",(S$28*$B43),IF(S$27="kg/t DM",((S$28*($B$28/100))*$B43),IF(S$27="mg/kg SAR",((S$28*0.001)*$B43),IF(S$27="mg/kg DM",(((S$28*0.001)*($B$28/100))*$B43),0)))))) -> 0 | T43: =IF(T$27="%w/w SAR",((T$28*10)*$B43),IF(T$27="%w/w DM",(((T$28*10)*($B$28/100))*$B43),IF(T$27="kg/t SAR",(T$28*$B43),IF(T$27="kg/t DM",((T$28*($B$28/100))*$B43),IF(T$27="mg/kg SAR",((T$28*0.001)*$B43),IF(T$27="mg/kg DM",(((T$28*0.001)*($B$28/100))*$B43),0)))))) -> 0 | U43: =IF(U$27="%w/w SAR",((U$28*10)*$B43),IF(U$27="%w/w DM",(((U$28*10)*($B$28/100))*$B43),IF(U$27="kg/t SAR",(U$28*$B43),IF(U$27="kg/t DM",((U$28*($B$28/100))*$B43),IF(U$27="mg/kg SAR",((U$28*0.001)*$B43),IF(U$27="mg/kg DM",(((U$28*0.001)*($B$28/100))*$B43),0)))))) -> 0
A44: =P8 -> 0 | C44: =IF(C$27="%w/w SAR",((C$28*10)*$B44),IF(C$27="%w/w DM",(((C$28*10)*($B$28/100))*$B44),IF(C$27="kg/t SAR",(C$28*$B44),IF(C$27="kg/t DM",((C$28*($B$28/100))*$B44),IF(C$27="mg/kg SAR",((C$28*0.001)*$B44),IF(C$27="mg/kg DM",(((C$28*0.001)*($B$28/100))*$B44),0)))))) -> 0 | D44: =(IF(D$27="%w/w SAR",((D$28*10)*$B44),IF(D$27="%w/w DM",(((D$28*10)*($B$28/100))*$B44),IF(D$27="kg/t SAR",(D$28*$B44),IF(D$27="kg/t DM",((D$28*($B$28/100))*$B44),IF(D$27="mg/kg SAR",((D$28*0.001)*$B44),IF(D$27="mg/kg DM",(((D$28*0.001)*($B$28/100))*$B44),"0")))))))*2.291 -> 0 | E44: =(IF(E$27="%w/w SAR",((E$28*10)*$B44),IF(E$27="%w/w DM",(((E$28*10)*($B$28/100))*$B44),IF(E$27="kg/t SAR",(E$28*$B44),IF(E$27="kg/t DM",((E$28*($B$28/100))*$B44),IF(E$27="mg/kg SAR",((E$28*0.001)*$B44),IF(E$27="mg/kg DM",(((E$28*0.001)*($B$28/100))*$B44),"0")))))))*1.205 -> 0 | F44: =(IF(F$27="%w/w SAR",((F$28*10)*$B44),IF(F$27="%w/w DM",(((F$28*10)*($B$28/100))*$B44),IF(F$27="kg/t SAR",(F$28*$B44),IF(F$27="kg/t DM",((F$28*($B$28/100))*$B44),IF(F$27="mg/kg SAR",((F$28*0.001)*$B44),IF(F$27="mg/kg DM",(((F$28*0.001)*($B$28/100))*$B44),"0")))))))*1.658 -> 0 | G44: =IF(G$27="%w/w SAR",((G$28*10)*$B44),IF(G$27="%w/w DM",(((G$28*10)*($B$28/100))*$B44),IF(G$27="kg/t SAR",(G$28*$B44),IF(G$27="kg/t DM",((G$28*($B$28/100))*$B44),IF(G$27="mg/kg SAR",((G$28*0.001)*$B44),IF(G$27="mg/kg DM",(((G$28*0.001)*($B$28/100))*$B44),0)))))) -> 0 | H44: =IF(H$27="%w/w SAR",((H$28*10)*$B44),IF(H$27="%w/w DM",(((H$28*10)*($B$28/100))*$B44),IF(H$27="kg/t SAR",(H$28*$B44),IF(H$27="kg/t DM",((H$28*($B$28/100))*$B44),IF(H$27="mg/kg SAR",((H$28*0.001)*$B44),IF(H$27="mg/kg DM",(((H$28*0.001)*($B$28/100))*$B44),0)))))) -> 0 | I44: =IF(I$27="%w/w SAR",((I$28*10)*$B44),IF(I$27="%w/w DM",(((I$28*10)*($B$28/100))*$B44),IF(I$27="kg/t SAR",(I$28*$B44),IF(I$27="kg/t DM",((I$28*($B$28/100))*$B44),IF(I$27="mg/kg SAR",((I$28*0.001)*$B44),IF(I$27="mg/kg DM",(((I$28*0.001)*($B$28/100))*$B44),0)))))) -> 0 | J44: =IF(J$27="%w/w SAR",((J$28*10)*$B44),IF(J$27="%w/w DM",(((J$28*10)*($B$28/100))*$B44),IF(J$27="kg/t SAR",(J$28*$B44),IF(J$27="kg/t DM",((J$28*($B$28/100))*$B44),IF(J$27="mg/kg SAR",((J$28*0.001)*$B44),IF(J$27="mg/kg DM",(((J$28*0.001)*($B$28/100))*$B44),0)))))) -> 0 | K44: =IF(K$27="%w/w SAR",((K$28*10)*$B44),IF(K$27="%w/w DM",(((K$28*10)*($B$28/100))*$B44),IF(K$27="kg/t SAR",(K$28*$B44),IF(K$27="kg/t DM",((K$28*($B$28/100))*$B44),IF(K$27="mg/kg SAR",((K$28*0.001)*$B44),IF(K$27="mg/kg DM",(((K$28*0.001)*($B$28/100))*$B44),0)))))) -> 0 | L44: =IF(L$27="%w/w SAR",((L$28*10)*$B44),IF(L$27="%w/w DM",(((L$28*10)*($B$28/100))*$B44),IF(L$27="kg/t SAR",(L$28*$B44),IF(L$27="kg/t DM",((L$28*($B$28/100))*$B44),IF(L$27="mg/kg SAR",((L$28*0.001)*$B44),IF(L$27="mg/kg DM",(((L$28*0.001)*($B$28/100))*$B44),0)))))) -> 0 | M44: =IF(M$27="%w/w SAR",((M$28*10)*$B44),IF(M$27="%w/w DM",(((M$28*10)*($B$28/100))*$B44),IF(M$27="kg/t SAR",(M$28*$B44),IF(M$27="kg/t DM",((M$28*($B$28/100))*$B44),IF(M$27="mg/kg SAR",((M$28*0.001)*$B44),IF(M$27="mg/kg DM",(((M$28*0.001)*($B$28/100))*$B44),0)))))) -> 0 | N44: =IF(N$27="%w/w SAR",((N$28*10)*$B44),IF(N$27="%w/w DM",(((N$28*10)*($B$28/100))*$B44),IF(N$27="kg/t SAR",(N$28*$B44),IF(N$27="kg/t DM",((N$28*($B$28/100))*$B44),IF(N$27="mg/kg SAR",((N$28*0.001)*$B44),IF(N$27="mg/kg DM",(((N$28*0.001)*($B$28/100))*$B44),0)))))) -> 0 | ... P44: =IF(P$27="%w/w SAR",((P$28*10)*$B44),IF(P$27="%w/w DM",(((P$28*10)*($B$28/100))*$B44),IF(P$27="kg/t SAR",(P$28*$B44),IF(P$27="kg/t DM",((P$28*($B$28/100))*$B44),IF(P$27="mg/kg SAR",((P$28*0.001)*$B44),IF(P$27="mg/kg DM",(((P$28*0.001)*($B$28/100))*$B44),0)))))) -> 0 | Q44: =(IF(Q$27="%w/w SAR",((Q$28*10)*$B44),IF(Q$27="%w/w DM",(((Q$28*10)*($B$28/100))*$B44),IF(Q$27="kg/t SAR",(Q$28*$B44),IF(Q$27="kg/t DM",((Q$28*($B$28/100))*$B44),IF(Q$27="mg/kg SAR",((Q$28*0.001)*$B44),IF(Q$27="mg/kg DM",(((Q$28*0.001)*($B$28/100))*$B44),0)))))))*2.5 -> 0 | R44: =IF(R$27="%w/w SAR",((R$28*10)*$B44),IF(R$27="%w/w DM",(((R$28*10)*($B$28/100))*$B44),IF(R$27="kg/t SAR",(R$28*$B44),IF(R$27="kg/t DM",((R$28*($B$28/100))*$B44),IF(R$27="mg/kg SAR",((R$28*0.001)*$B44),IF(R$27="mg/kg DM",(((R$28*0.001)*($B$28/100))*$B44),0)))))) -> 0 | S44: =IF(S$27="%w/w SAR",((S$28*10)*$B44),IF(S$27="%w/w DM",(((S$28*10)*($B$28/100))*$B44),IF(S$27="kg/t SAR",(S$28*$B44),IF(S$27="kg/t DM",((S$28*($B$28/100))*$B44),IF(S$27="mg/kg SAR",((S$28*0.001)*$B44),IF(S$27="mg/kg DM",(((S$28*0.001)*($B$28/100))*$B44),0)))))) -> 0 | T44: =IF(T$27="%w/w SAR",((T$28*10)*$B44),IF(T$27="%w/w DM",(((T$28*10)*($B$28/100))*$B44),IF(T$27="kg/t SAR",(T$28*$B44),IF(T$27="kg/t DM",((T$28*($B$28/100))*$B44),IF(T$27="mg/kg SAR",((T$28*0.001)*$B44),IF(T$27="mg/kg DM",(((T$28*0.001)*($B$28/100))*$B44),0)))))) -> 0 | U44: =IF(U$27="%w/w SAR",((U$28*10)*$B44),IF(U$27="%w/w DM",(((U$28*10)*($B$28/100))*$B44),IF(U$27="kg/t SAR",(U$28*$B44),IF(U$27="kg/t DM",((U$28*($B$28/100))*$B44),IF(U$27="mg/kg SAR",((U$28*0.001)*$B44),IF(U$27="mg/kg DM",(((U$28*0.001)*($B$28/100))*$B44),0)))))) -> 0
