Workbook

Sheet Welcome - Intro
A1: Reporting forms for air emissions
B3: Permit Number: | C3: EPR/AB3790ZB | F3: Operator: | L3: Biomass UK No.2 Limited
B5: Facility: | C5: Barry Energy Production Facility | F5: Form Dates: | L5: 45263
B9: Notes: | C9: Use the following form format to report your air emissions to Natural Resources Wales
C10: Cells requiring input are marked with green background: | M10: The content of other cells must not be modified without agreement from NRW
C11: Yellow cells should auto-populate from form Air 1a: | M11: If incorrect, it is possible to over-write with new data

Sheet Air 1 - Particulates - Apr
A1: Reporting of Continuously Monitored Emissions to Air for Particulates
B3: Permit Number: | C3: ='Welcome - Intro'!C3 -> EPR/AB3790ZB | F3: Operator: | L3: ='Welcome - Intro'!L3 -> Biomass UK No.2 Limited | X3: Form Number: | AD3: Air 1
B5: Facility: | C5: ='Welcome - Intro'!C5 -> Barry Energy Production Facility | F5: Plant: | L5: Barry Energy Production Facility | X5: OTNOC operation? | AD5: N
X6: If OTNOC has occurred in month, Form Air 16 must also be completed
B7: Reporting Month: | D7: 45017 | F7: Compliance point: | L7: A1
B22: Monthly summary | D22: Date | E22: 1 | F22: 2 | G22: 3 | H22: 4 | I22: 5 | J22: 6 | K22: 7 | L22: 8 | M22: 9 | N22: 10 | O22: 11 | P22: 12 | Q22: 13 | R22: 14 | S22: 15 | T22: 16 | U22: 17 | V22: 18 | W22: 19 | X22: 20 | Y22: 21 | Z22: 22 | AA22: 23 | AB22: 24 | AC22: 25 | AD22: 26 | AE22: 27 | AF22: 28 | AG22: 29 | AH22: 30 | AI22: 31
A23: Half-hourly averages | D23: Half-Hour average ELV | E23: 45 | F23: =E23 -> 45 | G23: =F23 -> 45 | H23: =G23 -> 45 | I23: =H23 -> 45 | J23: =I23 -> 45 | K23: =J23 -> 45 | L23: =K23 -> 45 | M23: =L23 -> 45 | ... AI23: =AH23 -> 45
B24: Monthly maximum | C24: =MAX(E24:AI24) -> 0 | D24: Maximum half hourly average | E24: 0 | F24: 0 | G24: 0 | H24: 0 | I24: 0 | J24: 0 | K24: 0 | L24: 0 | M24: 0 | N24: 0 | O24: 0 | P24: 0 | Q24: 0 | R24: 0 | S24: 0 | T24: 0 | U24: 0 | V24: 0 | W24: 0 | X24: 0 | Y24: 0 | Z24: 0 | AA24: 0 | AB24: 0 | AC24: 0 | AD24: 0 | AE24: 0 | AF24: 0 | AG24: 0 | AH24: 0 | AI24: 0
B25: Monthly mean | C25: =AVERAGE(E25:AI25) -> 0 | D25: Mean half hourly average | E25: 0 | F25: 0 | G25: 0 | H25: 0 | I25: 0 | J25: 0 | K25: 0 | L25: 0 | M25: 0 | N25: 0 | O25: 0 | P25: 0 | Q25: 0 | R25: 0 | S25: 0 | T25: 0 | U25: 0 | V25: 0 | W25: 0 | X25: 0 | Y25: 0 | Z25: 0 | AA25: 0 | AB25: 0 | AC25: 0 | AD25: 0 | AE25: 0 | AF25: 0 | AG25: 0 | AH25: 0 | AI25: 0
B26: Monthly minimum | C26: =MIN(E26:AI26) -> 0 | D26: Minimum half hourly average | E26: 0 | F26: 0 | G26: 0 | H26: 0 | I26: 0 | J26: 0 | K26: 0 | L26: 0 | M26: 0 | N26: 0 | O26: 0 | P26: 0 | Q26: 0 | R26: 0 | S26: 0 | T26: 0 | U26: 0 | V26: 0 | W26: 0 | X26: 0 | Y26: 0 | Z26: 0 | AA26: 0 | AB26: 0 | AC26: 0 | AD26: 0 | AE26: 0 | AF26: 0 | AG26: 0 | AH26: 0 | AI26: 0
B27: Total invalid results | C27: =SUM(E27:AI27) -> 0 | D27: No. of invalid results | E27: 0 | F27: 0 | G27: 0 | H27: 0 | I27: 0 | J27: 0 | K27: 0 | L27: 0 | M27: 0 | N27: 0 | O27: 0 | P27: 0 | Q27: 0 | R27: 0 | S27: 0 | T27: 0 | U27: 0 | V27: 0 | W27: 0 | X27: 0 | Y27: 0 | Z27: 0 | AA27: 0 | AB27: 0 | AC27: 0 | AD27: 0 | AE27: 0 | AF27: 0 | AG27: 0 | AH27: 0 | AI27: 0
B28: Sum of exceedances | C28: =SUM(E28:AI28) -> 0 | D28: No. of exceedances of ELV | E28: 0 | F28: 0 | G28: 0 | H28: 0 | I28: 0 | J28: 0 | K28: 0 | L28: 0 | M28: 0 | N28: 0 | O28: 0 | P28: 0 | Q28: 0 | R28: 0 | S28: 0 | T28: 0 | U28: 0 | V28: 0 | W28: 0 | X28: 0 | Y28: 0 | Z28: 0 | AA28: 0 | AB28: 0 | AC28: 0 | AD28: 0 | AE28: 0 | AF28: 0 | AG28: 0 | AH28: 0 | AI28: 0
A29: Daily average | D29: Daily average ELV | E29: 7.5 | F29: =E29 -> 7.5 | G29: =F29 -> 7.5 | H29: =G29 -> 7.5 | I29: =H29 -> 7.5 | J29: =I29 -> 7.5 | K29: =J29 -> 7.5 | L29: =K29 -> 7.5 | M29: =L29 -> 7.5 | ... AI29: =AH29 -> 7.5
B30: Monthly maximum | C30: =MAX(E30:AI30) -> 0 | D30: Daily Average | E30: 0 | F30: 0 | G30: 0 | H30: 0 | I30: 0 | J30: 0 | K30: 0 | L30: 0 | M30: 0 | N30: 0 | O30: 0 | P30: 0 | Q30: 0 | R30: 0 | S30: 0 | T30: 0 | U30: 0 | V30: 0 | W30: 0 | X30: 0 | Y30: 0 | Z30: 0 | AA30: 0 | AB30: 0 | AC30: 0 | AD30: 0 | AE30: 0 | AF30: 0 | AG30: 0 | AH30: 0 | AI30: 0
B31: No. of invalid days | C31: =COUNTIF(E31:AI31,"=N") -> 0 | D31: Value valid? (Y/N)
B32: Sum of exceedances | C32: =COUNTIF(E32:AI32,"=y") -> 0 | D32: Value exceeds ELV (Y/N)
B34: Note: The facility was non-operational during the month of April 2023.
B35: Signed: | C35: (Consultant) | O35: Date: | Q35: 45134
B36: (Authorised to sign as a representative of Biomass UK No.2 Limited)

Sheet Air 1 - Particulates - May
A1: Reporting of Continuously Monitored Emissions to Air for Particulates
B3: Permit Number: | C3: ='Welcome - Intro'!C3 -> EPR/AB3790ZB | F3: Operator: | L3: ='Welcome - Intro'!L3 -> Biomass UK No.2 Limited | X3: Form Number: | AD3: Air 1
B5: Facility: | C5: ='Welcome - Intro'!C5 -> Barry Energy Production Facility | F5: Plant: | L5: Barry Energy Production Facility | X5: OTNOC operation? | AD5: N
X6: If OTNOC has occurred in month, Form Air 16 must also be completed
B7: Reporting Month: | D7: 45047 | F7: Compliance point: | L7: A1
B22: Monthly summary | D22: Date | E22: 1 | F22: 2 | G22: 3 | H22: 4 | I22: 5 | J22: 6 | K22: 7 | L22: 8 | M22: 9 | N22: 10 | O22: 11 | P22: 12 | Q22: 13 | R22: 14 | S22: 15 | T22: 16 | U22: 17 | V22: 18 | W22: 19 | X22: 20 | Y22: 21 | Z22: 22 | AA22: 23 | AB22: 24 | AC22: 25 | AD22: 26 | AE22: 27 | AF22: 28 | AG22: 29 | AH22: 30 | AI22: 31
A23: Half-hourly averages | D23: Half-Hour average ELV | E23: 45 | F23: =E23 -> 45 | G23: =F23 -> 45 | H23: =G23 -> 45 | I23: =H23 -> 45 | J23: =I23 -> 45 | K23: =J23 -> 45 | L23: =K23 -> 45 | M23: =L23 -> 45 | ... AI23: =AH23 -> 45
B24: Monthly maximum | C24: =MAX(E24:AI24) -> 0 | D24: Maximum half hourly average | E24: 0 | F24: 0 | G24: 0 | H24: 0 | I24: 0 | J24: 0 | K24: 0 | L24: 0 | M24: 0 | N24: 0 | O24: 0 | P24: 0 | Q24: 0 | R24: 0 | S24: 0 | T24: 0 | U24: 0 | V24: 0 | W24: 0 | X24: 0 | Y24: 0 | Z24: 0 | AA24: 0 | AB24: 0 | AC24: 0 | AD24: 0 | AE24: 0 | AF24: 0 | AG24: 0 | AH24: 0 | AI24: 0
B25: Monthly mean | C25: =AVERAGE(E25:AI25) -> 0 | D25: Mean half hourly average | E25: 0 | F25: 0 | G25: 0 | H25: 0 | I25: 0 | J25: 0 | K25: 0 | L25: 0 | M25: 0 | N25: 0 | O25: 0 | P25: 0 | Q25: 0 | R25: 0 | S25: 0 | T25: 0 | U25: 0 | V25: 0 | W25: 0 | X25: 0 | Y25: 0 | Z25: 0 | AA25: 0 | AB25: 0 | AC25: 0 | AD25: 0 | AE25: 0 | AF25: 0 | AG25: 0 | AH25: 0 | AI25: 0
B26: Monthly minimum | C26: =MIN(E26:AI26) -> 0 | D26: Minimum half hourly average | E26: 0 | F26: 0 | G26: 0 | H26: 0 | I26: 0 | J26: 0 | K26: 0 | L26: 0 | M26: 0 | N26: 0 | O26: 0 | P26: 0 | Q26: 0 | R26: 0 | S26: 0 | T26: 0 | U26: 0 | V26: 0 | W26: 0 | X26: 0 | Y26: 0 | Z26: 0 | AA26: 0 | AB26: 0 | AC26: 0 | AD26: 0 | AE26: 0 | AF26: 0 | AG26: 0 | AH26: 0 | AI26: 0
B27: Total invalid results | C27: =SUM(E27:AI27) -> 0 | D27: No. of invalid results | E27: 0 | F27: 0 | G27: 0 | H27: 0 | I27: 0 | J27: 0 | K27: 0 | L27: 0 | M27: 0 | N27: 0 | O27: 0 | P27: 0 | Q27: 0 | R27: 0 | S27: 0 | T27: 0 | U27: 0 | V27: 0 | W27: 0 | X27: 0 | Y27: 0 | Z27: 0 | AA27: 0 | AB27: 0 | AC27: 0 | AD27: 0 | AE27: 0 | AF27: 0 | AG27: 0 | AH27: 0 | AI27: 0
B28: Sum of exceedances | C28: =SUM(E28:AI28) -> 0 | D28: No. of exceedances of ELV | E28: 0 | F28: 0 | G28: 0 | H28: 0 | I28: 0 | J28: 0 | K28: 0 | L28: 0 | M28: 0 | N28: 0 | O28: 0 | P28: 0 | Q28: 0 | R28: 0 | S28: 0 | T28: 0 | U28: 0 | V28: 0 | W28: 0 | X28: 0 | Y28: 0 | Z28: 0 | AA28: 0 | AB28: 0 | AC28: 0 | AD28: 0 | AE28: 0 | AF28: 0 | AG28: 0 | AH28: 0 | AI28: 0
A29: Daily average | D29: Daily average ELV | E29: 7.5 | F29: =E29 -> 7.5 | G29: =F29 -> 7.5 | H29: =G29 -> 7.5 | I29: =H29 -> 7.5 | J29: =I29 -> 7.5 | K29: =J29 -> 7.5 | L29: =K29 -> 7.5 | M29: =L29 -> 7.5 | ... AI29: =AH29 -> 7.5
B30: Monthly maximum | C30: =MAX(E30:AI30) -> 0 | D30: Daily Average | E30: 0 | F30: 0 | G30: 0 | H30: 0 | I30: 0 | J30: 0 | K30: 0 | L30: 0 | M30: 0 | N30: 0 | O30: 0 | P30: 0 | Q30: 0 | R30: 0 | S30: 0 | T30: 0 | U30: 0 | V30: 0 | W30: 0 | X30: 0 | Y30: 0 | Z30: 0 | AA30: 0 | AB30: 0 | AC30: 0 | AD30: 0 | AE30: 0 | AF30: 0 | AG30: 0 | AH30: 0 | AI30: 0
B31: No. of invalid days | C31: =COUNTIF(E31:AI31,"=N") -> 0 | D31: Value valid? (Y/N)
B32: Sum of exceedances | C32: =COUNTIF(E32:AI32,"=y") -> 0 | D32: Value exceeds ELV (Y/N)
B34: Note: The facility was non-operational during the month of May 2023.
B35: Signed: | C35: (Consultant) | O35: Date: | Q35: 45134
B36: (Authorised to sign as a representative of Biomass UK No.2 Limited)

Sheet Air 1 - Particulates - Jun
A1: Reporting of Continuously Monitored Emissions to Air for Particulates
B3: Permit Number: | C3: ='Welcome - Intro'!C3 -> EPR/AB3790ZB | F3: Operator: | L3: ='Welcome - Intro'!L3 -> Biomass UK No.2 Limited | X3: Form Number: | AD3: Air 1
B5: Facility: | C5: ='Welcome - Intro'!C5 -> Barry Energy Production Facility | F5: Plant: | L5: Barry Energy Production Facility | X5: OTNOC operation? | AD5: N
X6: If OTNOC has occurred in month, Form Air 16 must also be completed
B7: Reporting Month: | D7: 45078 | F7: Compliance point: | L7: A1
B22: Monthly summary | D22: Date | E22: 1 | F22: 2 | G22: 3 | H22: 4 | I22: 5 | J22: 6 | K22: 7 | L22: 8 | M22: 9 | N22: 10 | O22: 11 | P22: 12 | Q22: 13 | R22: 14 | S22: 15 | T22: 16 | U22: 17 | V22: 18 | W22: 19 | X22: 20 | Y22: 21 | Z22: 22 | AA22: 23 | AB22: 24 | AC22: 25 | AD22: 26 | AE22: 27 | AF22: 28 | AG22: 29 | AH22: 30 | AI22: 31
A23: Half-hourly averages | D23: Half-Hour average ELV | E23: 45 | F23: =E23 -> 45 | G23: =F23 -> 45 | H23: =G23 -> 45 | I23: =H23 -> 45 | J23: =I23 -> 45 | K23: =J23 -> 45 | L23: =K23 -> 45 | M23: =L23 -> 45 | ... AI23: =AH23 -> 45
B24: Monthly maximum | C24: =MAX(E24:AI24) -> 0 | D24: Maximum half hourly average | E24: 0 | F24: 0 | G24: 0 | H24: 0 | I24: 0 | J24: 0 | K24: 0 | L24: 0 | M24: 0 | N24: 0 | O24: 0 | P24: 0 | Q24: 0 | R24: 0 | S24: 0 | T24: 0 | U24: 0 | V24: 0 | W24: 0 | X24: 0 | Y24: 0 | Z24: 0 | AA24: 0 | AB24: 0 | AC24: 0 | AD24: 0 | AE24: 0 | AF24: 0 | AG24: 0 | AH24: 0 | AI24: 0
B25: Monthly mean | C25: =AVERAGE(E25:AI25) -> 0 | D25: Mean half hourly average | E25: 0 | F25: 0 | G25: 0 | H25: 0 | I25: 0 | J25: 0 | K25: 0 | L25: 0 | M25: 0 | N25: 0 | O25: 0 | P25: 0 | Q25: 0 | R25: 0 | S25: 0 | T25: 0 | U25: 0 | V25: 0 | W25: 0 | X25: 0 | Y25: 0 | Z25: 0 | AA25: 0 | AB25: 0 | AC25: 0 | AD25: 0 | AE25: 0 | AF25: 0 | AG25: 0 | AH25: 0 | AI25: 0
B26: Monthly minimum | C26: =MIN(E26:AI26) -> 0 | D26: Minimum half hourly average | E26: 0 | F26: 0 | G26: 0 | H26: 0 | I26: 0 | J26: 0 | K26: 0 | L26: 0 | M26: 0 | N26: 0 | O26: 0 | P26: 0 | Q26: 0 | R26: 0 | S26: 0 | T26: 0 | U26: 0 | V26: 0 | W26: 0 | X26: 0 | Y26: 0 | Z26: 0 | AA26: 0 | AB26: 0 | AC26: 0 | AD26: 0 | AE26: 0 | AF26: 0 | AG26: 0 | AH26: 0 | AI26: 0
B27: Total invalid results | C27: =SUM(E27:AI27) -> 0 | D27: No. of invalid results | E27: 0 | F27: 0 | G27: 0 | H27: 0 | I27: 0 | J27: 0 | K27: 0 | L27: 0 | M27: 0 | N27: 0 | O27: 0 | P27: 0 | Q27: 0 | R27: 0 | S27: 0 | T27: 0 | U27: 0 | V27: 0 | W27: 0 | X27: 0 | Y27: 0 | Z27: 0 | AA27: 0 | AB27: 0 | AC27: 0 | AD27: 0 | AE27: 0 | AF27: 0 | AG27: 0 | AH27: 0 | AI27: 0
B28: Sum of exceedances | C28: =SUM(E28:AI28) -> 0 | D28: No. of exceedances of ELV | E28: 0 | F28: 0 | G28: 0 | H28: 0 | I28: 0 | J28: 0 | K28: 0 | L28: 0 | M28: 0 | N28: 0 | O28: 0 | P28: 0 | Q28: 0 | R28: 0 | S28: 0 | T28: 0 | U28: 0 | V28: 0 | W28: 0 | X28: 0 | Y28: 0 | Z28: 0 | AA28: 0 | AB28: 0 | AC28: 0 | AD28: 0 | AE28: 0 | AF28: 0 | AG28: 0 | AH28: 0 | AI28: 0
A29: Daily average | D29: Daily average ELV | E29: 7.5 | F29: =E29 -> 7.5 | G29: =F29 -> 7.5 | H29: =G29 -> 7.5 | I29: =H29 -> 7.5 | J29: =I29 -> 7.5 | K29: =J29 -> 7.5 | L29: =K29 -> 7.5 | M29: =L29 -> 7.5 | ... AI29: =AH29 -> 7.5
B30: Monthly maximum | C30: =MAX(E30:AI30) -> 0 | D30: Daily Average | E30: 0 | F30: 0 | G30: 0 | H30: 0 | I30: 0 | J30: 0 | K30: 0 | L30: 0 | M30: 0 | N30: 0 | O30: 0 | P30: 0 | Q30: 0 | R30: 0 | S30: 0 | T30: 0 | U30: 0 | V30: 0 | W30: 0 | X30: 0 | Y30: 0 | Z30: 0 | AA30: 0 | AB30: 0 | AC30: 0 | AD30: 0 | AE30: 0 | AF30: 0 | AG30: 0 | AH30: 0 | AI30: 0
B31: No. of invalid days | C31: =COUNTIF(E31:AI31,"=N") -> 0 | D31: Value valid? (Y/N)
B32: Sum of exceedances | C32: =COUNTIF(E32:AI32,"=y") -> 0 | D32: Value exceeds ELV (Y/N)
B34: Note: The facility was non-operational during the month of June 2023.
B35: Signed: | C35: (Consultant) | O35: Date: | Q35: 45134
B36: (Authorised to sign as a representative of Biomass UK No.2 Limited)

Sheet Air 2 - TOC - Apr
A1: Reporting of Continuously Monitored Emissions to Air for Total Organic Carbon
B3: Permit Number: | C3: ='Welcome - Intro'!C3 -> EPR/AB3790ZB | F3: Operator: | L3: ='Welcome - Intro'!L3 -> Biomass UK No.2 Limited | X3: Form Number: | AD3: Air 2
B5: Facility: | C5: ='Welcome - Intro'!C5 -> Barry Energy Production Facility | F5: Plant: | L5: Barry Energy Production Facility
B7: Reporting Month: | D7: 45017 | F7: Emission point: | L7: A1
B22: Monthly summary | D22: Date | E22: 1 | F22: 2 | G22: 3 | H22: 4 | I22: 5 | J22: 6 | K22: 7 | L22: 8 | M22: 9 | N22: 10 | O22: 11 | P22: 12 | Q22: 13 | R22: 14 | S22: 15 | T22: 16 | U22: 17 | V22: 18 | W22: 19 | X22: 20 | Y22: 21 | Z22: 22 | AA22: 23 | AB22: 24 | AC22: 25 | AD22: 26 | AE22: 27 | AF22: 28 | AG22: 29 | AH22: 30 | AI22: 31
A23: Half-hourly averages | D23: Half-Hour average ELV | E23: 30 | F23: =E23 -> 30 | G23: =F23 -> 30 | H23: =G23 -> 30 | I23: =H23 -> 30 | J23: =I23 -> 30 | K23: =J23 -> 30 | L23: =K23 -> 30 | M23: =L23 -> 30 | ... AI23: =AH23 -> 30
B24: Monthly maximum | C24: =MAX(E24:AI24) -> 0 | D24: Maximum half hourly average | E24: 0 | F24: 0 | G24: 0 | H24: 0 | I24: 0 | J24: 0 | K24: 0 | L24: 0 | M24: 0 | N24: 0 | O24: 0 | P24: 0 | Q24: 0 | R24: 0 | S24: 0 | T24: 0 | U24: 0 | V24: 0 | W24: 0 | X24: 0 | Y24: 0 | Z24: 0 | AA24: 0 | AB24: 0 | AC24: 0 | AD24: 0 | AE24: 0 | AF24: 0 | AG24: 0 | AH24: 0 | AI24: 0
B25: Monthly mean | C25: =AVERAGE(E25:AI25) -> 0 | D25: Mean half hourly average | E25: 0 | F25: 0 | G25: 0 | H25: 0 | I25: 0 | J25: 0 | K25: 0 | L25: 0 | M25: 0 | N25: 0 | O25: 0 | P25: 0 | Q25: 0 | R25: 0 | S25: 0 | T25: 0 | U25: 0 | V25: 0 | W25: 0 | X25: 0 | Y25: 0 | Z25: 0 | AA25: 0 | AB25: 0 | AC25: 0 | AD25: 0 | AE25: 0 | AF25: 0 | AG25: 0 | AH25: 0 | AI25: 0
B26: Monthly minimum | C26: =MIN(E26:AI26) -> 0 | D26: Minimum half hourly average | E26: 0 | F26: 0 | G26: 0 | H26: 0 | I26: 0 | J26: 0 | K26: 0 | L26: 0 | M26: 0 | N26: 0 | O26: 0 | P26: 0 | Q26: 0 | R26: 0 | S26: 0 | T26: 0 | U26: 0 | V26: 0 | W26: 0 | X26: 0 | Y26: 0 | Z26: 0 | AA26: 0 | AB26: 0 | AC26: 0 | AD26: 0 | AE26: 0 | AF26: 0 | AG26: 0 | AH26: 0 | AI26: 0
B27: Total invalid results | C27: =SUM(E27:AI27) -> 0 | D27: No. of invalid results | E27: 0 | F27: 0 | G27: 0 | H27: 0 | I27: 0 | J27: 0 | K27: 0 | L27: 0 | M27: 0 | N27: 0 | O27: 0 | P27: 0 | Q27: 0 | R27: 0 | S27: 0 | T27: 0 | U27: 0 | V27: 0 | W27: 0 | X27: 0 | Y27: 0 | Z27: 0 | AA27: 0 | AB27: 0 | AC27: 0 | AD27: 0 | AE27: 0 | AF27: 0 | AG27: 0 | AH27: 0 | AI27: 0
B28: Sum of exceedances | C28: =SUM(E28:AI28) -> 0 | D28: No. of exceedances of ELV | E28: 0 | F28: 0 | G28: 0 | H28: 0 | I28: 0 | J28: 0 | K28: 0 | L28: 0 | M28: 0 | N28: 0 | O28: 0 | P28: 0 | Q28: 0 | R28: 0 | S28: 0 | T28: 0 | U28: 0 | V28: 0 | W28: 0 | X28: 0 | Y28: 0 | Z28: 0 | AA28: 0 | AB28: 0 | AC28: 0 | AD28: 0 | AE28: 0 | AF28: 0 | AG28: 0 | AH28: 0 | AI28: 0
A29: Daily average | D29: Daily average ELV | E29: 15 | F29: =E29 -> 15 | G29: =F29 -> 15 | H29: =G29 -> 15 | I29: =H29 -> 15 | J29: =I29 -> 15 | K29: =J29 -> 15 | L29: =K29 -> 15 | M29: =L29 -> 15 | ... AI29: =AH29 -> 15
B30: Monthly maximum | C30: =MAX(E30:AI30) -> 0 | D30: Daily Average | E30: 0 | F30: 0 | G30: 0 | H30: 0 | I30: 0 | J30: 0 | K30: 0 | L30: 0 | M30: 0 | N30: 0 | O30: 0 | P30: 0 | Q30: 0 | R30: 0 | S30: 0 | T30: 0 | U30: 0 | V30: 0 | W30: 0 | X30: 0 | Y30: 0 | Z30: 0 | AA30: 0 | AB30: 0 | AC30: 0 | AD30: 0 | AE30: 0 | AF30: 0 | AG30: 0 | AH30: 0 | AI30: 0
B31: No. of invalid days | C31: =COUNTIF(E31:AI31,"=N") -> 0 | D31: Value valid?
B32: Sum of exceedances | C32: =COUNTIF(E32:AI32,"=y") -> 0 | D32: Value exceeds ELV (Y/N)
B34: Note: The facility was non-operational during the month of April 2023.
B35: Signed: | C35: (Consultant) | O35: Date: | Q35: 45114
B36: (Authorised to sign as a representative of Biomass UK No.2 Limited)

Sheet Air 2 - TOC -May
A1: Reporting of Continuously Monitored Emissions to Air for Total Organic Carbon
B3: Permit Number: | C3: ='Welcome - Intro'!C3 -> EPR/AB3790ZB | F3: Operator: | L3: ='Welcome - Intro'!L3 -> Biomass UK No.2 Limited | X3: Form Number: | AD3: Air 2
B5: Facility: | C5: ='Welcome - Intro'!C5 -> Barry Energy Production Facility | F5: Plant: | L5: Barry Energy Production Facility
B7: Reporting Month: | D7: 45047 | F7: Emission point: | L7: A1
B22: Monthly summary | D22: Date | E22: 1 | F22: 2 | G22: 3 | H22: 4 | I22: 5 | J22: 6 | K22: 7 | L22: 8 | M22: 9 | N22: 10 | O22: 11 | P22: 12 | Q22: 13 | R22: 14 | S22: 15 | T22: 16 | U22: 17 | V22: 18 | W22: 19 | X22: 20 | Y22: 21 | Z22: 22 | AA22: 23 | AB22: 24 | AC22: 25 | AD22: 26 | AE22: 27 | AF22: 28 | AG22: 29 | AH22: 30 | AI22: 31
A23: Half-hourly averages | D23: Half-Hour average ELV | E23: 30 | F23: =E23 -> 30 | G23: =F23 -> 30 | H23: =G23 -> 30 | I23: =H23 -> 30 | J23: =I23 -> 30 | K23: =J23 -> 30 | L23: =K23 -> 30 | M23: =L23 -> 30 | ... AI23: =AH23 -> 30
B24: Monthly maximum | C24: =MAX(E24:AI24) -> 0 | D24: Maximum half hourly average | E24: 0 | F24: 0 | G24: 0 | H24: 0 | I24: 0 | J24: 0 | K24: 0 | L24: 0 | M24: 0 | N24: 0 | O24: 0 | P24: 0 | Q24: 0 | R24: 0 | S24: 0 | T24: 0 | U24: 0 | V24: 0 | W24: 0 | X24: 0 | Y24: 0 | Z24: 0 | AA24: 0 | AB24: 0 | AC24: 0 | AD24: 0 | AE24: 0 | AF24: 0 | AG24: 0 | AH24: 0 | AI24: 0
B25: Monthly mean | C25: =AVERAGE(E25:AI25) -> 0 | D25: Mean half hourly average | E25: 0 | F25: 0 | G25: 0 | H25: 0 | I25: 0 | J25: 0 | K25: 0 | L25: 0 | M25: 0 | N25: 0 | O25: 0 | P25: 0 | Q25: 0 | R25: 0 | S25: 0 | T25: 0 | U25: 0 | V25: 0 | W25: 0 | X25: 0 | Y25: 0 | Z25: 0 | AA25: 0 | AB25: 0 | AC25: 0 | AD25: 0 | AE25: 0 | AF25: 0 | AG25: 0 | AH25: 0 | AI25: 0
B26: Monthly minimum | C26: =MIN(E26:AI26) -> 0 | D26: Minimum half hourly average | E26: 0 | F26: 0 | G26: 0 | H26: 0 | I26: 0 | J26: 0 | K26: 0 | L26: 0 | M26: 0 | N26: 0 | O26: 0 | P26: 0 | Q26: 0 | R26: 0 | S26: 0 | T26: 0 | U26: 0 | V26: 0 | W26: 0 | X26: 0 | Y26: 0 | Z26: 0 | AA26: 0 | AB26: 0 | AC26: 0 | AD26: 0 | AE26: 0 | AF26: 0 | AG26: 0 | AH26: 0 | AI26: 0
B27: Total invalid results | C27: =SUM(E27:AI27) -> 0 | D27: No. of invalid results | E27: 0 | F27: 0 | G27: 0 | H27: 0 | I27: 0 | J27: 0 | K27: 0 | L27: 0 | M27: 0 | N27: 0 | O27: 0 | P27: 0 | Q27: 0 | R27: 0 | S27: 0 | T27: 0 | U27: 0 | V27: 0 | W27: 0 | X27: 0 | Y27: 0 | Z27: 0 | AA27: 0 | AB27: 0 | AC27: 0 | AD27: 0 | AE27: 0 | AF27: 0 | AG27: 0 | AH27: 0 | AI27: 0
B28: Sum of exceedances | C28: =SUM(E28:AI28) -> 0 | D28: No. of exceedances of ELV | E28: 0 | F28: 0 | G28: 0 | H28: 0 | I28: 0 | J28: 0 | K28: 0 | L28: 0 | M28: 0 | N28: 0 | O28: 0 | P28: 0 | Q28: 0 | R28: 0 | S28: 0 | T28: 0 | U28: 0 | V28: 0 | W28: 0 | X28: 0 | Y28: 0 | Z28: 0 | AA28: 0 | AB28: 0 | AC28: 0 | AD28: 0 | AE28: 0 | AF28: 0 | AG28: 0 | AH28: 0 | AI28: 0
A29: Daily average | D29: Daily average ELV | E29: 15 | F29: =E29 -> 15 | G29: =F29 -> 15 | H29: =G29 -> 15 | I29: =H29 -> 15 | J29: =I29 -> 15 | K29: =J29 -> 15 | L29: =K29 -> 15 | M29: =L29 -> 15 | ... AI29: =AH29 -> 15
B30: Monthly maximum | C30: =MAX(E30:AI30) -> 0 | D30: Daily Average | E30: 0 | F30: 0 | G30: 0 | H30: 0 | I30: 0 | J30: 0 | K30: 0 | L30: 0 | M30: 0 | N30: 0 | O30: 0 | P30: 0 | Q30: 0 | R30: 0 | S30: 0 | T30: 0 | U30: 0 | V30: 0 | W30: 0 | X30: 0 | Y30: 0 | Z30: 0 | AA30: 0 | AB30: 0 | AC30: 0 | AD30: 0 | AE30: 0 | AF30: 0 | AG30: 0 | AH30: 0 | AI30: 0
B31: No. of invalid days | C31: =COUNTIF(E31:AI31,"=N") -> 0 | D31: Value valid?
B32: Sum of exceedances | C32: =COUNTIF(E32:AI32,"=y") -> 0 | D32: Value exceeds ELV (Y/N)
B34: Note: The facility was non-operational during the month of May 2023.
B35: Signed: | C35: (Consultant) | O35: Date: | Q35: 45108
B36: (Authorised to sign as a representative of Biomass UK No.2 Limited)

Sheet Air 2 - TOC - Jun
A1: Reporting of Continuously Monitored Emissions to Air for Total Organic Carbon
B3: Permit Number: | C3: ='Welcome - Intro'!C3 -> EPR/AB3790ZB | F3: Operator: | L3: ='Welcome - Intro'!L3 -> Biomass UK No.2 Limited | X3: Form Number: | AD3: Air 2
B5: Facility: | C5: ='Welcome - Intro'!C5 -> Barry Energy Production Facility | F5: Plant: | L5: Barry Energy Production Facility
B7: Reporting Month: | D7: 45078 | F7: Emission point: | L7: A1
B22: Monthly summary | D22: Date | E22: 1 | F22: 2 | G22: 3 | H22: 4 | I22: 5 | J22: 6 | K22: 7 | L22: 8 | M22: 9 | N22: 10 | O22: 11 | P22: 12 | Q22: 13 | R22: 14 | S22: 15 | T22: 16 | U22: 17 | V22: 18 | W22: 19 | X22: 20 | Y22: 21 | Z22: 22 | AA22: 23 | AB22: 24 | AC22: 25 | AD22: 26 | AE22: 27 | AF22: 28 | AG22: 29 | AH22: 30 | AI22: 31
A23: Half-hourly averages | D23: Half-Hour average ELV | E23: 30 | F23: =E23 -> 30 | G23: =F23 -> 30 | H23: =G23 -> 30 | I23: =H23 -> 30 | J23: =I23 -> 30 | K23: =J23 -> 30 | L23: =K23 -> 30 | M23: =L23 -> 30 | ... AI23: =AH23 -> 30
B24: Monthly maximum | C24: =MAX(E24:AI24) -> 0 | D24: Maximum half hourly average | E24: 0 | F24: 0 | G24: 0 | H24: 0 | I24: 0 | J24: 0 | K24: 0 | L24: 0 | M24: 0 | N24: 0 | O24: 0 | P24: 0 | Q24: 0 | R24: 0 | S24: 0 | T24: 0 | U24: 0 | V24: 0 | W24: 0 | X24: 0 | Y24: 0 | Z24: 0 | AA24: 0 | AB24: 0 | AC24: 0 | AD24: 0 | AE24: 0 | AF24: 0 | AG24: 0 | AH24: 0 | AI24: 0
B25: Monthly mean | C25: =AVERAGE(E25:AI25) -> 0 | D25: Mean half hourly average | E25: 0 | F25: 0 | G25: 0 | H25: 0 | I25: 0 | J25: 0 | K25: 0 | L25: 0 | M25: 0 | N25: 0 | O25: 0 | P25: 0 | Q25: 0 | R25: 0 | S25: 0 | T25: 0 | U25: 0 | V25: 0 | W25: 0 | X25: 0 | Y25: 0 | Z25: 0 | AA25: 0 | AB25: 0 | AC25: 0 | AD25: 0 | AE25: 0 | AF25: 0 | AG25: 0 | AH25: 0 | AI25: 0
B26: Monthly minimum | C26: =MIN(E26:AI26) -> 0 | D26: Minimum half hourly average | E26: 0 | F26: 0 | G26: 0 | H26: 0 | I26: 0 | J26: 0 | K26: 0 | L26: 0 | M26: 0 | N26: 0 | O26: 0 | P26: 0 | Q26: 0 | R26: 0 | S26: 0 | T26: 0 | U26: 0 | V26: 0 | W26: 0 | X26: 0 | Y26: 0 | Z26: 0 | AA26: 0 | AB26: 0 | AC26: 0 | AD26: 0 | AE26: 0 | AF26: 0 | AG26: 0 | AH26: 0 | AI26: 0
B27: Total invalid results | C27: =SUM(E27:AI27) -> 0 | D27: No. of invalid results | E27: 0 | F27: 0 | G27: 0 | H27: 0 | I27: 0 | J27: 0 | K27: 0 | L27: 0 | M27: 0 | N27: 0 | O27: 0 | P27: 0 | Q27: 0 | R27: 0 | S27: 0 | T27: 0 | U27: 0 | V27: 0 | W27: 0 | X27: 0 | Y27: 0 | Z27: 0 | AA27: 0 | AB27: 0 | AC27: 0 | AD27: 0 | AE27: 0 | AF27: 0 | AG27: 0 | AH27: 0 | AI27: 0
B28: Sum of exceedances | C28: =SUM(E28:AI28) -> 0 | D28: No. of exceedances of ELV | E28: 0 | F28: 0 | G28: 0 | H28: 0 | I28: 0 | J28: 0 | K28: 0 | L28: 0 | M28: 0 | N28: 0 | O28: 0 | P28: 0 | Q28: 0 | R28: 0 | S28: 0 | T28: 0 | U28: 0 | V28: 0 | W28: 0 | X28: 0 | Y28: 0 | Z28: 0 | AA28: 0 | AB28: 0 | AC28: 0 | AD28: 0 | AE28: 0 | AF28: 0 | AG28: 0 | AH28: 0 | AI28: 0
A29: Daily average | D29: Daily average ELV | E29: 15 | F29: =E29 -> 15 | G29: =F29 -> 15 | H29: =G29 -> 15 | I29: =H29 -> 15 | J29: =I29 -> 15 | K29: =J29 -> 15 | L29: =K29 -> 15 | M29: =L29 -> 15 | ... AI29: =AH29 -> 15
B30: Monthly maximum | C30: =MAX(E30:AI30) -> 0 | D30: Daily Average | E30: 0 | F30: 0 | G30: 0 | H30: 0 | I30: 0 | J30: 0 | K30: 0 | L30: 0 | M30: 0 | N30: 0 | O30: 0 | P30: 0 | Q30: 0 | R30: 0 | S30: 0 | T30: 0 | U30: 0 | V30: 0 | W30: 0 | X30: 0 | Y30: 0 | Z30: 0 | AA30: 0 | AB30: 0 | AC30: 0 | AD30: 0 | AE30: 0 | AF30: 0 | AG30: 0 | AH30: 0 | AI30: 0
B31: No. of invalid days | C31: =COUNTIF(E31:AI31,"=N") -> 0 | D31: Value valid?
B32: Sum of exceedances | C32: =COUNTIF(E32:AI32,"=y") -> 0 | D32: Value exceeds ELV (Y/N)
B34: Note: The facility was non-operational during the month of June 2023.
B35: Signed: | C35: (Consultant) | O35: Date: | Q35: 45108
B36: (Authorised to sign as a representative of Biomass UK No.2 Limited)

Sheet Air 3 - HCl - Apr
A1: Reporting of Continuously Monitored Emissions to Air for Hydrogen Chloride
B3: Permit Number: | C3: ='Welcome - Intro'!C3 -> EPR/AB3790ZB | F3: Operator: | L3: ='Welcome - Intro'!L3 -> Biomass UK No.2 Limited | X3: Form Number: | AD3: Air 3
B5: Facility: | C5: ='Welcome - Intro'!C5 -> Barry Energy Production Facility | F5: Plant: | L5: Barry Energy Facility
B7: Reporting Month: | D7: 45017 | F7: Compliance point: | L7: A1
B22: Monthly summary | D22: Date | E22: 1 | F22: 2 | G22: 3 | H22: 4 | I22: 5 | J22: 6 | K22: 7 | L22: 8 | M22: 9 | N22: 10 | O22: 11 | P22: 12 | Q22: 13 | R22: 14 | S22: 15 | T22: 16 | U22: 17 | V22: 18 | W22: 19 | X22: 20 | Y22: 21 | Z22: 22 | AA22: 23 | AB22: 24 | AC22: 25 | AD22: 26 | AE22: 27 | AF22: 28 | AG22: 29 | AH22: 30 | AI22: 31
A23: Half-hourly averages | D23: Half-Hour average ELV | E23: 90 | F23: =E23 -> 90 | G23: =F23 -> 90 | H23: =G23 -> 90 | I23: =H23 -> 90 | J23: =I23 -> 90 | K23: =J23 -> 90 | L23: =K23 -> 90 | M23: =L23 -> 90 | ... AI23: =AH23 -> 90
B24: Monthly maximum | C24: =MAX(E24:AI24) -> 0 | D24: Maximum half hourly average | E24: 0 | F24: 0 | G24: 0 | H24: 0 | I24: 0 | J24: 0 | K24: 0 | L24: 0 | M24: 0 | N24: 0 | O24: 0 | P24: 0 | Q24: 0 | R24: 0 | S24: 0 | T24: 0 | U24: 0 | V24: 0 | W24: 0 | X24: 0 | Y24: 0 | Z24: 0 | AA24: 0 | AB24: 0 | AC24: 0 | AD24: 0 | AE24: 0 | AF24: 0 | AG24: 0 | AH24: 0 | AI24: 0
B25: Monthly mean | C25: =AVERAGE(E25:AI25) -> 0 | D25: Mean half hourly average | E25: 0 | F25: 0 | G25: 0 | H25: 0 | I25: 0 | J25: 0 | K25: 0 | L25: 0 | M25: 0 | N25: 0 | O25: 0 | P25: 0 | Q25: 0 | R25: 0 | S25: 0 | T25: 0 | U25: 0 | V25: 0 | W25: 0 | X25: 0 | Y25: 0 | Z25: 0 | AA25: 0 | AB25: 0 | AC25: 0 | AD25: 0 | AE25: 0 | AF25: 0 | AG25: 0 | AH25: 0 | AI25: 0
B26: Monthly minimum | C26: =MIN(E26:AI26) -> 0 | D26: Minimum half hourly average | E26: 0 | F26: 0 | G26: 0 | H26: 0 | I26: 0 | J26: 0 | K26: 0 | L26: 0 | M26: 0 | N26: 0 | O26: 0 | P26: 0 | Q26: 0 | R26: 0 | S26: 0 | T26: 0 | U26: 0 | V26: 0 | W26: 0 | X26: 0 | Y26: 0 | Z26: 0 | AA26: 0 | AB26: 0 | AC26: 0 | AD26: 0 | AE26: 0 | AF26: 0 | AG26: 0 | AH26: 0 | AI26: 0
B27: Total invalid results | C27: =SUM(E27:AI27) -> 0 | D27: No. of invalid results | E27: 0 | F27: 0 | G27: 0 | H27: 0 | I27: 0 | J27: 0 | K27: 0 | L27: 0 | M27: 0 | N27: 0 | O27: 0 | P27: 0 | Q27: 0 | R27: 0 | S27: 0 | T27: 0 | U27: 0 | V27: 0 | W27: 0 | X27: 0 | Y27: 0 | Z27: 0 | AA27: 0 | AB27: 0 | AC27: 0 | AD27: 0 | AE27: 0 | AF27: 0 | AG27: 0 | AH27: 0 | AI27: 0
B28: Sum of exceedances | C28: =SUM(E28:AI28) -> 0 | D28: No. of exceedances of ELV | E28: 0 | F28: 0 | G28: 0 | H28: 0 | I28: 0 | J28: 0 | K28: 0 | L28: 0 | M28: 0 | N28: 0 | O28: 0 | P28: 0 | Q28: 0 | R28: 0 | S28: 0 | T28: 0 | U28: 0 | V28: 0 | W28: 0 | X28: 0 | Y28: 0 | Z28: 0 | AA28: 0 | AB28: 0 | AC28: 0 | AD28: 0 | AE28: 0 | AF28: 0 | AG28: 0 | AH28: 0 | AI28: 0
A29: Daily average | D29: Daily average ELV | E29: 12 | F29: =E29 -> 12 | G29: =F29 -> 12 | H29: =G29 -> 12 | I29: =H29 -> 12 | J29: =I29 -> 12 | K29: =J29 -> 12 | L29: =K29 -> 12 | M29: =L29 -> 12 | ... AI29: =AH29 -> 12
B30: Monthly maximum | C30: =MAX(E30:AI30) -> 0 | D30: Daily Average | E30: 0 | F30: 0 | G30: 0 | H30: 0 | I30: 0 | J30: 0 | K30: 0 | L30: 0 | M30: 0 | N30: 0 | O30: 0 | P30: 0 | Q30: 0 | R30: 0 | S30: 0 | T30: 0 | U30: 0 | V30: 0 | W30: 0 | X30: 0 | Y30: 0 | Z30: 0 | AA30: 0 | AB30: 0 | AC30: 0 | AD30: 0 | AE30: 0 | AF30: 0 | AG30: 0 | AH30: 0 | AI30: 0
B31: No. of invalid days | C31: =COUNTIF(E31:AI31,"=N") -> 0 | D31: Value valid?
B32: Sum of exceedances | C32: =COUNTIF(E32:AI32,"=y") -> 0 | D32: Value exceeds ELV (Y/N)
B34: Note: The facility was non-operational during the month of April 2023.
B35: Signed: | C35: (Consultant) | O35: Date: | Q35: 45108
B36: (Authorised to sign as a representative of Biomass UK No.2 Limited)

Sheet Air 3 - HCl - May
A1: Reporting of Continuously Monitored Emissions to Air for Hydrogen Chloride
B3: Permit Number: | C3: ='Welcome - Intro'!C3 -> EPR/AB3790ZB | F3: Operator: | L3: ='Welcome - Intro'!L3 -> Biomass UK No.2 Limited | X3: Form Number: | AD3: Air 3
B5: Facility: | C5: ='Welcome - Intro'!C5 -> Barry Energy Production Facility | F5: Plant: | L5: Barry Energy Facility
B7: Reporting Month: | D7: 45047 | F7: Compliance point: | L7: A1
B22: Monthly summary | D22: Date | E22: 1 | F22: 2 | G22: 3 | H22: 4 | I22: 5 | J22: 6 | K22: 7 | L22: 8 | M22: 9 | N22: 10 | O22: 11 | P22: 12 | Q22: 13 | R22: 14 | S22: 15 | T22: 16 | U22: 17 | V22: 18 | W22: 19 | X22: 20 | Y22: 21 | Z22: 22 | AA22: 23 | AB22: 24 | AC22: 25 | AD22: 26 | AE22: 27 | AF22: 28 | AG22: 29 | AH22: 30 | AI22: 31
A23: Half-hourly averages | D23: Half-Hour average ELV | E23: 90 | F23: =E23 -> 90 | G23: =F23 -> 90 | H23: =G23 -> 90 | I23: =H23 -> 90 | J23: =I23 -> 90 | K23: =J23 -> 90 | L23: =K23 -> 90 | M23: =L23 -> 90 | ... AI23: =AH23 -> 90
B24: Monthly maximum | C24: =MAX(E24:AI24) -> 0 | D24: Maximum half hourly average | E24: 0 | F24: 0 | G24: 0 | H24: 0 | I24: 0 | J24: 0 | K24: 0 | L24: 0 | M24: 0 | N24: 0 | O24: 0 | P24: 0 | Q24: 0 | R24: 0 | S24: 0 | T24: 0 | U24: 0 | V24: 0 | W24: 0 | X24: 0 | Y24: 0 | Z24: 0 | AA24: 0 | AB24: 0 | AC24: 0 | AD24: 0 | AE24: 0 | AF24: 0 | AG24: 0 | AH24: 0 | AI24: 0
B25: Monthly mean | C25: =AVERAGE(E25:AI25) -> 0 | D25: Mean half hourly average | E25: 0 | F25: 0 | G25: 0 | H25: 0 | I25: 0 | J25: 0 | K25: 0 | L25: 0 | M25: 0 | N25: 0 | O25: 0 | P25: 0 | Q25: 0 | R25: 0 | S25: 0 | T25: 0 | U25: 0 | V25: 0 | W25: 0 | X25: 0 | Y25: 0 | Z25: 0 | AA25: 0 | AB25: 0 | AC25: 0 | AD25: 0 | AE25: 0 | AF25: 0 | AG25: 0 | AH25: 0 | AI25: 0
B26: Monthly minimum | C26: =MIN(E26:AI26) -> 0 | D26: Minimum half hourly average | E26: 0 | F26: 0 | G26: 0 | H26: 0 | I26: 0 | J26: 0 | K26: 0 | L26: 0 | M26: 0 | N26: 0 | O26: 0 | P26: 0 | Q26: 0 | R26: 0 | S26: 0 | T26: 0 | U26: 0 | V26: 0 | W26: 0 | X26: 0 | Y26: 0 | Z26: 0 | AA26: 0 | AB26: 0 | AC26: 0 | AD26: 0 | AE26: 0 | AF26: 0 | AG26: 0 | AH26: 0 | AI26: 0
B27: Total invalid results | C27: =SUM(E27:AI27) -> 0 | D27: No. of invalid results | E27: 0 | F27: 0 | G27: 0 | H27: 0 | I27: 0 | J27: 0 | K27: 0 | L27: 0 | M27: 0 | N27: 0 | O27: 0 | P27: 0 | Q27: 0 | R27: 0 | S27: 0 | T27: 0 | U27: 0 | V27: 0 | W27: 0 | X27: 0 | Y27: 0 | Z27: 0 | AA27: 0 | AB27: 0 | AC27: 0 | AD27: 0 | AE27: 0 | AF27: 0 | AG27: 0 | AH27: 0 | AI27: 0
B28: Sum of exceedances | C28: =SUM(E28:AI28) -> 0 | D28: No. of exceedances of ELV | E28: 0 | F28: 0 | G28: 0 | H28: 0 | I28: 0 | J28: 0 | K28: 0 | L28: 0 | M28: 0 | N28: 0 | O28: 0 | P28: 0 | Q28: 0 | R28: 0 | S28: 0 | T28: 0 | U28: 0 | V28: 0 | W28: 0 | X28: 0 | Y28: 0 | Z28: 0 | AA28: 0 | AB28: 0 | AC28: 0 | AD28: 0 | AE28: 0 | AF28: 0 | AG28: 0 | AH28: 0 | AI28: 0
A29: Daily average | D29: Daily average ELV | E29: 12 | F29: =E29 -> 12 | G29: =F29 -> 12 | H29: =G29 -> 12 | I29: =H29 -> 12 | J29: =I29 -> 12 | K29: =J29 -> 12 | L29: =K29 -> 12 | M29: =L29 -> 12 | ... AI29: =AH29 -> 12
B30: Monthly maximum | C30: =MAX(E30:AI30) -> 0 | D30: Daily Average | E30: 0 | F30: 0 | G30: 0 | H30: 0 | I30: 0 | J30: 0 | K30: 0 | L30: 0 | M30: 0 | N30: 0 | O30: 0 | P30: 0 | Q30: 0 | R30: 0 | S30: 0 | T30: 0 | U30: 0 | V30: 0 | W30: 0 | X30: 0 | Y30: 0 | Z30: 0 | AA30: 0 | AB30: 0 | AC30: 0 | AD30: 0 | AE30: 0 | AF30: 0 | AG30: 0 | AH30: 0 | AI30: 0
B31: No. of invalid days | C31: =COUNTIF(E31:AI31,"=N") -> 0 | D31: Value valid?
B32: Sum of exceedances | C32: =COUNTIF(E32:AI32,"=y") -> 0 | D32: Value exceeds ELV (Y/N)
B34: Note: The facility was non-operational during the month of May 2023.
B35: Signed: | C35: (Consultant) | O35: Date: | Q35: 45108
B36: (Authorised to sign as a representative of Biomass UK No.2 Limited)

Sheet Air 3 - HCl - Jun
A1: Reporting of Continuously Monitored Emissions to Air for Hydrogen Chloride
B3: Permit Number: | C3: ='Welcome - Intro'!C3 -> EPR/AB3790ZB | F3: Operator: | L3: ='Welcome - Intro'!L3 -> Biomass UK No.2 Limited | X3: Form Number: | AD3: Air 3
B5: Facility: | C5: ='Welcome - Intro'!C5 -> Barry Energy Production Facility | F5: Plant: | L5: Barry Energy Facility
B7: Reporting Month: | D7: 45078 | F7: Compliance point: | L7: A1
B22: Monthly summary | D22: Date | E22: 1 | F22: 2 | G22: 3 | H22: 4 | I22: 5 | J22: 6 | K22: 7 | L22: 8 | M22: 9 | N22: 10 | O22: 11 | P22: 12 | Q22: 13 | R22: 14 | S22: 15 | T22: 16 | U22: 17 | V22: 18 | W22: 19 | X22: 20 | Y22: 21 | Z22: 22 | AA22: 23 | AB22: 24 | AC22: 25 | AD22: 26 | AE22: 27 | AF22: 28 | AG22: 29 | AH22: 30 | AI22: 31
A23: Half-hourly averages | D23: Half-Hour average ELV | E23: 90 | F23: =E23 -> 90 | G23: =F23 -> 90 | H23: =G23 -> 90 | I23: =H23 -> 90 | J23: =I23 -> 90 | K23: =J23 -> 90 | L23: =K23 -> 90 | M23: =L23 -> 90 | ... AI23: =AH23 -> 90
B24: Monthly maximum | C24: =MAX(E24:AI24) -> 0 | D24: Maximum half hourly average | E24: 0 | F24: 0 | G24: 0 | H24: 0 | I24: 0 | J24: 0 | K24: 0 | L24: 0 | M24: 0 | N24: 0 | O24: 0 | P24: 0 | Q24: 0 | R24: 0 | S24: 0 | T24: 0 | U24: 0 | V24: 0 | W24: 0 | X24: 0 | Y24: 0 | Z24: 0 | AA24: 0 | AB24: 0 | AC24: 0 | AD24: 0 | AE24: 0 | AF24: 0 | AG24: 0 | AH24: 0 | AI24: 0
B25: Monthly mean | C25: =AVERAGE(E25:AI25) -> 0 | D25: Mean half hourly average | E25: 0 | F25: 0 | G25: 0 | H25: 0 | I25: 0 | J25: 0 | K25: 0 | L25: 0 | M25: 0 | N25: 0 | O25: 0 | P25: 0 | Q25: 0 | R25: 0 | S25: 0 | T25: 0 | U25: 0 | V25: 0 | W25: 0 | X25: 0 | Y25: 0 | Z25: 0 | AA25: 0 | AB25: 0 | AC25: 0 | AD25: 0 | AE25: 0 | AF25: 0 | AG25: 0 | AH25: 0 | AI25: 0
B26: Monthly minimum | C26: =MIN(E26:AI26) -> 0 | D26: Minimum half hourly average | E26: 0 | F26: 0 | G26: 0 | H26: 0 | I26: 0 | J26: 0 | K26: 0 | L26: 0 | M26: 0 | N26: 0 | O26: 0 | P26: 0 | Q26: 0 | R26: 0 | S26: 0 | T26: 0 | U26: 0 | V26: 0 | W26: 0 | X26: 0 | Y26: 0 | Z26: 0 | AA26: 0 | AB26: 0 | AC26: 0 | AD26: 0 | AE26: 0 | AF26: 0 | AG26: 0 | AH26: 0 | AI26: 0
B27: Total invalid results | C27: =SUM(E27:AI27) -> 0 | D27: No. of invalid results | E27: 0 | F27: 0 | G27: 0 | H27: 0 | I27: 0 | J27: 0 | K27: 0 | L27: 0 | M27: 0 | N27: 0 | O27: 0 | P27: 0 | Q27: 0 | R27: 0 | S27: 0 | T27: 0 | U27: 0 | V27: 0 | W27: 0 | X27: 0 | Y27: 0 | Z27: 0 | AA27: 0 | AB27: 0 | AC27: 0 | AD27: 0 | AE27: 0 | AF27: 0 | AG27: 0 | AH27: 0 | AI27: 0
B28: Sum of exceedances | C28: =SUM(E28:AI28) -> 0 | D28: No. of exceedances of ELV | E28: 0 | F28: 0 | G28: 0 | H28: 0 | I28: 0 | J28: 0 | K28: 0 | L28: 0 | M28: 0 | N28: 0 | O28: 0 | P28: 0 | Q28: 0 | R28: 0 | S28: 0 | T28: 0 | U28: 0 | V28: 0 | W28: 0 | X28: 0 | Y28: 0 | Z28: 0 | AA28: 0 | AB28: 0 | AC28: 0 | AD28: 0 | AE28: 0 | AF28: 0 | AG28: 0 | AH28: 0 | AI28: 0
A29: Daily average | D29: Daily average ELV | E29: 12 | F29: =E29 -> 12 | G29: =F29 -> 12 | H29: =G29 -> 12 | I29: =H29 -> 12 | J29: =I29 -> 12 | K29: =J29 -> 12 | L29: =K29 -> 12 | M29: =L29 -> 12 | ... AI29: =AH29 -> 12
B30: Monthly maximum | C30: =MAX(E30:AI30) -> 0 | D30: Daily Average | E30: 0 | F30: 0 | G30: 0 | H30: 0 | I30: 0 | J30: 0 | K30: 0 | L30: 0 | M30: 0 | N30: 0 | O30: 0 | P30: 0 | Q30: 0 | R30: 0 | S30: 0 | T30: 0 | U30: 0 | V30: 0 | W30: 0 | X30: 0 | Y30: 0 | Z30: 0 | AA30: 0 | AB30: 0 | AC30: 0 | AD30: 0 | AE30: 0 | AF30: 0 | AG30: 0 | AH30: 0 | AI30: 0
B31: No. of invalid days | C31: =COUNTIF(E31:AI31,"=N") -> 0 | D31: Value valid?
B32: Sum of exceedances | C32: =COUNTIF(E32:AI32,"=y") -> 0 | D32: Value exceeds ELV (Y/N)
B34: Note: The facility was non-operational during the month of June 2023.
B35: Signed: | C35: (Consultant) | O35: Date: | Q35: 45108
B36: (Authorised to sign as a representative of Biomass UK No.2 Limited)

Sheet Air 4 - CO half hour - Apr
A1: Reporting of Continuously Monitored Emissions to Air for Carbon Monoxide
B3: Permit Number: | C3: ='Welcome - Intro'!C3 -> EPR/AB3790ZB | F3: Operator: | L3: ='Welcome - Intro'!L3 -> Biomass UK No.2 Limited | X3: Form Number: | AD3: Air 4
B5: Facility: | C5: ='Welcome - Intro'!C5 -> Barry Energy Production Facility | F5: Plant: | L5: Barry Energy Facility
B7: Reporting Month: | D7: 45017 | F7: Compliance point: | L7: A1
B22: Monthly summary | D22: Date | E22: 1 | F22: 2 | G22: 3 | H22: 4 | I22: 5 | J22: 6 | K22: 7 | L22: 8 | M22: 9 | N22: 10 | O22: 11 | P22: 12 | Q22: 13 | R22: 14 | S22: 15 | T22: 16 | U22: 17 | V22: 18 | W22: 19 | X22: 20 | Y22: 21 | Z22: 22 | AA22: 23 | AB22: 24 | AC22: 25 | AD22: 26 | AE22: 27 | AF22: 28 | AG22: 29 | AH22: 30 | AI22: 31
A23: Half-hourly averages | D23: Half-Hour average ELV | E23: 150 | F23: =E23 -> 150 | G23: =F23 -> 150 | H23: =G23 -> 150 | I23: =H23 -> 150 | J23: =I23 -> 150 | K23: =J23 -> 150 | L23: =K23 -> 150 | M23: =L23 -> 150 | ... AI23: =AH23 -> 150
B24: Monthly maximum | C24: =MAX(E24:AI24) -> 0 | D24: Maximum half hourly average | E24: 0 | F24: 0 | G24: 0 | H24: 0 | I24: 0 | J24: 0 | K24: 0 | L24: 0 | M24: 0 | N24: 0 | O24: 0 | P24: 0 | Q24: 0 | R24: 0 | S24: 0 | T24: 0 | U24: 0 | V24: 0 | W24: 0 | X24: 0 | Y24: 0 | Z24: 0 | AA24: 0 | AB24: 0 | AC24: 0 | AD24: 0 | AE24: 0 | AF24: 0 | AG24: 0 | AH24: 0 | AI24: 0
B25: Monthly mean | C25: =AVERAGE(E25:AI25) -> 0 | D25: Mean half hourly average | E25: 0 | F25: 0 | G25: 0 | H25: 0 | I25: 0 | J25: 0 | K25: 0 | L25: 0 | M25: 0 | N25: 0 | O25: 0 | P25: 0 | Q25: 0 | R25: 0 | S25: 0 | T25: 0 | U25: 0 | V25: 0 | W25: 0 | X25: 0 | Y25: 0 | Z25: 0 | AA25: 0 | AB25: 0 | AC25: 0 | AD25: 0 | AE25: 0 | AF25: 0 | AG25: 0 | AH25: 0 | AI25: 0
B26: Monthly minimum | C26: =MIN(E26:AI26) -> 0 | D26: Minimum half hourly average | E26: 0 | F26: 0 | G26: 0 | H26: 0 | I26: 0 | J26: 0 | K26: 0 | L26: 0 | M26: 0 | N26: 0 | O26: 0 | P26: 0 | Q26: 0 | R26: 0 | S26: 0 | T26: 0 | U26: 0 | V26: 0 | W26: 0 | X26: 0 | Y26: 0 | Z26: 0 | AA26: 0 | AB26: 0 | AC26: 0 | AD26: 0 | AE26: 0 | AF26: 0 | AG26: 0 | AH26: 0 | AI26: 0
B27: Total invalid results | C27: =SUM(E27:AI27) -> 0 | D27: No. of invalid results | E27: 0 | F27: 0 | G27: 0 | H27: 0 | I27: 0 | J27: 0 | K27: 0 | L27: 0 | M27: 0 | N27: 0 | O27: 0 | P27: 0 | Q27: 0 | R27: 0 | S27: 0 | T27: 0 | U27: 0 | V27: 0 | W27: 0 | X27: 0 | Y27: 0 | Z27: 0 | AA27: 0 | AB27: 0 | AC27: 0 | AD27: 0 | AE27: 0 | AF27: 0 | AG27: 0 | AH27: 0 | AI27: 0
B28: Sum of exceedances | C28: =SUM(E28:AI28) -> 0 | D28: No. of exceedances of ELV | E28: 0 | F28: 0 | G28: 0 | H28: 0 | I28: 0 | J28: 0 | K28: 0 | L28: 0 | M28: 0 | N28: 0 | O28: 0 | P28: 0 | Q28: 0 | R28: 0 | S28: 0 | T28: 0 | U28: 0 | V28: 0 | W28: 0 | X28: 0 | Y28: 0 | Z28: 0 | AA28: 0 | AB28: 0 | AC28: 0 | AD28: 0 | AE28: 0 | AF28: 0 | AG28: 0 | AH28: 0 | AI28: 0
A29: Daily average | D29: Daily average ELV | E29: 75 | F29: =E29 -> 75 | G29: =F29 -> 75 | H29: =G29 -> 75 | I29: =H29 -> 75 | J29: =I29 -> 75 | K29: =J29 -> 75 | L29: =K29 -> 75 | M29: =L29 -> 75 | ... AI29: =AH29 -> 75
B30: Monthly maximum | C30: =MAX(E30:AI30) -> 0 | D30: Daily Average | E30: 0 | F30: 0 | G30: 0 | H30: 0 | I30: 0 | J30: 0 | K30: 0 | L30: 0 | M30: 0 | N30: 0 | O30: 0 | P30: 0 | Q30: 0 | R30: 0 | S30: 0 | T30: 0 | U30: 0 | V30: 0 | W30: 0 | X30: 0 | Y30: 0 | Z30: 0 | AA30: 0 | AB30: 0 | AC30: 0 | AD30: 0 | AE30: 0 | AF30: 0 | AG30: 0 | AH30: 0 | AI30: 0
B31: No. of invalid days | C31: =COUNTIF(E31:AI31,"=N") -> 0 | D31: Value valid?
B32: Sum of exceedances | C32: =COUNTIF(E32:AI32,"=y") -> 0 | D32: Value exceeds ELV (Y/N)
B34: Note: The facility was non-operational during the month of April 2023.
B35: Signed: | C35: (Consultant) | O35: Date: | Q35: 45108
B36: (Authorised to sign as a representative of Biomass UK No.2 Limited)

Sheet Air 4 - CO half hour - May
A1: Reporting of Continuously Monitored Emissions to Air for Carbon Monoxide
B3: Permit Number: | C3: ='Welcome - Intro'!C3 -> EPR/AB3790ZB | F3: Operator: | L3: ='Welcome - Intro'!L3 -> Biomass UK No.2 Limited | X3: Form Number: | AD3: Air 4
B5: Facility: | C5: ='Welcome - Intro'!C5 -> Barry Energy Production Facility | F5: Plant: | L5: Barry Energy Facility
B7: Reporting Month: | D7: 45047 | F7: Compliance point: | L7: A1
B22: Monthly summary | D22: Date | E22: 1 | F22: 2 | G22: 3 | H22: 4 | I22: 5 | J22: 6 | K22: 7 | L22: 8 | M22: 9 | N22: 10 | O22: 11 | P22: 12 | Q22: 13 | R22: 14 | S22: 15 | T22: 16 | U22: 17 | V22: 18 | W22: 19 | X22: 20 | Y22: 21 | Z22: 22 | AA22: 23 | AB22: 24 | AC22: 25 | AD22: 26 | AE22: 27 | AF22: 28 | AG22: 29 | AH22: 30 | AI22: 31
A23: Half-hourly averages | D23: Half-Hour average ELV | E23: 150 | F23: =E23 -> 150 | G23: =F23 -> 150 | H23: =G23 -> 150 | I23: =H23 -> 150 | J23: =I23 -> 150 | K23: =J23 -> 150 | L23: =K23 -> 150 | M23: =L23 -> 150 | ... AI23: =AH23 -> 150
B24: Monthly maximum | C24: =MAX(E24:AI24) -> 0 | D24: Maximum half hourly average | E24: 0 | F24: 0 | G24: 0 | H24: 0 | I24: 0 | J24: 0 | K24: 0 | L24: 0 | M24: 0 | N24: 0 | O24: 0 | P24: 0 | Q24: 0 | R24: 0 | S24: 0 | T24: 0 | U24: 0 | V24: 0 | W24: 0 | X24: 0 | Y24: 0 | Z24: 0 | AA24: 0 | AB24: 0 | AC24: 0 | AD24: 0 | AE24: 0 | AF24: 0 | AG24: 0 | AH24: 0 | AI24: 0
B25: Monthly mean | C25: =AVERAGE(E25:AI25) -> 0 | D25: Mean half hourly average | E25: 0 | F25: 0 | G25: 0 | H25: 0 | I25: 0 | J25: 0 | K25: 0 | L25: 0 | M25: 0 | N25: 0 | O25: 0 | P25: 0 | Q25: 0 | R25: 0 | S25: 0 | T25: 0 | U25: 0 | V25: 0 | W25: 0 | X25: 0 | Y25: 0 | Z25: 0 | AA25: 0 | AB25: 0 | AC25: 0 | AD25: 0 | AE25: 0 | AF25: 0 | AG25: 0 | AH25: 0 | AI25: 0
B26: Monthly minimum | C26: =MIN(E26:AI26) -> 0 | D26: Minimum half hourly average | E26: 0 | F26: 0 | G26: 0 | H26: 0 | I26: 0 | J26: 0 | K26: 0 | L26: 0 | M26: 0 | N26: 0 | O26: 0 | P26: 0 | Q26: 0 | R26: 0 | S26: 0 | T26: 0 | U26: 0 | V26: 0 | W26: 0 | X26: 0 | Y26: 0 | Z26: 0 | AA26: 0 | AB26: 0 | AC26: 0 | AD26: 0 | AE26: 0 | AF26: 0 | AG26: 0 | AH26: 0 | AI26: 0
B27: Total invalid results | C27: =SUM(E27:AI27) -> 0 | D27: No. of invalid results | E27: 0 | F27: 0 | G27: 0 | H27: 0 | I27: 0 | J27: 0 | K27: 0 | L27: 0 | M27: 0 | N27: 0 | O27: 0 | P27: 0 | Q27: 0 | R27: 0 | S27: 0 | T27: 0 | U27: 0 | V27: 0 | W27: 0 | X27: 0 | Y27: 0 | Z27: 0 | AA27: 0 | AB27: 0 | AC27: 0 | AD27: 0 | AE27: 0 | AF27: 0 | AG27: 0 | AH27: 0 | AI27: 0
B28: Sum of exceedances | C28: =SUM(E28:AI28) -> 0 | D28: No. of exceedances of ELV | E28: 0 | F28: 0 | G28: 0 | H28: 0 | I28: 0 | J28: 0 | K28: 0 | L28: 0 | M28: 0 | N28: 0 | O28: 0 | P28: 0 | Q28: 0 | R28: 0 | S28: 0 | T28: 0 | U28: 0 | V28: 0 | W28: 0 | X28: 0 | Y28: 0 | Z28: 0 | AA28: 0 | AB28: 0 | AC28: 0 | AD28: 0 | AE28: 0 | AF28: 0 | AG28: 0 | AH28: 0 | AI28: 0
A29: Daily average | D29: Daily average ELV | E29: 75 | F29: =E29 -> 75 | G29: =F29 -> 75 | H29: =G29 -> 75 | I29: =H29 -> 75 | J29: =I29 -> 75 | K29: =J29 -> 75 | L29: =K29 -> 75 | M29: =L29 -> 75 | ... AI29: =AH29 -> 75
B30: Monthly maximum | C30: =MAX(E30:AI30) -> 0 | D30: Daily Average | E30: 0 | F30: 0 | G30: 0 | H30: 0 | I30: 0 | J30: 0 | K30: 0 | L30: 0 | M30: 0 | N30: 0 | O30: 0 | P30: 0 | Q30: 0 | R30: 0 | S30: 0 | T30: 0 | U30: 0 | V30: 0 | W30: 0 | X30: 0 | Y30: 0 | Z30: 0 | AA30: 0 | AB30: 0 | AC30: 0 | AD30: 0 | AE30: 0 | AF30: 0 | AG30: 0 | AH30: 0 | AI30: 0
B31: No. of invalid days | C31: =COUNTIF(E31:AI31,"=N") -> 0 | D31: Value valid?
B32: Sum of exceedances | C32: =COUNTIF(E32:AI32,"=y") -> 0 | D32: Value exceeds ELV (Y/N)
B34: Note: The facility was non-operational during the month of May 2023.
B35: Signed: | C35: (Consultant) | O35: Date: | Q35: 45108
B36: (Authorised to sign as a representative of Biomass UK No.2 Limited)

Sheet Air 4 - CO half hour - Jun
A1: Reporting of Continuously Monitored Emissions to Air for Carbon Monoxide
B3: Permit Number: | C3: ='Welcome - Intro'!C3 -> EPR/AB3790ZB | F3: Operator: | L3: ='Welcome - Intro'!L3 -> Biomass UK No.2 Limited | X3: Form Number: | AD3: Air 4
B5: Facility: | C5: ='Welcome - Intro'!C5 -> Barry Energy Production Facility | F5: Plant: | L5: Barry Energy Facility
B7: Reporting Month: | D7: 45078 | F7: Compliance point: | L7: A1
B22: Monthly summary | D22: Date | E22: 1 | F22: 2 | G22: 3 | H22: 4 | I22: 5 | J22: 6 | K22: 7 | L22: 8 | M22: 9 | N22: 10 | O22: 11 | P22: 12 | Q22: 13 | R22: 14 | S22: 15 | T22: 16 | U22: 17 | V22: 18 | W22: 19 | X22: 20 | Y22: 21 | Z22: 22 | AA22: 23 | AB22: 24 | AC22: 25 | AD22: 26 | AE22: 27 | AF22: 28 | AG22: 29 | AH22: 30 | AI22: 31
A23: Half-hourly averages | D23: Half-Hour average ELV | E23: 150 | F23: =E23 -> 150 | G23: =F23 -> 150 | H23: =G23 -> 150 | I23: =H23 -> 150 | J23: =I23 -> 150 | K23: =J23 -> 150 | L23: =K23 -> 150 | M23: =L23 -> 150 | ... AI23: =AH23 -> 150
B24: Monthly maximum | C24: =MAX(E24:AI24) -> 0 | D24: Maximum half hourly average | E24: 0 | F24: 0 | G24: 0 | H24: 0 | I24: 0 | J24: 0 | K24: 0 | L24: 0 | M24: 0 | N24: 0 | O24: 0 | P24: 0 | Q24: 0 | R24: 0 | S24: 0 | T24: 0 | U24: 0 | V24: 0 | W24: 0 | X24: 0 | Y24: 0 | Z24: 0 | AA24: 0 | AB24: 0 | AC24: 0 | AD24: 0 | AE24: 0 | AF24: 0 | AG24: 0 | AH24: 0 | AI24: 0
B25: Monthly mean | C25: =AVERAGE(E25:AI25) -> 0 | D25: Mean half hourly average | E25: 0 | F25: 0 | G25: 0 | H25: 0 | I25: 0 | J25: 0 | K25: 0 | L25: 0 | M25: 0 | N25: 0 | O25: 0 | P25: 0 | Q25: 0 | R25: 0 | S25: 0 | T25: 0 | U25: 0 | V25: 0 | W25: 0 | X25: 0 | Y25: 0 | Z25: 0 | AA25: 0 | AB25: 0 | AC25: 0 | AD25: 0 | AE25: 0 | AF25: 0 | AG25: 0 | AH25: 0 | AI25: 0
B26: Monthly minimum | C26: =MIN(E26:AI26) -> 0 | D26: Minimum half hourly average | E26: 0 | F26: 0 | G26: 0 | H26: 0 | I26: 0 | J26: 0 | K26: 0 | L26: 0 | M26: 0 | N26: 0 | O26: 0 | P26: 0 | Q26: 0 | R26: 0 | S26: 0 | T26: 0 | U26: 0 | V26: 0 | W26: 0 | X26: 0 | Y26: 0 | Z26: 0 | AA26: 0 | AB26: 0 | AC26: 0 | AD26: 0 | AE26: 0 | AF26: 0 | AG26: 0 | AH26: 0 | AI26: 0
B27: Total invalid results | C27: =SUM(E27:AI27) -> 0 | D27: No. of invalid results | E27: 0 | F27: 0 | G27: 0 | H27: 0 | I27: 0 | J27: 0 | K27: 0 | L27: 0 | M27: 0 | N27: 0 | O27: 0 | P27: 0 | Q27: 0 | R27: 0 | S27: 0 | T27: 0 | U27: 0 | V27: 0 | W27: 0 | X27: 0 | Y27: 0 | Z27: 0 | AA27: 0 | AB27: 0 | AC27: 0 | AD27: 0 | AE27: 0 | AF27: 0 | AG27: 0 | AH27: 0 | AI27: 0
B28: Sum of exceedances | C28: =SUM(E28:AI28) -> 0 | D28: No. of exceedances of ELV | E28: 0 | F28: 0 | G28: 0 | H28: 0 | I28: 0 | J28: 0 | K28: 0 | L28: 0 | M28: 0 | N28: 0 | O28: 0 | P28: 0 | Q28: 0 | R28: 0 | S28: 0 | T28: 0 | U28: 0 | V28: 0 | W28: 0 | X28: 0 | Y28: 0 | Z28: 0 | AA28: 0 | AB28: 0 | AC28: 0 | AD28: 0 | AE28: 0 | AF28: 0 | AG28: 0 | AH28: 0 | AI28: 0
A29: Daily average | D29: Daily average ELV | E29: 75 | F29: =E29 -> 75 | G29: =F29 -> 75 | H29: =G29 -> 75 | I29: =H29 -> 75 | J29: =I29 -> 75 | K29: =J29 -> 75 | L29: =K29 -> 75 | M29: =L29 -> 75 | ... AI29: =AH29 -> 75
B30: Monthly maximum | C30: =MAX(E30:AI30) -> 0 | D30: Daily Average | E30: 0 | F30: 0 | G30: 0 | H30: 0 | I30: 0 | J30: 0 | K30: 0 | L30: 0 | M30: 0 | N30: 0 | O30: 0 | P30: 0 | Q30: 0 | R30: 0 | S30: 0 | T30: 0 | U30: 0 | V30: 0 | W30: 0 | X30: 0 | Y30: 0 | Z30: 0 | AA30: 0 | AB30: 0 | AC30: 0 | AD30: 0 | AE30: 0 | AF30: 0 | AG30: 0 | AH30: 0 | AI30: 0
B31: No. of invalid days | C31: =COUNTIF(E31:AI31,"=N") -> 0 | D31: Value valid?
B32: Sum of exceedances | C32: =COUNTIF(E32:AI32,"=y") -> 0 | D32: Value exceeds ELV (Y/N)
B34: Note: The facility was non-operational during the month of June 2023.
B35: Signed: | C35: (Consultant) | O35: Date: | Q35: 45108
B36: (Authorised to sign as a representative of Biomass UK No.2 Limited)

Sheet Air 5 - SO2 - Apr
A1: Reporting of Continuously Monitored Emissions to Air for Sulphur Dioxide
B3: Permit Number: | C3: ='Welcome - Intro'!C3 -> EPR/AB3790ZB | F3: Operator: | L3: ='Welcome - Intro'!L3 -> Biomass UK No.2 Limited | X3: Form Number: | AD3: Air 5
B5: Facility: | C5: ='Welcome - Intro'!C5 -> Barry Energy Production Facility | F5: Plant: | L5: Barry Energy Facility
B7: Reporting Month: | D7: 45017 | F7: Compliance point: | L7: A1
B22: Monthly summary | D22: Date | E22: 1 | F22: 2 | G22: 3 | H22: 4 | I22: 5 | J22: 6 | K22: 7 | L22: 8 | M22: 9 | N22: 10 | O22: 11 | P22: 12 | Q22: 13 | R22: 14 | S22: 15 | T22: 16 | U22: 17 | V22: 18 | W22: 19 | X22: 20 | Y22: 21 | Z22: 22 | AA22: 23 | AB22: 24 | AC22: 25 | AD22: 26 | AE22: 27 | AF22: 28 | AG22: 29 | AH22: 30 | AI22: 31
A23: Half-hourly averages * | D23: Half-Hour average ELV | E23: 300 | F23: =E23 -> 300 | G23: =F23 -> 300 | H23: =G23 -> 300 | I23: =H23 -> 300 | J23: =I23 -> 300 | K23: =J23 -> 300 | L23: =K23 -> 300 | M23: =L23 -> 300 | ... AI23: =AH23 -> 300
B24: Monthly maximum | C24: =MAX(E24:AI24) -> 0 | D24: Maximum half hourly average | E24: 0 | F24: 0 | G24: 0 | H24: 0 | I24: 0 | J24: 0 | K24: 0 | L24: 0 | M24: 0 | N24: 0 | O24: 0 | P24: 0 | Q24: 0 | R24: 0 | S24: 0 | T24: 0 | U24: 0 | V24: 0 | W24: 0 | X24: 0 | Y24: 0 | Z24: 0 | AA24: 0 | AB24: 0 | AC24: 0 | AD24: 0 | AE24: 0 | AF24: 0 | AG24: 0 | AH24: 0 | AI24: 0
B25: Monthly mean | C25: =AVERAGE(E25:AI25) -> 0 | D25: Mean half hourly average | E25: 0 | F25: 0 | G25: 0 | H25: 0 | I25: 0 | J25: 0 | K25: 0 | L25: 0 | M25: 0 | N25: 0 | O25: 0 | P25: 0 | Q25: 0 | R25: 0 | S25: 0 | T25: 0 | U25: 0 | V25: 0 | W25: 0 | X25: 0 | Y25: 0 | Z25: 0 | AA25: 0 | AB25: 0 | AC25: 0 | AD25: 0 | AE25: 0 | AF25: 0 | AG25: 0 | AH25: 0 | AI25: 0
B26: Monthly minimum | C26: =MIN(E26:AI26) -> 0 | D26: Minimum half hourly average | E26: 0 | F26: 0 | G26: 0 | H26: 0 | I26: 0 | J26: 0 | K26: 0 | L26: 0 | M26: 0 | N26: 0 | O26: 0 | P26: 0 | Q26: 0 | R26: 0 | S26: 0 | T26: 0 | U26: 0 | V26: 0 | W26: 0 | X26: 0 | Y26: 0 | Z26: 0 | AA26: 0 | AB26: 0 | AC26: 0 | AD26: 0 | AE26: 0 | AF26: 0 | AG26: 0 | AH26: 0 | AI26: 0
B27: Total invalid results | C27: =SUM(E27:AI27) -> 0 | D27: No. of invalid results | E27: 0 | F27: 0 | G27: 0 | H27: 0 | I27: 0 | J27: 0 | K27: 0 | L27: 0 | M27: 0 | N27: 0 | O27: 0 | P27: 0 | Q27: 0 | R27: 0 | S27: 0 | T27: 0 | U27: 0 | V27: 0 | W27: 0 | X27: 0 | Y27: 0 | Z27: 0 | AA27: 0 | AB27: 0 | AC27: 0 | AD27: 0 | AE27: 0 | AF27: 0 | AG27: 0 | AH27: 0 | AI27: 0
B28: Sum of exceedances | C28: =SUM(E28:AI28) -> 0 | D28: No. of exceedances of ELV | E28: 0 | F28: 0 | G28: 0 | H28: 0 | I28: 0 | J28: 0 | K28: 0 | L28: 0 | M28: 0 | N28: 0 | O28: 0 | P28: 0 | Q28: 0 | R28: 0 | S28: 0 | T28: 0 | U28: 0 | V28: 0 | W28: 0 | X28: 0 | Y28: 0 | Z28: 0 | AA28: 0 | AB28: 0 | AC28: 0 | AD28: 0 | AE28: 0 | AF28: 0 | AG28: 0 | AH28: 0 | AI28: 0
A29: Daily average | D29: Daily average ELV | E29: 60 | F29: =E29 -> 60 | G29: =F29 -> 60 | H29: =G29 -> 60 | I29: =H29 -> 60 | J29: =I29 -> 60 | K29: =J29 -> 60 | L29: =K29 -> 60 | M29: =L29 -> 60 | ... AI29: =AH29 -> 60
B30: Monthly maximum | C30: =MAX(E30:AI30) -> 0 | D30: Daily Average | E30: 0 | F30: 0 | G30: 0 | H30: 0 | I30: 0 | J30: 0 | K30: 0 | L30: 0 | M30: 0 | N30: 0 | O30: 0 | P30: 0 | Q30: 0 | R30: 0 | S30: 0 | T30: 0 | U30: 0 | V30: 0 | W30: 0 | X30: 0 | Y30: 0 | Z30: 0 | AA30: 0 | AB30: 0 | AC30: 0 | AD30: 0 | AE30: 0 | AF30: 0 | AG30: 0 | AH30: 0 | AI30: 0
B31: No. of invalid days | C31: =COUNTIF(E31:AI31,"=N") -> 0 | D31: Value valid?
B32: Sum of exceedances | C32: =COUNTIF(E32:AI32,"=y") -> 0 | D32: Value exceeds ELV (Y/N)
B34: Note: The facility was non-operational during the month of April 2023.
B35: Signed: | C35: (Consultant) | O35: Date: | Q35: 45108
B36: (Authorised to sign as a representative of Biomass UK No.2 Limited)

Sheet Air 5 - SO2 - May
A1: Reporting of Continuously Monitored Emissions to Air for Sulphur Dioxide
B3: Permit Number: | C3: ='Welcome - Intro'!C3 -> EPR/AB3790ZB | F3: Operator: | L3: ='Welcome - Intro'!L3 -> Biomass UK No.2 Limited | X3: Form Number: | AD3: Air 5
B5: Facility: | C5: ='Welcome - Intro'!C5 -> Barry Energy Production Facility | F5: Plant: | L5: Barry Energy Facility
B7: Reporting Month: | D7: 45047 | F7: Compliance point: | L7: A1
B22: Monthly summary | D22: Date | E22: 1 | F22: 2 | G22: 3 | H22: 4 | I22: 5 | J22: 6 | K22: 7 | L22: 8 | M22: 9 | N22: 10 | O22: 11 | P22: 12 | Q22: 13 | R22: 14 | S22: 15 | T22: 16 | U22: 17 | V22: 18 | W22: 19 | X22: 20 | Y22: 21 | Z22: 22 | AA22: 23 | AB22: 24 | AC22: 25 | AD22: 26 | AE22: 27 | AF22: 28 | AG22: 29 | AH22: 30 | AI22: 31
A23: Half-hourly averages * | D23: Half-Hour average ELV | E23: 300 | F23: =E23 -> 300 | G23: =F23 -> 300 | H23: =G23 -> 300 | I23: =H23 -> 300 | J23: =I23 -> 300 | K23: =J23 -> 300 | L23: =K23 -> 300 | M23: =L23 -> 300 | ... AI23: =AH23 -> 300
B24: Monthly maximum | C24: =MAX(E24:AI24) -> 0 | D24: Maximum half hourly average | E24: 0 | F24: 0 | G24: 0 | H24: 0 | I24: 0 | J24: 0 | K24: 0 | L24: 0 | M24: 0 | N24: 0 | O24: 0 | P24: 0 | Q24: 0 | R24: 0 | S24: 0 | T24: 0 | U24: 0 | V24: 0 | W24: 0 | X24: 0 | Y24: 0 | Z24: 0 | AA24: 0 | AB24: 0 | AC24: 0 | AD24: 0 | AE24: 0 | AF24: 0 | AG24: 0 | AH24: 0 | AI24: 0
B25: Monthly mean | C25: =AVERAGE(E25:AI25) -> 0 | D25: Mean half hourly average | E25: 0 | F25: 0 | G25: 0 | H25: 0 | I25: 0 | J25: 0 | K25: 0 | L25: 0 | M25: 0 | N25: 0 | O25: 0 | P25: 0 | Q25: 0 | R25: 0 | S25: 0 | T25: 0 | U25: 0 | V25: 0 | W25: 0 | X25: 0 | Y25: 0 | Z25: 0 | AA25: 0 | AB25: 0 | AC25: 0 | AD25: 0 | AE25: 0 | AF25: 0 | AG25: 0 | AH25: 0 | AI25: 0
B26: Monthly minimum | C26: =MIN(E26:AI26) -> 0 | D26: Minimum half hourly average | E26: 0 | F26: 0 | G26: 0 | H26: 0 | I26: 0 | J26: 0 | K26: 0 | L26: 0 | M26: 0 | N26: 0 | O26: 0 | P26: 0 | Q26: 0 | R26: 0 | S26: 0 | T26: 0 | U26: 0 | V26: 0 | W26: 0 | X26: 0 | Y26: 0 | Z26: 0 | AA26: 0 | AB26: 0 | AC26: 0 | AD26: 0 | AE26: 0 | AF26: 0 | AG26: 0 | AH26: 0 | AI26: 0
B27: Total invalid results | C27: =SUM(E27:AI27) -> 0 | D27: No. of invalid results | E27: 0 | F27: 0 | G27: 0 | H27: 0 | I27: 0 | J27: 0 | K27: 0 | L27: 0 | M27: 0 | N27: 0 | O27: 0 | P27: 0 | Q27: 0 | R27: 0 | S27: 0 | T27: 0 | U27: 0 | V27: 0 | W27: 0 | X27: 0 | Y27: 0 | Z27: 0 | AA27: 0 | AB27: 0 | AC27: 0 | AD27: 0 | AE27: 0 | AF27: 0 | AG27: 0 | AH27: 0 | AI27: 0
B28: Sum of exceedances | C28: =SUM(E28:AI28) -> 0 | D28: No. of exceedances of ELV | E28: 0 | F28: 0 | G28: 0 | H28: 0 | I28: 0 | J28: 0 | K28: 0 | L28: 0 | M28: 0 | N28: 0 | O28: 0 | P28: 0 | Q28: 0 | R28: 0 | S28: 0 | T28: 0 | U28: 0 | V28: 0 | W28: 0 | X28: 0 | Y28: 0 | Z28: 0 | AA28: 0 | AB28: 0 | AC28: 0 | AD28: 0 | AE28: 0 | AF28: 0 | AG28: 0 | AH28: 0 | AI28: 0
A29: Daily average | D29: Daily average ELV | E29: 60 | F29: =E29 -> 60 | G29: =F29 -> 60 | H29: =G29 -> 60 | I29: =H29 -> 60 | J29: =I29 -> 60 | K29: =J29 -> 60 | L29: =K29 -> 60 | M29: =L29 -> 60 | ... AI29: =AH29 -> 60
B30: Monthly maximum | C30: =MAX(E30:AI30) -> 0 | D30: Daily Average | E30: 0 | F30: 0 | G30: 0 | H30: 0 | I30: 0 | J30: 0 | K30: 0 | L30: 0 | M30: 0 | N30: 0 | O30: 0 | P30: 0 | Q30: 0 | R30: 0 | S30: 0 | T30: 0 | U30: 0 | V30: 0 | W30: 0 | X30: 0 | Y30: 0 | Z30: 0 | AA30: 0 | AB30: 0 | AC30: 0 | AD30: 0 | AE30: 0 | AF30: 0 | AG30: 0 | AH30: 0 | AI30: 0
B31: No. of invalid days | C31: =COUNTIF(E31:AI31,"=N") -> 0 | D31: Value valid?
B32: Sum of exceedances | C32: =COUNTIF(E32:AI32,"=y") -> 0 | D32: Value exceeds ELV (Y/N)
B34: Note: The facility was non-operational during the month of May 2023.
B35: Signed: | C35: (Consultant) | O35: Date: | Q35: 45108
B36: (Authorised to sign as a representative of Biomass UK No.2 Limited)

Sheet Air 5 - SO2 - Jun
A1: Reporting of Continuously Monitored Emissions to Air for Sulphur Dioxide
B3: Permit Number: | C3: ='Welcome - Intro'!C3 -> EPR/AB3790ZB | F3: Operator: | L3: ='Welcome - Intro'!L3 -> Biomass UK No.2 Limited | X3: Form Number: | AD3: Air 5
B5: Facility: | C5: ='Welcome - Intro'!C5 -> Barry Energy Production Facility | F5: Plant: | L5: Barry Energy Facility
B7: Reporting Month: | D7: 45078 | F7: Compliance point: | L7: A1
B22: Monthly summary | D22: Date | E22: 1 | F22: 2 | G22: 3 | H22: 4 | I22: 5 | J22: 6 | K22: 7 | L22: 8 | M22: 9 | N22: 10 | O22: 11 | P22: 12 | Q22: 13 | R22: 14 | S22: 15 | T22: 16 | U22: 17 | V22: 18 | W22: 19 | X22: 20 | Y22: 21 | Z22: 22 | AA22: 23 | AB22: 24 | AC22: 25 | AD22: 26 | AE22: 27 | AF22: 28 | AG22: 29 | AH22: 30 | AI22: 31
A23: Half-hourly averages * | D23: Half-Hour average ELV | E23: 300 | F23: =E23 -> 300 | G23: =F23 -> 300 | H23: =G23 -> 300 | I23: =H23 -> 300 | J23: =I23 -> 300 | K23: =J23 -> 300 | L23: =K23 -> 300 | M23: =L23 -> 300 | ... AI23: =AH23 -> 300
B24: Monthly maximum | C24: =MAX(E24:AI24) -> 0 | D24: Maximum half hourly average | E24: 0 | F24: 0 | G24: 0 | H24: 0 | I24: 0 | J24: 0 | K24: 0 | L24: 0 | M24: 0 | N24: 0 | O24: 0 | P24: 0 | Q24: 0 | R24: 0 | S24: 0 | T24: 0 | U24: 0 | V24: 0 | W24: 0 | X24: 0 | Y24: 0 | Z24: 0 | AA24: 0 | AB24: 0 | AC24: 0 | AD24: 0 | AE24: 0 | AF24: 0 | AG24: 0 | AH24: 0 | AI24: 0
B25: Monthly mean | C25: =AVERAGE(E25:AI25) -> 0 | D25: Mean half hourly average | E25: 0 | F25: 0 | G25: 0 | H25: 0 | I25: 0 | J25: 0 | K25: 0 | L25: 0 | M25: 0 | N25: 0 | O25: 0 | P25: 0 | Q25: 0 | R25: 0 | S25: 0 | T25: 0 | U25: 0 | V25: 0 | W25: 0 | X25: 0 | Y25: 0 | Z25: 0 | AA25: 0 | AB25: 0 | AC25: 0 | AD25: 0 | AE25: 0 | AF25: 0 | AG25: 0 | AH25: 0 | AI25: 0
B26: Monthly minimum | C26: =MIN(E26:AI26) -> 0 | D26: Minimum half hourly average | E26: 0 | F26: 0 | G26: 0 | H26: 0 | I26: 0 | J26: 0 | K26: 0 | L26: 0 | M26: 0 | N26: 0 | O26: 0 | P26: 0 | Q26: 0 | R26: 0 | S26: 0 | T26: 0 | U26: 0 | V26: 0 | W26: 0 | X26: 0 | Y26: 0 | Z26: 0 | AA26: 0 | AB26: 0 | AC26: 0 | AD26: 0 | AE26: 0 | AF26: 0 | AG26: 0 | AH26: 0 | AI26: 0
B27: Total invalid results | C27: =SUM(E27:AI27) -> 0 | D27: No. of invalid results | E27: 0 | F27: 0 | G27: 0 | H27: 0 | I27: 0 | J27: 0 | K27: 0 | L27: 0 | M27: 0 | N27: 0 | O27: 0 | P27: 0 | Q27: 0 | R27: 0 | S27: 0 | T27: 0 | U27: 0 | V27: 0 | W27: 0 | X27: 0 | Y27: 0 | Z27: 0 | AA27: 0 | AB27: 0 | AC27: 0 | AD27: 0 | AE27: 0 | AF27: 0 | AG27: 0 | AH27: 0 | AI27: 0
B28: Sum of exceedances | C28: =SUM(E28:AI28) -> 0 | D28: No. of exceedances of ELV | E28: 0 | F28: 0 | G28: 0 | H28: 0 | I28: 0 | J28: 0 | K28: 0 | L28: 0 | M28: 0 | N28: 0 | O28: 0 | P28: 0 | Q28: 0 | R28: 0 | S28: 0 | T28: 0 | U28: 0 | V28: 0 | W28: 0 | X28: 0 | Y28: 0 | Z28: 0 | AA28: 0 | AB28: 0 | AC28: 0 | AD28: 0 | AE28: 0 | AF28: 0 | AG28: 0 | AH28: 0 | AI28: 0
A29: Daily average | D29: Daily average ELV | E29: 60 | F29: =E29 -> 60 | G29: =F29 -> 60 | H29: =G29 -> 60 | I29: =H29 -> 60 | J29: =I29 -> 60 | K29: =J29 -> 60 | L29: =K29 -> 60 | M29: =L29 -> 60 | ... AI29: =AH29 -> 60
B30: Monthly maximum | C30: =MAX(E30:AI30) -> 0 | D30: Daily Average | E30: 0 | F30: 0 | G30: 0 | H30: 0 | I30: 0 | J30: 0 | K30: 0 | L30: 0 | M30: 0 | N30: 0 | O30: 0 | P30: 0 | Q30: 0 | R30: 0 | S30: 0 | T30: 0 | U30: 0 | V30: 0 | W30: 0 | X30: 0 | Y30: 0 | Z30: 0 | AA30: 0 | AB30: 0 | AC30: 0 | AD30: 0 | AE30: 0 | AF30: 0 | AG30: 0 | AH30: 0 | AI30: 0
B31: No. of invalid days | C31: =COUNTIF(E31:AI31,"=N") -> 0 | D31: Value valid?
B32: Sum of exceedances | C32: =COUNTIF(E32:AI32,"=y") -> 0 | D32: Value exceeds ELV (Y/N)
B34: Note: The facility was non-operational during the month of June 2023.
B35: Signed: | C35: (Consultant) | O35: Date: | Q35: 45108
B36: (Authorised to sign as a representative of Biomass UK No.2 Limited)

Sheet Air 6 - NOx - Apr
A1: Reporting of Continuously Monitored Emissions to Air for Oxides of Nitrogen
B3: Permit Number: | C3: ='Welcome - Intro'!C3 -> EPR/AB3790ZB | F3: Operator: | L3: ='Welcome - Intro'!L3 -> Biomass UK No.2 Limited | X3: Form Number: | AD3: Air 6
B5: Facility: | C5: ='Welcome - Intro'!C5 -> Barry Energy Production Facility | F5: Plant: | L5: Barry Energy Facility
B7: Reporting Month: | D7: 45017 | F7: Compliance point: | L7: A1
B22: Monthly summary | D22: Date | E22: 1 | F22: 2 | G22: 3 | H22: 4 | I22: 5 | J22: 6 | K22: 7 | L22: 8 | M22: 9 | N22: 10 | O22: 11 | P22: 12 | Q22: 13 | R22: 14 | S22: 15 | T22: 16 | U22: 17 | V22: 18 | W22: 19 | X22: 20 | Y22: 21 | Z22: 22 | AA22: 23 | AB22: 24 | AC22: 25 | AD22: 26 | AE22: 27 | AF22: 28 | AG22: 29 | AH22: 30 | AI22: 31
A23: Half-hourly averages | D23: Half-Hour average ELV | E23: 600 | F23: =E23 -> 600 | G23: =F23 -> 600 | H23: =G23 -> 600 | I23: =H23 -> 600 | J23: =I23 -> 600 | K23: =J23 -> 600 | L23: =K23 -> 600 | M23: =L23 -> 600 | ... AI23: =AH23 -> 600
