Workbook
Name _1.1__Project_Organisation_and_Resource: PMP!$A$89
Name _1.1__Project_Organisation_and_Resource_CEMP: CEMP!$A$101
Name _1.1__Project_Organisation_and_Resource_CPP: CPP!$A$105
Name _1.1__Responsibilities_TMP: TMP!$A$76
Name _1.1__Scope_of_Works_CHAP: CHAP!$A$100
Name _1.2__Project_Timescale_CHAP: CHAP!$A$103
Name _1.2__Scope_of_Works: PMP!$A$158
Name _1.2__Scope_of_Works_CEMP: CEMP!$A$122
Name _1.2__Scope_of_Works_CPP: CPP!$A$116
Name _1.2__Scope_of_Works_TMP: TMP!$A$92
Name _1.3__Call_out_Process: CHAP!$A$109
Name _1.3__Project_Timescale: PMP!$A$163
Name _1.3__Project_Timescale_CEMP: CEMP!$A$126
Name _1.3__Proposal: TMP!$A$96
Name _1.3__Summary_of_Restrictions_Affecting_the_Works_CPP: CPP!$A$120
Name _1.4__Project_Timescale_CPP: CPP!$A$124
Name _1.5__Notification_to_HSE: CPP!$A$134
Name _1.6__Site_Start_up_Checklist: CPP!$A$137
Name _12.1__Design_and_Development__design_and_development_may_not_be_required_on_all_projects: PMP!$A$372
Name _12.2__Design_Change__design_change_is_required_on_all_projects: PMP!$A$376
Name _13.1__Works_Procedures_and_Method_Statements: PMP!$A$387
Name _13.2__Workmanship_Inspection_and_Testing: PMP!$A$392
Name _13.3__Temporary_Works_Control: PMP!$A$400
Name _13.4__Equipment___Inspection__Testing_and_Monitoring: PMP!$A$412
Name _14.1__Rework_and_defects: PMP!$A$426
Name _14.2__Corrective_and_Preventive_Action: PMP!$A$436
Name _2.1__Health___Safety_Monitoring: CPP!$A$144
Name _2.1__Roles_and_Responsibilities_CHAP: CHAP!$A$113
Name _2.10__Incident_Reporting__Recording_and_Investigation: CPP!$A$334
Name _2.11__Risk_Assessment_and_Method_Statements: CPP!$A$362
Name _2.12__Site_Rules: CPP!$A$377
Name _2.13__Drugs_and_Alcohol: CPP!$A$386
Name _2.14__Mobile_Phone_use: CPP!$A$393
Name _2.15__Fire_and_Emergency_Preparedness: CPP!$A$398
Name _2.2__Commissioning__Handover_and_Aftercare_Responsibilities: CHAP!$A$177
Name _2.2__Communication_Methods: CPP!$A$169
Name _2.3__PPE_RPE: CPP!$A$214
Name _2.3__Reporting: CHAP!$A$181
Name _2.4__Direction_and_Co_ordination_of_Others: CPP!$A$223
Name _2.5__Selection_and_Appointment_of_the_Supply_chain: CPP!$A$231
Name _2.6__Protection_of_the_Public_and_Site_Security: CPP!$A$252
Name _2.7__Site_Induction_and_Training: CPP!$A$259
Name _2.8__Welfare_Facilities: CPP!$A$299
Name _2.9__First_Aid: CPP!$A$320
Name _3.1___Pre_construction_Information: CPP!$A$425
Name _3.10__Noise_Management: CPP!$A$468
Name _3.11__Maintenance_of_Plant_and_Equipment: CPP!$A$473
Name _3.12__Working_in_Confined_Spaces: CPP!$A$480
Name _3.13__Excavations___Poor_Ground_Condition_Management___Wells___Underground_Earthwork___Tunnels: CPP!$A$486
Name _3.14__Work_on_or_Near_Water_etc._–_other_risks_of_drowning: CPP!$A$495
Name _3.15__Traffic_Routes___Segregation: CPP!$A$498
Name _3.16__Storage_Materials_and_Management: CPP!$A$502
Name _3.17__Off_Site_Fire_Risks: CPP!$A$510
Name _3.18__Health_Risks: CPP!$A$513
Name _3.2__Delivery_and_Removal_of_Materials__including_Waste: CPP!$A$428
Name _3.3__Services_and_Overhead_and_Underground_Services: CPP!$A$432
Name _3.4__Temporary_Structures___Unstable_Structures_identified: CPP!$A$441
Name _3.5__Preventing_Falls___Working_at_Height: CPP!$A$446
Name _3.6__Scaffolding_and_Safe_Means_of_Access: CPP!$A$449
Name _3.7__Control_of_Lifting_Operations: CPP!$A$454

Sheet Project Plan Workbook Index
A1: Record | C1: Date & Version | AD1: YES
A2: Project Plan Workbook Template | C2: February 2024 V1.15 | AD2: NO
A3: PROJECT PLAN WORKBOOK INDEX | AD3: N/A
A5: Project Name: | B5: A494 River Dee Bridge Deck over-slabbing Contingency Scheme | G5: Project No: | H5: 21-NM-CHR-003
G9: Date: | AA9: E
AA10: H
AA11: C
A12: DOCUMENT STATUS:
A13: (E= Email H= Hard Copy C= CD) | G13: Format: | H13: E | AA13: P
A14: (P=Preliminary I= For information T=For tender | G14: Status: | H14: P | AA14: I
A15: C=Construction PS= Planning Submission) | AA15: T
A16: Document Title | D16: Originating Company | F16: Completed Yes/No/N/A | H16: Comments | AA16: C
A17: Project Management Plan (PMP) | D17: Jones Bros. Ruthin (Civil Engineering) Co. Ltd. | F17: NO | AA17: PS
A18: Construction Phase Health & Safety Plan (CPP) | D18: Jones Bros. Ruthin (Civil Engineering) Co. Ltd. | F18: NO
A19: Construction Environmental Management Plan (CEMP) | D19: Jones Bros. Ruthin (Civil Engineering) Co. Ltd. | F19: NO
A20: Traffic Management Plan (TMP) | D20: Jones Bros. Ruthin (Civil Engineering) Co. Ltd. | F20: NO
A21: Project Roles & Responsibilities Matrix | D21: Jones Bros. Ruthin (Civil Engineering) Co. Ltd. | F21: NO
A22: TRANSMITTAL RECORD:
A23: Company | F23: Name | H23: Number of Copies
A37: The documents are issued to you for: | D37: Review / Comment
A38: Return to: | E38: Please sign a copy of this transmittal sheet as acknowledgement of receipt and return within seven days
A39: Name: | F39: I/ we acknowledge the receipt of documents above
A40: Company:
A41: Address: | B41: Ty Glyn, Ruthin, Canol Y Dre, Denbighshire, LL15 1QW | C41: Sign
A42: E-mail: | F42: Name | H42: Signature | T42: Date

Sheet PMP
A4: PROJECT MANAGEMENT PLAN (PMP)
A6: Project Name: | C6: =('Project Plan Workbook Index'!B5) -> A494 River Dee Bridge Deck over-slabbing Contingency Scheme
A7: Project Number: | C7: =('Project Plan Workbook Index'!H5) -> 21-NM-CHR-003
A8: Project Details
A9: Project Description: | D9: The North and Mid Wales Trunk Road Agent (NMWTRA) have commissioned a project to develop a major maintenance intervention should a critical defect be identified within the A494 River Dee Bridge structure and enable this to be implemented with minimal impact on traffic conditions. The proposed design intervention comprises of removing a depth of existing road surfacing and replacing with a new thin reinforced concrete over-slab with combined waterproof and wearing membrane (hence forth referred to as the ‘over-slabbing works’). Enabling works are required to parts of the central reserve and to the Riverside Way Junction to facilitate contraflow traffic management arrangements during construction. The enabling works consist of construction 2Nr crossovers through the central reserve west of the existing bridge and works to widen the Riverside Way Junction.
A11: Project Location: | D11: Enter your project location here
A13: Plan Approvals
A14: Written by: | C14: Name: | G14: Signature: | J14: Date:
A15: Approved by: | C15: Name: | G15: Signature: | J15: Date:
A17: Explanatory Notes:-
A18: (i) Origination: Tender phase origination resides with the Project Manager. Construction Phase update will be the responsibility of the Site Manager.
A19: (ii) Approval: Tender phase approval resides with the Contracts Manager or Regional Director. Construction Phase approval will be the responsibility of the Project Manager.
A20: (iii) Revision: The plan will be revised to reflect changes that have been made to the product, project or contract, work practices, service provision or Quality assurance procedures. Where changes are made to the plan an assessment of the impacts of the changes will be carried out and recorded in the Version Control section below.
A22: Version Control
A23: Description of changes | E23: Date | F23: Revision | G23: Page No. | H23: Comments
A31: Explanatory Notes:-
A32: This Project Management Plan will be added to, reviewed and updated as the project develops, further design work is completed, information from subcontractors starting work becomes available, unforeseen circumstances or variations to planned circumstances arise or where the operations management team deem it is necessary.
A33: If sections are deemed not applicable DO NOT DELETE. Replace text with 'not applicable' on this project.
A34: CONTENT
A36: Section Ref | C36: Content | J36: Comments
C37: Introduction
A38: 1.0 | C38: Project Details and Management Responsibilities
A39: 1.1 | C39: Project Organisation and Resource
A40: 1.2 | C40: Scope of works
A41: 1.3 | C41: Project Timescales
A42: 2.0 | C42: Project Plans
A43: 3.0 | C43: Project Objectives and Performance Indicators
A44: 4.0 | C44: Best Practice Initiatives
A45: 5.0 | C45: Planning and Programming
A46: 6.0 | C46: Risk Management
A47: 7.0 | C47: Commercial Arrangements and Reporting
A48: 8.0 | C48: Control of Documents, Data and Records
A49: 8.1 | C49: IT Infrastructure
A50: 8.2 | C50: Document Control
A51: 8.3 | C51: Record Control
A52: 8.4 | C52: Mandatory Client or Other Third Party Documentation Requirements
A53: 9.0 | C53: Procurement
A54: 9.1 | C54: Material Purchasing
A55: 9.2 | C55: Plant Hire & Management
A56: 9.3 | C56: Subcontract Procurement
...

Sheet CPP
A4: CONSTRUCTION PHASE HEALTH & SAFETY PLAN (CPP)
A6: Project Name: | C6: =PMP!C6:K6 -> A494 River Dee Bridge Deck over-slabbing Contingency Scheme
A7: Project Number: | C7: =PMP!C7:K7 -> 21-NM-CHR-003
A9: Project Details
A10: Project Description: | D10: =PMP!D9:K9 -> The North and Mid Wales Trunk Road Agent (NMWTRA) have commissioned a project to develop a major maintenance intervention should a critical defect be identified within the A494 River Dee Bridge structure and enable this to be implemented with minimal impact on traffic conditions. The proposed design intervention comprises of removing a depth of existing road surfacing and replacing with a new thin reinforced concrete over-slab with combined waterproof and wearing membrane (hence forth referred to as the ‘over-slabbing works’). Enabling works are required to parts of the central reserve and to the Riverside Way Junction to facilitate contraflow traffic management arrangements during construction. The enabling works consist of construction 2Nr crossovers through the central reserve west of the existing bridge and works to widen the Riverside Way Junction.
A12: Project Location: | D12: =PMP!D11:K11 -> Enter your project location here
A14: Plan Approvals
A15: Written by: | C15: Name: | D15: =PMP!D14 -> 0 | F15: Signature: | G15: =PMP!H14 -> 0 | I15: Date: | J15: =PMP!K14 -> 0
A16: Approved by: | C16: Name: | D16: =PMP!D15 -> 0 | F16: Signature: | G16: =PMP!H15 -> 0 | I16: Date: | J16: =PMP!K15 -> 0
A18: Explanatory Notes:-
A19: Origination: Tender phase origination resides with the Project Manager. Construction Phase update will be the responsibility of the Site Manager.
A20: Approval: Tender phase approval resides with the Contracts Manager or Regional Director. Construction Phase approval will be the responsibility of the Project Manager.
A21: Revision: The plan will be revised to reflect changes that have been made to the product, project or contract, work practices, service provision or Quality Assurance procedures. Where changes are made to the plan an assessment of the impacts of the changes will be carried out and recorded in the Version Control section below.
A23: Version Control
A24: Description of changes | D24: Date | E24: Revision | F24: Page No. | G24: Comments
A32: Explanatory Notes:-
A33: This Construction Phase Health & Safety Plan will be added to, reviewed and updated as the project develops, further design work is completed, information from subcontractors starting work becomes available, unforeseen circumstances or variations to planned circumstances arise or where the operations management team deem it necessary.
A34: If sections are deemed not applicable DO NOT DELETE. Replace text with 'not applicable on this project'.
A36: CONTENT
A37: Section Ref | C37: Content | I37: Comments
C38: Introduction
A40: 1.0 | C40: Project Details
B41: 1.1 | C41: Project Organisation and Resource
B42: 1.2 | C42: Scope of Works
B43: 1.3 | C43: Summary of Restrictions Affecting the Works
B44: 1.4 | C44: Project Timescales
B45: 1.5 | C45: Notification to HSE
B46: 1.6 | C46: Site Start-up Checklist
A48: 2.0 | C48: Management of the Work
B49: 2.1 | C49: Health and Safety Monitoring
B50: 2.2 | C50: Communication Methods
B51: 2.3 | C51: PPE/RPE
B52: 2.4 | C52: Direction and Co-ordination of Others
B53: 2.5 | C53: Selection and Appointment of the Supply chain
B54: 2.6 | C54: Protection of the Public and Site Security
B55: =B54+0.1 -> 2.7 | C55: Site Induction and Training
B56: =B55+0.1 -> 2.8 | C56: Welfare Facilities
B57: =B56+0.1 -> 2.9 | C57: First Aid
B58: 2.10 | C58: Incident Reporting, Recording and Investigation
B59: 2.11 | C59: Risk Assessment and Method Statements
...

Sheet CEMP
A4: CONSTRUCTION ENVIRONMENT MANAGEMENT PLAN (CEMP)
A6: Project Name: | C6: =PMP!C6:K6 -> A494 River Dee Bridge Deck over-slabbing Contingency Scheme
A7: Project Number: | C7: =PMP!C7:K7 -> 21-NM-CHR-003
A8: Project Details
A9: Project Description: | D9: =PMP!D9:K9 -> The North and Mid Wales Trunk Road Agent (NMWTRA) have commissioned a project to develop a major maintenance intervention should a critical defect be identified within the A494 River Dee Bridge structure and enable this to be implemented with minimal impact on traffic conditions. The proposed design intervention comprises of removing a depth of existing road surfacing and replacing with a new thin reinforced concrete over-slab with combined waterproof and wearing membrane (hence forth referred to as the ‘over-slabbing works’). Enabling works are required to parts of the central reserve and to the Riverside Way Junction to facilitate contraflow traffic management arrangements during construction. The enabling works consist of construction 2Nr crossovers through the central reserve west of the existing bridge and works to widen the Riverside Way Junction.
A11: Project Location: | D11: =PMP!D11:K11 -> Enter your project location here
A13: Plan Approvals
A14: Written by: | C14: Name: | D14: =CPP!D15 -> 0 | F14: Signature: | G14: =PMP!H14 -> 0 | I14: Date: | J14: =PMP!K14 -> 0
A15: Approved by: | C15: Name: | D15: =CPP!D16 -> 0 | F15: Signature: | G15: =PMP!H15 -> 0 | I15: Date: | J15: =PMP!K15 -> 0
A17: Explanatory Notes:-
A18: Origination: Tender phase origination resides with the Project Manager. Construction Phase update will be the responsibility of the Site Manager.
A19: Approval: Tender phase approval resides with the Contracts Manager or Regional Director. Construction Phase approval will be the responsibility of the Project Manager.
A20: Revision: The plan will be revised to reflect changes that have been made to the product, project or contract, work practices, service provision or Quality Assurance procedures. Where changes are made to the plan an assessment of the impacts of the changes will be carried out and recorded in the Version Control section below.
A22: Version Control
A23: Description of changes | D23: Date | E23: Revision | F23: Page No. | G23: Comments
A31: Explanatory Notes:-
A32: This Project Management Plan will be added to, reviewed and updated as the project develops, further design work is completed, information from subcontractors starting work becomes available, unforeseen circumstances or variations to planned circumstances arise or where the operations management team deem it is necessary.
A33: If sections are deemed not applicable DO NOT DELETE. Replace text with "not applicable on this project".
A35: CONTENT
A37: Section Ref | C37: Content | I37: Comments
C38: INTRODUCTION
A40: 1.0 | C40: PROJECT DETAILS
B41: 1.1 | C41: Project Organisation and Resource
B42: 1.2 | C42: Scope of Works
B43: 1.3 | C43: Project Timescale
A45: 2.0 | C45: OBJECTIVES
A47: 3.0 | C47: LEGAL AND CONTRACTUAL ENVIRONMENT
A49: 4.0 | C49: COMMUNICATION AND CONSULTATION
B50: 4.1 | C50: Liaison with Client and Designers
B51: 4.2 | C51: Regulatory Agencies
B52: 4.3 | C52: Public Relations
A54: 5.0 | C54: CONSENTS PERMITS AND LICENCES
A56: 6.0 | C56: ENVIRONMENTAL RISKS AND MITIGATION
A58: 7.0 | C58: MANAGEMENT CONTROLS
B59: 7.1 | C59: Incident Reporting and Investigation
B60: 7.2 | C60: Communication and Consultation
B61: 7.3 | C61: Ecology
B62: 7.4 | C62: Hazardous Materials incorporating COSHH
B63: 7.5 | C63: Housekeeping and Safe Access
B64: 7.6 | C64: Land Use Management
...

Sheet CHAP
A4: COMMISSIONING, HANDOVER AND AFTERCARE PLAN (CHAP)
A6: Project Name: | C6: =PMP!C6:K6 -> A494 River Dee Bridge Deck over-slabbing Contingency Scheme
A7: Project Number: | C7: =PMP!C7:K7 -> 21-NM-CHR-003
A8: Project Details
A9: Project Description: | D9: =PMP!D9:K9 -> The North and Mid Wales Trunk Road Agent (NMWTRA) have commissioned a project to develop a major maintenance intervention should a critical defect be identified within the A494 River Dee Bridge structure and enable this to be implemented with minimal impact on traffic conditions. The proposed design intervention comprises of removing a depth of existing road surfacing and replacing with a new thin reinforced concrete over-slab with combined waterproof and wearing membrane (hence forth referred to as the ‘over-slabbing works’). Enabling works are required to parts of the central reserve and to the Riverside Way Junction to facilitate contraflow traffic management arrangements during construction. The enabling works consist of construction 2Nr crossovers through the central reserve west of the existing bridge and works to widen the Riverside Way Junction.
A10: Project Location: | D10: =PMP!D11:K11 -> Enter your project location here
A12: Plan Approvals
A13: Written by: | C13: Name: | D13: =PMP!D14 -> 0 | G13: Signature: | H13: =PMP!H14 -> 0 | J13: Date: | K13: =PMP!K14 -> 0
A14: Approved by: | C14: Name: | D14: =PMP!D15 -> 0 | G14: Signature: | H14: =PMP!H15 -> 0 | J14: Date: | K14: =PMP!K15 -> 0
A16: Explanatory Notes:-
A17: Origination: Tender phase origination resides with the Project Manager. Construction Phase update will be the responsibility of the Site Manager.
A18: Approval: Tender phase approval resides with the Contracts Manager or Regional Director. Construction Phase approval will be the responsibility of the Project Manager.
A19: Revision: The plan will be revised to reflect changes that have been made to the product, project or contract, work practices, service provision or Quality Assurance procedures. Where changes are made to the plan an assessment of the impacts of the changes will be carried out and recorded in the Version Control section below.
A21: Version Control
A22: Description of changes | E22: Date | F22: Revision | G22: Page No. | H22: Comments
A30: Explanatory Notes:-
A31: This Plan will be added to, reviewed and updated as the project develops, further design work is completed, information from subcontractors starting work becomes available, unforeseen circumstances or variations to planned circumstances arise or where the operations management team deem it necessary.
A32: If sections are deemed not applicable DO NOT DELETE. Replace text with "not applicable on this project".
A34: CONTENT
A36: Section Ref | C36: Content | J36: Comments
C37: Introduction
A39: 1.0 | C39: Project Information and Scope
B40: 1.1 | C40: Scope of Works
B41: 1.2 | C41: Project Timescale
B42: 1.3 | C42: Call-out Process
A44: 2.0 | C44: Organisation and Responsibilities
B45: 2.1 | C45: Roles and Responsibilities
B46: 2.2 | C46: Commissioning, Handover and Aftercare Responsibilities
B47: 2.3 | C47: Reporting
A49: 3.0 | C49: Co-ordination of Installation and Commissioning
A51: 4.0 | C51: Commissioning Scope
B52: 4.1 | C52: Process Units (Turnover Packages)
B53: 4.2 | C53: Supporting Services
B54: 4.3 | C54: Interfaces
B55: 4.4 | C55: Programme
A57: 5.0 | C57: Design Performance
B58: 5.1 | C58: Design Considerations
B59: 5.2 | C59: Performance Criteria
A61: 6.0 | C61: Risk Management
B62: 6.1 | C62: Commissioning Activities
...

Sheet TMP
A4: TRAFFIC MANAGEMENT PLAN (TMP)
A6: Project Name: | C6: =PMP!C6:K6 -> A494 River Dee Bridge Deck over-slabbing Contingency Scheme
A7: Project Number: | C7: =PMP!C7:K7 -> 21-NM-CHR-003
A8: Project Details
A9: Project Description: | D9: =PMP!D9:K9 -> The North and Mid Wales Trunk Road Agent (NMWTRA) have commissioned a project to develop a major maintenance intervention should a critical defect be identified within the A494 River Dee Bridge structure and enable this to be implemented with minimal impact on traffic conditions. The proposed design intervention comprises of removing a depth of existing road surfacing and replacing with a new thin reinforced concrete over-slab with combined waterproof and wearing membrane (hence forth referred to as the ‘over-slabbing works’). Enabling works are required to parts of the central reserve and to the Riverside Way Junction to facilitate contraflow traffic management arrangements during construction. The enabling works consist of construction 2Nr crossovers through the central reserve west of the existing bridge and works to widen the Riverside Way Junction.
A11: Project Location: | D11: =PMP!D11:K11 -> Enter your project location here
A13: Plan Approvals
A14: Written by: | C14: Name: | D14: =PMP!D14 -> 0 | G14: Signature: | H14: =PMP!H14 -> 0 | J14: Date: | K14: =PMP!K14 -> 0
A15: Approved by: | C15: Name: | D15: =PMP!D15 -> 0 | G15: Signature: | H15: =PMP!H15 -> 0 | J15: Date: | K15: =PMP!K15 -> 0
A17: Explanatory Notes:-
A18: Origination: Tender phase origination resides with the Project Manager. Construction Phase update will be the responsibility of the Site Manager.
A19: Approval: Tender phase approval resides with the Contracts Manager or Regional Director. Construction Phase approval will be the responsibility of the Project Manager.
A20: Revision: The plan will be revised to reflect changes that have been made to the product, project or contract, work practices, service provision or Quality Assurance procedures. Where changes are made to the plan an assessment of the impacts of the changes will be carried out and recorded in the Version Control section below.
A22: Version Control
A23: Description of changes | E23: Date | F23: Revision | G23: Page No. | H23: Comments
A31: Explanatory Notes:-
A32: This Project Management Plan will be added to, reviewed and updated as the project develops, further design work is completed, information from subcontractors starting work becomes available, unforeseen circumstances or variations to planned circumstances arise or where the operations management team deem it is necessary.
A33: If sections are deemed not applicable DO NOT DELETE. Replace text with not applicable on this project.
A35: CONTENT
A37: Section Ref | C37: Content | J37: Comments
C38: Introduction
A40: 1.0 | C40: SCHEME PROPOSAL
B41: 1.1 | C41: Responsibilities
B42: 1.2 | C42: Scope of works
B43: 1.3 | C43: Proposal
A45: 2.0 | C45: DISPLAY/COMMUNICATION OF INFORMATION
A46: 2d,e,f | C46: Traffic Management Drawings, Plans, Photos
A48: 3.0 | C48: SPEED LIMITS
A50: 4.0 | C50: RE-FUELLING
A52: 5.0 | C52: DELIVERIES
A54: 6.0 | C54: INTERNAL TRAFFIC HAZARDS
A56: 7.0 | C56: PEDESTRIAN TRAFFIC
A58: 8.0 | C58: PUBLIC INTERFACE
A60: 9.0 | C60: EMERGENCY ARRANGEMENTS
A62: 10.0 | C62: HIGHWAYS TEMPORARY TRAFFIC MANAGEMENT
A64: 11.0 | C64: RECORD REFERENCING MATRIX
A66: 12.0 | C66: FURTHER GUIDANCE
A67: Explanatory Notes:-
A68: in this template Plan, guidance and sample content is included where deemed necessary. This is indicated by the inclusion of yellow boxes with text in brackets { }. On completing this plan all sample and guidance text should be deleted or overwritten as required.
A70: Introduction TMP
...

Sheet Quality Test & Inspection Plan
A2: Setting Up a Project Inspection Plan [PIP]: (Template).
A3: Reference | D3: QMP000 | Z3: 43586
A4: PROJECT NAME: | J4: PROJECT REFERENCE:
A6: PREPARED BY: | J6: DATE:
A8: Does your Project need to include any of the following activities? | B8: Preliminaries Custom Form Category 008 | D8: Site Clearance Custom Form Category 009 | F8: Fencing Custom Form Category 010 | H8: Vehicle Restraint Systems Custom Form Category 011 | J8: Drainage (Pipework, Chambers & Gullies) Custom Form Category 012 | L8: Drainage ( Land Drains, Fin Drains, Narrow Filter Drains & Combi Drains) Custom Form Category 012 | N8: Drainage (Cleaning of Drainage Systems) Custom Form Category 012 | P8: Earthworks (Cuttings) Custom Form Category 013 | R8: Earthworks (Filling) Custom Form Category 013 | T8: Earthworks (Stabilisation) Custom Form Category 013 | V8: Road Pavements; General Custom Form Category 014 | X8: Road Pavements: Unbound, Custom Form Category 015 | Z8: Road Pavements: Cement & other Hydraulically Bound Custom Form Category 016 | AB8: Road Pavements; Bituminous Material Custom Form Category 017 | AD8: Pavements; Concrete Material Custom Form Category 018 | AF8: Kerbs Custom Form Category 019 | AH8: Footways and Paved Areas Custom Form Category 019 | AJ8: Traffic Signs; Signs, Foundations, Road Bollards & Marker Posts, Markings & Studs, Delineators Custom Form Category 020 | AL8: Traffic Signs; Danger Lamps, Beacons, Temporary Signs, Signals, Detector Loops, Crossings Custom Form Category 020 | AN8: Street Lighting Columns, Brackets, CCTV Masts, Custom Form Category 021 | AP8: Electrical Work for Road lighting and Traffic Signs, Custom Form Category 022 | AR8: Piling, Custom Form Category 023 | AT8: Embedded Retaining Walls, Custom Form Category 023 | AV8: Piling and Embedded Retaining Walls, Testing & Support Fluids Custom Form Category 023 | AX8: Structural Concrete Insitu Concrete Placement Custom Form Category 024 | AZ8: Structural Steelwork Custom Form Category 025 | BB8: Protection of Structural Steelwork Against Corrosion Custom Form Category 026 | BD8: Waterproofing of Concrete Structures Custom Form Category 027 | BF8: Bridge Expansion Joints & Sealing of Gaps Custom Form Category 028 | BH8: Brickwork, Blockwork & Masonry Custom Form Category 029 | BJ8: Special Structures Custom Form Category 030 | BL8: Miscellaneous Mortar Beds, Ancillary Concrete, No Fines Concrete & Granolithic Concrete Custom Form Category 031 | BN8: Miscellaneous Plastic Coatings to Fence & Gatework, Thermoplastic Node Markers Custom Form Category 031 | BP8: Landscape & Ecology Weed Control, Rabbit & Deer Control Custom Form Category 032 | BR8: Landscape & Ecology Ground Preparation, Grass Seeding & Planting Custom Form Category 032 | BT8: Landscape & Ecology Maintenance & Watering Custom Form Category 032 | BV8: Landscape & Ecology Management of Water Bodies & Special Measures Custom Form Category 032
B9: Yes: Include QMP100 | C9: No: No Further Action | D9: Yes: Include QMP200 | E9: No: No Further Action | F9: Yes: Include QMP300 | G9: No: No Further Action | H9: Yes: Include QMP400 | I9: No: No Further Action | J9: Yes: Include QMP500 | K9: No: No Further Action | L9: Yes: Include QMP501 | M9: No: No Further Action | N9: Yes: Include QMP502 | O9: No: No Further Action | P9: Yes: Include QMP600 | Q9: No: No Further Action | R9: Yes: Include QMP601 | S9: No: No Further Action | T9: Yes: Include QMP602 | U9: No: No Further Action | V9: Yes: Include QMP700 | W9: No: No Further Action | X9: Yes: Include QMP800 | Y9: No: No Further Action | Z9: Yes: Include QMP801 | AA9: No: No Further Action | AB9: Yes: Include QMP900 | AC9: No: No Further Action | AD9: Yes: Include QMP1000 | AE9: No: No Further Action | AF9: Yes: Include QMP1100 | AG9: No: No Further Action | AH9: Yes: Include QMP1101 | AI9: No: No Further Action | AJ9: Yes: Include QMP1200 | AK9: No: No Further Action | AL9: Yes: Include QMP1201 | AM9: No: No Further Action | AN9: Yes: Include QMP1300 | AO9: No: No Further Action | AP9: Yes: Include QMP1400 | AQ9: No: No Further Action | AR9: Yes: Include QMP1600 | AS9: No: No Further Action | AT9: Yes: Include QMP1601 | AU9: No: No Further Action | AV9: Yes: Include QMP1602 | AW9: No: No Further Action | AX9: Yes: Include QMP1700 | AY9: No: No Further Action | AZ9: Yes: Include QMP1800 | BA9: No: No Further Action | BB9: Yes: Include QMP1900 | BC9: No: No Further Action | BD9: Yes: Include QMP2000 | BE9: No: No Further Action | BF9: Yes: Include QMP2300 | BG9: No: No Further Action | BH9: Yes: Include QMP2400 | BI9: No: No Further Action | BJ9: Yes: Include QMP2500 | BK9: No: No Further Action | BL9: Yes: Include QMP2600 | BM9: No: No Further Action | BN9: Yes: Include QMP2600 | BO9: No: No Further Action | BP9: Yes: Include QMP3000 | BQ9: No: No Further Action | BR9: Yes: Include QMP3001 | BS9: No: No Further Action | BT9: Yes: Include QMP3002 | BU9: No: No Further Action | BV9: Yes: Include QMP3003 | BW9: No: No Further Action
A10: Quality Management Plan Link
A11: Insert Specification Link
A12: Review Quality Management Plan & Select Checklists Required for your Project; Checklists are all available on mobile devices. | B12: QA-a-101 | D12: QA-a-201 | F12: QA-a-301 | H12: QA-a-401 | J12: QA-a-501 | L12: QA-a-513 | N12: QA-a-523 | P12: QA-a-601 | R12: QA-a-601 | T12: QA-a-609 | V12: QA-a-701 | X12: QA-a-801 | Z12: QA-a-811 | AB12: QA-a-901 | AD12: QA-a-1001 | AF12: QA-a-1101 | AH12: QA-a-1107 | AJ12: QA-a-1201 | AL12: QA-a-1213 | AN12: QA-a-1301 | AP12: QA-a-1401 | AR12: QA-a-1601 | AT12: QA-a-1611 | AV12: QA-a-1621 | AX12: QA-a-1701 | AZ12: QA-a-1801 | BB12: QA-a-1901 | BD12: QA-a-2001 | BF12: QA-a-2301 | BH12: QA-a-2401 | BJ12: QA-a-2501 | BL12: QA-a-2601 | BN12: QA-a-2604 | BP12: QA-a-3001 | BR12: QA-a-3007 | BT12: QA-a-3020 | BV12: QA-a-3030
B13: QA-a-102 | D13: QA-a-202 | F13: QA-a-302 | H13: QA-a-402 | J13: QA-a-502 | L13: QA-a-514 | N13: QA-a-524 | P13: QA-a-603 | R13: QA-a-602 | T13: QA-a-610 | V13: QA-a-702 | X13: QA-a-802 | Z13: QA-a-812 | AB13: QA-a-902 | AD13: QA-a-1002 | AF13: QA-a-1102 | AH13: QA-a-1108 | AJ13: QA-a-1202 | AL13: QA-a-1214 | AN13: QA-a-1302 | AP13: QA-a-1402 | AR13: QA-a-1602 | AT13: QA-a-1612 | AV13: QA-a-1622 | AX13: QA-a-1702 | AZ13: QA-a-1802 | BB13: QA-a-1902 | BD13: QA-a-2002 | BF13: QA-a-2302 | BH13: QA-a-2402 | BJ13: QA-a-2502 | BL13: QA-a-2602 | BN13: QA-a-2605 | BP13: QA-a-3002 | BR13: QA-a-3008 | BT13: QA-a-3021 | BV13: QA-a-3031
B14: QA-a-103 | D14: QA-a-203 | F14: QA-a-303 | H14: QA-a-403 | J14: QA-a-503 | L14: QA-a-515 | N14: QA-a-525 | P14: QA-a-604 | R14: QA-a-605 | T14: QA-a-620 | V14: QA-a-703 | X14: QA-a-803 | Z14: QA-a-813 | AB14: QA-a-903 | AD14: QA-a-1003 | AF14: QA-a-1103 | AH14: QA-a-1109 | AJ14: QA-a-1203 | AL14: QA-a-1215 | AN14: QA-a-1303 | AP14: QA-a-1403 | AR14: QA-a-1603 | AT14: QA-a-1613 | AV14: QA-a-1623 | AX14: QA-a-1703 | AZ14: QA-a-1803 | BB14: QA-a-1903 | BD14: QA-a-2003 | BF14: QA-a-2303 | BH14: QA-a-2403 | BJ14: QA-a-2503 | BL14: QA-a-2603 | BN14: QA-a-2606 | BP14: QA-a-3003 | BR14: QA-a-3009 | BT14: QA-a-3022 | BV14: QA-a-3032
B15: QA-a-104 | D15: QA-a-204 | F15: QA-a-304 | H15: QA-a-404 | J15: QA-a-504 | L15: QA-a-516 | N15: QA-a-526 | P15: QA-a-607 | R15: QA-a-606 | T15: QA-a-621 | V15: QA-a-704 | X15: QA-a-804 | Z15: QA-a-814 | AB15: QA-a-904 | AD15: QA-a-1004 | AF15: QA-a-1104 | AH15: QA-a-1110 | AJ15: QA-a-1204 | AL15: QA-a-1216 | AN15: QA-a-1304 | AP15: QA-a-1404 | AR15: QA-a-1604 | AT15: QA-a-1614 | AV15: QA-a-1624 | AX15: QA-a-1704 | AZ15: QA-a-1804 | BB15: QA-a-1904 | BD15: QA-a-2004 | BF15: QA-a-2304 | BH15: QA-a-2404 | BJ15: QA-a-2504 | BL15: QA-a-2607 | BN15: QA-a-2611 | BP15: QA-a-3004 | BR15: QA-a-3010 | BT15: QA-a-3023 | BV15: QA-a-3033
B16: QA-a-105 | D16: QA-a-205 | H16: QA-a-405 | J16: QA-a-505 | L16: QA-a-517 | N16: QA-a-527 | P16: QA-a-611 | R16: QA-a-607 | V16: QA-a-705 | X16: QA-a-805 | AB16: QA-a-905 | AD16: QA-a-1005 | AF16: QA-a-1105 | AH16: QA-a-1111 | AJ16: QA-a-1205 | AL16: QA-a-1217 | AN16: QA-a-1305 | AP16: QA-a-1405 | AR16: QA-a-1605 | AT16: QA-a-1615 | AV16: QA-a-1625 | AX16: QA-a-1705 | AZ16: QA-a-1805 | BB16: QA-a-1905 | BD16: QA-a-2005 | BF16: QA-a-2305 | BH16: QA-a-2405 | BJ16: QA-a-2505 | BL16: QA-a-2608 | BN16: QA-a-2612 | BP16: QA-a-3005 | BR16: QA-a-3011 | BT16: QA-a-3024
B17: QA-a-106 | D17: QA-a-206 | H17: QA-a-406 | J17: QA-a-506 | L17: QA-a-518 | N17: QA-a-528 | P17: QA-a-612 | R17: QA-a-608 | V17: QA-a-706 | X17: QA-a-806 | AB17: QA-a-906 | AD17: QA-a-1006 | AF17: QA-a-1106 | AH17: QA-a-1112 | AJ17: QA-a-1206 | AL17: QA-a-1218 | AN17: QA-a-1306 | AP17: QA-a-1406 | AR17: QA-a-1606 | AT17: QA-a-1616 | AV17: QA-a-1626 | AX17: QA-a-1706 | AZ17: QA-a-1806 | BB17: QA-a-1906 | BD17: QA-a-2006 | BF17: QA-a-2306 | BH17: QA-a-2406 | BJ17: QA-a-2506 | BL17: QA-a-2609 | BN17: QA-a-2613 | BP17: QA-a-3006 | BR17: QA-a-3012 | BT17: QA-a-3025
B18: QA-a-107 | D18: QA-a-207 | H18: QA-a-407 | J18: QA-a-507 | L18: QA-a-519 | N18: QA-a-529 | P18: QA-a-614 | R18: QA-a-611 | V18: QA-a-707 | X18: QA-a-807 | AB18: QA-a-907 | AD18: QA-a-1007 | AH18: QA-a-1113 | AJ18: QA-a-1207 | AL18: QA-a-1219 | AN18: QA-a-1307 | AP18: QA-a-1407 | AR18: QA-a-1607 | AT18: QA-a-1617 | AV18: QA-a-1627 | AX18: QA-a-1707 | BB18: QA-a-1907 | BH18: QA-a-2407 | BJ18: QA-a-2507 | BL18: QA-a-2610 | BR18: QA-a-3013 | BT18: QA-a-3026
B19: QA-a-108 | D19: QA-a-208 | H19: QA-a-408 | J19: QA-a-508 | L19: QA-a-520 | N19: QA-a-530 | P19: QA-a-615 | R19: QA-a-612 | V19: QA-a-708 | X19: QA-a-808 | AB19: QA-a-908 | AD19: QA-a-1008 | AH19: QA-a-1114 | AJ19: QA-a-1208 | AL19: QA-a-1220 | AN19: QA-a-1308 | AP19: QA-a-1408 | AR19: QA-a-1608 | AT19: QA-a-1618 | AV19: QA-a-1628 | AX19: QA-a-1708 | BB19: QA-a-1908 | BH19: QA-a-2408 | BJ19: QA-a-2508 | BL19: QA-a-2614 | BR19: QA-a-3014 | BT19: QA-a-3027
B20: QA-a-109 | D20: QA-a-209 | H20: QA-a-409 | J20: QA-a-509 | L20: QA-a-521 | P20: QA-a-618 | R20: QA-a-613 | X20: QA-a-809 | AB20: QA-a-909 | AD20: QA-a-1009 | AH20: QA-a-1115 | AJ20: QA-a-1209 | AL20: QA-a-1221 | AP20: QA-a-1409 | AR20: QA-a-1609 | AT20: QA-a-1619 | AV20: QA-a-1629 | AX20: QA-a-1709 | BB20: QA-a-1909 | BH20: QA-a-2409 | BJ20: QA-a-2509 | BR20: QA-a-3015 | BT20: QA-a-3028
B21: QA-a-110 | D21: QA-a-210 | H21: QA-a-410 | J21: QA-a-510 | L21: QA-a-522 | P21: QA-a-619 | R21: QA-a-614 | X21: QA-a-810 | AB21: QA-a-910 | AD21: QA-a-1010 | AH21: QA-a-1116 | AJ21: QA-a-1210 | AL21: QA-a-1222 | AP21: QA-a-1410 | AR21: QA-a-1610 | AT21: QA-a-1620 | AV21: QA-a-1630 | AX21: QA-a-1710 | BB21: QA-a-1910 | BH21: QA-a-2410 | BJ21: QA-a-2510 | BR21: QA-a-3016 | BT21: QA-a-3029
B22: QA-a-111 | J22: QA-a-511 | R22: QA-a-616 | AB22: QA-a-911 | AH22: QA-a-1117 | AJ22: QA-a-1211 | AL22: QA-a-1223 | AP22: QA-a-1411 | AV22: QA-a-1631 | BJ22: QA-a-2511 | BR22: QA-a-3017
B23: QA-a-112 | J23: QA-a-512 | R23: QA-a-617 | AB23: QA-a-912 | AH23: QA-a-1118 | AJ23: QA-a-1212 | AL23: QA-a-1224 | AP23: QA-a-1412 | AV23: QA-a-1632 | BJ23: QA-a-2512 | BR23: QA-a-3018
R24: QA-a-618 | AB24: QA-a-913 | AP24: QA-a-1413 | BR24: QA-a-3019
R25: QA-a-619 | AB25: QA-a-914 | AP25: QA-a-1414

Sheet PROJECT ROLES & RESPONSIBILITES
A4: PROJECT ROLES & RESPONSIBILITES
A6: =PMP!A6 -> Project Name: | C6: =PMP!C6:K6 -> A494 River Dee Bridge Deck over-slabbing Contingency Scheme
A7: Project Number: | C7: =PMP!C7:K7 -> 21-NM-CHR-003
A8: Project Details
A9: =PMP!A9 -> Project Description: | D9: =PMP!D9:K9 -> The North and Mid Wales Trunk Road Agent (NMWTRA) have commissioned a project to develop a major maintenance intervention should a critical defect be identified within the A494 River Dee Bridge structure and enable this to be implemented with minimal impact on traffic conditions. The proposed design intervention comprises of removing a depth of existing road surfacing and replacing with a new thin reinforced concrete over-slab with combined waterproof and wearing membrane (hence forth referred to as the ‘over-slabbing works’). Enabling works are required to parts of the central reserve and to the Riverside Way Junction to facilitate contraflow traffic management arrangements during construction. The enabling works consist of construction 2Nr crossovers through the central reserve west of the existing bridge and works to widen the Riverside Way Junction.
A10: Project Location: | D10: =PMP!D11:K11 -> Enter your project location here
A12: Plan Approvals
A13: Written by: | C13: Name: | D13: =PMP!D14 -> 0 | G13: Signature: | H13: =PMP!H14 -> 0 | J13: Date: | K13: =PMP!K14 -> 0
A14: Approved by: | C14: Name: | D14: =PMP!D15 -> 0 | G14: Signature: | H14: =PMP!H15 -> 0 | J14: Date: | K14: =PMP!K15 -> 0
A16: Explanatory Notes:-
A17: Origination: Tender phase origination resides with the Project Manager. Construction Phase update will be the responsibility of the Site Manager.
A18: Approval: Tender phase approval resides with the Contracts Manager or Regional Director. Construction Phase approval will be the responsibility of the Project Manager.
A19: (Revision: The plan will be revised to reflect changes that have been made to the product, project or contract, work practices, service provision or Quality Assurance procedures. Where changes are made to the plan an assessment of the impacts of the changes will be carried out and recorded in the Version Control section below.
A21: Version Control
A22: Description of changes | E22: Date | F22: Revision | G22: Page No. | H22: Comments
A30: Explanatory Notes:-
A31: This Project Management Plan will be added to, reviewed and updated as the project develops, further design work is completed, information from subcontractors starting work becomes available, unforeseen circumstances or variations to planned circumstances arise or where the operations management team deem it is necessary.
A32: If sections are deemed not applicable DO NOT DELETE. Replace text with not applicable on this project.
A34: 1.1) Project Organisation and Resource
A35: (a) Agreed responsibilities and Specific duties for key roles are outlined in the Jones Bros Business Management system under 03 -Knowledge area - 03.21 - HR - 03.21.01 Job Role Descriptions. Responsibilities are also identified in associated Process Flow Charts (PFC) held in the Jones Bros BMS 03 - Knowledge area - 03.03 Process Flow Charts and, where appropriate, referenced throughout this plan.
A36: (b) Communication and display of appointments: | E36: A copy of the appointments is to be displayed on the project’s health and safety notice board and in the project filing structure located in the site reception.
A37: (c) All appointments on the matrix are to be signed for by each individual as acceptance and understanding of the issued roles and responsibilities for the project.
A38: (d) Appointments will be reviewed and updated throughout the project, reflecting any changes or movement in the project as required.
A39: Role | C39: Name | F39: Company | H39: Address | J39: E-mail | K39: Telephone
A40: =PMP!A97 -> Client | C40: =PMP!C97 -> {insert name} | F40: =PMP!F97 -> The North and Mid Wales Trunk Road Agent (NMWTRA) | H40: =PMP!H97 -> Insert Address | J40: =PMP!J97 -> {insert email} | K40: =PMP!K97 -> {insert tel no.}
A41: =PMP!A98 -> Client Contract Admin | C41: =PMP!C98 -> {insert name} | F41: =PMP!F98 -> {insert company} | H41: =PMP!H98 -> {insert address} | J41: =PMP!J98 -> {insert email} | K41: =PMP!K98 -> {insert tel no.}
A42: =PMP!A99 -> Principal Contractor | C42: =PMP!C99 -> Jones Bros | F42: =PMP!F99 -> Jones Bros. Ruthin (Civil Engineering) Co. Ltd | H42: =PMP!H99 -> Jones Bros. Ruthin (Civil Engineering) Co. Ltd Ty Glyn, Canol Y Dre, Ruthin, Denbighshire LL15 1QW | J42: =PMP!J99 -> {insert email} | K42: =PMP!K99 -> {insert tel no.}
A43: =PMP!A100 -> Workforce Planning Manager | C43: =PMP!C100 -> Alan Manuel | F43: =PMP!F100 -> Jones Bros. Ruthin (Civil Engineering) Co. Ltd | H43: =PMP!H100 -> Jones Bros. Ruthin (Civil Engineering) Co. Ltd Ty Glyn, Canol Y Dre, Ruthin, Denbighshire LL15 1QW | J43: =PMP!J100 -> alan.manuel@jones-bros.com | K43: =PMP!K100 -> 07384834594
A44: =PMP!A101 -> IT Infrastructure Section Manager | C44: =PMP!C101 -> Gerallt Ellis | F44: =PMP!F101 -> Jones Bros. Ruthin (Civil Engineering) Co. Ltd | H44: =PMP!H101 -> Jones Bros. Ruthin (Civil Engineering) Co. Ltd Ty Glyn, Canol Y Dre, Ruthin, Denbighshire LL15 1QW | J44: =PMP!J101 -> gerallt@jones-bros.com | K44: =PMP!K101 -> 07584 705103
A45: =PMP!A102 -> IT Systems Section Manager | C45: =PMP!C102 -> Colin Jones | F45: =PMP!F102 -> Jones Bros. Ruthin (Civil Engineering) Co. Ltd | H45: =PMP!H102 -> Jones Bros. Ruthin (Civil Engineering) Co. Ltd Ty Glyn, Canol Y Dre, Ruthin, Denbighshire LL15 1QW | J45: =PMP!J102 -> colin.jones@jones-bros.com
A46: =PMP!A103 -> Jones Bros Internal Auditor | C46: =PMP!C103 -> Ellis Ashton | F46: =PMP!F103 -> Jones Bros. Ruthin (Civil Engineering) Co. Ltd | H46: =PMP!H103 -> Jones Bros. Ruthin (Civil Engineering) Co. Ltd Ty Glyn, Canol Y Dre, Ruthin, Denbighshire LL15 1QW | J46: =PMP!J103 -> ellisa@jones-bros.com | K46: =PMP!K103 -> 07384 835329
A47: =PMP!A104 -> Principal Designer | C47: =PMP!C104 -> (Insert name) | F47: =PMP!F104 -> Insert Company Name | H47: =PMP!H104 -> Insert Address | J47: =PMP!J104 -> {insert email} | K47: =PMP!K104 -> {insert tel no.}
A48: =PMP!A105 -> Designer | C48: =PMP!C105 -> (Insert name) | F48: =PMP!F105 -> Insert Company Name | H48: =PMP!H105 -> Insert Address | J48: =PMP!J105 -> {insert email} | K48: =PMP!K105 -> {insert tel no.}
A49: =PMP!A106 -> Architect | C49: =PMP!C106 -> {insert name} | F49: =PMP!F106 -> {insert company} | H49: =PMP!H106 -> {insert address} | J49: =PMP!J106 -> {insert email} | K49: =PMP!K106 -> {insert tel no.}
A50: =PMP!A107 -> Structural Engineer | C50: =PMP!C107 -> {insert name} | F50: =PMP!F107 -> {insert company} | H50: =PMP!H107 -> {insert address} | J50: =PMP!J107 -> {insert email} | K50: =PMP!K107 -> {insert tel no.}
A51: =PMP!A108 -> Mechanical Consultant | C51: =PMP!C108 -> {insert name} | F51: =PMP!F108 -> {insert company} | H51: =PMP!H108 -> {insert address} | J51: =PMP!J108 -> {insert email} | K51: =PMP!K108 -> {insert tel no.}
A52: =PMP!A109 -> Electrical Consultant | C52: =PMP!C109 -> (Insert name) | F52: =PMP!F109 -> Insert Company Name | H52: =PMP!H109 -> Insert Address | J52: =PMP!J109 -> {insert email} | K52: =PMP!K109 -> {insert tel no.}
A53: =PMP!A110 -> Contract Director | C53: =PMP!C110 -> Hefin Lloyd-Davies | F53: =PMP!F110 -> Jones Bros. Ruthin (Civil Engineering) Co. Ltd | H53: =PMP!H110 -> Jones Bros. Ruthin (Civil Engineering) Co. Ltd Ty Glyn, Canol Y Dre, Ruthin, Denbighshire LL15 1QW | J53: =PMP!J110 -> hefin@jones-bros.com | K53: =PMP!K110 -> 07887 722560
A54: =PMP!A111 -> Contracts Manager | C54: =PMP!C111 -> Daniel Robat Williams | F54: =PMP!F111 -> Jones Bros. Ruthin (Civil Engineering) Co. Ltd | H54: =PMP!H111 -> Jones Bros. Ruthin (Civil Engineering) Co. Ltd Ty Glyn, Canol Y Dre, Ruthin, Denbighshire LL15 1QW | J54: =PMP!J111 -> robat@jones-bros.com | K54: =PMP!K111 -> 07787 100752
A55: =PMP!A112 -> Project Manager | C55: =PMP!C112 -> (Insert name) | F55: =PMP!F112 -> Jones Bros. Ruthin (Civil Engineering) Co. Ltd | H55: =PMP!H112 -> Jones Bros. Ruthin (Civil Engineering) Co. Ltd Ty Glyn, Canol Y Dre, Ruthin, Denbighshire LL15 1QW | J55: =PMP!J112 -> {insert email} | K55: =PMP!K112 -> {insert tel no.}
...

Sheet Validation
A3: Please Specify: | C3: Please Specify:
A4: Daily | C4: Required
A5: Weekly | C5: Not Required
A6: Forthnightly
A7: Monthly
A8: Quarterly
A9: Annually
