Workbook

Sheet Current asset evaluation
C13: Zone 3 - THP
B14: Description | C14: Thermal Hydrolysis Plant
B15: Number of tanks | C15: 1 pulper, 4 reactors and 1 flash tank
B16: Volume of tank | C16: Total volume: Pulper - 42m3 (30 working) Reactors (4) - 13m3 (9 working) Flash tank - 42m3 (30 working)
B17: Material of tank | C17: Stainless steel
B18: Above/below ground? | C18: Above ground
B19: Pipe material | C19: Above ground pipework - Stainless steel
B20: Drainage for zone | C20: THP surrounded by beany block kerb and one central gully connected to liquor return tank Has blocked in the past as part of annual shut down - not day to day problem
B21: Year of construction | C21: 2010
B22: Surrounding area | C22: Concrete - impermeable
B24: Pump rate - Digester feed pump | C24: Approximately 15-20m3/hr (4.8l/s)
B26: Is asset fit for purpose? | C26: Tanks have not undergone a change of use. Fit for purpose
B27: Condition of the tank Any tank failures - cracks, flaking, corrosion, overflows, overfilling? | C27: Galvanised boxes on top of each of the vessels and instruments to protect them - due to corrosion PRVs seized during annual shutdown - thus needed vessels to protect them
B28: Condition of pipework Pipe leaks, corrosion? | C28: External corrosion of external pipework due to coastal environment. Electrical containment and valves can suffer from corrosion so maintenance is required more frequently. Reactor to flash tank pipe - leak recently - due to grit erosion - worn pipes
B29: Protection of assets - bollards? | C29: Safety barrier
B30: Control/monitoring/alarming measures in place? | C30: High level sensor within tanks Pressure sensor and alarm for high pressures
B31: Secondary containment provided? | C31: Hardstanding areas below the structure (concrete), which feeds the drainage system via beany block kerbs.
B32: Secondary containment condition? | C32: Concrete is in good condition.

Sheet Risk assessment
B12: Source
B14: Material | C14: Physical properties | D14: Maximum quantity | E14: units | F14: Storage | G14: Flammability | H14: Corrosive | I14: Ecotoxicity (based on LD and quantity) | J14: Hazard rating
B15: THP - pulper | C15: Imported and indigenous cake | D15: 42 (total volume) 30 (working volume) | E15: m3 | F15: Stainless steel above ground tank | G15: Not flammable | H15: Possibly | I15: Organic heavy - Nitrogen, Phosphorous, Ammonia, BOD, TSS, COD - Environmental hazard (algae blooms and death of organisms) Pathogens - Human hazard (E.coli etc.) | J15: M
B16: THP - Reactor | C16: Liquid with sludge <= 4-5% (indigenous and imported sludge) | D16: 13 (total volume) 9 (working volume) | E16: m3 | F16: Stainless steel above ground tank | G16: Not flammable | H16: Possibly | I16: Organic heavy - Nitrogen, Phosphorous, Ammonia, BOD, TSS, COD - Environmental hazard (algae blooms and death of organisms) Pathogens - Human hazard (E.coli etc.) | J16: M
B17: THP - Reactor | C17: Liquid with sludge <= 4-5% (indigenous and imported sludge) | D17: 13 (total volume) 9 (working volume) | E17: m3 | F17: Stainless steel above ground tank | G17: Not flammable | H17: Possibly | I17: Organic heavy - Nitrogen, Phosphorous, Ammonia, BOD, TSS, COD - Environmental hazard (algae blooms and death of organisms) Pathogens - Human hazard (E.coli etc.) | J17: M
B18: THP - Reactor | C18: Liquid with sludge <= 4-5% (indigenous and imported sludge) | D18: 13 (total volume) 9 (working volume) | E18: m3 | F18: Stainless steel above ground tank | G18: Not flammable | H18: Possibly | I18: Organic heavy - Nitrogen, Phosphorous, Ammonia, BOD, TSS, COD - Environmental hazard (algae blooms and death of organisms) Pathogens - Human hazard (E.coli etc.) | J18: M
B19: THP - Reactor | C19: Liquid with sludge <= 4-5% (indigenous and imported sludge) | D19: 13 (total volume) 9 (working volume) | E19: m3 | F19: Stainless steel above ground tank | G19: Not flammable | H19: Possibly | I19: Organic heavy - Nitrogen, Phosphorous, Ammonia, BOD, TSS, COD - Environmental hazard (algae blooms and death of organisms) Pathogens - Human hazard (E.coli etc.) | J19: M
B20: THP - flash tank | C20: Liquid with sludge <= 4-5% (indigenous and imported sludge) | D20: 42 (total volume) 30 (working volume) | E20: m3 | F20: Stainless steel above ground tank | G20: Not flammable | H20: Possibly | I20: Organic heavy - Nitrogen, Phosphorous, Ammonia, BOD, TSS, COD - Environmental hazard (algae blooms and death of organisms) Pathogens - Human hazard (E.coli etc.) | J20: M
B21: Rainwater run-off contaminated by inventory | C21: Surface water mixed with sludge | D21: Dependent on area of containment | E21: m3 | F21: N/A | G21: Not flammable | H21: No | I21: Lower concentration of sludge contaminants | J21: L
I22: Overall | J22: M
B24: Pathway and Receptor
B58: Pathway - the route from primary containment to receptor (extent of loss of containment) | D58: Time of concentration/ duration of source outside containment | F58: Hazard - Transport potential | I58: Receptor | J58: Hazard - Damage potential
B59: Permeable area/ground (stone) to the west of the THP. The site is underlain by permeable sub-soils/strata. Liquor could infiltrate into the soil Inventory unlikely to cascaded to permeable areas based on topography. | D59: Direct contamination but over an extended period of time | F59: L | I59: Groundwater (underlain by a secondary aquifer) - contaminated through percolation through soil or through fluctuating tidal groundwater level Over a very long period, can contaminate ocean through groundwater base flow underground | J59: L
B60: Tidally fluctuating groundwater | D60: Direct contamination but over an extended period of time | F60: L
B61: Existing underground services - ductwork, tunnels etc. | D61: Direct contamination but over an extended period of time | F61: M
B62: The THP is located on top of impermeable concrete surfacing. The whole THP area is surrounded by beany block kerb containing any spills. If inventory is cascaded onto surfacing, sludge will be transfer into the beany blocks and into the site drainage system (liquor return) | D62: Minutes - hours | F62: M | I62: WWTW - drainage network is connected to liquor return tank returning back to the head of the works (SBR tank). The liquor PS would be inhibited in such an event. | J62: L
D63: Overall | F63: M | I63: Overall | J63: L
B67: Combination of Hazards | C67: =J22&F63&J63 -> MML
B70: Overall risk rating for zone (Ciria 736) | C70: M
B74: Frequency of loss of containment
B77: Failure mode | C77: Description | D77: Existing consequence and mitigation measure | K77: Annual probability of loss of containment | L77: Rating
B78: Operational failure - tank | C78: Overfilling/overflow of tank | D78: All the tanks in the THP area have level indicators and a high level switch to mitigate any overfilling. The tanks are also covered. Loss of containment would not occur. | K78: > 1 in 1 Million | L78: =VLOOKUP(K78,List!$B$16:$E$18,4,FALSE) -> L
B79: Structural failure - tank (catastrophic) | C79: Catastrophic failure due to significant external damage Potential to lose total volume if above ground connecting pipework fails/break off of tank | D79: Tanks are located above ground. In the case of significant damage above ground during operation or maintenance, the total volume contained in a single tank above ground could escape. It is however very unlikely for the tank to fail catastrophically as the tanks are fit for purpose. The tanks could fail if the pipe connections to the tank fail/break off and fail catastrophically, causing a rupture/hole in the tank, through which the total inventory is lost. The tank's connecting pipework is located at the bottom of the tank. This is extremely unlikely due to the quality controls applied through the design, fabrication and installation on site. There are no credible scenarios that could lead to a catastrophic failure of this tank (partial loss of containment would be more likely to occur but still very unlikely). The existing secondary containment and associated drainage is also adequate to store loss of primary containment. | K79: > 1 in 1 Million | L79: =VLOOKUP(K79,List!$B$16:$E$18,4,FALSE) -> L
B80: Structural failure - tank (partial) | C80: Loss of containment most likely to occur where there are weak points in the tank - Most likely through failures where pipe connects with the structure, bolts/sealant between panels or pitting in the tank. Weak points could be created through either human damage (during maintenance/operation) or environmental (corrosion) | D80: Tanks are located above ground. Any significant loss of containment, would spill above ground. Structural failure of the tanks would mainly be through corrosion (bolts, connections between panels, connections). In the case of significant corrosion and leaks forming above ground, the sludge liquid contained would seep through the leaks. The tank could potentially lose the above ground volume over a long period of time assuming no there was no response to the event. As the site is manned for 24 hours daily, large drops in levels in the tanks and significant leaks above ground would be noticed. Significant corrosion below/above ground would also be easily spotted during routine inspections. Partial loss of containment is highly unlikely. The existing secondary containment and associated drainage is also adequate to store loss of primary containment. | K80: > 1 in 1 Million | L80: =VLOOKUP(K80,List!$B$16:$E$18,4,FALSE) -> L
B81: Structural failure - pipework (catastrophic) | C81: Loss of containment due to failure of above ground connecting pipework | D81: In the extremely unlikely event where the above ground pipework (rising mains or gravity) or valves fail completely (PRVs have seized due to corrosion), a proportion of the above ground volume could be lost, if the valves are not closed by operational staff or tanks are not drained down to limit loss of containment. In reality, the pumps to and from the THP area would be shut down and isolating valves closed, triggered by the automated safeguards (pressure instrumentation). Associated alarms would also be raised to notify the operators. As the site is manned for 24 hours daily, valves can be closed and operated by operational staff if the pipes were to fail and automated safeguards did not function as intended. Total loss of containment is therefore not deemed to be a credible scenario. Partial loss of containment is possible but still highly unlikely when considering larger volumes. | K81: > 1 in 1 Million | L81: =VLOOKUP(K81,List!$B$16:$E$18,4,FALSE) -> L
B82: Structural failure - pipework (partial) | C82: Loss of containment most likely to occur where there are weak points in the pipework - Most likely through failures where pipe connects with the structure, bolts/sealant at pipe flanges/valves or along any pipe pitting. Weak point could be created through either human damage (during maintenance/operation), erosion (high velocities and silt content within the pipe) or environmental (corrosion) | D82: All pipework around the THP is above ground carbon or stainless steel. If partial loss of containment occurs above ground from pipework (leaks), due to the impermeable external surfacing around the tanks, the sludge would be contained within the hardstanding area and then drain into the beany blocks and ultimately to the liquor return tank. Due to the impermeable external surfacing around the tanks, that volume would be easy to contain, isolate and clean up. Any significant leaks/damage to above ground pipes would be noticed and loss of containment would be mitigated through operational measures (closing of valves and isolation of tanks/pipework). This can be achieved quickly due to the manned presence and daily inspection regime. Operational staff stated that corrosion is a significant problem on site ( due to extremities - site is exposed and close to the ocean). Leaks from corrosion (valves, bolts, pitting in pipework) is thus likely to cause partial loss of containment if inspection and maintenance procedures are not followed. A significant failure has not occurred to date. Total loss of containment is not deemed to be a credible scenario. Partial loss of containment is more likely but still highly unlikely when considering larger volumes. | K82: 1 in 100 to 1 in 1 Million | L82: =VLOOKUP(K82,List!$B$16:$E$18,4,FALSE) -> M
B83: Vehicular impact (partial to catastrophic) | C83: Impact from vehicles - damage to pipes or tank causing loss of containment | D83: No known vehicle impacts - vehicular guardrails along access road to protect pipework and tank Vehicular damage assumed mitigated due to existing vehicular impact protection. | K83: > 1 in 1 Million | L83: =VLOOKUP(K83,List!$B$16:$E$18,4,FALSE) -> L
B84: Vandalism | C84: Vandalism of infrastructure - damage to pipes or tank causing loss of containment | D84: No known vandalism to tanks or pipework - CCTV cameras and automated gates on site. If vandalism damage were to occur, total loss of containment is unlikely. Partial loss of containment would be more likely to occur if slight damage was done. | K84: > 1 in 1 Million | L84: =VLOOKUP(K84,List!$B$16:$E$18,4,FALSE) -> L
B86: *Site is manned. Probability and frequency thus reduced
B89: Frequency of loss of containment (Ciria 736) | C89: M
B92: Overall zone hazard rating
B94: Overall zone hazard rating (Ciria 736) | C94: =VLOOKUP(C70&C89,List!$D$20:$E$28,2,FALSE) -> Moderate
B97: Containment required
B100: Containment required | C100: =VLOOKUP(C94,List!$B$31:$D$33,3,FALSE) -> Class 2

Sheet Mitigation
B12: Catastrophic failure - modes (loss of containment) - pragmatic solution
B14: Risk | C14: Cause | D14: Existing consequence and mitigation measure | L14: Existing zone risk rating | M14: Proposed Mitigation | X14: Risk rating after mitigation
C15: ='Risk assessment'!B78 -> Operational failure - tank | D15: ='Risk assessment'!D78:H78 -> All the tanks in the THP area have level indicators and a high level switch to mitigate any overfilling. The tanks are also covered. Loss of containment would not occur. | L15: M | M15: Only competent and trained staff operate the site. No further mitigation measures proposed, existing measures deemed adequate. | X15: L
C16: ='Risk assessment'!B79 -> Structural failure - tank (catastrophic) | D16: ='Risk assessment'!D79:H79 -> Tanks are located above ground. In the case of significant damage above ground during operation or maintenance, the total volume contained in a single tank above ground could escape. It is however very unlikely for the tank to fail catastrophically as the tanks are fit for purpose. The tanks could fail if the pipe connections to the tank fail/break off and fail catastrophically, causing a rupture/hole in the tank, through which the total inventory is lost. The tank's connecting pipework is located at the bottom of the tank. This is extremely unlikely due to the quality controls applied through the design, fabrication and installation on site. There are no credible scenarios that could lead to a catastrophic failure of this tank (partial loss of containment would be more likely to occur but still very unlikely). The existing secondary containment and associated drainage is also adequate to store loss of primary containment. | L16: M | M16: If catastrophic failure of the tank occurs, 30m3 could potentially escape (through pipe connections). Existing hardstanding area with beany blocks can provide enough containment so no additional secondary containment volume is required. As beany blocks are connected to liquor return drainage system, liquor return pumps should be inhibited in event of loss of containment to limit contamination of WwTW. An alarm and manual intervention would be a sufficient safeguard in this case. To reduce the likelihood of loss of containment, the tanks should be structurally inspected on an annual basis by a competent engineer. The tanks should then be refurbished if necessary. Pressure instrumentation in tanks are alarmed with automated inhibits if there is a significant and unanticipated drop in pressure to mitigate any significant loss of containment. The zone is robust and safe with existing containment adequate for loss of containment of tanks. Associated drainage (beany block kerbs and gullies) connects to the liquor return drainage system. The tanks should be inspected on a least an annual basis by a competent engineer in addition to the current maintenance strategy. This can be undertaken during the sludge plant's annual maintenance and inspection shutdown. No further mitigation is considered to be necessary. | X16: L
C17: ='Risk assessment'!B80 -> Structural failure - tank (partial) | D17: ='Risk assessment'!D80:H80 -> Tanks are located above ground. Any significant loss of containment, would spill above ground. Structural failure of the tanks would mainly be through corrosion (bolts, connections between panels, connections). In the case of significant corrosion and leaks forming above ground, the sludge liquid contained would seep through the leaks. The tank could potentially lose the above ground volume over a long period of time assuming no there was no response to the event. As the site is manned for 24 hours daily, large drops in levels in the tanks and significant leaks above ground would be noticed. Significant corrosion below/above ground would also be easily spotted during routine inspections. Partial loss of containment is highly unlikely. The existing secondary containment and associated drainage is also adequate to store loss of primary containment. | L17: M | M17: Original tank construction was stainless steel (2010). Operational staff stated that there have been cases of corrosion due to the extremities and the site being quite exposed, however, any significant corrosion is repaired if significant. Construction is fit for purpose. In the event that tanks lose containment above ground through structural failure (corrosion/leaks), sludge would weep through the leaks at a very slow rate. The volume would slowly flow down the side of the tanks and gather around the tank. Significant corrosion and the subsequent leaks (especially above ground) would be spotted by operations during their daily inspections and the tank would be isolated and drained down until repaired if the corrosion and leak is significant. Secondary containment is thus not proposed and loss of containment volume is assumed will be able to be accommodated in the impermeable hardstanding area around the tank and in the drainage system. To reduce the likelihood of loss of containment, the tanks should be structurally inspected on an annual basis by a competent engineer. The tanks should then be refurbished if necessary. Ultrasonic meters in tanks should be alarmed if there is a significant and unanticipated drop in level to mitigate any significant loss of containment. The zone is robust and safe with existing containment adequate for loss of containment of tanks. Associated drainage (beany block kerbs and gullies) would connect to liquor return drainage system. The tanks should be inspected on a least an annual basis by a competent engineer in addition to the current maintenance strategy. This can be undertaken during the sludge plant's annual maintenance and inspection shutdown. No further mitigation is considered to be necessary. | X17: L
C18: ='Risk assessment'!B81 -> Structural failure - pipework (catastrophic) | D18: ='Risk assessment'!D81:H81 -> In the extremely unlikely event where the above ground pipework (rising mains or gravity) or valves fail completely (PRVs have seized due to corrosion), a proportion of the above ground volume could be lost, if the valves are not closed by operational staff or tanks are not drained down to limit loss of containment. In reality, the pumps to and from the THP area would be shut down and isolating valves closed, triggered by the automated safeguards (pressure instrumentation). Associated alarms would also be raised to notify the operators. As the site is manned for 24 hours daily, valves can be closed and operated by operational staff if the pipes were to fail and automated safeguards did not function as intended. Total loss of containment is therefore not deemed to be a credible scenario. Partial loss of containment is possible but still highly unlikely when considering larger volumes. | L18: M | M18: If catastrophic failure of the above ground pipework occurs (i.e. rising main pipe failure), the pumps have the necessary pressure controls to switch off the pumps (based on PFD and P&ID) to minimise the loss of containment. The volume contained in the pipe length should still be contained. Additional secondary containment is not proposed and volume can be accommodated in the hardstanding area around the tank and pipework within the drainage system. The zone is robust and safe with existing containment adequate for loss of containment of tanks. Associated drainage (beany block kerbs and gullies) would connect to liquor return drainage system. The above ground pipework should continue to be regularly inspected during daily and weekly inspections to enable proactive maintenance when required. Below ground pipework and chambers should be inspected on an annual basis to check their integrity. | X18: L
C19: ='Risk assessment'!B82 -> Structural failure - pipework (partial) | D19: ='Risk assessment'!D82:H82 -> All pipework around the THP is above ground carbon or stainless steel. If partial loss of containment occurs above ground from pipework (leaks), due to the impermeable external surfacing around the tanks, the sludge would be contained within the hardstanding area and then drain into the beany blocks and ultimately to the liquor return tank. Due to the impermeable external surfacing around the tanks, that volume would be easy to contain, isolate and clean up. Any significant leaks/damage to above ground pipes would be noticed and loss of containment would be mitigated through operational measures (closing of valves and isolation of tanks/pipework). This can be achieved quickly due to the manned presence and daily inspection regime. Operational staff stated that corrosion is a significant problem on site ( due to extremities - site is exposed and close to the ocean). Leaks from corrosion (valves, bolts, pitting in pipework) is thus likely to cause partial loss of containment if inspection and maintenance procedures are not followed. A significant failure has not occurred to date. Total loss of containment is not deemed to be a credible scenario. Partial loss of containment is more likely but still highly unlikely when considering larger volumes. | L19: M | M19: Based on experience the volume that could be lost due to above ground pipework leaks is minimal. Significant leaks would be spotted by operational staff during their daily inspection (site is also manned) and repaired and any loss of containment mitigated. The volume lost to leaks would be able to be contained in the hardstanding area around the tank and drainage pipework. No secondary containment required. Sludge would seep through the leaks at a very slow rate. The volume would slowly flow down the side of the pipe and gather around the pipework. The actual volume lost would be minimal. In the unlikely event that tank loses containment through pipework above ground, based on topography, loss of containment would be limited to the hardstanding area around the THP and sludge would cascade into beany block kerbs and back to the liquor return. The zone is robust and safe with existing containment adequate for loss of containment of tanks. Associated drainage (beany block kerbs and gullies) would connect to liquor return drainage system. The above ground pipework should continue to be regularly inspected during daily and weekly inspections to enable proactive maintenance when required. Below ground pipework and chambers should be inspected on an annual basis to check their integrity. | X19: L
C20: ='Risk assessment'!B83 -> Vehicular impact (partial to catastrophic) | D20: ='Risk assessment'!D83:H83 -> No known vehicle impacts - vehicular guardrails along access road to protect pipework and tank Vehicular damage assumed mitigated due to existing vehicular impact protection. | L20: M | M20: The existing measures mitigate any potential impacts from vehicles and potential damage which could lead to loss of containment. No mitigation measures proposed, existing measures deemed adequate. | X20: L
C21: ='Risk assessment'!B84 -> Vandalism | D21: ='Risk assessment'!D84:H84 -> No known vandalism to tanks or pipework - CCTV cameras and automated gates on site. If vandalism damage were to occur, total loss of containment is unlikely. Partial loss of containment would be more likely to occur if slight damage was done. | L21: M | M21: If pipes and the tank get damaged, because it is operated on a daily basis with operational staff present, the risk of loss of containment is low. If there are any signs of damage due to vandalism operators will fix any damage first. No mitigation measures proposed, existing measures deemed adequate. | X21: L
B24: The probability and risk of failure from the tanks is low and any associated loss of inventory volume would be contained within the adjacent hardstanding area. In line with CIRIA 736, no further measures to improve the containment infrastructure are deemed necessary for the Zone. The site maintenance strategy and annual plant shutdown does need to include structural assessments of the containment structures, including the surrounding hardstanding areas. Drainage pipework and above ground process pipework should be inspected by a competent engineer to allow for pro-active maintenance.

Sheet Containment volume - Total vol.
B12: Secondary containment volume requirement - Inventory volume (above ground)
B14: Pulper | C14: 30 | D14: m3 | E14: (Inventory volume - working)
B15: Reactor | C15: 9 | D15: m3 | E15: (Inventory volume - working)
B16: Reactor | C16: 9 | D16: m3 | E16: (Inventory volume - working)
B17: Reactor | C17: 9 | D17: m3 | E17: (Inventory volume - working)
B18: Reactor | C18: 9 | D18: m3 | E18: (Inventory volume - working)
B19: Flash tank | C19: 30 | D19: m3 | E19: (Inventory volume - working)
B20: Total volume | C20: =SUM(C14:C19) -> 96 | D20: m3
B23: 110% and 25% rules (CIRIA 736)
B25: *110% of largest tank | C25: =110%*MAX(C14:C19) -> 33 | D25: m3
B26: 25% of total tank volume | C26: =25%*C20 -> 24 | D26: m3
B27: Secondary storage to be provided | C27: =MAX(C25:C26) -> 33 | D27: m3
B30: *Note that 10% includes for rainfall and is the minimum allowable storage that can be provided
B32: Estimate of area required - local containment (100% of volume)
B35: Volume 100% (m3) | C35: Height of containment (m) | D35: Area based on flat ground (m2)
B36: ='Containment volume - Total vol.'!$C$27 -> 33 | C36: 100 | D36: =B36/(C36/1000) -> 330
B37: ='Containment volume - Total vol.'!$C$27 -> 33 | C37: 200 | D37: =B37/(C37/1000) -> 165
B38: ='Containment volume - Total vol.'!$C$27 -> 33 | C38: 300 | D38: =B38/(C38/1000) -> 110
B39: ='Containment volume - Total vol.'!$C$27 -> 33 | C39: 400 | D39: =B39/(C39/1000) -> 82.5
B40: ='Containment volume - Total vol.'!$C$27 -> 33 | C40: 500 | D40: =B40/(C40/1000) -> 66
B41: ='Containment volume - Total vol.'!$C$27 -> 33 | C41: 600 | D41: =B41/(C41/1000) -> 55
B42: ='Containment volume - Total vol.'!$C$27 -> 33 | C42: 700 | D42: =B42/(C42/1000) -> 47.142857
B43: ='Containment volume - Total vol.'!$C$27 -> 33 | C43: 800 | D43: =B43/(C43/1000) -> 41.25
B44: ='Containment volume - Total vol.'!$C$27 -> 33 | C44: 900 | D44: =B44/(C44/1000) -> 36.666667
B45: ='Containment volume - Total vol.'!$C$27 -> 33 | C45: 1000 | D45: =B45/(C45/1000) -> 33
B46: ='Containment volume - Total vol.'!$C$27 -> 33 | C46: 1100 | D46: =B46/(C46/1000) -> 30
B47: ='Containment volume - Total vol.'!$C$27 -> 33 | C47: 1200 | D47: =B47/(C47/1000) -> 27.5
... B55: ='Containment volume - Total vol.'!$C$27 -> 33 | C55: 2000 | D55: =B55/(C55/1000) -> 16.5
B58: Secondary containment volume requirement - Rainfall volume
B60: Area of containment | C60: 100 | D60: m2 | E60: (Area of containment)
B62: 24 hour - 1:10 year rainfall | C62: 41 | D62: mm
B63: 8 day - 1:10 year rainfall | C63: 95 | D63: mm
B65: Total rainfall volume | C65: =(C62/1000)*$C$60+(C63/1000)*$C$60 -> 13.6 | D65: m3
B110: Secondary containment including rainfall | D110: =MAX(C14:C14)+C65 -> 43.6 | E110: m3
B113: Total secondary containment volume
B115: Volume | C115: =MAX(D110,C27) -> 43.6 | D115: m3

Sheet List
B3: Possible Combination | F3: Site Hazard Rating | H3: LLL | I3: MLL | J3: HLL
B4: L | C4: L | D4: L | E4: =B4&C4&D4 -> LLL | F4: L | H4: LLM | I4: MLM | J4: HLM
B5: M | C5: M | D5: L | E5: =B5&C5&D5 -> MML | F5: L | H5: LLH | I5: MLH | J5: HLH
B6: M | C6: L | D6: L | E6: =B6&C6&D6 -> MLL | F6: L | H6: LMM | I6: MMM | J6: HMM
B7: H | C7: L | D7: L | E7: =B7&C7&D7 -> HLL | F7: L | H7: LML | I7: MML | J7: HML
B8: M | C8: M | D8: M | E8: =B8&C8&D8 -> MMM | F8: M | H8: LMH | I8: MMH | J8: HMH
B9: H | C9: M | D9: L | E9: =B9&C9&D9 -> HML | F9: M | H9: LHL | I9: MHL | J9: HHL
B10: H | C10: H | D10: L | E10: =B10&C10&D10 -> HHL | F10: M | H10: LHM | I10: MHM | J10: HHM
B11: H | C11: M | D11: M | E11: =B11&C11&D11 -> HMM | F11: H | H11: LHH | I11: MHH | J11: HHH
B12: H | C12: H | D12: M | E12: =B12&C12&D12 -> HHM | F12: H
B13: H | C13: H | D13: H | E13: =B13&C13&D13 -> HHH | F13: H
B16: < 1 in 100 | E16: H
B17: 1 in 100 to 1 in 1 Million | E17: M
B18: > 1 in 1 Million | E18: L
B20: H | C20: H | D20: =B20&C20 -> HH | E20: High
B21: H | C21: M | D21: =B21&C21 -> HM | E21: High
B22: M | C22: H | D22: =B22&C22 -> MH | E22: High
B23: M | C23: M | D23: =B23&C23 -> MM | E23: Moderate
B24: H | C24: L | D24: =B24&C24 -> HL | E24: Moderate
B25: L | C25: H | D25: =B25&C25 -> LH | E25: Moderate
B26: L | C26: L | D26: =B26&C26 -> LL | E26: Low
B27: M | C27: L | D27: =B27&C27 -> ML | E27: Low
B28: L | C28: M | D28: =B28&C28 -> LM | E28: Low
B31: Low | D31: Class 1
B32: Moderate | D32: Class 2
B33: High | D33: Class 3
