Workbook

Sheet READ ME
A1: TREWERN FARM LTD
A3: The Water Resources (Transitional Provisions) Regulations 2017
A5: APPLICATION FOR NEW GROUNDWATER ABSTRACTION
A6: LICENCE FOR A PREVIOUSLY EXEPMT ABSTRACTION AT TREWERN FARM

Sheet Annual Summary 
A1: TREWERN FARM, FELINDRE FARCHOG, PEMBROKESHIRE
A2: GROUNDWATER ABSTRACTION ANNUAL SUMMARY 2011 - 2017
A4: Point A
A5: YEAR | B5: TOTAL ABSTRACTION (m3/yr) | C5: Hourly Max (m3/hr) | D5: Peak Instantaneous (l/s) | E5: Daily Max (m3/d) | F5: Hrs/Day
A6: 2011 | B6: ='Abstraction Volumes 11-17'!AC6 -> 44500.23 | C6: 6.5 | D6: =C6/60/60*1000 -> 1.8055556 | E6: ='Abstraction Volumes 11-17'!D6+'Abstraction Volumes 11-17'!G6+'Abstraction Volumes 11-17'!M6+'Abstraction Volumes 11-17'!T6+'Abstraction Volumes 11-17'!Z6 -> 128.095 | F6: =E6/C6 -> 19.706923
A7: 2012 | B7: ='Abstraction Volumes 11-17'!AC7 -> 45759.48 | C7: 6.5 | D7: =C7/60/60*1000 -> 1.8055556 | E7: ='Abstraction Volumes 11-17'!D7+'Abstraction Volumes 11-17'!G7+'Abstraction Volumes 11-17'!M7+'Abstraction Volumes 11-17'!T7+'Abstraction Volumes 11-17'!Z7 -> 131.545 | F7: =E7/C7 -> 20.237692
A8: 2013 | B8: ='Abstraction Volumes 11-17'!AC8 -> 47858.23 | C8: 6.5 | D8: =C8/60/60*1000 -> 1.8055556 | E8: ='Abstraction Volumes 11-17'!D8+'Abstraction Volumes 11-17'!G8+'Abstraction Volumes 11-17'!M8+'Abstraction Volumes 11-17'!T8+'Abstraction Volumes 11-17'!Z8 -> 137.295 | F8: =E8/C8 -> 21.122308
A9: 2014 | B9: ='Abstraction Volumes 11-17'!AC9 -> 48068.105 | C9: 6.5 | D9: =C9/60/60*1000 -> 1.8055556 | E9: ='Abstraction Volumes 11-17'!D9+'Abstraction Volumes 11-17'!G9+'Abstraction Volumes 11-17'!M9+'Abstraction Volumes 11-17'!T9+'Abstraction Volumes 11-17'!Z9 -> 137.87 | F9: =E9/C9 -> 21.210769
A10: 2015 | B10: ='Abstraction Volumes 11-17'!AC10 -> 48697.73 | C10: 6.5 | D10: =C10/60/60*1000 -> 1.8055556 | E10: ='Abstraction Volumes 11-17'!D10+'Abstraction Volumes 11-17'!G10+'Abstraction Volumes 11-17'!M10+'Abstraction Volumes 11-17'!T10+'Abstraction Volumes 11-17'!Z10 -> 139.595 | F10: =E10/C10 -> 21.476154
A11: 2016 | B11: ='Abstraction Volumes 11-17'!AC11 -> 47858.23 | C11: 6.5 | D11: =C11/60/60*1000 -> 1.8055556 | E11: ='Abstraction Volumes 11-17'!D11+'Abstraction Volumes 11-17'!G11+'Abstraction Volumes 11-17'!M11+'Abstraction Volumes 11-17'!T11+'Abstraction Volumes 11-17'!Z11 -> 137.295 | F11: =E11/C11 -> 21.122308
A12: 2017 | B12: ='Abstraction Volumes 11-17'!AC12 -> 48194.03 | C12: 6.5 | D12: =C12/60/60*1000 -> 1.8055556 | E12: ='Abstraction Volumes 11-17'!D12+'Abstraction Volumes 11-17'!G12+'Abstraction Volumes 11-17'!M12+'Abstraction Volumes 11-17'!T12+'Abstraction Volumes 11-17'!Z12 -> 138.215 | F12: =E12/C12 -> 21.263846
A13: MAX | B13: =MAX(B6:B12) -> 48697.73 | C13: =MAX(C6:C12) -> 6.5 | D13: =MAX(D6:D12) -> 1.8055556 | E13: =MAX(E6:E12) -> 139.595 | F13: =MAX(F6:F12) -> 21.476154

Sheet Abstraction Volumes 11-17
A1: TREWERN FARM, FELINDRE FARCHOG, PEMBROKESHIRE
A2: GROUNDWATER ABSTRACTION ANNUAL SUMMARY 'POINT A' 2011 - 2017
B4: Milk Production (Washdown and Drinking) | J4: Domestic | P4: Agrochemical Spraying | W4: Machinery Washing | AC4: Total Annual Abstraction - all uses (m3/year)
A5: Year | B5: Number of Cows | C5: Typical Water Requirement - Cleaning with power hose (l/day/animal)* | D5: Daily Water Usage for Washdown (m3/day) | E5: Annual Abstraction Volume for Parlour Washdown (m3/yr) | F5: Typical drinking requirement - adults (l/day/animal)* | G5: Daily Water Usage for Drinking (m3/day) | H5: Annual Abstraction Volume for Drinking (m3/yr) | J5: Number of people present all year | K5: Water Usage l/day/pp* | L5: Water Usage m3/d/pp | M5: Water Usage m3/day | N5: Annual Abstraction for Domestic Use (m3/year) | P5: Crop | Q5: Area (Ha) * | R5: Application Rate (l/Ha) | S5: Days to spray | T5: Water Usage (m3/day) | U5: Annual Abstraction for crop spraying (m3/yr) | W5: Number of Vehicles / day | X5: Time to wash (minute) | Y5: Wash equipment flow (l/min)* | Z5: Water Usage (m3/d) | AA5: Annual Abstraction for Plant Wash (m3/yr)
A6: 40544 | B6: 1040 | C6: 45 | D6: =B6*(C6/1000) -> 46.8 | E6: =(D6*365) -> 17082 | F6: 70 | G6: =(F6*B6)/1000 -> 72.8 | H6: =(G6*365) -> 26572 | J6: 12 | K6: 150 | L6: =K6/1000 -> 0.15 | M6: =L6*J6 -> 1.8 | N6: =M6*365 -> 657 | P6: Wheat & Grass | Q6: =(28.3*3)+40 -> 124.9 | R6: 200 | S6: 4 | T6: =U6/S6 -> 6.245 | U6: =(Q6*R6)/1000 -> 24.98 | W6: 3 | X6: 10 | Y6: 15 | Z6: =((X6*Y6)*W6)/1000 -> 0.45 | AA6: =Z6*365 -> 164.25 | AC6: =E6+U6+N6+H6+AA6 -> 44500.23
A7: 40909 | B7: 1070 | C7: 45 | D7: =B7*(C7/1000) -> 48.15 | E7: =(D7*365) -> 17574.75 | F7: 70 | G7: =(F7*B7)/1000 -> 74.9 | H7: =(G7*365) -> 27338.5 | J7: 12 | K7: 150 | L7: =K7/1000 -> 0.15 | M7: =L7*J7 -> 1.8 | N7: =M7*365 -> 657 | P7: Wheat & Grass | Q7: =(28.3*3)+40 -> 124.9 | R7: 200 | S7: 4 | T7: =U7/S7 -> 6.245 | U7: =(Q7*R7)/1000 -> 24.98 | W7: 3 | X7: 10 | Y7: 15 | Z7: =((X7*Y7)*W7)/1000 -> 0.45 | AA7: =Z7*365 -> 164.25 | AC7: =E7+U7+N7+H7+AA7 -> 45759.48
A8: 41275 | B8: 1120 | C8: 45 | D8: =B8*(C8/1000) -> 50.4 | E8: =(D8*365) -> 18396 | F8: 70 | G8: =(F8*B8)/1000 -> 78.4 | H8: =(G8*365) -> 28616 | J8: 12 | K8: 150 | L8: =K8/1000 -> 0.15 | M8: =L8*J8 -> 1.8 | N8: =M8*365 -> 657 | P8: Wheat & Grass | Q8: =(28.3*3)+40 -> 124.9 | R8: 200 | S8: 4 | T8: =U8/S8 -> 6.245 | U8: =(Q8*R8)/1000 -> 24.98 | W8: 3 | X8: 10 | Y8: 15 | Z8: =((X8*Y8)*W8)/1000 -> 0.45 | AA8: =Z8*365 -> 164.25 | AC8: =E8+U8+N8+H8+AA8 -> 47858.23
A9: 41640 | B9: 1125 | C9: 45 | D9: =B9*(C9/1000) -> 50.625 | E9: =(D9*365) -> 18478.125 | F9: 70 | G9: =(F9*B9)/1000 -> 78.75 | H9: =(G9*365) -> 28743.75 | J9: 12 | K9: 150 | L9: =K9/1000 -> 0.15 | M9: =L9*J9 -> 1.8 | N9: =M9*365 -> 657 | P9: Wheat & Grass | Q9: =(28.3*3)+40 -> 124.9 | R9: 200 | S9: 4 | T9: =U9/S9 -> 6.245 | U9: =(Q9*R9)/1000 -> 24.98 | W9: 3 | X9: 10 | Y9: 15 | Z9: =((X9*Y9)*W9)/1000 -> 0.45 | AA9: =Z9*365 -> 164.25 | AC9: =E9+U9+N9+H9+AA9 -> 48068.105
A10: 42005 | B10: 1140 | C10: 45 | D10: =B10*(C10/1000) -> 51.3 | E10: =(D10*365) -> 18724.5 | F10: 70 | G10: =(F10*B10)/1000 -> 79.8 | H10: =(G10*365) -> 29127 | J10: 12 | K10: 150 | L10: =K10/1000 -> 0.15 | M10: =L10*J10 -> 1.8 | N10: =M10*365 -> 657 | P10: Wheat & Grass | Q10: =(28.3*3)+40 -> 124.9 | R10: 200 | S10: 4 | T10: =U10/S10 -> 6.245 | U10: =(Q10*R10)/1000 -> 24.98 | W10: 3 | X10: 10 | Y10: 15 | Z10: =((X10*Y10)*W10)/1000 -> 0.45 | AA10: =Z10*365 -> 164.25 | AC10: =E10+U10+N10+H10+AA10 -> 48697.73
A11: 42370 | B11: 1120 | C11: 45 | D11: =B11*(C11/1000) -> 50.4 | E11: =(D11*365) -> 18396 | F11: 70 | G11: =(F11*B11)/1000 -> 78.4 | H11: =(G11*365) -> 28616 | J11: 12 | K11: 150 | L11: =K11/1000 -> 0.15 | M11: =L11*J11 -> 1.8 | N11: =M11*365 -> 657 | P11: Wheat & Grass | Q11: =(28.3*3)+40 -> 124.9 | R11: 200 | S11: 4 | T11: =U11/S11 -> 6.245 | U11: =(Q11*R11)/1000 -> 24.98 | W11: 3 | X11: 10 | Y11: 15 | Z11: =((X11*Y11)*W11)/1000 -> 0.45 | AA11: =Z11*365 -> 164.25 | AC11: =E11+U11+N11+H11+AA11 -> 47858.23
A12: 42736 | B12: 1128 | C12: 45 | D12: =B12*(C12/1000) -> 50.76 | E12: =(D12*365) -> 18527.4 | F12: 70 | G12: =(F12*B12)/1000 -> 78.96 | H12: =(G12*365) -> 28820.4 | J12: 12 | K12: 150 | L12: =K12/1000 -> 0.15 | M12: =L12*J12 -> 1.8 | N12: =M12*365 -> 657 | P12: Wheat & Grass | Q12: =(28.3*3)+40 -> 124.9 | R12: 200 | S12: 4 | T12: =U12/S12 -> 6.245 | U12: =(Q12*R12)/1000 -> 24.98 | W12: 3 | X12: 10 | Y12: 15 | Z12: =((X12*Y12)*W12)/1000 -> 0.45 | AA12: =Z12*365 -> 164.25 | AC12: =E12+U12+N12+H12+AA12 -> 48194.03
B13: =SUM(B6:B12) -> 7743 | C13: *Standard usage figures from ‘R&D Best Practice Manual W6-056/TR for industry and agriculture’ | K13: *from British Water - Codes of Practice: Flows and Loads | Q13: *28.3 Ha Wheat sprayed 3x per year | X13: *pressure washer spec
D14: Dairy Cows cleaning power hose | F14: 27-45l/d/head | Q14: *40Ha grass sprayed 1x per year
D15: Dairy Cows drinking | F15: 45-70l/d/head
