Workbook

Sheet Operator Initiated Applications
A1: Regulator | B1: Programme Driver | C1: Site Name | D1: FE Permit Number | E1: Storm Permit Number | F1: PAN # | G1: Allocated Officer | H1: Is further information required Y/N. | I1: Is the request related to the specific driver/applicaion Y/N | J1: What is the Request (limit to 100 words) | K1: Type of Request | L1: Date further info requested | M1: Deadline for further information | N1: Does information meet NRW requirements Y/N | O1: Request Status | P1: Is the application "duly Made" Y/N | Q1: If duly made is the request part of a formal Schedule 5? | R1: Any further permit conditions to be reviewed by NRW Y/N | S1: If Yes what condition's were reviewed | T1: Is further information required for these | U1: Comments
A2: NRW | B2: AGA Support | C2: Treborth WwTW UV (AD-MAD) | D2: CG0366001 | E2: N/A | O2: Open
A3: NRW | B3: UCSO | C3: Mill Street Usk SPS (CSO/EO) | D3: New permit | E3: N/A
A4: NRW | B4: AGA Support | C4: Ffarmers STW | D4: BN0077501 | E4: N/A
A5: NRW | B5: water | C5: Pendine WTW | D5: BP0231603 and BP0118601 | E5: N/A | F5: PAN-021481 | G5: Helen | H5: Y | I5: Y | J5: Please provide what type of outfall there is at the discharge location, and outline what type of scour mitigation is at the discharge point | L5: 45354 | M5: 45368 | O5: Open | P5: N
A6: NRW | B6: OSM | C6: Penybont WTW | D6: CG0174901 | E6: N/A
A7: NRW | B7: water | C7: Canaston Bridge WPS | D7: N/A | E7: N/A
A8: NRW | B8: BGA Support | C8: Eastern District Pumped CSO | D8: AN0308501 & AN0308601 | E8: N/A
A9: NRW | B9: water | C9: Alwen WTW RTW | D9: CM0128001 | E9: N/A | F9: PAN-020530 | G9: Dauncey | H9: Y | I9: Y | J9: Please provide what type of outfall there is at the discharge location, and outline what type of scour mitigation is at the discharge point | L9: 45354 | M9: 45368 | O9: Open | P9: N
A10: NRW | B10: water | C10: Bretton WTW RTW | D10: CM0230001 | E10: N/A | F10: PAN-020531 | G10: Dauncey | H10: Y | I10: Y | M10: 45736
A11: NRW | B11: water | C11: Llidiardau Bala WTW RTW | D11: CG0354201 | E11: N/A | F11: PAN-020560 | G11: Helen | H11: Y | I11: Y | J11: Please provide what type of outfall there is at the discharge location, and outline what type of scour mitigation is at the discharge point | L11: 45354 | M11: 45368 | O11: Open | P11: N
A12: NRW | B12: water | C12: Llechryd WTW RTW | D12: BP0251001 | E12: N/A | F12: PAN-020592 | G12: Dulson | H12: Y | I12: Y | M12: 45736
A13: NRW | B13: water | C13: Brecon BH WTW RTW | D13: New Permit | E13: N/A | F13: PAN-020605 | G13: Dulson | H13: N
A14: NRW | B14: water | C14: Cantref WTW RTW | D14: New Permit | E14: N/A | F14: PAN-020675 | G14: Dulson | H14: Y | I14: Y | M14: 45736
A15: NRW | B15: water | C15: Llwynon WTW RTW | D15: AN0247201 | E15: N/A | F15: PAN-020689 | G15: Dulson | H15: Y | I15: Y | M15: 45736
A16: NRW | B16: water | C16: Garndolbenmaen WTW RTW | D16: CG0173801 | E16: N/A | F16: PAN-020690 | G16: Helen | H16: Y | I16: Y | J16: Please provide what type of outfall there is at the discharge location, and outline what type of scour mitigation is at the discharge point | L16: 45354 | M16: 45368 | O16: Open | P16: N
A17: NRW | B17: water | C17: Strata Florida WTW RTW | D17: BP0118401 | E17: N/A | F17: PAN-020864 | G17: Dulson | H17: Y | I17: Y | M17: 45736
A18: NRW | B18: water | C18: Bontgoch WTW RTW | D18: CG0046001 | E18: N/A | F18: PAN-020865 | G18: Dulson | H18: Y | I18: Y | M18: 45736
A19: NRW | B19: water | C19: Maerdy WTW RTW | D19: AF3002901 | E19: N/A | F19: PAN-020873 | G19: Dulson | H19: Y | I19: Y | M19: 45736
A20: NRW | B20: water | C20: Hirwaun WTW RTW | D20: New Permit | E20: N/A | F20: PAN-020874 | G20: Dulson | H20: Y | I20: Y | M20: 45736
A21: NRW | B21: energy | C21: Five Fords WwTW (IED Permit) | D21: AP3191FT | E21: N/A
A22: NRW | B22: water | C22: Eithinfynydd WTW RTW | D22: CG0133101 | E22: N/A | F22: PAN-020957 | G22: Helen | H22: Y | I22: Y | J22: Please provide what type of outfall there is at the discharge location, and outline what type of scour mitigation is at the discharge point | L22: 45354 | M22: 45368 | O22: Open | P22: N
A23: NRW | B23: water | C23: Ffynnon Gaer WTW RTW | D23: New Permit | E23: N/A | F23: PAN-021009 | G23: Dauncey | H23: Y | I23: Y | M23: 45736
A24: NRW | B24: water | C24: Felindre WTW RTW | D24: BC0011902 | E24: N/A | F24: PAN-021018 | G24: Dauncey | H24: Y | I24: Y | M24: 45736
A25: NRW | B25: water | C25: Elan Valley WTW RTW | D25: AN0184701 | E25: N/A | F25: PAN-021052 | G25: Dulson | H25: Y | I25: Y | M25: 45736
A26: NRW | B26: water | C26: Llyswen WTW RTW | D26: AW4003501 | E26: N/A | F26: PAN-021073 | G26: Dulson | H26: Y | I26: Y | M26: 45736
A27: NRW | B27: water | C27: Cwellyn WTW RTW | D27: New Permit | E27: N/A | F27: PAN-021197 | G27: Dauncey | H27: Y | I27: Y | J27: Please provide what type of outfall there is at the discharge location, and outline what type of scour mitigation is at the discharge point | L27: 45354 | M27: 45368 | O27: Open | P27: N
A28: NRW | B28: water | C28: Penybont WTW RTW | D28: CG0174901 | E28: N/A | F28: PAN-021198 | G28: Helen | H28: Y | I28: Y | J28: Please provide what type of outfall there is at the discharge location, and outline what type of scour mitigation is at the discharge point | L28: 45354 | M28: 45368 | O28: Open | P28: N
A29: NRW | B29: water | C29: Cilfor WTW RTW | D29: CG0353601 | E29: N/A | F29: PAN-021250 | G29: Helen | H29: Y | I29: Y | J29: Please provide what type of outfall there is at the discharge location, and outline what type of scour mitigation is at the discharge point | L29: 45354 | M29: 45368 | O29: Open | P29: N
A30: NRW | B30: water | C30: Gwastadgoed WTW RTW | D30: CG0397801 | E30: N/A | F30: PAN-021230 | G30: Helen | H30: Y | I30: Y | J30: Please provide what type of outfall there is at the discharge location, and outline what type of scour mitigation is at the discharge point | L30: 45354 | M30: 45368 | O30: Open | P30: N
A31: NRW | B31: water | C31: Penycefn WTW RTW | D31: CG0054602 | E31: N/A | F31: PAN-021234 | G31: Helen | H31: Y | I31: Y | J31: Please provide what type of outfall there is at the discharge location, and outline what type of scour mitigation is at the discharge point | L31: 45354 | M31: 45368 | O31: Open | P31: N
A32: NRW | B32: water | C32: Cwmtillery WTW RTW | D32: AC0091501 | E32: N/A | F32: PAN-021233 | G32: Dulson | H32: Y | I32: Y | M32: 45736
A33: NRW | B33: water | C33: Court Farm WTW RTW | D33: AA0031401 | E33: N/A | F33: PAN-021232 | G33: Dauncey | H33: Y | I33: Y | M33: 45736
A34: NRW | B34: water | C34: Talybont WTW RTW | D34: AN0171901 | E34: N/A | F34: PAN-021231 | G34: Dulson | H34: Y | I34: Y | M34: 45736
A35: NRW | B35: water | C35: Bryngwyn WTW RTW | D35: BC0014501 | E35: N/A | F35: PAN-021237 | G35: Helen | H35: Y | I35: Y | J35: Please provide what type of outfall there is at the discharge location, and outline what type of scour mitigation is at the discharge point | L35: 45354 | M35: 45368 | O35: Open | P35: N
A36: NRW | B36: water | C36: Crai WTW RTW | D36: BP0230801 | E36: N/A | F36: PAN-021243 | G36: Dulson | H36: Y | I36: Y | M36: 45736
A37: NRW | B37: water | C37: Cefn Dryscoed WTW RTW | D37: New Application | E37: N/A | F37: PAN-021246 | G37: Dulson | H37: Y | I37: Y | M37: 45736
A38: NRW | B38: water | C38: Capel Curig WTW RTW | D38: CG0176201 & CG0318801 | E38: N/A | F38: PAN-021253 | G38: Dauncey | H38: Y | I38: Y | J38: Please provide what type of outfall there is at the discharge location, and outline what type of scour mitigation is at the discharge point | L38: 45354 | M38: 45368 | O38: Open | P38: N
A39: NRW | B39: water | C39: Cwm Dulyn WTW RTW | D39: CG0174101 | E39: N/A | F39: PAN-021256 | G39: Dauncey | H39: Y | I39: Y | J39: Please provide what type of outfall there is at the discharge location, and outline what type of scour mitigation is at the discharge point | L39: 45354 | M39: 45368 | O39: Open | P39: N
A40: NRW | B40: water | C40: Rhiwgoch WTW RTW | D40: New Application | E40: N/A | F40: PAN-021308 | G40: Helen | H40: Y | I40: Y | J40: Please provide what type of outfall there is at the discharge location, and outline what type of scour mitigation is at the discharge point | L40: 45354 | M40: 45368 | O40: Open | P40: N
...

Sheet Regulator Initiated Permit Chan
A1: Regulator | B1: Programme | C1: Site Name | D1: FE Permit Number | E1: Storm Permit Number | F1: PAN # | G1: Allocated to | H1: Is further information required Y/N. | I1: Is the request related to the specific driver Y/N | J1: Is this Request for information part of a formal Reg61? Y/N | K1: What is the Request (limit to 100 words) | L1: Type of Request | M1: Date further info requested | N1: Deadline for further information | O1: Does information meet NRW requirements Y/N | P1: Request Status | Q1: Any further permit conditions to be reviewed by NRW Y/N | R1: If Yes what conditions were reviewed | S1: Is further information required for these | T1: DCWW Comment | U1: Date of DCWW Comment | V1: NRW Response to RFI comment
A2: NRW | B2: RoP only | C2: Carrog WwTW | D2: CM0000501 | E2: N/A | F2: PAN-022509 | G2: Gareth | H2: N | I2: Y | J2: Y | K2: email to Elliot and Gemma. Request for correct post code for the site. Also correct NGR for Discharge Point and clarification on Monitoring Point. | L2: Type 1 NGR's and post code | M2: 45141 | N2: 45003 | P2: Closed | T2: Our systems have the postcode as was supplied LL21 9AU. For the NRG's the ones supplied alongside the site plan hasn't changed from the original permit. The FE discharge point is within 10 metres so will this be necessary? The Monitoring point is for Mcerts Flow & FE sampling point based on the NGRs.
A3: NRW | B3: MON3/4 | C3: Carway WwTW | D3: BC0017801 | E3: BP0361501 | F3: PAN-009483 | G3: Dulson | H3: N | I3: Y | J3: N | K3: Can you confirm the FE and storm discharge out of the same pipe which is located 426m north of the WwTW as the provided NGR states - our GIS layer suggests the outfall is much closer to the works | L3: Type 1 | M3: 45121 | N3: 45135 | P3: Closed | T3: The Discharge pipe appears to be at SN45962 06988
A4: NRW | B4: UMON 3/4 & RoP | C4: Sennybridge WwTW | D4: AC0140301 | E4: AN0246901 | F4: PAN-021505 | G4: Dulson | H4: N | I4: Y | J4: N | K4: Confirm discharge point for FE - NGR provided is other side of the river. Our GIS layer suggests SN 92507 29483 | L4: Type 1 | M4: 45121 | N4: 45135 | P4: Closed | T4: Discharge point on our GIS is SN29510 29459 | AK4: Type 1
A5: NRW | B5: UMON 3/4 & RoP | C5: Spittal WwTW | D5: BG0016901 | E5: CG0433901 | F5: PAN-009513 | G5: Helen | H5: N | I5: Y | J5: Y | K5: The NGR for the submitted MCERTS flow monitor (SM 97351 22626) seems to be about 90 metres to the west of the site. Would SM 97431 22626 be acceptable? | L5: Type 1 | M5: 45127 | N5: 45141 | O5: Y | P5: Closed | T5: Our records show the NRW submitted for the continous Mcerts monitor to be SM 97445 22637. Update 5/9/23 yes one monitor covers both functions. | V5: This is from the submission (says row 176 but rows have changed since I wrote my response): Is there actually just one MCERTS monitor which covers both functions? | AK5: Type 2
A6: NRW | B6: MON3/4 | C6: Dale WwTW | D6: BP0064001 | E6: BP0345801 | F6: PAN-021413 | G6: Dulson | H6: Y | K6: Please could you provide the NGRs requested on the 'Dale' tab - the submission is very poor and gives the flow monitoring and EDM locations at the discharge point out at sea. Could you also include the pre and post membrane filtration NGRs, | L6: Type 1 | M6: 45693 | N6: 45707 | P6: Closed | T6: NGR's provided on the Dale tab | U6: 28/3/25 | AK6: Type 3
A7: NRW | B7: UMON 3/4 & RoP | C7: Mold WwTW | D7: CM0031001 | E7: PAN-018681 | G7: Dulson | H7: N | I7: N | J7: N | K7: Direct email response (CIP removal request from DCWW) | L7: Type 4 | M7: 45118 | N7: 45147 | P7: Closed | T7: We believe this is now complete? | AK7: Type 4
A8: NRW | B8: UMON 3/4 | C8: Letterston West WwTW | D8: BH0071101 | E8: BH0071102 | F8: PAN-021352 | G8: Helen | H8: N | I8: Y | J8: Y | K8: Please could you check and confirm the discharge point for the storm overflow? When the permit was varied in 2013 the NGR provided was the same as the NGR for the final effluent. It was then changed in the 2020 version but I don't know why. Are there two pipes? If only one then how does storm discharge in a different place to FE? | L8: Type 1 | M8: 27/07/2023 | N8: 45148 | O8: Y | P8: Closed | T8: Our GIS shows it as per the FE discharge point
A9: NRW | B9: UMON 3/4 & RoP | C9: Cefn Mawr WwTW | D9: CM0101301 | E9: CG0405901 | F9: PAN-021274 | G9: Dauncey | H9: N | I9: Y | J9: Y | K9: UWWTR Sample Point NGR given is SJ 27450 41700, same as the Point of Discharge. This is slightly unusual. Similarly, the UWWTR Inlet Sample Point NGR is the same as the Final Effluent Sample Point (SJ 27714 41645). Can DCWW please check both UWWTR Sample Points and advise if they would like us to proceed with the NGRs provided or provide revised NGRs if incorrect? | L9: Type 1 | M9: 45138 | N9: 45149 | P9: Closed | T9: Inlet sample point is SJ27799 41646 FE UWWTD sample point is 27698 41657
A10: NRW | B10: UMON 3/4 & RoP | C10: Boncath WwTW | D10: BG0001201 | E10: BG0001202 | F10: PAN-020321 | G10: Gareth | H10: N | I10: Y | J10: Y | K10: email sent to DCWW. Please confirm the NGR for Final Effluent Discharge Point | L10: Type 1 | M10: 45141 | N10: 45156 | P10: Closed | Q10: No | T10: Email sent by Elliot 3rd August 2023
A11: NRW | B11: UMON 3/4 & RoP | C11: Pandy WwTW | D11: AH1002901 | E11: AN0391101 | F11: PAN-021342 | G11: Gareth | H11: N | I11: Y | J11: Y | K11: email to DCWW with map. The site planprovided Permits_drawings_1_AH1002901 does not show location of Final Effluent Discharge Point & Settled Storm Discharge Point, or Final Effluent Sample Point. Please provide a plan with points labelled and NGR's provided. | L11: Type 1 | M11: 45141 | N11: 45156 | P11: Closed | Q11: No | T11: Email sent by Mat 4th August 2023
A12: NRW | B12: UMON 3/4 & RoP | C12: Llanwrtyd Wells WwTW | D12: AW1003901 | E12: AW1003902 | F12: PAN-021521 | G12: Gareth | H12: N | I12: Y | J12: Y | K12: email sent to DCWW. Requested confirmation of the NGR locations for the Final Effluent Sample Point, Storm Sample Point and Storm to environment EDM Monitoring Point and check locations are correct on plan. | L12: Type 1 | M12: 45141 | N12: 45156 | P12: Closed | T12: Email sent by Mat 4th August 2023. 18/08/23 Yes of course I will draft a little document with all the correct details. I am on leave next week so is it ok if I get the 29th when I get back? Thanks Mat Update 5/9/23 Email sent 30/8/23, can this now be closed? Unable to find email dated 8/9/23, can you please resend (request 13/9/23) | V12: Follow up email sent to Mat 09/08/23 asking for conformation on response as not consistent with permit AW1003902.
A13: NRW | B13: UMON 3/4 & RoP | C13: Cwm Ifor WwTW | D13: BN0103601 | E13: BP0239802 | F13: PAN-021452 | G13: Tom | H13: N | I13: Y | J13: Y | K13: Submission states 'not stated' for screen size. This could be taken as there is potentially a screen but its not stated on the spreadsheet. For clarity, can you confirm if there is screening? Please provide screen size if there is a screen. | L13: Type 1 | M13: 45160 | N13: 45173 | P13: Closed | T13: Awaiting response from ops, will update in liaison meeting . Confirmation just received from ops, there is no screen. 21/9/23
A14: NRW | B14: UMON 3/4 & RoP | C14: Beddgelert WwTW | D14: CG0024001 | E14: CG0406401 | F14: PAN-021285 | G14: Dauncey | H14: N | I14: N | J14: Y | K14: Can DCWW please provide a map with all the required discharge and sample points fully labelled with the agreed labels. The map provided in both ROP and UMON submissions does not reference the dicharge points. | L14: Type 1 | M14: 45168 | N14: 45182 | P14: Closed | T14: Map was sent as part of UMON application. | V14: The site plans provided do not have any of the discharge points. Please provide a map with all the required discharge and sample points with the agreed labels. Updated 26/09/2023: Site Plans Recieved
A15: NRW | B15: UMON 3/4 & RoP | C15: Little Mill WwTW | D15: AD0002501 | E15: AD0003001 | F15: PAN-021565 | G15: Josh | H15: N | I15: N | J15: N | K15: Direct email to Mat - Storm permit is surrendered so cannot be consolidated. | M15: 45154 | N15: 45183 | P15: Closed
A16: NRW | B16: MON3/4 | C16: Dinas WwTW | D16: BP0234401 | E16: BP0063202 | F16: PAN-021414 | G16: Helen | H16: Y | I16: Y | J16: N | K16: All of the storm overflow data has been submitted as "TBC". Please provide this. Update 17/02/2025 - I've found the weir setting, which was submitted separately. We are still missing the screening and storage information. | L16: Type 2 | M16: 44970 | N16: 44998 | O16: Y | P16: Closed | T16: all flows pass through a 6mm mesh inlet screen and there is also a coarse bar screen as an overflow in case of failure. The storm tank capacity is 21.06m3. | U16: 13/3/25
A17: NRW | B17: RoP | C17: Brechfa | D17: BN0000302 | E17: BN0000301 | F17: PAN-022606 | G17: Dulson | H17: N | I17: Y | J17: Y | K17: The RoP Reg.61 has requested a consolidation with an emergency permit (BN0000301), however after checking with our tech lead he has confirmed these permits are not suitable for consolidation. I will progress with the FE variation. | L17: Type 1 | M17: 45176 | N17: 45190 | O17: Y | P17: Closed | Q17: N | R17: N | S17: N | T17: On review, we agree with your suggestion not to consolidate.
A18: NRW | B18: MON3/4 | C18: Blaenffos WwTW | D18: BN0010301 | E18: NPSWQD005734 | F18: PAN-020314 | G18: Dulson | H18: N | I18: Y | J18: N | K18: Could you confirm the FE and storm overflow discharge out the same discharge pipe. The UMON submission gives two different NGRs, however the previous permits site plans both point to the same outfall location. | L18: Type 1 | M18: 45187 | N18: 45201 | P18: Closed | T18: FE and storm both discharge to same location.
A19: NRW | B19: RoP | C19: PUNCHESTON | D19: BG0017601 | F19: PAN-023184 | G19: Dulson | H19: N | I19: N | J19: N | K19: Could you confirm the discharge points for the final effluent and storm are at the same outfall, although the submission gives different NGRs, the previous permits both point to NGR SN00982 29824. Are you happy for me to use this NGR if they both discharge to the same location? | L19: Type 1 | M19: 45188 | N19: 45202 | P19: Closed | Q19: N | R19: N/A | S19: N/A | T19: yes , happy, they both discharge to same location
A20: NRW | B20: UMON 3/4 & RoP | C20: Ffairfach WwTW | D20: BH0065401 | E20: BN0194103 | F20: PAN-021422 | G20: Helen | H20: N | I20: Y | J20: Y | K20: I think there was a mistake in the Dec 2005 permit. The NGR for UWWTR inlet sampling in the written condition U4, is the same as for FE sampling. On the site plan on that permit the inlet sampling NGR is SN 61800 21110. Please could you confirm that SN 61800 21110 is correct? | L20: Type 1 | M20: 45198 | N20: 45212 | O20: Y | P20: Closed | T20: Yes I can confirm that NGR SN 61800 21110 is correct for both the Inlet Sampling and UWWD Crude Sampling.
A21: NRW | B21: MON3/4 | C21: Goytre WwTW | D21: AC0116401 | E21: AN0379201 | F21: PAN-021448 | G21: Gareth | H21: N | I21: Y | J21: Y | K21: Email sent: query with regards to NGR provided for Final Effluent Sample point, SO 33054 05976. This is not on the WwTW's and not in the same location as FE sample point shown on the old permit (2005). K119 | L21: Type 1 | M21: 45203 | N21: 45217 | P21: Closed | T21: GA responded via email 10/10/2023.
A22: NRW | B22: UMON 3/4 & RoP | C22: Crossgates WwTW | D22: AW1001101 | E22: AN0226801 | F22: PAN-021442 | G22: Josh | H22: N | I22: Y | J22: Y | K22: NGRs vary between UMON and RoP submissions. Please can the following NGRs be confirmed: Final Effluent Discharge Point (SO 08660 64240 or SO 08854 64657); Settled Storm Discharge Point (SO 08659 64232 or SO 08659 64232); and Settled Storm to Environment EDM Monitoring Point (SO 08877 64688 or SO 08870 64690). An adjusted site plan may be required to include these discharges. | L22: Type 1 | M22: 45222 | N22: 45236 | P22: Closed | T22: Final Effluent Discharge Point is SO 08660 64240. Settled Storm Discharge Point is the same for both you presented but is the correct NGR. Settled Storm to Environment EDM Monitoring Point is SO 08877 64688. | U22: Storm Sample Point: can this be amended to SN 62085 09889 (Point A).
A23: NRW | B23: RoP | C23: Drefach/Velindre | D23: BH0060601 | F23: PAN-022598 | G23: Kristina | H23: N | I23: Y | J23: Y | K23: Can you confirm that this permit is definately not to be consolidated with UMON 3/4. Also the submitted site plan labels do not match what we typically use. if this could be updated that would be great if not i would be happy to do this on your behalf and checked at OR. | L23: Type 1 | M23: 28/07/2023 | N23: 45238 | O23: Y | P23: Closed | Q23: N | R23: N | S23: N | T23: The UMon3/4 hasn't be submitted yet due to the UCSO programme so it wouldn't be consoldated here. With the site plan, the NGR's haven't changed so no site plan was submitted as it would just mirror the original permit.
A24: NRW | B24: RoP | C24: BETWS GWERFIL GOCH | D24: CM0026601 | F24: PAN-022604 | G24: Helen | H24: N | I24: Y | J24: N | K24: Submitted Point of Discharge NGR does not match current permit NGR or site plan. Current permit NGR is SJ 0304 4631 and discharge is directly to River Alwen as opposed to an unnamed ditch. Submitted Sample Point NGR does not match current permit. Current permit NGR is SJ 0311 4638. Based on aerial photography and photographs from a site inspection, it looks like the sample point is at NGR SJ 03111 46380. Please could you check and confirm these, and provide a new site plan if needed. If Point of Discharge has changed since last permit, please provide details of when NRW were informed of this change. | L24: Type 1 | M24: 45254 | N24: 45268 | O24: Y | P24: Closed | T24: GA comments 30.11.23: On review of GIS I believe the NGR for the FE discharge point is SJ 03037 46307 which discharges directly into the River Alwen which coincides with the original permit. The FE sample point is SJ 03111 46380 as you've confirmed. Revised site plan sent via email as requested 30.11.23.
A25: NRW | B25: MON3/4 | C25: Carew WwTW | D25: BP0044201 | E25: BP0215001 | F25: PAN-021272 | G25: Dulson | H25: N | I25: Y | J25: Y | K25: Could you confirm the final effluent discharge point is correct please (going via a pumping station). Whilst it does match the previous consent, the GIS layer suggests it could be much closer to the works. The submitted receiving waters is the Carew River which would be incorrect if it discharges at the submitted NGR. I have added two maps on a seperate tab. Possible NGR: SN 05188 03575 | L25: Type 1 | M25: 45258 | N25: 45272 | P25: Closed | T25: GA comments 30.11.23: On review of GIS I believe your NGR is accurate based on our mapping system. Please use NGR SN 05188 03575 for the FE discharge point.
A26: NRW | B26: RoP | C26: COEDWAUNGAER | D26: AB0043501 | F26: PAN-022921 | G26: Gareth | H26: Y | I26: Y | J26: Y | K26: Request for new site plan and populate the previous RoP Reg 61 spreadsheet. email sent to Gemma and Elliot 14/11/2023. | L26: Type 2 | M26: 45244 | N26: 45273 | P26: Closed | T26: This was responded to in November, if anything further is required can you please advise, or can this be closed please. | U26: 45505
A27: NRW | B27: RoP | C27: CRADOC PHASE 1 | D27: AN0035901 | F27: PAN-022922 | G27: Gareth | H27: Y | I27: Y | J27: Y | K27: Request for new site plan and populate the previous RoP Reg 61 spreadsheet. email sent to Gemma and Elliot 14/11/2023. | L27: Type 2 | M27: 45244 | N27: 45273 | P27: Closed | T27: This was responded to in November, if anything further is required can you please advise, or can this be closed please. | U27: 45505
A28: NRW | B28: MON3/4 | C28: Newport Cwm SPS | D28: Not Required | E28: BP0296401 | F28: PAN-022942 | G28: Dulson | H28: N | K28: Could you provide EDM to storm tank NGR, as this was absent on the submission, unless you can confirm the storage is online (therefore not required). | L28: Type 1 | M28: 45261 | N28: 45275 | P28: Closed | T28: We can confirm that there is no storm tank, having checked the installs | U28: 45242
A29: NRW | B29: RoP | C29: TALLEY | D29: BN0085301 | F29: PAN-023190 | G29: Gareth | H29: Y | I29: N | J29: N | K29: Please confirm if the Site Plan provided in the Reg. 61 Response Batch 6 (07/09/2023), ref. BN0085301 Site Plan (PNG) is correct for this works. Please check the NGR provided for the FE sample point and if found to be incorrect, provide a revised NGR. Please check PMSKPM submitted on 25/09/2023 and re-submit if anything is added/corrected. Email sent with this request on 08/01/2024. | L29: Type 3 | M29: 45505 | N29: 45324 | P29: Closed | T29: OR responded to this morning including the RFI query for the PSKPM. | U29: GA 25.1.24
A30: NRW | B30: MON3/4 | C30: Carmel WwTW | D30: BE0042501 | E30: BP0361601 | F30: PAN-021273 | G30: Dulson | H30: N | I30: N | J30: N | K30: Could you provide the correct MCERTS Flow Monitoring Point NGR - the submitted is for a different site. | L30: Type 1 | M30: 45321 | N30: 45335 | P30: Closed | T30: Correct NGR is SN 60083 17461 | U30: 45537
A31: NRW | B31: MON3/4 | C31: Gaerwen WwTW | D31: CG0114101 | E31: CG0114102 | F31: PAN-021425 | G31: Dulson | H31: N | I31: N | J31: N | K31: Could you confirm the settled storm sample point - submitted is SH 46713 72565, however its in the field and there doesn’t appear to be a sampling chamber | L31: Type 1 | M31: 45322 | N31: 45336 | P31: Closed | T31: Settled storm sample point is SH 46712 72632 | U31: 45537
A32: NRW | B32: MON3/4 | C32: Garndolbenmaen WwTW | D32: CG0080001 | E32: AB3495FT | F32: PAN-021439 | G32: Dulson | H32: N | I32: N | J32: N | K32: Could you confirm the final effluent and storm discharge from separate pipes - the NGRs submitted say they do, but the GIS layer suggest it might be via one discharge pipe. | L32: Type 1 | M32: 45322 | N32: 45336 | P32: Closed | T32: We confirm that it is one pipe. Please use FE discharge point NGR. | U32: 45537
A33: NRW | B33: MON3/4 | C33: Gellilydan WwTW | D33: CG0060501 | E33: CG0369901 | F33: PAN-021445 | G33: Dulson | H33: N | I33: N | J33: N | K33: The submitted NGR for the settled storm discharge is the wrong side of the river - GIS suggests it should be SH 68715 40055. Could you confirm this is correct please. | L33: Type 1 | M33: 45323 | N33: 45337 | P33: Closed | T33: Yes we agree that this is correct. | U33: 45537
A34: NRW | B34: RoP | C34: Cwrtnewydd WwTW | D34: BN0005601 | F34: PAN-024629 | G34: Dulson | H34: Y | I34: N | J34: N | K34: Please could you confirm the NGR for the final effluent discharge point (see other tab) the NGR provided is not at the river, and differs from the previous consent. | L34: Type 1 | M34: 45327 | N34: 45341 | P34: Closed | T34: Please use NGR SN 49474 47095 as this is the discharge point for the site. | U34: 18/03/2024
A35: NRW | B35: RoP | C35: NEWCHAPEL | D35: BP0219501 | F35: PAN-023191 | G35: Gareth | H35: Y | I35: Y | J35: N | K35: I would be grateful if you could confirm the NGR for the Storm Discharge Point. The Reg 61 response gives it as SN 22468 39078 (which is the same as the Final Effluent Discharge Point), but the existing permit has it as SN 22561 39177. | L35: Type 1 | M35: 45335 | N35: 45349 | P35: Closed | T35: Please use NGR SN 22561 39177 as per the original permit. | U35: 45349
A36: NRW | B36: MON3/4 | C36: Ystradgynlais WwTW | D36: BF0169101 | E36: BW0600901 | F36: PAN-021465 | G36: Dulson | H36: N | K36: Please could you confirm the final effluent and storm effluent discharge out of separate pipes. The NGRs provided are next to each other, but the GIS layer suggets there is only one pipe leading to a single outfall. | L36: Type 1 | M36: 45337 | N36: 45351 | P36: Closed | T36: Agreed they both discharge from one pipe. SN77423 08569 | U36: 19/2/24
A37: NRW | B37: RoP | C37: Dingestow Monmouth | D37: AS1000701 | E37: N/A | F37: PAN-022926 | G37: Dulson | H37: N | K37: Replied via email. Do you know if this site can accept the new 20 mg/l LUT Ammonia limit – or is this on the list for AMP 8 investment? | L37: Type 1 | M37: 45338 | N37: 45352 | P37: Closed | T37: Yes this site can meet the 20mg/l Ammonia. | U37: 45349
A38: NRW | B38: MON3/4 | C38: Creigiau WwTW | D38: AN0032201 | E38: AF4024801 | F38: PAN-021436 | G38: Dulson | H38: N | I38: N | J38: N | K38: Please could you confirm the NGRs for the final effluent and settled storm effluent - submitted are different (see other tab) however it looks on the GIS layer that they both discharge via the same outfall. | L38: Type 1 | M38: 45342 | N38: 45356 | P38: Closed | T38: Confirmed, there is only one outfall. Please use submitted FE discharge point. | U38: 28/2/24
A39: NRW | B39: MON3/4 | C39: Whitland WwTW | D39: BL0138501 | E39: BL0138502 | F39: PAN-021464 | G39: Dulson | H39: N | K39: Could you confirm the weir/overflow value please. The previous permit is 15.5, however the submitted value is 29.5 | L39: Type 2 | M39: 45329 | N39: 45357 | P39: Closed | T39: 15.5 is correct. | U39: 45537
A40: NRW | B40: RoP | C40: LLANDDEW BRECON | D40: AC0140701 | F40: PAN-022511 | G40: Josh | H40: N | I40: Y | J40: Y | K40: The Final Effluent Sample Point NGR submitted for the Reg.61 (Batch 3 19/06/2023) was SO 05124 30824. This appears to be outside the WwTW site (but not at the FE outfall). I'd be grateful if you could confirm the NGR for the Final Ellfuent Sample Point. | L40: Type 2 | M40: 45329 | N40: 45357 | P40: Closed | T40: Revised site plan sent by email. Please update the NGR for the FE Sample Point to: SO 05148 30821. | U40: 16.02.2024
...

Sheet Llanarmon
A1: Existing Site Plan | O1: Submitted site plan | AB1: Submitted and current NGRs
AC2: Submitted | AD2: Current permit
AB3: Final Effluent Discharge Point | AC3: SJ1902255938 | AD3: SJ 19019 55938
AB4: [Settled] Storm Discharge Point | AC4: SJ1902255938 | AD4: SJ 19019 55938
AB5: EO Discharge Point | AC5: SJ1899955912 | AD5: SJ 19019 55938
AB6: UWWTR Inlet Sample Point | AC6: SJ1899955912 | AD6: N/A
AB7: UWWTR Sample Point | AC7: Not Required | AD7: N/A
AB8: Final Effluent Sample Point | AC8: Not Required | AD8: SJ 19009 55936
AB9: MCERTS Flow Monitoring Point | AC9: Not Required | AD9: SJ 19010 55941
AB10: [Settled] Storm Sample Point | AC10: SJ1900755930 | AD10: SJ 19009 55936
AB11: [Settled] Storm to Environment EDM Monitoring Point | AC11: SJ1898055905 | AD11: SJ 19007 55938
AB12: (UMON 4) MCERTS FPF Monitoring Point | AC12: SJ1898455915
AB13: (UMON3) EDM to Storm Tank Monitoring Point | AC13: SJ1898355913
AB14: UV Monitoring Point (Pre-treatment) | AC14: SJ1902055938

Sheet Bodelwyddan
A1: From application for in 2003 when large-scale refurbishment was carried out and the WwTW in Bodelwyddan was decommisioned, with flows both gravitating and being pumped on to Rhyddlan WwTW

Sheet Ferryside
Q15: d

Sheet Tal-y-Bont
B2: Submitted site plan | I2: 2009 consent

Sheet Cemaes
A1: Current permit
Z2: On the other side of the road from the "flower bed". Presumably the cabinet for the PS.
A20: Submitted site plan

Sheet Trevine
W3: SM 834 324 and SM 8343 3243 are from previous / current versions of permit
W5: FE discharge pipe in lime green
W7: Box shows submitted NGR
W9: Green dot with black outline shows discharge point according to GIS

Sheet AMP8 (DO NOT USE YET)
A1: Core information | I1: Financial | K1: NRW RFI/ Schedule 5 request | Y1: Financial | Z1: DCWW Response | AC1: Legal
A2: New or AMP8 | B2: Driver & Batch number | C2: Site Name | D2: FE Permit Number | E2: Storm Permit Number | F2: Submitted/ paid for date | G2: PAN # | H2: Allocated to | I2: Initial fee | J2: Duly Made Y/N | K2: Is further information required Y/N. | L2: Is the request related to the specific driver Y/N | M2: Is this Request for information part of a formal Reg61? Y/N | N2: What is the Request (limit to 100 words) | O2: Type of Request | P2: Date further info requested | Q2: Deadline for further information | R2: Does information meet NRW requirements Y/N | S2: Duly Made Decision Date | T2: Request Status | U2: Any further permit conditions to be reviewed by NRW Y/N | V2: If Yes what conditions were reviewed | W2: Is further information required for these | X2: Further asssessment, HRA, WFD | Y2: Futher Assessment fee | Z2: DCWW Comment | AA2: Date of DCWW Comment | AB2: NRW Response to RFI comment | AC2: Schedule 5 date sent. | AD2: Schedule 5 response | AE2: 10% fee retained | AF2: 100% fee retained
AH3: Which columns to lock ?

Sheet Finance AMP8
A1: Workstream Project code | B1: Amount of applications | C1: PAN Number | D1: Date payment taken ( received) | E1: Permit Fee | F1: Total payment for batch | G1: Total Received | H1: Total left to pay | I1: MyNRW Ref (s) | J1: HRA Fee | K1: Total Permit fee | L1: Running total ( annual fee) | M1: Subtraction | N1: 10 % retention | O1: 100% retention | P1: Refund total | T1: DCWW 2025 funds
A2: EXAMPLE- UMON 100 | B2: 10 | C2: ='AMP8 (DO NOT USE YET)'!G3 -> 0 | D2: ='AMP8 (DO NOT USE YET)'!F3 -> 0 | E2: 912 | F2: =E2*B2 -> 9120 | G2: 9120 | H2: 0 | I2: XYZ | J2: ='AMP8 (DO NOT USE YET)'!Y3 -> 0 | K2: =E2+J2 -> 912 | L2: =E2+J2 -> 912 | M2: =900000-K2-N2-J2-E2 -> 898176 | N2: ='AMP8 (DO NOT USE YET)'!AE3 -> 0 | O2: ='AMP8 (DO NOT USE YET)'!AF3 -> 0 | T2: 900000 | V2: which colums to lock?
C3: ='AMP8 (DO NOT USE YET)'!G4 -> 0 | N3: 91.2
C4: ='AMP8 (DO NOT USE YET)'!G5 -> 0 | O4: 912
A5: EXAMPLE umon 200 | B5: 1 | C5: ='AMP8 (DO NOT USE YET)'!G6 -> 0 | E5: 560 | J5: REFUND | M5: -91.2 | O5: -91.2
C6: ='AMP8 (DO NOT USE YET)'!G7 -> 0
C7: ='AMP8 (DO NOT USE YET)'!G8 -> 0
C8: ='AMP8 (DO NOT USE YET)'!G9 -> 0
C9: ='AMP8 (DO NOT USE YET)'!G10 -> 0
C10: ='AMP8 (DO NOT USE YET)'!G11 -> 0
C11: ='AMP8 (DO NOT USE YET)'!G12 -> 0
C12: ='AMP8 (DO NOT USE YET)'!G13 -> 0
C13: ='AMP8 (DO NOT USE YET)'!G14 -> 0
C14: ='AMP8 (DO NOT USE YET)'!G15 -> 0
C15: ='AMP8 (DO NOT USE YET)'!G16 -> 0
C16: ='AMP8 (DO NOT USE YET)'!G17 -> 0
C17: ='AMP8 (DO NOT USE YET)'!G18 -> 0
... C1000: ='AMP8 (DO NOT USE YET)'!G1001 -> 0
