Workbook

Sheet Dairy Partners Ltd
A1: PAN reference | C1: PAN-004415 | F1: Total spread area | H1: 50 | AE1: Crop | AF1: P OFFTAKE
A2: Permit reference | C2: EPR/AB3891CX | F2: Waste type (EWC) | H2: 02 05 02 | AB2: %w/w SAR | AC2: Sandy | AD2: Solid | AE2: Winter wheat/barley | AF2: 8.4
A3: Operator | C3: Stepside Agri Contractors | F3: Waste type (physical form) | H3: Liquid | AB3: %w/w DM | AC3: Sandy Loam | AD3: Liquid | AE3: Spring wheat/barley | AF3: 8.6
A4: Farm Address | C4: Ffynnoncyff farm, Ferwig, Cardigan SA43 1QD | F4: Waste Ref/Name | H4: Dairy Partners Ltd | AB4: kg/t SAR | AC4: Medium/Clay | AD4: Sludge | AE4: Winter/spring oats | AF4: 8.8
A5: Assessed By | C5: Rohini Sawant | F5: Waste pH | H5: 5.24 | AB5: kg/t DM | AC5: Organic | AE5: Oilseed rape | AF5: 15.1
AB6: mg/kg SAR | AC6: Peat | AE6: Maize | AF6: 1.4
A7: Field number | C7: 1 | D7: 2 | E7: 3 | F7: 4 | G7: 5 | H7: 6 | I7: 7 | J7: 8 | K7: 9 | L7: 10 | M7: 11 | N7: 12 | O7: 13 | P7: 14 | Q7: 15 | R7: 16 | S7: 17 | T7: 18 | U7: 19 | V7: 20 | AB7: mg/kg DM | AE7: Fodder beet | AF7: 0.7
A8: Field Ref | C8: 20 | D8: 21A | E8: 21B | F8: 11 | G8: 12 | H8: 9 | I8: 8 | J8: 13B | K8: 13A | L8: 28 | M8: 22 | N8: PEN 1 | O8: PEN 2 | P8: PEN 3 | Q8: PEN 6 | R8: PEN 7 | S8: PEN 8 | T8: PEN 9 | AE8: Grass fresh (15%-20% DM) | AF8: 1.4
A9: SNS Index | C9: Moderate | D9: Low | E9: Low | F9: Moderate | G9: 1 | H9: 1 | I9: 1 | J9: Low | K9: Low | L9: Low | M9: Low | N9: Low | O9: Low | P9: Low | Q9: Low | R9: Low | S9: Low | T9: Low | AE9: Grass Silage (25% DM) | AF9: 1.7
A10: Field pH | C10: 6.8 | D10: 6.8 | E10: 6.6 | F10: 7.4 | G10: 6.6 | H10: 6.6 | I10: 6.7 | J10: 6.5 | K10: 6.5 | L10: 6.3 | M10: 5.9 | N10: 6.5 | O10: 6.2 | P10: 6.3 | Q10: 5.8 | R10: 6.2 | S10: 6 | T10: 5.3 | AE10: Grass Silage (30%) | AF10: 2.1
A11: Phosphorus Index | C11: 0 | D11: 0 | E11: 0 | F11: 2 | G11: 1 | H11: 3 | I11: 3 | J11: 2 | K11: 2 | L11: 0 | M11: 1 | N11: 3 | O11: 2 | P11: 1 | Q11: 2 | R11: 2 | S11: 2 | T11: 3 | AE11: Hay (86% DM) | AF11: 5.9
A12: Potassium Index | C12: 1 | D12: 1 | E12: 1 | F12: 1 | G12: -2 | H12: 2 | I12: 3 | J12: 2 | K12: 2 | L12: 1 | M12: 1 | N12: 1 | O12: -2 | P12: -2 | Q12: 1 | R12: 1 | S12: -2 | T12: 1 | AE12: Haylege (45% DM) | AF12: 3.2
A13: Magnesium Index | D13: 0 | E13: 0 | F13: 0 | G13: 0 | H13: 0 | I13: 0 | J13: 0 | K13: 0 | L13: 0 | M13: 0 | N13: 3 | O13: 2 | P13: 2 | Q13: 3 | R13: 3 | S13: 2 | T13: 2
A14: Benefiting Crop | C14: Grass Silage (25% DM) | D14: Grass Silage (25% DM) | E14: Grass Silage (25% DM) | F14: Grass Silage (25% DM) | G14: Spring wheat/barley | H14: Spring wheat/barley | I14: Spring wheat/barley | J14: Grass Silage (25% DM) | K14: Grass Silage (25% DM) | L14: Grass Silage (25% DM) | M14: Grass Silage (25% DM) | N14: Grass Silage (25% DM) | O14: Grass Silage (25% DM) | P14: Grass Silage (25% DM) | Q14: Grass Silage (25% DM) | R14: Grass Silage (25% DM) | S14: Grass Silage (25% DM) | T14: Grass Silage (25% DM)
A15: Expected Yield | C15: 47 | D15: 47 | E15: 47 | F15: 47 | G15: 6 | H15: 6 | I15: 6 | J15: 56 | K15: 56 | L15: 56 | M15: 56 | N15: 56 | O15: 56 | P15: 56 | Q15: 56 | R15: 56 | S15: 56 | T15: 56
A16: Soil Type | C16: Medium/Clay | D16: Medium/Clay | E16: Medium/Clay | F16: Medium/Clay | G16: Medium/Clay | H16: Medium/Clay | I16: Medium/Clay | J16: Medium/Clay | K16: Medium/Clay | L16: Medium/Clay | M16: Medium/Clay | N16: Medium/Clay | O16: Medium/Clay | P16: Medium/Clay | Q16: Medium/Clay | R16: Medium/Clay | S16: Medium/Clay | T16: Medium/Clay
A17: Phosphate Offtake | C17: =IF(C$14="Winter wheat/barley",8.4,IF(C$14="Spring wheat/barley",8.6,IF(C$14="Winter/spring oats",8.8, IF(C$14="Oilseed Rape",15.1,IF(C$14="Grass fresh (15%-20% DM)",1.4,IF(C$14="Grass Silage (25% DM)",1.7,IF(C$14="Grass Silage (30%)",2.1,IF(C$14="Hay (86% DM)",5.9,IF(C$14="Maize",1.4,IF(C$14="Fodder beet",0.7,IF(C$14="Haylege (45% DM)",3.2,"0")))))))))))*C15 -> 79.9 | D17: =IF(D$14="Winter wheat/barley",8.4,IF(D$14="Spring wheat/barley",8.6,IF(D$14="Winter/spring oats",8.8, IF(D$14="Oilseed Rape",15.1,IF(D$14="Grass fresh (15%-20% DM)",1.4,IF(D$14="Grass Silage (25% DM)",1.7,IF(D$14="Grass Silage (30%)",2.1,IF(D$14="Hay (86% DM)",5.9,IF(D$14="Maize",1.4,IF(D$14="Fodder beet",0.7,IF(D$14="Haylege (45% DM)",3.2,"0")))))))))))*D15 -> 79.9 | E17: =IF(E$14="Winter wheat/barley",8.4,IF(E$14="Spring wheat/barley",8.6,IF(E$14="Winter/spring oats",8.8, IF(E$14="Oilseed Rape",15.1,IF(E$14="Grass fresh (15%-20% DM)",1.4,IF(E$14="Grass Silage (25% DM)",1.7,IF(E$14="Grass Silage (30%)",2.1,IF(E$14="Hay (86% DM)",5.9,IF(E$14="Maize",1.4,IF(E$14="Fodder beet",0.7,IF(E$14="Haylege (45% DM)",3.2,"0")))))))))))*E15 -> 79.9 | F17: =IF(F$14="Winter wheat/barley",8.4,IF(F$14="Spring wheat/barley",8.6,IF(F$14="Winter/spring oats",8.8, IF(F$14="Oilseed Rape",15.1,IF(F$14="Grass fresh (15%-20% DM)",1.4,IF(F$14="Grass Silage (25% DM)",1.7,IF(F$14="Grass Silage (30%)",2.1,IF(F$14="Hay (86% DM)",5.9,IF(F$14="Maize",1.4,IF(F$14="Fodder beet",0.7,IF(F$14="Haylege (45% DM)",3.2,"0")))))))))))*F15 -> 79.9 | G17: =IF(G$14="Winter wheat/barley",8.4,IF(G$14="Spring wheat/barley",8.6,IF(G$14="Winter/spring oats",8.8, IF(G$14="Oilseed Rape",15.1,IF(G$14="Grass fresh (15%-20% DM)",1.4,IF(G$14="Grass Silage (25% DM)",1.7,IF(G$14="Grass Silage (30%)",2.1,IF(G$14="Hay (86% DM)",5.9,IF(G$14="Maize",1.4,IF(G$14="Fodder beet",0.7,IF(G$14="Haylege (45% DM)",3.2,"0")))))))))))*G15 -> 51.6 | H17: =IF(H$14="Winter wheat/barley",8.4,IF(H$14="Spring wheat/barley",8.6,IF(H$14="Winter/spring oats",8.8, IF(H$14="Oilseed Rape",15.1,IF(H$14="Grass fresh (15%-20% DM)",1.4,IF(H$14="Grass Silage (25% DM)",1.7,IF(H$14="Grass Silage (30%)",2.1,IF(H$14="Hay (86% DM)",5.9,IF(H$14="Maize",1.4,IF(H$14="Fodder beet",0.7,IF(H$14="Haylege (45% DM)",3.2,"0")))))))))))*H15 -> 51.6 | I17: =IF(I$14="Winter wheat/barley",8.4,IF(I$14="Spring wheat/barley",8.6,IF(I$14="Winter/spring oats",8.8, IF(I$14="Oilseed Rape",15.1,IF(I$14="Grass fresh (15%-20% DM)",1.4,IF(I$14="Grass Silage (25% DM)",1.7,IF(I$14="Grass Silage (30%)",2.1,IF(I$14="Hay (86% DM)",5.9,IF(I$14="Maize",1.4,IF(I$14="Fodder beet",0.7,IF(I$14="Haylege (45% DM)",3.2,"0")))))))))))*I15 -> 51.6 | J17: =IF(J$14="Winter wheat/barley",8.4,IF(J$14="Spring wheat/barley",8.6,IF(J$14="Winter/spring oats",8.8, IF(J$14="Oilseed Rape",15.1,IF(J$14="Grass fresh (15%-20% DM)",1.4,IF(J$14="Grass Silage (25% DM)",1.7,IF(J$14="Grass Silage (30%)",2.1,IF(J$14="Hay (86% DM)",5.9,IF(J$14="Maize",1.4,IF(J$14="Fodder beet",0.7,IF(J$14="Haylege (45% DM)",3.2,"0")))))))))))*J15 -> 95.2 | ... V17: =IF(V$14="Winter wheat/barley",8.4,IF(V$14="Spring wheat/barley",8.6,IF(V$14="Winter/spring oats",8.8, IF(V$14="Oilseed Rape",15.1,IF(V$14="Grass fresh (15%-20% DM)",1.4,IF(V$14="Grass Silage (25% DM)",1.7,IF(V$14="Grass Silage (30%)",2.1,IF(V$14="Hay (86% DM)",5.9,IF(V$14="Maize",1.4,IF(V$14="Fodder beet",0.7,IF(V$14="Haylege (45% DM)",3.2,"0")))))))))))*V15 -> 0
A18: Phosphate Addition | C18: =$D27 -> 219.79167 | D18: =$D28 -> 219.79167 | E18: =$D29 -> 219.79167 | F18: =$D30 -> 79.747419 | G18: =$D31 -> 132.26401 | H18: =$D32 -> 50.571534 | I18: =$D33 -> 50.571534 | J18: =$D34 -> 79.747419 | K18: =$D35 -> 79.747419 | L18: =$D36 -> 219.79167 | M18: =$D37 -> 157.54978 | N18: =$D38 -> 64.186947 | O18: =$D39 -> 64.186947 | P18: =$D40 -> 157.54978 | Q18: =$D41 -> 64.186947 | R18: =$D42 -> 64.186947 | S18: =$D43 -> 64.186947 | T18: =$D44 -> 64.186947 | U18: =$D45 -> 0 | V18: =$D46 -> 0
A19: Difference | C19: =C18-C17 -> 139.89167 | D19: =D18-D17 -> 139.89167 | E19: =E18-E17 -> 139.89167 | F19: =F18-F17 -> -0.152581 | G19: =G18-G17 -> 80.664012 | H19: =H18-H17 -> -1.028466 | I19: =I18-I17 -> -1.028466 | J19: =J18-J17 -> -15.452581 | ... V19: =V18-V17 -> 0
A20: Increase/decrease | C20: =IF($B27="","",IF(C$19>=0,"INCREASE","DECREASE")) -> INCREASE | D20: =IF($B28="","",IF(D$19>=0,"INCREASE","DECREASE")) -> INCREASE | E20: =IF($B29="","",IF(E$19>=0,"INCREASE","DECREASE")) -> INCREASE | F20: =IF($B30="","",IF(F$19>=0,"INCREASE","DECREASE")) -> DECREASE | G20: =IF($B31="","",IF(G$19>=0,"INCREASE","DECREASE")) -> INCREASE | H20: =IF($B32="","",IF(H$19>=0,"INCREASE","DECREASE")) -> DECREASE | I20: =IF($B33="","",IF(I$19>=0,"INCREASE","DECREASE")) -> DECREASE | J20: =IF($B34="","",IF(J$19>=0,"INCREASE","DECREASE")) -> DECREASE | K20: =IF($B35="","",IF(K$19>=0,"INCREASE","DECREASE")) -> DECREASE | L20: =IF($B36="","",IF(L$19>=0,"INCREASE","DECREASE")) -> INCREASE | M20: =IF($B37="","",IF(M$19>=0,"INCREASE","DECREASE")) -> INCREASE | N20: =IF($B38="","",IF(N$19>=0,"INCREASE","DECREASE")) -> DECREASE | O20: =IF($B39="","",IF(O$19>=0,"INCREASE","DECREASE")) -> DECREASE | P20: =IF($B40="","",IF(P$19>=0,"INCREASE","DECREASE")) -> INCREASE | Q20: =IF($B41="","",IF(Q$19>=0,"INCREASE","DECREASE")) -> DECREASE | R20: =IF($B42="","",IF(R$19>=0,"INCREASE","DECREASE")) -> DECREASE | S20: =IF($B43="","",IF(S$19>=0,"INCREASE","DECREASE")) -> DECREASE | T20: =IF($B44="","",IF(T$19>=0,"INCREASE","DECREASE")) -> DECREASE | U20: =IF($B45="","",IF(U$19>=0,"INCREASE","DECREASE")) | V20: =IF($B46="","",IF(V$19>=0,"INCREASE","DECREASE"))
B22: Dry Matter | C22: Total Nitrogen | D22: Total Phosphorus (P) | E22: Total Potassium (K) | F22: Total Magnesium (Mg) | G22: Total Copper | H22: Total Zinc | I22: Total Lead | J22: Total Cadmium | K22: Total Mercury | L22: Total Nickel | M22: Total Chromium | N22: Total Aluminium | O22: Total Iron | P22: Total Na (Sodium) | Q22: Total Sulphur (S) | R22: Total Selenium | S22: Total Arsenic | T22: Total Mo | U22: Total Fluoride | V22: Conductivity µS/cm | W22: Fats & Oils (%)
B23: % | C23: %w/w SAR | D23: mg/kg SAR | E23: mg/kg SAR | F23: mg/kg SAR | G23: mg/kg SAR | H23: mg/kg SAR | I23: mg/kg SAR | J23: mg/kg SAR | K23: mg/kg SAR | L23: mg/kg SAR | M23: mg/kg SAR | N23: mg/kg SAR | O23: mg/kg SAR | P23: mg/kg SAR | Q23: mg/kg SAR | R23: mg/kg SAR | S23: mg/kg SAR | T23: mg/kg SAR | U23: mg/kg SAR
B24: 4.9 | C24: 0.22 | D24: 849 | E24: 203 | F24: 52 | G24: 0.33 | H24: 2.84 | I24: 0.5 | J24: 0.01 | K24: 0.05 | L24: 0.2 | M24: 0.77 | P24: 1316 | Q24: 188 | V24: 1300 | W24: 0.668
A25: Field Ref | B25: Application Rate | C25: Nitrogen Addition | D25: Phosphate Addition | E25: Potash Addition | F25: Mg Oxide Addition | G25: Copper Addition | H25: Zinc Addition | I25: Lead Addition | J25: Cadmium Addition | K25: Mercury Addition | L25: Nickel Addition | M25: Chromium Addition | N25: Aluminium Addition | O25: Iron Addition | P25: Sodium Addition | Q25: SO3 Addition kg/ha | R25: Selenium Addition | S25: Arsenic Addition | T25: Molybdenum Addition | U25: Fluoride Addition | V25: Conductivity (Acceptable level 5000µS/cm) | W25: Fats & Oils (Acceptable level 4%)
B26: tonnes/ha | C26: kg/ha | D26: P2O5 kg/ha | E26: K2O kg/ha | F26: MgO kg/ha | G26: kg/ha | H26: kg/ha | I26: kg/ha | J26: kg/ha | K26: kg/ha | L26: kg/ha | M26: kg/ha | N26: kg/ha | O26: kg/ha | P26: kg/ha | Q26: kg/ha | R26: kg/ha | S26: kg/ha | T26: kg/ha | U26: kg/ha
A27: =C8 -> 20 | B27: 113 | C27: =IF(C$23="%w/w SAR",((C$24*10)*$B27),IF(C$23="%w/w DM",(((C$24*10)*($B$24/100))*$B27),IF(C$23="kg/t SAR",(C$24*$B27),IF(C$23="kg/t DM",((C$24*($B$24/100))*$B27),IF(C$23="mg/kg SAR",((C$24*0.001)*$B27),IF(C$23="mg/kg DM",(((C$24*0.001)*($B$24/100))*$B27),0)))))) -> 248.6 | D27: =(IF(D$23="%w/w SAR",((D$24*10)*$B27),IF(D$23="%w/w DM",(((D$24*10)*($B$24/100))*$B27),IF(D$23="kg/t SAR",(D$24*$B27),IF(D$23="kg/t DM",((D$24*($B$24/100))*$B27),IF(D$23="mg/kg SAR",((D$24*0.001)*$B27),IF(D$23="mg/kg DM",(((D$24*0.001)*($B$24/100))*$B27),"0")))))))*2.291 -> 219.79167 | E27: =(IF(E$23="%w/w SAR",((E$24*10)*$B27),IF(E$23="%w/w DM",(((E$24*10)*($B$24/100))*$B27),IF(E$23="kg/t SAR",(E$24*$B27),IF(E$23="kg/t DM",((E$24*($B$24/100))*$B27),IF(E$23="mg/kg SAR",((E$24*0.001)*$B27),IF(E$23="mg/kg DM",(((E$24*0.001)*($B$24/100))*$B27),"0")))))))*1.205 -> 27.641495 | F27: =(IF(F$23="%w/w SAR",((F$24*10)*$B27),IF(F$23="%w/w DM",(((F$24*10)*($B$24/100))*$B27),IF(F$23="kg/t SAR",(F$24*$B27),IF(F$23="kg/t DM",((F$24*($B$24/100))*$B27),IF(F$23="mg/kg SAR",((F$24*0.001)*$B27),IF(F$23="mg/kg DM",(((F$24*0.001)*($B$24/100))*$B27),"0")))))))*1.658 -> 9.742408 | G27: =IF(G$23="%w/w SAR",((G$24*10)*$B27),IF(G$23="%w/w DM",(((G$24*10)*($B$24/100))*$B27),IF(G$23="kg/t SAR",(G$24*$B27),IF(G$23="kg/t DM",((G$24*($B$24/100))*$B27),IF(G$23="mg/kg SAR",((G$24*0.001)*$B27),IF(G$23="mg/kg DM",(((G$24*0.001)*($B$24/100))*$B27),0)))))) -> 0.03729 | H27: =IF(H$23="%w/w SAR",((H$24*10)*$B27),IF(H$23="%w/w DM",(((H$24*10)*($B$24/100))*$B27),IF(H$23="kg/t SAR",(H$24*$B27),IF(H$23="kg/t DM",((H$24*($B$24/100))*$B27),IF(H$23="mg/kg SAR",((H$24*0.001)*$B27),IF(H$23="mg/kg DM",(((H$24*0.001)*($B$24/100))*$B27),0)))))) -> 0.32092 | I27: =IF(I$23="%w/w SAR",((I$24*10)*$B27),IF(I$23="%w/w DM",(((I$24*10)*($B$24/100))*$B27),IF(I$23="kg/t SAR",(I$24*$B27),IF(I$23="kg/t DM",((I$24*($B$24/100))*$B27),IF(I$23="mg/kg SAR",((I$24*0.001)*$B27),IF(I$23="mg/kg DM",(((I$24*0.001)*($B$24/100))*$B27),0)))))) -> 0.0565 | J27: =IF(J$23="%w/w SAR",((J$24*10)*$B27),IF(J$23="%w/w DM",(((J$24*10)*($B$24/100))*$B27),IF(J$23="kg/t SAR",(J$24*$B27),IF(J$23="kg/t DM",((J$24*($B$24/100))*$B27),IF(J$23="mg/kg SAR",((J$24*0.001)*$B27),IF(J$23="mg/kg DM",(((J$24*0.001)*($B$24/100))*$B27),0)))))) -> 0.00113 | K27: =IF(K$23="%w/w SAR",((K$24*10)*$B27),IF(K$23="%w/w DM",(((K$24*10)*($B$24/100))*$B27),IF(K$23="kg/t SAR",(K$24*$B27),IF(K$23="kg/t DM",((K$24*($B$24/100))*$B27),IF(K$23="mg/kg SAR",((K$24*0.001)*$B27),IF(K$23="mg/kg DM",(((K$24*0.001)*($B$24/100))*$B27),0)))))) -> 0.00565 | L27: =IF(L$23="%w/w SAR",((L$24*10)*$B27),IF(L$23="%w/w DM",(((L$24*10)*($B$24/100))*$B27),IF(L$23="kg/t SAR",(L$24*$B27),IF(L$23="kg/t DM",((L$24*($B$24/100))*$B27),IF(L$23="mg/kg SAR",((L$24*0.001)*$B27),IF(L$23="mg/kg DM",(((L$24*0.001)*($B$24/100))*$B27),0)))))) -> 0.0226 | M27: =IF(M$23="%w/w SAR",((M$24*10)*$B27),IF(M$23="%w/w DM",(((M$24*10)*($B$24/100))*$B27),IF(M$23="kg/t SAR",(M$24*$B27),IF(M$23="kg/t DM",((M$24*($B$24/100))*$B27),IF(M$23="mg/kg SAR",((M$24*0.001)*$B27),IF(M$23="mg/kg DM",(((M$24*0.001)*($B$24/100))*$B27),0)))))) -> 0.08701 | N27: =IF(N$23="%w/w SAR",((N$24*10)*$B27),IF(N$23="%w/w DM",(((N$24*10)*($B$24/100))*$B27),IF(N$23="kg/t SAR",(N$24*$B27),IF(N$23="kg/t DM",((N$24*($B$24/100))*$B27),IF(N$23="mg/kg SAR",((N$24*0.001)*$B27),IF(N$23="mg/kg DM",(((N$24*0.001)*($B$24/100))*$B27),0)))))) -> 0 | ... P27: =IF(P$23="%w/w SAR",((P$24*10)*$B27),IF(P$23="%w/w DM",(((P$24*10)*($B$24/100))*$B27),IF(P$23="kg/t SAR",(P$24*$B27),IF(P$23="kg/t DM",((P$24*($B$24/100))*$B27),IF(P$23="mg/kg SAR",((P$24*0.001)*$B27),IF(P$23="mg/kg DM",(((P$24*0.001)*($B$24/100))*$B27),0)))))) -> 148.708 | Q27: =(IF(Q$23="%w/w SAR",((Q$24*10)*$B27),IF(Q$23="%w/w DM",(((Q$24*10)*($B$24/100))*$B27),IF(Q$23="kg/t SAR",(Q$24*$B27),IF(Q$23="kg/t DM",((Q$24*($B$24/100))*$B27),IF(Q$23="mg/kg SAR",((Q$24*0.001)*$B27),IF(Q$23="mg/kg DM",(((Q$24*0.001)*($B$24/100))*$B27),0)))))))*2.5 -> 53.11 | R27: =IF(R$23="%w/w SAR",((R$24*10)*$B27),IF(R$23="%w/w DM",(((R$24*10)*($B$24/100))*$B27),IF(R$23="kg/t SAR",(R$24*$B27),IF(R$23="kg/t DM",((R$24*($B$24/100))*$B27),IF(R$23="mg/kg SAR",((R$24*0.001)*$B27),IF(R$23="mg/kg DM",(((R$24*0.001)*($B$24/100))*$B27),0)))))) -> 0 | S27: =IF(S$23="%w/w SAR",((S$24*10)*$B27),IF(S$23="%w/w DM",(((S$24*10)*($B$24/100))*$B27),IF(S$23="kg/t SAR",(S$24*$B27),IF(S$23="kg/t DM",((S$24*($B$24/100))*$B27),IF(S$23="mg/kg SAR",((S$24*0.001)*$B27),IF(S$23="mg/kg DM",(((S$24*0.001)*($B$24/100))*$B27),0)))))) -> 0 | T27: =IF(T$23="%w/w SAR",((T$24*10)*$B27),IF(T$23="%w/w DM",(((T$24*10)*($B$24/100))*$B27),IF(T$23="kg/t SAR",(T$24*$B27),IF(T$23="kg/t DM",((T$24*($B$24/100))*$B27),IF(T$23="mg/kg SAR",((T$24*0.001)*$B27),IF(T$23="mg/kg DM",(((T$24*0.001)*($B$24/100))*$B27),0)))))) -> 0 | U27: =IF(U$23="%w/w SAR",((U$24*10)*$B27),IF(U$23="%w/w DM",(((U$24*10)*($B$24/100))*$B27),IF(U$23="kg/t SAR",(U$24*$B27),IF(U$23="kg/t DM",((U$24*($B$24/100))*$B27),IF(U$23="mg/kg SAR",((U$24*0.001)*$B27),IF(U$23="mg/kg DM",(((U$24*0.001)*($B$24/100))*$B27),0)))))) -> 0 | V27: =IF($V$24="",0,IF($V$24>5000,"NOT OK","OK")) -> OK | W27: =IF($W$24="",0,IF($W$24>4,"Not OK","OK")) -> OK
A28: =D8 -> 21A | B28: 113 | C28: =IF(C$23="%w/w SAR",((C$24*10)*$B28),IF(C$23="%w/w DM",(((C$24*10)*($B$24/100))*$B28),IF(C$23="kg/t SAR",(C$24*$B28),IF(C$23="kg/t DM",((C$24*($B$24/100))*$B28),IF(C$23="mg/kg SAR",((C$24*0.001)*$B28),IF(C$23="mg/kg DM",(((C$24*0.001)*($B$24/100))*$B28),0)))))) -> 248.6 | D28: =(IF(D$23="%w/w SAR",((D$24*10)*$B28),IF(D$23="%w/w DM",(((D$24*10)*($B$24/100))*$B28),IF(D$23="kg/t SAR",(D$24*$B28),IF(D$23="kg/t DM",((D$24*($B$24/100))*$B28),IF(D$23="mg/kg SAR",((D$24*0.001)*$B28),IF(D$23="mg/kg DM",(((D$24*0.001)*($B$24/100))*$B28),"0")))))))*2.291 -> 219.79167 | E28: =(IF(E$23="%w/w SAR",((E$24*10)*$B28),IF(E$23="%w/w DM",(((E$24*10)*($B$24/100))*$B28),IF(E$23="kg/t SAR",(E$24*$B28),IF(E$23="kg/t DM",((E$24*($B$24/100))*$B28),IF(E$23="mg/kg SAR",((E$24*0.001)*$B28),IF(E$23="mg/kg DM",(((E$24*0.001)*($B$24/100))*$B28),"0")))))))*1.205 -> 27.641495 | F28: =(IF(F$23="%w/w SAR",((F$24*10)*$B28),IF(F$23="%w/w DM",(((F$24*10)*($B$24/100))*$B28),IF(F$23="kg/t SAR",(F$24*$B28),IF(F$23="kg/t DM",((F$24*($B$24/100))*$B28),IF(F$23="mg/kg SAR",((F$24*0.001)*$B28),IF(F$23="mg/kg DM",(((F$24*0.001)*($B$24/100))*$B28),"0")))))))*1.658 -> 9.742408 | G28: =IF(G$23="%w/w SAR",((G$24*10)*$B28),IF(G$23="%w/w DM",(((G$24*10)*($B$24/100))*$B28),IF(G$23="kg/t SAR",(G$24*$B28),IF(G$23="kg/t DM",((G$24*($B$24/100))*$B28),IF(G$23="mg/kg SAR",((G$24*0.001)*$B28),IF(G$23="mg/kg DM",(((G$24*0.001)*($B$24/100))*$B28),0)))))) -> 0.03729 | H28: =IF(H$23="%w/w SAR",((H$24*10)*$B28),IF(H$23="%w/w DM",(((H$24*10)*($B$24/100))*$B28),IF(H$23="kg/t SAR",(H$24*$B28),IF(H$23="kg/t DM",((H$24*($B$24/100))*$B28),IF(H$23="mg/kg SAR",((H$24*0.001)*$B28),IF(H$23="mg/kg DM",(((H$24*0.001)*($B$24/100))*$B28),0)))))) -> 0.32092 | I28: =IF(I$23="%w/w SAR",((I$24*10)*$B28),IF(I$23="%w/w DM",(((I$24*10)*($B$24/100))*$B28),IF(I$23="kg/t SAR",(I$24*$B28),IF(I$23="kg/t DM",((I$24*($B$24/100))*$B28),IF(I$23="mg/kg SAR",((I$24*0.001)*$B28),IF(I$23="mg/kg DM",(((I$24*0.001)*($B$24/100))*$B28),0)))))) -> 0.0565 | J28: =IF(J$23="%w/w SAR",((J$24*10)*$B28),IF(J$23="%w/w DM",(((J$24*10)*($B$24/100))*$B28),IF(J$23="kg/t SAR",(J$24*$B28),IF(J$23="kg/t DM",((J$24*($B$24/100))*$B28),IF(J$23="mg/kg SAR",((J$24*0.001)*$B28),IF(J$23="mg/kg DM",(((J$24*0.001)*($B$24/100))*$B28),0)))))) -> 0.00113 | K28: =IF(K$23="%w/w SAR",((K$24*10)*$B28),IF(K$23="%w/w DM",(((K$24*10)*($B$24/100))*$B28),IF(K$23="kg/t SAR",(K$24*$B28),IF(K$23="kg/t DM",((K$24*($B$24/100))*$B28),IF(K$23="mg/kg SAR",((K$24*0.001)*$B28),IF(K$23="mg/kg DM",(((K$24*0.001)*($B$24/100))*$B28),0)))))) -> 0.00565 | L28: =IF(L$23="%w/w SAR",((L$24*10)*$B28),IF(L$23="%w/w DM",(((L$24*10)*($B$24/100))*$B28),IF(L$23="kg/t SAR",(L$24*$B28),IF(L$23="kg/t DM",((L$24*($B$24/100))*$B28),IF(L$23="mg/kg SAR",((L$24*0.001)*$B28),IF(L$23="mg/kg DM",(((L$24*0.001)*($B$24/100))*$B28),0)))))) -> 0.0226 | M28: =IF(M$23="%w/w SAR",((M$24*10)*$B28),IF(M$23="%w/w DM",(((M$24*10)*($B$24/100))*$B28),IF(M$23="kg/t SAR",(M$24*$B28),IF(M$23="kg/t DM",((M$24*($B$24/100))*$B28),IF(M$23="mg/kg SAR",((M$24*0.001)*$B28),IF(M$23="mg/kg DM",(((M$24*0.001)*($B$24/100))*$B28),0)))))) -> 0.08701 | N28: =IF(N$23="%w/w SAR",((N$24*10)*$B28),IF(N$23="%w/w DM",(((N$24*10)*($B$24/100))*$B28),IF(N$23="kg/t SAR",(N$24*$B28),IF(N$23="kg/t DM",((N$24*($B$24/100))*$B28),IF(N$23="mg/kg SAR",((N$24*0.001)*$B28),IF(N$23="mg/kg DM",(((N$24*0.001)*($B$24/100))*$B28),0)))))) -> 0 | ... P28: =IF(P$23="%w/w SAR",((P$24*10)*$B28),IF(P$23="%w/w DM",(((P$24*10)*($B$24/100))*$B28),IF(P$23="kg/t SAR",(P$24*$B28),IF(P$23="kg/t DM",((P$24*($B$24/100))*$B28),IF(P$23="mg/kg SAR",((P$24*0.001)*$B28),IF(P$23="mg/kg DM",(((P$24*0.001)*($B$24/100))*$B28),0)))))) -> 148.708 | Q28: =(IF(Q$23="%w/w SAR",((Q$24*10)*$B28),IF(Q$23="%w/w DM",(((Q$24*10)*($B$24/100))*$B28),IF(Q$23="kg/t SAR",(Q$24*$B28),IF(Q$23="kg/t DM",((Q$24*($B$24/100))*$B28),IF(Q$23="mg/kg SAR",((Q$24*0.001)*$B28),IF(Q$23="mg/kg DM",(((Q$24*0.001)*($B$24/100))*$B28),0)))))))*2.5 -> 53.11 | R28: =IF(R$23="%w/w SAR",((R$24*10)*$B28),IF(R$23="%w/w DM",(((R$24*10)*($B$24/100))*$B28),IF(R$23="kg/t SAR",(R$24*$B28),IF(R$23="kg/t DM",((R$24*($B$24/100))*$B28),IF(R$23="mg/kg SAR",((R$24*0.001)*$B28),IF(R$23="mg/kg DM",(((R$24*0.001)*($B$24/100))*$B28),0)))))) -> 0 | S28: =IF(S$23="%w/w SAR",((S$24*10)*$B28),IF(S$23="%w/w DM",(((S$24*10)*($B$24/100))*$B28),IF(S$23="kg/t SAR",(S$24*$B28),IF(S$23="kg/t DM",((S$24*($B$24/100))*$B28),IF(S$23="mg/kg SAR",((S$24*0.001)*$B28),IF(S$23="mg/kg DM",(((S$24*0.001)*($B$24/100))*$B28),0)))))) -> 0 | T28: =IF(T$23="%w/w SAR",((T$24*10)*$B28),IF(T$23="%w/w DM",(((T$24*10)*($B$24/100))*$B28),IF(T$23="kg/t SAR",(T$24*$B28),IF(T$23="kg/t DM",((T$24*($B$24/100))*$B28),IF(T$23="mg/kg SAR",((T$24*0.001)*$B28),IF(T$23="mg/kg DM",(((T$24*0.001)*($B$24/100))*$B28),0)))))) -> 0 | U28: =IF(U$23="%w/w SAR",((U$24*10)*$B28),IF(U$23="%w/w DM",(((U$24*10)*($B$24/100))*$B28),IF(U$23="kg/t SAR",(U$24*$B28),IF(U$23="kg/t DM",((U$24*($B$24/100))*$B28),IF(U$23="mg/kg SAR",((U$24*0.001)*$B28),IF(U$23="mg/kg DM",(((U$24*0.001)*($B$24/100))*$B28),0)))))) -> 0 | V28: =IF($V$24="",0,IF($V$24>5000,"NOT OK","OK")) -> OK | W28: =IF($W$24="",0,IF($W$24>4,"Not OK","OK")) -> OK
A29: =E8 -> 21B | B29: 113 | C29: =IF(C$23="%w/w SAR",((C$24*10)*$B29),IF(C$23="%w/w DM",(((C$24*10)*($B$24/100))*$B29),IF(C$23="kg/t SAR",(C$24*$B29),IF(C$23="kg/t DM",((C$24*($B$24/100))*$B29),IF(C$23="mg/kg SAR",((C$24*0.001)*$B29),IF(C$23="mg/kg DM",(((C$24*0.001)*($B$24/100))*$B29),0)))))) -> 248.6 | D29: =(IF(D$23="%w/w SAR",((D$24*10)*$B29),IF(D$23="%w/w DM",(((D$24*10)*($B$24/100))*$B29),IF(D$23="kg/t SAR",(D$24*$B29),IF(D$23="kg/t DM",((D$24*($B$24/100))*$B29),IF(D$23="mg/kg SAR",((D$24*0.001)*$B29),IF(D$23="mg/kg DM",(((D$24*0.001)*($B$24/100))*$B29),"0")))))))*2.291 -> 219.79167 | E29: =(IF(E$23="%w/w SAR",((E$24*10)*$B29),IF(E$23="%w/w DM",(((E$24*10)*($B$24/100))*$B29),IF(E$23="kg/t SAR",(E$24*$B29),IF(E$23="kg/t DM",((E$24*($B$24/100))*$B29),IF(E$23="mg/kg SAR",((E$24*0.001)*$B29),IF(E$23="mg/kg DM",(((E$24*0.001)*($B$24/100))*$B29),"0")))))))*1.205 -> 27.641495 | F29: =(IF(F$23="%w/w SAR",((F$24*10)*$B29),IF(F$23="%w/w DM",(((F$24*10)*($B$24/100))*$B29),IF(F$23="kg/t SAR",(F$24*$B29),IF(F$23="kg/t DM",((F$24*($B$24/100))*$B29),IF(F$23="mg/kg SAR",((F$24*0.001)*$B29),IF(F$23="mg/kg DM",(((F$24*0.001)*($B$24/100))*$B29),"0")))))))*1.658 -> 9.742408 | G29: =IF(G$23="%w/w SAR",((G$24*10)*$B29),IF(G$23="%w/w DM",(((G$24*10)*($B$24/100))*$B29),IF(G$23="kg/t SAR",(G$24*$B29),IF(G$23="kg/t DM",((G$24*($B$24/100))*$B29),IF(G$23="mg/kg SAR",((G$24*0.001)*$B29),IF(G$23="mg/kg DM",(((G$24*0.001)*($B$24/100))*$B29),0)))))) -> 0.03729 | H29: =IF(H$23="%w/w SAR",((H$24*10)*$B29),IF(H$23="%w/w DM",(((H$24*10)*($B$24/100))*$B29),IF(H$23="kg/t SAR",(H$24*$B29),IF(H$23="kg/t DM",((H$24*($B$24/100))*$B29),IF(H$23="mg/kg SAR",((H$24*0.001)*$B29),IF(H$23="mg/kg DM",(((H$24*0.001)*($B$24/100))*$B29),0)))))) -> 0.32092 | I29: =IF(I$23="%w/w SAR",((I$24*10)*$B29),IF(I$23="%w/w DM",(((I$24*10)*($B$24/100))*$B29),IF(I$23="kg/t SAR",(I$24*$B29),IF(I$23="kg/t DM",((I$24*($B$24/100))*$B29),IF(I$23="mg/kg SAR",((I$24*0.001)*$B29),IF(I$23="mg/kg DM",(((I$24*0.001)*($B$24/100))*$B29),0)))))) -> 0.0565 | J29: =IF(J$23="%w/w SAR",((J$24*10)*$B29),IF(J$23="%w/w DM",(((J$24*10)*($B$24/100))*$B29),IF(J$23="kg/t SAR",(J$24*$B29),IF(J$23="kg/t DM",((J$24*($B$24/100))*$B29),IF(J$23="mg/kg SAR",((J$24*0.001)*$B29),IF(J$23="mg/kg DM",(((J$24*0.001)*($B$24/100))*$B29),0)))))) -> 0.00113 | K29: =IF(K$23="%w/w SAR",((K$24*10)*$B29),IF(K$23="%w/w DM",(((K$24*10)*($B$24/100))*$B29),IF(K$23="kg/t SAR",(K$24*$B29),IF(K$23="kg/t DM",((K$24*($B$24/100))*$B29),IF(K$23="mg/kg SAR",((K$24*0.001)*$B29),IF(K$23="mg/kg DM",(((K$24*0.001)*($B$24/100))*$B29),0)))))) -> 0.00565 | L29: =IF(L$23="%w/w SAR",((L$24*10)*$B29),IF(L$23="%w/w DM",(((L$24*10)*($B$24/100))*$B29),IF(L$23="kg/t SAR",(L$24*$B29),IF(L$23="kg/t DM",((L$24*($B$24/100))*$B29),IF(L$23="mg/kg SAR",((L$24*0.001)*$B29),IF(L$23="mg/kg DM",(((L$24*0.001)*($B$24/100))*$B29),0)))))) -> 0.0226 | M29: =IF(M$23="%w/w SAR",((M$24*10)*$B29),IF(M$23="%w/w DM",(((M$24*10)*($B$24/100))*$B29),IF(M$23="kg/t SAR",(M$24*$B29),IF(M$23="kg/t DM",((M$24*($B$24/100))*$B29),IF(M$23="mg/kg SAR",((M$24*0.001)*$B29),IF(M$23="mg/kg DM",(((M$24*0.001)*($B$24/100))*$B29),0)))))) -> 0.08701 | N29: =IF(N$23="%w/w SAR",((N$24*10)*$B29),IF(N$23="%w/w DM",(((N$24*10)*($B$24/100))*$B29),IF(N$23="kg/t SAR",(N$24*$B29),IF(N$23="kg/t DM",((N$24*($B$24/100))*$B29),IF(N$23="mg/kg SAR",((N$24*0.001)*$B29),IF(N$23="mg/kg DM",(((N$24*0.001)*($B$24/100))*$B29),0)))))) -> 0 | ... P29: =IF(P$23="%w/w SAR",((P$24*10)*$B29),IF(P$23="%w/w DM",(((P$24*10)*($B$24/100))*$B29),IF(P$23="kg/t SAR",(P$24*$B29),IF(P$23="kg/t DM",((P$24*($B$24/100))*$B29),IF(P$23="mg/kg SAR",((P$24*0.001)*$B29),IF(P$23="mg/kg DM",(((P$24*0.001)*($B$24/100))*$B29),0)))))) -> 148.708 | Q29: =(IF(Q$23="%w/w SAR",((Q$24*10)*$B29),IF(Q$23="%w/w DM",(((Q$24*10)*($B$24/100))*$B29),IF(Q$23="kg/t SAR",(Q$24*$B29),IF(Q$23="kg/t DM",((Q$24*($B$24/100))*$B29),IF(Q$23="mg/kg SAR",((Q$24*0.001)*$B29),IF(Q$23="mg/kg DM",(((Q$24*0.001)*($B$24/100))*$B29),0)))))))*2.5 -> 53.11 | R29: =IF(R$23="%w/w SAR",((R$24*10)*$B29),IF(R$23="%w/w DM",(((R$24*10)*($B$24/100))*$B29),IF(R$23="kg/t SAR",(R$24*$B29),IF(R$23="kg/t DM",((R$24*($B$24/100))*$B29),IF(R$23="mg/kg SAR",((R$24*0.001)*$B29),IF(R$23="mg/kg DM",(((R$24*0.001)*($B$24/100))*$B29),0)))))) -> 0 | S29: =IF(S$23="%w/w SAR",((S$24*10)*$B29),IF(S$23="%w/w DM",(((S$24*10)*($B$24/100))*$B29),IF(S$23="kg/t SAR",(S$24*$B29),IF(S$23="kg/t DM",((S$24*($B$24/100))*$B29),IF(S$23="mg/kg SAR",((S$24*0.001)*$B29),IF(S$23="mg/kg DM",(((S$24*0.001)*($B$24/100))*$B29),0)))))) -> 0 | T29: =IF(T$23="%w/w SAR",((T$24*10)*$B29),IF(T$23="%w/w DM",(((T$24*10)*($B$24/100))*$B29),IF(T$23="kg/t SAR",(T$24*$B29),IF(T$23="kg/t DM",((T$24*($B$24/100))*$B29),IF(T$23="mg/kg SAR",((T$24*0.001)*$B29),IF(T$23="mg/kg DM",(((T$24*0.001)*($B$24/100))*$B29),0)))))) -> 0 | U29: =IF(U$23="%w/w SAR",((U$24*10)*$B29),IF(U$23="%w/w DM",(((U$24*10)*($B$24/100))*$B29),IF(U$23="kg/t SAR",(U$24*$B29),IF(U$23="kg/t DM",((U$24*($B$24/100))*$B29),IF(U$23="mg/kg SAR",((U$24*0.001)*$B29),IF(U$23="mg/kg DM",(((U$24*0.001)*($B$24/100))*$B29),0)))))) -> 0 | V29: =IF($V$24="",0,IF($V$24>5000,"NOT OK","OK")) -> OK | W29: =IF($W$24="",0,IF($W$24>4,"Not OK","OK")) -> OK
A30: =F8 -> 11 | B30: 41 | C30: =IF(C$23="%w/w SAR",((C$24*10)*$B30),IF(C$23="%w/w DM",(((C$24*10)*($B$24/100))*$B30),IF(C$23="kg/t SAR",(C$24*$B30),IF(C$23="kg/t DM",((C$24*($B$24/100))*$B30),IF(C$23="mg/kg SAR",((C$24*0.001)*$B30),IF(C$23="mg/kg DM",(((C$24*0.001)*($B$24/100))*$B30),0)))))) -> 90.2 | D30: =(IF(D$23="%w/w SAR",((D$24*10)*$B30),IF(D$23="%w/w DM",(((D$24*10)*($B$24/100))*$B30),IF(D$23="kg/t SAR",(D$24*$B30),IF(D$23="kg/t DM",((D$24*($B$24/100))*$B30),IF(D$23="mg/kg SAR",((D$24*0.001)*$B30),IF(D$23="mg/kg DM",(((D$24*0.001)*($B$24/100))*$B30),"0")))))))*2.291 -> 79.747419 | E30: =(IF(E$23="%w/w SAR",((E$24*10)*$B30),IF(E$23="%w/w DM",(((E$24*10)*($B$24/100))*$B30),IF(E$23="kg/t SAR",(E$24*$B30),IF(E$23="kg/t DM",((E$24*($B$24/100))*$B30),IF(E$23="mg/kg SAR",((E$24*0.001)*$B30),IF(E$23="mg/kg DM",(((E$24*0.001)*($B$24/100))*$B30),"0")))))))*1.205 -> 10.029215 | F30: =(IF(F$23="%w/w SAR",((F$24*10)*$B30),IF(F$23="%w/w DM",(((F$24*10)*($B$24/100))*$B30),IF(F$23="kg/t SAR",(F$24*$B30),IF(F$23="kg/t DM",((F$24*($B$24/100))*$B30),IF(F$23="mg/kg SAR",((F$24*0.001)*$B30),IF(F$23="mg/kg DM",(((F$24*0.001)*($B$24/100))*$B30),"0")))))))*1.658 -> 3.534856 | G30: =IF(G$23="%w/w SAR",((G$24*10)*$B30),IF(G$23="%w/w DM",(((G$24*10)*($B$24/100))*$B30),IF(G$23="kg/t SAR",(G$24*$B30),IF(G$23="kg/t DM",((G$24*($B$24/100))*$B30),IF(G$23="mg/kg SAR",((G$24*0.001)*$B30),IF(G$23="mg/kg DM",(((G$24*0.001)*($B$24/100))*$B30),0)))))) -> 0.01353 | H30: =IF(H$23="%w/w SAR",((H$24*10)*$B30),IF(H$23="%w/w DM",(((H$24*10)*($B$24/100))*$B30),IF(H$23="kg/t SAR",(H$24*$B30),IF(H$23="kg/t DM",((H$24*($B$24/100))*$B30),IF(H$23="mg/kg SAR",((H$24*0.001)*$B30),IF(H$23="mg/kg DM",(((H$24*0.001)*($B$24/100))*$B30),0)))))) -> 0.11644 | I30: =IF(I$23="%w/w SAR",((I$24*10)*$B30),IF(I$23="%w/w DM",(((I$24*10)*($B$24/100))*$B30),IF(I$23="kg/t SAR",(I$24*$B30),IF(I$23="kg/t DM",((I$24*($B$24/100))*$B30),IF(I$23="mg/kg SAR",((I$24*0.001)*$B30),IF(I$23="mg/kg DM",(((I$24*0.001)*($B$24/100))*$B30),0)))))) -> 0.0205 | J30: =IF(J$23="%w/w SAR",((J$24*10)*$B30),IF(J$23="%w/w DM",(((J$24*10)*($B$24/100))*$B30),IF(J$23="kg/t SAR",(J$24*$B30),IF(J$23="kg/t DM",((J$24*($B$24/100))*$B30),IF(J$23="mg/kg SAR",((J$24*0.001)*$B30),IF(J$23="mg/kg DM",(((J$24*0.001)*($B$24/100))*$B30),0)))))) -> 0.00041 | K30: =IF(K$23="%w/w SAR",((K$24*10)*$B30),IF(K$23="%w/w DM",(((K$24*10)*($B$24/100))*$B30),IF(K$23="kg/t SAR",(K$24*$B30),IF(K$23="kg/t DM",((K$24*($B$24/100))*$B30),IF(K$23="mg/kg SAR",((K$24*0.001)*$B30),IF(K$23="mg/kg DM",(((K$24*0.001)*($B$24/100))*$B30),0)))))) -> 0.00205 | L30: =IF(L$23="%w/w SAR",((L$24*10)*$B30),IF(L$23="%w/w DM",(((L$24*10)*($B$24/100))*$B30),IF(L$23="kg/t SAR",(L$24*$B30),IF(L$23="kg/t DM",((L$24*($B$24/100))*$B30),IF(L$23="mg/kg SAR",((L$24*0.001)*$B30),IF(L$23="mg/kg DM",(((L$24*0.001)*($B$24/100))*$B30),0)))))) -> 0.0082 | M30: =IF(M$23="%w/w SAR",((M$24*10)*$B30),IF(M$23="%w/w DM",(((M$24*10)*($B$24/100))*$B30),IF(M$23="kg/t SAR",(M$24*$B30),IF(M$23="kg/t DM",((M$24*($B$24/100))*$B30),IF(M$23="mg/kg SAR",((M$24*0.001)*$B30),IF(M$23="mg/kg DM",(((M$24*0.001)*($B$24/100))*$B30),0)))))) -> 0.03157 | N30: =IF(N$23="%w/w SAR",((N$24*10)*$B30),IF(N$23="%w/w DM",(((N$24*10)*($B$24/100))*$B30),IF(N$23="kg/t SAR",(N$24*$B30),IF(N$23="kg/t DM",((N$24*($B$24/100))*$B30),IF(N$23="mg/kg SAR",((N$24*0.001)*$B30),IF(N$23="mg/kg DM",(((N$24*0.001)*($B$24/100))*$B30),0)))))) -> 0 | ... P30: =IF(P$23="%w/w SAR",((P$24*10)*$B30),IF(P$23="%w/w DM",(((P$24*10)*($B$24/100))*$B30),IF(P$23="kg/t SAR",(P$24*$B30),IF(P$23="kg/t DM",((P$24*($B$24/100))*$B30),IF(P$23="mg/kg SAR",((P$24*0.001)*$B30),IF(P$23="mg/kg DM",(((P$24*0.001)*($B$24/100))*$B30),0)))))) -> 53.956 | Q30: =(IF(Q$23="%w/w SAR",((Q$24*10)*$B30),IF(Q$23="%w/w DM",(((Q$24*10)*($B$24/100))*$B30),IF(Q$23="kg/t SAR",(Q$24*$B30),IF(Q$23="kg/t DM",((Q$24*($B$24/100))*$B30),IF(Q$23="mg/kg SAR",((Q$24*0.001)*$B30),IF(Q$23="mg/kg DM",(((Q$24*0.001)*($B$24/100))*$B30),0)))))))*2.5 -> 19.27 | R30: =IF(R$23="%w/w SAR",((R$24*10)*$B30),IF(R$23="%w/w DM",(((R$24*10)*($B$24/100))*$B30),IF(R$23="kg/t SAR",(R$24*$B30),IF(R$23="kg/t DM",((R$24*($B$24/100))*$B30),IF(R$23="mg/kg SAR",((R$24*0.001)*$B30),IF(R$23="mg/kg DM",(((R$24*0.001)*($B$24/100))*$B30),0)))))) -> 0 | S30: =IF(S$23="%w/w SAR",((S$24*10)*$B30),IF(S$23="%w/w DM",(((S$24*10)*($B$24/100))*$B30),IF(S$23="kg/t SAR",(S$24*$B30),IF(S$23="kg/t DM",((S$24*($B$24/100))*$B30),IF(S$23="mg/kg SAR",((S$24*0.001)*$B30),IF(S$23="mg/kg DM",(((S$24*0.001)*($B$24/100))*$B30),0)))))) -> 0 | T30: =IF(T$23="%w/w SAR",((T$24*10)*$B30),IF(T$23="%w/w DM",(((T$24*10)*($B$24/100))*$B30),IF(T$23="kg/t SAR",(T$24*$B30),IF(T$23="kg/t DM",((T$24*($B$24/100))*$B30),IF(T$23="mg/kg SAR",((T$24*0.001)*$B30),IF(T$23="mg/kg DM",(((T$24*0.001)*($B$24/100))*$B30),0)))))) -> 0 | U30: =IF(U$23="%w/w SAR",((U$24*10)*$B30),IF(U$23="%w/w DM",(((U$24*10)*($B$24/100))*$B30),IF(U$23="kg/t SAR",(U$24*$B30),IF(U$23="kg/t DM",((U$24*($B$24/100))*$B30),IF(U$23="mg/kg SAR",((U$24*0.001)*$B30),IF(U$23="mg/kg DM",(((U$24*0.001)*($B$24/100))*$B30),0)))))) -> 0 | V30: =IF($V$24="",0,IF($V$24>5000,"NOT OK","OK")) -> OK | W30: =IF($W$24="",0,IF($W$24>4,"Not OK","OK")) -> OK
A31: =G8 -> 12 | B31: 68 | C31: =IF(C$23="%w/w SAR",((C$24*10)*$B31),IF(C$23="%w/w DM",(((C$24*10)*($B$24/100))*$B31),IF(C$23="kg/t SAR",(C$24*$B31),IF(C$23="kg/t DM",((C$24*($B$24/100))*$B31),IF(C$23="mg/kg SAR",((C$24*0.001)*$B31),IF(C$23="mg/kg DM",(((C$24*0.001)*($B$24/100))*$B31),0)))))) -> 149.6 | D31: =(IF(D$23="%w/w SAR",((D$24*10)*$B31),IF(D$23="%w/w DM",(((D$24*10)*($B$24/100))*$B31),IF(D$23="kg/t SAR",(D$24*$B31),IF(D$23="kg/t DM",((D$24*($B$24/100))*$B31),IF(D$23="mg/kg SAR",((D$24*0.001)*$B31),IF(D$23="mg/kg DM",(((D$24*0.001)*($B$24/100))*$B31),"0")))))))*2.291 -> 132.26401 | E31: =(IF(E$23="%w/w SAR",((E$24*10)*$B31),IF(E$23="%w/w DM",(((E$24*10)*($B$24/100))*$B31),IF(E$23="kg/t SAR",(E$24*$B31),IF(E$23="kg/t DM",((E$24*($B$24/100))*$B31),IF(E$23="mg/kg SAR",((E$24*0.001)*$B31),IF(E$23="mg/kg DM",(((E$24*0.001)*($B$24/100))*$B31),"0")))))))*1.205 -> 16.63382 | F31: =(IF(F$23="%w/w SAR",((F$24*10)*$B31),IF(F$23="%w/w DM",(((F$24*10)*($B$24/100))*$B31),IF(F$23="kg/t SAR",(F$24*$B31),IF(F$23="kg/t DM",((F$24*($B$24/100))*$B31),IF(F$23="mg/kg SAR",((F$24*0.001)*$B31),IF(F$23="mg/kg DM",(((F$24*0.001)*($B$24/100))*$B31),"0")))))))*1.658 -> 5.862688 | G31: =IF(G$23="%w/w SAR",((G$24*10)*$B31),IF(G$23="%w/w DM",(((G$24*10)*($B$24/100))*$B31),IF(G$23="kg/t SAR",(G$24*$B31),IF(G$23="kg/t DM",((G$24*($B$24/100))*$B31),IF(G$23="mg/kg SAR",((G$24*0.001)*$B31),IF(G$23="mg/kg DM",(((G$24*0.001)*($B$24/100))*$B31),0)))))) -> 0.02244 | H31: =IF(H$23="%w/w SAR",((H$24*10)*$B31),IF(H$23="%w/w DM",(((H$24*10)*($B$24/100))*$B31),IF(H$23="kg/t SAR",(H$24*$B31),IF(H$23="kg/t DM",((H$24*($B$24/100))*$B31),IF(H$23="mg/kg SAR",((H$24*0.001)*$B31),IF(H$23="mg/kg DM",(((H$24*0.001)*($B$24/100))*$B31),0)))))) -> 0.19312 | I31: =IF(I$23="%w/w SAR",((I$24*10)*$B31),IF(I$23="%w/w DM",(((I$24*10)*($B$24/100))*$B31),IF(I$23="kg/t SAR",(I$24*$B31),IF(I$23="kg/t DM",((I$24*($B$24/100))*$B31),IF(I$23="mg/kg SAR",((I$24*0.001)*$B31),IF(I$23="mg/kg DM",(((I$24*0.001)*($B$24/100))*$B31),0)))))) -> 0.034 | J31: =IF(J$23="%w/w SAR",((J$24*10)*$B31),IF(J$23="%w/w DM",(((J$24*10)*($B$24/100))*$B31),IF(J$23="kg/t SAR",(J$24*$B31),IF(J$23="kg/t DM",((J$24*($B$24/100))*$B31),IF(J$23="mg/kg SAR",((J$24*0.001)*$B31),IF(J$23="mg/kg DM",(((J$24*0.001)*($B$24/100))*$B31),0)))))) -> 0.00068 | K31: =IF(K$23="%w/w SAR",((K$24*10)*$B31),IF(K$23="%w/w DM",(((K$24*10)*($B$24/100))*$B31),IF(K$23="kg/t SAR",(K$24*$B31),IF(K$23="kg/t DM",((K$24*($B$24/100))*$B31),IF(K$23="mg/kg SAR",((K$24*0.001)*$B31),IF(K$23="mg/kg DM",(((K$24*0.001)*($B$24/100))*$B31),0)))))) -> 0.0034 | L31: =IF(L$23="%w/w SAR",((L$24*10)*$B31),IF(L$23="%w/w DM",(((L$24*10)*($B$24/100))*$B31),IF(L$23="kg/t SAR",(L$24*$B31),IF(L$23="kg/t DM",((L$24*($B$24/100))*$B31),IF(L$23="mg/kg SAR",((L$24*0.001)*$B31),IF(L$23="mg/kg DM",(((L$24*0.001)*($B$24/100))*$B31),0)))))) -> 0.0136 | M31: =IF(M$23="%w/w SAR",((M$24*10)*$B31),IF(M$23="%w/w DM",(((M$24*10)*($B$24/100))*$B31),IF(M$23="kg/t SAR",(M$24*$B31),IF(M$23="kg/t DM",((M$24*($B$24/100))*$B31),IF(M$23="mg/kg SAR",((M$24*0.001)*$B31),IF(M$23="mg/kg DM",(((M$24*0.001)*($B$24/100))*$B31),0)))))) -> 0.05236 | N31: =IF(N$23="%w/w SAR",((N$24*10)*$B31),IF(N$23="%w/w DM",(((N$24*10)*($B$24/100))*$B31),IF(N$23="kg/t SAR",(N$24*$B31),IF(N$23="kg/t DM",((N$24*($B$24/100))*$B31),IF(N$23="mg/kg SAR",((N$24*0.001)*$B31),IF(N$23="mg/kg DM",(((N$24*0.001)*($B$24/100))*$B31),0)))))) -> 0 | ... P31: =IF(P$23="%w/w SAR",((P$24*10)*$B31),IF(P$23="%w/w DM",(((P$24*10)*($B$24/100))*$B31),IF(P$23="kg/t SAR",(P$24*$B31),IF(P$23="kg/t DM",((P$24*($B$24/100))*$B31),IF(P$23="mg/kg SAR",((P$24*0.001)*$B31),IF(P$23="mg/kg DM",(((P$24*0.001)*($B$24/100))*$B31),0)))))) -> 89.488 | Q31: =(IF(Q$23="%w/w SAR",((Q$24*10)*$B31),IF(Q$23="%w/w DM",(((Q$24*10)*($B$24/100))*$B31),IF(Q$23="kg/t SAR",(Q$24*$B31),IF(Q$23="kg/t DM",((Q$24*($B$24/100))*$B31),IF(Q$23="mg/kg SAR",((Q$24*0.001)*$B31),IF(Q$23="mg/kg DM",(((Q$24*0.001)*($B$24/100))*$B31),0)))))))*2.5 -> 31.96 | R31: =IF(R$23="%w/w SAR",((R$24*10)*$B31),IF(R$23="%w/w DM",(((R$24*10)*($B$24/100))*$B31),IF(R$23="kg/t SAR",(R$24*$B31),IF(R$23="kg/t DM",((R$24*($B$24/100))*$B31),IF(R$23="mg/kg SAR",((R$24*0.001)*$B31),IF(R$23="mg/kg DM",(((R$24*0.001)*($B$24/100))*$B31),0)))))) -> 0 | S31: =IF(S$23="%w/w SAR",((S$24*10)*$B31),IF(S$23="%w/w DM",(((S$24*10)*($B$24/100))*$B31),IF(S$23="kg/t SAR",(S$24*$B31),IF(S$23="kg/t DM",((S$24*($B$24/100))*$B31),IF(S$23="mg/kg SAR",((S$24*0.001)*$B31),IF(S$23="mg/kg DM",(((S$24*0.001)*($B$24/100))*$B31),0)))))) -> 0 | T31: =IF(T$23="%w/w SAR",((T$24*10)*$B31),IF(T$23="%w/w DM",(((T$24*10)*($B$24/100))*$B31),IF(T$23="kg/t SAR",(T$24*$B31),IF(T$23="kg/t DM",((T$24*($B$24/100))*$B31),IF(T$23="mg/kg SAR",((T$24*0.001)*$B31),IF(T$23="mg/kg DM",(((T$24*0.001)*($B$24/100))*$B31),0)))))) -> 0 | U31: =IF(U$23="%w/w SAR",((U$24*10)*$B31),IF(U$23="%w/w DM",(((U$24*10)*($B$24/100))*$B31),IF(U$23="kg/t SAR",(U$24*$B31),IF(U$23="kg/t DM",((U$24*($B$24/100))*$B31),IF(U$23="mg/kg SAR",((U$24*0.001)*$B31),IF(U$23="mg/kg DM",(((U$24*0.001)*($B$24/100))*$B31),0)))))) -> 0 | V31: =IF($V$24="",0,IF($V$24>5000,"NOT OK","OK")) -> OK | W31: =IF($W$24="",0,IF($W$24>4,"Not OK","OK")) -> OK
A32: =H8 -> 9 | B32: 26 | C32: =IF(C$23="%w/w SAR",((C$24*10)*$B32),IF(C$23="%w/w DM",(((C$24*10)*($B$24/100))*$B32),IF(C$23="kg/t SAR",(C$24*$B32),IF(C$23="kg/t DM",((C$24*($B$24/100))*$B32),IF(C$23="mg/kg SAR",((C$24*0.001)*$B32),IF(C$23="mg/kg DM",(((C$24*0.001)*($B$24/100))*$B32),0)))))) -> 57.2 | D32: =(IF(D$23="%w/w SAR",((D$24*10)*$B32),IF(D$23="%w/w DM",(((D$24*10)*($B$24/100))*$B32),IF(D$23="kg/t SAR",(D$24*$B32),IF(D$23="kg/t DM",((D$24*($B$24/100))*$B32),IF(D$23="mg/kg SAR",((D$24*0.001)*$B32),IF(D$23="mg/kg DM",(((D$24*0.001)*($B$24/100))*$B32),"0")))))))*2.291 -> 50.571534 | E32: =(IF(E$23="%w/w SAR",((E$24*10)*$B32),IF(E$23="%w/w DM",(((E$24*10)*($B$24/100))*$B32),IF(E$23="kg/t SAR",(E$24*$B32),IF(E$23="kg/t DM",((E$24*($B$24/100))*$B32),IF(E$23="mg/kg SAR",((E$24*0.001)*$B32),IF(E$23="mg/kg DM",(((E$24*0.001)*($B$24/100))*$B32),"0")))))))*1.205 -> 6.35999 | F32: =(IF(F$23="%w/w SAR",((F$24*10)*$B32),IF(F$23="%w/w DM",(((F$24*10)*($B$24/100))*$B32),IF(F$23="kg/t SAR",(F$24*$B32),IF(F$23="kg/t DM",((F$24*($B$24/100))*$B32),IF(F$23="mg/kg SAR",((F$24*0.001)*$B32),IF(F$23="mg/kg DM",(((F$24*0.001)*($B$24/100))*$B32),"0")))))))*1.658 -> 2.241616 | G32: =IF(G$23="%w/w SAR",((G$24*10)*$B32),IF(G$23="%w/w DM",(((G$24*10)*($B$24/100))*$B32),IF(G$23="kg/t SAR",(G$24*$B32),IF(G$23="kg/t DM",((G$24*($B$24/100))*$B32),IF(G$23="mg/kg SAR",((G$24*0.001)*$B32),IF(G$23="mg/kg DM",(((G$24*0.001)*($B$24/100))*$B32),0)))))) -> 0.00858 | H32: =IF(H$23="%w/w SAR",((H$24*10)*$B32),IF(H$23="%w/w DM",(((H$24*10)*($B$24/100))*$B32),IF(H$23="kg/t SAR",(H$24*$B32),IF(H$23="kg/t DM",((H$24*($B$24/100))*$B32),IF(H$23="mg/kg SAR",((H$24*0.001)*$B32),IF(H$23="mg/kg DM",(((H$24*0.001)*($B$24/100))*$B32),0)))))) -> 0.07384 | I32: =IF(I$23="%w/w SAR",((I$24*10)*$B32),IF(I$23="%w/w DM",(((I$24*10)*($B$24/100))*$B32),IF(I$23="kg/t SAR",(I$24*$B32),IF(I$23="kg/t DM",((I$24*($B$24/100))*$B32),IF(I$23="mg/kg SAR",((I$24*0.001)*$B32),IF(I$23="mg/kg DM",(((I$24*0.001)*($B$24/100))*$B32),0)))))) -> 0.013 | J32: =IF(J$23="%w/w SAR",((J$24*10)*$B32),IF(J$23="%w/w DM",(((J$24*10)*($B$24/100))*$B32),IF(J$23="kg/t SAR",(J$24*$B32),IF(J$23="kg/t DM",((J$24*($B$24/100))*$B32),IF(J$23="mg/kg SAR",((J$24*0.001)*$B32),IF(J$23="mg/kg DM",(((J$24*0.001)*($B$24/100))*$B32),0)))))) -> 0.00026 | K32: =IF(K$23="%w/w SAR",((K$24*10)*$B32),IF(K$23="%w/w DM",(((K$24*10)*($B$24/100))*$B32),IF(K$23="kg/t SAR",(K$24*$B32),IF(K$23="kg/t DM",((K$24*($B$24/100))*$B32),IF(K$23="mg/kg SAR",((K$24*0.001)*$B32),IF(K$23="mg/kg DM",(((K$24*0.001)*($B$24/100))*$B32),0)))))) -> 0.0013 | L32: =IF(L$23="%w/w SAR",((L$24*10)*$B32),IF(L$23="%w/w DM",(((L$24*10)*($B$24/100))*$B32),IF(L$23="kg/t SAR",(L$24*$B32),IF(L$23="kg/t DM",((L$24*($B$24/100))*$B32),IF(L$23="mg/kg SAR",((L$24*0.001)*$B32),IF(L$23="mg/kg DM",(((L$24*0.001)*($B$24/100))*$B32),0)))))) -> 0.0052 | M32: =IF(M$23="%w/w SAR",((M$24*10)*$B32),IF(M$23="%w/w DM",(((M$24*10)*($B$24/100))*$B32),IF(M$23="kg/t SAR",(M$24*$B32),IF(M$23="kg/t DM",((M$24*($B$24/100))*$B32),IF(M$23="mg/kg SAR",((M$24*0.001)*$B32),IF(M$23="mg/kg DM",(((M$24*0.001)*($B$24/100))*$B32),0)))))) -> 0.02002 | N32: =IF(N$23="%w/w SAR",((N$24*10)*$B32),IF(N$23="%w/w DM",(((N$24*10)*($B$24/100))*$B32),IF(N$23="kg/t SAR",(N$24*$B32),IF(N$23="kg/t DM",((N$24*($B$24/100))*$B32),IF(N$23="mg/kg SAR",((N$24*0.001)*$B32),IF(N$23="mg/kg DM",(((N$24*0.001)*($B$24/100))*$B32),0)))))) -> 0 | ... P32: =IF(P$23="%w/w SAR",((P$24*10)*$B32),IF(P$23="%w/w DM",(((P$24*10)*($B$24/100))*$B32),IF(P$23="kg/t SAR",(P$24*$B32),IF(P$23="kg/t DM",((P$24*($B$24/100))*$B32),IF(P$23="mg/kg SAR",((P$24*0.001)*$B32),IF(P$23="mg/kg DM",(((P$24*0.001)*($B$24/100))*$B32),0)))))) -> 34.216 | Q32: =(IF(Q$23="%w/w SAR",((Q$24*10)*$B32),IF(Q$23="%w/w DM",(((Q$24*10)*($B$24/100))*$B32),IF(Q$23="kg/t SAR",(Q$24*$B32),IF(Q$23="kg/t DM",((Q$24*($B$24/100))*$B32),IF(Q$23="mg/kg SAR",((Q$24*0.001)*$B32),IF(Q$23="mg/kg DM",(((Q$24*0.001)*($B$24/100))*$B32),0)))))))*2.5 -> 12.22 | R32: =IF(R$23="%w/w SAR",((R$24*10)*$B32),IF(R$23="%w/w DM",(((R$24*10)*($B$24/100))*$B32),IF(R$23="kg/t SAR",(R$24*$B32),IF(R$23="kg/t DM",((R$24*($B$24/100))*$B32),IF(R$23="mg/kg SAR",((R$24*0.001)*$B32),IF(R$23="mg/kg DM",(((R$24*0.001)*($B$24/100))*$B32),0)))))) -> 0 | S32: =IF(S$23="%w/w SAR",((S$24*10)*$B32),IF(S$23="%w/w DM",(((S$24*10)*($B$24/100))*$B32),IF(S$23="kg/t SAR",(S$24*$B32),IF(S$23="kg/t DM",((S$24*($B$24/100))*$B32),IF(S$23="mg/kg SAR",((S$24*0.001)*$B32),IF(S$23="mg/kg DM",(((S$24*0.001)*($B$24/100))*$B32),0)))))) -> 0 | T32: =IF(T$23="%w/w SAR",((T$24*10)*$B32),IF(T$23="%w/w DM",(((T$24*10)*($B$24/100))*$B32),IF(T$23="kg/t SAR",(T$24*$B32),IF(T$23="kg/t DM",((T$24*($B$24/100))*$B32),IF(T$23="mg/kg SAR",((T$24*0.001)*$B32),IF(T$23="mg/kg DM",(((T$24*0.001)*($B$24/100))*$B32),0)))))) -> 0 | U32: =IF(U$23="%w/w SAR",((U$24*10)*$B32),IF(U$23="%w/w DM",(((U$24*10)*($B$24/100))*$B32),IF(U$23="kg/t SAR",(U$24*$B32),IF(U$23="kg/t DM",((U$24*($B$24/100))*$B32),IF(U$23="mg/kg SAR",((U$24*0.001)*$B32),IF(U$23="mg/kg DM",(((U$24*0.001)*($B$24/100))*$B32),0)))))) -> 0 | V32: =IF($V$24="",0,IF($V$24>5000,"NOT OK","OK")) -> OK | W32: =IF($W$24="",0,IF($W$24>4,"Not OK","OK")) -> OK
A33: =I8 -> 8 | B33: 26 | C33: =IF(C$23="%w/w SAR",((C$24*10)*$B33),IF(C$23="%w/w DM",(((C$24*10)*($B$24/100))*$B33),IF(C$23="kg/t SAR",(C$24*$B33),IF(C$23="kg/t DM",((C$24*($B$24/100))*$B33),IF(C$23="mg/kg SAR",((C$24*0.001)*$B33),IF(C$23="mg/kg DM",(((C$24*0.001)*($B$24/100))*$B33),0)))))) -> 57.2 | D33: =(IF(D$23="%w/w SAR",((D$24*10)*$B33),IF(D$23="%w/w DM",(((D$24*10)*($B$24/100))*$B33),IF(D$23="kg/t SAR",(D$24*$B33),IF(D$23="kg/t DM",((D$24*($B$24/100))*$B33),IF(D$23="mg/kg SAR",((D$24*0.001)*$B33),IF(D$23="mg/kg DM",(((D$24*0.001)*($B$24/100))*$B33),"0")))))))*2.291 -> 50.571534 | E33: =(IF(E$23="%w/w SAR",((E$24*10)*$B33),IF(E$23="%w/w DM",(((E$24*10)*($B$24/100))*$B33),IF(E$23="kg/t SAR",(E$24*$B33),IF(E$23="kg/t DM",((E$24*($B$24/100))*$B33),IF(E$23="mg/kg SAR",((E$24*0.001)*$B33),IF(E$23="mg/kg DM",(((E$24*0.001)*($B$24/100))*$B33),"0")))))))*1.205 -> 6.35999 | F33: =(IF(F$23="%w/w SAR",((F$24*10)*$B33),IF(F$23="%w/w DM",(((F$24*10)*($B$24/100))*$B33),IF(F$23="kg/t SAR",(F$24*$B33),IF(F$23="kg/t DM",((F$24*($B$24/100))*$B33),IF(F$23="mg/kg SAR",((F$24*0.001)*$B33),IF(F$23="mg/kg DM",(((F$24*0.001)*($B$24/100))*$B33),"0")))))))*1.658 -> 2.241616 | G33: =IF(G$23="%w/w SAR",((G$24*10)*$B33),IF(G$23="%w/w DM",(((G$24*10)*($B$24/100))*$B33),IF(G$23="kg/t SAR",(G$24*$B33),IF(G$23="kg/t DM",((G$24*($B$24/100))*$B33),IF(G$23="mg/kg SAR",((G$24*0.001)*$B33),IF(G$23="mg/kg DM",(((G$24*0.001)*($B$24/100))*$B33),0)))))) -> 0.00858 | H33: =IF(H$23="%w/w SAR",((H$24*10)*$B33),IF(H$23="%w/w DM",(((H$24*10)*($B$24/100))*$B33),IF(H$23="kg/t SAR",(H$24*$B33),IF(H$23="kg/t DM",((H$24*($B$24/100))*$B33),IF(H$23="mg/kg SAR",((H$24*0.001)*$B33),IF(H$23="mg/kg DM",(((H$24*0.001)*($B$24/100))*$B33),0)))))) -> 0.07384 | I33: =IF(I$23="%w/w SAR",((I$24*10)*$B33),IF(I$23="%w/w DM",(((I$24*10)*($B$24/100))*$B33),IF(I$23="kg/t SAR",(I$24*$B33),IF(I$23="kg/t DM",((I$24*($B$24/100))*$B33),IF(I$23="mg/kg SAR",((I$24*0.001)*$B33),IF(I$23="mg/kg DM",(((I$24*0.001)*($B$24/100))*$B33),0)))))) -> 0.013 | J33: =IF(J$23="%w/w SAR",((J$24*10)*$B33),IF(J$23="%w/w DM",(((J$24*10)*($B$24/100))*$B33),IF(J$23="kg/t SAR",(J$24*$B33),IF(J$23="kg/t DM",((J$24*($B$24/100))*$B33),IF(J$23="mg/kg SAR",((J$24*0.001)*$B33),IF(J$23="mg/kg DM",(((J$24*0.001)*($B$24/100))*$B33),0)))))) -> 0.00026 | K33: =IF(K$23="%w/w SAR",((K$24*10)*$B33),IF(K$23="%w/w DM",(((K$24*10)*($B$24/100))*$B33),IF(K$23="kg/t SAR",(K$24*$B33),IF(K$23="kg/t DM",((K$24*($B$24/100))*$B33),IF(K$23="mg/kg SAR",((K$24*0.001)*$B33),IF(K$23="mg/kg DM",(((K$24*0.001)*($B$24/100))*$B33),0)))))) -> 0.0013 | L33: =IF(L$23="%w/w SAR",((L$24*10)*$B33),IF(L$23="%w/w DM",(((L$24*10)*($B$24/100))*$B33),IF(L$23="kg/t SAR",(L$24*$B33),IF(L$23="kg/t DM",((L$24*($B$24/100))*$B33),IF(L$23="mg/kg SAR",((L$24*0.001)*$B33),IF(L$23="mg/kg DM",(((L$24*0.001)*($B$24/100))*$B33),0)))))) -> 0.0052 | M33: =IF(M$23="%w/w SAR",((M$24*10)*$B33),IF(M$23="%w/w DM",(((M$24*10)*($B$24/100))*$B33),IF(M$23="kg/t SAR",(M$24*$B33),IF(M$23="kg/t DM",((M$24*($B$24/100))*$B33),IF(M$23="mg/kg SAR",((M$24*0.001)*$B33),IF(M$23="mg/kg DM",(((M$24*0.001)*($B$24/100))*$B33),0)))))) -> 0.02002 | N33: =IF(N$23="%w/w SAR",((N$24*10)*$B33),IF(N$23="%w/w DM",(((N$24*10)*($B$24/100))*$B33),IF(N$23="kg/t SAR",(N$24*$B33),IF(N$23="kg/t DM",((N$24*($B$24/100))*$B33),IF(N$23="mg/kg SAR",((N$24*0.001)*$B33),IF(N$23="mg/kg DM",(((N$24*0.001)*($B$24/100))*$B33),0)))))) -> 0 | ... P33: =IF(P$23="%w/w SAR",((P$24*10)*$B33),IF(P$23="%w/w DM",(((P$24*10)*($B$24/100))*$B33),IF(P$23="kg/t SAR",(P$24*$B33),IF(P$23="kg/t DM",((P$24*($B$24/100))*$B33),IF(P$23="mg/kg SAR",((P$24*0.001)*$B33),IF(P$23="mg/kg DM",(((P$24*0.001)*($B$24/100))*$B33),0)))))) -> 34.216 | Q33: =(IF(Q$23="%w/w SAR",((Q$24*10)*$B33),IF(Q$23="%w/w DM",(((Q$24*10)*($B$24/100))*$B33),IF(Q$23="kg/t SAR",(Q$24*$B33),IF(Q$23="kg/t DM",((Q$24*($B$24/100))*$B33),IF(Q$23="mg/kg SAR",((Q$24*0.001)*$B33),IF(Q$23="mg/kg DM",(((Q$24*0.001)*($B$24/100))*$B33),0)))))))*2.5 -> 12.22 | R33: =IF(R$23="%w/w SAR",((R$24*10)*$B33),IF(R$23="%w/w DM",(((R$24*10)*($B$24/100))*$B33),IF(R$23="kg/t SAR",(R$24*$B33),IF(R$23="kg/t DM",((R$24*($B$24/100))*$B33),IF(R$23="mg/kg SAR",((R$24*0.001)*$B33),IF(R$23="mg/kg DM",(((R$24*0.001)*($B$24/100))*$B33),0)))))) -> 0 | S33: =IF(S$23="%w/w SAR",((S$24*10)*$B33),IF(S$23="%w/w DM",(((S$24*10)*($B$24/100))*$B33),IF(S$23="kg/t SAR",(S$24*$B33),IF(S$23="kg/t DM",((S$24*($B$24/100))*$B33),IF(S$23="mg/kg SAR",((S$24*0.001)*$B33),IF(S$23="mg/kg DM",(((S$24*0.001)*($B$24/100))*$B33),0)))))) -> 0 | T33: =IF(T$23="%w/w SAR",((T$24*10)*$B33),IF(T$23="%w/w DM",(((T$24*10)*($B$24/100))*$B33),IF(T$23="kg/t SAR",(T$24*$B33),IF(T$23="kg/t DM",((T$24*($B$24/100))*$B33),IF(T$23="mg/kg SAR",((T$24*0.001)*$B33),IF(T$23="mg/kg DM",(((T$24*0.001)*($B$24/100))*$B33),0)))))) -> 0 | U33: =IF(U$23="%w/w SAR",((U$24*10)*$B33),IF(U$23="%w/w DM",(((U$24*10)*($B$24/100))*$B33),IF(U$23="kg/t SAR",(U$24*$B33),IF(U$23="kg/t DM",((U$24*($B$24/100))*$B33),IF(U$23="mg/kg SAR",((U$24*0.001)*$B33),IF(U$23="mg/kg DM",(((U$24*0.001)*($B$24/100))*$B33),0)))))) -> 0 | V33: =IF($V$24="",0,IF($V$24>5000,"NOT OK","OK")) -> OK | W33: =IF($W$24="",0,IF($W$24>4,"Not OK","OK")) -> OK
A34: =J8 -> 13B | B34: 41 | C34: =IF(C$23="%w/w SAR",((C$24*10)*$B34),IF(C$23="%w/w DM",(((C$24*10)*($B$24/100))*$B34),IF(C$23="kg/t SAR",(C$24*$B34),IF(C$23="kg/t DM",((C$24*($B$24/100))*$B34),IF(C$23="mg/kg SAR",((C$24*0.001)*$B34),IF(C$23="mg/kg DM",(((C$24*0.001)*($B$24/100))*$B34),0)))))) -> 90.2 | D34: =(IF(D$23="%w/w SAR",((D$24*10)*$B34),IF(D$23="%w/w DM",(((D$24*10)*($B$24/100))*$B34),IF(D$23="kg/t SAR",(D$24*$B34),IF(D$23="kg/t DM",((D$24*($B$24/100))*$B34),IF(D$23="mg/kg SAR",((D$24*0.001)*$B34),IF(D$23="mg/kg DM",(((D$24*0.001)*($B$24/100))*$B34),"0")))))))*2.291 -> 79.747419 | E34: =(IF(E$23="%w/w SAR",((E$24*10)*$B34),IF(E$23="%w/w DM",(((E$24*10)*($B$24/100))*$B34),IF(E$23="kg/t SAR",(E$24*$B34),IF(E$23="kg/t DM",((E$24*($B$24/100))*$B34),IF(E$23="mg/kg SAR",((E$24*0.001)*$B34),IF(E$23="mg/kg DM",(((E$24*0.001)*($B$24/100))*$B34),"0")))))))*1.205 -> 10.029215 | F34: =(IF(F$23="%w/w SAR",((F$24*10)*$B34),IF(F$23="%w/w DM",(((F$24*10)*($B$24/100))*$B34),IF(F$23="kg/t SAR",(F$24*$B34),IF(F$23="kg/t DM",((F$24*($B$24/100))*$B34),IF(F$23="mg/kg SAR",((F$24*0.001)*$B34),IF(F$23="mg/kg DM",(((F$24*0.001)*($B$24/100))*$B34),"0")))))))*1.658 -> 3.534856 | G34: =IF(G$23="%w/w SAR",((G$24*10)*$B34),IF(G$23="%w/w DM",(((G$24*10)*($B$24/100))*$B34),IF(G$23="kg/t SAR",(G$24*$B34),IF(G$23="kg/t DM",((G$24*($B$24/100))*$B34),IF(G$23="mg/kg SAR",((G$24*0.001)*$B34),IF(G$23="mg/kg DM",(((G$24*0.001)*($B$24/100))*$B34),0)))))) -> 0.01353 | H34: =IF(H$23="%w/w SAR",((H$24*10)*$B34),IF(H$23="%w/w DM",(((H$24*10)*($B$24/100))*$B34),IF(H$23="kg/t SAR",(H$24*$B34),IF(H$23="kg/t DM",((H$24*($B$24/100))*$B34),IF(H$23="mg/kg SAR",((H$24*0.001)*$B34),IF(H$23="mg/kg DM",(((H$24*0.001)*($B$24/100))*$B34),0)))))) -> 0.11644 | I34: =IF(I$23="%w/w SAR",((I$24*10)*$B34),IF(I$23="%w/w DM",(((I$24*10)*($B$24/100))*$B34),IF(I$23="kg/t SAR",(I$24*$B34),IF(I$23="kg/t DM",((I$24*($B$24/100))*$B34),IF(I$23="mg/kg SAR",((I$24*0.001)*$B34),IF(I$23="mg/kg DM",(((I$24*0.001)*($B$24/100))*$B34),0)))))) -> 0.0205 | J34: =IF(J$23="%w/w SAR",((J$24*10)*$B34),IF(J$23="%w/w DM",(((J$24*10)*($B$24/100))*$B34),IF(J$23="kg/t SAR",(J$24*$B34),IF(J$23="kg/t DM",((J$24*($B$24/100))*$B34),IF(J$23="mg/kg SAR",((J$24*0.001)*$B34),IF(J$23="mg/kg DM",(((J$24*0.001)*($B$24/100))*$B34),0)))))) -> 0.00041 | K34: =IF(K$23="%w/w SAR",((K$24*10)*$B34),IF(K$23="%w/w DM",(((K$24*10)*($B$24/100))*$B34),IF(K$23="kg/t SAR",(K$24*$B34),IF(K$23="kg/t DM",((K$24*($B$24/100))*$B34),IF(K$23="mg/kg SAR",((K$24*0.001)*$B34),IF(K$23="mg/kg DM",(((K$24*0.001)*($B$24/100))*$B34),0)))))) -> 0.00205 | L34: =IF(L$23="%w/w SAR",((L$24*10)*$B34),IF(L$23="%w/w DM",(((L$24*10)*($B$24/100))*$B34),IF(L$23="kg/t SAR",(L$24*$B34),IF(L$23="kg/t DM",((L$24*($B$24/100))*$B34),IF(L$23="mg/kg SAR",((L$24*0.001)*$B34),IF(L$23="mg/kg DM",(((L$24*0.001)*($B$24/100))*$B34),0)))))) -> 0.0082 | M34: =IF(M$23="%w/w SAR",((M$24*10)*$B34),IF(M$23="%w/w DM",(((M$24*10)*($B$24/100))*$B34),IF(M$23="kg/t SAR",(M$24*$B34),IF(M$23="kg/t DM",((M$24*($B$24/100))*$B34),IF(M$23="mg/kg SAR",((M$24*0.001)*$B34),IF(M$23="mg/kg DM",(((M$24*0.001)*($B$24/100))*$B34),0)))))) -> 0.03157 | N34: =IF(N$23="%w/w SAR",((N$24*10)*$B34),IF(N$23="%w/w DM",(((N$24*10)*($B$24/100))*$B34),IF(N$23="kg/t SAR",(N$24*$B34),IF(N$23="kg/t DM",((N$24*($B$24/100))*$B34),IF(N$23="mg/kg SAR",((N$24*0.001)*$B34),IF(N$23="mg/kg DM",(((N$24*0.001)*($B$24/100))*$B34),0)))))) -> 0 | ... P34: =IF(P$23="%w/w SAR",((P$24*10)*$B34),IF(P$23="%w/w DM",(((P$24*10)*($B$24/100))*$B34),IF(P$23="kg/t SAR",(P$24*$B34),IF(P$23="kg/t DM",((P$24*($B$24/100))*$B34),IF(P$23="mg/kg SAR",((P$24*0.001)*$B34),IF(P$23="mg/kg DM",(((P$24*0.001)*($B$24/100))*$B34),0)))))) -> 53.956 | Q34: =(IF(Q$23="%w/w SAR",((Q$24*10)*$B34),IF(Q$23="%w/w DM",(((Q$24*10)*($B$24/100))*$B34),IF(Q$23="kg/t SAR",(Q$24*$B34),IF(Q$23="kg/t DM",((Q$24*($B$24/100))*$B34),IF(Q$23="mg/kg SAR",((Q$24*0.001)*$B34),IF(Q$23="mg/kg DM",(((Q$24*0.001)*($B$24/100))*$B34),0)))))))*2.5 -> 19.27 | R34: =IF(R$23="%w/w SAR",((R$24*10)*$B34),IF(R$23="%w/w DM",(((R$24*10)*($B$24/100))*$B34),IF(R$23="kg/t SAR",(R$24*$B34),IF(R$23="kg/t DM",((R$24*($B$24/100))*$B34),IF(R$23="mg/kg SAR",((R$24*0.001)*$B34),IF(R$23="mg/kg DM",(((R$24*0.001)*($B$24/100))*$B34),0)))))) -> 0 | S34: =IF(S$23="%w/w SAR",((S$24*10)*$B34),IF(S$23="%w/w DM",(((S$24*10)*($B$24/100))*$B34),IF(S$23="kg/t SAR",(S$24*$B34),IF(S$23="kg/t DM",((S$24*($B$24/100))*$B34),IF(S$23="mg/kg SAR",((S$24*0.001)*$B34),IF(S$23="mg/kg DM",(((S$24*0.001)*($B$24/100))*$B34),0)))))) -> 0 | T34: =IF(T$23="%w/w SAR",((T$24*10)*$B34),IF(T$23="%w/w DM",(((T$24*10)*($B$24/100))*$B34),IF(T$23="kg/t SAR",(T$24*$B34),IF(T$23="kg/t DM",((T$24*($B$24/100))*$B34),IF(T$23="mg/kg SAR",((T$24*0.001)*$B34),IF(T$23="mg/kg DM",(((T$24*0.001)*($B$24/100))*$B34),0)))))) -> 0 | U34: =IF(U$23="%w/w SAR",((U$24*10)*$B34),IF(U$23="%w/w DM",(((U$24*10)*($B$24/100))*$B34),IF(U$23="kg/t SAR",(U$24*$B34),IF(U$23="kg/t DM",((U$24*($B$24/100))*$B34),IF(U$23="mg/kg SAR",((U$24*0.001)*$B34),IF(U$23="mg/kg DM",(((U$24*0.001)*($B$24/100))*$B34),0)))))) -> 0 | V34: =IF($V$24="",0,IF($V$24>5000,"NOT OK","OK")) -> OK | W34: =IF($W$24="",0,IF($W$24>4,"Not OK","OK")) -> OK
A35: =K8 -> 13A | B35: 41 | C35: =IF(C$23="%w/w SAR",((C$24*10)*$B35),IF(C$23="%w/w DM",(((C$24*10)*($B$24/100))*$B35),IF(C$23="kg/t SAR",(C$24*$B35),IF(C$23="kg/t DM",((C$24*($B$24/100))*$B35),IF(C$23="mg/kg SAR",((C$24*0.001)*$B35),IF(C$23="mg/kg DM",(((C$24*0.001)*($B$24/100))*$B35),0)))))) -> 90.2 | D35: =(IF(D$23="%w/w SAR",((D$24*10)*$B35),IF(D$23="%w/w DM",(((D$24*10)*($B$24/100))*$B35),IF(D$23="kg/t SAR",(D$24*$B35),IF(D$23="kg/t DM",((D$24*($B$24/100))*$B35),IF(D$23="mg/kg SAR",((D$24*0.001)*$B35),IF(D$23="mg/kg DM",(((D$24*0.001)*($B$24/100))*$B35),"0")))))))*2.291 -> 79.747419 | E35: =(IF(E$23="%w/w SAR",((E$24*10)*$B35),IF(E$23="%w/w DM",(((E$24*10)*($B$24/100))*$B35),IF(E$23="kg/t SAR",(E$24*$B35),IF(E$23="kg/t DM",((E$24*($B$24/100))*$B35),IF(E$23="mg/kg SAR",((E$24*0.001)*$B35),IF(E$23="mg/kg DM",(((E$24*0.001)*($B$24/100))*$B35),"0")))))))*1.205 -> 10.029215 | F35: =(IF(F$23="%w/w SAR",((F$24*10)*$B35),IF(F$23="%w/w DM",(((F$24*10)*($B$24/100))*$B35),IF(F$23="kg/t SAR",(F$24*$B35),IF(F$23="kg/t DM",((F$24*($B$24/100))*$B35),IF(F$23="mg/kg SAR",((F$24*0.001)*$B35),IF(F$23="mg/kg DM",(((F$24*0.001)*($B$24/100))*$B35),"0")))))))*1.658 -> 3.534856 | G35: =IF(G$23="%w/w SAR",((G$24*10)*$B35),IF(G$23="%w/w DM",(((G$24*10)*($B$24/100))*$B35),IF(G$23="kg/t SAR",(G$24*$B35),IF(G$23="kg/t DM",((G$24*($B$24/100))*$B35),IF(G$23="mg/kg SAR",((G$24*0.001)*$B35),IF(G$23="mg/kg DM",(((G$24*0.001)*($B$24/100))*$B35),0)))))) -> 0.01353 | H35: =IF(H$23="%w/w SAR",((H$24*10)*$B35),IF(H$23="%w/w DM",(((H$24*10)*($B$24/100))*$B35),IF(H$23="kg/t SAR",(H$24*$B35),IF(H$23="kg/t DM",((H$24*($B$24/100))*$B35),IF(H$23="mg/kg SAR",((H$24*0.001)*$B35),IF(H$23="mg/kg DM",(((H$24*0.001)*($B$24/100))*$B35),0)))))) -> 0.11644 | I35: =IF(I$23="%w/w SAR",((I$24*10)*$B35),IF(I$23="%w/w DM",(((I$24*10)*($B$24/100))*$B35),IF(I$23="kg/t SAR",(I$24*$B35),IF(I$23="kg/t DM",((I$24*($B$24/100))*$B35),IF(I$23="mg/kg SAR",((I$24*0.001)*$B35),IF(I$23="mg/kg DM",(((I$24*0.001)*($B$24/100))*$B35),0)))))) -> 0.0205 | J35: =IF(J$23="%w/w SAR",((J$24*10)*$B35),IF(J$23="%w/w DM",(((J$24*10)*($B$24/100))*$B35),IF(J$23="kg/t SAR",(J$24*$B35),IF(J$23="kg/t DM",((J$24*($B$24/100))*$B35),IF(J$23="mg/kg SAR",((J$24*0.001)*$B35),IF(J$23="mg/kg DM",(((J$24*0.001)*($B$24/100))*$B35),0)))))) -> 0.00041 | K35: =IF(K$23="%w/w SAR",((K$24*10)*$B35),IF(K$23="%w/w DM",(((K$24*10)*($B$24/100))*$B35),IF(K$23="kg/t SAR",(K$24*$B35),IF(K$23="kg/t DM",((K$24*($B$24/100))*$B35),IF(K$23="mg/kg SAR",((K$24*0.001)*$B35),IF(K$23="mg/kg DM",(((K$24*0.001)*($B$24/100))*$B35),0)))))) -> 0.00205 | L35: =IF(L$23="%w/w SAR",((L$24*10)*$B35),IF(L$23="%w/w DM",(((L$24*10)*($B$24/100))*$B35),IF(L$23="kg/t SAR",(L$24*$B35),IF(L$23="kg/t DM",((L$24*($B$24/100))*$B35),IF(L$23="mg/kg SAR",((L$24*0.001)*$B35),IF(L$23="mg/kg DM",(((L$24*0.001)*($B$24/100))*$B35),0)))))) -> 0.0082 | M35: =IF(M$23="%w/w SAR",((M$24*10)*$B35),IF(M$23="%w/w DM",(((M$24*10)*($B$24/100))*$B35),IF(M$23="kg/t SAR",(M$24*$B35),IF(M$23="kg/t DM",((M$24*($B$24/100))*$B35),IF(M$23="mg/kg SAR",((M$24*0.001)*$B35),IF(M$23="mg/kg DM",(((M$24*0.001)*($B$24/100))*$B35),0)))))) -> 0.03157 | N35: =IF(N$23="%w/w SAR",((N$24*10)*$B35),IF(N$23="%w/w DM",(((N$24*10)*($B$24/100))*$B35),IF(N$23="kg/t SAR",(N$24*$B35),IF(N$23="kg/t DM",((N$24*($B$24/100))*$B35),IF(N$23="mg/kg SAR",((N$24*0.001)*$B35),IF(N$23="mg/kg DM",(((N$24*0.001)*($B$24/100))*$B35),0)))))) -> 0 | ... P35: =IF(P$23="%w/w SAR",((P$24*10)*$B35),IF(P$23="%w/w DM",(((P$24*10)*($B$24/100))*$B35),IF(P$23="kg/t SAR",(P$24*$B35),IF(P$23="kg/t DM",((P$24*($B$24/100))*$B35),IF(P$23="mg/kg SAR",((P$24*0.001)*$B35),IF(P$23="mg/kg DM",(((P$24*0.001)*($B$24/100))*$B35),0)))))) -> 53.956 | Q35: =(IF(Q$23="%w/w SAR",((Q$24*10)*$B35),IF(Q$23="%w/w DM",(((Q$24*10)*($B$24/100))*$B35),IF(Q$23="kg/t SAR",(Q$24*$B35),IF(Q$23="kg/t DM",((Q$24*($B$24/100))*$B35),IF(Q$23="mg/kg SAR",((Q$24*0.001)*$B35),IF(Q$23="mg/kg DM",(((Q$24*0.001)*($B$24/100))*$B35),0)))))))*2.5 -> 19.27 | R35: =IF(R$23="%w/w SAR",((R$24*10)*$B35),IF(R$23="%w/w DM",(((R$24*10)*($B$24/100))*$B35),IF(R$23="kg/t SAR",(R$24*$B35),IF(R$23="kg/t DM",((R$24*($B$24/100))*$B35),IF(R$23="mg/kg SAR",((R$24*0.001)*$B35),IF(R$23="mg/kg DM",(((R$24*0.001)*($B$24/100))*$B35),0)))))) -> 0 | S35: =IF(S$23="%w/w SAR",((S$24*10)*$B35),IF(S$23="%w/w DM",(((S$24*10)*($B$24/100))*$B35),IF(S$23="kg/t SAR",(S$24*$B35),IF(S$23="kg/t DM",((S$24*($B$24/100))*$B35),IF(S$23="mg/kg SAR",((S$24*0.001)*$B35),IF(S$23="mg/kg DM",(((S$24*0.001)*($B$24/100))*$B35),0)))))) -> 0 | T35: =IF(T$23="%w/w SAR",((T$24*10)*$B35),IF(T$23="%w/w DM",(((T$24*10)*($B$24/100))*$B35),IF(T$23="kg/t SAR",(T$24*$B35),IF(T$23="kg/t DM",((T$24*($B$24/100))*$B35),IF(T$23="mg/kg SAR",((T$24*0.001)*$B35),IF(T$23="mg/kg DM",(((T$24*0.001)*($B$24/100))*$B35),0)))))) -> 0 | U35: =IF(U$23="%w/w SAR",((U$24*10)*$B35),IF(U$23="%w/w DM",(((U$24*10)*($B$24/100))*$B35),IF(U$23="kg/t SAR",(U$24*$B35),IF(U$23="kg/t DM",((U$24*($B$24/100))*$B35),IF(U$23="mg/kg SAR",((U$24*0.001)*$B35),IF(U$23="mg/kg DM",(((U$24*0.001)*($B$24/100))*$B35),0)))))) -> 0 | V35: =IF($V$24="",0,IF($V$24>5000,"NOT OK","OK")) -> OK | W35: =IF($W$24="",0,IF($W$24>4,"Not OK","OK")) -> OK
A36: =L8 -> 28 | B36: 113 | C36: =IF(C$23="%w/w SAR",((C$24*10)*$B36),IF(C$23="%w/w DM",(((C$24*10)*($B$24/100))*$B36),IF(C$23="kg/t SAR",(C$24*$B36),IF(C$23="kg/t DM",((C$24*($B$24/100))*$B36),IF(C$23="mg/kg SAR",((C$24*0.001)*$B36),IF(C$23="mg/kg DM",(((C$24*0.001)*($B$24/100))*$B36),0)))))) -> 248.6 | D36: =(IF(D$23="%w/w SAR",((D$24*10)*$B36),IF(D$23="%w/w DM",(((D$24*10)*($B$24/100))*$B36),IF(D$23="kg/t SAR",(D$24*$B36),IF(D$23="kg/t DM",((D$24*($B$24/100))*$B36),IF(D$23="mg/kg SAR",((D$24*0.001)*$B36),IF(D$23="mg/kg DM",(((D$24*0.001)*($B$24/100))*$B36),"0")))))))*2.291 -> 219.79167 | E36: =(IF(E$23="%w/w SAR",((E$24*10)*$B36),IF(E$23="%w/w DM",(((E$24*10)*($B$24/100))*$B36),IF(E$23="kg/t SAR",(E$24*$B36),IF(E$23="kg/t DM",((E$24*($B$24/100))*$B36),IF(E$23="mg/kg SAR",((E$24*0.001)*$B36),IF(E$23="mg/kg DM",(((E$24*0.001)*($B$24/100))*$B36),"0")))))))*1.205 -> 27.641495 | F36: =(IF(F$23="%w/w SAR",((F$24*10)*$B36),IF(F$23="%w/w DM",(((F$24*10)*($B$24/100))*$B36),IF(F$23="kg/t SAR",(F$24*$B36),IF(F$23="kg/t DM",((F$24*($B$24/100))*$B36),IF(F$23="mg/kg SAR",((F$24*0.001)*$B36),IF(F$23="mg/kg DM",(((F$24*0.001)*($B$24/100))*$B36),"0")))))))*1.658 -> 9.742408 | G36: =IF(G$23="%w/w SAR",((G$24*10)*$B36),IF(G$23="%w/w DM",(((G$24*10)*($B$24/100))*$B36),IF(G$23="kg/t SAR",(G$24*$B36),IF(G$23="kg/t DM",((G$24*($B$24/100))*$B36),IF(G$23="mg/kg SAR",((G$24*0.001)*$B36),IF(G$23="mg/kg DM",(((G$24*0.001)*($B$24/100))*$B36),0)))))) -> 0.03729 | H36: =IF(H$23="%w/w SAR",((H$24*10)*$B36),IF(H$23="%w/w DM",(((H$24*10)*($B$24/100))*$B36),IF(H$23="kg/t SAR",(H$24*$B36),IF(H$23="kg/t DM",((H$24*($B$24/100))*$B36),IF(H$23="mg/kg SAR",((H$24*0.001)*$B36),IF(H$23="mg/kg DM",(((H$24*0.001)*($B$24/100))*$B36),0)))))) -> 0.32092 | I36: =IF(I$23="%w/w SAR",((I$24*10)*$B36),IF(I$23="%w/w DM",(((I$24*10)*($B$24/100))*$B36),IF(I$23="kg/t SAR",(I$24*$B36),IF(I$23="kg/t DM",((I$24*($B$24/100))*$B36),IF(I$23="mg/kg SAR",((I$24*0.001)*$B36),IF(I$23="mg/kg DM",(((I$24*0.001)*($B$24/100))*$B36),0)))))) -> 0.0565 | J36: =IF(J$23="%w/w SAR",((J$24*10)*$B36),IF(J$23="%w/w DM",(((J$24*10)*($B$24/100))*$B36),IF(J$23="kg/t SAR",(J$24*$B36),IF(J$23="kg/t DM",((J$24*($B$24/100))*$B36),IF(J$23="mg/kg SAR",((J$24*0.001)*$B36),IF(J$23="mg/kg DM",(((J$24*0.001)*($B$24/100))*$B36),0)))))) -> 0.00113 | K36: =IF(K$23="%w/w SAR",((K$24*10)*$B36),IF(K$23="%w/w DM",(((K$24*10)*($B$24/100))*$B36),IF(K$23="kg/t SAR",(K$24*$B36),IF(K$23="kg/t DM",((K$24*($B$24/100))*$B36),IF(K$23="mg/kg SAR",((K$24*0.001)*$B36),IF(K$23="mg/kg DM",(((K$24*0.001)*($B$24/100))*$B36),0)))))) -> 0.00565 | L36: =IF(L$23="%w/w SAR",((L$24*10)*$B36),IF(L$23="%w/w DM",(((L$24*10)*($B$24/100))*$B36),IF(L$23="kg/t SAR",(L$24*$B36),IF(L$23="kg/t DM",((L$24*($B$24/100))*$B36),IF(L$23="mg/kg SAR",((L$24*0.001)*$B36),IF(L$23="mg/kg DM",(((L$24*0.001)*($B$24/100))*$B36),0)))))) -> 0.0226 | M36: =IF(M$23="%w/w SAR",((M$24*10)*$B36),IF(M$23="%w/w DM",(((M$24*10)*($B$24/100))*$B36),IF(M$23="kg/t SAR",(M$24*$B36),IF(M$23="kg/t DM",((M$24*($B$24/100))*$B36),IF(M$23="mg/kg SAR",((M$24*0.001)*$B36),IF(M$23="mg/kg DM",(((M$24*0.001)*($B$24/100))*$B36),0)))))) -> 0.08701 | N36: =IF(N$23="%w/w SAR",((N$24*10)*$B36),IF(N$23="%w/w DM",(((N$24*10)*($B$24/100))*$B36),IF(N$23="kg/t SAR",(N$24*$B36),IF(N$23="kg/t DM",((N$24*($B$24/100))*$B36),IF(N$23="mg/kg SAR",((N$24*0.001)*$B36),IF(N$23="mg/kg DM",(((N$24*0.001)*($B$24/100))*$B36),0)))))) -> 0 | ... P36: =IF(P$23="%w/w SAR",((P$24*10)*$B36),IF(P$23="%w/w DM",(((P$24*10)*($B$24/100))*$B36),IF(P$23="kg/t SAR",(P$24*$B36),IF(P$23="kg/t DM",((P$24*($B$24/100))*$B36),IF(P$23="mg/kg SAR",((P$24*0.001)*$B36),IF(P$23="mg/kg DM",(((P$24*0.001)*($B$24/100))*$B36),0)))))) -> 148.708 | Q36: =(IF(Q$23="%w/w SAR",((Q$24*10)*$B36),IF(Q$23="%w/w DM",(((Q$24*10)*($B$24/100))*$B36),IF(Q$23="kg/t SAR",(Q$24*$B36),IF(Q$23="kg/t DM",((Q$24*($B$24/100))*$B36),IF(Q$23="mg/kg SAR",((Q$24*0.001)*$B36),IF(Q$23="mg/kg DM",(((Q$24*0.001)*($B$24/100))*$B36),0)))))))*2.5 -> 53.11 | R36: =IF(R$23="%w/w SAR",((R$24*10)*$B36),IF(R$23="%w/w DM",(((R$24*10)*($B$24/100))*$B36),IF(R$23="kg/t SAR",(R$24*$B36),IF(R$23="kg/t DM",((R$24*($B$24/100))*$B36),IF(R$23="mg/kg SAR",((R$24*0.001)*$B36),IF(R$23="mg/kg DM",(((R$24*0.001)*($B$24/100))*$B36),0)))))) -> 0 | S36: =IF(S$23="%w/w SAR",((S$24*10)*$B36),IF(S$23="%w/w DM",(((S$24*10)*($B$24/100))*$B36),IF(S$23="kg/t SAR",(S$24*$B36),IF(S$23="kg/t DM",((S$24*($B$24/100))*$B36),IF(S$23="mg/kg SAR",((S$24*0.001)*$B36),IF(S$23="mg/kg DM",(((S$24*0.001)*($B$24/100))*$B36),0)))))) -> 0 | T36: =IF(T$23="%w/w SAR",((T$24*10)*$B36),IF(T$23="%w/w DM",(((T$24*10)*($B$24/100))*$B36),IF(T$23="kg/t SAR",(T$24*$B36),IF(T$23="kg/t DM",((T$24*($B$24/100))*$B36),IF(T$23="mg/kg SAR",((T$24*0.001)*$B36),IF(T$23="mg/kg DM",(((T$24*0.001)*($B$24/100))*$B36),0)))))) -> 0 | U36: =IF(U$23="%w/w SAR",((U$24*10)*$B36),IF(U$23="%w/w DM",(((U$24*10)*($B$24/100))*$B36),IF(U$23="kg/t SAR",(U$24*$B36),IF(U$23="kg/t DM",((U$24*($B$24/100))*$B36),IF(U$23="mg/kg SAR",((U$24*0.001)*$B36),IF(U$23="mg/kg DM",(((U$24*0.001)*($B$24/100))*$B36),0)))))) -> 0 | V36: =IF($V$24="",0,IF($V$24>5000,"NOT OK","OK")) -> OK | W36: =IF($W$24="",0,IF($W$24>4,"Not OK","OK")) -> OK
A37: =M8 -> 22 | B37: 81 | C37: =IF(C$23="%w/w SAR",((C$24*10)*$B37),IF(C$23="%w/w DM",(((C$24*10)*($B$24/100))*$B37),IF(C$23="kg/t SAR",(C$24*$B37),IF(C$23="kg/t DM",((C$24*($B$24/100))*$B37),IF(C$23="mg/kg SAR",((C$24*0.001)*$B37),IF(C$23="mg/kg DM",(((C$24*0.001)*($B$24/100))*$B37),0)))))) -> 178.2 | D37: =(IF(D$23="%w/w SAR",((D$24*10)*$B37),IF(D$23="%w/w DM",(((D$24*10)*($B$24/100))*$B37),IF(D$23="kg/t SAR",(D$24*$B37),IF(D$23="kg/t DM",((D$24*($B$24/100))*$B37),IF(D$23="mg/kg SAR",((D$24*0.001)*$B37),IF(D$23="mg/kg DM",(((D$24*0.001)*($B$24/100))*$B37),"0")))))))*2.291 -> 157.54978 | E37: =(IF(E$23="%w/w SAR",((E$24*10)*$B37),IF(E$23="%w/w DM",(((E$24*10)*($B$24/100))*$B37),IF(E$23="kg/t SAR",(E$24*$B37),IF(E$23="kg/t DM",((E$24*($B$24/100))*$B37),IF(E$23="mg/kg SAR",((E$24*0.001)*$B37),IF(E$23="mg/kg DM",(((E$24*0.001)*($B$24/100))*$B37),"0")))))))*1.205 -> 19.813815 | F37: =(IF(F$23="%w/w SAR",((F$24*10)*$B37),IF(F$23="%w/w DM",(((F$24*10)*($B$24/100))*$B37),IF(F$23="kg/t SAR",(F$24*$B37),IF(F$23="kg/t DM",((F$24*($B$24/100))*$B37),IF(F$23="mg/kg SAR",((F$24*0.001)*$B37),IF(F$23="mg/kg DM",(((F$24*0.001)*($B$24/100))*$B37),"0")))))))*1.658 -> 6.983496 | G37: =IF(G$23="%w/w SAR",((G$24*10)*$B37),IF(G$23="%w/w DM",(((G$24*10)*($B$24/100))*$B37),IF(G$23="kg/t SAR",(G$24*$B37),IF(G$23="kg/t DM",((G$24*($B$24/100))*$B37),IF(G$23="mg/kg SAR",((G$24*0.001)*$B37),IF(G$23="mg/kg DM",(((G$24*0.001)*($B$24/100))*$B37),0)))))) -> 0.02673 | H37: =IF(H$23="%w/w SAR",((H$24*10)*$B37),IF(H$23="%w/w DM",(((H$24*10)*($B$24/100))*$B37),IF(H$23="kg/t SAR",(H$24*$B37),IF(H$23="kg/t DM",((H$24*($B$24/100))*$B37),IF(H$23="mg/kg SAR",((H$24*0.001)*$B37),IF(H$23="mg/kg DM",(((H$24*0.001)*($B$24/100))*$B37),0)))))) -> 0.23004 | I37: =IF(I$23="%w/w SAR",((I$24*10)*$B37),IF(I$23="%w/w DM",(((I$24*10)*($B$24/100))*$B37),IF(I$23="kg/t SAR",(I$24*$B37),IF(I$23="kg/t DM",((I$24*($B$24/100))*$B37),IF(I$23="mg/kg SAR",((I$24*0.001)*$B37),IF(I$23="mg/kg DM",(((I$24*0.001)*($B$24/100))*$B37),0)))))) -> 0.0405 | J37: =IF(J$23="%w/w SAR",((J$24*10)*$B37),IF(J$23="%w/w DM",(((J$24*10)*($B$24/100))*$B37),IF(J$23="kg/t SAR",(J$24*$B37),IF(J$23="kg/t DM",((J$24*($B$24/100))*$B37),IF(J$23="mg/kg SAR",((J$24*0.001)*$B37),IF(J$23="mg/kg DM",(((J$24*0.001)*($B$24/100))*$B37),0)))))) -> 0.00081 | K37: =IF(K$23="%w/w SAR",((K$24*10)*$B37),IF(K$23="%w/w DM",(((K$24*10)*($B$24/100))*$B37),IF(K$23="kg/t SAR",(K$24*$B37),IF(K$23="kg/t DM",((K$24*($B$24/100))*$B37),IF(K$23="mg/kg SAR",((K$24*0.001)*$B37),IF(K$23="mg/kg DM",(((K$24*0.001)*($B$24/100))*$B37),0)))))) -> 0.00405 | L37: =IF(L$23="%w/w SAR",((L$24*10)*$B37),IF(L$23="%w/w DM",(((L$24*10)*($B$24/100))*$B37),IF(L$23="kg/t SAR",(L$24*$B37),IF(L$23="kg/t DM",((L$24*($B$24/100))*$B37),IF(L$23="mg/kg SAR",((L$24*0.001)*$B37),IF(L$23="mg/kg DM",(((L$24*0.001)*($B$24/100))*$B37),0)))))) -> 0.0162 | M37: =IF(M$23="%w/w SAR",((M$24*10)*$B37),IF(M$23="%w/w DM",(((M$24*10)*($B$24/100))*$B37),IF(M$23="kg/t SAR",(M$24*$B37),IF(M$23="kg/t DM",((M$24*($B$24/100))*$B37),IF(M$23="mg/kg SAR",((M$24*0.001)*$B37),IF(M$23="mg/kg DM",(((M$24*0.001)*($B$24/100))*$B37),0)))))) -> 0.06237 | N37: =IF(N$23="%w/w SAR",((N$24*10)*$B37),IF(N$23="%w/w DM",(((N$24*10)*($B$24/100))*$B37),IF(N$23="kg/t SAR",(N$24*$B37),IF(N$23="kg/t DM",((N$24*($B$24/100))*$B37),IF(N$23="mg/kg SAR",((N$24*0.001)*$B37),IF(N$23="mg/kg DM",(((N$24*0.001)*($B$24/100))*$B37),0)))))) -> 0 | ... P37: =IF(P$23="%w/w SAR",((P$24*10)*$B37),IF(P$23="%w/w DM",(((P$24*10)*($B$24/100))*$B37),IF(P$23="kg/t SAR",(P$24*$B37),IF(P$23="kg/t DM",((P$24*($B$24/100))*$B37),IF(P$23="mg/kg SAR",((P$24*0.001)*$B37),IF(P$23="mg/kg DM",(((P$24*0.001)*($B$24/100))*$B37),0)))))) -> 106.596 | Q37: =(IF(Q$23="%w/w SAR",((Q$24*10)*$B37),IF(Q$23="%w/w DM",(((Q$24*10)*($B$24/100))*$B37),IF(Q$23="kg/t SAR",(Q$24*$B37),IF(Q$23="kg/t DM",((Q$24*($B$24/100))*$B37),IF(Q$23="mg/kg SAR",((Q$24*0.001)*$B37),IF(Q$23="mg/kg DM",(((Q$24*0.001)*($B$24/100))*$B37),0)))))))*2.5 -> 38.07 | R37: =IF(R$23="%w/w SAR",((R$24*10)*$B37),IF(R$23="%w/w DM",(((R$24*10)*($B$24/100))*$B37),IF(R$23="kg/t SAR",(R$24*$B37),IF(R$23="kg/t DM",((R$24*($B$24/100))*$B37),IF(R$23="mg/kg SAR",((R$24*0.001)*$B37),IF(R$23="mg/kg DM",(((R$24*0.001)*($B$24/100))*$B37),0)))))) -> 0 | S37: =IF(S$23="%w/w SAR",((S$24*10)*$B37),IF(S$23="%w/w DM",(((S$24*10)*($B$24/100))*$B37),IF(S$23="kg/t SAR",(S$24*$B37),IF(S$23="kg/t DM",((S$24*($B$24/100))*$B37),IF(S$23="mg/kg SAR",((S$24*0.001)*$B37),IF(S$23="mg/kg DM",(((S$24*0.001)*($B$24/100))*$B37),0)))))) -> 0 | T37: =IF(T$23="%w/w SAR",((T$24*10)*$B37),IF(T$23="%w/w DM",(((T$24*10)*($B$24/100))*$B37),IF(T$23="kg/t SAR",(T$24*$B37),IF(T$23="kg/t DM",((T$24*($B$24/100))*$B37),IF(T$23="mg/kg SAR",((T$24*0.001)*$B37),IF(T$23="mg/kg DM",(((T$24*0.001)*($B$24/100))*$B37),0)))))) -> 0 | U37: =IF(U$23="%w/w SAR",((U$24*10)*$B37),IF(U$23="%w/w DM",(((U$24*10)*($B$24/100))*$B37),IF(U$23="kg/t SAR",(U$24*$B37),IF(U$23="kg/t DM",((U$24*($B$24/100))*$B37),IF(U$23="mg/kg SAR",((U$24*0.001)*$B37),IF(U$23="mg/kg DM",(((U$24*0.001)*($B$24/100))*$B37),0)))))) -> 0 | V37: =IF($V$24="",0,IF($V$24>5000,"NOT OK","OK")) -> OK | W37: =IF($W$24="",0,IF($W$24>4,"Not OK","OK")) -> OK
A38: =N8 -> PEN 1 | B38: 33 | C38: =IF(C$23="%w/w SAR",((C$24*10)*$B38),IF(C$23="%w/w DM",(((C$24*10)*($B$24/100))*$B38),IF(C$23="kg/t SAR",(C$24*$B38),IF(C$23="kg/t DM",((C$24*($B$24/100))*$B38),IF(C$23="mg/kg SAR",((C$24*0.001)*$B38),IF(C$23="mg/kg DM",(((C$24*0.001)*($B$24/100))*$B38),0)))))) -> 72.6 | D38: =(IF(D$23="%w/w SAR",((D$24*10)*$B38),IF(D$23="%w/w DM",(((D$24*10)*($B$24/100))*$B38),IF(D$23="kg/t SAR",(D$24*$B38),IF(D$23="kg/t DM",((D$24*($B$24/100))*$B38),IF(D$23="mg/kg SAR",((D$24*0.001)*$B38),IF(D$23="mg/kg DM",(((D$24*0.001)*($B$24/100))*$B38),"0")))))))*2.291 -> 64.186947 | E38: =(IF(E$23="%w/w SAR",((E$24*10)*$B38),IF(E$23="%w/w DM",(((E$24*10)*($B$24/100))*$B38),IF(E$23="kg/t SAR",(E$24*$B38),IF(E$23="kg/t DM",((E$24*($B$24/100))*$B38),IF(E$23="mg/kg SAR",((E$24*0.001)*$B38),IF(E$23="mg/kg DM",(((E$24*0.001)*($B$24/100))*$B38),"0")))))))*1.205 -> 8.072295 | F38: =(IF(F$23="%w/w SAR",((F$24*10)*$B38),IF(F$23="%w/w DM",(((F$24*10)*($B$24/100))*$B38),IF(F$23="kg/t SAR",(F$24*$B38),IF(F$23="kg/t DM",((F$24*($B$24/100))*$B38),IF(F$23="mg/kg SAR",((F$24*0.001)*$B38),IF(F$23="mg/kg DM",(((F$24*0.001)*($B$24/100))*$B38),"0")))))))*1.658 -> 2.845128 | G38: =IF(G$23="%w/w SAR",((G$24*10)*$B38),IF(G$23="%w/w DM",(((G$24*10)*($B$24/100))*$B38),IF(G$23="kg/t SAR",(G$24*$B38),IF(G$23="kg/t DM",((G$24*($B$24/100))*$B38),IF(G$23="mg/kg SAR",((G$24*0.001)*$B38),IF(G$23="mg/kg DM",(((G$24*0.001)*($B$24/100))*$B38),0)))))) -> 0.01089 | H38: =IF(H$23="%w/w SAR",((H$24*10)*$B38),IF(H$23="%w/w DM",(((H$24*10)*($B$24/100))*$B38),IF(H$23="kg/t SAR",(H$24*$B38),IF(H$23="kg/t DM",((H$24*($B$24/100))*$B38),IF(H$23="mg/kg SAR",((H$24*0.001)*$B38),IF(H$23="mg/kg DM",(((H$24*0.001)*($B$24/100))*$B38),0)))))) -> 0.09372 | I38: =IF(I$23="%w/w SAR",((I$24*10)*$B38),IF(I$23="%w/w DM",(((I$24*10)*($B$24/100))*$B38),IF(I$23="kg/t SAR",(I$24*$B38),IF(I$23="kg/t DM",((I$24*($B$24/100))*$B38),IF(I$23="mg/kg SAR",((I$24*0.001)*$B38),IF(I$23="mg/kg DM",(((I$24*0.001)*($B$24/100))*$B38),0)))))) -> 0.0165 | J38: =IF(J$23="%w/w SAR",((J$24*10)*$B38),IF(J$23="%w/w DM",(((J$24*10)*($B$24/100))*$B38),IF(J$23="kg/t SAR",(J$24*$B38),IF(J$23="kg/t DM",((J$24*($B$24/100))*$B38),IF(J$23="mg/kg SAR",((J$24*0.001)*$B38),IF(J$23="mg/kg DM",(((J$24*0.001)*($B$24/100))*$B38),0)))))) -> 0.00033 | K38: =IF(K$23="%w/w SAR",((K$24*10)*$B38),IF(K$23="%w/w DM",(((K$24*10)*($B$24/100))*$B38),IF(K$23="kg/t SAR",(K$24*$B38),IF(K$23="kg/t DM",((K$24*($B$24/100))*$B38),IF(K$23="mg/kg SAR",((K$24*0.001)*$B38),IF(K$23="mg/kg DM",(((K$24*0.001)*($B$24/100))*$B38),0)))))) -> 0.00165 | L38: =IF(L$23="%w/w SAR",((L$24*10)*$B38),IF(L$23="%w/w DM",(((L$24*10)*($B$24/100))*$B38),IF(L$23="kg/t SAR",(L$24*$B38),IF(L$23="kg/t DM",((L$24*($B$24/100))*$B38),IF(L$23="mg/kg SAR",((L$24*0.001)*$B38),IF(L$23="mg/kg DM",(((L$24*0.001)*($B$24/100))*$B38),0)))))) -> 0.0066 | M38: =IF(M$23="%w/w SAR",((M$24*10)*$B38),IF(M$23="%w/w DM",(((M$24*10)*($B$24/100))*$B38),IF(M$23="kg/t SAR",(M$24*$B38),IF(M$23="kg/t DM",((M$24*($B$24/100))*$B38),IF(M$23="mg/kg SAR",((M$24*0.001)*$B38),IF(M$23="mg/kg DM",(((M$24*0.001)*($B$24/100))*$B38),0)))))) -> 0.02541 | N38: =IF(N$23="%w/w SAR",((N$24*10)*$B38),IF(N$23="%w/w DM",(((N$24*10)*($B$24/100))*$B38),IF(N$23="kg/t SAR",(N$24*$B38),IF(N$23="kg/t DM",((N$24*($B$24/100))*$B38),IF(N$23="mg/kg SAR",((N$24*0.001)*$B38),IF(N$23="mg/kg DM",(((N$24*0.001)*($B$24/100))*$B38),0)))))) -> 0 | ... P38: =IF(P$23="%w/w SAR",((P$24*10)*$B38),IF(P$23="%w/w DM",(((P$24*10)*($B$24/100))*$B38),IF(P$23="kg/t SAR",(P$24*$B38),IF(P$23="kg/t DM",((P$24*($B$24/100))*$B38),IF(P$23="mg/kg SAR",((P$24*0.001)*$B38),IF(P$23="mg/kg DM",(((P$24*0.001)*($B$24/100))*$B38),0)))))) -> 43.428 | Q38: =(IF(Q$23="%w/w SAR",((Q$24*10)*$B38),IF(Q$23="%w/w DM",(((Q$24*10)*($B$24/100))*$B38),IF(Q$23="kg/t SAR",(Q$24*$B38),IF(Q$23="kg/t DM",((Q$24*($B$24/100))*$B38),IF(Q$23="mg/kg SAR",((Q$24*0.001)*$B38),IF(Q$23="mg/kg DM",(((Q$24*0.001)*($B$24/100))*$B38),0)))))))*2.5 -> 15.51 | R38: =IF(R$23="%w/w SAR",((R$24*10)*$B38),IF(R$23="%w/w DM",(((R$24*10)*($B$24/100))*$B38),IF(R$23="kg/t SAR",(R$24*$B38),IF(R$23="kg/t DM",((R$24*($B$24/100))*$B38),IF(R$23="mg/kg SAR",((R$24*0.001)*$B38),IF(R$23="mg/kg DM",(((R$24*0.001)*($B$24/100))*$B38),0)))))) -> 0 | S38: =IF(S$23="%w/w SAR",((S$24*10)*$B38),IF(S$23="%w/w DM",(((S$24*10)*($B$24/100))*$B38),IF(S$23="kg/t SAR",(S$24*$B38),IF(S$23="kg/t DM",((S$24*($B$24/100))*$B38),IF(S$23="mg/kg SAR",((S$24*0.001)*$B38),IF(S$23="mg/kg DM",(((S$24*0.001)*($B$24/100))*$B38),0)))))) -> 0 | T38: =IF(T$23="%w/w SAR",((T$24*10)*$B38),IF(T$23="%w/w DM",(((T$24*10)*($B$24/100))*$B38),IF(T$23="kg/t SAR",(T$24*$B38),IF(T$23="kg/t DM",((T$24*($B$24/100))*$B38),IF(T$23="mg/kg SAR",((T$24*0.001)*$B38),IF(T$23="mg/kg DM",(((T$24*0.001)*($B$24/100))*$B38),0)))))) -> 0 | U38: =IF(U$23="%w/w SAR",((U$24*10)*$B38),IF(U$23="%w/w DM",(((U$24*10)*($B$24/100))*$B38),IF(U$23="kg/t SAR",(U$24*$B38),IF(U$23="kg/t DM",((U$24*($B$24/100))*$B38),IF(U$23="mg/kg SAR",((U$24*0.001)*$B38),IF(U$23="mg/kg DM",(((U$24*0.001)*($B$24/100))*$B38),0)))))) -> 0 | V38: =IF($V$24="",0,IF($V$24>5000,"NOT OK","OK")) -> OK | W38: =IF($W$24="",0,IF($W$24>4,"Not OK","OK")) -> OK
A39: =O8 -> PEN 2 | B39: 33 | C39: =IF(C$23="%w/w SAR",((C$24*10)*$B39),IF(C$23="%w/w DM",(((C$24*10)*($B$24/100))*$B39),IF(C$23="kg/t SAR",(C$24*$B39),IF(C$23="kg/t DM",((C$24*($B$24/100))*$B39),IF(C$23="mg/kg SAR",((C$24*0.001)*$B39),IF(C$23="mg/kg DM",(((C$24*0.001)*($B$24/100))*$B39),0)))))) -> 72.6 | D39: =(IF(D$23="%w/w SAR",((D$24*10)*$B39),IF(D$23="%w/w DM",(((D$24*10)*($B$24/100))*$B39),IF(D$23="kg/t SAR",(D$24*$B39),IF(D$23="kg/t DM",((D$24*($B$24/100))*$B39),IF(D$23="mg/kg SAR",((D$24*0.001)*$B39),IF(D$23="mg/kg DM",(((D$24*0.001)*($B$24/100))*$B39),"0")))))))*2.291 -> 64.186947 | E39: =(IF(E$23="%w/w SAR",((E$24*10)*$B39),IF(E$23="%w/w DM",(((E$24*10)*($B$24/100))*$B39),IF(E$23="kg/t SAR",(E$24*$B39),IF(E$23="kg/t DM",((E$24*($B$24/100))*$B39),IF(E$23="mg/kg SAR",((E$24*0.001)*$B39),IF(E$23="mg/kg DM",(((E$24*0.001)*($B$24/100))*$B39),"0")))))))*1.205 -> 8.072295 | F39: =(IF(F$23="%w/w SAR",((F$24*10)*$B39),IF(F$23="%w/w DM",(((F$24*10)*($B$24/100))*$B39),IF(F$23="kg/t SAR",(F$24*$B39),IF(F$23="kg/t DM",((F$24*($B$24/100))*$B39),IF(F$23="mg/kg SAR",((F$24*0.001)*$B39),IF(F$23="mg/kg DM",(((F$24*0.001)*($B$24/100))*$B39),"0")))))))*1.658 -> 2.845128 | G39: =IF(G$23="%w/w SAR",((G$24*10)*$B39),IF(G$23="%w/w DM",(((G$24*10)*($B$24/100))*$B39),IF(G$23="kg/t SAR",(G$24*$B39),IF(G$23="kg/t DM",((G$24*($B$24/100))*$B39),IF(G$23="mg/kg SAR",((G$24*0.001)*$B39),IF(G$23="mg/kg DM",(((G$24*0.001)*($B$24/100))*$B39),0)))))) -> 0.01089 | H39: =IF(H$23="%w/w SAR",((H$24*10)*$B39),IF(H$23="%w/w DM",(((H$24*10)*($B$24/100))*$B39),IF(H$23="kg/t SAR",(H$24*$B39),IF(H$23="kg/t DM",((H$24*($B$24/100))*$B39),IF(H$23="mg/kg SAR",((H$24*0.001)*$B39),IF(H$23="mg/kg DM",(((H$24*0.001)*($B$24/100))*$B39),0)))))) -> 0.09372 | I39: =IF(I$23="%w/w SAR",((I$24*10)*$B39),IF(I$23="%w/w DM",(((I$24*10)*($B$24/100))*$B39),IF(I$23="kg/t SAR",(I$24*$B39),IF(I$23="kg/t DM",((I$24*($B$24/100))*$B39),IF(I$23="mg/kg SAR",((I$24*0.001)*$B39),IF(I$23="mg/kg DM",(((I$24*0.001)*($B$24/100))*$B39),0)))))) -> 0.0165 | J39: =IF(J$23="%w/w SAR",((J$24*10)*$B39),IF(J$23="%w/w DM",(((J$24*10)*($B$24/100))*$B39),IF(J$23="kg/t SAR",(J$24*$B39),IF(J$23="kg/t DM",((J$24*($B$24/100))*$B39),IF(J$23="mg/kg SAR",((J$24*0.001)*$B39),IF(J$23="mg/kg DM",(((J$24*0.001)*($B$24/100))*$B39),0)))))) -> 0.00033 | K39: =IF(K$23="%w/w SAR",((K$24*10)*$B39),IF(K$23="%w/w DM",(((K$24*10)*($B$24/100))*$B39),IF(K$23="kg/t SAR",(K$24*$B39),IF(K$23="kg/t DM",((K$24*($B$24/100))*$B39),IF(K$23="mg/kg SAR",((K$24*0.001)*$B39),IF(K$23="mg/kg DM",(((K$24*0.001)*($B$24/100))*$B39),0)))))) -> 0.00165 | L39: =IF(L$23="%w/w SAR",((L$24*10)*$B39),IF(L$23="%w/w DM",(((L$24*10)*($B$24/100))*$B39),IF(L$23="kg/t SAR",(L$24*$B39),IF(L$23="kg/t DM",((L$24*($B$24/100))*$B39),IF(L$23="mg/kg SAR",((L$24*0.001)*$B39),IF(L$23="mg/kg DM",(((L$24*0.001)*($B$24/100))*$B39),0)))))) -> 0.0066 | M39: =IF(M$23="%w/w SAR",((M$24*10)*$B39),IF(M$23="%w/w DM",(((M$24*10)*($B$24/100))*$B39),IF(M$23="kg/t SAR",(M$24*$B39),IF(M$23="kg/t DM",((M$24*($B$24/100))*$B39),IF(M$23="mg/kg SAR",((M$24*0.001)*$B39),IF(M$23="mg/kg DM",(((M$24*0.001)*($B$24/100))*$B39),0)))))) -> 0.02541 | N39: =IF(N$23="%w/w SAR",((N$24*10)*$B39),IF(N$23="%w/w DM",(((N$24*10)*($B$24/100))*$B39),IF(N$23="kg/t SAR",(N$24*$B39),IF(N$23="kg/t DM",((N$24*($B$24/100))*$B39),IF(N$23="mg/kg SAR",((N$24*0.001)*$B39),IF(N$23="mg/kg DM",(((N$24*0.001)*($B$24/100))*$B39),0)))))) -> 0 | ... P39: =IF(P$23="%w/w SAR",((P$24*10)*$B39),IF(P$23="%w/w DM",(((P$24*10)*($B$24/100))*$B39),IF(P$23="kg/t SAR",(P$24*$B39),IF(P$23="kg/t DM",((P$24*($B$24/100))*$B39),IF(P$23="mg/kg SAR",((P$24*0.001)*$B39),IF(P$23="mg/kg DM",(((P$24*0.001)*($B$24/100))*$B39),0)))))) -> 43.428 | Q39: =(IF(Q$23="%w/w SAR",((Q$24*10)*$B39),IF(Q$23="%w/w DM",(((Q$24*10)*($B$24/100))*$B39),IF(Q$23="kg/t SAR",(Q$24*$B39),IF(Q$23="kg/t DM",((Q$24*($B$24/100))*$B39),IF(Q$23="mg/kg SAR",((Q$24*0.001)*$B39),IF(Q$23="mg/kg DM",(((Q$24*0.001)*($B$24/100))*$B39),0)))))))*2.5 -> 15.51 | R39: =IF(R$23="%w/w SAR",((R$24*10)*$B39),IF(R$23="%w/w DM",(((R$24*10)*($B$24/100))*$B39),IF(R$23="kg/t SAR",(R$24*$B39),IF(R$23="kg/t DM",((R$24*($B$24/100))*$B39),IF(R$23="mg/kg SAR",((R$24*0.001)*$B39),IF(R$23="mg/kg DM",(((R$24*0.001)*($B$24/100))*$B39),0)))))) -> 0 | S39: =IF(S$23="%w/w SAR",((S$24*10)*$B39),IF(S$23="%w/w DM",(((S$24*10)*($B$24/100))*$B39),IF(S$23="kg/t SAR",(S$24*$B39),IF(S$23="kg/t DM",((S$24*($B$24/100))*$B39),IF(S$23="mg/kg SAR",((S$24*0.001)*$B39),IF(S$23="mg/kg DM",(((S$24*0.001)*($B$24/100))*$B39),0)))))) -> 0 | T39: =IF(T$23="%w/w SAR",((T$24*10)*$B39),IF(T$23="%w/w DM",(((T$24*10)*($B$24/100))*$B39),IF(T$23="kg/t SAR",(T$24*$B39),IF(T$23="kg/t DM",((T$24*($B$24/100))*$B39),IF(T$23="mg/kg SAR",((T$24*0.001)*$B39),IF(T$23="mg/kg DM",(((T$24*0.001)*($B$24/100))*$B39),0)))))) -> 0 | U39: =IF(U$23="%w/w SAR",((U$24*10)*$B39),IF(U$23="%w/w DM",(((U$24*10)*($B$24/100))*$B39),IF(U$23="kg/t SAR",(U$24*$B39),IF(U$23="kg/t DM",((U$24*($B$24/100))*$B39),IF(U$23="mg/kg SAR",((U$24*0.001)*$B39),IF(U$23="mg/kg DM",(((U$24*0.001)*($B$24/100))*$B39),0)))))) -> 0 | V39: =IF($V$24="",0,IF($V$24>5000,"NOT OK","OK")) -> OK | W39: =IF($W$24="",0,IF($W$24>4,"Not OK","OK")) -> OK
A40: =P8 -> PEN 3 | B40: 81 | C40: =IF(C$23="%w/w SAR",((C$24*10)*$B40),IF(C$23="%w/w DM",(((C$24*10)*($B$24/100))*$B40),IF(C$23="kg/t SAR",(C$24*$B40),IF(C$23="kg/t DM",((C$24*($B$24/100))*$B40),IF(C$23="mg/kg SAR",((C$24*0.001)*$B40),IF(C$23="mg/kg DM",(((C$24*0.001)*($B$24/100))*$B40),0)))))) -> 178.2 | D40: =(IF(D$23="%w/w SAR",((D$24*10)*$B40),IF(D$23="%w/w DM",(((D$24*10)*($B$24/100))*$B40),IF(D$23="kg/t SAR",(D$24*$B40),IF(D$23="kg/t DM",((D$24*($B$24/100))*$B40),IF(D$23="mg/kg SAR",((D$24*0.001)*$B40),IF(D$23="mg/kg DM",(((D$24*0.001)*($B$24/100))*$B40),"0")))))))*2.291 -> 157.54978 | E40: =(IF(E$23="%w/w SAR",((E$24*10)*$B40),IF(E$23="%w/w DM",(((E$24*10)*($B$24/100))*$B40),IF(E$23="kg/t SAR",(E$24*$B40),IF(E$23="kg/t DM",((E$24*($B$24/100))*$B40),IF(E$23="mg/kg SAR",((E$24*0.001)*$B40),IF(E$23="mg/kg DM",(((E$24*0.001)*($B$24/100))*$B40),"0")))))))*1.205 -> 19.813815 | F40: =(IF(F$23="%w/w SAR",((F$24*10)*$B40),IF(F$23="%w/w DM",(((F$24*10)*($B$24/100))*$B40),IF(F$23="kg/t SAR",(F$24*$B40),IF(F$23="kg/t DM",((F$24*($B$24/100))*$B40),IF(F$23="mg/kg SAR",((F$24*0.001)*$B40),IF(F$23="mg/kg DM",(((F$24*0.001)*($B$24/100))*$B40),"0")))))))*1.658 -> 6.983496 | G40: =IF(G$23="%w/w SAR",((G$24*10)*$B40),IF(G$23="%w/w DM",(((G$24*10)*($B$24/100))*$B40),IF(G$23="kg/t SAR",(G$24*$B40),IF(G$23="kg/t DM",((G$24*($B$24/100))*$B40),IF(G$23="mg/kg SAR",((G$24*0.001)*$B40),IF(G$23="mg/kg DM",(((G$24*0.001)*($B$24/100))*$B40),0)))))) -> 0.02673 | H40: =IF(H$23="%w/w SAR",((H$24*10)*$B40),IF(H$23="%w/w DM",(((H$24*10)*($B$24/100))*$B40),IF(H$23="kg/t SAR",(H$24*$B40),IF(H$23="kg/t DM",((H$24*($B$24/100))*$B40),IF(H$23="mg/kg SAR",((H$24*0.001)*$B40),IF(H$23="mg/kg DM",(((H$24*0.001)*($B$24/100))*$B40),0)))))) -> 0.23004 | I40: =IF(I$23="%w/w SAR",((I$24*10)*$B40),IF(I$23="%w/w DM",(((I$24*10)*($B$24/100))*$B40),IF(I$23="kg/t SAR",(I$24*$B40),IF(I$23="kg/t DM",((I$24*($B$24/100))*$B40),IF(I$23="mg/kg SAR",((I$24*0.001)*$B40),IF(I$23="mg/kg DM",(((I$24*0.001)*($B$24/100))*$B40),0)))))) -> 0.0405 | J40: =IF(J$23="%w/w SAR",((J$24*10)*$B40),IF(J$23="%w/w DM",(((J$24*10)*($B$24/100))*$B40),IF(J$23="kg/t SAR",(J$24*$B40),IF(J$23="kg/t DM",((J$24*($B$24/100))*$B40),IF(J$23="mg/kg SAR",((J$24*0.001)*$B40),IF(J$23="mg/kg DM",(((J$24*0.001)*($B$24/100))*$B40),0)))))) -> 0.00081 | K40: =IF(K$23="%w/w SAR",((K$24*10)*$B40),IF(K$23="%w/w DM",(((K$24*10)*($B$24/100))*$B40),IF(K$23="kg/t SAR",(K$24*$B40),IF(K$23="kg/t DM",((K$24*($B$24/100))*$B40),IF(K$23="mg/kg SAR",((K$24*0.001)*$B40),IF(K$23="mg/kg DM",(((K$24*0.001)*($B$24/100))*$B40),0)))))) -> 0.00405 | L40: =IF(L$23="%w/w SAR",((L$24*10)*$B40),IF(L$23="%w/w DM",(((L$24*10)*($B$24/100))*$B40),IF(L$23="kg/t SAR",(L$24*$B40),IF(L$23="kg/t DM",((L$24*($B$24/100))*$B40),IF(L$23="mg/kg SAR",((L$24*0.001)*$B40),IF(L$23="mg/kg DM",(((L$24*0.001)*($B$24/100))*$B40),0)))))) -> 0.0162 | M40: =IF(M$23="%w/w SAR",((M$24*10)*$B40),IF(M$23="%w/w DM",(((M$24*10)*($B$24/100))*$B40),IF(M$23="kg/t SAR",(M$24*$B40),IF(M$23="kg/t DM",((M$24*($B$24/100))*$B40),IF(M$23="mg/kg SAR",((M$24*0.001)*$B40),IF(M$23="mg/kg DM",(((M$24*0.001)*($B$24/100))*$B40),0)))))) -> 0.06237 | N40: =IF(N$23="%w/w SAR",((N$24*10)*$B40),IF(N$23="%w/w DM",(((N$24*10)*($B$24/100))*$B40),IF(N$23="kg/t SAR",(N$24*$B40),IF(N$23="kg/t DM",((N$24*($B$24/100))*$B40),IF(N$23="mg/kg SAR",((N$24*0.001)*$B40),IF(N$23="mg/kg DM",(((N$24*0.001)*($B$24/100))*$B40),0)))))) -> 0 | ... P40: =IF(P$23="%w/w SAR",((P$24*10)*$B40),IF(P$23="%w/w DM",(((P$24*10)*($B$24/100))*$B40),IF(P$23="kg/t SAR",(P$24*$B40),IF(P$23="kg/t DM",((P$24*($B$24/100))*$B40),IF(P$23="mg/kg SAR",((P$24*0.001)*$B40),IF(P$23="mg/kg DM",(((P$24*0.001)*($B$24/100))*$B40),0)))))) -> 106.596 | Q40: =(IF(Q$23="%w/w SAR",((Q$24*10)*$B40),IF(Q$23="%w/w DM",(((Q$24*10)*($B$24/100))*$B40),IF(Q$23="kg/t SAR",(Q$24*$B40),IF(Q$23="kg/t DM",((Q$24*($B$24/100))*$B40),IF(Q$23="mg/kg SAR",((Q$24*0.001)*$B40),IF(Q$23="mg/kg DM",(((Q$24*0.001)*($B$24/100))*$B40),0)))))))*2.5 -> 38.07 | R40: =IF(R$23="%w/w SAR",((R$24*10)*$B40),IF(R$23="%w/w DM",(((R$24*10)*($B$24/100))*$B40),IF(R$23="kg/t SAR",(R$24*$B40),IF(R$23="kg/t DM",((R$24*($B$24/100))*$B40),IF(R$23="mg/kg SAR",((R$24*0.001)*$B40),IF(R$23="mg/kg DM",(((R$24*0.001)*($B$24/100))*$B40),0)))))) -> 0 | S40: =IF(S$23="%w/w SAR",((S$24*10)*$B40),IF(S$23="%w/w DM",(((S$24*10)*($B$24/100))*$B40),IF(S$23="kg/t SAR",(S$24*$B40),IF(S$23="kg/t DM",((S$24*($B$24/100))*$B40),IF(S$23="mg/kg SAR",((S$24*0.001)*$B40),IF(S$23="mg/kg DM",(((S$24*0.001)*($B$24/100))*$B40),0)))))) -> 0 | T40: =IF(T$23="%w/w SAR",((T$24*10)*$B40),IF(T$23="%w/w DM",(((T$24*10)*($B$24/100))*$B40),IF(T$23="kg/t SAR",(T$24*$B40),IF(T$23="kg/t DM",((T$24*($B$24/100))*$B40),IF(T$23="mg/kg SAR",((T$24*0.001)*$B40),IF(T$23="mg/kg DM",(((T$24*0.001)*($B$24/100))*$B40),0)))))) -> 0 | U40: =IF(U$23="%w/w SAR",((U$24*10)*$B40),IF(U$23="%w/w DM",(((U$24*10)*($B$24/100))*$B40),IF(U$23="kg/t SAR",(U$24*$B40),IF(U$23="kg/t DM",((U$24*($B$24/100))*$B40),IF(U$23="mg/kg SAR",((U$24*0.001)*$B40),IF(U$23="mg/kg DM",(((U$24*0.001)*($B$24/100))*$B40),0)))))) -> 0 | V40: =IF($V$24="",0,IF($V$24>5000,"NOT OK","OK")) -> OK | W40: =IF($W$24="",0,IF($W$24>4,"Not OK","OK")) -> OK
A41: =Q8 -> PEN 6 | B41: 33 | C41: =IF(C$23="%w/w SAR",((C$24*10)*$B41),IF(C$23="%w/w DM",(((C$24*10)*($B$24/100))*$B41),IF(C$23="kg/t SAR",(C$24*$B41),IF(C$23="kg/t DM",((C$24*($B$24/100))*$B41),IF(C$23="mg/kg SAR",((C$24*0.001)*$B41),IF(C$23="mg/kg DM",(((C$24*0.001)*($B$24/100))*$B41),0)))))) -> 72.6 | D41: =(IF(D$23="%w/w SAR",((D$24*10)*$B41),IF(D$23="%w/w DM",(((D$24*10)*($B$24/100))*$B41),IF(D$23="kg/t SAR",(D$24*$B41),IF(D$23="kg/t DM",((D$24*($B$24/100))*$B41),IF(D$23="mg/kg SAR",((D$24*0.001)*$B41),IF(D$23="mg/kg DM",(((D$24*0.001)*($B$24/100))*$B41),"0")))))))*2.291 -> 64.186947 | E41: =(IF(E$23="%w/w SAR",((E$24*10)*$B41),IF(E$23="%w/w DM",(((E$24*10)*($B$24/100))*$B41),IF(E$23="kg/t SAR",(E$24*$B41),IF(E$23="kg/t DM",((E$24*($B$24/100))*$B41),IF(E$23="mg/kg SAR",((E$24*0.001)*$B41),IF(E$23="mg/kg DM",(((E$24*0.001)*($B$24/100))*$B41),"0")))))))*1.205 -> 8.072295 | F41: =(IF(F$23="%w/w SAR",((F$24*10)*$B41),IF(F$23="%w/w DM",(((F$24*10)*($B$24/100))*$B41),IF(F$23="kg/t SAR",(F$24*$B41),IF(F$23="kg/t DM",((F$24*($B$24/100))*$B41),IF(F$23="mg/kg SAR",((F$24*0.001)*$B41),IF(F$23="mg/kg DM",(((F$24*0.001)*($B$24/100))*$B41),"0")))))))*1.658 -> 2.845128 | G41: =IF(G$23="%w/w SAR",((G$24*10)*$B41),IF(G$23="%w/w DM",(((G$24*10)*($B$24/100))*$B41),IF(G$23="kg/t SAR",(G$24*$B41),IF(G$23="kg/t DM",((G$24*($B$24/100))*$B41),IF(G$23="mg/kg SAR",((G$24*0.001)*$B41),IF(G$23="mg/kg DM",(((G$24*0.001)*($B$24/100))*$B41),0)))))) -> 0.01089 | H41: =IF(H$23="%w/w SAR",((H$24*10)*$B41),IF(H$23="%w/w DM",(((H$24*10)*($B$24/100))*$B41),IF(H$23="kg/t SAR",(H$24*$B41),IF(H$23="kg/t DM",((H$24*($B$24/100))*$B41),IF(H$23="mg/kg SAR",((H$24*0.001)*$B41),IF(H$23="mg/kg DM",(((H$24*0.001)*($B$24/100))*$B41),0)))))) -> 0.09372 | I41: =IF(I$23="%w/w SAR",((I$24*10)*$B41),IF(I$23="%w/w DM",(((I$24*10)*($B$24/100))*$B41),IF(I$23="kg/t SAR",(I$24*$B41),IF(I$23="kg/t DM",((I$24*($B$24/100))*$B41),IF(I$23="mg/kg SAR",((I$24*0.001)*$B41),IF(I$23="mg/kg DM",(((I$24*0.001)*($B$24/100))*$B41),0)))))) -> 0.0165 | J41: =IF(J$23="%w/w SAR",((J$24*10)*$B41),IF(J$23="%w/w DM",(((J$24*10)*($B$24/100))*$B41),IF(J$23="kg/t SAR",(J$24*$B41),IF(J$23="kg/t DM",((J$24*($B$24/100))*$B41),IF(J$23="mg/kg SAR",((J$24*0.001)*$B41),IF(J$23="mg/kg DM",(((J$24*0.001)*($B$24/100))*$B41),0)))))) -> 0.00033 | K41: =IF(K$23="%w/w SAR",((K$24*10)*$B41),IF(K$23="%w/w DM",(((K$24*10)*($B$24/100))*$B41),IF(K$23="kg/t SAR",(K$24*$B41),IF(K$23="kg/t DM",((K$24*($B$24/100))*$B41),IF(K$23="mg/kg SAR",((K$24*0.001)*$B41),IF(K$23="mg/kg DM",(((K$24*0.001)*($B$24/100))*$B41),0)))))) -> 0.00165 | L41: =IF(L$23="%w/w SAR",((L$24*10)*$B41),IF(L$23="%w/w DM",(((L$24*10)*($B$24/100))*$B41),IF(L$23="kg/t SAR",(L$24*$B41),IF(L$23="kg/t DM",((L$24*($B$24/100))*$B41),IF(L$23="mg/kg SAR",((L$24*0.001)*$B41),IF(L$23="mg/kg DM",(((L$24*0.001)*($B$24/100))*$B41),0)))))) -> 0.0066 | M41: =IF(M$23="%w/w SAR",((M$24*10)*$B41),IF(M$23="%w/w DM",(((M$24*10)*($B$24/100))*$B41),IF(M$23="kg/t SAR",(M$24*$B41),IF(M$23="kg/t DM",((M$24*($B$24/100))*$B41),IF(M$23="mg/kg SAR",((M$24*0.001)*$B41),IF(M$23="mg/kg DM",(((M$24*0.001)*($B$24/100))*$B41),0)))))) -> 0.02541 | N41: =IF(N$23="%w/w SAR",((N$24*10)*$B41),IF(N$23="%w/w DM",(((N$24*10)*($B$24/100))*$B41),IF(N$23="kg/t SAR",(N$24*$B41),IF(N$23="kg/t DM",((N$24*($B$24/100))*$B41),IF(N$23="mg/kg SAR",((N$24*0.001)*$B41),IF(N$23="mg/kg DM",(((N$24*0.001)*($B$24/100))*$B41),0)))))) -> 0 | ... P41: =IF(P$23="%w/w SAR",((P$24*10)*$B41),IF(P$23="%w/w DM",(((P$24*10)*($B$24/100))*$B41),IF(P$23="kg/t SAR",(P$24*$B41),IF(P$23="kg/t DM",((P$24*($B$24/100))*$B41),IF(P$23="mg/kg SAR",((P$24*0.001)*$B41),IF(P$23="mg/kg DM",(((P$24*0.001)*($B$24/100))*$B41),0)))))) -> 43.428 | Q41: =(IF(Q$23="%w/w SAR",((Q$24*10)*$B41),IF(Q$23="%w/w DM",(((Q$24*10)*($B$24/100))*$B41),IF(Q$23="kg/t SAR",(Q$24*$B41),IF(Q$23="kg/t DM",((Q$24*($B$24/100))*$B41),IF(Q$23="mg/kg SAR",((Q$24*0.001)*$B41),IF(Q$23="mg/kg DM",(((Q$24*0.001)*($B$24/100))*$B41),0)))))))*2.5 -> 15.51 | R41: =IF(R$23="%w/w SAR",((R$24*10)*$B41),IF(R$23="%w/w DM",(((R$24*10)*($B$24/100))*$B41),IF(R$23="kg/t SAR",(R$24*$B41),IF(R$23="kg/t DM",((R$24*($B$24/100))*$B41),IF(R$23="mg/kg SAR",((R$24*0.001)*$B41),IF(R$23="mg/kg DM",(((R$24*0.001)*($B$24/100))*$B41),0)))))) -> 0 | S41: =IF(S$23="%w/w SAR",((S$24*10)*$B41),IF(S$23="%w/w DM",(((S$24*10)*($B$24/100))*$B41),IF(S$23="kg/t SAR",(S$24*$B41),IF(S$23="kg/t DM",((S$24*($B$24/100))*$B41),IF(S$23="mg/kg SAR",((S$24*0.001)*$B41),IF(S$23="mg/kg DM",(((S$24*0.001)*($B$24/100))*$B41),0)))))) -> 0 | T41: =IF(T$23="%w/w SAR",((T$24*10)*$B41),IF(T$23="%w/w DM",(((T$24*10)*($B$24/100))*$B41),IF(T$23="kg/t SAR",(T$24*$B41),IF(T$23="kg/t DM",((T$24*($B$24/100))*$B41),IF(T$23="mg/kg SAR",((T$24*0.001)*$B41),IF(T$23="mg/kg DM",(((T$24*0.001)*($B$24/100))*$B41),0)))))) -> 0 | U41: =IF(U$23="%w/w SAR",((U$24*10)*$B41),IF(U$23="%w/w DM",(((U$24*10)*($B$24/100))*$B41),IF(U$23="kg/t SAR",(U$24*$B41),IF(U$23="kg/t DM",((U$24*($B$24/100))*$B41),IF(U$23="mg/kg SAR",((U$24*0.001)*$B41),IF(U$23="mg/kg DM",(((U$24*0.001)*($B$24/100))*$B41),0)))))) -> 0 | V41: =IF($V$24="",0,IF($V$24>5000,"NOT OK","OK")) -> OK | W41: =IF($W$24="",0,IF($W$24>4,"Not OK","OK")) -> OK
A42: =R8 -> PEN 7 | B42: 33 | C42: =IF(C$23="%w/w SAR",((C$24*10)*$B42),IF(C$23="%w/w DM",(((C$24*10)*($B$24/100))*$B42),IF(C$23="kg/t SAR",(C$24*$B42),IF(C$23="kg/t DM",((C$24*($B$24/100))*$B42),IF(C$23="mg/kg SAR",((C$24*0.001)*$B42),IF(C$23="mg/kg DM",(((C$24*0.001)*($B$24/100))*$B42),0)))))) -> 72.6 | D42: =(IF(D$23="%w/w SAR",((D$24*10)*$B42),IF(D$23="%w/w DM",(((D$24*10)*($B$24/100))*$B42),IF(D$23="kg/t SAR",(D$24*$B42),IF(D$23="kg/t DM",((D$24*($B$24/100))*$B42),IF(D$23="mg/kg SAR",((D$24*0.001)*$B42),IF(D$23="mg/kg DM",(((D$24*0.001)*($B$24/100))*$B42),"0")))))))*2.291 -> 64.186947 | E42: =(IF(E$23="%w/w SAR",((E$24*10)*$B42),IF(E$23="%w/w DM",(((E$24*10)*($B$24/100))*$B42),IF(E$23="kg/t SAR",(E$24*$B42),IF(E$23="kg/t DM",((E$24*($B$24/100))*$B42),IF(E$23="mg/kg SAR",((E$24*0.001)*$B42),IF(E$23="mg/kg DM",(((E$24*0.001)*($B$24/100))*$B42),"0")))))))*1.205 -> 8.072295 | F42: =(IF(F$23="%w/w SAR",((F$24*10)*$B42),IF(F$23="%w/w DM",(((F$24*10)*($B$24/100))*$B42),IF(F$23="kg/t SAR",(F$24*$B42),IF(F$23="kg/t DM",((F$24*($B$24/100))*$B42),IF(F$23="mg/kg SAR",((F$24*0.001)*$B42),IF(F$23="mg/kg DM",(((F$24*0.001)*($B$24/100))*$B42),"0")))))))*1.658 -> 2.845128 | G42: =IF(G$23="%w/w SAR",((G$24*10)*$B42),IF(G$23="%w/w DM",(((G$24*10)*($B$24/100))*$B42),IF(G$23="kg/t SAR",(G$24*$B42),IF(G$23="kg/t DM",((G$24*($B$24/100))*$B42),IF(G$23="mg/kg SAR",((G$24*0.001)*$B42),IF(G$23="mg/kg DM",(((G$24*0.001)*($B$24/100))*$B42),0)))))) -> 0.01089 | H42: =IF(H$23="%w/w SAR",((H$24*10)*$B42),IF(H$23="%w/w DM",(((H$24*10)*($B$24/100))*$B42),IF(H$23="kg/t SAR",(H$24*$B42),IF(H$23="kg/t DM",((H$24*($B$24/100))*$B42),IF(H$23="mg/kg SAR",((H$24*0.001)*$B42),IF(H$23="mg/kg DM",(((H$24*0.001)*($B$24/100))*$B42),0)))))) -> 0.09372 | I42: =IF(I$23="%w/w SAR",((I$24*10)*$B42),IF(I$23="%w/w DM",(((I$24*10)*($B$24/100))*$B42),IF(I$23="kg/t SAR",(I$24*$B42),IF(I$23="kg/t DM",((I$24*($B$24/100))*$B42),IF(I$23="mg/kg SAR",((I$24*0.001)*$B42),IF(I$23="mg/kg DM",(((I$24*0.001)*($B$24/100))*$B42),0)))))) -> 0.0165 | J42: =IF(J$23="%w/w SAR",((J$24*10)*$B42),IF(J$23="%w/w DM",(((J$24*10)*($B$24/100))*$B42),IF(J$23="kg/t SAR",(J$24*$B42),IF(J$23="kg/t DM",((J$24*($B$24/100))*$B42),IF(J$23="mg/kg SAR",((J$24*0.001)*$B42),IF(J$23="mg/kg DM",(((J$24*0.001)*($B$24/100))*$B42),0)))))) -> 0.00033 | K42: =IF(K$23="%w/w SAR",((K$24*10)*$B42),IF(K$23="%w/w DM",(((K$24*10)*($B$24/100))*$B42),IF(K$23="kg/t SAR",(K$24*$B42),IF(K$23="kg/t DM",((K$24*($B$24/100))*$B42),IF(K$23="mg/kg SAR",((K$24*0.001)*$B42),IF(K$23="mg/kg DM",(((K$24*0.001)*($B$24/100))*$B42),0)))))) -> 0.00165 | L42: =IF(L$23="%w/w SAR",((L$24*10)*$B42),IF(L$23="%w/w DM",(((L$24*10)*($B$24/100))*$B42),IF(L$23="kg/t SAR",(L$24*$B42),IF(L$23="kg/t DM",((L$24*($B$24/100))*$B42),IF(L$23="mg/kg SAR",((L$24*0.001)*$B42),IF(L$23="mg/kg DM",(((L$24*0.001)*($B$24/100))*$B42),0)))))) -> 0.0066 | M42: =IF(M$23="%w/w SAR",((M$24*10)*$B42),IF(M$23="%w/w DM",(((M$24*10)*($B$24/100))*$B42),IF(M$23="kg/t SAR",(M$24*$B42),IF(M$23="kg/t DM",((M$24*($B$24/100))*$B42),IF(M$23="mg/kg SAR",((M$24*0.001)*$B42),IF(M$23="mg/kg DM",(((M$24*0.001)*($B$24/100))*$B42),0)))))) -> 0.02541 | N42: =IF(N$23="%w/w SAR",((N$24*10)*$B42),IF(N$23="%w/w DM",(((N$24*10)*($B$24/100))*$B42),IF(N$23="kg/t SAR",(N$24*$B42),IF(N$23="kg/t DM",((N$24*($B$24/100))*$B42),IF(N$23="mg/kg SAR",((N$24*0.001)*$B42),IF(N$23="mg/kg DM",(((N$24*0.001)*($B$24/100))*$B42),0)))))) -> 0 | ... P42: =IF(P$23="%w/w SAR",((P$24*10)*$B42),IF(P$23="%w/w DM",(((P$24*10)*($B$24/100))*$B42),IF(P$23="kg/t SAR",(P$24*$B42),IF(P$23="kg/t DM",((P$24*($B$24/100))*$B42),IF(P$23="mg/kg SAR",((P$24*0.001)*$B42),IF(P$23="mg/kg DM",(((P$24*0.001)*($B$24/100))*$B42),0)))))) -> 43.428 | Q42: =(IF(Q$23="%w/w SAR",((Q$24*10)*$B42),IF(Q$23="%w/w DM",(((Q$24*10)*($B$24/100))*$B42),IF(Q$23="kg/t SAR",(Q$24*$B42),IF(Q$23="kg/t DM",((Q$24*($B$24/100))*$B42),IF(Q$23="mg/kg SAR",((Q$24*0.001)*$B42),IF(Q$23="mg/kg DM",(((Q$24*0.001)*($B$24/100))*$B42),0)))))))*2.5 -> 15.51 | R42: =IF(R$23="%w/w SAR",((R$24*10)*$B42),IF(R$23="%w/w DM",(((R$24*10)*($B$24/100))*$B42),IF(R$23="kg/t SAR",(R$24*$B42),IF(R$23="kg/t DM",((R$24*($B$24/100))*$B42),IF(R$23="mg/kg SAR",((R$24*0.001)*$B42),IF(R$23="mg/kg DM",(((R$24*0.001)*($B$24/100))*$B42),0)))))) -> 0 | S42: =IF(S$23="%w/w SAR",((S$24*10)*$B42),IF(S$23="%w/w DM",(((S$24*10)*($B$24/100))*$B42),IF(S$23="kg/t SAR",(S$24*$B42),IF(S$23="kg/t DM",((S$24*($B$24/100))*$B42),IF(S$23="mg/kg SAR",((S$24*0.001)*$B42),IF(S$23="mg/kg DM",(((S$24*0.001)*($B$24/100))*$B42),0)))))) -> 0 | T42: =IF(T$23="%w/w SAR",((T$24*10)*$B42),IF(T$23="%w/w DM",(((T$24*10)*($B$24/100))*$B42),IF(T$23="kg/t SAR",(T$24*$B42),IF(T$23="kg/t DM",((T$24*($B$24/100))*$B42),IF(T$23="mg/kg SAR",((T$24*0.001)*$B42),IF(T$23="mg/kg DM",(((T$24*0.001)*($B$24/100))*$B42),0)))))) -> 0 | U42: =IF(U$23="%w/w SAR",((U$24*10)*$B42),IF(U$23="%w/w DM",(((U$24*10)*($B$24/100))*$B42),IF(U$23="kg/t SAR",(U$24*$B42),IF(U$23="kg/t DM",((U$24*($B$24/100))*$B42),IF(U$23="mg/kg SAR",((U$24*0.001)*$B42),IF(U$23="mg/kg DM",(((U$24*0.001)*($B$24/100))*$B42),0)))))) -> 0 | V42: =IF($V$24="",0,IF($V$24>5000,"NOT OK","OK")) -> OK | W42: =IF($W$24="",0,IF($W$24>4,"Not OK","OK")) -> OK
A43: =S8 -> PEN 8 | B43: 33 | C43: =IF(C$23="%w/w SAR",((C$24*10)*$B43),IF(C$23="%w/w DM",(((C$24*10)*($B$24/100))*$B43),IF(C$23="kg/t SAR",(C$24*$B43),IF(C$23="kg/t DM",((C$24*($B$24/100))*$B43),IF(C$23="mg/kg SAR",((C$24*0.001)*$B43),IF(C$23="mg/kg DM",(((C$24*0.001)*($B$24/100))*$B43),0)))))) -> 72.6 | D43: =(IF(D$23="%w/w SAR",((D$24*10)*$B43),IF(D$23="%w/w DM",(((D$24*10)*($B$24/100))*$B43),IF(D$23="kg/t SAR",(D$24*$B43),IF(D$23="kg/t DM",((D$24*($B$24/100))*$B43),IF(D$23="mg/kg SAR",((D$24*0.001)*$B43),IF(D$23="mg/kg DM",(((D$24*0.001)*($B$24/100))*$B43),"0")))))))*2.291 -> 64.186947 | E43: =(IF(E$23="%w/w SAR",((E$24*10)*$B43),IF(E$23="%w/w DM",(((E$24*10)*($B$24/100))*$B43),IF(E$23="kg/t SAR",(E$24*$B43),IF(E$23="kg/t DM",((E$24*($B$24/100))*$B43),IF(E$23="mg/kg SAR",((E$24*0.001)*$B43),IF(E$23="mg/kg DM",(((E$24*0.001)*($B$24/100))*$B43),"0")))))))*1.205 -> 8.072295 | F43: =(IF(F$23="%w/w SAR",((F$24*10)*$B43),IF(F$23="%w/w DM",(((F$24*10)*($B$24/100))*$B43),IF(F$23="kg/t SAR",(F$24*$B43),IF(F$23="kg/t DM",((F$24*($B$24/100))*$B43),IF(F$23="mg/kg SAR",((F$24*0.001)*$B43),IF(F$23="mg/kg DM",(((F$24*0.001)*($B$24/100))*$B43),"0")))))))*1.658 -> 2.845128 | G43: =IF(G$23="%w/w SAR",((G$24*10)*$B43),IF(G$23="%w/w DM",(((G$24*10)*($B$24/100))*$B43),IF(G$23="kg/t SAR",(G$24*$B43),IF(G$23="kg/t DM",((G$24*($B$24/100))*$B43),IF(G$23="mg/kg SAR",((G$24*0.001)*$B43),IF(G$23="mg/kg DM",(((G$24*0.001)*($B$24/100))*$B43),0)))))) -> 0.01089 | H43: =IF(H$23="%w/w SAR",((H$24*10)*$B43),IF(H$23="%w/w DM",(((H$24*10)*($B$24/100))*$B43),IF(H$23="kg/t SAR",(H$24*$B43),IF(H$23="kg/t DM",((H$24*($B$24/100))*$B43),IF(H$23="mg/kg SAR",((H$24*0.001)*$B43),IF(H$23="mg/kg DM",(((H$24*0.001)*($B$24/100))*$B43),0)))))) -> 0.09372 | I43: =IF(I$23="%w/w SAR",((I$24*10)*$B43),IF(I$23="%w/w DM",(((I$24*10)*($B$24/100))*$B43),IF(I$23="kg/t SAR",(I$24*$B43),IF(I$23="kg/t DM",((I$24*($B$24/100))*$B43),IF(I$23="mg/kg SAR",((I$24*0.001)*$B43),IF(I$23="mg/kg DM",(((I$24*0.001)*($B$24/100))*$B43),0)))))) -> 0.0165 | J43: =IF(J$23="%w/w SAR",((J$24*10)*$B43),IF(J$23="%w/w DM",(((J$24*10)*($B$24/100))*$B43),IF(J$23="kg/t SAR",(J$24*$B43),IF(J$23="kg/t DM",((J$24*($B$24/100))*$B43),IF(J$23="mg/kg SAR",((J$24*0.001)*$B43),IF(J$23="mg/kg DM",(((J$24*0.001)*($B$24/100))*$B43),0)))))) -> 0.00033 | K43: =IF(K$23="%w/w SAR",((K$24*10)*$B43),IF(K$23="%w/w DM",(((K$24*10)*($B$24/100))*$B43),IF(K$23="kg/t SAR",(K$24*$B43),IF(K$23="kg/t DM",((K$24*($B$24/100))*$B43),IF(K$23="mg/kg SAR",((K$24*0.001)*$B43),IF(K$23="mg/kg DM",(((K$24*0.001)*($B$24/100))*$B43),0)))))) -> 0.00165 | L43: =IF(L$23="%w/w SAR",((L$24*10)*$B43),IF(L$23="%w/w DM",(((L$24*10)*($B$24/100))*$B43),IF(L$23="kg/t SAR",(L$24*$B43),IF(L$23="kg/t DM",((L$24*($B$24/100))*$B43),IF(L$23="mg/kg SAR",((L$24*0.001)*$B43),IF(L$23="mg/kg DM",(((L$24*0.001)*($B$24/100))*$B43),0)))))) -> 0.0066 | M43: =IF(M$23="%w/w SAR",((M$24*10)*$B43),IF(M$23="%w/w DM",(((M$24*10)*($B$24/100))*$B43),IF(M$23="kg/t SAR",(M$24*$B43),IF(M$23="kg/t DM",((M$24*($B$24/100))*$B43),IF(M$23="mg/kg SAR",((M$24*0.001)*$B43),IF(M$23="mg/kg DM",(((M$24*0.001)*($B$24/100))*$B43),0)))))) -> 0.02541 | N43: =IF(N$23="%w/w SAR",((N$24*10)*$B43),IF(N$23="%w/w DM",(((N$24*10)*($B$24/100))*$B43),IF(N$23="kg/t SAR",(N$24*$B43),IF(N$23="kg/t DM",((N$24*($B$24/100))*$B43),IF(N$23="mg/kg SAR",((N$24*0.001)*$B43),IF(N$23="mg/kg DM",(((N$24*0.001)*($B$24/100))*$B43),0)))))) -> 0 | ... P43: =IF(P$23="%w/w SAR",((P$24*10)*$B43),IF(P$23="%w/w DM",(((P$24*10)*($B$24/100))*$B43),IF(P$23="kg/t SAR",(P$24*$B43),IF(P$23="kg/t DM",((P$24*($B$24/100))*$B43),IF(P$23="mg/kg SAR",((P$24*0.001)*$B43),IF(P$23="mg/kg DM",(((P$24*0.001)*($B$24/100))*$B43),0)))))) -> 43.428 | Q43: =(IF(Q$23="%w/w SAR",((Q$24*10)*$B43),IF(Q$23="%w/w DM",(((Q$24*10)*($B$24/100))*$B43),IF(Q$23="kg/t SAR",(Q$24*$B43),IF(Q$23="kg/t DM",((Q$24*($B$24/100))*$B43),IF(Q$23="mg/kg SAR",((Q$24*0.001)*$B43),IF(Q$23="mg/kg DM",(((Q$24*0.001)*($B$24/100))*$B43),0)))))))*2.5 -> 15.51 | R43: =IF(R$23="%w/w SAR",((R$24*10)*$B43),IF(R$23="%w/w DM",(((R$24*10)*($B$24/100))*$B43),IF(R$23="kg/t SAR",(R$24*$B43),IF(R$23="kg/t DM",((R$24*($B$24/100))*$B43),IF(R$23="mg/kg SAR",((R$24*0.001)*$B43),IF(R$23="mg/kg DM",(((R$24*0.001)*($B$24/100))*$B43),0)))))) -> 0 | S43: =IF(S$23="%w/w SAR",((S$24*10)*$B43),IF(S$23="%w/w DM",(((S$24*10)*($B$24/100))*$B43),IF(S$23="kg/t SAR",(S$24*$B43),IF(S$23="kg/t DM",((S$24*($B$24/100))*$B43),IF(S$23="mg/kg SAR",((S$24*0.001)*$B43),IF(S$23="mg/kg DM",(((S$24*0.001)*($B$24/100))*$B43),0)))))) -> 0 | T43: =IF(T$23="%w/w SAR",((T$24*10)*$B43),IF(T$23="%w/w DM",(((T$24*10)*($B$24/100))*$B43),IF(T$23="kg/t SAR",(T$24*$B43),IF(T$23="kg/t DM",((T$24*($B$24/100))*$B43),IF(T$23="mg/kg SAR",((T$24*0.001)*$B43),IF(T$23="mg/kg DM",(((T$24*0.001)*($B$24/100))*$B43),0)))))) -> 0 | U43: =IF(U$23="%w/w SAR",((U$24*10)*$B43),IF(U$23="%w/w DM",(((U$24*10)*($B$24/100))*$B43),IF(U$23="kg/t SAR",(U$24*$B43),IF(U$23="kg/t DM",((U$24*($B$24/100))*$B43),IF(U$23="mg/kg SAR",((U$24*0.001)*$B43),IF(U$23="mg/kg DM",(((U$24*0.001)*($B$24/100))*$B43),0)))))) -> 0 | V43: =IF($V$24="",0,IF($V$24>5000,"NOT OK","OK")) -> OK | W43: =IF($W$24="",0,IF($W$24>4,"Not OK","OK")) -> OK
A44: =T8 -> PEN 9 | B44: 33 | C44: =IF(C$23="%w/w SAR",((C$24*10)*$B44),IF(C$23="%w/w DM",(((C$24*10)*($B$24/100))*$B44),IF(C$23="kg/t SAR",(C$24*$B44),IF(C$23="kg/t DM",((C$24*($B$24/100))*$B44),IF(C$23="mg/kg SAR",((C$24*0.001)*$B44),IF(C$23="mg/kg DM",(((C$24*0.001)*($B$24/100))*$B44),0)))))) -> 72.6 | D44: =(IF(D$23="%w/w SAR",((D$24*10)*$B44),IF(D$23="%w/w DM",(((D$24*10)*($B$24/100))*$B44),IF(D$23="kg/t SAR",(D$24*$B44),IF(D$23="kg/t DM",((D$24*($B$24/100))*$B44),IF(D$23="mg/kg SAR",((D$24*0.001)*$B44),IF(D$23="mg/kg DM",(((D$24*0.001)*($B$24/100))*$B44),"0")))))))*2.291 -> 64.186947 | E44: =(IF(E$23="%w/w SAR",((E$24*10)*$B44),IF(E$23="%w/w DM",(((E$24*10)*($B$24/100))*$B44),IF(E$23="kg/t SAR",(E$24*$B44),IF(E$23="kg/t DM",((E$24*($B$24/100))*$B44),IF(E$23="mg/kg SAR",((E$24*0.001)*$B44),IF(E$23="mg/kg DM",(((E$24*0.001)*($B$24/100))*$B44),"0")))))))*1.205 -> 8.072295 | F44: =(IF(F$23="%w/w SAR",((F$24*10)*$B44),IF(F$23="%w/w DM",(((F$24*10)*($B$24/100))*$B44),IF(F$23="kg/t SAR",(F$24*$B44),IF(F$23="kg/t DM",((F$24*($B$24/100))*$B44),IF(F$23="mg/kg SAR",((F$24*0.001)*$B44),IF(F$23="mg/kg DM",(((F$24*0.001)*($B$24/100))*$B44),"0")))))))*1.658 -> 2.845128 | G44: =IF(G$23="%w/w SAR",((G$24*10)*$B44),IF(G$23="%w/w DM",(((G$24*10)*($B$24/100))*$B44),IF(G$23="kg/t SAR",(G$24*$B44),IF(G$23="kg/t DM",((G$24*($B$24/100))*$B44),IF(G$23="mg/kg SAR",((G$24*0.001)*$B44),IF(G$23="mg/kg DM",(((G$24*0.001)*($B$24/100))*$B44),0)))))) -> 0.01089 | H44: =IF(H$23="%w/w SAR",((H$24*10)*$B44),IF(H$23="%w/w DM",(((H$24*10)*($B$24/100))*$B44),IF(H$23="kg/t SAR",(H$24*$B44),IF(H$23="kg/t DM",((H$24*($B$24/100))*$B44),IF(H$23="mg/kg SAR",((H$24*0.001)*$B44),IF(H$23="mg/kg DM",(((H$24*0.001)*($B$24/100))*$B44),0)))))) -> 0.09372 | I44: =IF(I$23="%w/w SAR",((I$24*10)*$B44),IF(I$23="%w/w DM",(((I$24*10)*($B$24/100))*$B44),IF(I$23="kg/t SAR",(I$24*$B44),IF(I$23="kg/t DM",((I$24*($B$24/100))*$B44),IF(I$23="mg/kg SAR",((I$24*0.001)*$B44),IF(I$23="mg/kg DM",(((I$24*0.001)*($B$24/100))*$B44),0)))))) -> 0.0165 | J44: =IF(J$23="%w/w SAR",((J$24*10)*$B44),IF(J$23="%w/w DM",(((J$24*10)*($B$24/100))*$B44),IF(J$23="kg/t SAR",(J$24*$B44),IF(J$23="kg/t DM",((J$24*($B$24/100))*$B44),IF(J$23="mg/kg SAR",((J$24*0.001)*$B44),IF(J$23="mg/kg DM",(((J$24*0.001)*($B$24/100))*$B44),0)))))) -> 0.00033 | K44: =IF(K$23="%w/w SAR",((K$24*10)*$B44),IF(K$23="%w/w DM",(((K$24*10)*($B$24/100))*$B44),IF(K$23="kg/t SAR",(K$24*$B44),IF(K$23="kg/t DM",((K$24*($B$24/100))*$B44),IF(K$23="mg/kg SAR",((K$24*0.001)*$B44),IF(K$23="mg/kg DM",(((K$24*0.001)*($B$24/100))*$B44),0)))))) -> 0.00165 | L44: =IF(L$23="%w/w SAR",((L$24*10)*$B44),IF(L$23="%w/w DM",(((L$24*10)*($B$24/100))*$B44),IF(L$23="kg/t SAR",(L$24*$B44),IF(L$23="kg/t DM",((L$24*($B$24/100))*$B44),IF(L$23="mg/kg SAR",((L$24*0.001)*$B44),IF(L$23="mg/kg DM",(((L$24*0.001)*($B$24/100))*$B44),0)))))) -> 0.0066 | M44: =IF(M$23="%w/w SAR",((M$24*10)*$B44),IF(M$23="%w/w DM",(((M$24*10)*($B$24/100))*$B44),IF(M$23="kg/t SAR",(M$24*$B44),IF(M$23="kg/t DM",((M$24*($B$24/100))*$B44),IF(M$23="mg/kg SAR",((M$24*0.001)*$B44),IF(M$23="mg/kg DM",(((M$24*0.001)*($B$24/100))*$B44),0)))))) -> 0.02541 | N44: =IF(N$23="%w/w SAR",((N$24*10)*$B44),IF(N$23="%w/w DM",(((N$24*10)*($B$24/100))*$B44),IF(N$23="kg/t SAR",(N$24*$B44),IF(N$23="kg/t DM",((N$24*($B$24/100))*$B44),IF(N$23="mg/kg SAR",((N$24*0.001)*$B44),IF(N$23="mg/kg DM",(((N$24*0.001)*($B$24/100))*$B44),0)))))) -> 0 | ... P44: =IF(P$23="%w/w SAR",((P$24*10)*$B44),IF(P$23="%w/w DM",(((P$24*10)*($B$24/100))*$B44),IF(P$23="kg/t SAR",(P$24*$B44),IF(P$23="kg/t DM",((P$24*($B$24/100))*$B44),IF(P$23="mg/kg SAR",((P$24*0.001)*$B44),IF(P$23="mg/kg DM",(((P$24*0.001)*($B$24/100))*$B44),0)))))) -> 43.428 | Q44: =(IF(Q$23="%w/w SAR",((Q$24*10)*$B44),IF(Q$23="%w/w DM",(((Q$24*10)*($B$24/100))*$B44),IF(Q$23="kg/t SAR",(Q$24*$B44),IF(Q$23="kg/t DM",((Q$24*($B$24/100))*$B44),IF(Q$23="mg/kg SAR",((Q$24*0.001)*$B44),IF(Q$23="mg/kg DM",(((Q$24*0.001)*($B$24/100))*$B44),0)))))))*2.5 -> 15.51 | R44: =IF(R$23="%w/w SAR",((R$24*10)*$B44),IF(R$23="%w/w DM",(((R$24*10)*($B$24/100))*$B44),IF(R$23="kg/t SAR",(R$24*$B44),IF(R$23="kg/t DM",((R$24*($B$24/100))*$B44),IF(R$23="mg/kg SAR",((R$24*0.001)*$B44),IF(R$23="mg/kg DM",(((R$24*0.001)*($B$24/100))*$B44),0)))))) -> 0 | S44: =IF(S$23="%w/w SAR",((S$24*10)*$B44),IF(S$23="%w/w DM",(((S$24*10)*($B$24/100))*$B44),IF(S$23="kg/t SAR",(S$24*$B44),IF(S$23="kg/t DM",((S$24*($B$24/100))*$B44),IF(S$23="mg/kg SAR",((S$24*0.001)*$B44),IF(S$23="mg/kg DM",(((S$24*0.001)*($B$24/100))*$B44),0)))))) -> 0 | T44: =IF(T$23="%w/w SAR",((T$24*10)*$B44),IF(T$23="%w/w DM",(((T$24*10)*($B$24/100))*$B44),IF(T$23="kg/t SAR",(T$24*$B44),IF(T$23="kg/t DM",((T$24*($B$24/100))*$B44),IF(T$23="mg/kg SAR",((T$24*0.001)*$B44),IF(T$23="mg/kg DM",(((T$24*0.001)*($B$24/100))*$B44),0)))))) -> 0 | U44: =IF(U$23="%w/w SAR",((U$24*10)*$B44),IF(U$23="%w/w DM",(((U$24*10)*($B$24/100))*$B44),IF(U$23="kg/t SAR",(U$24*$B44),IF(U$23="kg/t DM",((U$24*($B$24/100))*$B44),IF(U$23="mg/kg SAR",((U$24*0.001)*$B44),IF(U$23="mg/kg DM",(((U$24*0.001)*($B$24/100))*$B44),0)))))) -> 0 | V44: =IF($V$24="",0,IF($V$24>5000,"NOT OK","OK")) -> OK | W44: =IF($W$24="",0,IF($W$24>4,"Not OK","OK")) -> OK
A45: =U8 -> 0 | C45: =IF(C$23="%w/w SAR",((C$24*10)*$B45),IF(C$23="%w/w DM",(((C$24*10)*($B$24/100))*$B45),IF(C$23="kg/t SAR",(C$24*$B45),IF(C$23="kg/t DM",((C$24*($B$24/100))*$B45),IF(C$23="mg/kg SAR",((C$24*0.001)*$B45),IF(C$23="mg/kg DM",(((C$24*0.001)*($B$24/100))*$B45),0)))))) -> 0 | D45: =(IF(D$23="%w/w SAR",((D$24*10)*$B45),IF(D$23="%w/w DM",(((D$24*10)*($B$24/100))*$B45),IF(D$23="kg/t SAR",(D$24*$B45),IF(D$23="kg/t DM",((D$24*($B$24/100))*$B45),IF(D$23="mg/kg SAR",((D$24*0.001)*$B45),IF(D$23="mg/kg DM",(((D$24*0.001)*($B$24/100))*$B45),"0")))))))*2.291 -> 0 | E45: =(IF(E$23="%w/w SAR",((E$24*10)*$B45),IF(E$23="%w/w DM",(((E$24*10)*($B$24/100))*$B45),IF(E$23="kg/t SAR",(E$24*$B45),IF(E$23="kg/t DM",((E$24*($B$24/100))*$B45),IF(E$23="mg/kg SAR",((E$24*0.001)*$B45),IF(E$23="mg/kg DM",(((E$24*0.001)*($B$24/100))*$B45),"0")))))))*1.205 -> 0 | F45: =(IF(F$23="%w/w SAR",((F$24*10)*$B45),IF(F$23="%w/w DM",(((F$24*10)*($B$24/100))*$B45),IF(F$23="kg/t SAR",(F$24*$B45),IF(F$23="kg/t DM",((F$24*($B$24/100))*$B45),IF(F$23="mg/kg SAR",((F$24*0.001)*$B45),IF(F$23="mg/kg DM",(((F$24*0.001)*($B$24/100))*$B45),"0")))))))*1.658 -> 0 | G45: =IF(G$23="%w/w SAR",((G$24*10)*$B45),IF(G$23="%w/w DM",(((G$24*10)*($B$24/100))*$B45),IF(G$23="kg/t SAR",(G$24*$B45),IF(G$23="kg/t DM",((G$24*($B$24/100))*$B45),IF(G$23="mg/kg SAR",((G$24*0.001)*$B45),IF(G$23="mg/kg DM",(((G$24*0.001)*($B$24/100))*$B45),0)))))) -> 0 | H45: =IF(H$23="%w/w SAR",((H$24*10)*$B45),IF(H$23="%w/w DM",(((H$24*10)*($B$24/100))*$B45),IF(H$23="kg/t SAR",(H$24*$B45),IF(H$23="kg/t DM",((H$24*($B$24/100))*$B45),IF(H$23="mg/kg SAR",((H$24*0.001)*$B45),IF(H$23="mg/kg DM",(((H$24*0.001)*($B$24/100))*$B45),0)))))) -> 0 | I45: =IF(I$23="%w/w SAR",((I$24*10)*$B45),IF(I$23="%w/w DM",(((I$24*10)*($B$24/100))*$B45),IF(I$23="kg/t SAR",(I$24*$B45),IF(I$23="kg/t DM",((I$24*($B$24/100))*$B45),IF(I$23="mg/kg SAR",((I$24*0.001)*$B45),IF(I$23="mg/kg DM",(((I$24*0.001)*($B$24/100))*$B45),0)))))) -> 0 | J45: =IF(J$23="%w/w SAR",((J$24*10)*$B45),IF(J$23="%w/w DM",(((J$24*10)*($B$24/100))*$B45),IF(J$23="kg/t SAR",(J$24*$B45),IF(J$23="kg/t DM",((J$24*($B$24/100))*$B45),IF(J$23="mg/kg SAR",((J$24*0.001)*$B45),IF(J$23="mg/kg DM",(((J$24*0.001)*($B$24/100))*$B45),0)))))) -> 0 | K45: =IF(K$23="%w/w SAR",((K$24*10)*$B45),IF(K$23="%w/w DM",(((K$24*10)*($B$24/100))*$B45),IF(K$23="kg/t SAR",(K$24*$B45),IF(K$23="kg/t DM",((K$24*($B$24/100))*$B45),IF(K$23="mg/kg SAR",((K$24*0.001)*$B45),IF(K$23="mg/kg DM",(((K$24*0.001)*($B$24/100))*$B45),0)))))) -> 0 | L45: =IF(L$23="%w/w SAR",((L$24*10)*$B45),IF(L$23="%w/w DM",(((L$24*10)*($B$24/100))*$B45),IF(L$23="kg/t SAR",(L$24*$B45),IF(L$23="kg/t DM",((L$24*($B$24/100))*$B45),IF(L$23="mg/kg SAR",((L$24*0.001)*$B45),IF(L$23="mg/kg DM",(((L$24*0.001)*($B$24/100))*$B45),0)))))) -> 0 | M45: =IF(M$23="%w/w SAR",((M$24*10)*$B45),IF(M$23="%w/w DM",(((M$24*10)*($B$24/100))*$B45),IF(M$23="kg/t SAR",(M$24*$B45),IF(M$23="kg/t DM",((M$24*($B$24/100))*$B45),IF(M$23="mg/kg SAR",((M$24*0.001)*$B45),IF(M$23="mg/kg DM",(((M$24*0.001)*($B$24/100))*$B45),0)))))) -> 0 | N45: =IF(N$23="%w/w SAR",((N$24*10)*$B45),IF(N$23="%w/w DM",(((N$24*10)*($B$24/100))*$B45),IF(N$23="kg/t SAR",(N$24*$B45),IF(N$23="kg/t DM",((N$24*($B$24/100))*$B45),IF(N$23="mg/kg SAR",((N$24*0.001)*$B45),IF(N$23="mg/kg DM",(((N$24*0.001)*($B$24/100))*$B45),0)))))) -> 0 | ... P45: =IF(P$23="%w/w SAR",((P$24*10)*$B45),IF(P$23="%w/w DM",(((P$24*10)*($B$24/100))*$B45),IF(P$23="kg/t SAR",(P$24*$B45),IF(P$23="kg/t DM",((P$24*($B$24/100))*$B45),IF(P$23="mg/kg SAR",((P$24*0.001)*$B45),IF(P$23="mg/kg DM",(((P$24*0.001)*($B$24/100))*$B45),0)))))) -> 0 | Q45: =(IF(Q$23="%w/w SAR",((Q$24*10)*$B45),IF(Q$23="%w/w DM",(((Q$24*10)*($B$24/100))*$B45),IF(Q$23="kg/t SAR",(Q$24*$B45),IF(Q$23="kg/t DM",((Q$24*($B$24/100))*$B45),IF(Q$23="mg/kg SAR",((Q$24*0.001)*$B45),IF(Q$23="mg/kg DM",(((Q$24*0.001)*($B$24/100))*$B45),0)))))))*2.5 -> 0 | R45: =IF(R$23="%w/w SAR",((R$24*10)*$B45),IF(R$23="%w/w DM",(((R$24*10)*($B$24/100))*$B45),IF(R$23="kg/t SAR",(R$24*$B45),IF(R$23="kg/t DM",((R$24*($B$24/100))*$B45),IF(R$23="mg/kg SAR",((R$24*0.001)*$B45),IF(R$23="mg/kg DM",(((R$24*0.001)*($B$24/100))*$B45),0)))))) -> 0 | S45: =IF(S$23="%w/w SAR",((S$24*10)*$B45),IF(S$23="%w/w DM",(((S$24*10)*($B$24/100))*$B45),IF(S$23="kg/t SAR",(S$24*$B45),IF(S$23="kg/t DM",((S$24*($B$24/100))*$B45),IF(S$23="mg/kg SAR",((S$24*0.001)*$B45),IF(S$23="mg/kg DM",(((S$24*0.001)*($B$24/100))*$B45),0)))))) -> 0 | T45: =IF(T$23="%w/w SAR",((T$24*10)*$B45),IF(T$23="%w/w DM",(((T$24*10)*($B$24/100))*$B45),IF(T$23="kg/t SAR",(T$24*$B45),IF(T$23="kg/t DM",((T$24*($B$24/100))*$B45),IF(T$23="mg/kg SAR",((T$24*0.001)*$B45),IF(T$23="mg/kg DM",(((T$24*0.001)*($B$24/100))*$B45),0)))))) -> 0 | U45: =IF(U$23="%w/w SAR",((U$24*10)*$B45),IF(U$23="%w/w DM",(((U$24*10)*($B$24/100))*$B45),IF(U$23="kg/t SAR",(U$24*$B45),IF(U$23="kg/t DM",((U$24*($B$24/100))*$B45),IF(U$23="mg/kg SAR",((U$24*0.001)*$B45),IF(U$23="mg/kg DM",(((U$24*0.001)*($B$24/100))*$B45),0)))))) -> 0 | V45: =IF($V$24="",0,IF($V$24>5000,"NOT OK","OK")) -> OK | W45: =IF($W$24="",0,IF($W$24>4,"Not OK","OK")) -> OK
A46: =V8 -> 0 | C46: =IF(C$23="%w/w SAR",((C$24*10)*$B46),IF(C$23="%w/w DM",(((C$24*10)*($B$24/100))*$B46),IF(C$23="kg/t SAR",(C$24*$B46),IF(C$23="kg/t DM",((C$24*($B$24/100))*$B46),IF(C$23="mg/kg SAR",((C$24*0.001)*$B46),IF(C$23="mg/kg DM",(((C$24*0.001)*($B$24/100))*$B46),0)))))) -> 0 | D46: =(IF(D$23="%w/w SAR",((D$24*10)*$B46),IF(D$23="%w/w DM",(((D$24*10)*($B$24/100))*$B46),IF(D$23="kg/t SAR",(D$24*$B46),IF(D$23="kg/t DM",((D$24*($B$24/100))*$B46),IF(D$23="mg/kg SAR",((D$24*0.001)*$B46),IF(D$23="mg/kg DM",(((D$24*0.001)*($B$24/100))*$B46),"0")))))))*2.291 -> 0 | E46: =(IF(E$23="%w/w SAR",((E$24*10)*$B46),IF(E$23="%w/w DM",(((E$24*10)*($B$24/100))*$B46),IF(E$23="kg/t SAR",(E$24*$B46),IF(E$23="kg/t DM",((E$24*($B$24/100))*$B46),IF(E$23="mg/kg SAR",((E$24*0.001)*$B46),IF(E$23="mg/kg DM",(((E$24*0.001)*($B$24/100))*$B46),"0")))))))*1.205 -> 0 | F46: =(IF(F$23="%w/w SAR",((F$24*10)*$B46),IF(F$23="%w/w DM",(((F$24*10)*($B$24/100))*$B46),IF(F$23="kg/t SAR",(F$24*$B46),IF(F$23="kg/t DM",((F$24*($B$24/100))*$B46),IF(F$23="mg/kg SAR",((F$24*0.001)*$B46),IF(F$23="mg/kg DM",(((F$24*0.001)*($B$24/100))*$B46),"0")))))))*1.658 -> 0 | G46: =IF(G$23="%w/w SAR",((G$24*10)*$B46),IF(G$23="%w/w DM",(((G$24*10)*($B$24/100))*$B46),IF(G$23="kg/t SAR",(G$24*$B46),IF(G$23="kg/t DM",((G$24*($B$24/100))*$B46),IF(G$23="mg/kg SAR",((G$24*0.001)*$B46),IF(G$23="mg/kg DM",(((G$24*0.001)*($B$24/100))*$B46),0)))))) -> 0 | H46: =IF(H$23="%w/w SAR",((H$24*10)*$B46),IF(H$23="%w/w DM",(((H$24*10)*($B$24/100))*$B46),IF(H$23="kg/t SAR",(H$24*$B46),IF(H$23="kg/t DM",((H$24*($B$24/100))*$B46),IF(H$23="mg/kg SAR",((H$24*0.001)*$B46),IF(H$23="mg/kg DM",(((H$24*0.001)*($B$24/100))*$B46),0)))))) -> 0 | I46: =IF(I$23="%w/w SAR",((I$24*10)*$B46),IF(I$23="%w/w DM",(((I$24*10)*($B$24/100))*$B46),IF(I$23="kg/t SAR",(I$24*$B46),IF(I$23="kg/t DM",((I$24*($B$24/100))*$B46),IF(I$23="mg/kg SAR",((I$24*0.001)*$B46),IF(I$23="mg/kg DM",(((I$24*0.001)*($B$24/100))*$B46),0)))))) -> 0 | J46: =IF(J$23="%w/w SAR",((J$24*10)*$B46),IF(J$23="%w/w DM",(((J$24*10)*($B$24/100))*$B46),IF(J$23="kg/t SAR",(J$24*$B46),IF(J$23="kg/t DM",((J$24*($B$24/100))*$B46),IF(J$23="mg/kg SAR",((J$24*0.001)*$B46),IF(J$23="mg/kg DM",(((J$24*0.001)*($B$24/100))*$B46),0)))))) -> 0 | K46: =IF(K$23="%w/w SAR",((K$24*10)*$B46),IF(K$23="%w/w DM",(((K$24*10)*($B$24/100))*$B46),IF(K$23="kg/t SAR",(K$24*$B46),IF(K$23="kg/t DM",((K$24*($B$24/100))*$B46),IF(K$23="mg/kg SAR",((K$24*0.001)*$B46),IF(K$23="mg/kg DM",(((K$24*0.001)*($B$24/100))*$B46),0)))))) -> 0 | L46: =IF(L$23="%w/w SAR",((L$24*10)*$B46),IF(L$23="%w/w DM",(((L$24*10)*($B$24/100))*$B46),IF(L$23="kg/t SAR",(L$24*$B46),IF(L$23="kg/t DM",((L$24*($B$24/100))*$B46),IF(L$23="mg/kg SAR",((L$24*0.001)*$B46),IF(L$23="mg/kg DM",(((L$24*0.001)*($B$24/100))*$B46),0)))))) -> 0 | M46: =IF(M$23="%w/w SAR",((M$24*10)*$B46),IF(M$23="%w/w DM",(((M$24*10)*($B$24/100))*$B46),IF(M$23="kg/t SAR",(M$24*$B46),IF(M$23="kg/t DM",((M$24*($B$24/100))*$B46),IF(M$23="mg/kg SAR",((M$24*0.001)*$B46),IF(M$23="mg/kg DM",(((M$24*0.001)*($B$24/100))*$B46),0)))))) -> 0 | N46: =IF(N$23="%w/w SAR",((N$24*10)*$B46),IF(N$23="%w/w DM",(((N$24*10)*($B$24/100))*$B46),IF(N$23="kg/t SAR",(N$24*$B46),IF(N$23="kg/t DM",((N$24*($B$24/100))*$B46),IF(N$23="mg/kg SAR",((N$24*0.001)*$B46),IF(N$23="mg/kg DM",(((N$24*0.001)*($B$24/100))*$B46),0)))))) -> 0 | ... P46: =IF(P$23="%w/w SAR",((P$24*10)*$B46),IF(P$23="%w/w DM",(((P$24*10)*($B$24/100))*$B46),IF(P$23="kg/t SAR",(P$24*$B46),IF(P$23="kg/t DM",((P$24*($B$24/100))*$B46),IF(P$23="mg/kg SAR",((P$24*0.001)*$B46),IF(P$23="mg/kg DM",(((P$24*0.001)*($B$24/100))*$B46),0)))))) -> 0 | Q46: =(IF(Q$23="%w/w SAR",((Q$24*10)*$B46),IF(Q$23="%w/w DM",(((Q$24*10)*($B$24/100))*$B46),IF(Q$23="kg/t SAR",(Q$24*$B46),IF(Q$23="kg/t DM",((Q$24*($B$24/100))*$B46),IF(Q$23="mg/kg SAR",((Q$24*0.001)*$B46),IF(Q$23="mg/kg DM",(((Q$24*0.001)*($B$24/100))*$B46),0)))))))*2.5 -> 0 | R46: =IF(R$23="%w/w SAR",((R$24*10)*$B46),IF(R$23="%w/w DM",(((R$24*10)*($B$24/100))*$B46),IF(R$23="kg/t SAR",(R$24*$B46),IF(R$23="kg/t DM",((R$24*($B$24/100))*$B46),IF(R$23="mg/kg SAR",((R$24*0.001)*$B46),IF(R$23="mg/kg DM",(((R$24*0.001)*($B$24/100))*$B46),0)))))) -> 0 | S46: =IF(S$23="%w/w SAR",((S$24*10)*$B46),IF(S$23="%w/w DM",(((S$24*10)*($B$24/100))*$B46),IF(S$23="kg/t SAR",(S$24*$B46),IF(S$23="kg/t DM",((S$24*($B$24/100))*$B46),IF(S$23="mg/kg SAR",((S$24*0.001)*$B46),IF(S$23="mg/kg DM",(((S$24*0.001)*($B$24/100))*$B46),0)))))) -> 0 | T46: =IF(T$23="%w/w SAR",((T$24*10)*$B46),IF(T$23="%w/w DM",(((T$24*10)*($B$24/100))*$B46),IF(T$23="kg/t SAR",(T$24*$B46),IF(T$23="kg/t DM",((T$24*($B$24/100))*$B46),IF(T$23="mg/kg SAR",((T$24*0.001)*$B46),IF(T$23="mg/kg DM",(((T$24*0.001)*($B$24/100))*$B46),0)))))) -> 0 | U46: =IF(U$23="%w/w SAR",((U$24*10)*$B46),IF(U$23="%w/w DM",(((U$24*10)*($B$24/100))*$B46),IF(U$23="kg/t SAR",(U$24*$B46),IF(U$23="kg/t DM",((U$24*($B$24/100))*$B46),IF(U$23="mg/kg SAR",((U$24*0.001)*$B46),IF(U$23="mg/kg DM",(((U$24*0.001)*($B$24/100))*$B46),0)))))) -> 0 | V46: =IF($V$24="",0,IF($V$24>5000,"NOT OK","OK")) -> OK | W46: =IF($W$24="",0,IF($W$24>4,"Not OK","OK")) -> OK
A47: LIMIT | B47: 250 | C47: 250 | D47: Crop Requirement | E47: Crop Requirement | F47: Crop Requirement | G47: 7.5 | H47: 15 | I47: 15 | J47: 0.15 | K47: 0.1 | L47: 3 | M47: 15 | N47: TBC | O47: TBC | P47: 360 | Q47: Crop requirement x10 | R47: 0.15 | S47: 0.7 | T47: 0.2 | U47: 20 | V47: 5000 | W47: 4

Sheet Waste 2
A1: PAN reference | C1: ='Dairy Partners Ltd'!C1:E1 -> PAN-004415 | F1: Total spread area | H1: ='Dairy Partners Ltd'!H1:J1 -> 50 | AE1: Crop | AF1: P OFFTAKE
A2: Permit reference | C2: ='Dairy Partners Ltd'!C2:E2 -> EPR/AB3891CX | F2: Waste type (EWC) | H2: 02 05 02 | AB2: %w/w SAR | AC2: Sandy | AD2: Solid | AE2: Winter wheat/barley | AF2: 8.4
A3: Operator | C3: ='Dairy Partners Ltd'!C3:E3 -> Stepside Agri Contractors | F3: Waste type (physical form) | H3: Liquid | AB3: %w/w DM | AC3: Sandy Loam | AD3: Liquid | AE3: Spring wheat/barley | AF3: 8.6
A4: Farm Address | C4: ='Dairy Partners Ltd'!C4:E4 -> Ffynnoncyff farm, Ferwig, Cardigan SA43 1QD | F4: Waste Ref/Name | H4: First Milk | AB4: kg/t SAR | AC4: Medium/Clay | AD4: Sludge | AE4: Winter/spring oats | AF4: 8.8
A5: Assessed By | C5: ='Dairy Partners Ltd'!C5:E5 -> Rohini Sawant | F5: Waste pH | H5: 5.47 | AB5: kg/t DM | AC5: Organic | AE5: Oilseed rape | AF5: 15.1
AB6: mg/kg SAR | AC6: Peat | AE6: Maize | AF6: 1.4
A7: Field number | C7: 1 | D7: 2 | E7: 3 | F7: 4 | G7: 5 | H7: 6 | I7: 7 | J7: 8 | K7: 9 | L7: 10 | M7: 11 | N7: 12 | O7: 13 | P7: 14 | Q7: 15 | R7: 16 | S7: 17 | T7: 18 | U7: 19 | V7: 20 | AB7: mg/kg DM | AE7: Fodder beet | AF7: 0.7
A8: Field Ref | C8: ='Dairy Partners Ltd'!C8 -> 20 | D8: ='Dairy Partners Ltd'!D8 -> 21A | E8: ='Dairy Partners Ltd'!E8 -> 21B | F8: ='Dairy Partners Ltd'!F8 -> 11 | G8: ='Dairy Partners Ltd'!G8 -> 12 | H8: ='Dairy Partners Ltd'!H8 -> 9 | I8: ='Dairy Partners Ltd'!I8 -> 8 | J8: ='Dairy Partners Ltd'!J8 -> 13B | ... V8: ='Dairy Partners Ltd'!V8 -> 0 | AE8: Grass fresh (15%-20% DM) | AF8: 1.4
A9: SNS Index | C9: ='Dairy Partners Ltd'!C9 -> Moderate | D9: ='Dairy Partners Ltd'!D9 -> Low | E9: ='Dairy Partners Ltd'!E9 -> Low | F9: ='Dairy Partners Ltd'!F9 -> Moderate | G9: ='Dairy Partners Ltd'!G9 -> 1 | H9: ='Dairy Partners Ltd'!H9 -> 1 | I9: ='Dairy Partners Ltd'!I9 -> 1 | J9: ='Dairy Partners Ltd'!J9 -> Low | ... V9: ='Dairy Partners Ltd'!V9 -> 0 | AE9: Grass Silage (25% DM) | AF9: 1.7
A10: Field pH | C10: ='Dairy Partners Ltd'!C10 -> 6.8 | D10: ='Dairy Partners Ltd'!D10 -> 6.8 | E10: ='Dairy Partners Ltd'!E10 -> 6.6 | F10: ='Dairy Partners Ltd'!F10 -> 7.4 | G10: ='Dairy Partners Ltd'!G10 -> 6.6 | H10: ='Dairy Partners Ltd'!H10 -> 6.6 | I10: ='Dairy Partners Ltd'!I10 -> 6.7 | J10: ='Dairy Partners Ltd'!J10 -> 6.5 | ... V10: ='Dairy Partners Ltd'!V10 -> 0 | AE10: Grass Silage (30%) | AF10: 2.1
A11: Phosphorus Index | C11: ='Dairy Partners Ltd'!C11 -> 0 | D11: ='Dairy Partners Ltd'!D11 -> 0 | E11: ='Dairy Partners Ltd'!E11 -> 0 | F11: ='Dairy Partners Ltd'!F11 -> 2 | G11: ='Dairy Partners Ltd'!G11 -> 1 | H11: ='Dairy Partners Ltd'!H11 -> 3 | I11: ='Dairy Partners Ltd'!I11 -> 3 | J11: ='Dairy Partners Ltd'!J11 -> 2 | ... V11: ='Dairy Partners Ltd'!V11 -> 0 | AE11: Hay (86% DM) | AF11: 5.9
A12: Potassium Index | C12: ='Dairy Partners Ltd'!C12 -> 1 | D12: ='Dairy Partners Ltd'!D12 -> 1 | E12: ='Dairy Partners Ltd'!E12 -> 1 | F12: ='Dairy Partners Ltd'!F12 -> 1 | G12: ='Dairy Partners Ltd'!G12 -> -2 | H12: ='Dairy Partners Ltd'!H12 -> 2 | I12: ='Dairy Partners Ltd'!I12 -> 3 | J12: ='Dairy Partners Ltd'!J12 -> 2 | ... V12: ='Dairy Partners Ltd'!V12 -> 0 | AE12: Haylege (45% DM) | AF12: 3.2
A13: Magnesium Index | C13: ='Dairy Partners Ltd'!C13 -> 0 | D13: ='Dairy Partners Ltd'!D13 -> 0 | E13: ='Dairy Partners Ltd'!E13 -> 0 | F13: ='Dairy Partners Ltd'!F13 -> 0 | G13: ='Dairy Partners Ltd'!G13 -> 0 | H13: ='Dairy Partners Ltd'!H13 -> 0 | I13: ='Dairy Partners Ltd'!I13 -> 0 | J13: ='Dairy Partners Ltd'!J13 -> 0 | ... V13: ='Dairy Partners Ltd'!V13 -> 0
A14: Benefiting Crop | C14: ='Dairy Partners Ltd'!C14 -> Grass Silage (25% DM) | D14: ='Dairy Partners Ltd'!D14 -> Grass Silage (25% DM) | E14: ='Dairy Partners Ltd'!E14 -> Grass Silage (25% DM) | F14: ='Dairy Partners Ltd'!F14 -> Grass Silage (25% DM) | G14: ='Dairy Partners Ltd'!G14 -> Spring wheat/barley | H14: ='Dairy Partners Ltd'!H14 -> Spring wheat/barley | I14: ='Dairy Partners Ltd'!I14 -> Spring wheat/barley | J14: ='Dairy Partners Ltd'!J14 -> Grass Silage (25% DM) | ... V14: ='Dairy Partners Ltd'!V14 -> 0
A15: Expected Yield | C15: ='Dairy Partners Ltd'!C15 -> 47 | D15: ='Dairy Partners Ltd'!D15 -> 47 | E15: ='Dairy Partners Ltd'!E15 -> 47 | F15: ='Dairy Partners Ltd'!F15 -> 47 | G15: ='Dairy Partners Ltd'!G15 -> 6 | H15: ='Dairy Partners Ltd'!H15 -> 6 | I15: ='Dairy Partners Ltd'!I15 -> 6 | J15: ='Dairy Partners Ltd'!J15 -> 56 | ... V15: ='Dairy Partners Ltd'!V15 -> 0
A16: Soil Type | C16: ='Dairy Partners Ltd'!C16 -> Medium/Clay | D16: ='Dairy Partners Ltd'!D16 -> Medium/Clay | E16: ='Dairy Partners Ltd'!E16 -> Medium/Clay | F16: ='Dairy Partners Ltd'!F16 -> Medium/Clay | G16: ='Dairy Partners Ltd'!G16 -> Medium/Clay | H16: ='Dairy Partners Ltd'!H16 -> Medium/Clay | I16: ='Dairy Partners Ltd'!I16 -> Medium/Clay | J16: ='Dairy Partners Ltd'!J16 -> Medium/Clay | ... V16: ='Dairy Partners Ltd'!V16 -> 0
A17: Phosphate Offtake | C17: =IF(C$14="Winter wheat/barley",8.4,IF(C$14="Spring wheat/barley",8.6,IF(C$14="Winter/spring oats",8.8, IF(C$14="Oilseed Rape",15.1,IF(C$14="Grass fresh (15%-20% DM)",1.4,IF(C$14="Grass Silage (25% DM)",1.7,IF(C$14="Grass Silage (30%)",2.1,IF(C$14="Hay (86% DM)",5.9,IF(C$14="Maize",1.4,IF(C$14="Fodder beet",0.7,IF(C$14="Haylege (45% DM)",3.2,"0")))))))))))*C15 -> 79.9 | D17: =IF(D$14="Winter wheat/barley",8.4,IF(D$14="Spring wheat/barley",8.6,IF(D$14="Winter/spring oats",8.8, IF(D$14="Oilseed Rape",15.1,IF(D$14="Grass fresh (15%-20% DM)",1.4,IF(D$14="Grass Silage (25% DM)",1.7,IF(D$14="Grass Silage (30%)",2.1,IF(D$14="Hay (86% DM)",5.9,IF(D$14="Maize",1.4,IF(D$14="Fodder beet",0.7,IF(D$14="Haylege (45% DM)",3.2,"0")))))))))))*D15 -> 79.9 | E17: =IF(E$14="Winter wheat/barley",8.4,IF(E$14="Spring wheat/barley",8.6,IF(E$14="Winter/spring oats",8.8, IF(E$14="Oilseed Rape",15.1,IF(E$14="Grass fresh (15%-20% DM)",1.4,IF(E$14="Grass Silage (25% DM)",1.7,IF(E$14="Grass Silage (30%)",2.1,IF(E$14="Hay (86% DM)",5.9,IF(E$14="Maize",1.4,IF(E$14="Fodder beet",0.7,IF(E$14="Haylege (45% DM)",3.2,"0")))))))))))*E15 -> 79.9 | F17: =IF(F$14="Winter wheat/barley",8.4,IF(F$14="Spring wheat/barley",8.6,IF(F$14="Winter/spring oats",8.8, IF(F$14="Oilseed Rape",15.1,IF(F$14="Grass fresh (15%-20% DM)",1.4,IF(F$14="Grass Silage (25% DM)",1.7,IF(F$14="Grass Silage (30%)",2.1,IF(F$14="Hay (86% DM)",5.9,IF(F$14="Maize",1.4,IF(F$14="Fodder beet",0.7,IF(F$14="Haylege (45% DM)",3.2,"0")))))))))))*F15 -> 79.9 | G17: =IF(G$14="Winter wheat/barley",8.4,IF(G$14="Spring wheat/barley",8.6,IF(G$14="Winter/spring oats",8.8, IF(G$14="Oilseed Rape",15.1,IF(G$14="Grass fresh (15%-20% DM)",1.4,IF(G$14="Grass Silage (25% DM)",1.7,IF(G$14="Grass Silage (30%)",2.1,IF(G$14="Hay (86% DM)",5.9,IF(G$14="Maize",1.4,IF(G$14="Fodder beet",0.7,IF(G$14="Haylege (45% DM)",3.2,"0")))))))))))*G15 -> 51.6 | H17: =IF(H$14="Winter wheat/barley",8.4,IF(H$14="Spring wheat/barley",8.6,IF(H$14="Winter/spring oats",8.8, IF(H$14="Oilseed Rape",15.1,IF(H$14="Grass fresh (15%-20% DM)",1.4,IF(H$14="Grass Silage (25% DM)",1.7,IF(H$14="Grass Silage (30%)",2.1,IF(H$14="Hay (86% DM)",5.9,IF(H$14="Maize",1.4,IF(H$14="Fodder beet",0.7,IF(H$14="Haylege (45% DM)",3.2,"0")))))))))))*H15 -> 51.6 | I17: =IF(I$14="Winter wheat/barley",8.4,IF(I$14="Spring wheat/barley",8.6,IF(I$14="Winter/spring oats",8.8, IF(I$14="Oilseed Rape",15.1,IF(I$14="Grass fresh (15%-20% DM)",1.4,IF(I$14="Grass Silage (25% DM)",1.7,IF(I$14="Grass Silage (30%)",2.1,IF(I$14="Hay (86% DM)",5.9,IF(I$14="Maize",1.4,IF(I$14="Fodder beet",0.7,IF(I$14="Haylege (45% DM)",3.2,"0")))))))))))*I15 -> 51.6 | J17: =IF(J$14="Winter wheat/barley",8.4,IF(J$14="Spring wheat/barley",8.6,IF(J$14="Winter/spring oats",8.8, IF(J$14="Oilseed Rape",15.1,IF(J$14="Grass fresh (15%-20% DM)",1.4,IF(J$14="Grass Silage (25% DM)",1.7,IF(J$14="Grass Silage (30%)",2.1,IF(J$14="Hay (86% DM)",5.9,IF(J$14="Maize",1.4,IF(J$14="Fodder beet",0.7,IF(J$14="Haylege (45% DM)",3.2,"0")))))))))))*J15 -> 95.2 | ... V17: =IF(V$14="Winter wheat/barley",8.4,IF(V$14="Spring wheat/barley",8.6,IF(V$14="Winter/spring oats",8.8, IF(V$14="Oilseed Rape",15.1,IF(V$14="Grass fresh (15%-20% DM)",1.4,IF(V$14="Grass Silage (25% DM)",1.7,IF(V$14="Grass Silage (30%)",2.1,IF(V$14="Hay (86% DM)",5.9,IF(V$14="Maize",1.4,IF(V$14="Fodder beet",0.7,IF(V$14="Haylege (45% DM)",3.2,"0")))))))))))*V15 -> 0
A18: Phosphate Addition | C18: =$D27 -> 180.85612 | D18: =$D28 -> 180.85612 | E18: =$D29 -> 180.85612 | F18: =$D30 -> 79.699308 | G18: =$D31 -> 133.34307 | H18: =$D32 -> 50.578407 | I18: =$D33 -> 50.578407 | J18: =$D34 -> 79.699308 | K18: =$D35 -> 79.699308 | L18: =$D36 -> 180.85612 | M18: =$D37 -> 180.85612 | N18: =$D38 -> 64.372518 | O18: =$D39 -> 64.372518 | P18: =$D40 -> 157.86594 | Q18: =$D41 -> 64.372518 | R18: =$D42 -> 64.372518 | S18: =$D43 -> 64.372518 | T18: =$D44 -> 64.372518 | U18: =$D45 -> 0 | V18: =$D46 -> 0
A19: Difference | C19: =C18-C17 -> 100.95612 | D19: =D18-D17 -> 100.95612 | E19: =E18-E17 -> 100.95612 | F19: =F18-F17 -> -0.200692 | G19: =G18-G17 -> 81.743073 | H19: =H18-H17 -> -1.021593 | I19: =I18-I17 -> -1.021593 | J19: =J18-J17 -> -15.500692 | ... V19: =V18-V17 -> 0
A20: Increase/decrease | C20: =IF($B27="","",IF(C$19>=0,"INCREASE","DECREASE")) -> INCREASE | D20: =IF($B28="","",IF(D$19>=0,"INCREASE","DECREASE")) -> INCREASE | E20: =IF($B29="","",IF(E$19>=0,"INCREASE","DECREASE")) -> INCREASE | F20: =IF($B30="","",IF(F$19>=0,"INCREASE","DECREASE")) -> DECREASE | G20: =IF($B31="","",IF(G$19>=0,"INCREASE","DECREASE")) -> INCREASE | H20: =IF($B32="","",IF(H$19>=0,"INCREASE","DECREASE")) -> DECREASE | I20: =IF($B33="","",IF(I$19>=0,"INCREASE","DECREASE")) -> DECREASE | J20: =IF($B34="","",IF(J$19>=0,"INCREASE","DECREASE")) -> DECREASE | K20: =IF($B35="","",IF(K$19>=0,"INCREASE","DECREASE")) -> DECREASE | L20: =IF($B36="","",IF(L$19>=0,"INCREASE","DECREASE")) -> INCREASE | M20: =IF($B37="","",IF(M$19>=0,"INCREASE","DECREASE")) -> INCREASE | N20: =IF($B38="","",IF(N$19>=0,"INCREASE","DECREASE")) -> DECREASE | O20: =IF($B39="","",IF(O$19>=0,"INCREASE","DECREASE")) -> DECREASE | P20: =IF($B40="","",IF(P$19>=0,"INCREASE","DECREASE")) -> INCREASE | Q20: =IF($B41="","",IF(Q$19>=0,"INCREASE","DECREASE")) -> DECREASE | R20: =IF($B42="","",IF(R$19>=0,"INCREASE","DECREASE")) -> DECREASE | S20: =IF($B43="","",IF(S$19>=0,"INCREASE","DECREASE")) -> DECREASE | T20: =IF($B44="","",IF(T$19>=0,"INCREASE","DECREASE")) -> DECREASE | U20: =IF($B45="","",IF(U$19>=0,"INCREASE","DECREASE")) | V20: =IF($B46="","",IF(V$19>=0,"INCREASE","DECREASE"))
B22: Dry Matter | C22: Total Nitrogen | D22: Total Phosphorus (P) | E22: Total Potassium (K) | F22: Total Magnesium (Mg) | G22: Total Copper | H22: Total Zinc | I22: Total Lead | J22: Total Cadmium | K22: Total Mercury | L22: Total Nickel | M22: Total Chromium | N22: Total Aluminium | O22: Total Iron | P22: Total Na (Sodium) | Q22: Total Sulphur (S) | R22: Total Selenium | S22: Total Arsenic | T22: Total Mo | U22: Total Fluoride | V22: Conductivity µS/cm | W22: Fats & Oils (%)
B23: % | C23: %w/w SAR | D23: mg/kg SAR | E23: mg/kg SAR | F23: mg/kg SAR | G23: mg/kg SAR | H23: mg/kg SAR | I23: mg/kg SAR | J23: mg/kg SAR | K23: mg/kg SAR | L23: mg/kg SAR | M23: mg/kg SAR | N23: mg/kg SAR | O23: mg/kg SAR | P23: mg/kg SAR | Q23: mg/kg SAR | R23: mg/kg SAR | S23: mg/kg SAR | T23: mg/kg SAR | U23: mg/kg SAR
B24: 5.6 | C24: 0.21 | D24: 669 | E24: 279 | F24: 58.2 | G24: 0.35 | H24: 1.64 | I24: 0.5 | J24: 0.01 | K24: 0.05 | L24: 0.2 | M24: 0.36 | P24: 784 | Q24: 157 | W24: 1.656
A25: Field Ref | B25: Application Rate | C25: Nitrogen Addition | D25: Phosphate Addition | E25: Potash Addition | F25: Mg Oxide Addition | G25: Copper Addition | H25: Zinc Addition | I25: Lead Addition | J25: Cadmium Addition | K25: Mercury Addition | L25: Nickel Addition | M25: Chromium Addition | N25: Aluminium Addition | O25: Iron Addition | P25: Sodium Addition | Q25: SO3 Addition kg/ha | R25: Selenium Addition | S25: Arsenic Addition | T25: Molybdenum Addition | U25: Fluoride Addition | V25: Conductivity (Acceptable level 5000µS/cm) | W25: Fats & Oils (Acceptable level 4%)
B26: tonnes/ha | C26: kg/ha | D26: P2O5 kg/ha | E26: K2O kg/ha | F26: MgO kg/ha | G26: kg/ha | H26: kg/ha | I26: kg/ha | J26: kg/ha | K26: kg/ha | L26: kg/ha | M26: kg/ha | N26: kg/ha | O26: kg/ha | P26: kg/ha | Q26: kg/ha | R26: kg/ha | S26: kg/ha | T26: kg/ha | U26: kg/ha
A27: =C8 -> 20 | B27: 118 | C27: =IF(C$23="%w/w SAR",((C$24*10)*$B27),IF(C$23="%w/w DM",(((C$24*10)*($B$24/100))*$B27),IF(C$23="kg/t SAR",(C$24*$B27),IF(C$23="kg/t DM",((C$24*($B$24/100))*$B27),IF(C$23="mg/kg SAR",((C$24*0.001)*$B27),IF(C$23="mg/kg DM",(((C$24*0.001)*($B$24/100))*$B27),0)))))) -> 247.8 | D27: =(IF(D$23="%w/w SAR",((D$24*10)*$B27),IF(D$23="%w/w DM",(((D$24*10)*($B$24/100))*$B27),IF(D$23="kg/t SAR",(D$24*$B27),IF(D$23="kg/t DM",((D$24*($B$24/100))*$B27),IF(D$23="mg/kg SAR",((D$24*0.001)*$B27),IF(D$23="mg/kg DM",(((D$24*0.001)*($B$24/100))*$B27),"0")))))))*2.291 -> 180.85612 | E27: =(IF(E$23="%w/w SAR",((E$24*10)*$B27),IF(E$23="%w/w DM",(((E$24*10)*($B$24/100))*$B27),IF(E$23="kg/t SAR",(E$24*$B27),IF(E$23="kg/t DM",((E$24*($B$24/100))*$B27),IF(E$23="mg/kg SAR",((E$24*0.001)*$B27),IF(E$23="mg/kg DM",(((E$24*0.001)*($B$24/100))*$B27),"0")))))))*1.205 -> 39.67101 | F27: =(IF(F$23="%w/w SAR",((F$24*10)*$B27),IF(F$23="%w/w DM",(((F$24*10)*($B$24/100))*$B27),IF(F$23="kg/t SAR",(F$24*$B27),IF(F$23="kg/t DM",((F$24*($B$24/100))*$B27),IF(F$23="mg/kg SAR",((F$24*0.001)*$B27),IF(F$23="mg/kg DM",(((F$24*0.001)*($B$24/100))*$B27),"0")))))))*1.658 -> 11.386481 | G27: =IF(G$23="%w/w SAR",((G$24*10)*$B27),IF(G$23="%w/w DM",(((G$24*10)*($B$24/100))*$B27),IF(G$23="kg/t SAR",(G$24*$B27),IF(G$23="kg/t DM",((G$24*($B$24/100))*$B27),IF(G$23="mg/kg SAR",((G$24*0.001)*$B27),IF(G$23="mg/kg DM",(((G$24*0.001)*($B$24/100))*$B27),0)))))) -> 0.0413 | H27: =IF(H$23="%w/w SAR",((H$24*10)*$B27),IF(H$23="%w/w DM",(((H$24*10)*($B$24/100))*$B27),IF(H$23="kg/t SAR",(H$24*$B27),IF(H$23="kg/t DM",((H$24*($B$24/100))*$B27),IF(H$23="mg/kg SAR",((H$24*0.001)*$B27),IF(H$23="mg/kg DM",(((H$24*0.001)*($B$24/100))*$B27),0)))))) -> 0.19352 | I27: =IF(I$23="%w/w SAR",((I$24*10)*$B27),IF(I$23="%w/w DM",(((I$24*10)*($B$24/100))*$B27),IF(I$23="kg/t SAR",(I$24*$B27),IF(I$23="kg/t DM",((I$24*($B$24/100))*$B27),IF(I$23="mg/kg SAR",((I$24*0.001)*$B27),IF(I$23="mg/kg DM",(((I$24*0.001)*($B$24/100))*$B27),0)))))) -> 0.059 | J27: =IF(J$23="%w/w SAR",((J$24*10)*$B27),IF(J$23="%w/w DM",(((J$24*10)*($B$24/100))*$B27),IF(J$23="kg/t SAR",(J$24*$B27),IF(J$23="kg/t DM",((J$24*($B$24/100))*$B27),IF(J$23="mg/kg SAR",((J$24*0.001)*$B27),IF(J$23="mg/kg DM",(((J$24*0.001)*($B$24/100))*$B27),0)))))) -> 0.00118 | K27: =IF(K$23="%w/w SAR",((K$24*10)*$B27),IF(K$23="%w/w DM",(((K$24*10)*($B$24/100))*$B27),IF(K$23="kg/t SAR",(K$24*$B27),IF(K$23="kg/t DM",((K$24*($B$24/100))*$B27),IF(K$23="mg/kg SAR",((K$24*0.001)*$B27),IF(K$23="mg/kg DM",(((K$24*0.001)*($B$24/100))*$B27),0)))))) -> 0.0059 | L27: =IF(L$23="%w/w SAR",((L$24*10)*$B27),IF(L$23="%w/w DM",(((L$24*10)*($B$24/100))*$B27),IF(L$23="kg/t SAR",(L$24*$B27),IF(L$23="kg/t DM",((L$24*($B$24/100))*$B27),IF(L$23="mg/kg SAR",((L$24*0.001)*$B27),IF(L$23="mg/kg DM",(((L$24*0.001)*($B$24/100))*$B27),0)))))) -> 0.0236 | M27: =IF(M$23="%w/w SAR",((M$24*10)*$B27),IF(M$23="%w/w DM",(((M$24*10)*($B$24/100))*$B27),IF(M$23="kg/t SAR",(M$24*$B27),IF(M$23="kg/t DM",((M$24*($B$24/100))*$B27),IF(M$23="mg/kg SAR",((M$24*0.001)*$B27),IF(M$23="mg/kg DM",(((M$24*0.001)*($B$24/100))*$B27),0)))))) -> 0.04248 | N27: =IF(N$23="%w/w SAR",((N$24*10)*$B27),IF(N$23="%w/w DM",(((N$24*10)*($B$24/100))*$B27),IF(N$23="kg/t SAR",(N$24*$B27),IF(N$23="kg/t DM",((N$24*($B$24/100))*$B27),IF(N$23="mg/kg SAR",((N$24*0.001)*$B27),IF(N$23="mg/kg DM",(((N$24*0.001)*($B$24/100))*$B27),0)))))) -> 0 | ... P27: =IF(P$23="%w/w SAR",((P$24*10)*$B27),IF(P$23="%w/w DM",(((P$24*10)*($B$24/100))*$B27),IF(P$23="kg/t SAR",(P$24*$B27),IF(P$23="kg/t DM",((P$24*($B$24/100))*$B27),IF(P$23="mg/kg SAR",((P$24*0.001)*$B27),IF(P$23="mg/kg DM",(((P$24*0.001)*($B$24/100))*$B27),0)))))) -> 92.512 | Q27: =(IF(Q$23="%w/w SAR",((Q$24*10)*$B27),IF(Q$23="%w/w DM",(((Q$24*10)*($B$24/100))*$B27),IF(Q$23="kg/t SAR",(Q$24*$B27),IF(Q$23="kg/t DM",((Q$24*($B$24/100))*$B27),IF(Q$23="mg/kg SAR",((Q$24*0.001)*$B27),IF(Q$23="mg/kg DM",(((Q$24*0.001)*($B$24/100))*$B27),0)))))))*2.5 -> 46.315 | R27: =IF(R$23="%w/w SAR",((R$24*10)*$B27),IF(R$23="%w/w DM",(((R$24*10)*($B$24/100))*$B27),IF(R$23="kg/t SAR",(R$24*$B27),IF(R$23="kg/t DM",((R$24*($B$24/100))*$B27),IF(R$23="mg/kg SAR",((R$24*0.001)*$B27),IF(R$23="mg/kg DM",(((R$24*0.001)*($B$24/100))*$B27),0)))))) -> 0 | S27: =IF(S$23="%w/w SAR",((S$24*10)*$B27),IF(S$23="%w/w DM",(((S$24*10)*($B$24/100))*$B27),IF(S$23="kg/t SAR",(S$24*$B27),IF(S$23="kg/t DM",((S$24*($B$24/100))*$B27),IF(S$23="mg/kg SAR",((S$24*0.001)*$B27),IF(S$23="mg/kg DM",(((S$24*0.001)*($B$24/100))*$B27),0)))))) -> 0 | T27: =IF(T$23="%w/w SAR",((T$24*10)*$B27),IF(T$23="%w/w DM",(((T$24*10)*($B$24/100))*$B27),IF(T$23="kg/t SAR",(T$24*$B27),IF(T$23="kg/t DM",((T$24*($B$24/100))*$B27),IF(T$23="mg/kg SAR",((T$24*0.001)*$B27),IF(T$23="mg/kg DM",(((T$24*0.001)*($B$24/100))*$B27),0)))))) -> 0 | U27: =IF(U$23="%w/w SAR",((U$24*10)*$B27),IF(U$23="%w/w DM",(((U$24*10)*($B$24/100))*$B27),IF(U$23="kg/t SAR",(U$24*$B27),IF(U$23="kg/t DM",((U$24*($B$24/100))*$B27),IF(U$23="mg/kg SAR",((U$24*0.001)*$B27),IF(U$23="mg/kg DM",(((U$24*0.001)*($B$24/100))*$B27),0)))))) -> 0 | V27: =IF($V$24="",0,IF($V$24>5000,"NOT OK","OK")) -> 0 | W27: =IF($W$24="",0,IF($W$24>4,"Not OK","OK")) -> OK
A28: =D8 -> 21A | B28: 118 | C28: =IF(C$23="%w/w SAR",((C$24*10)*$B28),IF(C$23="%w/w DM",(((C$24*10)*($B$24/100))*$B28),IF(C$23="kg/t SAR",(C$24*$B28),IF(C$23="kg/t DM",((C$24*($B$24/100))*$B28),IF(C$23="mg/kg SAR",((C$24*0.001)*$B28),IF(C$23="mg/kg DM",(((C$24*0.001)*($B$24/100))*$B28),0)))))) -> 247.8 | D28: =(IF(D$23="%w/w SAR",((D$24*10)*$B28),IF(D$23="%w/w DM",(((D$24*10)*($B$24/100))*$B28),IF(D$23="kg/t SAR",(D$24*$B28),IF(D$23="kg/t DM",((D$24*($B$24/100))*$B28),IF(D$23="mg/kg SAR",((D$24*0.001)*$B28),IF(D$23="mg/kg DM",(((D$24*0.001)*($B$24/100))*$B28),"0")))))))*2.291 -> 180.85612 | E28: =(IF(E$23="%w/w SAR",((E$24*10)*$B28),IF(E$23="%w/w DM",(((E$24*10)*($B$24/100))*$B28),IF(E$23="kg/t SAR",(E$24*$B28),IF(E$23="kg/t DM",((E$24*($B$24/100))*$B28),IF(E$23="mg/kg SAR",((E$24*0.001)*$B28),IF(E$23="mg/kg DM",(((E$24*0.001)*($B$24/100))*$B28),"0")))))))*1.205 -> 39.67101 | F28: =(IF(F$23="%w/w SAR",((F$24*10)*$B28),IF(F$23="%w/w DM",(((F$24*10)*($B$24/100))*$B28),IF(F$23="kg/t SAR",(F$24*$B28),IF(F$23="kg/t DM",((F$24*($B$24/100))*$B28),IF(F$23="mg/kg SAR",((F$24*0.001)*$B28),IF(F$23="mg/kg DM",(((F$24*0.001)*($B$24/100))*$B28),"0")))))))*1.658 -> 11.386481 | G28: =IF(G$23="%w/w SAR",((G$24*10)*$B28),IF(G$23="%w/w DM",(((G$24*10)*($B$24/100))*$B28),IF(G$23="kg/t SAR",(G$24*$B28),IF(G$23="kg/t DM",((G$24*($B$24/100))*$B28),IF(G$23="mg/kg SAR",((G$24*0.001)*$B28),IF(G$23="mg/kg DM",(((G$24*0.001)*($B$24/100))*$B28),0)))))) -> 0.0413 | H28: =IF(H$23="%w/w SAR",((H$24*10)*$B28),IF(H$23="%w/w DM",(((H$24*10)*($B$24/100))*$B28),IF(H$23="kg/t SAR",(H$24*$B28),IF(H$23="kg/t DM",((H$24*($B$24/100))*$B28),IF(H$23="mg/kg SAR",((H$24*0.001)*$B28),IF(H$23="mg/kg DM",(((H$24*0.001)*($B$24/100))*$B28),0)))))) -> 0.19352 | I28: =IF(I$23="%w/w SAR",((I$24*10)*$B28),IF(I$23="%w/w DM",(((I$24*10)*($B$24/100))*$B28),IF(I$23="kg/t SAR",(I$24*$B28),IF(I$23="kg/t DM",((I$24*($B$24/100))*$B28),IF(I$23="mg/kg SAR",((I$24*0.001)*$B28),IF(I$23="mg/kg DM",(((I$24*0.001)*($B$24/100))*$B28),0)))))) -> 0.059 | J28: =IF(J$23="%w/w SAR",((J$24*10)*$B28),IF(J$23="%w/w DM",(((J$24*10)*($B$24/100))*$B28),IF(J$23="kg/t SAR",(J$24*$B28),IF(J$23="kg/t DM",((J$24*($B$24/100))*$B28),IF(J$23="mg/kg SAR",((J$24*0.001)*$B28),IF(J$23="mg/kg DM",(((J$24*0.001)*($B$24/100))*$B28),0)))))) -> 0.00118 | K28: =IF(K$23="%w/w SAR",((K$24*10)*$B28),IF(K$23="%w/w DM",(((K$24*10)*($B$24/100))*$B28),IF(K$23="kg/t SAR",(K$24*$B28),IF(K$23="kg/t DM",((K$24*($B$24/100))*$B28),IF(K$23="mg/kg SAR",((K$24*0.001)*$B28),IF(K$23="mg/kg DM",(((K$24*0.001)*($B$24/100))*$B28),0)))))) -> 0.0059 | L28: =IF(L$23="%w/w SAR",((L$24*10)*$B28),IF(L$23="%w/w DM",(((L$24*10)*($B$24/100))*$B28),IF(L$23="kg/t SAR",(L$24*$B28),IF(L$23="kg/t DM",((L$24*($B$24/100))*$B28),IF(L$23="mg/kg SAR",((L$24*0.001)*$B28),IF(L$23="mg/kg DM",(((L$24*0.001)*($B$24/100))*$B28),0)))))) -> 0.0236 | M28: =IF(M$23="%w/w SAR",((M$24*10)*$B28),IF(M$23="%w/w DM",(((M$24*10)*($B$24/100))*$B28),IF(M$23="kg/t SAR",(M$24*$B28),IF(M$23="kg/t DM",((M$24*($B$24/100))*$B28),IF(M$23="mg/kg SAR",((M$24*0.001)*$B28),IF(M$23="mg/kg DM",(((M$24*0.001)*($B$24/100))*$B28),0)))))) -> 0.04248 | N28: =IF(N$23="%w/w SAR",((N$24*10)*$B28),IF(N$23="%w/w DM",(((N$24*10)*($B$24/100))*$B28),IF(N$23="kg/t SAR",(N$24*$B28),IF(N$23="kg/t DM",((N$24*($B$24/100))*$B28),IF(N$23="mg/kg SAR",((N$24*0.001)*$B28),IF(N$23="mg/kg DM",(((N$24*0.001)*($B$24/100))*$B28),0)))))) -> 0 | ... P28: =IF(P$23="%w/w SAR",((P$24*10)*$B28),IF(P$23="%w/w DM",(((P$24*10)*($B$24/100))*$B28),IF(P$23="kg/t SAR",(P$24*$B28),IF(P$23="kg/t DM",((P$24*($B$24/100))*$B28),IF(P$23="mg/kg SAR",((P$24*0.001)*$B28),IF(P$23="mg/kg DM",(((P$24*0.001)*($B$24/100))*$B28),0)))))) -> 92.512 | Q28: =(IF(Q$23="%w/w SAR",((Q$24*10)*$B28),IF(Q$23="%w/w DM",(((Q$24*10)*($B$24/100))*$B28),IF(Q$23="kg/t SAR",(Q$24*$B28),IF(Q$23="kg/t DM",((Q$24*($B$24/100))*$B28),IF(Q$23="mg/kg SAR",((Q$24*0.001)*$B28),IF(Q$23="mg/kg DM",(((Q$24*0.001)*($B$24/100))*$B28),0)))))))*2.5 -> 46.315 | R28: =IF(R$23="%w/w SAR",((R$24*10)*$B28),IF(R$23="%w/w DM",(((R$24*10)*($B$24/100))*$B28),IF(R$23="kg/t SAR",(R$24*$B28),IF(R$23="kg/t DM",((R$24*($B$24/100))*$B28),IF(R$23="mg/kg SAR",((R$24*0.001)*$B28),IF(R$23="mg/kg DM",(((R$24*0.001)*($B$24/100))*$B28),0)))))) -> 0 | S28: =IF(S$23="%w/w SAR",((S$24*10)*$B28),IF(S$23="%w/w DM",(((S$24*10)*($B$24/100))*$B28),IF(S$23="kg/t SAR",(S$24*$B28),IF(S$23="kg/t DM",((S$24*($B$24/100))*$B28),IF(S$23="mg/kg SAR",((S$24*0.001)*$B28),IF(S$23="mg/kg DM",(((S$24*0.001)*($B$24/100))*$B28),0)))))) -> 0 | T28: =IF(T$23="%w/w SAR",((T$24*10)*$B28),IF(T$23="%w/w DM",(((T$24*10)*($B$24/100))*$B28),IF(T$23="kg/t SAR",(T$24*$B28),IF(T$23="kg/t DM",((T$24*($B$24/100))*$B28),IF(T$23="mg/kg SAR",((T$24*0.001)*$B28),IF(T$23="mg/kg DM",(((T$24*0.001)*($B$24/100))*$B28),0)))))) -> 0 | U28: =IF(U$23="%w/w SAR",((U$24*10)*$B28),IF(U$23="%w/w DM",(((U$24*10)*($B$24/100))*$B28),IF(U$23="kg/t SAR",(U$24*$B28),IF(U$23="kg/t DM",((U$24*($B$24/100))*$B28),IF(U$23="mg/kg SAR",((U$24*0.001)*$B28),IF(U$23="mg/kg DM",(((U$24*0.001)*($B$24/100))*$B28),0)))))) -> 0 | V28: =IF($V$24="",0,IF($V$24>5000,"NOT OK","OK")) -> 0 | W28: =IF($W$24="",0,IF($W$24>4,"Not OK","OK")) -> OK
A29: =E8 -> 21B | B29: 118 | C29: =IF(C$23="%w/w SAR",((C$24*10)*$B29),IF(C$23="%w/w DM",(((C$24*10)*($B$24/100))*$B29),IF(C$23="kg/t SAR",(C$24*$B29),IF(C$23="kg/t DM",((C$24*($B$24/100))*$B29),IF(C$23="mg/kg SAR",((C$24*0.001)*$B29),IF(C$23="mg/kg DM",(((C$24*0.001)*($B$24/100))*$B29),0)))))) -> 247.8 | D29: =(IF(D$23="%w/w SAR",((D$24*10)*$B29),IF(D$23="%w/w DM",(((D$24*10)*($B$24/100))*$B29),IF(D$23="kg/t SAR",(D$24*$B29),IF(D$23="kg/t DM",((D$24*($B$24/100))*$B29),IF(D$23="mg/kg SAR",((D$24*0.001)*$B29),IF(D$23="mg/kg DM",(((D$24*0.001)*($B$24/100))*$B29),"0")))))))*2.291 -> 180.85612 | E29: =(IF(E$23="%w/w SAR",((E$24*10)*$B29),IF(E$23="%w/w DM",(((E$24*10)*($B$24/100))*$B29),IF(E$23="kg/t SAR",(E$24*$B29),IF(E$23="kg/t DM",((E$24*($B$24/100))*$B29),IF(E$23="mg/kg SAR",((E$24*0.001)*$B29),IF(E$23="mg/kg DM",(((E$24*0.001)*($B$24/100))*$B29),"0")))))))*1.205 -> 39.67101 | F29: =(IF(F$23="%w/w SAR",((F$24*10)*$B29),IF(F$23="%w/w DM",(((F$24*10)*($B$24/100))*$B29),IF(F$23="kg/t SAR",(F$24*$B29),IF(F$23="kg/t DM",((F$24*($B$24/100))*$B29),IF(F$23="mg/kg SAR",((F$24*0.001)*$B29),IF(F$23="mg/kg DM",(((F$24*0.001)*($B$24/100))*$B29),"0")))))))*1.658 -> 11.386481 | G29: =IF(G$23="%w/w SAR",((G$24*10)*$B29),IF(G$23="%w/w DM",(((G$24*10)*($B$24/100))*$B29),IF(G$23="kg/t SAR",(G$24*$B29),IF(G$23="kg/t DM",((G$24*($B$24/100))*$B29),IF(G$23="mg/kg SAR",((G$24*0.001)*$B29),IF(G$23="mg/kg DM",(((G$24*0.001)*($B$24/100))*$B29),0)))))) -> 0.0413 | H29: =IF(H$23="%w/w SAR",((H$24*10)*$B29),IF(H$23="%w/w DM",(((H$24*10)*($B$24/100))*$B29),IF(H$23="kg/t SAR",(H$24*$B29),IF(H$23="kg/t DM",((H$24*($B$24/100))*$B29),IF(H$23="mg/kg SAR",((H$24*0.001)*$B29),IF(H$23="mg/kg DM",(((H$24*0.001)*($B$24/100))*$B29),0)))))) -> 0.19352 | I29: =IF(I$23="%w/w SAR",((I$24*10)*$B29),IF(I$23="%w/w DM",(((I$24*10)*($B$24/100))*$B29),IF(I$23="kg/t SAR",(I$24*$B29),IF(I$23="kg/t DM",((I$24*($B$24/100))*$B29),IF(I$23="mg/kg SAR",((I$24*0.001)*$B29),IF(I$23="mg/kg DM",(((I$24*0.001)*($B$24/100))*$B29),0)))))) -> 0.059 | J29: =IF(J$23="%w/w SAR",((J$24*10)*$B29),IF(J$23="%w/w DM",(((J$24*10)*($B$24/100))*$B29),IF(J$23="kg/t SAR",(J$24*$B29),IF(J$23="kg/t DM",((J$24*($B$24/100))*$B29),IF(J$23="mg/kg SAR",((J$24*0.001)*$B29),IF(J$23="mg/kg DM",(((J$24*0.001)*($B$24/100))*$B29),0)))))) -> 0.00118 | K29: =IF(K$23="%w/w SAR",((K$24*10)*$B29),IF(K$23="%w/w DM",(((K$24*10)*($B$24/100))*$B29),IF(K$23="kg/t SAR",(K$24*$B29),IF(K$23="kg/t DM",((K$24*($B$24/100))*$B29),IF(K$23="mg/kg SAR",((K$24*0.001)*$B29),IF(K$23="mg/kg DM",(((K$24*0.001)*($B$24/100))*$B29),0)))))) -> 0.0059 | L29: =IF(L$23="%w/w SAR",((L$24*10)*$B29),IF(L$23="%w/w DM",(((L$24*10)*($B$24/100))*$B29),IF(L$23="kg/t SAR",(L$24*$B29),IF(L$23="kg/t DM",((L$24*($B$24/100))*$B29),IF(L$23="mg/kg SAR",((L$24*0.001)*$B29),IF(L$23="mg/kg DM",(((L$24*0.001)*($B$24/100))*$B29),0)))))) -> 0.0236 | M29: =IF(M$23="%w/w SAR",((M$24*10)*$B29),IF(M$23="%w/w DM",(((M$24*10)*($B$24/100))*$B29),IF(M$23="kg/t SAR",(M$24*$B29),IF(M$23="kg/t DM",((M$24*($B$24/100))*$B29),IF(M$23="mg/kg SAR",((M$24*0.001)*$B29),IF(M$23="mg/kg DM",(((M$24*0.001)*($B$24/100))*$B29),0)))))) -> 0.04248 | N29: =IF(N$23="%w/w SAR",((N$24*10)*$B29),IF(N$23="%w/w DM",(((N$24*10)*($B$24/100))*$B29),IF(N$23="kg/t SAR",(N$24*$B29),IF(N$23="kg/t DM",((N$24*($B$24/100))*$B29),IF(N$23="mg/kg SAR",((N$24*0.001)*$B29),IF(N$23="mg/kg DM",(((N$24*0.001)*($B$24/100))*$B29),0)))))) -> 0 | ... P29: =IF(P$23="%w/w SAR",((P$24*10)*$B29),IF(P$23="%w/w DM",(((P$24*10)*($B$24/100))*$B29),IF(P$23="kg/t SAR",(P$24*$B29),IF(P$23="kg/t DM",((P$24*($B$24/100))*$B29),IF(P$23="mg/kg SAR",((P$24*0.001)*$B29),IF(P$23="mg/kg DM",(((P$24*0.001)*($B$24/100))*$B29),0)))))) -> 92.512 | Q29: =(IF(Q$23="%w/w SAR",((Q$24*10)*$B29),IF(Q$23="%w/w DM",(((Q$24*10)*($B$24/100))*$B29),IF(Q$23="kg/t SAR",(Q$24*$B29),IF(Q$23="kg/t DM",((Q$24*($B$24/100))*$B29),IF(Q$23="mg/kg SAR",((Q$24*0.001)*$B29),IF(Q$23="mg/kg DM",(((Q$24*0.001)*($B$24/100))*$B29),0)))))))*2.5 -> 46.315 | R29: =IF(R$23="%w/w SAR",((R$24*10)*$B29),IF(R$23="%w/w DM",(((R$24*10)*($B$24/100))*$B29),IF(R$23="kg/t SAR",(R$24*$B29),IF(R$23="kg/t DM",((R$24*($B$24/100))*$B29),IF(R$23="mg/kg SAR",((R$24*0.001)*$B29),IF(R$23="mg/kg DM",(((R$24*0.001)*($B$24/100))*$B29),0)))))) -> 0 | S29: =IF(S$23="%w/w SAR",((S$24*10)*$B29),IF(S$23="%w/w DM",(((S$24*10)*($B$24/100))*$B29),IF(S$23="kg/t SAR",(S$24*$B29),IF(S$23="kg/t DM",((S$24*($B$24/100))*$B29),IF(S$23="mg/kg SAR",((S$24*0.001)*$B29),IF(S$23="mg/kg DM",(((S$24*0.001)*($B$24/100))*$B29),0)))))) -> 0 | T29: =IF(T$23="%w/w SAR",((T$24*10)*$B29),IF(T$23="%w/w DM",(((T$24*10)*($B$24/100))*$B29),IF(T$23="kg/t SAR",(T$24*$B29),IF(T$23="kg/t DM",((T$24*($B$24/100))*$B29),IF(T$23="mg/kg SAR",((T$24*0.001)*$B29),IF(T$23="mg/kg DM",(((T$24*0.001)*($B$24/100))*$B29),0)))))) -> 0 | U29: =IF(U$23="%w/w SAR",((U$24*10)*$B29),IF(U$23="%w/w DM",(((U$24*10)*($B$24/100))*$B29),IF(U$23="kg/t SAR",(U$24*$B29),IF(U$23="kg/t DM",((U$24*($B$24/100))*$B29),IF(U$23="mg/kg SAR",((U$24*0.001)*$B29),IF(U$23="mg/kg DM",(((U$24*0.001)*($B$24/100))*$B29),0)))))) -> 0 | V29: =IF($V$24="",0,IF($V$24>5000,"NOT OK","OK")) -> 0 | W29: =IF($W$24="",0,IF($W$24>4,"Not OK","OK")) -> OK
A30: =F8 -> 11 | B30: 52 | C30: =IF(C$23="%w/w SAR",((C$24*10)*$B30),IF(C$23="%w/w DM",(((C$24*10)*($B$24/100))*$B30),IF(C$23="kg/t SAR",(C$24*$B30),IF(C$23="kg/t DM",((C$24*($B$24/100))*$B30),IF(C$23="mg/kg SAR",((C$24*0.001)*$B30),IF(C$23="mg/kg DM",(((C$24*0.001)*($B$24/100))*$B30),0)))))) -> 109.2 | D30: =(IF(D$23="%w/w SAR",((D$24*10)*$B30),IF(D$23="%w/w DM",(((D$24*10)*($B$24/100))*$B30),IF(D$23="kg/t SAR",(D$24*$B30),IF(D$23="kg/t DM",((D$24*($B$24/100))*$B30),IF(D$23="mg/kg SAR",((D$24*0.001)*$B30),IF(D$23="mg/kg DM",(((D$24*0.001)*($B$24/100))*$B30),"0")))))))*2.291 -> 79.699308 | E30: =(IF(E$23="%w/w SAR",((E$24*10)*$B30),IF(E$23="%w/w DM",(((E$24*10)*($B$24/100))*$B30),IF(E$23="kg/t SAR",(E$24*$B30),IF(E$23="kg/t DM",((E$24*($B$24/100))*$B30),IF(E$23="mg/kg SAR",((E$24*0.001)*$B30),IF(E$23="mg/kg DM",(((E$24*0.001)*($B$24/100))*$B30),"0")))))))*1.205 -> 17.48214 | F30: =(IF(F$23="%w/w SAR",((F$24*10)*$B30),IF(F$23="%w/w DM",(((F$24*10)*($B$24/100))*$B30),IF(F$23="kg/t SAR",(F$24*$B30),IF(F$23="kg/t DM",((F$24*($B$24/100))*$B30),IF(F$23="mg/kg SAR",((F$24*0.001)*$B30),IF(F$23="mg/kg DM",(((F$24*0.001)*($B$24/100))*$B30),"0")))))))*1.658 -> 5.0177712 | G30: =IF(G$23="%w/w SAR",((G$24*10)*$B30),IF(G$23="%w/w DM",(((G$24*10)*($B$24/100))*$B30),IF(G$23="kg/t SAR",(G$24*$B30),IF(G$23="kg/t DM",((G$24*($B$24/100))*$B30),IF(G$23="mg/kg SAR",((G$24*0.001)*$B30),IF(G$23="mg/kg DM",(((G$24*0.001)*($B$24/100))*$B30),0)))))) -> 0.0182 | H30: =IF(H$23="%w/w SAR",((H$24*10)*$B30),IF(H$23="%w/w DM",(((H$24*10)*($B$24/100))*$B30),IF(H$23="kg/t SAR",(H$24*$B30),IF(H$23="kg/t DM",((H$24*($B$24/100))*$B30),IF(H$23="mg/kg SAR",((H$24*0.001)*$B30),IF(H$23="mg/kg DM",(((H$24*0.001)*($B$24/100))*$B30),0)))))) -> 0.08528 | I30: =IF(I$23="%w/w SAR",((I$24*10)*$B30),IF(I$23="%w/w DM",(((I$24*10)*($B$24/100))*$B30),IF(I$23="kg/t SAR",(I$24*$B30),IF(I$23="kg/t DM",((I$24*($B$24/100))*$B30),IF(I$23="mg/kg SAR",((I$24*0.001)*$B30),IF(I$23="mg/kg DM",(((I$24*0.001)*($B$24/100))*$B30),0)))))) -> 0.026 | J30: =IF(J$23="%w/w SAR",((J$24*10)*$B30),IF(J$23="%w/w DM",(((J$24*10)*($B$24/100))*$B30),IF(J$23="kg/t SAR",(J$24*$B30),IF(J$23="kg/t DM",((J$24*($B$24/100))*$B30),IF(J$23="mg/kg SAR",((J$24*0.001)*$B30),IF(J$23="mg/kg DM",(((J$24*0.001)*($B$24/100))*$B30),0)))))) -> 0.00052 | K30: =IF(K$23="%w/w SAR",((K$24*10)*$B30),IF(K$23="%w/w DM",(((K$24*10)*($B$24/100))*$B30),IF(K$23="kg/t SAR",(K$24*$B30),IF(K$23="kg/t DM",((K$24*($B$24/100))*$B30),IF(K$23="mg/kg SAR",((K$24*0.001)*$B30),IF(K$23="mg/kg DM",(((K$24*0.001)*($B$24/100))*$B30),0)))))) -> 0.0026 | L30: =IF(L$23="%w/w SAR",((L$24*10)*$B30),IF(L$23="%w/w DM",(((L$24*10)*($B$24/100))*$B30),IF(L$23="kg/t SAR",(L$24*$B30),IF(L$23="kg/t DM",((L$24*($B$24/100))*$B30),IF(L$23="mg/kg SAR",((L$24*0.001)*$B30),IF(L$23="mg/kg DM",(((L$24*0.001)*($B$24/100))*$B30),0)))))) -> 0.0104 | M30: =IF(M$23="%w/w SAR",((M$24*10)*$B30),IF(M$23="%w/w DM",(((M$24*10)*($B$24/100))*$B30),IF(M$23="kg/t SAR",(M$24*$B30),IF(M$23="kg/t DM",((M$24*($B$24/100))*$B30),IF(M$23="mg/kg SAR",((M$24*0.001)*$B30),IF(M$23="mg/kg DM",(((M$24*0.001)*($B$24/100))*$B30),0)))))) -> 0.01872 | N30: =IF(N$23="%w/w SAR",((N$24*10)*$B30),IF(N$23="%w/w DM",(((N$24*10)*($B$24/100))*$B30),IF(N$23="kg/t SAR",(N$24*$B30),IF(N$23="kg/t DM",((N$24*($B$24/100))*$B30),IF(N$23="mg/kg SAR",((N$24*0.001)*$B30),IF(N$23="mg/kg DM",(((N$24*0.001)*($B$24/100))*$B30),0)))))) -> 0 | ... P30: =IF(P$23="%w/w SAR",((P$24*10)*$B30),IF(P$23="%w/w DM",(((P$24*10)*($B$24/100))*$B30),IF(P$23="kg/t SAR",(P$24*$B30),IF(P$23="kg/t DM",((P$24*($B$24/100))*$B30),IF(P$23="mg/kg SAR",((P$24*0.001)*$B30),IF(P$23="mg/kg DM",(((P$24*0.001)*($B$24/100))*$B30),0)))))) -> 40.768 | Q30: =(IF(Q$23="%w/w SAR",((Q$24*10)*$B30),IF(Q$23="%w/w DM",(((Q$24*10)*($B$24/100))*$B30),IF(Q$23="kg/t SAR",(Q$24*$B30),IF(Q$23="kg/t DM",((Q$24*($B$24/100))*$B30),IF(Q$23="mg/kg SAR",((Q$24*0.001)*$B30),IF(Q$23="mg/kg DM",(((Q$24*0.001)*($B$24/100))*$B30),0)))))))*2.5 -> 20.41 | R30: =IF(R$23="%w/w SAR",((R$24*10)*$B30),IF(R$23="%w/w DM",(((R$24*10)*($B$24/100))*$B30),IF(R$23="kg/t SAR",(R$24*$B30),IF(R$23="kg/t DM",((R$24*($B$24/100))*$B30),IF(R$23="mg/kg SAR",((R$24*0.001)*$B30),IF(R$23="mg/kg DM",(((R$24*0.001)*($B$24/100))*$B30),0)))))) -> 0 | S30: =IF(S$23="%w/w SAR",((S$24*10)*$B30),IF(S$23="%w/w DM",(((S$24*10)*($B$24/100))*$B30),IF(S$23="kg/t SAR",(S$24*$B30),IF(S$23="kg/t DM",((S$24*($B$24/100))*$B30),IF(S$23="mg/kg SAR",((S$24*0.001)*$B30),IF(S$23="mg/kg DM",(((S$24*0.001)*($B$24/100))*$B30),0)))))) -> 0 | T30: =IF(T$23="%w/w SAR",((T$24*10)*$B30),IF(T$23="%w/w DM",(((T$24*10)*($B$24/100))*$B30),IF(T$23="kg/t SAR",(T$24*$B30),IF(T$23="kg/t DM",((T$24*($B$24/100))*$B30),IF(T$23="mg/kg SAR",((T$24*0.001)*$B30),IF(T$23="mg/kg DM",(((T$24*0.001)*($B$24/100))*$B30),0)))))) -> 0 | U30: =IF(U$23="%w/w SAR",((U$24*10)*$B30),IF(U$23="%w/w DM",(((U$24*10)*($B$24/100))*$B30),IF(U$23="kg/t SAR",(U$24*$B30),IF(U$23="kg/t DM",((U$24*($B$24/100))*$B30),IF(U$23="mg/kg SAR",((U$24*0.001)*$B30),IF(U$23="mg/kg DM",(((U$24*0.001)*($B$24/100))*$B30),0)))))) -> 0 | V30: =IF($V$24="",0,IF($V$24>5000,"NOT OK","OK")) -> 0 | W30: =IF($W$24="",0,IF($W$24>4,"Not OK","OK")) -> OK
A31: =G8 -> 12 | B31: 87 | C31: =IF(C$23="%w/w SAR",((C$24*10)*$B31),IF(C$23="%w/w DM",(((C$24*10)*($B$24/100))*$B31),IF(C$23="kg/t SAR",(C$24*$B31),IF(C$23="kg/t DM",((C$24*($B$24/100))*$B31),IF(C$23="mg/kg SAR",((C$24*0.001)*$B31),IF(C$23="mg/kg DM",(((C$24*0.001)*($B$24/100))*$B31),0)))))) -> 182.7 | D31: =(IF(D$23="%w/w SAR",((D$24*10)*$B31),IF(D$23="%w/w DM",(((D$24*10)*($B$24/100))*$B31),IF(D$23="kg/t SAR",(D$24*$B31),IF(D$23="kg/t DM",((D$24*($B$24/100))*$B31),IF(D$23="mg/kg SAR",((D$24*0.001)*$B31),IF(D$23="mg/kg DM",(((D$24*0.001)*($B$24/100))*$B31),"0")))))))*2.291 -> 133.34307 | E31: =(IF(E$23="%w/w SAR",((E$24*10)*$B31),IF(E$23="%w/w DM",(((E$24*10)*($B$24/100))*$B31),IF(E$23="kg/t SAR",(E$24*$B31),IF(E$23="kg/t DM",((E$24*($B$24/100))*$B31),IF(E$23="mg/kg SAR",((E$24*0.001)*$B31),IF(E$23="mg/kg DM",(((E$24*0.001)*($B$24/100))*$B31),"0")))))))*1.205 -> 29.248965 | F31: =(IF(F$23="%w/w SAR",((F$24*10)*$B31),IF(F$23="%w/w DM",(((F$24*10)*($B$24/100))*$B31),IF(F$23="kg/t SAR",(F$24*$B31),IF(F$23="kg/t DM",((F$24*($B$24/100))*$B31),IF(F$23="mg/kg SAR",((F$24*0.001)*$B31),IF(F$23="mg/kg DM",(((F$24*0.001)*($B$24/100))*$B31),"0")))))))*1.658 -> 8.3951172 | G31: =IF(G$23="%w/w SAR",((G$24*10)*$B31),IF(G$23="%w/w DM",(((G$24*10)*($B$24/100))*$B31),IF(G$23="kg/t SAR",(G$24*$B31),IF(G$23="kg/t DM",((G$24*($B$24/100))*$B31),IF(G$23="mg/kg SAR",((G$24*0.001)*$B31),IF(G$23="mg/kg DM",(((G$24*0.001)*($B$24/100))*$B31),0)))))) -> 0.03045 | H31: =IF(H$23="%w/w SAR",((H$24*10)*$B31),IF(H$23="%w/w DM",(((H$24*10)*($B$24/100))*$B31),IF(H$23="kg/t SAR",(H$24*$B31),IF(H$23="kg/t DM",((H$24*($B$24/100))*$B31),IF(H$23="mg/kg SAR",((H$24*0.001)*$B31),IF(H$23="mg/kg DM",(((H$24*0.001)*($B$24/100))*$B31),0)))))) -> 0.14268 | I31: =IF(I$23="%w/w SAR",((I$24*10)*$B31),IF(I$23="%w/w DM",(((I$24*10)*($B$24/100))*$B31),IF(I$23="kg/t SAR",(I$24*$B31),IF(I$23="kg/t DM",((I$24*($B$24/100))*$B31),IF(I$23="mg/kg SAR",((I$24*0.001)*$B31),IF(I$23="mg/kg DM",(((I$24*0.001)*($B$24/100))*$B31),0)))))) -> 0.0435 | J31: =IF(J$23="%w/w SAR",((J$24*10)*$B31),IF(J$23="%w/w DM",(((J$24*10)*($B$24/100))*$B31),IF(J$23="kg/t SAR",(J$24*$B31),IF(J$23="kg/t DM",((J$24*($B$24/100))*$B31),IF(J$23="mg/kg SAR",((J$24*0.001)*$B31),IF(J$23="mg/kg DM",(((J$24*0.001)*($B$24/100))*$B31),0)))))) -> 0.00087 | K31: =IF(K$23="%w/w SAR",((K$24*10)*$B31),IF(K$23="%w/w DM",(((K$24*10)*($B$24/100))*$B31),IF(K$23="kg/t SAR",(K$24*$B31),IF(K$23="kg/t DM",((K$24*($B$24/100))*$B31),IF(K$23="mg/kg SAR",((K$24*0.001)*$B31),IF(K$23="mg/kg DM",(((K$24*0.001)*($B$24/100))*$B31),0)))))) -> 0.00435 | L31: =IF(L$23="%w/w SAR",((L$24*10)*$B31),IF(L$23="%w/w DM",(((L$24*10)*($B$24/100))*$B31),IF(L$23="kg/t SAR",(L$24*$B31),IF(L$23="kg/t DM",((L$24*($B$24/100))*$B31),IF(L$23="mg/kg SAR",((L$24*0.001)*$B31),IF(L$23="mg/kg DM",(((L$24*0.001)*($B$24/100))*$B31),0)))))) -> 0.0174 | M31: =IF(M$23="%w/w SAR",((M$24*10)*$B31),IF(M$23="%w/w DM",(((M$24*10)*($B$24/100))*$B31),IF(M$23="kg/t SAR",(M$24*$B31),IF(M$23="kg/t DM",((M$24*($B$24/100))*$B31),IF(M$23="mg/kg SAR",((M$24*0.001)*$B31),IF(M$23="mg/kg DM",(((M$24*0.001)*($B$24/100))*$B31),0)))))) -> 0.03132 | N31: =IF(N$23="%w/w SAR",((N$24*10)*$B31),IF(N$23="%w/w DM",(((N$24*10)*($B$24/100))*$B31),IF(N$23="kg/t SAR",(N$24*$B31),IF(N$23="kg/t DM",((N$24*($B$24/100))*$B31),IF(N$23="mg/kg SAR",((N$24*0.001)*$B31),IF(N$23="mg/kg DM",(((N$24*0.001)*($B$24/100))*$B31),0)))))) -> 0 | ... P31: =IF(P$23="%w/w SAR",((P$24*10)*$B31),IF(P$23="%w/w DM",(((P$24*10)*($B$24/100))*$B31),IF(P$23="kg/t SAR",(P$24*$B31),IF(P$23="kg/t DM",((P$24*($B$24/100))*$B31),IF(P$23="mg/kg SAR",((P$24*0.001)*$B31),IF(P$23="mg/kg DM",(((P$24*0.001)*($B$24/100))*$B31),0)))))) -> 68.208 | Q31: =(IF(Q$23="%w/w SAR",((Q$24*10)*$B31),IF(Q$23="%w/w DM",(((Q$24*10)*($B$24/100))*$B31),IF(Q$23="kg/t SAR",(Q$24*$B31),IF(Q$23="kg/t DM",((Q$24*($B$24/100))*$B31),IF(Q$23="mg/kg SAR",((Q$24*0.001)*$B31),IF(Q$23="mg/kg DM",(((Q$24*0.001)*($B$24/100))*$B31),0)))))))*2.5 -> 34.1475 | R31: =IF(R$23="%w/w SAR",((R$24*10)*$B31),IF(R$23="%w/w DM",(((R$24*10)*($B$24/100))*$B31),IF(R$23="kg/t SAR",(R$24*$B31),IF(R$23="kg/t DM",((R$24*($B$24/100))*$B31),IF(R$23="mg/kg SAR",((R$24*0.001)*$B31),IF(R$23="mg/kg DM",(((R$24*0.001)*($B$24/100))*$B31),0)))))) -> 0 | S31: =IF(S$23="%w/w SAR",((S$24*10)*$B31),IF(S$23="%w/w DM",(((S$24*10)*($B$24/100))*$B31),IF(S$23="kg/t SAR",(S$24*$B31),IF(S$23="kg/t DM",((S$24*($B$24/100))*$B31),IF(S$23="mg/kg SAR",((S$24*0.001)*$B31),IF(S$23="mg/kg DM",(((S$24*0.001)*($B$24/100))*$B31),0)))))) -> 0 | T31: =IF(T$23="%w/w SAR",((T$24*10)*$B31),IF(T$23="%w/w DM",(((T$24*10)*($B$24/100))*$B31),IF(T$23="kg/t SAR",(T$24*$B31),IF(T$23="kg/t DM",((T$24*($B$24/100))*$B31),IF(T$23="mg/kg SAR",((T$24*0.001)*$B31),IF(T$23="mg/kg DM",(((T$24*0.001)*($B$24/100))*$B31),0)))))) -> 0 | U31: =IF(U$23="%w/w SAR",((U$24*10)*$B31),IF(U$23="%w/w DM",(((U$24*10)*($B$24/100))*$B31),IF(U$23="kg/t SAR",(U$24*$B31),IF(U$23="kg/t DM",((U$24*($B$24/100))*$B31),IF(U$23="mg/kg SAR",((U$24*0.001)*$B31),IF(U$23="mg/kg DM",(((U$24*0.001)*($B$24/100))*$B31),0)))))) -> 0 | V31: =IF($V$24="",0,IF($V$24>5000,"NOT OK","OK")) -> 0 | W31: =IF($W$24="",0,IF($W$24>4,"Not OK","OK")) -> OK
A32: =H8 -> 9 | B32: 33 | C32: =IF(C$23="%w/w SAR",((C$24*10)*$B32),IF(C$23="%w/w DM",(((C$24*10)*($B$24/100))*$B32),IF(C$23="kg/t SAR",(C$24*$B32),IF(C$23="kg/t DM",((C$24*($B$24/100))*$B32),IF(C$23="mg/kg SAR",((C$24*0.001)*$B32),IF(C$23="mg/kg DM",(((C$24*0.001)*($B$24/100))*$B32),0)))))) -> 69.3 | D32: =(IF(D$23="%w/w SAR",((D$24*10)*$B32),IF(D$23="%w/w DM",(((D$24*10)*($B$24/100))*$B32),IF(D$23="kg/t SAR",(D$24*$B32),IF(D$23="kg/t DM",((D$24*($B$24/100))*$B32),IF(D$23="mg/kg SAR",((D$24*0.001)*$B32),IF(D$23="mg/kg DM",(((D$24*0.001)*($B$24/100))*$B32),"0")))))))*2.291 -> 50.578407 | E32: =(IF(E$23="%w/w SAR",((E$24*10)*$B32),IF(E$23="%w/w DM",(((E$24*10)*($B$24/100))*$B32),IF(E$23="kg/t SAR",(E$24*$B32),IF(E$23="kg/t DM",((E$24*($B$24/100))*$B32),IF(E$23="mg/kg SAR",((E$24*0.001)*$B32),IF(E$23="mg/kg DM",(((E$24*0.001)*($B$24/100))*$B32),"0")))))))*1.205 -> 11.094435 | F32: =(IF(F$23="%w/w SAR",((F$24*10)*$B32),IF(F$23="%w/w DM",(((F$24*10)*($B$24/100))*$B32),IF(F$23="kg/t SAR",(F$24*$B32),IF(F$23="kg/t DM",((F$24*($B$24/100))*$B32),IF(F$23="mg/kg SAR",((F$24*0.001)*$B32),IF(F$23="mg/kg DM",(((F$24*0.001)*($B$24/100))*$B32),"0")))))))*1.658 -> 3.1843548 | G32: =IF(G$23="%w/w SAR",((G$24*10)*$B32),IF(G$23="%w/w DM",(((G$24*10)*($B$24/100))*$B32),IF(G$23="kg/t SAR",(G$24*$B32),IF(G$23="kg/t DM",((G$24*($B$24/100))*$B32),IF(G$23="mg/kg SAR",((G$24*0.001)*$B32),IF(G$23="mg/kg DM",(((G$24*0.001)*($B$24/100))*$B32),0)))))) -> 0.01155 | H32: =IF(H$23="%w/w SAR",((H$24*10)*$B32),IF(H$23="%w/w DM",(((H$24*10)*($B$24/100))*$B32),IF(H$23="kg/t SAR",(H$24*$B32),IF(H$23="kg/t DM",((H$24*($B$24/100))*$B32),IF(H$23="mg/kg SAR",((H$24*0.001)*$B32),IF(H$23="mg/kg DM",(((H$24*0.001)*($B$24/100))*$B32),0)))))) -> 0.05412 | I32: =IF(I$23="%w/w SAR",((I$24*10)*$B32),IF(I$23="%w/w DM",(((I$24*10)*($B$24/100))*$B32),IF(I$23="kg/t SAR",(I$24*$B32),IF(I$23="kg/t DM",((I$24*($B$24/100))*$B32),IF(I$23="mg/kg SAR",((I$24*0.001)*$B32),IF(I$23="mg/kg DM",(((I$24*0.001)*($B$24/100))*$B32),0)))))) -> 0.0165 | J32: =IF(J$23="%w/w SAR",((J$24*10)*$B32),IF(J$23="%w/w DM",(((J$24*10)*($B$24/100))*$B32),IF(J$23="kg/t SAR",(J$24*$B32),IF(J$23="kg/t DM",((J$24*($B$24/100))*$B32),IF(J$23="mg/kg SAR",((J$24*0.001)*$B32),IF(J$23="mg/kg DM",(((J$24*0.001)*($B$24/100))*$B32),0)))))) -> 0.00033 | K32: =IF(K$23="%w/w SAR",((K$24*10)*$B32),IF(K$23="%w/w DM",(((K$24*10)*($B$24/100))*$B32),IF(K$23="kg/t SAR",(K$24*$B32),IF(K$23="kg/t DM",((K$24*($B$24/100))*$B32),IF(K$23="mg/kg SAR",((K$24*0.001)*$B32),IF(K$23="mg/kg DM",(((K$24*0.001)*($B$24/100))*$B32),0)))))) -> 0.00165 | L32: =IF(L$23="%w/w SAR",((L$24*10)*$B32),IF(L$23="%w/w DM",(((L$24*10)*($B$24/100))*$B32),IF(L$23="kg/t SAR",(L$24*$B32),IF(L$23="kg/t DM",((L$24*($B$24/100))*$B32),IF(L$23="mg/kg SAR",((L$24*0.001)*$B32),IF(L$23="mg/kg DM",(((L$24*0.001)*($B$24/100))*$B32),0)))))) -> 0.0066 | M32: =IF(M$23="%w/w SAR",((M$24*10)*$B32),IF(M$23="%w/w DM",(((M$24*10)*($B$24/100))*$B32),IF(M$23="kg/t SAR",(M$24*$B32),IF(M$23="kg/t DM",((M$24*($B$24/100))*$B32),IF(M$23="mg/kg SAR",((M$24*0.001)*$B32),IF(M$23="mg/kg DM",(((M$24*0.001)*($B$24/100))*$B32),0)))))) -> 0.01188 | N32: =IF(N$23="%w/w SAR",((N$24*10)*$B32),IF(N$23="%w/w DM",(((N$24*10)*($B$24/100))*$B32),IF(N$23="kg/t SAR",(N$24*$B32),IF(N$23="kg/t DM",((N$24*($B$24/100))*$B32),IF(N$23="mg/kg SAR",((N$24*0.001)*$B32),IF(N$23="mg/kg DM",(((N$24*0.001)*($B$24/100))*$B32),0)))))) -> 0 | ... P32: =IF(P$23="%w/w SAR",((P$24*10)*$B32),IF(P$23="%w/w DM",(((P$24*10)*($B$24/100))*$B32),IF(P$23="kg/t SAR",(P$24*$B32),IF(P$23="kg/t DM",((P$24*($B$24/100))*$B32),IF(P$23="mg/kg SAR",((P$24*0.001)*$B32),IF(P$23="mg/kg DM",(((P$24*0.001)*($B$24/100))*$B32),0)))))) -> 25.872 | Q32: =(IF(Q$23="%w/w SAR",((Q$24*10)*$B32),IF(Q$23="%w/w DM",(((Q$24*10)*($B$24/100))*$B32),IF(Q$23="kg/t SAR",(Q$24*$B32),IF(Q$23="kg/t DM",((Q$24*($B$24/100))*$B32),IF(Q$23="mg/kg SAR",((Q$24*0.001)*$B32),IF(Q$23="mg/kg DM",(((Q$24*0.001)*($B$24/100))*$B32),0)))))))*2.5 -> 12.9525 | R32: =IF(R$23="%w/w SAR",((R$24*10)*$B32),IF(R$23="%w/w DM",(((R$24*10)*($B$24/100))*$B32),IF(R$23="kg/t SAR",(R$24*$B32),IF(R$23="kg/t DM",((R$24*($B$24/100))*$B32),IF(R$23="mg/kg SAR",((R$24*0.001)*$B32),IF(R$23="mg/kg DM",(((R$24*0.001)*($B$24/100))*$B32),0)))))) -> 0 | S32: =IF(S$23="%w/w SAR",((S$24*10)*$B32),IF(S$23="%w/w DM",(((S$24*10)*($B$24/100))*$B32),IF(S$23="kg/t SAR",(S$24*$B32),IF(S$23="kg/t DM",((S$24*($B$24/100))*$B32),IF(S$23="mg/kg SAR",((S$24*0.001)*$B32),IF(S$23="mg/kg DM",(((S$24*0.001)*($B$24/100))*$B32),0)))))) -> 0 | T32: =IF(T$23="%w/w SAR",((T$24*10)*$B32),IF(T$23="%w/w DM",(((T$24*10)*($B$24/100))*$B32),IF(T$23="kg/t SAR",(T$24*$B32),IF(T$23="kg/t DM",((T$24*($B$24/100))*$B32),IF(T$23="mg/kg SAR",((T$24*0.001)*$B32),IF(T$23="mg/kg DM",(((T$24*0.001)*($B$24/100))*$B32),0)))))) -> 0 | U32: =IF(U$23="%w/w SAR",((U$24*10)*$B32),IF(U$23="%w/w DM",(((U$24*10)*($B$24/100))*$B32),IF(U$23="kg/t SAR",(U$24*$B32),IF(U$23="kg/t DM",((U$24*($B$24/100))*$B32),IF(U$23="mg/kg SAR",((U$24*0.001)*$B32),IF(U$23="mg/kg DM",(((U$24*0.001)*($B$24/100))*$B32),0)))))) -> 0 | V32: =IF($V$24="",0,IF($V$24>5000,"NOT OK","OK")) -> 0 | W32: =IF($W$24="",0,IF($W$24>4,"Not OK","OK")) -> OK
A33: =I8 -> 8 | B33: 33 | C33: =IF(C$23="%w/w SAR",((C$24*10)*$B33),IF(C$23="%w/w DM",(((C$24*10)*($B$24/100))*$B33),IF(C$23="kg/t SAR",(C$24*$B33),IF(C$23="kg/t DM",((C$24*($B$24/100))*$B33),IF(C$23="mg/kg SAR",((C$24*0.001)*$B33),IF(C$23="mg/kg DM",(((C$24*0.001)*($B$24/100))*$B33),0)))))) -> 69.3 | D33: =(IF(D$23="%w/w SAR",((D$24*10)*$B33),IF(D$23="%w/w DM",(((D$24*10)*($B$24/100))*$B33),IF(D$23="kg/t SAR",(D$24*$B33),IF(D$23="kg/t DM",((D$24*($B$24/100))*$B33),IF(D$23="mg/kg SAR",((D$24*0.001)*$B33),IF(D$23="mg/kg DM",(((D$24*0.001)*($B$24/100))*$B33),"0")))))))*2.291 -> 50.578407 | E33: =(IF(E$23="%w/w SAR",((E$24*10)*$B33),IF(E$23="%w/w DM",(((E$24*10)*($B$24/100))*$B33),IF(E$23="kg/t SAR",(E$24*$B33),IF(E$23="kg/t DM",((E$24*($B$24/100))*$B33),IF(E$23="mg/kg SAR",((E$24*0.001)*$B33),IF(E$23="mg/kg DM",(((E$24*0.001)*($B$24/100))*$B33),"0")))))))*1.205 -> 11.094435 | F33: =(IF(F$23="%w/w SAR",((F$24*10)*$B33),IF(F$23="%w/w DM",(((F$24*10)*($B$24/100))*$B33),IF(F$23="kg/t SAR",(F$24*$B33),IF(F$23="kg/t DM",((F$24*($B$24/100))*$B33),IF(F$23="mg/kg SAR",((F$24*0.001)*$B33),IF(F$23="mg/kg DM",(((F$24*0.001)*($B$24/100))*$B33),"0")))))))*1.658 -> 3.1843548 | G33: =IF(G$23="%w/w SAR",((G$24*10)*$B33),IF(G$23="%w/w DM",(((G$24*10)*($B$24/100))*$B33),IF(G$23="kg/t SAR",(G$24*$B33),IF(G$23="kg/t DM",((G$24*($B$24/100))*$B33),IF(G$23="mg/kg SAR",((G$24*0.001)*$B33),IF(G$23="mg/kg DM",(((G$24*0.001)*($B$24/100))*$B33),0)))))) -> 0.01155 | H33: =IF(H$23="%w/w SAR",((H$24*10)*$B33),IF(H$23="%w/w DM",(((H$24*10)*($B$24/100))*$B33),IF(H$23="kg/t SAR",(H$24*$B33),IF(H$23="kg/t DM",((H$24*($B$24/100))*$B33),IF(H$23="mg/kg SAR",((H$24*0.001)*$B33),IF(H$23="mg/kg DM",(((H$24*0.001)*($B$24/100))*$B33),0)))))) -> 0.05412 | I33: =IF(I$23="%w/w SAR",((I$24*10)*$B33),IF(I$23="%w/w DM",(((I$24*10)*($B$24/100))*$B33),IF(I$23="kg/t SAR",(I$24*$B33),IF(I$23="kg/t DM",((I$24*($B$24/100))*$B33),IF(I$23="mg/kg SAR",((I$24*0.001)*$B33),IF(I$23="mg/kg DM",(((I$24*0.001)*($B$24/100))*$B33),0)))))) -> 0.0165 | J33: =IF(J$23="%w/w SAR",((J$24*10)*$B33),IF(J$23="%w/w DM",(((J$24*10)*($B$24/100))*$B33),IF(J$23="kg/t SAR",(J$24*$B33),IF(J$23="kg/t DM",((J$24*($B$24/100))*$B33),IF(J$23="mg/kg SAR",((J$24*0.001)*$B33),IF(J$23="mg/kg DM",(((J$24*0.001)*($B$24/100))*$B33),0)))))) -> 0.00033 | K33: =IF(K$23="%w/w SAR",((K$24*10)*$B33),IF(K$23="%w/w DM",(((K$24*10)*($B$24/100))*$B33),IF(K$23="kg/t SAR",(K$24*$B33),IF(K$23="kg/t DM",((K$24*($B$24/100))*$B33),IF(K$23="mg/kg SAR",((K$24*0.001)*$B33),IF(K$23="mg/kg DM",(((K$24*0.001)*($B$24/100))*$B33),0)))))) -> 0.00165 | L33: =IF(L$23="%w/w SAR",((L$24*10)*$B33),IF(L$23="%w/w DM",(((L$24*10)*($B$24/100))*$B33),IF(L$23="kg/t SAR",(L$24*$B33),IF(L$23="kg/t DM",((L$24*($B$24/100))*$B33),IF(L$23="mg/kg SAR",((L$24*0.001)*$B33),IF(L$23="mg/kg DM",(((L$24*0.001)*($B$24/100))*$B33),0)))))) -> 0.0066 | M33: =IF(M$23="%w/w SAR",((M$24*10)*$B33),IF(M$23="%w/w DM",(((M$24*10)*($B$24/100))*$B33),IF(M$23="kg/t SAR",(M$24*$B33),IF(M$23="kg/t DM",((M$24*($B$24/100))*$B33),IF(M$23="mg/kg SAR",((M$24*0.001)*$B33),IF(M$23="mg/kg DM",(((M$24*0.001)*($B$24/100))*$B33),0)))))) -> 0.01188 | N33: =IF(N$23="%w/w SAR",((N$24*10)*$B33),IF(N$23="%w/w DM",(((N$24*10)*($B$24/100))*$B33),IF(N$23="kg/t SAR",(N$24*$B33),IF(N$23="kg/t DM",((N$24*($B$24/100))*$B33),IF(N$23="mg/kg SAR",((N$24*0.001)*$B33),IF(N$23="mg/kg DM",(((N$24*0.001)*($B$24/100))*$B33),0)))))) -> 0 | ... P33: =IF(P$23="%w/w SAR",((P$24*10)*$B33),IF(P$23="%w/w DM",(((P$24*10)*($B$24/100))*$B33),IF(P$23="kg/t SAR",(P$24*$B33),IF(P$23="kg/t DM",((P$24*($B$24/100))*$B33),IF(P$23="mg/kg SAR",((P$24*0.001)*$B33),IF(P$23="mg/kg DM",(((P$24*0.001)*($B$24/100))*$B33),0)))))) -> 25.872 | Q33: =(IF(Q$23="%w/w SAR",((Q$24*10)*$B33),IF(Q$23="%w/w DM",(((Q$24*10)*($B$24/100))*$B33),IF(Q$23="kg/t SAR",(Q$24*$B33),IF(Q$23="kg/t DM",((Q$24*($B$24/100))*$B33),IF(Q$23="mg/kg SAR",((Q$24*0.001)*$B33),IF(Q$23="mg/kg DM",(((Q$24*0.001)*($B$24/100))*$B33),0)))))))*2.5 -> 12.9525 | R33: =IF(R$23="%w/w SAR",((R$24*10)*$B33),IF(R$23="%w/w DM",(((R$24*10)*($B$24/100))*$B33),IF(R$23="kg/t SAR",(R$24*$B33),IF(R$23="kg/t DM",((R$24*($B$24/100))*$B33),IF(R$23="mg/kg SAR",((R$24*0.001)*$B33),IF(R$23="mg/kg DM",(((R$24*0.001)*($B$24/100))*$B33),0)))))) -> 0 | S33: =IF(S$23="%w/w SAR",((S$24*10)*$B33),IF(S$23="%w/w DM",(((S$24*10)*($B$24/100))*$B33),IF(S$23="kg/t SAR",(S$24*$B33),IF(S$23="kg/t DM",((S$24*($B$24/100))*$B33),IF(S$23="mg/kg SAR",((S$24*0.001)*$B33),IF(S$23="mg/kg DM",(((S$24*0.001)*($B$24/100))*$B33),0)))))) -> 0 | T33: =IF(T$23="%w/w SAR",((T$24*10)*$B33),IF(T$23="%w/w DM",(((T$24*10)*($B$24/100))*$B33),IF(T$23="kg/t SAR",(T$24*$B33),IF(T$23="kg/t DM",((T$24*($B$24/100))*$B33),IF(T$23="mg/kg SAR",((T$24*0.001)*$B33),IF(T$23="mg/kg DM",(((T$24*0.001)*($B$24/100))*$B33),0)))))) -> 0 | U33: =IF(U$23="%w/w SAR",((U$24*10)*$B33),IF(U$23="%w/w DM",(((U$24*10)*($B$24/100))*$B33),IF(U$23="kg/t SAR",(U$24*$B33),IF(U$23="kg/t DM",((U$24*($B$24/100))*$B33),IF(U$23="mg/kg SAR",((U$24*0.001)*$B33),IF(U$23="mg/kg DM",(((U$24*0.001)*($B$24/100))*$B33),0)))))) -> 0 | V33: =IF($V$24="",0,IF($V$24>5000,"NOT OK","OK")) -> 0 | W33: =IF($W$24="",0,IF($W$24>4,"Not OK","OK")) -> OK
A34: =J8 -> 13B | B34: 52 | C34: =IF(C$23="%w/w SAR",((C$24*10)*$B34),IF(C$23="%w/w DM",(((C$24*10)*($B$24/100))*$B34),IF(C$23="kg/t SAR",(C$24*$B34),IF(C$23="kg/t DM",((C$24*($B$24/100))*$B34),IF(C$23="mg/kg SAR",((C$24*0.001)*$B34),IF(C$23="mg/kg DM",(((C$24*0.001)*($B$24/100))*$B34),0)))))) -> 109.2 | D34: =(IF(D$23="%w/w SAR",((D$24*10)*$B34),IF(D$23="%w/w DM",(((D$24*10)*($B$24/100))*$B34),IF(D$23="kg/t SAR",(D$24*$B34),IF(D$23="kg/t DM",((D$24*($B$24/100))*$B34),IF(D$23="mg/kg SAR",((D$24*0.001)*$B34),IF(D$23="mg/kg DM",(((D$24*0.001)*($B$24/100))*$B34),"0")))))))*2.291 -> 79.699308 | E34: =(IF(E$23="%w/w SAR",((E$24*10)*$B34),IF(E$23="%w/w DM",(((E$24*10)*($B$24/100))*$B34),IF(E$23="kg/t SAR",(E$24*$B34),IF(E$23="kg/t DM",((E$24*($B$24/100))*$B34),IF(E$23="mg/kg SAR",((E$24*0.001)*$B34),IF(E$23="mg/kg DM",(((E$24*0.001)*($B$24/100))*$B34),"0")))))))*1.205 -> 17.48214 | F34: =(IF(F$23="%w/w SAR",((F$24*10)*$B34),IF(F$23="%w/w DM",(((F$24*10)*($B$24/100))*$B34),IF(F$23="kg/t SAR",(F$24*$B34),IF(F$23="kg/t DM",((F$24*($B$24/100))*$B34),IF(F$23="mg/kg SAR",((F$24*0.001)*$B34),IF(F$23="mg/kg DM",(((F$24*0.001)*($B$24/100))*$B34),"0")))))))*1.658 -> 5.0177712 | G34: =IF(G$23="%w/w SAR",((G$24*10)*$B34),IF(G$23="%w/w DM",(((G$24*10)*($B$24/100))*$B34),IF(G$23="kg/t SAR",(G$24*$B34),IF(G$23="kg/t DM",((G$24*($B$24/100))*$B34),IF(G$23="mg/kg SAR",((G$24*0.001)*$B34),IF(G$23="mg/kg DM",(((G$24*0.001)*($B$24/100))*$B34),0)))))) -> 0.0182 | H34: =IF(H$23="%w/w SAR",((H$24*10)*$B34),IF(H$23="%w/w DM",(((H$24*10)*($B$24/100))*$B34),IF(H$23="kg/t SAR",(H$24*$B34),IF(H$23="kg/t DM",((H$24*($B$24/100))*$B34),IF(H$23="mg/kg SAR",((H$24*0.001)*$B34),IF(H$23="mg/kg DM",(((H$24*0.001)*($B$24/100))*$B34),0)))))) -> 0.08528 | I34: =IF(I$23="%w/w SAR",((I$24*10)*$B34),IF(I$23="%w/w DM",(((I$24*10)*($B$24/100))*$B34),IF(I$23="kg/t SAR",(I$24*$B34),IF(I$23="kg/t DM",((I$24*($B$24/100))*$B34),IF(I$23="mg/kg SAR",((I$24*0.001)*$B34),IF(I$23="mg/kg DM",(((I$24*0.001)*($B$24/100))*$B34),0)))))) -> 0.026 | J34: =IF(J$23="%w/w SAR",((J$24*10)*$B34),IF(J$23="%w/w DM",(((J$24*10)*($B$24/100))*$B34),IF(J$23="kg/t SAR",(J$24*$B34),IF(J$23="kg/t DM",((J$24*($B$24/100))*$B34),IF(J$23="mg/kg SAR",((J$24*0.001)*$B34),IF(J$23="mg/kg DM",(((J$24*0.001)*($B$24/100))*$B34),0)))))) -> 0.00052 | K34: =IF(K$23="%w/w SAR",((K$24*10)*$B34),IF(K$23="%w/w DM",(((K$24*10)*($B$24/100))*$B34),IF(K$23="kg/t SAR",(K$24*$B34),IF(K$23="kg/t DM",((K$24*($B$24/100))*$B34),IF(K$23="mg/kg SAR",((K$24*0.001)*$B34),IF(K$23="mg/kg DM",(((K$24*0.001)*($B$24/100))*$B34),0)))))) -> 0.0026 | L34: =IF(L$23="%w/w SAR",((L$24*10)*$B34),IF(L$23="%w/w DM",(((L$24*10)*($B$24/100))*$B34),IF(L$23="kg/t SAR",(L$24*$B34),IF(L$23="kg/t DM",((L$24*($B$24/100))*$B34),IF(L$23="mg/kg SAR",((L$24*0.001)*$B34),IF(L$23="mg/kg DM",(((L$24*0.001)*($B$24/100))*$B34),0)))))) -> 0.0104 | M34: =IF(M$23="%w/w SAR",((M$24*10)*$B34),IF(M$23="%w/w DM",(((M$24*10)*($B$24/100))*$B34),IF(M$23="kg/t SAR",(M$24*$B34),IF(M$23="kg/t DM",((M$24*($B$24/100))*$B34),IF(M$23="mg/kg SAR",((M$24*0.001)*$B34),IF(M$23="mg/kg DM",(((M$24*0.001)*($B$24/100))*$B34),0)))))) -> 0.01872 | N34: =IF(N$23="%w/w SAR",((N$24*10)*$B34),IF(N$23="%w/w DM",(((N$24*10)*($B$24/100))*$B34),IF(N$23="kg/t SAR",(N$24*$B34),IF(N$23="kg/t DM",((N$24*($B$24/100))*$B34),IF(N$23="mg/kg SAR",((N$24*0.001)*$B34),IF(N$23="mg/kg DM",(((N$24*0.001)*($B$24/100))*$B34),0)))))) -> 0 | ... P34: =IF(P$23="%w/w SAR",((P$24*10)*$B34),IF(P$23="%w/w DM",(((P$24*10)*($B$24/100))*$B34),IF(P$23="kg/t SAR",(P$24*$B34),IF(P$23="kg/t DM",((P$24*($B$24/100))*$B34),IF(P$23="mg/kg SAR",((P$24*0.001)*$B34),IF(P$23="mg/kg DM",(((P$24*0.001)*($B$24/100))*$B34),0)))))) -> 40.768 | Q34: =(IF(Q$23="%w/w SAR",((Q$24*10)*$B34),IF(Q$23="%w/w DM",(((Q$24*10)*($B$24/100))*$B34),IF(Q$23="kg/t SAR",(Q$24*$B34),IF(Q$23="kg/t DM",((Q$24*($B$24/100))*$B34),IF(Q$23="mg/kg SAR",((Q$24*0.001)*$B34),IF(Q$23="mg/kg DM",(((Q$24*0.001)*($B$24/100))*$B34),0)))))))*2.5 -> 20.41 | R34: =IF(R$23="%w/w SAR",((R$24*10)*$B34),IF(R$23="%w/w DM",(((R$24*10)*($B$24/100))*$B34),IF(R$23="kg/t SAR",(R$24*$B34),IF(R$23="kg/t DM",((R$24*($B$24/100))*$B34),IF(R$23="mg/kg SAR",((R$24*0.001)*$B34),IF(R$23="mg/kg DM",(((R$24*0.001)*($B$24/100))*$B34),0)))))) -> 0 | S34: =IF(S$23="%w/w SAR",((S$24*10)*$B34),IF(S$23="%w/w DM",(((S$24*10)*($B$24/100))*$B34),IF(S$23="kg/t SAR",(S$24*$B34),IF(S$23="kg/t DM",((S$24*($B$24/100))*$B34),IF(S$23="mg/kg SAR",((S$24*0.001)*$B34),IF(S$23="mg/kg DM",(((S$24*0.001)*($B$24/100))*$B34),0)))))) -> 0 | T34: =IF(T$23="%w/w SAR",((T$24*10)*$B34),IF(T$23="%w/w DM",(((T$24*10)*($B$24/100))*$B34),IF(T$23="kg/t SAR",(T$24*$B34),IF(T$23="kg/t DM",((T$24*($B$24/100))*$B34),IF(T$23="mg/kg SAR",((T$24*0.001)*$B34),IF(T$23="mg/kg DM",(((T$24*0.001)*($B$24/100))*$B34),0)))))) -> 0 | U34: =IF(U$23="%w/w SAR",((U$24*10)*$B34),IF(U$23="%w/w DM",(((U$24*10)*($B$24/100))*$B34),IF(U$23="kg/t SAR",(U$24*$B34),IF(U$23="kg/t DM",((U$24*($B$24/100))*$B34),IF(U$23="mg/kg SAR",((U$24*0.001)*$B34),IF(U$23="mg/kg DM",(((U$24*0.001)*($B$24/100))*$B34),0)))))) -> 0 | V34: =IF($V$24="",0,IF($V$24>5000,"NOT OK","OK")) -> 0 | W34: =IF($W$24="",0,IF($W$24>4,"Not OK","OK")) -> OK
A35: =K8 -> 13A | B35: 52 | C35: =IF(C$23="%w/w SAR",((C$24*10)*$B35),IF(C$23="%w/w DM",(((C$24*10)*($B$24/100))*$B35),IF(C$23="kg/t SAR",(C$24*$B35),IF(C$23="kg/t DM",((C$24*($B$24/100))*$B35),IF(C$23="mg/kg SAR",((C$24*0.001)*$B35),IF(C$23="mg/kg DM",(((C$24*0.001)*($B$24/100))*$B35),0)))))) -> 109.2 | D35: =(IF(D$23="%w/w SAR",((D$24*10)*$B35),IF(D$23="%w/w DM",(((D$24*10)*($B$24/100))*$B35),IF(D$23="kg/t SAR",(D$24*$B35),IF(D$23="kg/t DM",((D$24*($B$24/100))*$B35),IF(D$23="mg/kg SAR",((D$24*0.001)*$B35),IF(D$23="mg/kg DM",(((D$24*0.001)*($B$24/100))*$B35),"0")))))))*2.291 -> 79.699308 | E35: =(IF(E$23="%w/w SAR",((E$24*10)*$B35),IF(E$23="%w/w DM",(((E$24*10)*($B$24/100))*$B35),IF(E$23="kg/t SAR",(E$24*$B35),IF(E$23="kg/t DM",((E$24*($B$24/100))*$B35),IF(E$23="mg/kg SAR",((E$24*0.001)*$B35),IF(E$23="mg/kg DM",(((E$24*0.001)*($B$24/100))*$B35),"0")))))))*1.205 -> 17.48214 | F35: =(IF(F$23="%w/w SAR",((F$24*10)*$B35),IF(F$23="%w/w DM",(((F$24*10)*($B$24/100))*$B35),IF(F$23="kg/t SAR",(F$24*$B35),IF(F$23="kg/t DM",((F$24*($B$24/100))*$B35),IF(F$23="mg/kg SAR",((F$24*0.001)*$B35),IF(F$23="mg/kg DM",(((F$24*0.001)*($B$24/100))*$B35),"0")))))))*1.658 -> 5.0177712 | G35: =IF(G$23="%w/w SAR",((G$24*10)*$B35),IF(G$23="%w/w DM",(((G$24*10)*($B$24/100))*$B35),IF(G$23="kg/t SAR",(G$24*$B35),IF(G$23="kg/t DM",((G$24*($B$24/100))*$B35),IF(G$23="mg/kg SAR",((G$24*0.001)*$B35),IF(G$23="mg/kg DM",(((G$24*0.001)*($B$24/100))*$B35),0)))))) -> 0.0182 | H35: =IF(H$23="%w/w SAR",((H$24*10)*$B35),IF(H$23="%w/w DM",(((H$24*10)*($B$24/100))*$B35),IF(H$23="kg/t SAR",(H$24*$B35),IF(H$23="kg/t DM",((H$24*($B$24/100))*$B35),IF(H$23="mg/kg SAR",((H$24*0.001)*$B35),IF(H$23="mg/kg DM",(((H$24*0.001)*($B$24/100))*$B35),0)))))) -> 0.08528 | I35: =IF(I$23="%w/w SAR",((I$24*10)*$B35),IF(I$23="%w/w DM",(((I$24*10)*($B$24/100))*$B35),IF(I$23="kg/t SAR",(I$24*$B35),IF(I$23="kg/t DM",((I$24*($B$24/100))*$B35),IF(I$23="mg/kg SAR",((I$24*0.001)*$B35),IF(I$23="mg/kg DM",(((I$24*0.001)*($B$24/100))*$B35),0)))))) -> 0.026 | J35: =IF(J$23="%w/w SAR",((J$24*10)*$B35),IF(J$23="%w/w DM",(((J$24*10)*($B$24/100))*$B35),IF(J$23="kg/t SAR",(J$24*$B35),IF(J$23="kg/t DM",((J$24*($B$24/100))*$B35),IF(J$23="mg/kg SAR",((J$24*0.001)*$B35),IF(J$23="mg/kg DM",(((J$24*0.001)*($B$24/100))*$B35),0)))))) -> 0.00052 | K35: =IF(K$23="%w/w SAR",((K$24*10)*$B35),IF(K$23="%w/w DM",(((K$24*10)*($B$24/100))*$B35),IF(K$23="kg/t SAR",(K$24*$B35),IF(K$23="kg/t DM",((K$24*($B$24/100))*$B35),IF(K$23="mg/kg SAR",((K$24*0.001)*$B35),IF(K$23="mg/kg DM",(((K$24*0.001)*($B$24/100))*$B35),0)))))) -> 0.0026 | L35: =IF(L$23="%w/w SAR",((L$24*10)*$B35),IF(L$23="%w/w DM",(((L$24*10)*($B$24/100))*$B35),IF(L$23="kg/t SAR",(L$24*$B35),IF(L$23="kg/t DM",((L$24*($B$24/100))*$B35),IF(L$23="mg/kg SAR",((L$24*0.001)*$B35),IF(L$23="mg/kg DM",(((L$24*0.001)*($B$24/100))*$B35),0)))))) -> 0.0104 | M35: =IF(M$23="%w/w SAR",((M$24*10)*$B35),IF(M$23="%w/w DM",(((M$24*10)*($B$24/100))*$B35),IF(M$23="kg/t SAR",(M$24*$B35),IF(M$23="kg/t DM",((M$24*($B$24/100))*$B35),IF(M$23="mg/kg SAR",((M$24*0.001)*$B35),IF(M$23="mg/kg DM",(((M$24*0.001)*($B$24/100))*$B35),0)))))) -> 0.01872 | N35: =IF(N$23="%w/w SAR",((N$24*10)*$B35),IF(N$23="%w/w DM",(((N$24*10)*($B$24/100))*$B35),IF(N$23="kg/t SAR",(N$24*$B35),IF(N$23="kg/t DM",((N$24*($B$24/100))*$B35),IF(N$23="mg/kg SAR",((N$24*0.001)*$B35),IF(N$23="mg/kg DM",(((N$24*0.001)*($B$24/100))*$B35),0)))))) -> 0 | ... P35: =IF(P$23="%w/w SAR",((P$24*10)*$B35),IF(P$23="%w/w DM",(((P$24*10)*($B$24/100))*$B35),IF(P$23="kg/t SAR",(P$24*$B35),IF(P$23="kg/t DM",((P$24*($B$24/100))*$B35),IF(P$23="mg/kg SAR",((P$24*0.001)*$B35),IF(P$23="mg/kg DM",(((P$24*0.001)*($B$24/100))*$B35),0)))))) -> 40.768 | Q35: =(IF(Q$23="%w/w SAR",((Q$24*10)*$B35),IF(Q$23="%w/w DM",(((Q$24*10)*($B$24/100))*$B35),IF(Q$23="kg/t SAR",(Q$24*$B35),IF(Q$23="kg/t DM",((Q$24*($B$24/100))*$B35),IF(Q$23="mg/kg SAR",((Q$24*0.001)*$B35),IF(Q$23="mg/kg DM",(((Q$24*0.001)*($B$24/100))*$B35),0)))))))*2.5 -> 20.41 | R35: =IF(R$23="%w/w SAR",((R$24*10)*$B35),IF(R$23="%w/w DM",(((R$24*10)*($B$24/100))*$B35),IF(R$23="kg/t SAR",(R$24*$B35),IF(R$23="kg/t DM",((R$24*($B$24/100))*$B35),IF(R$23="mg/kg SAR",((R$24*0.001)*$B35),IF(R$23="mg/kg DM",(((R$24*0.001)*($B$24/100))*$B35),0)))))) -> 0 | S35: =IF(S$23="%w/w SAR",((S$24*10)*$B35),IF(S$23="%w/w DM",(((S$24*10)*($B$24/100))*$B35),IF(S$23="kg/t SAR",(S$24*$B35),IF(S$23="kg/t DM",((S$24*($B$24/100))*$B35),IF(S$23="mg/kg SAR",((S$24*0.001)*$B35),IF(S$23="mg/kg DM",(((S$24*0.001)*($B$24/100))*$B35),0)))))) -> 0 | T35: =IF(T$23="%w/w SAR",((T$24*10)*$B35),IF(T$23="%w/w DM",(((T$24*10)*($B$24/100))*$B35),IF(T$23="kg/t SAR",(T$24*$B35),IF(T$23="kg/t DM",((T$24*($B$24/100))*$B35),IF(T$23="mg/kg SAR",((T$24*0.001)*$B35),IF(T$23="mg/kg DM",(((T$24*0.001)*($B$24/100))*$B35),0)))))) -> 0 | U35: =IF(U$23="%w/w SAR",((U$24*10)*$B35),IF(U$23="%w/w DM",(((U$24*10)*($B$24/100))*$B35),IF(U$23="kg/t SAR",(U$24*$B35),IF(U$23="kg/t DM",((U$24*($B$24/100))*$B35),IF(U$23="mg/kg SAR",((U$24*0.001)*$B35),IF(U$23="mg/kg DM",(((U$24*0.001)*($B$24/100))*$B35),0)))))) -> 0 | V35: =IF($V$24="",0,IF($V$24>5000,"NOT OK","OK")) -> 0 | W35: =IF($W$24="",0,IF($W$24>4,"Not OK","OK")) -> OK
A36: =L8 -> 28 | B36: 118 | C36: =IF(C$23="%w/w SAR",((C$24*10)*$B36),IF(C$23="%w/w DM",(((C$24*10)*($B$24/100))*$B36),IF(C$23="kg/t SAR",(C$24*$B36),IF(C$23="kg/t DM",((C$24*($B$24/100))*$B36),IF(C$23="mg/kg SAR",((C$24*0.001)*$B36),IF(C$23="mg/kg DM",(((C$24*0.001)*($B$24/100))*$B36),0)))))) -> 247.8 | D36: =(IF(D$23="%w/w SAR",((D$24*10)*$B36),IF(D$23="%w/w DM",(((D$24*10)*($B$24/100))*$B36),IF(D$23="kg/t SAR",(D$24*$B36),IF(D$23="kg/t DM",((D$24*($B$24/100))*$B36),IF(D$23="mg/kg SAR",((D$24*0.001)*$B36),IF(D$23="mg/kg DM",(((D$24*0.001)*($B$24/100))*$B36),"0")))))))*2.291 -> 180.85612 | E36: =(IF(E$23="%w/w SAR",((E$24*10)*$B36),IF(E$23="%w/w DM",(((E$24*10)*($B$24/100))*$B36),IF(E$23="kg/t SAR",(E$24*$B36),IF(E$23="kg/t DM",((E$24*($B$24/100))*$B36),IF(E$23="mg/kg SAR",((E$24*0.001)*$B36),IF(E$23="mg/kg DM",(((E$24*0.001)*($B$24/100))*$B36),"0")))))))*1.205 -> 39.67101 | F36: =(IF(F$23="%w/w SAR",((F$24*10)*$B36),IF(F$23="%w/w DM",(((F$24*10)*($B$24/100))*$B36),IF(F$23="kg/t SAR",(F$24*$B36),IF(F$23="kg/t DM",((F$24*($B$24/100))*$B36),IF(F$23="mg/kg SAR",((F$24*0.001)*$B36),IF(F$23="mg/kg DM",(((F$24*0.001)*($B$24/100))*$B36),"0")))))))*1.658 -> 11.386481 | G36: =IF(G$23="%w/w SAR",((G$24*10)*$B36),IF(G$23="%w/w DM",(((G$24*10)*($B$24/100))*$B36),IF(G$23="kg/t SAR",(G$24*$B36),IF(G$23="kg/t DM",((G$24*($B$24/100))*$B36),IF(G$23="mg/kg SAR",((G$24*0.001)*$B36),IF(G$23="mg/kg DM",(((G$24*0.001)*($B$24/100))*$B36),0)))))) -> 0.0413 | H36: =IF(H$23="%w/w SAR",((H$24*10)*$B36),IF(H$23="%w/w DM",(((H$24*10)*($B$24/100))*$B36),IF(H$23="kg/t SAR",(H$24*$B36),IF(H$23="kg/t DM",((H$24*($B$24/100))*$B36),IF(H$23="mg/kg SAR",((H$24*0.001)*$B36),IF(H$23="mg/kg DM",(((H$24*0.001)*($B$24/100))*$B36),0)))))) -> 0.19352 | I36: =IF(I$23="%w/w SAR",((I$24*10)*$B36),IF(I$23="%w/w DM",(((I$24*10)*($B$24/100))*$B36),IF(I$23="kg/t SAR",(I$24*$B36),IF(I$23="kg/t DM",((I$24*($B$24/100))*$B36),IF(I$23="mg/kg SAR",((I$24*0.001)*$B36),IF(I$23="mg/kg DM",(((I$24*0.001)*($B$24/100))*$B36),0)))))) -> 0.059 | J36: =IF(J$23="%w/w SAR",((J$24*10)*$B36),IF(J$23="%w/w DM",(((J$24*10)*($B$24/100))*$B36),IF(J$23="kg/t SAR",(J$24*$B36),IF(J$23="kg/t DM",((J$24*($B$24/100))*$B36),IF(J$23="mg/kg SAR",((J$24*0.001)*$B36),IF(J$23="mg/kg DM",(((J$24*0.001)*($B$24/100))*$B36),0)))))) -> 0.00118 | K36: =IF(K$23="%w/w SAR",((K$24*10)*$B36),IF(K$23="%w/w DM",(((K$24*10)*($B$24/100))*$B36),IF(K$23="kg/t SAR",(K$24*$B36),IF(K$23="kg/t DM",((K$24*($B$24/100))*$B36),IF(K$23="mg/kg SAR",((K$24*0.001)*$B36),IF(K$23="mg/kg DM",(((K$24*0.001)*($B$24/100))*$B36),0)))))) -> 0.0059 | L36: =IF(L$23="%w/w SAR",((L$24*10)*$B36),IF(L$23="%w/w DM",(((L$24*10)*($B$24/100))*$B36),IF(L$23="kg/t SAR",(L$24*$B36),IF(L$23="kg/t DM",((L$24*($B$24/100))*$B36),IF(L$23="mg/kg SAR",((L$24*0.001)*$B36),IF(L$23="mg/kg DM",(((L$24*0.001)*($B$24/100))*$B36),0)))))) -> 0.0236 | M36: =IF(M$23="%w/w SAR",((M$24*10)*$B36),IF(M$23="%w/w DM",(((M$24*10)*($B$24/100))*$B36),IF(M$23="kg/t SAR",(M$24*$B36),IF(M$23="kg/t DM",((M$24*($B$24/100))*$B36),IF(M$23="mg/kg SAR",((M$24*0.001)*$B36),IF(M$23="mg/kg DM",(((M$24*0.001)*($B$24/100))*$B36),0)))))) -> 0.04248 | N36: =IF(N$23="%w/w SAR",((N$24*10)*$B36),IF(N$23="%w/w DM",(((N$24*10)*($B$24/100))*$B36),IF(N$23="kg/t SAR",(N$24*$B36),IF(N$23="kg/t DM",((N$24*($B$24/100))*$B36),IF(N$23="mg/kg SAR",((N$24*0.001)*$B36),IF(N$23="mg/kg DM",(((N$24*0.001)*($B$24/100))*$B36),0)))))) -> 0 | ... P36: =IF(P$23="%w/w SAR",((P$24*10)*$B36),IF(P$23="%w/w DM",(((P$24*10)*($B$24/100))*$B36),IF(P$23="kg/t SAR",(P$24*$B36),IF(P$23="kg/t DM",((P$24*($B$24/100))*$B36),IF(P$23="mg/kg SAR",((P$24*0.001)*$B36),IF(P$23="mg/kg DM",(((P$24*0.001)*($B$24/100))*$B36),0)))))) -> 92.512 | Q36: =(IF(Q$23="%w/w SAR",((Q$24*10)*$B36),IF(Q$23="%w/w DM",(((Q$24*10)*($B$24/100))*$B36),IF(Q$23="kg/t SAR",(Q$24*$B36),IF(Q$23="kg/t DM",((Q$24*($B$24/100))*$B36),IF(Q$23="mg/kg SAR",((Q$24*0.001)*$B36),IF(Q$23="mg/kg DM",(((Q$24*0.001)*($B$24/100))*$B36),0)))))))*2.5 -> 46.315 | R36: =IF(R$23="%w/w SAR",((R$24*10)*$B36),IF(R$23="%w/w DM",(((R$24*10)*($B$24/100))*$B36),IF(R$23="kg/t SAR",(R$24*$B36),IF(R$23="kg/t DM",((R$24*($B$24/100))*$B36),IF(R$23="mg/kg SAR",((R$24*0.001)*$B36),IF(R$23="mg/kg DM",(((R$24*0.001)*($B$24/100))*$B36),0)))))) -> 0 | S36: =IF(S$23="%w/w SAR",((S$24*10)*$B36),IF(S$23="%w/w DM",(((S$24*10)*($B$24/100))*$B36),IF(S$23="kg/t SAR",(S$24*$B36),IF(S$23="kg/t DM",((S$24*($B$24/100))*$B36),IF(S$23="mg/kg SAR",((S$24*0.001)*$B36),IF(S$23="mg/kg DM",(((S$24*0.001)*($B$24/100))*$B36),0)))))) -> 0 | T36: =IF(T$23="%w/w SAR",((T$24*10)*$B36),IF(T$23="%w/w DM",(((T$24*10)*($B$24/100))*$B36),IF(T$23="kg/t SAR",(T$24*$B36),IF(T$23="kg/t DM",((T$24*($B$24/100))*$B36),IF(T$23="mg/kg SAR",((T$24*0.001)*$B36),IF(T$23="mg/kg DM",(((T$24*0.001)*($B$24/100))*$B36),0)))))) -> 0 | U36: =IF(U$23="%w/w SAR",((U$24*10)*$B36),IF(U$23="%w/w DM",(((U$24*10)*($B$24/100))*$B36),IF(U$23="kg/t SAR",(U$24*$B36),IF(U$23="kg/t DM",((U$24*($B$24/100))*$B36),IF(U$23="mg/kg SAR",((U$24*0.001)*$B36),IF(U$23="mg/kg DM",(((U$24*0.001)*($B$24/100))*$B36),0)))))) -> 0 | V36: =IF($V$24="",0,IF($V$24>5000,"NOT OK","OK")) -> 0 | W36: =IF($W$24="",0,IF($W$24>4,"Not OK","OK")) -> OK
A37: =M8 -> 22 | B37: 118 | C37: =IF(C$23="%w/w SAR",((C$24*10)*$B37),IF(C$23="%w/w DM",(((C$24*10)*($B$24/100))*$B37),IF(C$23="kg/t SAR",(C$24*$B37),IF(C$23="kg/t DM",((C$24*($B$24/100))*$B37),IF(C$23="mg/kg SAR",((C$24*0.001)*$B37),IF(C$23="mg/kg DM",(((C$24*0.001)*($B$24/100))*$B37),0)))))) -> 247.8 | D37: =(IF(D$23="%w/w SAR",((D$24*10)*$B37),IF(D$23="%w/w DM",(((D$24*10)*($B$24/100))*$B37),IF(D$23="kg/t SAR",(D$24*$B37),IF(D$23="kg/t DM",((D$24*($B$24/100))*$B37),IF(D$23="mg/kg SAR",((D$24*0.001)*$B37),IF(D$23="mg/kg DM",(((D$24*0.001)*($B$24/100))*$B37),"0")))))))*2.291 -> 180.85612 | E37: =(IF(E$23="%w/w SAR",((E$24*10)*$B37),IF(E$23="%w/w DM",(((E$24*10)*($B$24/100))*$B37),IF(E$23="kg/t SAR",(E$24*$B37),IF(E$23="kg/t DM",((E$24*($B$24/100))*$B37),IF(E$23="mg/kg SAR",((E$24*0.001)*$B37),IF(E$23="mg/kg DM",(((E$24*0.001)*($B$24/100))*$B37),"0")))))))*1.205 -> 39.67101 | F37: =(IF(F$23="%w/w SAR",((F$24*10)*$B37),IF(F$23="%w/w DM",(((F$24*10)*($B$24/100))*$B37),IF(F$23="kg/t SAR",(F$24*$B37),IF(F$23="kg/t DM",((F$24*($B$24/100))*$B37),IF(F$23="mg/kg SAR",((F$24*0.001)*$B37),IF(F$23="mg/kg DM",(((F$24*0.001)*($B$24/100))*$B37),"0")))))))*1.658 -> 11.386481 | G37: =IF(G$23="%w/w SAR",((G$24*10)*$B37),IF(G$23="%w/w DM",(((G$24*10)*($B$24/100))*$B37),IF(G$23="kg/t SAR",(G$24*$B37),IF(G$23="kg/t DM",((G$24*($B$24/100))*$B37),IF(G$23="mg/kg SAR",((G$24*0.001)*$B37),IF(G$23="mg/kg DM",(((G$24*0.001)*($B$24/100))*$B37),0)))))) -> 0.0413 | H37: =IF(H$23="%w/w SAR",((H$24*10)*$B37),IF(H$23="%w/w DM",(((H$24*10)*($B$24/100))*$B37),IF(H$23="kg/t SAR",(H$24*$B37),IF(H$23="kg/t DM",((H$24*($B$24/100))*$B37),IF(H$23="mg/kg SAR",((H$24*0.001)*$B37),IF(H$23="mg/kg DM",(((H$24*0.001)*($B$24/100))*$B37),0)))))) -> 0.19352 | I37: =IF(I$23="%w/w SAR",((I$24*10)*$B37),IF(I$23="%w/w DM",(((I$24*10)*($B$24/100))*$B37),IF(I$23="kg/t SAR",(I$24*$B37),IF(I$23="kg/t DM",((I$24*($B$24/100))*$B37),IF(I$23="mg/kg SAR",((I$24*0.001)*$B37),IF(I$23="mg/kg DM",(((I$24*0.001)*($B$24/100))*$B37),0)))))) -> 0.059 | J37: =IF(J$23="%w/w SAR",((J$24*10)*$B37),IF(J$23="%w/w DM",(((J$24*10)*($B$24/100))*$B37),IF(J$23="kg/t SAR",(J$24*$B37),IF(J$23="kg/t DM",((J$24*($B$24/100))*$B37),IF(J$23="mg/kg SAR",((J$24*0.001)*$B37),IF(J$23="mg/kg DM",(((J$24*0.001)*($B$24/100))*$B37),0)))))) -> 0.00118 | K37: =IF(K$23="%w/w SAR",((K$24*10)*$B37),IF(K$23="%w/w DM",(((K$24*10)*($B$24/100))*$B37),IF(K$23="kg/t SAR",(K$24*$B37),IF(K$23="kg/t DM",((K$24*($B$24/100))*$B37),IF(K$23="mg/kg SAR",((K$24*0.001)*$B37),IF(K$23="mg/kg DM",(((K$24*0.001)*($B$24/100))*$B37),0)))))) -> 0.0059 | L37: =IF(L$23="%w/w SAR",((L$24*10)*$B37),IF(L$23="%w/w DM",(((L$24*10)*($B$24/100))*$B37),IF(L$23="kg/t SAR",(L$24*$B37),IF(L$23="kg/t DM",((L$24*($B$24/100))*$B37),IF(L$23="mg/kg SAR",((L$24*0.001)*$B37),IF(L$23="mg/kg DM",(((L$24*0.001)*($B$24/100))*$B37),0)))))) -> 0.0236 | M37: =IF(M$23="%w/w SAR",((M$24*10)*$B37),IF(M$23="%w/w DM",(((M$24*10)*($B$24/100))*$B37),IF(M$23="kg/t SAR",(M$24*$B37),IF(M$23="kg/t DM",((M$24*($B$24/100))*$B37),IF(M$23="mg/kg SAR",((M$24*0.001)*$B37),IF(M$23="mg/kg DM",(((M$24*0.001)*($B$24/100))*$B37),0)))))) -> 0.04248 | N37: =IF(N$23="%w/w SAR",((N$24*10)*$B37),IF(N$23="%w/w DM",(((N$24*10)*($B$24/100))*$B37),IF(N$23="kg/t SAR",(N$24*$B37),IF(N$23="kg/t DM",((N$24*($B$24/100))*$B37),IF(N$23="mg/kg SAR",((N$24*0.001)*$B37),IF(N$23="mg/kg DM",(((N$24*0.001)*($B$24/100))*$B37),0)))))) -> 0 | ... P37: =IF(P$23="%w/w SAR",((P$24*10)*$B37),IF(P$23="%w/w DM",(((P$24*10)*($B$24/100))*$B37),IF(P$23="kg/t SAR",(P$24*$B37),IF(P$23="kg/t DM",((P$24*($B$24/100))*$B37),IF(P$23="mg/kg SAR",((P$24*0.001)*$B37),IF(P$23="mg/kg DM",(((P$24*0.001)*($B$24/100))*$B37),0)))))) -> 92.512 | Q37: =(IF(Q$23="%w/w SAR",((Q$24*10)*$B37),IF(Q$23="%w/w DM",(((Q$24*10)*($B$24/100))*$B37),IF(Q$23="kg/t SAR",(Q$24*$B37),IF(Q$23="kg/t DM",((Q$24*($B$24/100))*$B37),IF(Q$23="mg/kg SAR",((Q$24*0.001)*$B37),IF(Q$23="mg/kg DM",(((Q$24*0.001)*($B$24/100))*$B37),0)))))))*2.5 -> 46.315 | R37: =IF(R$23="%w/w SAR",((R$24*10)*$B37),IF(R$23="%w/w DM",(((R$24*10)*($B$24/100))*$B37),IF(R$23="kg/t SAR",(R$24*$B37),IF(R$23="kg/t DM",((R$24*($B$24/100))*$B37),IF(R$23="mg/kg SAR",((R$24*0.001)*$B37),IF(R$23="mg/kg DM",(((R$24*0.001)*($B$24/100))*$B37),0)))))) -> 0 | S37: =IF(S$23="%w/w SAR",((S$24*10)*$B37),IF(S$23="%w/w DM",(((S$24*10)*($B$24/100))*$B37),IF(S$23="kg/t SAR",(S$24*$B37),IF(S$23="kg/t DM",((S$24*($B$24/100))*$B37),IF(S$23="mg/kg SAR",((S$24*0.001)*$B37),IF(S$23="mg/kg DM",(((S$24*0.001)*($B$24/100))*$B37),0)))))) -> 0 | T37: =IF(T$23="%w/w SAR",((T$24*10)*$B37),IF(T$23="%w/w DM",(((T$24*10)*($B$24/100))*$B37),IF(T$23="kg/t SAR",(T$24*$B37),IF(T$23="kg/t DM",((T$24*($B$24/100))*$B37),IF(T$23="mg/kg SAR",((T$24*0.001)*$B37),IF(T$23="mg/kg DM",(((T$24*0.001)*($B$24/100))*$B37),0)))))) -> 0 | U37: =IF(U$23="%w/w SAR",((U$24*10)*$B37),IF(U$23="%w/w DM",(((U$24*10)*($B$24/100))*$B37),IF(U$23="kg/t SAR",(U$24*$B37),IF(U$23="kg/t DM",((U$24*($B$24/100))*$B37),IF(U$23="mg/kg SAR",((U$24*0.001)*$B37),IF(U$23="mg/kg DM",(((U$24*0.001)*($B$24/100))*$B37),0)))))) -> 0 | V37: =IF($V$24="",0,IF($V$24>5000,"NOT OK","OK")) -> 0 | W37: =IF($W$24="",0,IF($W$24>4,"Not OK","OK")) -> OK
A38: =N8 -> PEN 1 | B38: 42 | C38: =IF(C$23="%w/w SAR",((C$24*10)*$B38),IF(C$23="%w/w DM",(((C$24*10)*($B$24/100))*$B38),IF(C$23="kg/t SAR",(C$24*$B38),IF(C$23="kg/t DM",((C$24*($B$24/100))*$B38),IF(C$23="mg/kg SAR",((C$24*0.001)*$B38),IF(C$23="mg/kg DM",(((C$24*0.001)*($B$24/100))*$B38),0)))))) -> 88.2 | D38: =(IF(D$23="%w/w SAR",((D$24*10)*$B38),IF(D$23="%w/w DM",(((D$24*10)*($B$24/100))*$B38),IF(D$23="kg/t SAR",(D$24*$B38),IF(D$23="kg/t DM",((D$24*($B$24/100))*$B38),IF(D$23="mg/kg SAR",((D$24*0.001)*$B38),IF(D$23="mg/kg DM",(((D$24*0.001)*($B$24/100))*$B38),"0")))))))*2.291 -> 64.372518 | E38: =(IF(E$23="%w/w SAR",((E$24*10)*$B38),IF(E$23="%w/w DM",(((E$24*10)*($B$24/100))*$B38),IF(E$23="kg/t SAR",(E$24*$B38),IF(E$23="kg/t DM",((E$24*($B$24/100))*$B38),IF(E$23="mg/kg SAR",((E$24*0.001)*$B38),IF(E$23="mg/kg DM",(((E$24*0.001)*($B$24/100))*$B38),"0")))))))*1.205 -> 14.12019 | F38: =(IF(F$23="%w/w SAR",((F$24*10)*$B38),IF(F$23="%w/w DM",(((F$24*10)*($B$24/100))*$B38),IF(F$23="kg/t SAR",(F$24*$B38),IF(F$23="kg/t DM",((F$24*($B$24/100))*$B38),IF(F$23="mg/kg SAR",((F$24*0.001)*$B38),IF(F$23="mg/kg DM",(((F$24*0.001)*($B$24/100))*$B38),"0")))))))*1.658 -> 4.0528152 | G38: =IF(G$23="%w/w SAR",((G$24*10)*$B38),IF(G$23="%w/w DM",(((G$24*10)*($B$24/100))*$B38),IF(G$23="kg/t SAR",(G$24*$B38),IF(G$23="kg/t DM",((G$24*($B$24/100))*$B38),IF(G$23="mg/kg SAR",((G$24*0.001)*$B38),IF(G$23="mg/kg DM",(((G$24*0.001)*($B$24/100))*$B38),0)))))) -> 0.0147 | H38: =IF(H$23="%w/w SAR",((H$24*10)*$B38),IF(H$23="%w/w DM",(((H$24*10)*($B$24/100))*$B38),IF(H$23="kg/t SAR",(H$24*$B38),IF(H$23="kg/t DM",((H$24*($B$24/100))*$B38),IF(H$23="mg/kg SAR",((H$24*0.001)*$B38),IF(H$23="mg/kg DM",(((H$24*0.001)*($B$24/100))*$B38),0)))))) -> 0.06888 | I38: =IF(I$23="%w/w SAR",((I$24*10)*$B38),IF(I$23="%w/w DM",(((I$24*10)*($B$24/100))*$B38),IF(I$23="kg/t SAR",(I$24*$B38),IF(I$23="kg/t DM",((I$24*($B$24/100))*$B38),IF(I$23="mg/kg SAR",((I$24*0.001)*$B38),IF(I$23="mg/kg DM",(((I$24*0.001)*($B$24/100))*$B38),0)))))) -> 0.021 | J38: =IF(J$23="%w/w SAR",((J$24*10)*$B38),IF(J$23="%w/w DM",(((J$24*10)*($B$24/100))*$B38),IF(J$23="kg/t SAR",(J$24*$B38),IF(J$23="kg/t DM",((J$24*($B$24/100))*$B38),IF(J$23="mg/kg SAR",((J$24*0.001)*$B38),IF(J$23="mg/kg DM",(((J$24*0.001)*($B$24/100))*$B38),0)))))) -> 0.00042 | K38: =IF(K$23="%w/w SAR",((K$24*10)*$B38),IF(K$23="%w/w DM",(((K$24*10)*($B$24/100))*$B38),IF(K$23="kg/t SAR",(K$24*$B38),IF(K$23="kg/t DM",((K$24*($B$24/100))*$B38),IF(K$23="mg/kg SAR",((K$24*0.001)*$B38),IF(K$23="mg/kg DM",(((K$24*0.001)*($B$24/100))*$B38),0)))))) -> 0.0021 | L38: =IF(L$23="%w/w SAR",((L$24*10)*$B38),IF(L$23="%w/w DM",(((L$24*10)*($B$24/100))*$B38),IF(L$23="kg/t SAR",(L$24*$B38),IF(L$23="kg/t DM",((L$24*($B$24/100))*$B38),IF(L$23="mg/kg SAR",((L$24*0.001)*$B38),IF(L$23="mg/kg DM",(((L$24*0.001)*($B$24/100))*$B38),0)))))) -> 0.0084 | M38: =IF(M$23="%w/w SAR",((M$24*10)*$B38),IF(M$23="%w/w DM",(((M$24*10)*($B$24/100))*$B38),IF(M$23="kg/t SAR",(M$24*$B38),IF(M$23="kg/t DM",((M$24*($B$24/100))*$B38),IF(M$23="mg/kg SAR",((M$24*0.001)*$B38),IF(M$23="mg/kg DM",(((M$24*0.001)*($B$24/100))*$B38),0)))))) -> 0.01512 | N38: =IF(N$23="%w/w SAR",((N$24*10)*$B38),IF(N$23="%w/w DM",(((N$24*10)*($B$24/100))*$B38),IF(N$23="kg/t SAR",(N$24*$B38),IF(N$23="kg/t DM",((N$24*($B$24/100))*$B38),IF(N$23="mg/kg SAR",((N$24*0.001)*$B38),IF(N$23="mg/kg DM",(((N$24*0.001)*($B$24/100))*$B38),0)))))) -> 0 | ... P38: =IF(P$23="%w/w SAR",((P$24*10)*$B38),IF(P$23="%w/w DM",(((P$24*10)*($B$24/100))*$B38),IF(P$23="kg/t SAR",(P$24*$B38),IF(P$23="kg/t DM",((P$24*($B$24/100))*$B38),IF(P$23="mg/kg SAR",((P$24*0.001)*$B38),IF(P$23="mg/kg DM",(((P$24*0.001)*($B$24/100))*$B38),0)))))) -> 32.928 | Q38: =(IF(Q$23="%w/w SAR",((Q$24*10)*$B38),IF(Q$23="%w/w DM",(((Q$24*10)*($B$24/100))*$B38),IF(Q$23="kg/t SAR",(Q$24*$B38),IF(Q$23="kg/t DM",((Q$24*($B$24/100))*$B38),IF(Q$23="mg/kg SAR",((Q$24*0.001)*$B38),IF(Q$23="mg/kg DM",(((Q$24*0.001)*($B$24/100))*$B38),0)))))))*2.5 -> 16.485 | R38: =IF(R$23="%w/w SAR",((R$24*10)*$B38),IF(R$23="%w/w DM",(((R$24*10)*($B$24/100))*$B38),IF(R$23="kg/t SAR",(R$24*$B38),IF(R$23="kg/t DM",((R$24*($B$24/100))*$B38),IF(R$23="mg/kg SAR",((R$24*0.001)*$B38),IF(R$23="mg/kg DM",(((R$24*0.001)*($B$24/100))*$B38),0)))))) -> 0 | S38: =IF(S$23="%w/w SAR",((S$24*10)*$B38),IF(S$23="%w/w DM",(((S$24*10)*($B$24/100))*$B38),IF(S$23="kg/t SAR",(S$24*$B38),IF(S$23="kg/t DM",((S$24*($B$24/100))*$B38),IF(S$23="mg/kg SAR",((S$24*0.001)*$B38),IF(S$23="mg/kg DM",(((S$24*0.001)*($B$24/100))*$B38),0)))))) -> 0 | T38: =IF(T$23="%w/w SAR",((T$24*10)*$B38),IF(T$23="%w/w DM",(((T$24*10)*($B$24/100))*$B38),IF(T$23="kg/t SAR",(T$24*$B38),IF(T$23="kg/t DM",((T$24*($B$24/100))*$B38),IF(T$23="mg/kg SAR",((T$24*0.001)*$B38),IF(T$23="mg/kg DM",(((T$24*0.001)*($B$24/100))*$B38),0)))))) -> 0 | U38: =IF(U$23="%w/w SAR",((U$24*10)*$B38),IF(U$23="%w/w DM",(((U$24*10)*($B$24/100))*$B38),IF(U$23="kg/t SAR",(U$24*$B38),IF(U$23="kg/t DM",((U$24*($B$24/100))*$B38),IF(U$23="mg/kg SAR",((U$24*0.001)*$B38),IF(U$23="mg/kg DM",(((U$24*0.001)*($B$24/100))*$B38),0)))))) -> 0 | V38: =IF($V$24="",0,IF($V$24>5000,"NOT OK","OK")) -> 0 | W38: =IF($W$24="",0,IF($W$24>4,"Not OK","OK")) -> OK
A39: =O8 -> PEN 2 | B39: 42 | C39: =IF(C$23="%w/w SAR",((C$24*10)*$B39),IF(C$23="%w/w DM",(((C$24*10)*($B$24/100))*$B39),IF(C$23="kg/t SAR",(C$24*$B39),IF(C$23="kg/t DM",((C$24*($B$24/100))*$B39),IF(C$23="mg/kg SAR",((C$24*0.001)*$B39),IF(C$23="mg/kg DM",(((C$24*0.001)*($B$24/100))*$B39),0)))))) -> 88.2 | D39: =(IF(D$23="%w/w SAR",((D$24*10)*$B39),IF(D$23="%w/w DM",(((D$24*10)*($B$24/100))*$B39),IF(D$23="kg/t SAR",(D$24*$B39),IF(D$23="kg/t DM",((D$24*($B$24/100))*$B39),IF(D$23="mg/kg SAR",((D$24*0.001)*$B39),IF(D$23="mg/kg DM",(((D$24*0.001)*($B$24/100))*$B39),"0")))))))*2.291 -> 64.372518 | E39: =(IF(E$23="%w/w SAR",((E$24*10)*$B39),IF(E$23="%w/w DM",(((E$24*10)*($B$24/100))*$B39),IF(E$23="kg/t SAR",(E$24*$B39),IF(E$23="kg/t DM",((E$24*($B$24/100))*$B39),IF(E$23="mg/kg SAR",((E$24*0.001)*$B39),IF(E$23="mg/kg DM",(((E$24*0.001)*($B$24/100))*$B39),"0")))))))*1.205 -> 14.12019 | F39: =(IF(F$23="%w/w SAR",((F$24*10)*$B39),IF(F$23="%w/w DM",(((F$24*10)*($B$24/100))*$B39),IF(F$23="kg/t SAR",(F$24*$B39),IF(F$23="kg/t DM",((F$24*($B$24/100))*$B39),IF(F$23="mg/kg SAR",((F$24*0.001)*$B39),IF(F$23="mg/kg DM",(((F$24*0.001)*($B$24/100))*$B39),"0")))))))*1.658 -> 4.0528152 | G39: =IF(G$23="%w/w SAR",((G$24*10)*$B39),IF(G$23="%w/w DM",(((G$24*10)*($B$24/100))*$B39),IF(G$23="kg/t SAR",(G$24*$B39),IF(G$23="kg/t DM",((G$24*($B$24/100))*$B39),IF(G$23="mg/kg SAR",((G$24*0.001)*$B39),IF(G$23="mg/kg DM",(((G$24*0.001)*($B$24/100))*$B39),0)))))) -> 0.0147 | H39: =IF(H$23="%w/w SAR",((H$24*10)*$B39),IF(H$23="%w/w DM",(((H$24*10)*($B$24/100))*$B39),IF(H$23="kg/t SAR",(H$24*$B39),IF(H$23="kg/t DM",((H$24*($B$24/100))*$B39),IF(H$23="mg/kg SAR",((H$24*0.001)*$B39),IF(H$23="mg/kg DM",(((H$24*0.001)*($B$24/100))*$B39),0)))))) -> 0.06888 | I39: =IF(I$23="%w/w SAR",((I$24*10)*$B39),IF(I$23="%w/w DM",(((I$24*10)*($B$24/100))*$B39),IF(I$23="kg/t SAR",(I$24*$B39),IF(I$23="kg/t DM",((I$24*($B$24/100))*$B39),IF(I$23="mg/kg SAR",((I$24*0.001)*$B39),IF(I$23="mg/kg DM",(((I$24*0.001)*($B$24/100))*$B39),0)))))) -> 0.021 | J39: =IF(J$23="%w/w SAR",((J$24*10)*$B39),IF(J$23="%w/w DM",(((J$24*10)*($B$24/100))*$B39),IF(J$23="kg/t SAR",(J$24*$B39),IF(J$23="kg/t DM",((J$24*($B$24/100))*$B39),IF(J$23="mg/kg SAR",((J$24*0.001)*$B39),IF(J$23="mg/kg DM",(((J$24*0.001)*($B$24/100))*$B39),0)))))) -> 0.00042 | K39: =IF(K$23="%w/w SAR",((K$24*10)*$B39),IF(K$23="%w/w DM",(((K$24*10)*($B$24/100))*$B39),IF(K$23="kg/t SAR",(K$24*$B39),IF(K$23="kg/t DM",((K$24*($B$24/100))*$B39),IF(K$23="mg/kg SAR",((K$24*0.001)*$B39),IF(K$23="mg/kg DM",(((K$24*0.001)*($B$24/100))*$B39),0)))))) -> 0.0021 | L39: =IF(L$23="%w/w SAR",((L$24*10)*$B39),IF(L$23="%w/w DM",(((L$24*10)*($B$24/100))*$B39),IF(L$23="kg/t SAR",(L$24*$B39),IF(L$23="kg/t DM",((L$24*($B$24/100))*$B39),IF(L$23="mg/kg SAR",((L$24*0.001)*$B39),IF(L$23="mg/kg DM",(((L$24*0.001)*($B$24/100))*$B39),0)))))) -> 0.0084 | M39: =IF(M$23="%w/w SAR",((M$24*10)*$B39),IF(M$23="%w/w DM",(((M$24*10)*($B$24/100))*$B39),IF(M$23="kg/t SAR",(M$24*$B39),IF(M$23="kg/t DM",((M$24*($B$24/100))*$B39),IF(M$23="mg/kg SAR",((M$24*0.001)*$B39),IF(M$23="mg/kg DM",(((M$24*0.001)*($B$24/100))*$B39),0)))))) -> 0.01512 | N39: =IF(N$23="%w/w SAR",((N$24*10)*$B39),IF(N$23="%w/w DM",(((N$24*10)*($B$24/100))*$B39),IF(N$23="kg/t SAR",(N$24*$B39),IF(N$23="kg/t DM",((N$24*($B$24/100))*$B39),IF(N$23="mg/kg SAR",((N$24*0.001)*$B39),IF(N$23="mg/kg DM",(((N$24*0.001)*($B$24/100))*$B39),0)))))) -> 0 | ... P39: =IF(P$23="%w/w SAR",((P$24*10)*$B39),IF(P$23="%w/w DM",(((P$24*10)*($B$24/100))*$B39),IF(P$23="kg/t SAR",(P$24*$B39),IF(P$23="kg/t DM",((P$24*($B$24/100))*$B39),IF(P$23="mg/kg SAR",((P$24*0.001)*$B39),IF(P$23="mg/kg DM",(((P$24*0.001)*($B$24/100))*$B39),0)))))) -> 32.928 | Q39: =(IF(Q$23="%w/w SAR",((Q$24*10)*$B39),IF(Q$23="%w/w DM",(((Q$24*10)*($B$24/100))*$B39),IF(Q$23="kg/t SAR",(Q$24*$B39),IF(Q$23="kg/t DM",((Q$24*($B$24/100))*$B39),IF(Q$23="mg/kg SAR",((Q$24*0.001)*$B39),IF(Q$23="mg/kg DM",(((Q$24*0.001)*($B$24/100))*$B39),0)))))))*2.5 -> 16.485 | R39: =IF(R$23="%w/w SAR",((R$24*10)*$B39),IF(R$23="%w/w DM",(((R$24*10)*($B$24/100))*$B39),IF(R$23="kg/t SAR",(R$24*$B39),IF(R$23="kg/t DM",((R$24*($B$24/100))*$B39),IF(R$23="mg/kg SAR",((R$24*0.001)*$B39),IF(R$23="mg/kg DM",(((R$24*0.001)*($B$24/100))*$B39),0)))))) -> 0 | S39: =IF(S$23="%w/w SAR",((S$24*10)*$B39),IF(S$23="%w/w DM",(((S$24*10)*($B$24/100))*$B39),IF(S$23="kg/t SAR",(S$24*$B39),IF(S$23="kg/t DM",((S$24*($B$24/100))*$B39),IF(S$23="mg/kg SAR",((S$24*0.001)*$B39),IF(S$23="mg/kg DM",(((S$24*0.001)*($B$24/100))*$B39),0)))))) -> 0 | T39: =IF(T$23="%w/w SAR",((T$24*10)*$B39),IF(T$23="%w/w DM",(((T$24*10)*($B$24/100))*$B39),IF(T$23="kg/t SAR",(T$24*$B39),IF(T$23="kg/t DM",((T$24*($B$24/100))*$B39),IF(T$23="mg/kg SAR",((T$24*0.001)*$B39),IF(T$23="mg/kg DM",(((T$24*0.001)*($B$24/100))*$B39),0)))))) -> 0 | U39: =IF(U$23="%w/w SAR",((U$24*10)*$B39),IF(U$23="%w/w DM",(((U$24*10)*($B$24/100))*$B39),IF(U$23="kg/t SAR",(U$24*$B39),IF(U$23="kg/t DM",((U$24*($B$24/100))*$B39),IF(U$23="mg/kg SAR",((U$24*0.001)*$B39),IF(U$23="mg/kg DM",(((U$24*0.001)*($B$24/100))*$B39),0)))))) -> 0 | V39: =IF($V$24="",0,IF($V$24>5000,"NOT OK","OK")) -> 0 | W39: =IF($W$24="",0,IF($W$24>4,"Not OK","OK")) -> OK
A40: =P8 -> PEN 3 | B40: 103 | C40: =IF(C$23="%w/w SAR",((C$24*10)*$B40),IF(C$23="%w/w DM",(((C$24*10)*($B$24/100))*$B40),IF(C$23="kg/t SAR",(C$24*$B40),IF(C$23="kg/t DM",((C$24*($B$24/100))*$B40),IF(C$23="mg/kg SAR",((C$24*0.001)*$B40),IF(C$23="mg/kg DM",(((C$24*0.001)*($B$24/100))*$B40),0)))))) -> 216.3 | D40: =(IF(D$23="%w/w SAR",((D$24*10)*$B40),IF(D$23="%w/w DM",(((D$24*10)*($B$24/100))*$B40),IF(D$23="kg/t SAR",(D$24*$B40),IF(D$23="kg/t DM",((D$24*($B$24/100))*$B40),IF(D$23="mg/kg SAR",((D$24*0.001)*$B40),IF(D$23="mg/kg DM",(((D$24*0.001)*($B$24/100))*$B40),"0")))))))*2.291 -> 157.86594 | E40: =(IF(E$23="%w/w SAR",((E$24*10)*$B40),IF(E$23="%w/w DM",(((E$24*10)*($B$24/100))*$B40),IF(E$23="kg/t SAR",(E$24*$B40),IF(E$23="kg/t DM",((E$24*($B$24/100))*$B40),IF(E$23="mg/kg SAR",((E$24*0.001)*$B40),IF(E$23="mg/kg DM",(((E$24*0.001)*($B$24/100))*$B40),"0")))))))*1.205 -> 34.628085 | F40: =(IF(F$23="%w/w SAR",((F$24*10)*$B40),IF(F$23="%w/w DM",(((F$24*10)*($B$24/100))*$B40),IF(F$23="kg/t SAR",(F$24*$B40),IF(F$23="kg/t DM",((F$24*($B$24/100))*$B40),IF(F$23="mg/kg SAR",((F$24*0.001)*$B40),IF(F$23="mg/kg DM",(((F$24*0.001)*($B$24/100))*$B40),"0")))))))*1.658 -> 9.9390468 | G40: =IF(G$23="%w/w SAR",((G$24*10)*$B40),IF(G$23="%w/w DM",(((G$24*10)*($B$24/100))*$B40),IF(G$23="kg/t SAR",(G$24*$B40),IF(G$23="kg/t DM",((G$24*($B$24/100))*$B40),IF(G$23="mg/kg SAR",((G$24*0.001)*$B40),IF(G$23="mg/kg DM",(((G$24*0.001)*($B$24/100))*$B40),0)))))) -> 0.03605 | H40: =IF(H$23="%w/w SAR",((H$24*10)*$B40),IF(H$23="%w/w DM",(((H$24*10)*($B$24/100))*$B40),IF(H$23="kg/t SAR",(H$24*$B40),IF(H$23="kg/t DM",((H$24*($B$24/100))*$B40),IF(H$23="mg/kg SAR",((H$24*0.001)*$B40),IF(H$23="mg/kg DM",(((H$24*0.001)*($B$24/100))*$B40),0)))))) -> 0.16892 | I40: =IF(I$23="%w/w SAR",((I$24*10)*$B40),IF(I$23="%w/w DM",(((I$24*10)*($B$24/100))*$B40),IF(I$23="kg/t SAR",(I$24*$B40),IF(I$23="kg/t DM",((I$24*($B$24/100))*$B40),IF(I$23="mg/kg SAR",((I$24*0.001)*$B40),IF(I$23="mg/kg DM",(((I$24*0.001)*($B$24/100))*$B40),0)))))) -> 0.0515 | J40: =IF(J$23="%w/w SAR",((J$24*10)*$B40),IF(J$23="%w/w DM",(((J$24*10)*($B$24/100))*$B40),IF(J$23="kg/t SAR",(J$24*$B40),IF(J$23="kg/t DM",((J$24*($B$24/100))*$B40),IF(J$23="mg/kg SAR",((J$24*0.001)*$B40),IF(J$23="mg/kg DM",(((J$24*0.001)*($B$24/100))*$B40),0)))))) -> 0.00103 | K40: =IF(K$23="%w/w SAR",((K$24*10)*$B40),IF(K$23="%w/w DM",(((K$24*10)*($B$24/100))*$B40),IF(K$23="kg/t SAR",(K$24*$B40),IF(K$23="kg/t DM",((K$24*($B$24/100))*$B40),IF(K$23="mg/kg SAR",((K$24*0.001)*$B40),IF(K$23="mg/kg DM",(((K$24*0.001)*($B$24/100))*$B40),0)))))) -> 0.00515 | L40: =IF(L$23="%w/w SAR",((L$24*10)*$B40),IF(L$23="%w/w DM",(((L$24*10)*($B$24/100))*$B40),IF(L$23="kg/t SAR",(L$24*$B40),IF(L$23="kg/t DM",((L$24*($B$24/100))*$B40),IF(L$23="mg/kg SAR",((L$24*0.001)*$B40),IF(L$23="mg/kg DM",(((L$24*0.001)*($B$24/100))*$B40),0)))))) -> 0.0206 | M40: =IF(M$23="%w/w SAR",((M$24*10)*$B40),IF(M$23="%w/w DM",(((M$24*10)*($B$24/100))*$B40),IF(M$23="kg/t SAR",(M$24*$B40),IF(M$23="kg/t DM",((M$24*($B$24/100))*$B40),IF(M$23="mg/kg SAR",((M$24*0.001)*$B40),IF(M$23="mg/kg DM",(((M$24*0.001)*($B$24/100))*$B40),0)))))) -> 0.03708 | N40: =IF(N$23="%w/w SAR",((N$24*10)*$B40),IF(N$23="%w/w DM",(((N$24*10)*($B$24/100))*$B40),IF(N$23="kg/t SAR",(N$24*$B40),IF(N$23="kg/t DM",((N$24*($B$24/100))*$B40),IF(N$23="mg/kg SAR",((N$24*0.001)*$B40),IF(N$23="mg/kg DM",(((N$24*0.001)*($B$24/100))*$B40),0)))))) -> 0 | ... P40: =IF(P$23="%w/w SAR",((P$24*10)*$B40),IF(P$23="%w/w DM",(((P$24*10)*($B$24/100))*$B40),IF(P$23="kg/t SAR",(P$24*$B40),IF(P$23="kg/t DM",((P$24*($B$24/100))*$B40),IF(P$23="mg/kg SAR",((P$24*0.001)*$B40),IF(P$23="mg/kg DM",(((P$24*0.001)*($B$24/100))*$B40),0)))))) -> 80.752 | Q40: =(IF(Q$23="%w/w SAR",((Q$24*10)*$B40),IF(Q$23="%w/w DM",(((Q$24*10)*($B$24/100))*$B40),IF(Q$23="kg/t SAR",(Q$24*$B40),IF(Q$23="kg/t DM",((Q$24*($B$24/100))*$B40),IF(Q$23="mg/kg SAR",((Q$24*0.001)*$B40),IF(Q$23="mg/kg DM",(((Q$24*0.001)*($B$24/100))*$B40),0)))))))*2.5 -> 40.4275 | R40: =IF(R$23="%w/w SAR",((R$24*10)*$B40),IF(R$23="%w/w DM",(((R$24*10)*($B$24/100))*$B40),IF(R$23="kg/t SAR",(R$24*$B40),IF(R$23="kg/t DM",((R$24*($B$24/100))*$B40),IF(R$23="mg/kg SAR",((R$24*0.001)*$B40),IF(R$23="mg/kg DM",(((R$24*0.001)*($B$24/100))*$B40),0)))))) -> 0 | S40: =IF(S$23="%w/w SAR",((S$24*10)*$B40),IF(S$23="%w/w DM",(((S$24*10)*($B$24/100))*$B40),IF(S$23="kg/t SAR",(S$24*$B40),IF(S$23="kg/t DM",((S$24*($B$24/100))*$B40),IF(S$23="mg/kg SAR",((S$24*0.001)*$B40),IF(S$23="mg/kg DM",(((S$24*0.001)*($B$24/100))*$B40),0)))))) -> 0 | T40: =IF(T$23="%w/w SAR",((T$24*10)*$B40),IF(T$23="%w/w DM",(((T$24*10)*($B$24/100))*$B40),IF(T$23="kg/t SAR",(T$24*$B40),IF(T$23="kg/t DM",((T$24*($B$24/100))*$B40),IF(T$23="mg/kg SAR",((T$24*0.001)*$B40),IF(T$23="mg/kg DM",(((T$24*0.001)*($B$24/100))*$B40),0)))))) -> 0 | U40: =IF(U$23="%w/w SAR",((U$24*10)*$B40),IF(U$23="%w/w DM",(((U$24*10)*($B$24/100))*$B40),IF(U$23="kg/t SAR",(U$24*$B40),IF(U$23="kg/t DM",((U$24*($B$24/100))*$B40),IF(U$23="mg/kg SAR",((U$24*0.001)*$B40),IF(U$23="mg/kg DM",(((U$24*0.001)*($B$24/100))*$B40),0)))))) -> 0 | V40: =IF($V$24="",0,IF($V$24>5000,"NOT OK","OK")) -> 0 | W40: =IF($W$24="",0,IF($W$24>4,"Not OK","OK")) -> OK
