Workbook
Name _10M00: #REF!
Name _11M00: #REF!
Name _12M00: '[1]12m01'!$A$1:$U$108
Name _1M01: #REF!
Name _2M01: #REF!
Name _3M01: #REF!
Name _4M01: #REF!
Name _5M01: #REF!
Name _6M01: #REF!
Name _7M01: #REF!
Name _8M01: #REF!
Name _9M01: #REF!
Name Dow_silicones_uk_Ltd: Lists!$F$25
Name E.ON_Connahs_quay: Lists!$G$25:$G$28
Name hirwaun_ocgt: Lists!$H$25
Name LCPName: '[2]List of Plants'!$G$2:$G$5
Name Operators: '[2]List of Plants'!$A$231:$A$303
Name PlantDetails: '[3]Plant Details'!$A$4:$F$100
Name rwe_NPower: Lists!$I$25:$I$29
Name severn_power: Lists!$J$25:$J$26
Name Sites: [3]Lists!$G$9:$G$19
Name TheOperator: '[4]IED AR1'!$B$7
Name TheSite: '[4]IED AR1'!$B$11
Name Valero_Energy_Limited: Lists!$K$25:$K$30
Name Years: [3]Lists!$A$5:$A$17

Sheet Instructions
A2: The spreadsheet must be saved in the format IED AR1—DEFRA IED LCP Number - Inventory Year i.e. IED AR1-XXX-2019 - see Note C in the LCPD AR1 Data Input tab
A4: This spreadsheet has a number of tabs and data only needs to be entered into the LCP AR1 and IED HR1 tab.
A6: The LCPD AR1 Data Input tab needs to be completed first as the generic part of the HR1 form is autopopulated from the information entered in the top part of the AR1 form
A8: There is a colour code to the data entry cells -
A10: Yellow | C10: picklist
A12: Orange | C12: Interdependent picklist
A14: Pink | C14: Auto populated information based on other cells
A16: Blue | C16: Data input needed
A18: Brown | C18: Data can not be entered in these cells

Sheet LCPD AR1 Data Input tab
B1: IED AR1 - Chapter 3 Emissions Inventory Reporting Form
B2: Version: 2 19 Aug 2025
B3: IED Reporting - Energy Usage, Emissions and operating hours for the year: | D3: 2025
B5: =IF(C9>1,"This form must be saved with the filename:","") -> This form must be saved with the filename: | D5: =IF(C9>1,C34,"") -> IED AR1-385-2025
B7: Operator: | C7: RWE Generation UK plc
B9: LCP number: | C9: 385
B11: Site Location:
B13: Permit/Variation number: | C13: =_xlfn.IFNA(VLOOKUP($C$9,Lists!$I$2:$N$20,6,FALSE),"") -> DP3333TA
B15: LCP Net Rated Thermal Input Capacity (MW): | C15: =_xlfn.IFNA(VLOOKUP($C$9,Lists!$I$2:$N$20,2,FALSE),"") -> 756
D18: By Fuel
B19: Parameter | C19: TOTAL | D19: Coal | E19: Lignite | F19: Peat | G19: Biomass | H19: Other solid fuels | I19: Liquid fuels | J19: Natural gas | K19: Other gases
B20: Annual energy input (TJ) | C20: =SUM(D20:K20) -> 12600 | D20: 0 | E20: 0 | F20: 0 | G20: 0 | H20: 0 | J20: =ROUND(12599.9767376123,1) -> 12600 | K20: =SUM(C52:C59) -> 0
B21: Total Annual SO2 emission (tonnes excl. SU/SD) | C21: =ROUND(0.892,2) -> 0.89
B22: Total Annual NOx emission (tonnes excl. SU/SD) | C22: 106.15
B23: Total Annual Particulate emission (tonnes excl. SU/SD) | C23: 0
B27: Signed on behalf of the Operator | C27: Dan McDermott | G27: Date | H27: 46037
B30: NOTES:
B31: (a) Annual energy input must be reported in TJ to 1 decimal place and includes start-up and shutdown.
B32: (b) Annual emissions to air must be reported to 2 decimal places and exclude start-up and shut-down.
B33: (c) All forms must be saved in the format IED AR1—DEFRA IED LCP Number - Inventory Year i.e. IED AR1-XXX-2019.
B34: The spreadsheet name should therefore be - | C34: =CONCATENATE("IED AR1-",C9,"-",D3) -> IED AR1-385-2025
B35: (d) No PDF documents shall be accepted.
B36: (e) Upload Forms held on GOV.UK will be accepted other variants of the forms will be automatically rejected which may impact their statutory obligations to report on time.
B38: Breakdown of other solid fuels (if applicable)
B39: Fuel Name | C39: Annual Energy Input (TJ)
B40: Coke
B41: Patent fuels
B42: Tar
B43: Other
B44: Other
B45: Other
B46: Other
B47: TOTAL | C47: 0
B50: Breakdown of other gaseous fuels (if applicable)
B51: Fuel Name | C51: Annual Energy Input (TJ)
B52: Blast furnace gas
B53: Coke oven gas
B54: Furnace gas
B55: LPG
B56: Oxygen steel
...

Sheet Sheet1

Sheet LCPD output tab
A1: LCP number | B1: Site operator | C1: Permit number | D1: Rated capacity | E1: Annual operating hours | F1: Total Annual SO2 emission (tonnes excl. SU/SD) | G1: Total Annual NOx emission (tonnes excl. SU/SD) | H1: Total Annual Particulate emission (tonnes excl. SU/SD) | I1: Liquid fuels | J1: Natural gas | K1: Other gases | L1: =+'LCPD AR1 Data Input tab'!B57 -> Refinery gas | M1: Total energy input | N1: =+'LCPD AR1 Data Input tab'!B20 -> Annual energy input (TJ)
A2: =+'LCPD AR1 Data Input tab'!C9 -> 385 | B2: =+'LCPD AR1 Data Input tab'!C7 -> RWE Generation UK plc | C2: =+'LCPD AR1 Data Input tab'!C13 -> DP3333TA | D2: =+'LCPD AR1 Data Input tab'!C15 -> 756 | E2: =+'LCPD AR1 Data Input tab'!#REF! -> #REF! | F2: =+'LCPD AR1 Data Input tab'!C21 -> 0.89 | G2: =+'LCPD AR1 Data Input tab'!C22 -> 106.15 | H2: =+'LCPD AR1 Data Input tab'!C23 -> 0 | I2: =+'LCPD AR1 Data Input tab'!I20 -> 0 | J2: =+'LCPD AR1 Data Input tab'!J20 -> 12600 | K2: =+'LCPD AR1 Data Input tab'!K20 -> 0 | L2: =+'LCPD AR1 Data Input tab'!C57 -> 0 | M2: =SUM(I2:K2) -> 12600 | N2: =+'LCPD AR1 Data Input tab'!C20 -> 12600

Sheet IED HR1 tab
B1: RELEASES TO AIR
B2: ANNUAL RETURN | C2: =+'LCPD AR1 Data Input tab'!D3 -> 2025
B3: OPERATING HOURS
B4: Operator: | C4: =+'LCPD AR1 Data Input tab'!C7 -> RWE Generation UK plc
B5: Location: | C5: =+'LCPD AR1 Data Input tab'!C11 -> 0
B6: Permit/Variation Number: | C6: =+'LCPD AR1 Data Input tab'!C13 -> DP3333TA
B9: Year: | C9: =CONCATENATE("LCP ",'LCPD AR1 Data Input tab'!C9," (Hours)") -> LCP 385 (Hours) | D9: Bypass (hours)
B11: Annual Operating Hours (a), (b) | C11: 5196.1344 | E11: =IF(C2=2028,IF(C11>8784,"higher than the number of hours in a Leap year",""),IF(C11>8760,"higher than the number of hours in a normal year",""))
B12: Cumulative Operating Hours (c),(d)
B13: Annual Operating Hours 1,500 Unit (e) Enter start date below hours in brackets e.g., (1/7/20) or (1/8/21)
B14: Five year rolling average (f)
B15: Black start hours (h)
B17: NOTES:
B18: (a) Annual operating hours for every LCP from 1-Jan in calendar year, excluding Start-Up and Shut-down (SU-SD). (For gas turbines with a Bypass stack, include the Bypass stack operating hours, excluding SU-SD, even though these are reported separately).
B19: (b) For gas turbines with a Bypass stack, report Bypass operating hours from 1-Jan in calendar year, excluding SU-SD, in the adjacent column (labelled Bypass) which may be deleted if not applicable.
B20: (c) Cumulative operating hours from 1-Jan-2016 for LCP subject to a Limited Lifetime Derogation or a 10,000h monitoring derogation, excluding SU-SD. (For gas turbines with a Bypass stack, include the Bypass stack operating hours, excluding SU-SD, even though these are reported separately).
B21: (d) For gas turbines with a Bypass stack, report Bypass Cumulative operating hours from 1-Jan-2016 if subject to a separate 10,000h monitoring derogation, in the adjacent column (labelled Bypass), excluding SU-SD.
B22: (e) Annual operating hours in the given calendar year from the entry month into the 1,500 h/yr provision (in the first year as applicable) or from 1-Jan in subsequent calendar years, for either the whole LCP or the part of the LCP with emission limits that are applicable for <1500 h/yr operation, excluding SU-SD. For example, a plant that enters a 1,500 h/yr derogation when entering the LCP BREF compliance period would commence reporting the calendar year total hours counting from 1/8/2021.
B23: (f) Five year rolling average hours from entry month for either the whole LCP or the part of the LCP with emission limits applicable for <1500 h/yr operation, excluding SU-SD. For example, a plant that enters a 1,500 h/yr derogation when entering the LCP BREF compliance period would commence reporting the rolling average hours from 1/8/2021.
B24: (g) General note: hours of normal operation, excluding SU-SD, are reported as a decimal number to two decimal places.
B25: (h) Hours of excluded emissions data associated with Black Start running (total excluded hours from all in-year submissions of Form IED/LCPBREF BS1 or a manual estimate if only Form MF1 is used to report Total OTNOC).
B27: Signed on behalf of the Operator by: | C27: Dan McDermott
B29: Date of return: | C29: 45672

Sheet Output sheet
A1: Year | B1: LCP number | C1: Operator | D1: LCP capacity | E1: SO2 annual T | F1: Nox annual T | G1: Particulates T | H1: Liquid fuels GJ | I1: Natural gas GJ | J1: Other gases GJ | K1: RFG GJ | L1: Biogas GJ | M1: LPG GJ | N1: Other GJ | O1: Name | P1: Date | Q1: File name | R1: Annual Operating Hours (a), (b) | S1: Cumulative Operating Hours (c),(d) | T1: Annual Operating Hours 1,500 Unit (e) | U1: Five year rolling average (f) | V1: Black start hours (h) | W1: =CONCATENATE("Bypass ",R1) -> Bypass Annual Operating Hours (a), (b) | X1: =CONCATENATE("Bypass ",S1) -> Bypass Cumulative Operating Hours (c),(d) | Y1: =CONCATENATE("Bypass ",T1) -> Bypass Annual Operating Hours 1,500 Unit (e) | Z1: =CONCATENATE("Bypass ",U1) -> Bypass Five year rolling average (f) | AA1: =CONCATENATE("Bypass ",V1) -> Bypass Black start hours (h)
A2: =+'LCPD AR1 Data Input tab'!D3 -> 2025 | B2: =+'LCPD AR1 Data Input tab'!C9 -> 385 | C2: =+'LCPD AR1 Data Input tab'!C7 -> RWE Generation UK plc | D2: =+'LCPD AR1 Data Input tab'!C15 -> 756 | E2: =+'LCPD AR1 Data Input tab'!C21 -> 0.89 | F2: =+'LCPD AR1 Data Input tab'!C22 -> 106.15 | G2: =+'LCPD AR1 Data Input tab'!C23 -> 0 | H2: =+'LCPD AR1 Data Input tab'!I20 -> 0 | I2: =+'LCPD AR1 Data Input tab'!J20 -> 12600 | J2: =+'LCPD AR1 Data Input tab'!K20 -> 0 | K2: =+'LCPD AR1 Data Input tab'!C57 -> 0 | L2: =+'LCPD AR1 Data Input tab'!C58 -> 0 | M2: =+'LCPD AR1 Data Input tab'!C55 -> 0 | N2: =+'LCPD AR1 Data Input tab'!C59 -> 0 | O2: =+'LCPD AR1 Data Input tab'!C27 -> Dan McDermott | P2: =+'LCPD AR1 Data Input tab'!H27 -> 46037 | Q2: =+'LCPD AR1 Data Input tab'!C34 -> IED AR1-385-2025 | R2: =+'IED HR1 tab'!C11 -> 5196.1344 | S2: =+'IED HR1 tab'!C12 -> 0 | T2: =+'IED HR1 tab'!C13 -> 0 | U2: =+'IED HR1 tab'!C14 -> 0 | V2: =+'IED HR1 tab'!C15 -> 0 | W2: =+'IED HR1 tab'!D11 -> 0 | X2: =+'IED HR1 tab'!D12 -> 0 | Y2: =+'IED HR1 tab'!D13 -> 0 | Z2: =+'IED HR1 tab'!D14 -> 0 | AA2: =+'IED HR1 tab'!D15 -> 0

Sheet Lists
D1: Operator | G1: Site | I1: LCP number | J1: Previous MWth input rating | K1: Current MWth Input | L1: Start of operation date | R1: Plant Name
B2: Year | D2: Site location | G2: Dow Silicones UK Ltd Barry Cogeneration Plant | I2: 60 | J2: 239 | L2: 1998 | M2: Barry Cogeneration Plant | N2: =RIGHT(O2,8) -> JP3632ZH | O2: Wales_JP3632ZH | R2: Baglan Operations, Baglan CCGT
B3: 2025 | G3: E.ON Connah's Quay CCGT (A1) | I3: 96 | J3: 651.22 | L3: 1996 | M3: CCGT (A1) | N3: =RIGHT(O3,8) -> AP3136UA | O3: Wales_AP3136UA | R3: Centrica Barry Power Station
B4: 2026 | G4: E.ON Connah's Quay CCGT (A2) | I4: 97 | J4: 651.22 | L4: 1996 | M4: CCGT (A2) | N4: =RIGHT(O4,8) -> AP3136UA | O4: Wales_AP3136UA | R4: Dow Silicones UK Ltd Barry Cogeneration Plant
B5: 2027 | G5: E.ON Connah's Quay CCGT (A3) | I5: 98 | J5: 651.22 | L5: 1996 | M5: CCGT (A3) | N5: =RIGHT(O5,8) -> AP3136UA | O5: Wales_AP3136UA | R5: Corus Llanwern 3 package boilers
B6: 2028 | D6: Year | G6: E.ON Connah's Quay CCGT (A4) | I6: 99 | J6: 651.22 | L6: 1996 | M6: CCGT (A4) | N6: =RIGHT(O6,8) -> AP3136UA | O6: Wales_AP3136UA | R6: Corus Port Talbot PT Works NP (ICL5)
D7: 2025 | G7: Hirwaun OCGT | I7: 2854 | J7: 760 | L7: n/a | M7: Hirwaun OCGT | N7: =RIGHT(O7,8) -> BB3297CG | O7: Wales_BB3297CG | R7: Deeside Power, Flintshire CCGT (GT 1)
D8: 2026 | G8: RWE npower, Pembroke Power Station Unit 11 | I8: 286 | J8: 756 | L8: 2011 | M8: Unit 11 | N8: =RIGHT(O8,8) -> DP3333TA | O8: Wales_DP3333TA | R8: Deeside Power, Flintshire CCGT (GT 2)
D9: 2027 | G9: RWE npower, Pembroke Power Station Unit 21 | I9: 382 | J9: 756 | L9: 2011 | M9: Unit 21 | N9: =RIGHT(O9,8) -> DP3333TA | O9: Wales_DP3333TA | R9: Dragon LNG, WaterstonExisting GTs
G10: RWE npower, Pembroke Power Station Unit 31 | I10: 383 | J10: 756 | L10: 2011 | M10: Unit 31 | N10: =RIGHT(O10,8) -> DP3333TA | O10: Wales_DP3333TA | R10: E.ON Connah's Quay CCGT (A1)
G11: RWE npower, Pembroke Power Station Unit 41 | I11: 384 | J11: 756 | L11: 2011 | M11: Unit 41 | N11: =RIGHT(O11,8) -> DP3333TA | O11: Wales_DP3333TA | R11: E.ON Connah's Quay CCGT (A2)
G12: RWE npower, Pembroke Power Station Unit 51 | I12: 385 | J12: 756 | L12: 2011 | M12: Unit 51 | N12: =RIGHT(O12,8) -> DP3333TA | O12: Wales_DP3333TA | R12: E.ON Connah's Quay CCGT (A3)
G13: Severn Power Station Unit 10 | I13: 324 | J13: 721 | L13: 2010 | M13: Unit 10 | N13: =RIGHT(O13,8) -> HP3737UE | O13: Wales_HP3737UE | R13: E.ON Connah's Quay CCGT (A4)
G14: Severn Power Station Unit 20 | I14: 325 | J14: 721 | L14: 2010 | M14: Unit 20 | N14: =RIGHT(O14,8) -> HP3737UE | O14: Wales_HP3737UE | R14: Ford Engine Plant, Bridgend Boilers
G15: Valero Energy Limited Pembroke Plant (A1/A2) | I15: 371 | J15: 295 | L15: pre 2002 | M15: Pembroke Plant (A1/A2) | N15: =RIGHT(O15,8) -> QP3033LW | O15: Wales_QP3033LW | R15: Gaz de France, Deeside, Flintshire GT (A1)
G16: Valero Energy Limited Pembroke Plant (A11/A12) | I16: 372 | J16: 167 | L16: pre 2002 | M16: Pembroke Plant (A11/A12) | N16: =RIGHT(O16,8) -> QP3033LW | O16: Wales_QP3033LW | R16: Gaz de France, Deeside, Flintshire GT (A2)
G17: Valero Energy Limited Pembroke Plant (A3/A4) | I17: 373 | J17: 262 | L17: pre 2002 | M17: Pembroke Plant (A3/A4) | N17: =RIGHT(O17,8) -> QP3033LW | O17: Wales_QP3033LW | R17: Murco Petroleum Limited Milford Haven Refinery 1 (Duct A)
G18: Valero Energy Limited Pembroke Plant (A6) | I18: 374 | J18: 82 | L18: pre 2002 | M18: Pembroke Plant (A6) | N18: =RIGHT(O18,8) -> QP3033LW | O18: Wales_QP3033LW | R18: Murco Petroleum Limited Milford Haven Refinery 2 (Duct B,C,D)
G19: Valero Energy Limited Pembroke Plant (A7/A8/A9/A10) | I19: 375 | J19: 287 | L19: pre 2002 | M19: Pembroke Plant (A7/A8/A9/A10) | N19: =RIGHT(O19,8) -> QP3033LW | O19: Wales_QP3033LW | R19: RWE Generation UK plc Aberthaw PS
G20: Valero Energy Pembroke Plant (Cogeneration Plant) | I20: 652 | J20: 137 | L20: 44531 | M20: Pembroke Plant (Cogeneration Plant) | N20: =RIGHT(O20,8) -> QP3033LW | O20: Wales_QP3033LW | R20: RWE npower, Pembroke Power Station Unit 11
R21: SIMEC Uskmouth Power
R22: Severn Power Station Unit 10
R23: Severn Power Station Unit 20
F24: Dow_Silicones_UK_Ltd | G24: E.ON_Connahs_Quay | H24: Hirwaun_OCGT | I24: RWE_npower | J24: Severn_Power | K24: Valero_Energy_Limited | R24: Tata Steel UK Limited Port Talbot 1 (Service Boilers)
F25: 60 | G25: 96 | H25: 2854 | I25: 286 | J25: 324 | K25: 371 | R25: Tata Steel UK Limited Port Talbot 2 (Mitchell Boiler)
G26: 97 | I26: 382 | J26: 325 | K26: 372 | R26: Tata Steel UK Limited Port Talbot 3 (A5 Boiler)
G27: 98 | I27: 383 | K27: 373 | R27: Tata Steel UK Limited Port Talbot 4 (6&7 Boiler)
G28: 99 | I28: 384 | K28: 374 | R28: UPM-Kymmene UK Limited Shotton Paper Mill
I29: 385 | K29: 375 | R29: Valero Energy Limited Pembroke Plant (A1/A2)
K30: 652 | R30: Valero Energy Limited Pembroke Plant (A11/A12)
R31: Valero Energy Limited Pembroke Plant (A3/A4)
R32: Valero Energy Limited Pembroke Plant (A6)
R33: Valero Energy Limited Pembroke Plant (A7/A8/A9/A10)
R34: RWE npower, Pembroke Power Station Unit 21
R35: RWE npower, Pembroke Power Station Unit 31
R36: RWE npower, Pembroke Power Station Unit 41
R37: RWE npower, Pembroke Power Station Unit 51
R38: Aberthaw Power Station OCGT
R39: South Hook CHP (A1)
R40: Tata Steel UK Limited Port Talbot Boiler 8 (A68)
...
