Workbook

Sheet Status log
A1: Version number | B1: Date | C1: Officer | D1: Changes
A2: 1 | B2: 44896 | C2: Waste team | D2: Launch
A3: 2 | B3: 44988
A4: 3 | B4: 45147 | C4: Louise Bailey | D4: Online forms
A5: 4 | B5: 45390 | C5: Louise Bailey | D5: Charging scheme
A6: 4.1 | B6: 45513
A7: 5 | B7: 45748 | C7: Louise Bailey | D7: Charging scheme
A8: 5.1 | B8: 45790 | C8: Kate Thomas | D8: Bioaerosol checklists added
A9: 5.2 | B9: 45868 | C9: Louise Bailey | D9: Updated landowner notification link Addition of status log
A10: 5.2 | B10: 45877 | C10: Louise Bailey | D10: Added note re TCM for 2024 SRPs
A11: 5.3 | B11: 45950 | C11: Louise Bailey | D11: Amended FPMP tab for new guidance
A12: 5.3 | B12: 45957 | C12: Kate Thomas | D12: Amended IED info on Docs & info

Sheet V5.3 Intro
A1: How to use
A2: 1. save a copy of this checklist into your WIP. Do not amend this document (including deleting tabs) without doing this first as deleting tabs cannot be undone.
A3: 2. select what tabs you need to keep/delete based on the application type you are determining. See below for types
A4: 3. on each non-supporting documents tab select the application type on the filtered section, and hide the options (if relevant)
A5: 4. read each question and applicable drafting notes (in pink) carefully, as some of the questions have changed. Remember to delete the drafting notes before saving the final version to the DMS
A6: 5. some questions give pre-recorded answers, you should pick the one answered in the form
A7: 6. the checklist will record the number of "no" answers on each tab and summarise them on the decisions and actions tab.
A8: 7. any "no" that is highlighted as red will trigger a returned application
A11: Type | B11: Drafting note | C11: Tabs
A12: New SRP | B12: Select this for all new waste standard rule applications- site based and mobile plant If the application is for SR2012 No15 then you should send a draft permit to the applicant and get them to review and confirm the PERMIT boundary. | C12: Details & Dates Doc's & info New SRP SRP location Fee Calculator Decision and actions required Relevant supporting doc tab(s)
A13: New Bespoke | B13: Select this for all new bespoke applications. (mining waste to be added to forms) | C13: Details & Dates Doc's & info New Besp Fee Calculator Decision and actions required Relevant supporting doc tab(s)
A14: Vary SRP | B14: Use this option for variation applications to add or to become a standard rule activity, for minor technical variations to increase the permit boundary, or for admin variations of SRPs. If the application is for SR2012 No15 then you should send a draft permit to the applicant and get them to review and confirm the PERMIT boundary | C14: Details & Dates Doc's & info Var SRP Fee Calculator Decision and actions required Relevant supporting doc tab(s)
A15: Vary Bespoke | B15: Use this for all types of variations for bespoke permits- admins, minor technical and normal | C15: Details & Dates Doc's & info Var Besp Fee Calculator Decision and actions required Relevant supporting doc tab(s)
A16: Transfer | B16: Select this for all transfer applications – both full and partial. | C16: Details & Dates Doc's & info Transfer Fee Calculator Decision and actions required Relevant supporting doc tab(s)
A17: Surrender | B17: Select this for all waste facility and non-installation mining waste activity surrender applications. The checklist can be used for all types of surrender application; normal, low risk, basic and ‘non-operational’. This checklist applies to both full and partial surrenders This checklist applies to both site and mobile plant permits. | C17: Details & Dates Doc's & info Surrender Fee Calculator Decision and actions required Relevant supporting doc tab(s)
A18: New Bespoke Extractive Waste | B18: Select this for all new Tier 2 and Tier 3 bespoke mining waste permit applications. For standard rule mining waste permit applications use the standard rule permit option. | C18: Details & Dates Doc's & info Part A Part F1 Part B1/C1 Part B2/C2 Part B5/C5 Decision and actions required Relevant supporting doc tab(s)
A19: New Bespoke Tier 2/SRP with location assessment | B19: Select this for all new Tier 2 bespoke applications, that are not mining waste. | C19: Details & Dates Doc's & info Part A Part F1 Part B2/C2 Part B4/C4 Decision and actions required Relevant supporting doc tab(s)

Sheet Details & Dates
A1: Application details
A2: PAN reference | B2: PAN-031728
A3: EPR reference | B3: EPR/AB3694ZG
A4: Applicant name | B4: SP Manweb Plc
A5: Facility name | B5: Rhyl Depot Cefndy Road Rhyl LL18 2TT
A6: Area | B6: Denbighshire
A7: Operations Team | B7: NE Waste Reg
A8: Site officer/team leader | B8: Boguslawa Pierzchala
A9: Total time recording | B9: 360
A11: Relevant dates | C11: New Bespoke Tier 2 | D11: New SRP | E11: New Bespoke | F11: Var SRP | G11: Var Bespoke | H11: Transfer | I11: Surrender
A12: Date application arrived in NRW | B12: 46063 | C12: Y | D12: Y | E12: Y | F12: Y | G12: Y | H12: Y | I12: Y
A13: Date application acknowledged | B13: 46063 | C13: Y | D13: Y | E13: Y | F13: Y | G13: Y | H13: Y | I13: Y
A14: Date not duly made (information request sent) | B14: n/a | C14: Y | D14: Y | E14: Y | F14: Y | G14: Y | H14: Y | I14: Y
A15: Date of any additional not duly made requests | B15: n/a | C15: Y | D15: Y | E15: Y | F15: Y | G15: Y | H15: Y | I15: Y
A16: Date duly made The duly made date is either (I) the date the application was originally received at Natural Resources Wales in the event of no additional information being requested during the duly make process. OR (ii) the date at which the final piece of additional information requested during the duly make process is received | B16: 46063 | C16: Y | D16: Y | E16: Y | F16: Y | G16: Y | H16: Y | I16: Y
A17: Date returned to applicant or deemed withdrawn | B17: n/a | C17: Y | D17: Y | E17: Y | F17: Y | G17: Y | H17: Y | I17: Y
A18: Date applicant sent duly made confirmation | B18: 46150 | C18: Y | D18: Y | E18: Y | F18: Y | G18: Y | H18: Y | I18: Y
A19: Date sent to external consultees (if applicable) | B19: n/a | C19: N | D19: N | E19: Y | F19: N | G19: Y | H19: N | I19: Y
A20: Date application publicised on Website | C20: N | D20: N | E20: Y | F20: N | G20: Y | H20: N | I20: N
A21: Date advert placed in newspaper (if applicable) | C21: N | D21: N | E21: Y | F21: N | G21: Y | H21: N | I21: N
A22: Date application publicised on Natural Resources Wales Website and on Social Media (Twitter and Facebook Page) | B22: Mining waste only | C22: N | D22: N | E22: Y | F22: N | G22: Y | H22: N | I22: N
A23: Date email sent to MP’s /AM’s (if required and agreed by the Area) | B23: Mining waste only | C23: N | D23: N | E23: Y | F23: N | G23: Y | H23: N | I23: N

Sheet Doc's & info
A1: Documents and information checklist: | D1: New Bespoke Tier 2 | E1: New SRP | F1: New Bespoke | G1: Var SRP | H1: Var Bespoke | I1: Var Admin | J1: Transfer | K1: Surrender
B2: Yes/No/NA | C2: Comments | D2: Y | E2: Y | F2: Y | G2: Y | H2: Y | I2: Y | J2: Y | K2: Y
A3: Environment Management System summary | C3: Full transfer: Only needed if the new holder isn’t/ can’t use the existing management system. Part Transfer: To reflect the split of activities/ those activities transferring to the proposed new holder. | D3: N | E3: N | F3: Y | G3: N | H3: Y | I3: N | J3: Y | K3: N | M3: Yes
A4: Non technical summary | B4: Yes | D4: N | E4: N | F4: Y | G4: N | H4: Y | I4: N | J4: Y | K4: Y | M4: No
A5: Site plan | B5: Yes | D5: Y | E5: Y | F5: Y | G5: Y | H5: Y | I5: N | J5: Y | K5: Y | M5: N/A
A6: Site specific risk assessment | C6: Part Transfer: To reflect the split of activities/ those activities transferring to the proposed new holder. | D6: Y | E6: N | F6: Y | G6: N | H6: Y | I6: N | J6: Y | K6: N
A7: Site condition report | D7: N | E7: N | F7: Y | G7: N | H7: Y | I7: N | J7: N | K7: N
A8: Odour management plan | C8: Part Transfer: Only needed if the new holder isn’t/ can’t use the existing management system. Note: OMP carries an assessment fee. | D8: N | E8: N | F8: Y | G8: N | H8: Y | I8: N | J8: Y | K8: N
A9: Waste Recovery Plan | C9: T3 New bespoke: only required for permanent deposit of waste for recovery purposes Note: WRP carries an assessment fee. | D9: N | E9: Y | F9: Y | G9: Y | H9: Y | I9: N | J9: Y | K9: N
A10: Fire prevention mitigation plan | C10: T3 New bespoke: only required if proposed waste is listed as one of the combustible materials in the current guidance – for duly making, ensure the plan has been produced in accordance with our current guidance – look at the headings in the guidance and check that the FPMP is based on this. Note: FPMP carries an assessment fee. | D10: N | E10: N | F10: Y | G10: N | H10: Y | I10: N | J10: Y | K10: N
A11: Noise impact assessment and management plan | C11: T3 New bespoke: required unless there is a low risk of impact, use the qualitative noise screening tool to help guide your decision – for duly making, ensure the NIA report covers the key elements required by clause 12 of BS4142, and that modelling files (we use Candara & Sound Plan, if they used different software they must provide .qi files), calculations and monitoring data has been provided) Note: NIA and NMP carry an assessment fee. | D11: N | E11: N | F11: Y | G11: N | H11: Y | I11: N | J11: Y | K11: N
A12: Waste Management Plan | C12: Mining Waste only Part Transfer: Only needed if the new holder isn’t/ can’t use the existing management system. | D12: N | E12: N | F12: Y | G12: N | H12: Y | I12: N | J12: Y | K12: N
A13: Dust Management Plan | C13: Note: DMP carries an assessment fee. | D13: N | E13: N | F13: Y | G13: N | H13: Y | I13: N | J13: N | K13: N
A14: Pest Management Plan | C14: Note: PMP carries an assessment fee. | D14: N | E14: N | F14: Y | G14: N | H14: Y | I14: N | J14: N | K14: N
A15: Water Framework Directive assessment of process effluent evidence/information | C15: Note: WFD assessment carries an assessment fee. | D15: N | E15: N | F15: Y | G15: N | H15: Y | I15: N | J15: N | K15: N
A16: Discharge to water evidence/information | C16: Note: discharge to water assessment carries an assessment fee. | D16: N | E16: N | F16: Y | G16: N | H16: Y | I16: N | J16: N | K16: N
A17: Bioaerosol risk assessment | C17: To be considered for all biowaste treatment facilities - go to "Bioaerosols tab" to screen and consider if Site Specific Bioaerosol Risk Assessment is required. Note: bioaerosol assessment carries an assessment fee. Refer to "Anaerobic digestion" tab for further information required for bespoke and normal variations for AD. | D17: N | E17: N | F17: Y | G17: N | H17: Y | I17: N | J17: N | K17: N
A18: Other management plans | C18: Part Transfer: Only needed if the new holder isn’t/ can’t use the existing management system. | D18: N | E18: N | F18: Y | G18: N | H18: Y | I18: N | J18: Y | K18: N
A19: Technical competence information Including continuing competence evidence, if needed | C19: Mining waste: only for has waste Mining Waste Facilities and CAT A | D19: Y | E19: Y | F19: Y | G19: Y | H19: Y | I19: N | J19: Y | K19: N
... A21: Financial Provision information | C21: Surrender- site: only if FP is in place for the activity Mining waste: only for MWO including a MWF- Hazardous Waste and CAT A Mining Waste Facilities | D21: N | E21: Y | F21: Y | G21: Y | H21: Y | I21: N | J21: Y | K21: N
A22: Relevant conviction information | D22: Y | E22: Y | F22: Y | G22: Y | H22: Y | I22: N | J22: Y | K22: N
A23: Confidentiality claim evidence | B23: N/A | D23: Y | E23: Y | F23: Y | G23: Y | H23: Y | I23: N | J23: Y | K23: Y
A24: Fee | B24: Yes | C24: Transaction ref: 2152451 Date: 12/02/2026 Ref: BS/120226/4/GBP FASTER PAYMENTSL- 58558583 -1002/DANIEL PERRY/WPCC16434 Amount: 4,724.00 | D24: Y | E24: Y | F24: Y | G24: Y | H24: Y | I24: Y | J24: Y | K24: Y
A25: IMPORTANT: Industrial Emissions Directive (IED) Activity Is the activity/is that the applicant has applied for subject to the Industrial Emissions Directive? These activities include: 1. Hazardous waste storage 2. Biological treatment (i.e. composting and anaerobic digestion) 3. Physico-chemical treatment (i.e. soil washing) 4. Pre-treatment for incineration or co-incineration 5. Treatment of slags and ashes 6. Treatment of metal waste in shredders 7. Incineration of waste gasses | C25: T3 New bespoke and variations (to add treatment activities or waste activities or increase annucal throughput) : IMPORTANT – Please refer to “IED” in the training folder for further information before you duly make the application. Refer to "Anaerobic digestion" tab for further information required for bespoke and normal variations for AD. | D25: N | E25: N | F25: Y | G25: N | H25: Y | I25: N | J25: N | K25: N
A26: If it is an IED activity, has the applicant provided information to demonstrate how they will comply with the relevant limits and therefore be able to remain as a waste facility? | C26: T3 New bespoke and variations: Do not duly make the application if you are unsure. If the applicant cannot comply with the limit, they will need to apply for an installation permit. | D26: N | E26: N | F26: Y | G26: N | H26: Y | I26: N | J26: N | K26: N
A27: Evidence to support basic surrender | B27: N/A | D27: N | E27: N | F27: N | G27: N | H27: N | I27: N | J27: N | K27: Y
A28: Evidence to support low risk surrender | B28: Yes | D28: N | E28: N | F28: N | G28: N | H28: N | I28: N | J28: N | K28: Y
A29: Evidence to support non-operational surrender | B29: N/A | D29: N | E29: N | F29: N | G29: N | H29: N | I29: N | J29: N | K29: Y
A30: Evidence to support full/normal surrender | B30: N/A | D30: N | E30: N | F30: N | G30: N | H30: N | I30: N | J30: N | K30: Y
A31: Site closure/ surrender report | B31: Yes | D31: N | E31: N | F31: N | G31: N | H31: N | I31: N | J31: N | K31: Y
A32: Report on ‘steps taken to avoid pollution/ return the site to satisfactory sate’. | B32: Yes | D32: N | E32: N | F32: N | G32: N | H32: N | I32: N | J32: N | K32: Y
A33: Site plan showing area being surrendered | B33: Yes | D33: N | E33: N | F33: N | G33: N | H33: N | I33: N | J33: N | K33: Y
A34: Appropriate forms submitted to the WR or WQ teams? | C34: Mining Waste only | D34: N | E34: N | F34: Y | G34: N | H34: Y | I34: N | J34: N | K34: N
A35: Has geoscience made any comment on the WQ/WR forms that may be considered in determination? | C35: Mining Waste only | D35: N | E35: N | F35: Y | G35: N | H35: Y | I35: N | J35: N | K35: N
A36: Percentage of required documents missing | B36: =(100*(COUNTIF(B3:B35,"No"))/((COUNTIF(B3:B35,"Yes"))+(COUNTIF(B3:B35,"No")))) -> 0 | C36: Where over 25% of responses are no, the application is regarded as incomplete | D36: Y | E36: Y | F36: Y | G36: Y | H36: Y | I36: Y | J36: Y | K36: Y

Sheet New SRP
A1: New SRP
A2: Qu | B2: Action | C2: Yes/No/NA | D2: Comments | E2: SR2009 No8 | F2: SR2017 No1 | G2: All other SRPs | I2: Yes
A3: Form | B3: Tell us what type of applicant you are has the type of applicant question answered? | D3: Delete: individual/organisation of individuals (e.g. partnership)/public body/company or corporate body | E3: Y | F3: Y | G3: Y | I3: No
A4: Form | B4: Tell us your details if you are applying as an individual If an individual, has the individual information provided? | D4: only if answered individual | E4: Y | F4: Y | G4: Y | I4: N/A
A5: Form | B5: Tell us your details if you're an organisation of individuals (partnerships) If an organisation of individuals has the organisations details been provided? | D5: only if answered organisation of individuals (e.g. partnership) | E5: Y | F5: Y | G5: Y
A6: Form | B6: Tell us about any partners If an organisation of individuals has partner 1-10 details been provided? | D6: only if answered organisation of individuals (e.g. partnership) | E6: Y | F6: Y | G6: Y
A7: Form | B7: Tell us about your application as a public body If a public body, has the public body name been given? | D7: only if answered public body | E7: Y | F7: Y | G7: Y
A8: Form | B8: has executive officer's details been given? | D8: only if answered public body | E8: Y | F8: Y | G8: Y
A9: Form | B9: Tell us about your application as a registered company or other corporate body has the registered with Companies House question answered? | D9: only if answered company or corporate body Delete: answered yes/no | E9: Y | F9: Y | G9: Y
A10: Form | B10: Give us evidence that you are a legal body that we can issue a permit to If answered No (i.e. they are not on UK companies house): has the legal body details been provided? | D10: only if answered company or corporate body | E10: Y | F10: Y | G10: Y
A11: Form | B11: has the evidence that you are a legal body been provided? | D11: only if answered company or corporate body | E11: Y | F11: Y | G11: Y
A12: Form | B12: Tell us about your application as a registered company or other corporate body If answered Yes: has the company details been given? | D12: only if answered company or corporate body | E12: Y | F12: Y | G12: Y
A13: Info | B13: Registered companies only; Is it registered and active on Companies House? | D13: only if answered company or corporate body Date checked: | E13: Y | F13: Y | G13: Y
A14: Info | B14: Is the applicant a legal person as per definition of ‘operator’? | D14: only if answered company or corporate body | E14: Y | F14: Y | G14: Y
A15: Form | B15: Tell us who we can talk to about your application has the application contact details been provided? | E15: Y | F15: Y | G15: Y
A16: Form | B16: Give us details of the person we can talk to about your operation has the operation contact details been provided? | E16: Y | F16: Y | G16: Y
A17: Form | B17: Tell us who we can talk to about billing has the billing contact details been provided? | E17: Y | F17: Y | G17: Y
A18: Form | B18: Tell us about the site's landowner has the landowner question been answered? | D18: Delete: answered yes/no | E18: Y | F18: Y | G18: Y
A19: Form | B19: Landowner's details Has the landowner's details been provided? | D19: If the landowner details have not been correctly provided, we can ask for them, but it is not a reason to not duly make an application. | E19: Y | F19: Y | G19: Y
A20: Info | B20: Has landowner letter been sent as per process? | D20: Letter template | E20: Y | F20: Y | G20: Y
A21: Form | B21: Tell us about any pre-application advice we've given you has a pre-application reference been provided? | D21: n/a if no pre-app has been detailed by the applicant | E21: Y | F21: Y | G21: Y
A22: Info | B22: Pre-application record found in DMS? | D22: Check DMS even if applicant has not provided info about pre-application- including CAR forms. n/a if none present, as above. | E22: Y | F22: Y | G22: Y
A23: Form | B23: Tell us what standard rules you are applying for have we been told what standard rules are being applied for? | E23: Y | F23: Y | G23: Y
A24: Form | B24: Tell us about your mining waste operation SR2009 No8 (mining waste) only (Q10-21) has the waste management plan question been answered? | D24: Delete: answered yes/no | E24: Y | F24: N | G24: N
A25: Form | B25: has the inspection question been answered? | D25: Delete: answered yes/no | E25: Y | F25: N | G25: N
A26: Form | B26: has the Category A facility justification question been answered? | D26: Delete: answered yes/no | E26: Y | F26: N | G26: N
A27: Form | B27: has the characterisation question been answered? | D27: Delete: answered yes/no | E27: Y | F27: N | G27: N
A28: Form | B28: has the inert confirmation question been answered? | D28: Delete: answered yes/no | E28: Y | F28: N | G28: N
A29: Form | B29: has the quantity question been answered? | D29: Delete: answered yes/no | E29: Y | F29: N | G29: N
A30: Form | B30: has the waste generation and treatment question been answered? | D30: Delete: answered yes/no | E30: Y | F30: N | G30: N
A31: Form | B31: has the adverse effect and preventive measures question been answered? | D31: Delete: answered yes/no | E31: Y | F31: N | G31: N
A32: Form | B32: has the closure question been answered? | D32: Delete: answered yes/no | E32: Y | F32: N | G32: N
A33: Form | B33: has the land condition survey question been answered? | D33: Delete: answered yes/no | E33: Y | F33: N | G33: N
A34: Form | B34: has the inert mining waste facility question been answered? | D34: Delete: answered yes/no | E34: Y | F34: N | G34: N
A35: Form | B35: has the number of inert mining waste facilities been given? | E35: Y | F35: N | G35: N
A36: Form | B36: has the sector category been given? | D36: Delete: answered construction/industrial/energy/other | E36: Y | F36: N | G36: N
A37: Form | B37: Tell us about your waste recovery plan SR2017 No1 (waste recovery plan) only (Q22-25) Has the question re having already assessed the plan been answered? | D37: Delete: answered yes-no changes/yes-changes/no | E37: N | F37: Y | G37: N
A38: Form | B38: Give us your waste recovery plan has the WRP been uploaded? | E38: N | F38: Y | G38: N
A39: Form | B39: Tell us about the changes you have made to your waste recovery plan If changes have been made; has a summary of the changes been given? | E39: N | F39: Y | G39: N
A40: Form | B40: Tell us about the site Has the site information been provided? | D40: not needed for mobile plant | E40: Y | F40: Y | G40: Y
...

Sheet Var SRP
A1: Variation of an SRP
A2: Qu | B2: Action | C2: Yes/No/NA | D2: Comments | E2: Admin Var- All SRPs | F2: Normal and MT Var- SR2009 No8 | G2: Normal & MT Var- SR2017 No1 | H2: Normal & MT Var- All other SRPs | J2: Yes
A3: Form | B3: Which permit do you want to change? Has the permit number been given? | E3: Y | F3: Y | G3: Y | H3: Y | J3: No
A4: Form | B4: Tell us about any pre-application advice we've given you has a pre-application reference been provided? | D4: n/a if no pre-app has been detailed by the applicant | E4: Y | F4: Y | G4: Y | H4: Y | J4: N/A
A5: Info | B5: Pre-application record found in DMS? | D5: Check DMS even if applicant has not provided info about pre-application- including CAR forms. n/a if none present, as above. | E5: Y | F5: Y | G5: Y | H5: Y
A6: Form | B6: Do your changes involve a name or address? Has the question been answered? | D6: Delete: answered yes/no If company name is changing, also check if the site name needs to change too | E6: Y | F6: Y | G6: Y | H6: Y
A7: Form | B7: Tell us what type of applicant you are has the type of applicant question answered? | D7: Delete: individual/organisation of individuals (e.g. partnership)/public body/company or corporate body | E7: N | F7: Y | G7: Y | H7: Y
A8: Form | B8: Tell us your up to date details as an individual with a permit If an individual, has the individual information provided? | E8: N | F8: Y | G8: Y | H8: Y
A9: Form | B9: Has explanation been given? | E9: N | F9: Y | G9: Y | H9: Y
A10: Form | B10: Changes to details of your organisation of individuals (e.g. partnerships) If a partnership, have details of what's changing been given? | E10: N | F10: Y | G10: Y | H10: Y
A11: Form | B11: Tell us about administrative changes to your public body If a public body, has the public body name been given? | E11: N | F11: Y | G11: Y | H11: Y
A12: Form | B12: Have details of what's changing been given? | E12: N | F12: Y | G12: Y | H12: Y
A13: Form | B13: Tell us about administrative changes to your company If a company, have details of what's changing been given? | E13: N | F13: Y | G13: Y | H13: Y
A14: Info | B14: Registered companies only; Is it registered and active on Companies House? | D14: Date checked: | E14: N | F14: Y | G14: Y | H14: Y
A15: Info | B15: Registered companies only; does the registered office address match the permit? | E15: N | F15: Y | G15: Y | H15: Y
A16: Form | B16: Do you want to make any other changes to your permit? Has the question been answered? | D16: Delete: answered yes/no | E16: Y | F16: Y | G16: Y | H16: Y
A17: Form | B17: Do you want to increase the area of your standard rules permit? Has the question been answered? | D17: Delete: answered yes/no | E17: N | F17: Y | G17: Y | H17: Y
A18: Form | B18: Upload a new site plan Has a site plan been uploaded? | E18: N | F18: Y | G18: Y | H18: Y
A19: Form | B19: Do you want to add standard rule activities to your permit? Has the question been answered? | D19: Delete: answered yes/no | E19: N | F19: Y | G19: Y | H19: Y
A20: Form | B20: Tell us what standard rules you are applying to add to your permit If yes, have the rule set(s) been given? | E20: N | F20: Y | G20: Y | H20: Y
A21: Form | B21: Tell us about your waste recovery plan SR2017 No1 (waste recovery plan) only Has the question re having already assessed the plan been answered? | D21: Delete: answered yes-no changes/yes-changes/no | E21: N | F21: N | G21: Y | H21: N
A22: Form | B22: Give us your waste recovery plan has the WRP been uploaded? | E22: N | F22: N | G22: Y | H22: N
A23: Form | B23: Tell us about the changes you have made to your waste recovery plan If changes have been made; has a summary of the changes been given? | E23: N | F23: N | G23: Y | H23: N
A24: Form | B24: Tell us about your mining waste operation SR2009 No8 (mining waste) only has the waste management plan question been answered? | D24: Delete: answered yes/no | E24: N | F24: Y | G24: N | H24: N
A25: Form | B25: has the inspection question been answered? | D25: Delete: answered yes/no | E25: N | F25: Y | G25: N | H25: N
A26: Form | B26: has the Category A facility justification question been answered? | D26: Delete: answered yes/no | E26: N | F26: Y | G26: N | H26: N
A27: Form | B27: has the characterisation question been answered? | D27: Delete: answered yes/no | E27: N | F27: Y | G27: N | H27: N
A28: Form | B28: has the inert confirmation question been answered? | D28: Delete: answered yes/no | E28: N | F28: Y | G28: N | H28: N
A29: Form | B29: has the quantity question been answered? | D29: Delete: answered yes/no | E29: N | F29: Y | G29: N | H29: N
A30: Form | B30: has the waste generation and treatment question been answered? | D30: Delete: answered yes/no | E30: N | F30: Y | G30: N | H30: N
A31: Form | B31: has the adverse effect and preventive measures question been answered? | D31: Delete: answered yes/no | E31: N | F31: Y | G31: N | H31: N
A32: Form | B32: has the closure question been answered? | D32: Delete: answered yes/no | E32: N | F32: Y | G32: N | H32: N
A33: Form | B33: has the land condition survey question been answered? | D33: Delete: answered yes/no | E33: N | F33: Y | G33: N | H33: N
A34: Form | B34: has the inert mining waste facility question been answered? | D34: Delete: answered yes/no | E34: N | F34: Y | G34: N | H34: N
A35: Form | B35: has the number of inert mining waste facilities been given? | E35: N | F35: Y | G35: N | H35: N
A36: Form | B36: has the sector category been given? | D36: Delete: answered construction/industrial/energy/other | E36: N | F36: Y | G36: N | H36: N
A37: Form | B37: Confirm that you are able to meet the standard rules criteria Have they confirmed they will meet the SRP? | E37: N | F37: Y | G37: Y | H37: Y
A38: Form | B38: Do you want to consolidate (combine) a number of permits as part of this proposed change? Has the question been answered? | D38: Delete: answered yes/no | E38: N | F38: Y | G38: Y | H38: Y
A39: Form | B39: Tell us which permits you want to consolidate Have the permit numbers been given? | E39: N | F39: Y | G39: Y | H39: Y
A40: Form | B40: Tell us who we can talk to about your application has the application contact details been provided? | E40: N | F40: Y | G40: Y | H40: Y
...

Sheet SRP location
A1: Location criteria checks- New SRP and Variation SRP only
B2: Answer: • Yes - if the criteria applies and the site is within the relevant distance, • No – if the criteria applies but the site is not within relevant distance, • N/A – if the criteria isn’t relevant to the rule set(s) you’re determining. | D2: Only check those designations relevant to the rule set(s) applied for. Check whether the permit area is within relevant distance to all relevant criteria. Use the MyMap report and carry out all required manual checks too, for things the report doesn’t pick up. If there are any other criteria relevant to the rule set you’re dealing with that aren’t included in the table below, add them in the blank columns.
A3: Qu # | B3: Action | C3: Yes/No/NA | D3: Comments/ Document Ref. if given | G3: Yes
A4: 1 | B4: Special Areas of Conservation (SAC) | G4: No
A5: 2 | B5: Special Protection Area (SPA) | G5: N/A
A6: 3 | B6: Ramsar
A7: 4 | B7: Site of Special Scientific Interest (SSSI)
A8: 5 | B8: Protected species
A9: 6 | B9: Protected Habitats
A10: 7 | B10: Marine Protected Area (MPA)
A11: 8 | B11: National Nature Reserve (NNR)
A12: 9 | B12: Local Nature Reserve (LNR)
A13: 10 | B13: Local Wildlife Site (LWS)
A14: 11 | B14: Ancient Woodland
A15: 12 | B15: World Heritage Site
A16: 13 | B16: National Park
A17: 14 | B17: Area of Outstanding Natural Beauty (Aon)
... A20: 17 | B20: Shellfish or bathing water
A21: 18 | B21: Biodiversity Action Plan (BAP) Species | D21: In Wales BAP is replaced with Section 7 of the Environment Wales Act - species and habs listed. This information can be found on the Geospatial Map Viewer. Lists of S7 species/habitats: https://www.biodiversitywales.org.uk/Section-7
A22: 19 | B22: Proximity to Newts/ breeding ground
A23: 20 | B23: Human occupation
A24: 21 | B24: Flood plain
A25: 22 | B25: Well used for drinking water
A26: 23 | B26: Spring used for drinking water
A27: 24 | B27: Borehole used for drinking water
A28: 25 | B28: Water course
A29: 26 | B29: Groundwater Source Protection Zone 1
A30: 27 | B30: Groundwater Source Protection Zone 2
A31: 28 | B31: Well used for domestic/ food production
A32: 29 | B32: Spring used for domestic/ food production
A33: 30 | B33: Borehole used for domestic/ food production
... A35: 32 | B35: Building

Sheet New Besp
A1: New Bespoke
A2: Qu | B2: Action | C2: Yes/No/NA | D2: Comments | F2: Yes
A3: Form | B3: Tell us what type of applicant you are has the type of applicant question answered? | D3: Delete: individual/organisation of individuals (e.g. partnership)/public body/company or corporate body | F3: No
A4: Form | B4: Tell us your details if you are applying as an individual If an individual, has the individual information provided? | F4: N/A
A5: Form | B5: Tell us your details if you're an organisation of individuals (partnerships) If an organisation of individuals has the organisations details been provided?
A6: Form | B6: Tell us about any partners If an organisation of individuals has partner 1-10 details been provided?
A7: Form | B7: Tell us about your application as a public body If a public body, has the public body name been given?
A8: Form | B8: has executive officer's details been given?
A9: Form | B9: Tell us about your application as a registered company or other corporate body has the registered with Companies House question answered? | D9: Delete: answered yes/no
A10: Form | B10: Tell us about your application as a registered company or other corporate body If answered Yes: has the company details been given?
A11: Info | B11: Registered companies only; Is it registered and active on Companies House? | D11: Date checked:
A12: Info | B12: Is the applicant a legal person as per definition of ‘operator’?
A13: Form | B13: Give us evidence that you are a legal body that we can issue a permit to If answered No (i.e. they are not on UK companies house): has the legal body details been provided?
A14: Form | B14: has the evidence that you are a legal body been provided?
A15: Form | B15: Tell us who we can talk to about your application has the application contact details been provided?
A16: Form | B16: Give us details of the person we can talk to about your operation has the operation contact details been provided?
A17: Form | B17: Tell us who we can talk to about billing has the billing contact details been provided?
A18: Form | B18: Tell us about the site's landowner has the landowner question been answered? | D18: Delete: answered yes/no Not for mobile plant
A19: Form | B19: Landowner's details Has the landowner's details been provided? | D19: If the landowner details have not been correctly provided, we can ask for them, but it is not a reason to not duly make an application. Not for mobile plant
A20: Info | B20: Has landowner letter been sent as per process? | D20: Letter template
A21: Form | B21: Tell us about any pre-application advice we've given you has a pre-application reference been provided? | D21: n/a if no pre-app has been detailed by the applicant
A22: Info | B22: Pre-application record found in DMS? | D22: Check DMS even if applicant has not provided info about pre-application- including CAR forms. n/a if none present, as above.
A23: Form | B23: Tell us if you are applying for a bespoke mobile plant permit has the mobile plant question been answered? | D23: Delete: answered yes/no
A24: Form | B24: Tell us about the site have the site details been given including site name, address and 12 digit NGR? | D24: Not for mobile plant
A25: Form | B25: Upload your site plan Has a site plan been uploaded? | D25: not for mobile plant check where the activity is required to happen i.e. inside a building or not vs what is included in the site boundary to see if permit can be complied with/site boundary is suitable
A26: Info | B26: Does it meet the guidance? | D26: Not for mobile plant
A27: Form | B27: Give us a site condition report Has a SCR been uploaded? | D27: Not for mobile plant
A28: Form | B28: Give us a non-technical summary of your application Has a NTS been uploaded?
A29: Form | B29: Tell us about the activities you want to do For each waste activity has the name, description, D/R codes, and hazardous/non-hazardous treatment capacities been given?
A30: Form | B30: Tell us about the total storage capacity Have the total storage capacities of hazardous/non-hazardous and total annual throughput been given?
A31: Form | B31: Tell us about the type of waste you will accept on site Has a waste code document been uploaded? | D31: 99 codes should be queried. Please note that you can include a caveat on the waste code if you want to limit the waste that can be accepted.
A32: Form | B32: Do you plan to treat batteries? Has the question been answered? | D32: Delete: answered yes/no
A33: Form | B33: Tell us about your plan for treating batteries If answered yes, has a document been uploaded?
A34: Form | B34: Have you applied to deposit waste for recovery? Has the question been answered? | D34: Delete: answered yes/no | E34: See DfR Tab
A35: Form | B35: Tell us about your waste recovery plan Has the question re having already assessed the plan been answered? | D35: Delete: answered yes-no changes/yes-changes/no
A36: Form | B36: Give us your waste recovery plan has the WRP been uploaded?
A37: Form | B37: Give us an environmental risk assessment Has a Risk Assessment been provided? | D37: Must include receptors identified during screening | E37: See Risk assessment Tab
A38: Form | B38: Do you need to tell us about point source emissions to air? Has the question been answered? | D38: Delete: answered yes/no
A39: Form | B39: Point source emissions to air If yes, has information on the Emission point reference and location, Source, Parameter, Amount, and Unit been given for each emission point? | D39: Is the site within an area designated within the Clean Air Plan for Wales?
A40: Form | B40: Do you need to tell us about point source emissions to water (not sewers)? Has the question been answered? | D40: Delete: answered yes/no
...

Sheet Var Besp
A1: Variation of a bespoke
A2: Qu | B2: Action | C2: Yes/No/NA | D2: Comments | E2: Admin | F2: MT/Normal | I2: Yes
A3: Form | B3: Tell us which permit(s) you want to change Has the permit number been given? | E3: Y | F3: Y | I3: No
A4: Form | B4: Tell us about any pre-application advice we've given you has a pre-application reference been provided? | D4: n/a if no pre-app has been detailed by the applicant | E4: Y | F4: Y | I4: N/A
A5: Info | B5: Pre-application record found in DMS? | D5: Check DMS even if applicant has not provided info about pre-application- including CAR forms. n/a if none present, as above. | E5: Y | F5: Y
A6: Form | B6: Do you want to make an administrative change? Has the question been answered? | D6: Delete: answered yes/no If company name is changing, also check if the site name needs to change too | E6: Y | F6: Y
A7: Form | B7: What type of permit holder are you? has the type of permit holder question answered? | D7: Delete: individual/organisation of individuals (e.g. partnership)/public body/company or corporate body | E7: Y | F7: N
A8: Form | B8: Tell us your up to date details as an individual with a permit If an individual, has the individual information provided? | E8: Y | F8: N
A9: Form | B9: Has explanation been given? | E9: Y | F9: N
A10: Form | B10: Tell us about changes to details of your organisation of individuals (e.g. partnerships) If a partnership, have details of what's changing been given? | E10: Y | F10: N
A11: Form | B11: Tell us about administrative changes to your public body If a public body, has the public body name been given? | E11: Y | F11: N
A12: Form | B12: Have details of what's changing been given? | E12: Y | F12: N
A13: Form | B13: Tell us about administrative changes to your company If a company, have details of what's changing been given? | E13: Y | F13: N
A14: Info | B14: Registered companies only; Is it registered and active on Companies House? | D14: Date checked: | E14: Y | F14: N
A15: Info | B15: Registered companies only; does the registered office address match the permit? | E15: Y | F15: N
A16: Form | B16: Tell us who we can talk to about this administrative change Have contact details been given? | E16: Y | F16: N
A17: Form | B17: Do want to make more changes to your permit? Has the question been answered? | D17: Delete: answered yes/no | E17: Y | F17: Y
A18: Form | B18: Do you want to make a minor technical or normal change to your permit? Has the question been answered? | D18: Delete: answered normal/minor technical | E18: N | F18: Y
A19: Form | B19: Give a summary of your application Has a summary been given? | E19: N | F19: Y
A20: Form | B20: Do you want to apply to consolidate permits? Has the question been answered? | D20: Delete: answered yes/no | E20: N | F20: Y
A21: Form | B21: Identify all the permits you want to consolidate If yes, have permit numbers been given? | E21: N | F21: Y
A22: Form | B22: Do want to make more changes to your permit? Has the question been answered? | D22: Delete: answered yes/no | E22: N | F22: Y
A23: Form | B23: Do you want to add land to your permit or provide an updated site plan? Has the question been answered? | D23: Delete: answered yes/no | E23: N | F23: Y
A24: Form | B24: Upload a site condition report and site plans for the extra land Has a SCR and site plan(s) been uploaded? | E24: N | F24: Y
A25: Form | B25: Are you planning to treat batteries? Has the question been answered? | D25: Delete: answered yes/no | E25: N | F25: Y
A26: Form | B26: Tell us how you will treat batteries If yes, has document been uploaded? | E26: N | F26: Y
A27: Form | B27: Tell us about the waste activity you are applying to add or change For each waste activity has the name, description, D/R codes, and hazardous/non-hazardous treatment capacities been given? | E27: N | F27: Y
A28: Form | B28: Tell us about the total storage capacity and annual throughput Have the total storage capacities of hazardous/non-hazardous and total annual throughput been given? | E28: N | F28: Y
A29: Form | B29: Do you want to accept new types of waste on site? Has the question been answered? | D29: Delete: answered yes/no | E29: N | F29: Y
A30: Form | B30: Tell us about new types of waste you will accept on site If yes, has a waste code document been uploaded? | D30: 99 codes should be queried. Please note that you can include a caveat on the waste code if you want to limit the waste that can be accepted. | E30: N | F30: Y
A31: Form | B31: Have you applied to deposit waste for recovery? Has the question been answered? | D31: Delete: answered yes/no | E31: N | F31: Y | G31: See DfR tab
A32: Form | B32: Tell us about your waste recovery plan Has the question re having already assessed the plan been answered? | D32: Delete: answered yes-no changes/yes-changes/no | E32: N | F32: Y
A33: Form | B33: Give us your waste recovery plan has the WRP been uploaded? | E33: N | F33: Y
A34: Form | B34: Tell us about changes you have made to your waste recovery plan Has a summary be given? | E34: N | F34: Y
A35: Form | B35: Give an assessment of the risks each of your proposed activities cause to the environment Has a risk assessment been uploaded? | D35: Must include receptors identified during screening | E35: N | F35: Y
A36: Form | B36: Do you need to tell us about point source emissions to air? Has the question been answered? | D36: Delete: answered yes/no | E36: N | F36: Y
A37: Form | B37: Point source emissions to air If yes, has information on the Emission point reference and location, Source, Parameter, Amount, and Unit been given for each emission point? | D37: Is the site within an area designated within the Clean Air Plan for Wales? | E37: N | F37: Y
A38: Form | B38: Have the measures used to monitor emissions been given? | E38: N | F38: Y
A39: Form | B39: Has an assessment of sampling locations been given? | E39: N | F39: Y
A40: Form | B40: Do you need to tell us about point source emissions to water (not sewers)? Has the question been answered? | D40: Delete: answered yes/no | E40: N | F40: Y
...

Sheet Transfer
A1: Transfer
A2: Qu | B2: Action | C2: Yes/No/NA | D2: Comments | E2: Full | F2: Part | H2: Yes
A3: Form | B3: Tell us what type of applicant you are has the type of applicant question answered? | D3: select: individual organisation of individuals (e.g. partnership) public body company or other corporate body | E3: Y | F3: Y | H3: No
A4: Form | B4: Tell us your details if you are applying as an individual If an individual, has the individual information provided? | D4: individual only | E4: Y | F4: Y | H4: N/A
A5: Form | B5: Tell us your details if you're an organisation of individuals (partnerships) If an organisation of individuals has the organisations details been provided? | D5: organisation of individuals only | E5: Y | F5: Y
A6: Form | B6: Tell us about any partners If an organisation of individuals has partner 1-10 details been provided? | D6: organisation of individuals only | E6: Y | F6: Y
A7: Form | B7: Tell us about your application as a public body If a public body, has the public body name been given? | D7: public body only | E7: Y | F7: Y
A8: Form | B8: has executive officer's details been given? | D8: public body only | E8: Y | F8: Y
A9: Form | B9: Tell us about your application as a registered company or other corporate body has the registered with Companies House question been answered? | D9: company only Delete: answered yes/no | E9: Y | F9: Y
A10: Form | B10: Give us evidence that you are a legal body that we can issue a permit to If answered No (i.e. they are not on UK companies house): has the legal body details been provided? | D10: company only | E10: Y | F10: Y
A11: Form | B11: has the evidence that they are a legal body been provided? | D11: company only | E11: Y | F11: Y
A12: Form | B12: Tell us about your application as a registered company or other corporate body If answered Yes: has the company details been given? | D12: company only | E12: Y | F12: Y
A13: Info | B13: Registered companies only; Is it registered and active on Companies House? | D13: company only Date checked: Both the current permit holder, and the proposed new holders must be checked to ensure both are still active companies | E13: Y | F13: Y
A14: Info | B14: Is the applicant a legal person as per definition of ‘operator’? | E14: Y | F14: Y
A15: Form | B15: Tell us who we can talk to about your application has the application contact details been provided? | E15: Y | F15: Y
A16: Form | B16: Give us details of the person we can talk to about your operation has the operation contact details been provided? | E16: Y | F16: Y
A17: Form | B17: Tell us who we can talk to about billing has the billing contact details been provided? | E17: Y | F17: Y
A18: Form | B18: Are you applying to transfer a site or a mobile plant permit? Has question been answered? | D18: Delete: answered site/mobile plant | E18: Y | F18: Y
A19: Form | B19: Tell us about the site Has the site information been provided? | D19: skipped if mobile plant | E19: Y | F19: Y
A20: Form | B20: Tell us the number of the permit you are applying to have transferred to you Has permit number been given? | E20: Y | F20: Y
A21: Form | B21: Tell us about any pre-application advice we've given you has a pre-application reference been provided? | D21: n/a if no pre-app has been detailed by the applicant | E21: Y | F21: Y
A22: Info | B22: Pre-application record found in DMS? | D22: Check DMS even if applicant has not provided info about pre-application- including CAR forms. n/a if none present, as above. | E22: Y | F22: Y
A23: Form | B23: Tell us if you are applying to transfer all or part of the permit to yourself Has question been answered? | D23: Delete: answered all/part | E23: Y | F23: Y
A24: Form | B24: Are you transferring a part of a standard rules or bespoke permit? Has question been answered? | D24: Question only asked for a part transfer Delete: answered standard rules/bespoke | E24: N | F24: Y
A25: Form | B25: Give the name of the standard rules set or sets you want transferred to you If SRP, has rule set numbers to be transferred been given? | E25: N | F25: Y
A26: Form | B26: Tell us which parts of the bespoke waste permit you want transferred to you If bespoke, have supporting documented been uploaded?? | E26: N | F26: Y
A27: Form | B27: Provide site plans for part transfers Have site plans been uploaded? | E27: N | F27: Y
A28: Form | B28: Tell us if the parts of the permit that are not being transferred need to be changed Has the question been answered? | D28: Delete: answered yes/no | E28: N | F28: Y
A29: Form | B29: Explain why you think the permit will need to be changed (varied) Has the explanation been given? | E29: N | F29: Y | H29: form doesn't skip to EMS question after this
A30: Form | B30: Will the management structure and management system remain substantially the same after transfer? | D30: Delete: answered yes/no If anwser is "yes"- no further action is required If answer is "no" see EMS questions below The content of the document(s) uploaded will help dictate potentially the level of assessment required at determination | E30: Y | F30: Y
A31: Form | B31: Tell us about your management system has the management system to be used been selected? | D31: Delete: answered EMAS/ ISO14001/BS8555/Green Dragon/own | E31: Y | F31: Y
A32: Form | B32: have they confirmed the management system will meet the guidance? | D32: Determining officer must assess the EMS at determination stage, checking it is in line with “How to Comply” to satisfy the operator competence check. | E32: Y | F32: Y | G32: See EMS Tab
A33: Form | B33: Has the management system been uploaded? | E33: Y | F33: Y
A34: Form | B34: Tell us about any relevant offences has the relevant offences question been answered? | D34: Delete: answered yes/no | E34: Y | F34: Y
A35: Form | B35: Tell us about the person convicted of a relevant offence If answered yes, have details been given? | E35: Y | F35: Y
A36: Form | B36: Do you want to tell us about other relevant people with relevant offences? has other relevant people with relevant offences question answered? | D36: Delete: answered yes/no | E36: Y | F36: Y
A37: Form | B37: Tell us about other relevant offences If answered yes, have details been given? | E37: Y | F37: Y
A38: Form | B38: Tell us about your technical ability has technical ability evidence been provided? This will be certificates only | E38: Y | F38: Y | G38: See TCM Tab
A39: Form | B39: Tell us about insolvency or bankruptcy has insolvency/ bankruptcy question been answered? | D39: Delete: answered yes/no | E39: Y | F39: Y
A40: Form | B40: Tell us about relevant people with bankruptcy or insolvency If answered yes, have details been given? | D40: Financial provision will be required if insolvent/bankrupt, or depending on activity type. | E40: Y | F40: Y
...

Sheet Surrender
A1: Surrender
A2: Qu | B2: Action | C2: Yes/No/NA | D2: Comments/ Document Ref. if given | E2: Full- Site | F2: Part- Site | G2: Mobile Plant
A3: Form | B3: Tell us what type of applicant you are has the type of applicant question been answered? | C3: Yes | D3: company or corporate body | E3: Y | F3: Y | G3: Y | I3: Yes
A4: Form | B4: Tell us your details if you are applying as an individual If an individual have the details been provided? | C4: N/A | E4: Y | F4: Y | G4: Y | I4: No
A5: Form | B5: Tell us your details if you're an organisation of individuals (partnerships) If an organisation of individuals has the organisations details been provided? | C5: N/A | E5: Y | F5: Y | G5: Y | I5: N/A
A6: Form | B6: Tell us about all of the organisation's partners (Q4-13) If an organisation of individuals has partner 1-10 details been provided? | C6: N/A | E6: Y | F6: Y | G6: Y
A7: Form | B7: Tell us about your application as a public body If a Public body; has the name been given? | C7: N/A | E7: Y | F7: Y | G7: Y
A8: Form | B8: If a Public body; has the Executive officer’s details been given? | C8: N/A | E8: Y | F8: Y | G8: Y
A9: Form | B9: Tell us about your company or corporate body registration If a company or corporate body; has the registered with Companies House question been answered? | C9: Yes | D9: answered yes | E9: Y | F9: Y | G9: Y
A10: Form | B10: Tell us about your application as a registered company or other corporate body If answered yes: have the details been provided? | C10: Yes | E10: Y | F10: Y | G10: Y
A11: Form | B11: has the date of company registration been given? | C11: Yes | E11: Y | F11: Y | G11: Y
A12: Info | B12: Registered companies only. Is it registered and active on Companies House? | C12: Yes | D12: Date checked: 21/04/26 | E12: Y | F12: Y | G12: Y
A13: Form | B13: Give us evidence you are a legal body we can issue a permit to If answered no; has the legal body details been provided? | C13: N/A | E13: Y | F13: Y | G13: Y
A14: Form | B14: has the evidence that you are a legal body been provided? | C14: N/A | E14: Y | F14: Y | G14: Y
A15: Form | B15: Tell us who we can talk to about this application has the application contact details been provided? | C15: Yes | E15: Y | F15: Y | G15: Y
A16: Form | B16: Give us details of the person we can talk to about your operation has the operation contact details been provided? | C16: Yes | E16: Y | F16: Y | G16: Y
A17: Form | B17: Tell us who we can talk to about billing has the billing contact details been provided? | C17: Yes | E17: Y | F17: Y | G17: Y
A18: Form | B18: Tell us the number of the permit you want to surrender Has the permit number been given? | C18: Yes | E18: Y | F18: Y | G18: Y
A19: Form | B19: Tell us about any pre-application advice we've given you about this application has a pre-application reference been provided? | C19: Yes | E19: Y | F19: Y | G19: Y
A20: Info | B20: Pre-application record found in DMS? | C20: Yes | E20: Y | F20: Y | G20: Y
A21: Form | B21: Are you applying to surrender a site or a mobile plant permit? has the permit type been chosen? | C21: Yes | D21: answered site | E21: Y | F21: Y | G21: Y
A22: Form | B22: Tell us about the site Has the site information been provided? | C22: Yes | E22: Y | F22: Y | G22: N
A23: Info | B23: Does the site and company address(es) match the current permit? | C23: Yes | E23: Y | F23: Y | G23: N
A24: Form | B24: Tell us what level of surrender you are applying for has the surrender type been given? | C24: Yes | D24: answered low risk | E24: Y | F24: Y | G24: N
A25: Form | B25: Give us confirmation from your compliance officer has confirmation evidence from site officer been provided? | C25: Yes | D25: evidence on DMS | E25: Y | F25: Y | G25: N
A26: Form | B26: Tell us if the situation has changed since your site compliance offer gave you confirmation has any changes made been justified? | C26: N/A | E26: Y | F26: Y | G26: N
A27: Form | B27: Tell us if you are applying to surrender all or part of the permit Have they told us if they are surrendering all or part of the permit? | C27: Yes | D27: answered all | E27: Y | F27: Y | G27: N
A28: Form | B28: Provide maps (or plans) for part surrender If Part surrender has original and new site boundary plans been provided? | E28: N | F28: Y | G28: N
A29: Form | B29: Tell us which parts of the permit you want to cancel (surrender) If Part surrender have they told us what parts of the permit are to be surrendered? | E29: N | F29: Y | G29: N
A30: Form | B30: have additional document been uploaded? | E30: N | F30: Y | G30: N
A31: Form | B31: Tell us if the parts of the permit that are not being surrendered need to be changed If Part surrender; have they told us if conditions need varying? | D31: Delete: answered yes/no | E31: N | F31: Y | G31: N
A32: Form | B32: Give us a site condition report has the surrender site condition record/baseline report been provided? | C32: Yes | E32: Y | F32: Y | G32: N
A33: Form | B33: Tell us whether any steps have been taken to avoid any pollution risk or to return the site to a satisfactory state has information on steps taken to avoid pollution/return site to satisfactory state been provided? | C33: Yes | E33: Y | F33: Y | G33: N
A34: Form | B34: Tell us if a financial provision arrangement exists for this site has the financial provision question been answered? | C34: Yes | D34: answered no | E34: Y | F34: Y | G34: N
A35: Form | B35: Tell us the date you want to surrender the permit on has the surrender date been given?? | C35: Yes | D35: 46080 | E35: Y | F35: Y | G35: Y
A36: Form | B36: How we collect your personal data have they confirmed they understand how we will use data? | C36: Yes | E36: Y | F36: Y | G36: Y
A37: Form | B37: Freedom of Information have they confirmed they understand the Freedom of Information Act information? | C37: Yes | E37: Y | F37: Y | G37: Y
A38: Form | B38: Do you want to make a confidentiality claim? Do they want to make a confidentiality claim? | C38: Yes | D38: answered no | E38: Y | F38: Y | G38: Y
A39: Form | B39: Give evidence to support your confidentiality claim If answered yes, has information been provided? | C39: N/A | E39: Y | F39: Y | G39: Y
A40: Form | B40: If answered yes, has evidence been provided? | C40: N/A | E40: Y | F40: Y | G40: Y
...

Sheet Fee calcs
A1: Type1 | B1: Type2 | C1: Table in charging scheme | D1: Charge code | E1: Fee relevant to your application? (Y/N then filter on Y) | F1: Amount SEE TOTAL AT THE BOTTOM WHEN FILTERED
A2: SRP | B2: New Application | C2: F10b | D2: WAA0001 | F2: 1950
A3: SRP | B3: New Application- additional activities charge (20% of the base charge) | C3: F10b | D3: WAA0001 | F3: =F2*(20/100) -> 390
A4: SRP- Mobile Plant | B4: New Application | C4: F10c | D4: WAA0005 | F4: 1363
A5: SRP- Mobile Plant | B5: New Application- additional activities charge (20% of the base charge) | C5: F10c | D5: WAA0005 | F5: =F4*(20/100) -> 272.6
A6: SRP- Mining Waste (SR2009No8) | B6: New Application | C6: F11b | D6: WAA0016 | F6: 1058
A7: SRP- Mining Waste (SR2009No8) | B7: New Application- additional activities charge (20% of the base charge) | C7: F11b | D7: WAA0016 | F7: =F6*(20/100) -> 211.6
A8: SRP | B8: Administrative Variation | C8: F10b/F10c | D8: WAA0003, WAA0006 (MP), WAA0018 (MW) | F8: 739
A9: SRP | B9: Minor Technical Variation | C9: F10b | D9: WAA0002, WAA0017 (MW) | F9: 2975
A10: SRP | B10: Transfer | C10: F10b | D10: WAA0004, WAA0007 (MP), WAA0019 (MW) | F10: 1914
A11: SRP- with location assessment- SR2010no12/13 only | B11: New Application | C11: F10e | D11: WAA0008 | F11: 4916
A12: SRP- with location assessment- SR2010no12/13 only | B12: Administrative Variation | C12: F10e | D12: WAA0010 | F12: 739
A13: SRP- with location assessment- SR2010no12/13 only | B13: Minor Technical Variation | C13: F10e | D13: WAA0009 | F13: 2975
A14: SRP- with location assessment- SR2010no12/13 only | B14: Transfer | C14: F10e | D14: WAA0011 | F14: 1914
A15: Tier 2 bespoke- SR2010no7/8/9/10/14 or SR2011no1 only | B15: Normal Variation | C15: F10d | D15: n/a | F15: 2128
A16: Tier 2 bespoke- SR2010no7/8/9/10/14 or SR2011no1 only | B16: Transfer | C16: F10d | D16: n/a | F16: 1058
A17: Tier 2 bespoke- SR2010no7/8/9/10 only | B17: Surrender | C17: F10d | D17: n/a | F17: 3899
A18: Tier 2 bespoke- SR2010no14 or SR2011no1 only | B18: Surrender | C18: F10d | D18: n/a | F18: 1672
A19: Tier 2 Landfill gas facility | B19: New Application | C19: F10e | D19: WAA0012 | F19: 4916
... A32: Bespoke- waste, mobile plant, inert landfill, and mining waste | B32: New Application | C32: G3a | D32: WAA0020, WAA0026 (MP), WAA0043 (MW), WAA0037 (IL) | F32: 10312
A33: Bespoke- waste, mobile plant, inert landfill, and mining waste | B33: New Application- additional activities charge (20% of the base charge) | C33: G3a | D33: WAA0020, WAA0026 (MP), WAA0043 (MW), WAA0037 (IL) | F33: =F32*(20/100) -> 2062.4
A34: Bespoke | B34: Administrative Variation | C34: G3a | D34: WAA0021, WAA0027 (MP), WAA0044 (MW), WAA0038 (IL) | F34: 739
A35: Bespoke | B35: Normal Variation | C35: G3a | D35: WAA0022, WAA0028 (MP), WAA0045 (MW), WAA0039 (IL) | F35: 8558
A36: Bespoke | B36: Minor Technical Variation | C36: G3a | D36: WAA0023, WAA0029 (MP), WAA0046 (MW), WAA0040 (IL) | F36: 2975
A37: Bespoke | B37: Transfer - Part | C37: G3a | D37: WAA0024, WAA0030 (MP), WAA0047 (MW), WAA0041 (IL) | F37: 5086
A38: Bespoke | B38: Transfer - Full | C38: G3a | D38: WAA0025, WAA0031 (MP), WAA0048 (MW), WAA0042 (IL) | F38: 3308
A39: Surrender | B39: Basic Surrender- Part | C39: F10f/F11c/G3b | D39: WAA0063 | F39: 2650
A40: Surrender | B40: Basic Surrender - Full | C40: F10f/F11c/G3b | D40: WAA0064 | F40: 1666
A41: Surrender | B41: Low Risk Surrender - Part | C41: F10f/F11c/G3b | D41: WAA0067 | F41: 5775
A42: Surrender | B42: Low Risk Surrender - Full | C42: F10f/F11c/G3b | D42: WAA0068 | F42: 4742
A43: Surrender | B43: Normal Surrender - Part | C43: F10f/F11c/G3b | D43: WAA0065 | F43: 6707
A44: Surrender | B44: Normal Surrender - Full | C44: F10f/F11c/G3b | D44: WAA0066 | F44: 5656
A45: Surrender | B45: Non-operational Surrender - Part | C45: F10f/F11c/G3b | D45: WAA0069 | F45: 2386
... A59: Component | B59: Bioaerosol risk assessment | C59: G3c | D59: WAA0061 | F59: 3827
A60: Total | F60: =SUBTOTAL(109,F2:F59) -> 4742
D64: Refund Breakdown- Bespoke
D65: Application Fee Paid: | E65: =F60 -> 4742
D66: 24% of the Application Fee: This amount will be retained by us to cover our costs. | E66: =E65*(0.24) -> 1138.08
D67: Amount to be Refunded: | E67: =E65*(0.76) -> 3603.92
D69: Refund Breakdown- SRP
...

Sheet Decision and actions
A1: Decision and actions required | E1: New Bespoke Tier 2 | F1: New SRP | G1: New Bespoke | H1: Vary SRP | I1: Vary Bespoke | J1: Transfer | K1: Surrender
A2: Action | B2: Yes/No/NA | C2: Date | D2: Notes | E2: Y | F2: Y | G2: Y | H2: Y | I2: Y | J2: Y | K2: Y
A3: Are all relevant documents present and do they appear to cover the right information? | B3: Yes | C3: 46133 | E3: Y | F3: Y | G3: Y | H3: Y | I3: Y | J3: Y | K3: Y | M3: Yes
A4: Is the fee correct? | B4: Yes | C4: 46133 | E4: Y | F4: Y | G4: Y | H4: Y | I4: Y | J4: Y | K4: Y | M4: No
A5: Not duly made email sent for additional information/fee? | B5: N/A | E5: Y | F5: Y | G5: Y | H5: Y | I5: Y | J5: Y | K5: Y | M5: N/A
