Workbook
Name category: Picklists!$J$8:$P$8
Name DAA: Picklists!$M$9
Name DAA_Waste: Picklists!$M$9
Name MCP: Picklists!$P$9:$P$9
Name MCP_and_SG: Picklists!$N$9:$N$9
Name No: Picklists!$AC$8
Name Operator: Picklists!$AB$7:$AC$7
Name PartA2: Picklists!$J$9:$J$29
Name PartB: Picklists!$K$9:$K$79
Name PartB_MCP_and_or_SG: Picklists!$L$9:$L$14
Name SG: Picklists!$O$9
Name Yes: Picklists!$AB$8:$AB$9

Sheet Guidance - please read
C1: Version | D1: =Introduction!C3 -> NRW V2.6 No Macros | J1: =Introduction!I3 -> Opra Scheme NRW V2.6 2026/27

Sheet Introduction
B3: Version | C3: NRW V2.6 No Macros | I3: Opra Scheme NRW V2.6 2026/27
E5: Operational Risk Appraisal (Opra) for Installations under EPR
C10: Organisation Name | E10: Tradebe Healthcare National Limited | I10: Permit Number | K10: EPR/WP3636ZG
C12: Date | E12: 46195
C14: It is recommended that the user fills in the spreadsheet following the order of worksheets listed below (click on the appropriate tab at the bottom of the screen). Not all worksheets require input, for those that do, the fields that may require input have no background colour or where there is a blue colour a picklist option is available. To move to the next data entry cell in a worksheet, press tab button once the first cell has been completed and you will go to the next unlocked cell where data or a picklist needs to be entered or completed. The sequence of worksheets is divided into two sections Sheets 1 to 11 are concerned with the input of data. Sheet 12 is the summary for the Opra Scores and Sheet 13 displays the charges.
C22: Colour coding | E22: Free text | F22: Pick List | G22: Auto- populated | H22: Guidance link available | I22: Instruction | J22: Cell answered | K22: Information or commentary
C24: Does this document contain information that is commercial in confidence ?
H25: Defra Core guidance
B27: 1 | C27: Listed Activities | H27: 7 | I27: Emissions to Sewer
C28: Please refer to the Opra Scheme for Installations for the look-up tables and guidance. Use abbreviated descriptions, select the Schedule 1 references and bands from the pick lists provided. | I28: Please enter details of your emissions to sewer on this sheet
H29: 8 | I29: Emissions to Waste
I30: Please enter details of waste taken off site, or imported for waste treatment activities
B31: 2 | C31: Other Activities
C32: Please enter Part A(2), Part B, Medium Combustion Plant, Specified Generator and Waste Operation activities onto this sheet. These activities attract separate charges | H32: 9 | I32: Emissions Summary
I33: No input is required. Output screen only. Summary of emissions.
B34: 3 | C34: Complexities | H34: 10 | I34: Location
C35: Summary of complexities and rules applied - you only need to answer rule 6 on this worksheet | I35: Please answer the questions regarding the location of your site on this sheet
H36: 11 | I36: Operational Management
B37: 4 | C37: Emissions to Air | I37: Please answer the questions regarding your site management
C38: Please enter details of your emissions to air on this sheet | H38: 12 | I38: Opra Summary
B39: 5 | C39: Emissions to Water | I39: No input is required. Output screen only. The emissions are shown separately.
C40: Please enter details of your emissions to water on this sheet
B41: 6 | C41: Emissions to Land | H41: 13 | I41: Calculation
C42: Please enter details of your emissions to land on this sheet | I42: No input is required. Charges with separate emissions totals.

Sheet 1 Listed activity
B2: Listed Activities - Complexity Attribute
D4: Organisation name: | E4: =+Introduction!E10 -> Tradebe Healthcare National Limited
D5: Permit Number: | E5: =+Introduction!K10 -> EPR/WP3636ZG
C7: Former Permit Ref (If applicable) | D7: Description of Activity | E7: Schedule 1 Reference | F7: Regulatory Complexity | J7: Totals before any rules are applied
C8: 1 | D8: PHYSIO-CHEMICAL TREATMENT OF HAZARDOUS AND NON HAZARDOUS HEALTHCARE WASTE >20T / DAY | E8: 5.3 Part A (1) a) (ii) | F8: =IFERROR(VLOOKUP(E8,Picklists!$D$8:$E$144,2,FALSE),"") -> B | J8: A | K8: =COUNTIF($F$8:$F$32,J8) -> 0
C9: 2 | D9: STORAGE OF HAZARDOUS AND NON HAZARDOUS HEALTHCARE WASTE PRIOR TO TREATMENT / DISPOSAL OFFSITE >10T / DAY | E9: 5.3 Part A (1) a) (ii) | F9: =IFERROR(VLOOKUP(E9,Picklists!$D$8:$E$144,2,FALSE),"") -> B | J9: B | K9: =COUNTIF($F$8:$F$32,J9) -> 2
C10: 3 | F10: =IFERROR(VLOOKUP(E10,Picklists!$D$8:$E$144,2,FALSE),"") | J10: C | K10: =COUNTIF($F$8:$F$32,J10) -> 0
C11: 4 | F11: =IFERROR(VLOOKUP(E11,Picklists!$D$8:$E$144,2,FALSE),"") | J11: D | K11: =COUNTIF($F$8:$F$32,J11) -> 0
C12: 5 | F12: =IFERROR(VLOOKUP(E12,Picklists!$D$8:$E$144,2,FALSE),"") | J12: E | K12: =COUNTIF($F$8:$F$32,J12) -> 0
C13: 6 | F13: =IFERROR(VLOOKUP(E13,Picklists!$D$8:$E$144,2,FALSE),"")
C14: 7 | F14: =IFERROR(VLOOKUP(E14,Picklists!$D$8:$E$144,2,FALSE),"")
C15: 8 | F15: =IFERROR(VLOOKUP(E15,Picklists!$D$8:$E$144,2,FALSE),"")
C16: 9 | F16: =IFERROR(VLOOKUP(E16,Picklists!$D$8:$E$144,2,FALSE),"")
C17: 10 | F17: =IFERROR(VLOOKUP(E17,Picklists!$D$8:$E$144,2,FALSE),"")
C18: 11 | F18: =IFERROR(VLOOKUP(E18,Picklists!$D$8:$E$144,2,FALSE),"")
C19: 12 | F19: =IFERROR(VLOOKUP(E19,Picklists!$D$8:$E$144,2,FALSE),"")
C20: 13 | F20: =IFERROR(VLOOKUP(E20,Picklists!$D$8:$E$144,2,FALSE),"")
C21: 14 | F21: =IFERROR(VLOOKUP(E21,Picklists!$D$8:$E$144,2,FALSE),"")
C22: 15 | F22: =IFERROR(VLOOKUP(E22,Picklists!$D$8:$E$144,2,FALSE),"")
C23: 16 | F23: =IFERROR(VLOOKUP(E23,Picklists!$D$8:$E$144,2,FALSE),"")
C24: 17 | F24: =IFERROR(VLOOKUP(E24,Picklists!$D$8:$E$144,2,FALSE),"")
C25: 18 | F25: =IFERROR(VLOOKUP(E25,Picklists!$D$8:$E$144,2,FALSE),"")
C26: 19 | F26: =IFERROR(VLOOKUP(E26,Picklists!$D$8:$E$144,2,FALSE),"") | H26: =IF(F26="E",5,(IF(F26="D",4,(IF(F26="C",3,(IF(F26="B",2,(IF(F26="A",1,"")))))))))
C27: 20 | F27: =IFERROR(VLOOKUP(E27,Picklists!$D$8:$E$144,2,FALSE),"") | H27: =IF(F27="E",5,(IF(F27="D",4,(IF(F27="C",3,(IF(F27="B",2,(IF(F27="A",1,"")))))))))
C28: 21 | F28: =IFERROR(VLOOKUP(E28,Picklists!$D$8:$E$144,2,FALSE),"") | H28: =IF(F28="E",5,(IF(F28="D",4,(IF(F28="C",3,(IF(F28="B",2,(IF(F28="A",1,"")))))))))
C29: 22 | F29: =IFERROR(VLOOKUP(E29,Picklists!$D$8:$E$144,2,FALSE),"") | H29: =IF(F29="E",5,(IF(F29="D",4,(IF(F29="C",3,(IF(F29="B",2,(IF(F29="A",1,"")))))))))
C30: 23 | F30: =IFERROR(VLOOKUP(E30,Picklists!$D$8:$E$144,2,FALSE),"") | H30: =IF(F30="E",5,(IF(F30="D",4,(IF(F30="C",3,(IF(F30="B",2,(IF(F30="A",1,"")))))))))
C31: 24 | F31: =IFERROR(VLOOKUP(E31,Picklists!$D$8:$E$144,2,FALSE),"") | H31: =IF(F31="E",5,(IF(F31="D",4,(IF(F31="C",3,(IF(F31="B",2,(IF(F31="A",1,"")))))))))
C32: 25 | F32: =IFERROR(VLOOKUP(E32,Picklists!$D$8:$E$144,2,FALSE),"") | H32: =IF(F32="E",5,(IF(F32="D",4,(IF(F32="C",3,(IF(F32="B",2,(IF(F32="A",1,"")))))))))
D35: Schedule 1 Part A(1) - Rule 4 Aggregation Details (Chemical Industry only) Please contact your local NRW Industry Regulation Team if you need to use this rule
D37: Aggregation Group | E37: Description | F37: Schedule 1 Ref | G37: Complexity
C38: 1 | G38: =IFERROR(VLOOKUP(F38,Picklists!D38:E86,2),"")
C39: 2 | G39: =IFERROR(VLOOKUP(F39,Picklists!D39:E87,2),"")
E41: Rule 4 | F41: Not Applied

Sheet 2 Other activities
C2: Schedule1 Part A(2) and Part B Activities, Medium combustion plant, Specified generators and Directly Associated Waste Activities
C4: Organisation Name: | E4: =+Introduction!E10 -> Tradebe Healthcare National Limited
C5: Permit Number: | E5: =+Introduction!K10 -> EPR/WP3636ZG
C7: These are activities that would require an Environmental Permit in their own right if they were not part of your Installation. They do not contribute to the OPRA score but incur separate charges. Listing each one here ensures we can charge the correct amount for any additional activities within the Installation.
C9: List of EPR Schedule Part (A) 2, Part B, Medium Combustion Plant (MCP), Specified Generator (SG) and Directly Associated Waste Activities (DAA Waste) included in the Installation
D10: Enter description of Activity | E10: Part A2 or Part B, MCP, SG or DAA Waste activity | F10: EPR Schedule Reference
C11: 1
C12: 2
C13: 3
C14: 4
C15: 5
C16: 6
C17: 7
C18: 8
C19: 9
C20: 10
C21: 11
C22: 12
... C30: 20

Sheet 3 Complexities
G2: EPR- Installations Charging Scheme Complexity - Application of Rules
P3: Rule 6 | Q3: Rule 7
P4: This rule is applied if your site is >50Ha The first and highest complexity letter after any E will be increased by one - so a D would be come an E or a C would become a D or a B would become a C or an A would become a B | Q4: This rule is automatically applied if the number of complexities are >6. It drops the complexity by one band for the seventh and subsequent complexity scores
B5: Organisation name | D5: =+Introduction!E10 -> Tradebe Healthcare National Limited | G5: Rule 3 is applied when there are 4 or more of the identical Schedule reference and the same throughput band the complexity score is "*capped" | P5: Is the site >50 Ha? Please answer Y/N below
B6: Permit number | D6: =+Introduction!K10 -> EPR/WP3636ZG | P6: No
C7: Complexities transferred from 1 Listed activities tab | G7: Rule 3 capping applied but not sorted | L7: Rule 3 applied and sorted
B8: Former Permit Ref (if applicable) | C8: Description / Aggregation Group | D8: Schedule 1 Ref | E8: Complexity | G8: Description / Aggregation Group | H8: Schedule 1 Ref | I8: Complexity | J8: capped Unsorted | L8: Description / Aggregation Group | M8: Schedule 1 Ref | N8: Complexity | O8: capped sorted | P8: Rule 6 | Q8: Rule 7 | S8: e | T8: d | U8: c | V8: b | W8: a
B9: 1 | C9: =+'1 Listed activity'!D8 -> PHYSIO-CHEMICAL TREATMENT OF HAZARDOUS AND NON HAZARDOUS HEALTHCARE WASTE >20T / DAY | D9: =+'1 Listed activity'!E8 -> 5.3 Part A (1) a) (ii) | E9: =+'1 Listed activity'!F8 -> B | F9: =+B9 -> 1 | G9: {=_xlfn.SORTBY(C9:E38,D9:D38,-1)} -> PHYSIO-CHEMICAL TREATMENT OF HAZARDOUS AND NON HAZARDOUS HEALTHCARE WASTE >20T / DAY | H9: 5.3 Part A (1) a) (ii) | I9: B | J9: =IF(H9=0,"",IF(COUNTIF($H$9:H9,H9)>3,"*Capped",I9)) -> B | L9: {=_xlfn.SORTBY(G9:J38,J9:J38,-1)} -> PHYSIO-CHEMICAL TREATMENT OF HAZARDOUS AND NON HAZARDOUS HEALTHCARE WASTE >20T / DAY | M9: 5.3 Part A (1) a) (ii) | N9: B | O9: B | P9: =IF(O9="E","E",IF(AND(T9=1,$P$6="yes",O9="D"),"E",IF(AND(U9=1,$P$6="yes",O9="C"),"D",IF(AND(V9=1,$P$6="yes",O9="b"),"c",IF(AND(W9=1,$P$6="yes",O9="a"),"b",IF($P$6="no",O9,O9)))))) -> B | Q9: =IF(P9=0,"",IF(AND(F9>6,P9="E"),"D",IF(AND(F9>6,P9="D"),"C",IF(AND(F9>6,P9="C"),"B",IF(AND(F9>6,P9="B"),"A",P9))))) -> B | S9: =COUNTIF($O$9:O9,$S$8) -> 0 | T9: =COUNTIF($O$9:O9,$T$8) -> 0 | U9: =IF(T9=0,COUNTIF($O$9:O9,$U$8),0) -> 0 | V9: =IF(SUM(T9:U9)=0,COUNTIF($O$9:O9,$V$8),0) -> 1 | W9: =IF(SUM(T9:V9)=0,COUNTIF($O$9:O9,$W$8),0) -> 0
B10: 2 | C10: =+'1 Listed activity'!D9 -> STORAGE OF HAZARDOUS AND NON HAZARDOUS HEALTHCARE WASTE PRIOR TO TREATMENT / DISPOSAL OFFSITE >10T / DAY | D10: =+'1 Listed activity'!E9 -> 5.3 Part A (1) a) (ii) | E10: =+'1 Listed activity'!F9 -> B | F10: =+B10 -> 2 | G10: STORAGE OF HAZARDOUS AND NON HAZARDOUS HEALTHCARE WASTE PRIOR TO TREATMENT / DISPOSAL OFFSITE >10T / DAY | H10: 5.3 Part A (1) a) (ii) | I10: B | J10: =IF(H10=0,"",IF(COUNTIF($H$9:H10,H10)>3,"*Capped",I10)) -> B | L10: STORAGE OF HAZARDOUS AND NON HAZARDOUS HEALTHCARE WASTE PRIOR TO TREATMENT / DISPOSAL OFFSITE >10T / DAY | M10: 5.3 Part A (1) a) (ii) | N10: B | O10: B | P10: =IF(O10="E","E",IF(AND(T10=1,$P$6="yes",O10="D"),"E",IF(AND(U10=1,$P$6="yes",O10="C"),"D",IF(AND(V10=1,$P$6="yes",O10="B"),"c",IF(AND(W10=1,$P$6="yes",O10="A"),"b",IF($P$6="no",O10,O10)))))) -> B | Q10: =IF(P10=0,"",IF(AND(F10>6,P10="E"),"D",IF(AND(F10>6,P10="D"),"C",IF(AND(F10>6,P10="C"),"B",IF(AND(F10>6,P10="B"),"A",P10))))) -> B | S10: =COUNTIF($O$9:O10,$S$8) -> 0 | T10: =COUNTIF($O$9:O10,$T$8) -> 0 | U10: =IF(T10=0,COUNTIF($O$9:O10,$U$8),0) -> 0 | V10: =IF(SUM(T10:U10)=0,COUNTIF($O$9:O10,$V$8),0) -> 2 | W10: =IF(SUM(T10:V10)=0,COUNTIF($O$9:O10,$W$8),0) -> 0
B11: 3 | C11: =+'1 Listed activity'!D10 -> 0 | D11: =+'1 Listed activity'!E10 -> 0 | E11: =+'1 Listed activity'!F10 | F11: =+B11 -> 3 | G11: 0 | H11: 0 | J11: =IF(H11=0,"",IF(COUNTIF($H$9:H11,H11)>3,"*Capped",I11)) | L11: 0 | M11: 0 | P11: =IF(O11="E","E",IF(AND(T11=1,$P$6="yes",O11="D"),"E",IF(AND(U11=1,$P$6="yes",O11="C"),"D",IF(AND(V11=1,$P$6="yes",O11="b"),"C",IF(AND(W11=1,$P$6="yes",O11="a"),"B",IF($P$6="no",O11,O11)))))) | Q11: =IF(P11=0,"",IF(AND(F11>6,P11="E"),"D",IF(AND(F11>6,P11="D"),"C",IF(AND(F11>6,P11="C"),"B",IF(AND(F11>6,P11="B"),"A",P11))))) | S11: =COUNTIF($O$9:O11,$S$8) -> 0 | T11: =COUNTIF($O$9:O11,$T$8) -> 0 | U11: =IF(T11=0,COUNTIF($O$9:O11,$U$8),0) -> 0 | V11: =IF(SUM(T11:U11)=0,COUNTIF($O$9:O11,$V$8),0) -> 2 | W11: =IF(SUM(T11:V11)=0,COUNTIF($O$9:O11,$W$8),0) -> 0
B12: 4 | C12: =+'1 Listed activity'!D11 -> 0 | D12: =+'1 Listed activity'!E11 -> 0 | E12: =+'1 Listed activity'!F11 | F12: =+B12 -> 4 | G12: 0 | H12: 0 | J12: =IF(H12=0,"",IF(COUNTIF($H$9:H12,H12)>3,"*Capped",I12)) | L12: 0 | M12: 0 | P12: =IF(O12="E","E",IF(AND(T12=1,$P$6="yes",O12="D"),"E",IF(AND(U12=1,$P$6="yes",O12="C"),"D",IF(AND(V12=1,$P$6="yes",O12="b"),"C",IF(AND(W12=1,$P$6="yes",O12="a"),"B",IF($P$6="no",O12,O12)))))) | Q12: =IF(P12=0,"",IF(AND(F12>6,P12="E"),"D",IF(AND(F12>6,P12="D"),"C",IF(AND(F12>6,P12="C"),"B",IF(AND(F12>6,P12="B"),"A",P12))))) | S12: =COUNTIF($O$9:O12,$S$8) -> 0 | T12: =COUNTIF($O$9:O12,$T$8) -> 0 | U12: =IF(T12=0,COUNTIF($O$9:O12,$U$8),0) -> 0 | V12: =IF(SUM(T12:U12)=0,COUNTIF($O$9:O12,$V$8),0) -> 2 | W12: =IF(SUM(T12:V12)=0,COUNTIF($O$9:O12,$W$8),0) -> 0
B13: 5 | C13: =+'1 Listed activity'!D12 -> 0 | D13: =+'1 Listed activity'!E12 -> 0 | E13: =+'1 Listed activity'!F12 | F13: =+B13 -> 5 | G13: 0 | H13: 0 | J13: =IF(H13=0,"",IF(COUNTIF($H$9:H13,H13)>3,"*Capped",I13)) | L13: 0 | M13: 0 | P13: =IF(O13="E","E",IF(AND(T13=1,$P$6="yes",O13="D"),"E",IF(AND(U13=1,$P$6="yes",O13="C"),"D",IF(AND(V13=1,$P$6="yes",O13="b"),"C",IF(AND(W13=1,$P$6="yes",O13="a"),"B",IF($P$6="no",O13,O13)))))) | Q13: =IF(P13=0,"",IF(AND(F13>6,P13="E"),"D",IF(AND(F13>6,P13="D"),"C",IF(AND(F13>6,P13="C"),"B",IF(AND(F13>6,P13="B"),"A",P13))))) | S13: =COUNTIF($O$9:O13,$S$8) -> 0 | T13: =COUNTIF($O$9:O13,$T$8) -> 0 | U13: =IF(T13=0,COUNTIF($O$9:O13,$U$8),0) -> 0 | V13: =IF(SUM(T13:U13)=0,COUNTIF($O$9:O13,$V$8),0) -> 2 | W13: =IF(SUM(T13:V13)=0,COUNTIF($O$9:O13,$W$8),0) -> 0
B14: 6 | C14: =+'1 Listed activity'!D13 -> 0 | D14: =+'1 Listed activity'!E13 -> 0 | E14: =+'1 Listed activity'!F13 | F14: =+B14 -> 6 | G14: 0 | H14: 0 | J14: =IF(H14=0,"",IF(COUNTIF($H$9:H14,H14)>3,"*Capped",I14)) | L14: 0 | M14: 0 | P14: =IF(O14="E","E",IF(AND(T14=1,$P$6="yes",O14="D"),"E",IF(AND(U14=1,$P$6="yes",O14="C"),"D",IF(AND(V14=1,$P$6="yes",O14="b"),"C",IF(AND(W14=1,$P$6="yes",O14="a"),"B",IF($P$6="no",O14,O14)))))) | Q14: =IF(P14=0,"",IF(AND(F14>6,P14="E"),"D",IF(AND(F14>6,P14="D"),"C",IF(AND(F14>6,P14="C"),"B",IF(AND(F14>6,P14="B"),"A",P14))))) | S14: =COUNTIF($O$9:O14,$S$8) -> 0 | T14: =COUNTIF($O$9:O14,$T$8) -> 0 | U14: =IF(T14=0,COUNTIF($O$9:O14,$U$8),0) -> 0 | V14: =IF(SUM(T14:U14)=0,COUNTIF($O$9:O14,$V$8),0) -> 2 | W14: =IF(SUM(T14:V14)=0,COUNTIF($O$9:O14,$W$8),0) -> 0
B15: 7 | C15: =+'1 Listed activity'!D14 -> 0 | D15: =+'1 Listed activity'!E14 -> 0 | E15: =+'1 Listed activity'!F14 | F15: =+B15 -> 7 | G15: 0 | H15: 0 | J15: =IF(H15=0,"",IF(COUNTIF($H$9:H15,H15)>3,"*Capped",I15)) | L15: 0 | M15: 0 | P15: =IF(O15="E","E",IF(AND(T15=1,$P$6="yes",O15="D"),"E",IF(AND(U15=1,$P$6="yes",O15="C"),"D",IF(AND(V15=1,$P$6="yes",O15="b"),"C",IF(AND(W15=1,$P$6="yes",O15="a"),"B",IF($P$6="no",O15,O15)))))) | Q15: =IF(P15=0,"",IF(AND(F15>6,P15="E"),"D",IF(AND(F15>6,P15="D"),"C",IF(AND(F15>6,P15="C"),"B",IF(AND(F15>6,P15="B"),"A",P15))))) | S15: =COUNTIF($O$9:O15,$S$8) -> 0 | T15: =COUNTIF($O$9:O15,$T$8) -> 0 | U15: =IF(T15=0,COUNTIF($O$9:O15,$U$8),0) -> 0 | V15: =IF(SUM(T15:U15)=0,COUNTIF($O$9:O15,$V$8),0) -> 2 | W15: =IF(SUM(T15:V15)=0,COUNTIF($O$9:O15,$W$8),0) -> 0
B16: 8 | C16: =+'1 Listed activity'!D15 -> 0 | D16: =+'1 Listed activity'!E15 -> 0 | E16: =+'1 Listed activity'!F15 | F16: =+B16 -> 8 | G16: 0 | H16: 0 | J16: =IF(H16=0,"",IF(COUNTIF($H$9:H16,H16)>3,"*Capped",I16)) | L16: 0 | M16: 0 | P16: =IF(O16="E","E",IF(AND(T16=1,$P$6="yes",O16="D"),"E",IF(AND(U16=1,$P$6="yes",O16="C"),"D",IF(AND(V16=1,$P$6="yes",O16="b"),"C",IF(AND(W16=1,$P$6="yes",O16="a"),"B",IF($P$6="no",O16,O16)))))) | Q16: =IF(P16=0,"",IF(AND(F16>6,P16="E"),"D",IF(AND(F16>6,P16="D"),"C",IF(AND(F16>6,P16="C"),"B",IF(AND(F16>6,P16="B"),"A",P16))))) | S16: =COUNTIF($O$9:O16,$S$8) -> 0 | T16: =COUNTIF($O$9:O16,$T$8) -> 0 | U16: =IF(T16=0,COUNTIF($O$9:O16,$U$8),0) -> 0 | V16: =IF(SUM(T16:U16)=0,COUNTIF($O$9:O16,$V$8),0) -> 2 | W16: =IF(SUM(T16:V16)=0,COUNTIF($O$9:O16,$W$8),0) -> 0
B17: 9 | C17: =+'1 Listed activity'!D16 -> 0 | D17: =+'1 Listed activity'!E16 -> 0 | E17: =+'1 Listed activity'!F16 | F17: =+B17 -> 9 | G17: 0 | H17: 0 | J17: =IF(H17=0,"",IF(COUNTIF($H$9:H17,H17)>3,"*Capped",I17)) | L17: 0 | M17: 0 | P17: =IF(O17="E","E",IF(AND(T17=1,$P$6="yes",O17="D"),"E",IF(AND(U17=1,$P$6="yes",O17="C"),"D",IF(AND(V17=1,$P$6="yes",O17="b"),"C",IF(AND(W17=1,$P$6="yes",O17="a"),"B",IF($P$6="no",O17,O17)))))) | Q17: =IF(P17=0,"",IF(AND(F17>6,P17="E"),"D",IF(AND(F17>6,P17="D"),"C",IF(AND(F17>6,P17="C"),"B",IF(AND(F17>6,P17="B"),"A",P17))))) | S17: =COUNTIF($O$9:O17,$S$8) -> 0 | T17: =COUNTIF($O$9:O17,$T$8) -> 0 | U17: =IF(T17=0,COUNTIF($O$9:O17,$U$8),0) -> 0 | V17: =IF(SUM(T17:U17)=0,COUNTIF($O$9:O17,$V$8),0) -> 2 | W17: =IF(SUM(T17:V17)=0,COUNTIF($O$9:O17,$W$8),0) -> 0
B18: 10 | C18: =+'1 Listed activity'!D17 -> 0 | D18: =+'1 Listed activity'!E17 -> 0 | E18: =+'1 Listed activity'!F17 | F18: =+B18 -> 10 | G18: 0 | H18: 0 | J18: =IF(H18=0,"",IF(COUNTIF($H$9:H18,H18)>3,"*Capped",I18)) | L18: 0 | M18: 0 | P18: =IF(O18="E","E",IF(AND(T18=1,$P$6="yes",O18="D"),"E",IF(AND(U18=1,$P$6="yes",O18="C"),"D",IF(AND(V18=1,$P$6="yes",O18="b"),"c",IF(AND(W18=1,$P$6="yes",O18="a"),"b",IF($P$6="no",O18,O18)))))) | Q18: =IF(P18=0,"",IF(AND(F18>6,P18="E"),"D",IF(AND(F18>6,P18="D"),"C",IF(AND(F18>6,P18="C"),"B",IF(AND(F18>6,P18="B"),"A",P18))))) | S18: =COUNTIF($O$9:O18,$S$8) -> 0 | T18: =COUNTIF($O$9:O18,$T$8) -> 0 | U18: =IF(T18=0,COUNTIF($O$9:O18,$U$8),0) -> 0 | V18: =IF(SUM(T18:U18)=0,COUNTIF($O$9:O18,$V$8),0) -> 2 | W18: =IF(SUM(T18:V18)=0,COUNTIF($O$9:O18,$W$8),0) -> 0
B19: 11 | C19: =+'1 Listed activity'!D18 -> 0 | D19: =+'1 Listed activity'!E18 -> 0 | E19: =+'1 Listed activity'!F18 | F19: =+B19 -> 11 | G19: 0 | H19: 0 | J19: =IF(H19=0,"",IF(COUNTIF($H$9:H19,H19)>3,"*Capped",I19)) | L19: 0 | M19: 0 | P19: =IF(O19="E","E",IF(AND(T19=1,$P$6="yes",O19="D"),"E",IF(AND(U19=1,$P$6="yes",O19="C"),"D",IF(AND(V19=1,$P$6="yes",O19="b"),"c",IF(AND(W19=1,$P$6="yes",O19="a"),"b",IF($P$6="no",O19,O19)))))) | Q19: =IF(P19=0,"",IF(AND(F19>6,P19="E"),"D",IF(AND(F19>6,P19="D"),"C",IF(AND(F19>6,P19="C"),"B",IF(AND(F19>6,P19="B"),"A",P19))))) | S19: =COUNTIF($O$9:O19,$S$8) -> 0 | T19: =COUNTIF($O$9:O19,$T$8) -> 0 | U19: =IF(T19=0,COUNTIF($O$9:O19,$U$8),0) -> 0 | V19: =IF(SUM(T19:U19)=0,COUNTIF($O$9:O19,$V$8),0) -> 2 | W19: =IF(SUM(T19:V19)=0,COUNTIF($O$9:O19,$W$8),0) -> 0
B20: 12 | C20: =+'1 Listed activity'!D19 -> 0 | D20: =+'1 Listed activity'!E19 -> 0 | E20: =+'1 Listed activity'!F19 | F20: =+B20 -> 12 | G20: 0 | H20: 0 | J20: =IF(H20=0,"",IF(COUNTIF($H$9:H20,H20)>3,"*Capped",I20)) | L20: 0 | M20: 0 | P20: =IF(O20="E","E",IF(AND(T20=1,$P$6="yes",O20="D"),"E",IF(AND(U20=1,$P$6="yes",O20="C"),"D",IF(AND(V20=1,$P$6="yes",O20="b"),"c",IF(AND(W20=1,$P$6="yes",O20="a"),"b",IF($P$6="no",O20,O20)))))) | Q20: =IF(P20=0,"",IF(AND(F20>6,P20="E"),"D",IF(AND(F20>6,P20="D"),"C",IF(AND(F20>6,P20="C"),"B",IF(AND(F20>6,P20="B"),"A",P20))))) | S20: =COUNTIF($O$9:O20,$S$8) -> 0 | T20: =COUNTIF($O$9:O20,$T$8) -> 0 | U20: =IF(T20=0,COUNTIF($O$9:O20,$U$8),0) -> 0 | V20: =IF(SUM(T20:U20)=0,COUNTIF($O$9:O20,$V$8),0) -> 2 | W20: =IF(SUM(T20:V20)=0,COUNTIF($O$9:O20,$W$8),0) -> 0
B21: 13 | C21: =+'1 Listed activity'!D20 -> 0 | D21: =+'1 Listed activity'!E20 -> 0 | E21: =+'1 Listed activity'!F20 | F21: =+B21 -> 13 | G21: 0 | H21: 0 | J21: =IF(H21=0,"",IF(COUNTIF($H$9:H21,H21)>3,"*Capped",I21)) | L21: 0 | M21: 0 | P21: =IF(O21="E","E",IF(AND(T21=1,$P$6="yes",O21="D"),"E",IF(AND(U21=1,$P$6="yes",O21="C"),"D",IF(AND(V21=1,$P$6="yes",O21="b"),"c",IF(AND(W21=1,$P$6="yes",O21="a"),"b",IF($P$6="no",O21,O21)))))) | Q21: =IF(P21=0,"",IF(AND(F21>6,P21="E"),"D",IF(AND(F21>6,P21="D"),"C",IF(AND(F21>6,P21="C"),"B",IF(AND(F21>6,P21="B"),"A",P21))))) | S21: =COUNTIF($O$9:O21,$S$8) -> 0 | T21: =COUNTIF($O$9:O21,$T$8) -> 0 | U21: =IF(T21=0,COUNTIF($O$9:O21,$U$8),0) -> 0 | V21: =IF(SUM(T21:U21)=0,COUNTIF($O$9:O21,$V$8),0) -> 2 | W21: =IF(SUM(T21:V21)=0,COUNTIF($O$9:O21,$W$8),0) -> 0
B22: 14 | C22: =+'1 Listed activity'!D21 -> 0 | D22: =+'1 Listed activity'!E21 -> 0 | E22: =+'1 Listed activity'!F21 | F22: =+B22 -> 14 | G22: 0 | H22: 0 | J22: =IF(H22=0,"",IF(COUNTIF($H$9:H22,H22)>3,"*Capped",I22)) | L22: 0 | M22: 0 | P22: =IF(O22="E","E",IF(AND(T22=1,$P$6="yes",O22="D"),"E",IF(AND(U22=1,$P$6="yes",O22="C"),"D",IF(AND(V22=1,$P$6="yes",O22="b"),"c",IF(AND(W22=1,$P$6="yes",O22="a"),"b",IF($P$6="no",O22,O22)))))) | Q22: =IF(P22=0,"",IF(AND(F22>6,P22="E"),"D",IF(AND(F22>6,P22="D"),"C",IF(AND(F22>6,P22="C"),"B",IF(AND(F22>6,P22="B"),"A",P22))))) | S22: =COUNTIF($O$9:O22,$S$8) -> 0 | T22: =COUNTIF($O$9:O22,$T$8) -> 0 | U22: =IF(T22=0,COUNTIF($O$9:O22,$U$8),0) -> 0 | V22: =IF(SUM(T22:U22)=0,COUNTIF($O$9:O22,$V$8),0) -> 2 | W22: =IF(SUM(T22:V22)=0,COUNTIF($O$9:O22,$W$8),0) -> 0
B23: 15 | C23: =+'1 Listed activity'!D22 -> 0 | D23: =+'1 Listed activity'!E22 -> 0 | E23: =+'1 Listed activity'!F22 | F23: =+B23 -> 15 | G23: 0 | H23: 0 | J23: =IF(H23=0,"",IF(COUNTIF($H$9:H23,H23)>3,"*Capped",I23)) | L23: 0 | M23: 0 | P23: =IF(O23="E","E",IF(AND(T23=1,$P$6="yes",O23="D"),"E",IF(AND(U23=1,$P$6="yes",O23="C"),"D",IF(AND(V23=1,$P$6="yes",O23="b"),"c",IF(AND(W23=1,$P$6="yes",O23="a"),"b",IF($P$6="no",O23,O23)))))) | Q23: =IF(P23=0,"",IF(AND(F23>6,P23="E"),"D",IF(AND(F23>6,P23="D"),"C",IF(AND(F23>6,P23="C"),"B",IF(AND(F23>6,P23="B"),"A",P23))))) | S23: =COUNTIF($O$9:O23,$S$8) -> 0 | T23: =COUNTIF($O$9:O23,$T$8) -> 0 | U23: =IF(T23=0,COUNTIF($O$9:O23,$U$8),0) -> 0 | V23: =IF(SUM(T23:U23)=0,COUNTIF($O$9:O23,$V$8),0) -> 2 | W23: =IF(SUM(T23:V23)=0,COUNTIF($O$9:O23,$W$8),0) -> 0
B24: 16 | C24: =+'1 Listed activity'!D23 -> 0 | D24: =+'1 Listed activity'!E23 -> 0 | E24: =+'1 Listed activity'!F23 | F24: =+B24 -> 16 | G24: 0 | H24: 0 | J24: =IF(H24=0,"",IF(COUNTIF($H$9:H24,H24)>3,"*Capped",I24)) | L24: 0 | M24: 0 | P24: =IF(O24="E","E",IF(AND(T24=1,$P$6="yes",O24="D"),"E",IF(AND(U24=1,$P$6="yes",O24="C"),"D",IF(AND(V24=1,$P$6="yes",O24="b"),"c",IF(AND(W24=1,$P$6="yes",O24="a"),"b",IF($P$6="no",O24,O24)))))) | Q24: =IF(P24=0,"",IF(AND(F24>6,P24="E"),"D",IF(AND(F24>6,P24="D"),"C",IF(AND(F24>6,P24="C"),"B",IF(AND(F24>6,P24="B"),"A",P24))))) | S24: =COUNTIF($O$9:O24,$S$8) -> 0 | T24: =COUNTIF($O$9:O24,$T$8) -> 0 | U24: =IF(T24=0,COUNTIF($O$9:O24,$U$8),0) -> 0 | V24: =IF(SUM(T24:U24)=0,COUNTIF($O$9:O24,$V$8),0) -> 2 | W24: =IF(SUM(T24:V24)=0,COUNTIF($O$9:O24,$W$8),0) -> 0
B25: 17 | C25: =+'1 Listed activity'!D24 -> 0 | D25: =+'1 Listed activity'!E24 -> 0 | E25: =+'1 Listed activity'!F24 | F25: =+B25 -> 17 | G25: 0 | H25: 0 | J25: =IF(H25=0,"",IF(COUNTIF($H$9:H25,H25)>3,"*Capped",I25)) | L25: 0 | M25: 0 | P25: =IF(O25="E","E",IF(AND(T25=1,$P$6="yes",O25="D"),"E",IF(AND(U25=1,$P$6="yes",O25="C"),"D",IF(AND(V25=1,$P$6="yes",O25="b"),"c",IF(AND(W25=1,$P$6="yes",O25="a"),"b",IF($P$6="no",O25,O25)))))) | Q25: =IF(P25=0,"",IF(AND(F25>6,P25="E"),"D",IF(AND(F25>6,P25="D"),"C",IF(AND(F25>6,P25="C"),"B",IF(AND(F25>6,P25="B"),"A",P25))))) | S25: =COUNTIF($O$9:O25,$S$8) -> 0 | T25: =COUNTIF($O$9:O25,$T$8) -> 0 | U25: =IF(T25=0,COUNTIF($O$9:O25,$U$8),0) -> 0 | V25: =IF(SUM(T25:U25)=0,COUNTIF($O$9:O25,$V$8),0) -> 2 | W25: =IF(SUM(T25:V25)=0,COUNTIF($O$9:O25,$W$8),0) -> 0
B26: 18 | C26: =+'1 Listed activity'!D25 -> 0 | D26: =+'1 Listed activity'!E25 -> 0 | E26: =+'1 Listed activity'!F25 | F26: =+B26 -> 18 | G26: 0 | H26: 0 | J26: =IF(H26=0,"",IF(COUNTIF($H$9:H26,H26)>3,"*Capped",I26)) | L26: 0 | M26: 0 | P26: =IF(O26="E","E",IF(AND(T26=1,$P$6="yes",O26="D"),"E",IF(AND(U26=1,$P$6="yes",O26="C"),"D",IF(AND(V26=1,$P$6="yes",O26="b"),"c",IF(AND(W26=1,$P$6="yes",O26="a"),"b",IF($P$6="no",O26,O26)))))) | Q26: =IF(P26=0,"",IF(AND(F26>6,P26="E"),"D",IF(AND(F26>6,P26="D"),"C",IF(AND(F26>6,P26="C"),"B",IF(AND(F26>6,P26="B"),"A",P26))))) | S26: =COUNTIF($O$9:O26,$S$8) -> 0 | T26: =COUNTIF($O$9:O26,$T$8) -> 0 | U26: =IF(T26=0,COUNTIF($O$9:O26,$U$8),0) -> 0 | V26: =IF(SUM(T26:U26)=0,COUNTIF($O$9:O26,$V$8),0) -> 2 | W26: =IF(SUM(T26:V26)=0,COUNTIF($O$9:O26,$W$8),0) -> 0
B27: 19 | C27: =+'1 Listed activity'!D26 -> 0 | D27: =+'1 Listed activity'!E26 -> 0 | E27: =+'1 Listed activity'!F26 | F27: =+B27 -> 19 | G27: 0 | H27: 0 | J27: =IF(H27=0,"",IF(COUNTIF($H$9:H27,H27)>3,"*Capped",I27)) | L27: 0 | M27: 0 | P27: =IF(O27="E","E",IF(AND(T27=1,$P$6="yes",O27="D"),"E",IF(AND(U27=1,$P$6="yes",O27="C"),"D",IF(AND(V27=1,$P$6="yes",O27="b"),"c",IF(AND(W27=1,$P$6="yes",O27="a"),"b",IF($P$6="no",O27,O27)))))) | Q27: =IF(P27=0,"",IF(AND(F27>6,P27="E"),"D",IF(AND(F27>6,P27="D"),"C",IF(AND(F27>6,P27="C"),"B",IF(AND(F27>6,P27="B"),"A",P27))))) | S27: =COUNTIF($O$9:O27,$S$8) -> 0 | T27: =COUNTIF($O$9:O27,$T$8) -> 0 | U27: =IF(T27=0,COUNTIF($O$9:O27,$U$8),0) -> 0 | V27: =IF(SUM(T27:U27)=0,COUNTIF($O$9:O27,$V$8),0) -> 2 | W27: =IF(SUM(T27:V27)=0,COUNTIF($O$9:O27,$W$8),0) -> 0
B28: 20 | C28: =+'1 Listed activity'!D27 -> 0 | D28: =+'1 Listed activity'!E27 -> 0 | E28: =+'1 Listed activity'!F27 | F28: =+B28 -> 20 | G28: 0 | H28: 0 | J28: =IF(H28=0,"",IF(COUNTIF($H$9:H28,H28)>3,"*Capped",I28)) | L28: 0 | M28: 0 | P28: =IF(O28="E","E",IF(AND(T28=1,$P$6="yes",O28="D"),"E",IF(AND(U28=1,$P$6="yes",O28="C"),"D",IF(AND(V28=1,$P$6="yes",O28="b"),"c",IF(AND(W28=1,$P$6="yes",O28="a"),"b",IF($P$6="no",O28,O28)))))) | Q28: =IF(P28=0,"",IF(AND(F28>6,P28="E"),"D",IF(AND(F28>6,P28="D"),"C",IF(AND(F28>6,P28="C"),"B",IF(AND(F28>6,P28="B"),"A",P28))))) | S28: =COUNTIF($O$9:O28,$S$8) -> 0 | T28: =COUNTIF($O$9:O28,$T$8) -> 0 | U28: =IF(T28=0,COUNTIF($O$9:O28,$U$8),0) -> 0 | V28: =IF(SUM(T28:U28)=0,COUNTIF($O$9:O28,$V$8),0) -> 2 | W28: =IF(SUM(T28:V28)=0,COUNTIF($O$9:O28,$W$8),0) -> 0
B29: 21 | C29: =+'1 Listed activity'!D28 -> 0 | D29: =+'1 Listed activity'!E28 -> 0 | E29: =+'1 Listed activity'!F28 | F29: =+B29 -> 21 | G29: 0 | H29: 0 | J29: =IF(H29=0,"",IF(COUNTIF($H$9:H29,H29)>3,"*Capped",I29)) | L29: 0 | M29: 0 | P29: =IF(O29="E","E",IF(AND(T29=1,$P$6="yes",O29="D"),"E",IF(AND(U29=1,$P$6="yes",O29="C"),"D",IF(AND(V29=1,$P$6="yes",O29="b"),"c",IF(AND(W29=1,$P$6="yes",O29="a"),"b",IF($P$6="no",O29,O29)))))) | Q29: =IF(P29=0,"",IF(AND(F29>6,P29="E"),"D",IF(AND(F29>6,P29="D"),"C",IF(AND(F29>6,P29="C"),"B",IF(AND(F29>6,P29="B"),"A",P29))))) | S29: =COUNTIF($O$9:O29,$S$8) -> 0 | T29: =COUNTIF($O$9:O29,$T$8) -> 0 | U29: =IF(T29=0,COUNTIF($O$9:O29,$U$8),0) -> 0 | V29: =IF(SUM(T29:U29)=0,COUNTIF($O$9:O29,$V$8),0) -> 2 | W29: =IF(SUM(T29:V29)=0,COUNTIF($O$9:O29,$W$8),0) -> 0
... B33: 25 | C33: =+'1 Listed activity'!D32 -> 0 | D33: =+'1 Listed activity'!E32 -> 0 | E33: =+'1 Listed activity'!F32 | F33: =+B33 -> 25 | G33: 0 | H33: 0 | J33: =IF(H33=0,"",IF(COUNTIF($H$9:H33,H33)>3,"*Capped",I33)) | L33: 0 | M33: 0 | P33: =IF(O33="E","E",IF(AND(T33=1,$P$6="yes",O33="D"),"E",IF(AND(U33=1,$P$6="yes",O33="C"),"D",IF(AND(V33=1,$P$6="yes",O33="b"),"c",IF(AND(W33=1,$P$6="yes",O33="a"),"b",IF($P$6="no",O33,O33)))))) | Q33: =IF(P33=0,"",IF(AND(F33>6,P33="E"),"D",IF(AND(F33>6,P33="D"),"C",IF(AND(F33>6,P33="C"),"B",IF(AND(F33>6,P33="B"),"A",P33))))) | S33: =COUNTIF($O$9:O33,$S$8) -> 0 | T33: =COUNTIF($O$9:O33,$T$8) -> 0 | U33: =IF(T33=0,COUNTIF($O$9:O33,$U$8),0) -> 0 | V33: =IF(SUM(T33:U33)=0,COUNTIF($O$9:O33,$V$8),0) -> 2 | W33: =IF(SUM(T33:V33)=0,COUNTIF($O$9:O33,$W$8),0) -> 0
B34: 26 | F34: =+B34 -> 26 | G34: 0 | H34: 0 | I34: 0 | J34: =IF(H34=0,"",IF(COUNTIF($H$9:H34,H34)>3,"*Capped",I34)) | L34: 0 | M34: 0 | N34: 0 | P34: =IF(O34="E","E",IF(AND(T34=1,$P$6="yes",O34="D"),"E",IF(AND(U34=1,$P$6="yes",O34="C"),"D",IF(AND(V34=1,$P$6="yes",O34="b"),"c",IF(AND(W34=1,$P$6="yes",O34="a"),"b",IF($P$6="no",O34,O34)))))) | Q34: =IF(P34=0,"",IF(AND(F34>6,P34="E"),"D",IF(AND(F34>6,P34="D"),"C",IF(AND(F34>6,P34="C"),"B",IF(AND(F34>6,P34="B"),"A",P34))))) | S34: =COUNTIF($O$9:O34,$S$8) -> 0 | T34: =COUNTIF($O$9:O34,$T$8) -> 0 | U34: =IF(T34=0,COUNTIF($O$9:O34,$U$8),0) -> 0 | V34: =IF(SUM(T34:U34)=0,COUNTIF($O$9:O34,$V$8),0) -> 2 | W34: =IF(SUM(T34:V34)=0,COUNTIF($O$9:O34,$W$8),0) -> 0
B35: 27 | F35: =+B35 -> 27 | G35: 0 | H35: 0 | I35: 0 | J35: =IF(H35=0,"",IF(COUNTIF($H$9:H35,H35)>3,"*Capped",I35)) | L35: 0 | M35: 0 | N35: 0 | P35: =IF(O35="E","E",IF(AND(T35=1,$P$6="yes",O35="D"),"E",IF(AND(U35=1,$P$6="yes",O35="C"),"D",IF(AND(V35=1,$P$6="yes",O35="b"),"c",IF(AND(W35=1,$P$6="yes",O35="a"),"b",IF($P$6="no",O35,O35)))))) | Q35: =IF(P35=0,"",IF(AND(F35>6,P35="E"),"D",IF(AND(F35>6,P35="D"),"C",IF(AND(F35>6,P35="C"),"B",IF(AND(F35>6,P35="B"),"A",P35))))) | S35: =COUNTIF($O$9:O35,$S$8) -> 0 | T35: =COUNTIF($O$9:O35,$T$8) -> 0 | U35: =IF(T35=0,COUNTIF($O$9:O35,$U$8),0) -> 0 | V35: =IF(SUM(T35:U35)=0,COUNTIF($O$9:O35,$V$8),0) -> 2 | W35: =IF(SUM(T35:V35)=0,COUNTIF($O$9:O35,$W$8),0) -> 0
B36: 28 | F36: =+B36 -> 28 | G36: 0 | H36: 0 | I36: 0 | J36: =IF(H36=0,"",IF(COUNTIF($H$9:H36,H36)>3,"*Capped",I36)) | L36: 0 | M36: 0 | N36: 0 | P36: =IF(O36="E","E",IF(AND(T36=1,$P$6="yes",O36="D"),"E",IF(AND(U36=1,$P$6="yes",O36="C"),"D",IF(AND(V36=1,$P$6="yes",O36="b"),"c",IF(AND(W36=1,$P$6="yes",O36="a"),"b",IF($P$6="no",O36,O36)))))) | Q36: =IF(P36=0,"",IF(AND(F36>6,P36="E"),"D",IF(AND(F36>6,P36="D"),"C",IF(AND(F36>6,P36="C"),"B",IF(AND(F36>6,P36="B"),"A",P36))))) | S36: =COUNTIF($O$9:O36,$S$8) -> 0 | T36: =COUNTIF($O$9:O36,$T$8) -> 0 | U36: =IF(T36=0,COUNTIF($O$9:O36,$U$8),0) -> 0 | V36: =IF(SUM(T36:U36)=0,COUNTIF($O$9:O36,$V$8),0) -> 2 | W36: =IF(SUM(T36:V36)=0,COUNTIF($O$9:O36,$W$8),0) -> 0
B37: 29 | F37: =+B37 -> 29 | G37: 0 | H37: 0 | I37: 0 | J37: =IF(H37=0,"",IF(COUNTIF($H$9:H37,H37)>3,"*Capped",I37)) | L37: 0 | M37: 0 | N37: 0 | P37: =IF(O37="E","E",IF(AND(T37=1,$P$6="yes",O37="D"),"E",IF(AND(U37=1,$P$6="yes",O37="C"),"D",IF(AND(V37=1,$P$6="yes",O37="b"),"c",IF(AND(W37=1,$P$6="yes",O37="a"),"b",IF($P$6="no",O37,O37)))))) | Q37: =IF(P37=0,"",IF(AND(F37>6,P37="E"),"D",IF(AND(F37>6,P37="D"),"C",IF(AND(F37>6,P37="C"),"B",IF(AND(F37>6,P37="B"),"A",P37))))) | S37: =COUNTIF($O$9:O37,$S$8) -> 0 | T37: =COUNTIF($O$9:O37,$T$8) -> 0 | U37: =IF(T37=0,COUNTIF($O$9:O37,$U$8),0) -> 0 | V37: =IF(SUM(T37:U37)=0,COUNTIF($O$9:O37,$V$8),0) -> 2 | W37: =IF(SUM(T37:V37)=0,COUNTIF($O$9:O37,$W$8),0) -> 0
B38: 30 | F38: =+B38 -> 30 | G38: 0 | H38: 0 | I38: 0 | J38: =IF(H38=0,"",IF(COUNTIF($H$9:H38,H38)>3,"*Capped",I38)) | L38: 0 | M38: 0 | N38: 0 | P38: =IF(O38="E","E",IF(AND(T38=1,$P$6="yes",O38="D"),"E",IF(AND(U38=1,$P$6="yes",O38="C"),"D",IF(AND(V38=1,$P$6="yes",O38="b"),"c",IF(AND(W38=1,$P$6="yes",O38="a"),"b",IF($P$6="no",O38,O38)))))) | Q38: =IF(P38=0,"",IF(AND(F38>6,P38="E"),"D",IF(AND(F38>6,P38="D"),"C",IF(AND(F38>6,P38="C"),"B",IF(AND(F38>6,P38="B"),"A",P38))))) | S38: =COUNTIF($O$9:O38,$S$8) -> 0 | T38: =COUNTIF($O$9:O38,$T$8) -> 0 | U38: =IF(T38=0,COUNTIF($O$9:O38,$U$8),0) -> 0 | V38: =IF(SUM(T38:U38)=0,COUNTIF($O$9:O38,$V$8),0) -> 2 | W38: =IF(SUM(T38:V38)=0,COUNTIF($O$9:O38,$W$8),0) -> 0
C43: Summary of Rules Applied | E43: Status | F43: These totals will be carried forward and used to calculate the Opra Risk Summary and Calculation of Charges
C44: Rule 3 | D44: =IF(COUNTIF(O9:O38,"*capped"),"Yes","no") -> no
C45: Rule 4 | D45: No
C46: Rule 5 | D46: N/A
C47: Rule 6 | D47: =+P6 -> No | E47: =IF(P6=0,"Incomplete","Complete") -> Complete
C48: Rule 7 | D48: =IF(AND(F15>6,Q15="e"),"Yes",IF(AND(F15>6,Q15="d"),"C",IF(AND(F15>6,Q15="c"),"Yes",IF(AND(F15>6,Q15,Q15="b"),"Yes",IF(AND(F15>6,Q15,Q15="a"),"Yes","No"))))) -> No
...

Sheet 4 Air
C2: Emissions Attribute - Releases to Air
C4: Organisation Name: | D4: =+Introduction!E10 -> Tradebe Healthcare National Limited | H4: Please check that the data is entered in the correct units. The Emission Index will only show if the data entered exceeds the threshold.
C5: Permit Number: | D5: =+Introduction!K10 -> EPR/WP3636ZG
C6: Please tick box if this sheet is applicable
C7: Substance | D7: Units | E7: Emission Threshold | F7: Maximum Quantity | G7: Emission Index | H7: Notes
C8: Oxides of Sulphur | D8: Tonnes Year | E8: 10 | G8: =IF(F8/E8<1,0,(F8/E8)) -> 0
C9: Oxides of Nitrogen | D9: Tonnes Year | E9: 10 | G9: =IF(F9/E9<1,0,(F9/E9)) -> 0
C10: Carbon Monoxide | D10: Tonnes Year | E10: 1000 | G10: =IF(F10/E10<1,0,(F10/E10)) -> 0
C13: Beryllium | D13: Kg year | E13: 1 | G13: =IF(F13/E13<1,0,(F13/E13)) -> 0
C14: Cadmium | D14: Kg year | E14: 1 | G14: =IF(F14/E14<1,0,(F14/E14)) -> 0
C15: Lead | D15: Kg year | E15: 1 | G15: =IF(F15/E15<1,0,(F15/E15)) -> 0
C16: Mercury | D16: Kg year | E16: 1 | G16: =IF(F16/E16<1,0,(F16/E16)) -> 0
C18: Antimony | D18: Kg year | E18: 10 | G18: =IF(F18/E18<1,0,(F18/E18)) -> 0
C19: Arsenic | D19: Kg year | E19: 10 | G19: =IF(F19/E19<1,0,(F19/E19)) -> 0
C20: Chromium | D20: Kg year | E20: 10 | G20: =IF(F20/E20<1,0,(F20/E20)) -> 0
C21: Nickel | D21: Kg year | E21: 10 | G21: =IF(F21/E21<1,0,(F21/E21)) -> 0
C22: Selenium | D22: Kg year | E22: 10 | G22: =IF(F22/E22<1,0,(F22/E22)) -> 0
C24: Other Metals Specify
D25: Kg year | E25: 100 | G25: =IF(F25/E25<1,0,(F25/E25)) -> 0
D26: Kg year | E26: 100 | G26: =IF(F26/E26<1,0,(F26/E26)) -> 0
D27: Kg year | E27: 100 | G27: =IF(F27/E27<1,0,(F27/E27)) -> 0
D28: Kg year | E28: 100 | G28: =IF(F28/E28<1,0,(F28/E28)) -> 0
D29: Kg year | E29: 100 | G29: =IF(F29/E29<1,0,(F29/E29)) -> 0
C31: Organic Compounds
C32: Dioxins and Furans | D32: mg TEQ year | E32: 0.1 | G32: =IF(F32/E32<1,0,(F32/E32)) -> 0
C33: PCBs | D33: mg TEF year | E33: 0.1 | G33: =IF(F33/E33<1,0,(F33/E33)) -> 0
C35: PAHs as benzo(a)pyrene | D35: Kg year | E35: 1 | G35: =IF(F35/E35<1,0,(F35/E35)) -> 0
C36: Phosgene | D36: Kg year | E36: 1 | G36: =IF(F36/E36<1,0,(F36/E36)) -> 0
C37: Isocyanates | D37: Kg year | E37: 1 | G37: =IF(F37/E37<1,0,(F37/E37)) -> 0
C38: Di-ethyl sulphate | D38: Kg year | E38: 1 | G38: =IF(F38/E38<1,0,(F38/E38)) -> 0
C39: Di-methyl sulphate | D39: Kg year | E39: 1 | G39: =IF(F39/E39<1,0,(F39/E39)) -> 0
C41: Acrylonitrile | D41: Kg year | E41: 10 | G41: =IF(F41/E41<1,0,(F41/E41)) -> 0
C42: Aniline | D42: Kg year | E42: 10 | G42: =IF(F42/E42<1,0,(F42/E42)) -> 0
C43: Benzene | D43: Kg year | E43: 10 | G43: =IF(F43/E43<1,0,(F43/E43)) -> 0
C44: Benzyl Chloride | D44: Kg year | E44: 10 | G44: =IF(F44/E44<1,0,(F44/E44)) -> 0
C45: 1-chloro-2,3-epoxypropane | D45: Kg year | E45: 10 | G45: =IF(F45/E45<1,0,(F45/E45)) -> 0
... C73: PFC's | D73: Kg year | E73: 100 | G73: =IF(F73/E73<1,0,(F73/E73)) -> 0
D74: Kg year
C75: Benzaldehyde | D75: Kg year | E75: 500 | G75: =IF(F75/E75<1,0,(F75/E75)) -> 0
C76: Benzo(a)pyrene | D76: Kg year | E76: 500 | G76: =IF(F76/E76<1,0,(F76/E76)) -> 0
...

Sheet 5 Water
B3: Emissions Attribute - Releases to Water
B5: Organisation Name: | C5: =+Introduction!E10 -> Tradebe Healthcare National Limited | E5: Please check that the data is entered in the correct units. The Emission Index will only show if the data entered exceeds the threshold.
B6: Permit Number: | C6: =+Introduction!K10 -> EPR/WP3636ZG
B7: Please tick box if this sheet is applicable
B8: Substance | C8: Units | D8: Emission Threshold | E8: Maximum Quantity | F8: Emission Index | G8: Notes
B9: Aldrin | C9: Kg year | D9: 0.001 | F9: =IF(E9/D9<1,0,(E9/D9)) -> 0
B10: Azinphos-ethyl | C10: Kg year | D10: 0.001 | F10: =IF(E10/D10<1,0,(E10/D10)) -> 0
B11: DDT all isomers | C11: Kg year | D11: 0.001 | F11: =IF(E11/D11<1,0,(E11/D11)) -> 0
B12: Endosulfan | C12: Kg year | D12: 0.001 | F12: =IF(E12/D12<1,0,(E12/D12)) -> 0
B13: Endrin | C13: Kg year | D13: 0.001 | F13: =IF(E13/D13<1,0,(E13/D13)) -> 0
B14: Fenitrothion | C14: Kg year | D14: 0.001 | F14: =IF(E14/D14<1,0,(E14/D14)) -> 0
B15: Fenthion | C15: Kg year | D15: 0.001 | F15: =IF(E15/D15<1,0,(E15/D15)) -> 0
B16: Isodrin | C16: Kg year | D16: 0.001 | F16: =IF(E16/D16<1,0,(E16/D16)) -> 0
B17: Malathion | C17: Kg year | D17: 0.001 | F17: =IF(E17/D17<1,0,(E17/D17)) -> 0
B18: Parathion | C18: Kg year | D18: 0.001 | F18: =IF(E18/D18<1,0,(E18/D18)) -> 0
B20: Azinphos-methyl | C20: Kg year | D20: 0.01 | F20: =IF(E20/D20<1,0,(E20/D20)) -> 0
B21: Chlorfenvinphos | C21: Kg year | D21: 0.01 | F21: =IF(E21/D21<1,0,(E21/D21)) -> 0
... B40: Trichlorobenzene all isomers | C40: Kg year | D40: 0.1 | F40: =IF(E40/D40<1,0,(E40/D40)) -> 0
C41: Kg year
B42: Benzene | C42: Kg year | D42: 1 | F42: =IF(E42/D42<1,0,(E42/D42)) -> 0
B43: Bentazone | C43: Kg year | D43: 1 | F43: =IF(E43/D43<1,0,(E43/D43)) -> 0
B44: Biphenyl | C44: Kg year | D44: 1 | F44: =IF(E44/D44<1,0,(E44/D44)) -> 0
B45: Carbon Tetrachloride | C45: Kg year | D45: 1 | F45: =IF(E45/D45<1,0,(E45/D45)) -> 0
B46: Chloroform | C46: Kg year | D46: 1 | F46: =IF(E46/D46<1,0,(E46/D46)) -> 0
B47: Chloronitrotoluenes | C47: Kg year | D47: 1 | F47: =IF(E47/D47<1,0,(E47/D47)) -> 0
B48: 4-Chloro-3-Methylphenol | C48: Kg year | D48: 1 | F48: =IF(E48/D48<1,0,(E48/D48)) -> 0
B49: 2-Chlorophenol | C49: Kg year | D49: 1 | F49: =IF(E49/D49<1,0,(E49/D49)) -> 0
B50: 2,4 D non-ester | C50: Kg year | D50: 1 | F50: =IF(E50/D50<1,0,(E50/D50)) -> 0
B51: 2,4 D ester | C51: Kg year | D51: 1 | F51: =IF(E51/D51<1,0,(E51/D51)) -> 0
B52: Demeton | C52: Kg year | D52: 1 | F52: =IF(E52/D52<1,0,(E52/D52)) -> 0
B53: 1,2-Dichloroethane | C53: Kg year | D53: 1 | F53: =IF(E53/D53<1,0,(E53/D53)) -> 0
... B75: Zinc | C75: Kg year | D75: 20 | F75: =IF(E75/D75<1,0,(E75/D75)) -> 0
B77: All consented substances not listed above specify
B78: Table W1 Substances | C78: Kg year | D78: 0.01 | F78: =IF(D78>0,IF(E78/D78<1,0,(E78/D78)),) -> 0
B79: Table W2 Substances | C79: Kg year | D79: 0.1 | F79: =IF(D79>0,IF(E79/D79<1,0,(E79/D79)),) -> 0
B80: Table W3 Substances | C80: Kg year | D80: 1 | F80: =IF(D80>0,IF(E80/D80<1,0,(E80/D80)),) -> 0
B81: Table W4 Substances | C81: Kg year | D81: 20 | F81: =IF(D81>0,IF(E81/D81<1,0,(E81/D81)),) -> 0
B82: Table W5 Substances | C82: Kg year | D82: 100 | F82: =IF(D82>0,IF(E82/D82<1,0,(E82/D82)),) -> 0
C83: Kg year | F83: =IF(D83>0,IF(E83/D83<1,0,(E83/D83)),) -> 0
C84: Kg year | F84: =IF(D84>0,IF(E84/D84<1,0,(E84/D84)),) -> 0
...

Sheet 6 Land
B3: Emissions Attribute Releases to Land
C5: Organisation Name: | D5: =+Introduction!E10 -> Tradebe Healthcare National Limited | F5: Please check that the data is entered in the correct units. The Emission Index will only show if the data entered exceeds the threshold.
C6: Permit Number: | D6: =+Introduction!K10 -> EPR/WP3636ZG
C7: Please tick box if this sheet is applicable
C8: Substance/Landfill Type | D8: Units | E8: Emission Threshold | F8: Maximum Quantity | G8: Emission Index | H8: Notes
C9: Inert waste | D9: Tonnes year | E9: 1000 | G9: =IF(F9/E9<1,0,(F9/E9)) -> 0
C10: Non hazardous waste (non biodegradable) | D10: Tonnes year | E10: 350 | G10: =IF(F10/E10<1,0,(F10/E10)) -> 0
C11: Hazardous waste | D11: Tonnes year | E11: 100 | G11: =IF(F11/E11<1,0,(F11/E11)) -> 0
C12: Non hazardous waste (biodegradable) | D12: Tonnes year | E12: 100 | G12: =IF(F12/E12<1,0,(F12/E12)) -> 0
F14: Total | G14: =SUM(G9:G12) -> 0

Sheet 7 Sewer
B2: Emissions Attribute - Off-site Disposals to Sewer
C4: Organisation Name: | D4: =+Introduction!E10 -> Tradebe Healthcare National Limited | F4: Please check that the data is entered in the correct units.The Emission Index will only show if the data entered exceeds the threshold.
C5: Permit number: | D5: =+Introduction!K10 -> EPR/WP3636ZG
C6: Please tick box if this sheet is applicable
C7: Substance | D7: Units | E7: Emission Threshold | F7: Maximum Quantity | G7: Emission Index | H7: Notes
C8: Aldrin | D8: Kg year | E8: 0.001 | G8: =IF(F8/E8<1,0,(F8/E8)) -> 0
C9: Azinphos-ethyl | D9: Kg year | E9: 0.001 | G9: =IF(F9/E9<1,0,(F9/E9)) -> 0
C10: DDT all isomers | D10: Kg year | E10: 0.001 | G10: =IF(F10/E10<1,0,(F10/E10)) -> 0
C11: Endosulfan | D11: Kg year | E11: 0.001 | G11: =IF(F11/E11<1,0,(F11/E11)) -> 0
C12: Endrin | D12: Kg year | E12: 0.001 | G12: =IF(F12/E12<1,0,(F12/E12)) -> 0
C13: Fenitrothion | D13: Kg year | E13: 0.001 | G13: =IF(F13/E13<1,0,(F13/E13)) -> 0
C14: Fenthion | D14: Kg year | E14: 0.001 | G14: =IF(F14/E14<1,0,(F14/E14)) -> 0
C15: Isodrin | D15: Kg year | E15: 0.001 | G15: =IF(F15/E15<1,0,(F15/E15)) -> 0
C16: Malathion | D16: Kg year | E16: 0.001 | G16: =IF(F16/E16<1,0,(F16/E16)) -> 0
C17: Parathion | D17: Kg year | E17: 0.001 | G17: =IF(F17/E17<1,0,(F17/E17)) -> 0
D18: Kg year
C19: Azinphos-methyl | D19: Kg year | E19: 0.01 | G19: =IF(F19/E19<1,0,(F19/E19)) -> 0
C20: chlorfenvinphos | D20: Kg year | E20: 0.01 | G20: =IF(F20/E20<1,0,(F20/E20)) -> 0
C21: Diazinon | D21: Kg year | E21: 0.01 | G21: =IF(F21/E21<1,0,(F21/E21)) -> 0
C22: Dieldrin | D22: Kg year | E22: 0.01 | G22: =IF(F22/E22<1,0,(F22/E22)) -> 0
C23: Hexachlorobenzene | D23: Kg year | E23: 0.01 | G23: =IF(F23/E23<1,0,(F23/E23)) -> 0
C24: Hexachlorocyclohexanes | D24: Kg year | E24: 0.01 | G24: =IF(F24/E24<1,0,(F24/E24)) -> 0
C25: Hexachlorobutadiene | D25: Kg year | E25: 0.01 | G25: =IF(F25/E25<1,0,(F25/E25)) -> 0
C26: Mevinphos | D26: Kg year | E26: 0.01 | G26: =IF(F26/E26<1,0,(F26/E26)) -> 0
C27: Omethoate | D27: Kg year | E27: 0.01 | G27: =IF(F27/E27<1,0,(F27/E27)) -> 0
C28: Parathion methyl | D28: Kg year | E28: 0.01 | G28: =IF(F28/E28<1,0,(F28/E28)) -> 0
C29: Permethrin | D29: Kg year | E29: 0.01 | G29: =IF(F29/E29<1,0,(F29/E29)) -> 0
C30: Polychlorinated biphenyls | D30: Kg year | E30: 0.01 | G30: =IF(F30/E30<1,0,(F30/E30)) -> 0
... C74: Zinc | D74: Kg year | E74: 20 | G74: =IF(F74/E74<1,0,(F74/E74)) -> 0
C76: All consented substances not listed above specify
C77: Chemical Oxygen Demand | D77: Kg year | E77: 10000 | G77: =IF(F77/E77<1,0,(F77/E77)) -> 0
C78: Suspended Solids | D78: Kg year | E78: 10000 | G78: =IF(F78/E78<1,0,(F78/E78)) -> 0
C79: Table S1 Substances | D79: Kg year | E79: 0.01 | G79: =IF(E79>0,IF(F79/E79<1,0,(F79/E79)),) -> 0
C80: Table S2 Substances | D80: Kg year | E80: 0.1 | G80: =IF(E80>0,IF(F80/E80<1,0,(F80/E80)),) -> 0
C81: Table S3 Substances | D81: Kg year | E81: 1 | G81: =IF(E81>0,IF(F81/E81<1,0,(F81/E81)),) -> 0
C82: Table S4 Substances | D82: Kg year | E82: 20 | G82: =IF(E82>0,IF(F82/E82<1,0,(F82/E82)),) -> 0
C83: Table S5 Substances | D83: Kg year | E83: 100 | G83: =IF(E83>0,IF(F83/E83<1,0,(F83/E83)),) -> 0
D84: Kg year | G84: =IF(E84>0,IF(F84/E84<1,0,(F84/E84)),) -> 0
C85: Commercial in Confidence If you need to use these entries please contact your local NRW office
G86: 0
...

Sheet 8 Waste
C3: Emissions Attribute - Off-site Disposals of Waste
C5: Organisation Name: | D5: =+Introduction!E10 -> Tradebe Healthcare National Limited | F5: Please check that the data is entered in the correct units. The Emission Index will only show if the data entered exceeds the threshold.
C6: Permit Number: | D6: =+Introduction!K10 -> EPR/WP3636ZG
C8: Substance | D8: Units | E8: Emission Threshold | F8: Maximum Quantity | G8: Emission Index | H8: Notes
C9: Inert waste | D9: Tonnes year | E9: 1000 | G9: =IF(F9/E9<1,0,(F9/E9)) -> 0
C10: Non hazardous waste (non biodegradable) | D10: Tonnes year | E10: 350 | F10: 1396.79 | G10: =IF(F10/E10<1,0,(F10/E10)) -> 3.9908286 | H10: Onwards treatment 18 01 03 and limited incineration
C11: Hazardous waste | D11: Tonnes year | E11: 100 | G11: =IF(F11/E11<1,0,(F11/E11)) -> 0
C12: Non hazardous waste (biodegradable) | D12: Tonnes year | E12: 100 | G12: =IF(F12/E12<1,0,(F12/E12)) -> 0
E13: Total | G13: =SUM(G9:G12) -> 3.9908286
E14: Weighting Factor | G14: 0.33 | H14: (Weighting factor = 0.33)
E15: Weighted Total | G15: =G13*G14 -> 1.3169734
C22: Emissions Attribute - Off-site Recovery, Recycling, Re-use of Waste
C24: Installation Name: | D24: =D5 -> Tradebe Healthcare National Limited | F24: Please check that the data is entered in the correct units. The Emission Index will only show if the data entered exceeds the threshold.
C25: Permit Number: | D25: =D6 -> EPR/WP3636ZG
C27: Substance | D27: Units | E27: Emission Threshold | F27: Maximum Quantity | G27: Emission Index | H27: Notes
C28: Inert waste | D28: Tonnes year | E28: 1000 | G28: =IF(F28/E28<1,0,(F28/E28)) -> 0
C29: Non hazardous waste (non biodegradable) | D29: Tonnes year | E29: 350 | G29: =IF(F29/E29<1,0,(F29/E29)) -> 0
C30: Hazardous waste | D30: Tonnes year | E30: 100 | G30: =IF(F30/E30<1,0,(F30/E30)) -> 0
C31: Non hazardous waste (biodegradable) | D31: Tonnes year | E31: 100 | G31: =IF(F31/E31<1,0,(F31/E31)) -> 0
E33: Total | G33: =SUM(G28:G31) -> 0
E34: Weighting Factor | G34: 0.1 | H34: (Weighting factor = 0.1)
E35: Weighted Total | G35: =G33*G34 -> 0
E36: Off-Site Total | G36: =G15+G35 -> 1.3169734
B39: The table below should only be completed for S5.3 or 5.4 activities. For these activities the Off-Site Waste tables above should be left blank
C41: Emissions Attribute - Waste Input
C43: Installation Name: | D43: =D24 -> Tradebe Healthcare National Limited | F43: Please check that the data is entered in the correct units. The Emission Index will only show if the data entered exceeds the threshold.
C44: Permit Number: | D44: =D25 -> EPR/WP3636ZG
C46: Substance | D46: Units | E46: Emission Threshold | F46: Maximum Quantity | G46: Emission Index | H46: Notes
C47: Inert waste | D47: Tonnes year | E47: 1000 | G47: =IF(F47/E47<1,0,(F47/E47)) -> 0
C48: Non hazardous waste (non biodegradable) | D48: Tonnes year | E48: 750 | F48: 996 | G48: =IF(F48/E48<1,0,(F48/E48)) -> 1.328
C49: Hazardous waste | D49: Tonnes year | E49: 250 | F49: 417.8 | G49: =IF(F49/E49<1,0,(F49/E49)) -> 1.6712
C50: Non hazardous waste (biodegradable) | D50: Tonnes year | E50: 500 | G50: =IF(F50/E50<1,0,(F50/E50)) -> 0
E52: Waste Input Total | G52: =SUM(G47:G50) -> 2.9992

Sheet 9 Emissions summary
B4: Emissions Attribute Summary Sheet
C6: Organisation name | D6: =+Introduction!E10 -> Tradebe Healthcare National Limited
C7: Permit Number: | D7: =+Introduction!K10 -> EPR/WP3636ZG
C9: Pathway | D9: Overall Emission Index
C10: Air | D10: =ROUND('4 Air'!G129,0) -> 0
C11: Water | D11: =ROUND('5 Water'!F91,0) -> 0
C12: Land | D12: =ROUND('6 Land'!G14,0) -> 0
C13: Sewer | D13: =ROUND('7 Sewer'!G92,0) -> 0
C14: Waste Off Site | D14: =ROUND('8 Waste'!G36,0) -> 1
C15: Waste Input | D15: =ROUND('8 Waste'!G52,0) -> 3
C23: Pathway | D23: Band
C24: Air | D24: =IF(D10>0,IF(D10>=10,IF(D10>=100,IF(D10>=1000,IF(D10>=10000,5,4),3),2),1),0) -> 0 | E24: =IF(D24=0,"-",IF(D24=1,"A",IF(D24=2,"B",IF(D24=3,"C",IF(D24=4,"D","E"))))) -> -
C25: Water | D25: =IF(D11>0,IF(D11>=10,IF(D11>=100,IF(D11>=1000,IF(D11>=10000,5,4),3),2),1),0) -> 0 | E25: =IF(D25=0,"-",IF(D25=1,"A",IF(D25=2,"B",IF(D25=3,"C",IF(D25=4,"D","E"))))) -> -
C26: Land | D26: =IF(D12>0,IF(D12>=10,IF(D12>=100,IF(D12>=1000,IF(D12>=10000,5,4),3),2),1),0) -> 0 | E26: =IF(D26=0,"-",IF(D26=1,"A",IF(D26=2,"B",IF(D26=3,"C",IF(D26=4,"D","E"))))) -> -
C27: Sewer | D27: =IF(D13>0,IF(D13>=10,IF(D13>=100,IF(D13>=1000,IF(D13>=10000,5,4),3),2),1),0) -> 0 | E27: =IF(D27=0,"-",IF(D27=1,"A",IF(D27=2,"B",IF(D27=3,"C",IF(D27=4,"D","E"))))) -> -
C28: Waste Off Site | D28: =IF(D14>0,IF(D14>=10,IF(D14>=100,IF(D14>=1000,IF(D14>=10000,5,4),3),2),1),0) -> 1 | E28: =IF(D28=0,"-",IF(D28=1,"A",IF(D28=2,"B",IF(D28=3,"C",IF(D28=4,"D","E"))))) -> A
C29: Waste Input | D29: =IF(D15>0,IF(D15>=10,IF(D15>=100,IF(D15>=1000,IF(D15>=10000,5,4),3),2),1),0) -> 1 | E29: =IF(D29=0,"-",IF(D29=1,"A",IF(D29=2,"B",IF(D29=3,"C",IF(D29=4,"D","E"))))) -> A

Sheet 10 Location
B3: Location Attribute
C5: Organisation Name: | D5: =+Introduction!E10 -> Tradebe Healthcare National Limited
C6: Permit Number: | D6: =+Introduction!K10 -> EPR/WP3636ZG
C8: Parameter | D8: Yes/No | E8: Available | F8: Score
C9: Human Occupation/Presence: | F9: =IF(D10="Yes",5,(IF(D12="yes",3,(IF(D14="Yes",1,0))))) -> 5
C10: a) if within 50m of the boundary | D10: Yes | E10: 5
C11: or:
C12: b) if greater than 50m but less than 250m of boundary | D12: No | E12: 3
C13: or:
C14: c) if greater than 250m but less than 1km of boundary | D14: No | E14: 1
C15: If your installation is within a certain distance of Statutory sites designated under Habitats Directive or CROW Act 2000 then the impact of emissions on these conservation areas must be assessed during our determination : | F15: =IF(D16="yes",3,(IF(D18="Yes",2,0))) -> 0
C16: a) if "relevant" under Habitats Directive | D16: No | E16: 3
C17: or
C18: b) if CROW Act 2000 assessment required | D18: No | E18: 2
C19: a) if on an aquifer and within a Groundwater Protection Zone | D19: No | E19: 2 | F19: =IF(D19="yes",2,(IF(D21="Yes",1,0))) -> 1
C20: or
C21: b) if on an aquifer and not within a Groundwater Protection Zone | D21: Yes | E21: 1
C23: Sensitivity of receiving waters (information available from the NRW web site see river basin management plans), if: | D23: see Natural Resources Wales / River basin management plans | F23: =IF(D26="Yes",3,(IF(D25="yes",2,(IF(D24="Yes",1,0))))) -> 2
C24: a) WFD 'Bad' classification (formerly grade 5 ) | D24: No | E24: 1
C25: b) WFD 'Poor' or 'moderate' (previously grade 4 or 3) | D25: Yes | E25: 2
C26: c) WFD 'Good' or 'high' (previously grade 2 or 1) or estuarine | D26: No | E26: 3
C27: a) If there is direct runoff from the site without interceptors or other active control measures | F27: =IF(D28="yes",2,(IF(D30="Yes",1,0))) -> 1
D28: No | E28: 2
C29: or
C30: b) If as above but there are interceptors or active control measures | D30: Yes | E30: 1
C32: a) If within an Air Quality Management Zone (AQMZ) and emit | F32: =IF(D33="Yes",3,(IF(D36="yes",2,(IF(D38="Yes",1,0))))) -> 0
C33: pollutant that has been declared for that AQMZ | D33: No | E33: 3
C34: or
C35: b) If within 2km of an Air Quality Management Zone (AQMZ) and emit
C36: pollutant that has been declared for that AQMZ | D36: No | E36: 2 | F36: 0
C37: or
C38: c) as a) except do not emit pollutants that have be declared for the | D38: No | E38: 1
C39: AQMZ
C40: If within a flood plain | D40: No | E40: 2 | F40: =IF(D40="Yes",2,0) -> 0
C41: Maximum Score = 20 Band A = 0 - 4, B = 5 - 8, C = 9 - 12, D = 13 - 17 and E = 18 - 20 | D41: Total | F41: =SUM(F9:F40) -> 9
D42: Band | F42: =IF(F41>17,"E",(IF(F41>12,"D",(IF(F41>8,"C",(IF(F41>4,"B","A"))))))) -> C
C44: Location attribute | D44: Status
C45: Occupation | D45: =IF(AND(D10=0,D12=0,D14=0),"Incomplete","Complete") -> Complete
C46: Habitats | D46: =IF(AND(D16=0,D18=0),"Incomplete","Complete") -> Complete
C47: Aquifers | D47: =IF(AND(D19=0,D21=0),"Incomplete","Complete") -> Complete
...

Sheet 11 Operator performance
C1: Organisation Name: | D1: =+Introduction!E10 -> Tradebe Healthcare National Limited
C2: Permit Number: | D2: =+Introduction!K10 -> EPR/WP3636ZG
B4: Operator Performance
D6: Yes/No | E6: Points available | F6: Points scored | G6: Post or group responsible for each requirement | I6: Document reference (*) or date by which systems will be in place (*see para 4.4.2)
B8: Operations and Maintenance section - 20%
C9: Effective operational and prev maintenance systems shall be employed on all aspects of the process where any failure could impact on the environment.
B10: 1 | C10: Are there documented operating procedures for operations that may have an adverse impact on the environment? | D10: Yes | E10: 2 | F10: =IF(D10="yes",2,0) -> 2
B11: 2 | C11: Is there a defined procedure for identifying, reviewing and prioritising items of plant for which a preventative maintenance regime is appropriate? | D11: Yes | E11: 2 | F11: =IF(D11="yes",2,0) -> 2
B12: 3 | C12: Are there documented procedures for monitoring emissions or impacts? | D12: Yes | E12: 2 | F12: =IF(D12="yes",2,0) -> 2
B13: 4 | C13: Is there a preventative maintenance programme for those items of plant whose failure could lead to impact on the environment? | D13: Yes | E13: 1 | F13: =IF(D13="yes",1,0) -> 1
B14: 5 | C14: Does the preventative maintenance programme include regular checks and formal inspections of 'static' items such as tanks, pipework, retaining walls, bunds and ducts? | D14: Yes | E14: 1 | F14: =IF(D14="yes",1,0) -> 1
B15: 6 | C15: Do the operations and maintenance systems include auditing environmental performance? | D15: Yes | E15: 2 | F15: =IF(D15="yes",2,0) -> 2
B16: 7 | C16: Are the reports, results and recommendations arising from audits made available to senior management on a regular basis? | D16: Yes | E16: 2 | F16: =IF(D16="yes",2,0) -> 2
B17: 8 | C17: In the last two years, has there been any notifiable incident or release for which lack of maintenance was a contributory cause ? | D17: No | E17: -2 | F17: =IF(D17="yes",-2,0) -> 0
B18: 9 | C18: In the last two years, has there been any notifiable incident or release for which the root cause could not be identified? | D18: No | E18: -3 | F18: =IF(D18="yes",-3,0) -> 0
C19: Operations and Maintenance Total | E19: 12 | F19: =SUM(F10:F18) -> 12 | G19: =+F19/E19 -> 1
B21: Competence and Training - 20%
C22: The Operator shall ensure that all relevant management and operational staff (including contractors and those responsible for purchasing equipment and materials) receive adequate training with regard to their responsibilities under the Permit. Particular attention should be given to the following:
C23:  Minimisation of all potential environmental effects from operation under normal, abnormal, start up and shut down circumstances;
C24:  Prevention of accidental emissions and action to be taken when accidental emissions occur; and
C25:  The need to report deviation from the permit.
B26: 1 | C26: Has a training needs assessment been carried out which: | D26: Yes | E26: 3 | F26: =IF(D26="yes",3,0) -> 3
C27:  Identifies all posts for which specific environmental awareness training is required; and  Identifies the scope and level to which such training is to be given?
B28: 2 | C28: Are training systems in place for all relevant staff that cover the following factors:
C29:  the regulatory requirements associated with the Permit as they affect their work activities and responsibilities; | D29: Yes | E29: 2 | F29: =IF(D29="yes",2,0) -> 2
C30:  likely potential environmental impacts which may be caused by plant under their control. This should cover both normal and abnormal circumstances; | D30: Yes | E30: 2 | F30: =IF(D30="yes",2,0) -> 2
C31:  reporting procedures to inform supervisors or managers of deviations from permit conditions; | D31: Yes | E31: 1 | F31: =IF(D31="yes",1,0) -> 1
C32:  procedures to be used by supervisors or managers and for the reporting of deviations from permit conditions to Natural Resources Wales and | D32: Yes | E32: 2 | F32: =IF(D32="yes",2,0) -> 2
C33:  prevention of accidental emissions and action to be taken when accidental emissions occur? | D33: Yes | E33: 2 | F33: =IF(D33="yes",2,0) -> 2
B34: 3 | C34: Are the skills and competencies necessary for key posts documented and are records of training needs and training received maintained? | D34: Yes | E34: 1 | F34: =IF(D34="yes",1,0) -> 1
B35: 4 | C35: Do the key posts include contractors, those responsible for liaising with contractors and those purchasing equipment and materials? | D35: Yes | E35: 1 | F35: =IF(D35="yes",1,0) -> 1
B36: 5 | C36: Do you assess the potential environmental risks posed by the work of contractors and provide instructions to contractors about protecting the environment while working on site? | D36: Yes | E36: 1 | F36: =IF(D36="yes",1,0) -> 1
B37: 6 | C37: In the last 2 years, have there been any notifiable incidents or releases, which it has been identified that lack of training was a contributory cause ? | D37: No | E37: -2 | F37: =IF(D37="yes",-2,0) -> 0
B38: 7 | C38: Are there industry standards for training in this sector (e.g. WAMITAB) and if so do you apply them? (If no industry standards please use N/A) | D38: Yes | E38: -2 | F38: =IF(D38="no",-2,0) -> 0
B39: 8 | C39: Are individual and organisational training needs reviewed on a regular (e.g. annual) basis? | D39: Yes | E39: 2 | F39: =IF(D39="yes",2,0) -> 2
C40: Competance Training Total | E40: 17 | F40: =SUM(F26:F39) -> 17 | G40: =+F40/E40 -> 1
B42: Emergency planning - 20%
C43: The Operator shall maintain an accident management plan which identifies potential events or failures which might lead to an environmental impact. The plan shall identify:
C44:  the likelihood of, and the actions to be taken to minimise, these potential occurrences;
C45:  the environmental consequences and an action plan to deal with such occurrences;
...

Sheet 12 EP Summary
B2: Organisation Name: | D2: =+Introduction!E10 -> Tradebe Healthcare National Limited
B3: Permit Number: | D3: =+Introduction!K10 -> EPR/WP3636ZG
D5: Profile before any rules or capping applied | F5: Opra Banded Profile used for charging (i.e. after capping and applying rules)
B6: Attribute | D6: Number | E6: Band | F6: Number | G6: Band | H6: Status
B7: Complexity | D7: =+'1 Listed activity'!K8 -> 0 | E7: A | F7: =+'3 Complexities'!E52 -> 0 | G7: A
D8: =+'1 Listed activity'!K9 -> 2 | E8: B | F8: =+'3 Complexities'!E53 -> 2 | G8: B
D9: =+'1 Listed activity'!K10 -> 0 | E9: C | F9: =+'3 Complexities'!E54 -> 0 | G9: C
D10: =+'1 Listed activity'!K11 -> 0 | E10: D | F10: =+'3 Complexities'!E55 -> 0 | G10: D
D11: =+'1 Listed activity'!K12 -> 0 | E11: E | F11: =+'3 Complexities'!E56 -> 0 | G11: E
B12: Emissions | C12: Air | E12: =+'9 Emissions summary'!E24 -> - | G12: =+'9 Emissions summary'!E24 -> -
C13: Water | E13: =+'9 Emissions summary'!E25 -> - | G13: =+'9 Emissions summary'!E25 -> -
C14: Land | E14: =+'9 Emissions summary'!E26 -> - | G14: =+'9 Emissions summary'!E26 -> -
C15: Sewer | E15: =+'9 Emissions summary'!E27 -> - | G15: =+'9 Emissions summary'!E27 -> -
C16: Waste Off Site | E16: =+'9 Emissions summary'!E28 -> A | G16: =+'9 Emissions summary'!E28 -> A
C17: Waste Input | E17: =+'9 Emissions summary'!E29 -> A | G17: =+'9 Emissions summary'!E29 -> A
B18: Location | E18: =+'10 Location'!F42 -> C | G18: =+'10 Location'!F42 -> C | H18: =IF(COUNTIF('10 Location'!D45:D51,"incomplete"),"Incomplete","Complete") -> Complete
B19: Operator Performance | E19: =+'11 Operator performance'!H155 -> A | G19: =+'11 Operator performance'!H155 -> A | H19: =IF(COUNTIF('11 Operator performance'!J163:J166,"incomplete"),"Incomplete","Complete") -> Complete

Sheet 13 Calculation
C3: Organisation Name: | D3: =+Introduction!E10 -> Tradebe Healthcare National Limited | F3: Permit Number: | H3: =+Introduction!K10 -> EPR/WP3636ZG
C5: EPR Installations Application Charge Calculation
C6: (excludes Compliance Rating)
C7: Scoring Summary - Financial
C9: Attribute | D9: Band | E9: Number | F9: Score | G9: Total Score
C10: Complexity | D10: A | E10: =+'12 EP Summary'!F7 -> 0 | F10: 2 | G10: =+F10*E10 -> 0
D11: B | E11: =+'12 EP Summary'!F8 -> 2 | F11: 15 | G11: =+F11*E11 -> 30
D12: C | E12: =+'12 EP Summary'!F9 -> 0 | F12: 45 | G12: =+F12*E12 -> 0
D13: D | E13: =+'12 EP Summary'!F10 -> 0 | F13: 82 | G13: =+F13*E13 -> 0
D14: E | E14: =+'12 EP Summary'!F11 -> 0 | F14: 110 | G14: =+F14*E14 -> 0
C15: Emissions to Air | D15: =+'12 EP Summary'!G12 -> - | G15: =IF(D15="E",50,(IF(D15="D",35,(IF(D15="C",20,(IF(D15="B",10,(IF(D15="A",3,0))))))))) -> 0
C16: Emissions to Water | D16: =+'12 EP Summary'!G13 -> - | G16: =IF(D16="E",50,(IF(D16="D",35,(IF(D16="C",20,(IF(D16="B",10,(IF(D16="A",3,0))))))))) -> 0
C17: Emissions to Land | D17: =+'12 EP Summary'!G14 -> - | G17: =IF(D17="E",50,(IF(D17="D",35,(IF(D17="C",20,(IF(D17="B",10,(IF(D17="A",3,0))))))))) -> 0
C18: Emissions to Sewer | D18: =+'12 EP Summary'!G15 -> - | G18: =IF(D18="E",10,(IF(D18="D",5,(IF(D18="C",3,(IF(D18="B",2,(IF(D18="A",1,0))))))))) -> 0
C19: Emissions to Off-site Waste | D19: =+'12 EP Summary'!G16 -> A | G19: =IF(D19="E",10,(IF(D19="D",5,(IF(D19="C",3,(IF(D19="B",2,(IF(D19="A",1,0))))))))) -> 1
