Workbook
Name CheckDate: #REF!
Name CheckDate: #REF!
Name CheckDate: #REF!
Name CheckDate: #REF!
Name CheckDate: #REF!
Name Checker: #REF!
Name Checker: #REF!
Name Checker: #REF!
Name Checker: #REF!
Name Checker: #REF!
Name Created: #REF!
Name Created: #REF!
Name Created: #REF!
Name Created: #REF!
Name Created: #REF!
Name Divisions: OFFSET('[1]Template Settings'!$B$18,1,0,COUNTA('[1]Template Settings'!$B$19:$B$39),1)
Name EquipmentNames: #REF!
Name FlowConsidered: '[2]Cost Curves'!$C$5
Name LogoList: OFFSET(LogoHeader,2,0,COUNTA('[1]Template Settings'!$B$42:$B$48),1)
Name nrSheets: #REF!
Name nrSheets: #REF!
Name nrSheets: #REF!
Name nrSheets: #REF!
Name nrSheets: #REF!
Name Originator: #REF!
Name Originator: #REF!
Name Originator: #REF!
Name Originator: #REF!
Name Originator: #REF!
Name Phase_Steps_Next: 11
Name Phase_Steps_Start: 9
Name Shape_Font_Size: 8
Name SheetsTop: #REF!
Name SheetsTop: #REF!
Name SheetsTop: #REF!
Name SheetsTop: #REF!
Name SheetsTop: #REF!
Name Total_Installed_Power_Adjusted: #REF!
Name Version: #REF!
Name Version: #REF!
Name Version: #REF!
Name Version: #REF!
Name Version: #REF!
Name WorkbookName: #REF!
Name WorkbookName: #REF!
Name WorkbookName: #REF!
Name WorkbookName: #REF!
Name WorkbookName: #REF!

Sheet 1.Risk assessment
A1: 1.1 | B1: Source
B3: For the purposes of the ABDA Assessment, assets containing sludge have been listed only
B5: Name | C5: Number | D5: Physical properties | E5: Maximum quantity | F5: units | G5: Storage | H5: Flammability | I5: Corrosive | J5: Ecotoxicity (based on LD and quantity) | K5: Hazard rating
B6: Digesters | C6: 2 | D6: Digested sludge | E6: 4,250m3 - Working volume. Overflow in tank does not allow storage in excess of this | F6: m3 | G6: Concrete tank | H6: Methane produced is flammable Digestate isn't flammable | I6: Low | J6: Organic heavy - Nitrogen, Phosphorous, Ammonia, BOD, TSS, COD - Environmental hazard (algae blooms and death of organisms) | K6: M
B7: Post digested sludge storage tank | C7: 1 | D7: Digested sludge | E7: 500 | F7: m3 | G7: GRP above ground tank | H7: Low | I7: Low | J7: Organic heavy - Nitrogen, Phosphorous, Ammonia, BOD, TSS, COD - Environmental hazard (algae blooms and death of organisms) | K7: M
B8: Indigenous sludge silo | C8: 1 | D8: Thickened sludge | E8: 100 | F8: m3 | G8: GFS covered tank | H8: Low | I8: Low | J8: Organic heavy - Nitrogen, Phosphorous, Ammonia, BOD, TSS, COD - Environmental hazard (algae blooms and death of organisms) | K8: M
B9: Thermal Hydrolysis Plant (THP) feed silo | C9: 1 | D9: Thickened sludge | E9: 600 | F9: m3 | G9: GFS covered tank | H9: Low | I9: Low | J9: Organic heavy - Nitrogen, Phosphorous, Ammonia, BOD, TSS, COD - Environmental hazard (algae blooms and death of organisms) Pathogens - Human hazard (E.coli etc.) | K9: M
B10: THP - pulper | C10: 1 | D10: Thickened sludge | E10: 42 | F10: m3 | G10: Stainless steel above ground tank | H10: Low | I10: Low | J10: Organic heavy - Nitrogen, Phosphorous, Ammonia, BOD, TSS, COD - Environmental hazard (algae blooms and death of organisms) Pathogens - Human hazard (E.coli etc.) | K10: M
B11: THP - Reactor | C11: 4 | D11: Thickened sludge | E11: 13 | F11: m3 | G11: Stainless steel above ground tank | H11: Low | I11: Low | J11: Organic heavy - Nitrogen, Phosphorous, Ammonia, BOD, TSS, COD - Environmental hazard (algae blooms and death of organisms) Pathogens - Human hazard (E.coli etc.) | K11: M
B12: THP - flash tank | C12: 1 | D12: Treated sludge | E12: 42 | F12: m3 | G12: Stainless steel above ground tank | H12: Low | I12: Low | J12: Organic heavy - Nitrogen, Phosphorous, Ammonia, BOD, TSS, COD - Environmental hazard (algae blooms and death of organisms) Pathogens - Human hazard (E.coli etc.) | K12: M
B13: Imported cake silo | C13: 2 | D13: Thickened sludge | E13: 40 | F13: m3 | G13: Steel Tank | H13: Low | I13: Low | J13: Organic heavy - Nitrogen, Phosphorous, Ammonia, BOD, TSS, COD - Environmental hazard (algae blooms and death of organisms) Pathogens - Human hazard (E.coli etc.) | K13: M
B14: SAS tank | C14: 1 | D14: Raw sludge | E14: 400 | F14: m3 | G14: Concrete tank | H14: Low | I14: Low | J14: Organic heavy - Nitrogen, Phosphorous, Ammonia, BOD, TSS, COD - Environmental hazard (algae blooms and death of organisms) | K14: M
B15: Cake barn (with 3 Nos. of cake bays) | C15: 1 | D15: Matured sludge | E15: 450 | F15: m3 | G15: Barn | H15: Low | I15: Low | J15: Organic heavy - Nitrogen, Phosphorous, Ammonia, BOD, TSS, COD - Environmental hazard (algae blooms and death of organisms) Pathogens - Human hazard (E.coli etc.) | K15: M
I16: Overall | J16: M
D17: Total Volume | E17: =SUM(E7:E15)+4250+4250 -> 10687 | F17: m3
D18: 25% Volume | E18: =E17*0.25 -> 2671.75 | F18: m3
D19: 110% Largest Tank (Digestor) | E19: =4250*1.1 -> 4675 | F19: m3 | G19: Largest volume of 110% of digestors to be taken forward.
A21: 1.2 | B21: Pathway and Receptor
B22: Source (Digestor)
J47: Figure 1.3 Receptor
B52: Figure 1.1 - Source | E52: Figure 1.2 - Pathway
B55: Pathway - the route from primary containment to receptor (extent of loss of containment) | D55: Time of concentration/ duration of source outside containment | F55: Hazard - Transport potential | I55: Receptor | J55: Hazard - Damage potential
B56: Tanks are surrounded by permeable stone. Based on available ground information, soil is permeable and will act as a pathway | D56: Direct contamination but over an extended period of time | F56: M | I56: Watercourse and bodies
B57: If permeable area gets saturated (high groundwater) or becomes blocked with sludge, areas will act as impermeable and transport sludge downstream. | D57: Direct contamination but over an extended period of time | F57: M | I57: Groundwater (underlain by a secondary aquifer) - contaminated through percolation through soil or through fluctuating tidal groundwater level Over a very long period, can contaminate ocean through groundwater base flow underground | J57: M
B58: Tidally fluctuating groundwater | D58: Direct contamination but over an extended period of time | F58: M | I58: Recreational Waters (sea/beach) - through overland flow from uncontrolled spill. Within 30m of digestor | J58: M
B59: Existing underground services - ductwork, troughs, pipework. | D59: Direct contamination but over an extended period of time | F59: L | I59: Local environment including grassy area - through overland flow from uncontrolled spill. <13m away | J59: M
B60: There is impermeable concrete surfacing around sections of the tank and tarmac road to the north west. If inventory is cascaded onto road, sludge will be transported downstream along the road surface into the road gullies and into the site drainage system (liquor return) | D60: Minutes - hours | F60: M | I60: WWTW - drainage network is connected to liquor return tank returning back to the head of the works (SBR tank) >100m from digestor | J60: M
B61: If the drainage channel were to get blocked, it may overflow locally to the permeable surrounding area. | D61: Minutes - hours | F61: M | I61: Habitation
D62: Overall | F62: M | I62: No dwelling or workplace within 250m of the site | J62: L
I63: Other
I64: No SSSI, RAMSAR etc within 1000m of the site | J64: L
I65: Overall | J65: M
B68: Combination of Hazards | C68: =J16&F62&J65 -> MMM
B71: Overall risk rating for zone (Ciria 736) | C71: M
A75: 1.3 | B75: Frequency of loss of containment
B77: In terms of likelihood of a loss of containment, CIRIA 736 provides these guidelines on quantifying the likelihood...
D79: To derive the likelihood for your site, firstly, using the completed risk descriptions and any additional risks identified at your site ask yourself how often will the risk occur and cause a loss of primary containment.
D80: Secondly, consider any mitigation (see the examples provided in the table starting below row 50 for guidance) and apply the reduced likelihood.
D81: Finally, select the likelihood by applying the fact that the highest likelihood gives the site's overall likelihood.
B84: Failure mode | C84: Description | D84: Existing consequence and mitigation measure | K84: Annual probability of loss of containment | L84: Rating
B85: Operational failure - tank (partial) | C85: Overfilling/overflow of tank Foaming | D85: The digesters are filled automatically at a feed rate from the THP of 10.8l/s. Both digester tanks have high level overflows which connect to a gravity pipe feeding the digested sludge holding tank when levels within the tanks are too high. Sludge supplied to the digesters displace the existing digestate and sludge overflows. All tanks are also covered. In the unlikely event when there is an overflow (overflows blocked and non working volume is filled), the volume lost would be minimal (Assumed <20m3 based on hourly pump flow rate of THP (10.8l/s total)) as the pumps can be inhibited automatically or by operators present onsite. Foaming is a very general failure mode for digesters. Based on operational comments, foaming failure has occurred in the past when the mixers failed due to a power outage. Foaming could occupy up to 2m of height within the digesters. Otherwise, automated and operator safeguards are in place to control or inhibit the process if there is a foaming risk. Total loss of containment is not credible when considering overflowing or foaming of the tank (partial loss of containment would be more likely to occur but is still very unlikely). | K85: 1 in 100 to 1 in 1 Million | L85: M
B86: Structural failure - tank (catastrophic) | C86: Catastrophic failure due to significant external damage Potential to lose total volume if mixer pipework fails/break off of tank - has been a failure mode for digesters in the past | D86: Tanks are located above ground. In the case of significant damage above ground during operation or maintenance, the total volume contained above ground could be lost. It is not credible for the tank to fail catastrophically structurally as the tank is fit for purpose. The tanks were originally designed and constructed to hold hydrolysed sludge and has been operating with no notable concerns. The tanks could lose their full inventory if the pipe connections to the tank fail/break off and fail catastrophically, causing a rupture/hole in the tank, through which the total inventory is lost as mixer pipework is located near the bottom of the tank. This pipework is supported and the connections in the tank wall are cast in with puddle flanges and hydrophilic water bars so this type of failure is not a credible scenario. There are no credible scenarios that could lead to a catastrophic failure of this tank (partial loss of containment would be more likely to occur but still very unlikely). | K86: > 1 in 1 Million | L86: L
B87: Structural failure - tank (partial) | C87: Most likely through cracks formed in concrete Most critical cracks would be large cracks at low level along the side of the tank walls or tank base. Cracks would need to be large >6mm to allow for sludge to pass through the crack freely. General screens at WwTW are 6-10mm, thus cracks would need to be in the same range to allow for sludge to pass freely. Roof failure | D87: Tanks are located above ground. Any significant loss of containment, would spill above ground. Structural failure of the tank would mainly be through cracks. In the case of significant cracks forming above ground, the volume contained above ground would seep through the cracks . If the cracks are significant (>6mm), the tank could potentially lose the above ground volume over a long period of time. This would be identified promptly by operators and the process inhibited immediately. The tank has been designed and constructed to the appropriate code for water retaining concrete structures so this could only reasonably be assumed to occur if the tanks were operated well in excess of their design life without appropriate maintenance or any refurbishment. As the site is manned for 24 hours daily, large drops in levels in the tanks and significant leaks above ground would be noticed. Significant cracks below/above ground would also be easily spotted if tanks are inspected throughout their design life. Partial loss of containment from cracks is still highly unlikely and safeguards are in place to mitigate the impact of such a leak. | K87: > 1 in 1 Million | L87: L
B88: Structural failure - pipework (catastrophic) | C88: Loss of containment due to failure of above ground connecting pipework and rising mains | D88: In the extremely unlikely event where the above ground pipework (rising mains - mixing, feed, de-grit and recirculation pipes) or valves fail completely (PRVs have seized due to corrosion), the total above ground volume could be lost, if the valves are not closed by operational staff or tanks are not drained down to limit loss of containment. In reality, the pumps to and from the digesters would be shut down and the knife gate isolating valves closed immediately, triggered by the automated safeguards (pressure instrumentation). Associated alarms would also be raised to notify the operators. As the site is manned for 24 hours daily, valves can be closed and operated by operational staff if the pipes were to fail and automated safeguards did not function as intended. Total loss of containment is therefore not deemed to be a credible scenario. Partial loss of containment is possible but still highly unlikely when considering larger volumes. | K88: > 1 in 1 Million | L88: L
B89: Structural failure - pipework (partial) | C89: Loss of containment most likely to occur where there are weak points in the pipework - Most likely through failures where pipe connects with the structure, bolts/sealant at pipe flanges/valves or along any pipe pitting. Weak point could be created through either human damage (during maintenance/operation), erosion (high velocities and silt content within the pipe) or environmental (corrosion) Valve failure/seizure | D89: All pipework around the digesters is above ground carbon or stainless steel. If loss of containment occurs above ground through leaks or damage to pipework, due to the permeable stone around tank, sludge will percolate into the soil at a slow rate over a long period. If significant leaks, cascade onto road and concrete hardstanding and ultimately the liquor return tank. Due to the impermeable external surfacing around the concrete bunds, the majority of the sludge from leaks at valves/mixers would be contained within the hardstanding area within the bund and, if significant, cascade into the gullies within the chambers and ultimately the liquor return tank. The quantities of sludge involved is not expected to have an adverse impact on the wastewater treatment process. Any significant leaks/damage to above ground pipes would be noticed and loss of containment would be mitigated through operational measures (closing of valves and isolation of tanks/pipework). This can be achieved quickly due to the manned presence and daily inspection regime. Operational staff stated that corrosion is a significant problem on site ( due to extremities - site is exposed and close to the ocean). Leaks from corrosion (valves, bolts, pitting in pipework) is thus likely to cause partial loss of containment if inspection and maintenance procedures are not followed. A significant failure has not occurred to date. Total loss of containment is not deemed to be a credible scenario. Partial loss of containment is more likely but still highly unlikely when considering larger volumes. | K89: 1 in 100 to 1 in 1 Million | L89: M
B90: Vehicular impact (partial to catastrophic) | C90: Impact from vehicles - damage to pipes or tank causing loss of containment | D90: No known vehicle impacts - vehicular guardrails along access road to protect pipework and tank Vehicular damage assumed mitigated due to existing vehicular impact protection. | K90: 1 in 100 to 1 in 1 Million | L90: M
B91: Vandalism | C91: Vandalism of infrastructure - damage to pipes or tank causing loss of containment | D91: No known vandalism to tanks or pipework - CCTV cameras and automated gates on site. If vandalism damage were to occur, total loss of containment is unlikely due to type of inventory. Partial loss of containment would be more likely to occur if slight damage was done. | K91: > 1 in 1 Million | L91: L
B92: Flooding | C92: River flooding - Flood zone 2 and zone 3 - damage to pipes or tank causing loss of containment | D92: The site is not located within an area with the potential for groundwater flooding to occur. There are no areas of the proposed permit boundary indicated as being affected by sea, river or groundwater flooding. | K92: 1 in 100 to 1 in 1 Million | L92: M
B94: *Site is manned. Probability and frequency thus reduced
B97: Frequency of loss of containment (Ciria 736) | C97: M
A100: 1.4 | B100: Overall zone hazard rating
B102: Overall zone hazard rating (Ciria 736) | C102: Moderate
A105: 1.5 | B105: Containment required
B108: Containment required | C108: Class 2

Sheet 2.Total vol. - Mitigation
A1: 2.1 | B1: Catastrophic failure - modes (loss of containment)
B3: Risk | C3: Cause | D3: Existing consequence and mitigation measure | K3: Existing zone risk rating | L3: Proposed Mitigation | V3: Risk rating after mitigation
C4: Operational failure - tank (partial) | D4: ='1.Risk assessment'!$D$85 -> The digesters are filled automatically at a feed rate from the THP of 10.8l/s. Both digester tanks have high level overflows which connect to a gravity pipe feeding the digested sludge holding tank when levels within the tanks are too high. Sludge supplied to the digesters displace the existing digestate and sludge overflows. All tanks are also covered. In the unlikely event when there is an overflow (overflows blocked and non working volume is filled), the volume lost would be minimal (Assumed <20m3 based on hourly pump flow rate of THP (10.8l/s total)) as the pumps can be inhibited automatically or by operators present onsite. Foaming is a very general failure mode for digesters. Based on operational comments, foaming failure has occurred in the past when the mixers failed due to a power outage. Foaming could occupy up to 2m of height within the digesters. Otherwise, automated and operator safeguards are in place to control or inhibit the process if there is a foaming risk. Total loss of containment is not credible when considering overflowing or foaming of the tank (partial loss of containment would be more likely to occur but is still very unlikely). | K4: ='1.Risk assessment'!L85 -> M | L4: Due to the high level overflows in place overfilling is not a risk. There have been no cases of overflow/overfilling reported by the operational team. Foaming could occur, if a mixer fails or the digestate composition is different. As foaming cannot be completely mitigated through anti-foaming measures, secondary containment should be provided for a proportion of digester volume. Possible foaming volume to be accommodated is assumed to be 1m of each digester (based on comments from operators there is 2m of foaming present in each of the tanks). This equates to approximately 520m3 based on a digester diameter of 18.1m (260m3 per digester). In the unlikely event that tank loses significant containment above ground sludge will cascade towards the access road and eventually into the drainage system, based on the site topography. Only competent and trained staff operate the site. The zone is robust and safe provided the permeable areas around the digesters (gravel/stone) is replaced with impermeable hardstanding to remove the pathway to the ground and containment is provided to contain the foaming volume within the site. | V4: L
C5: Structural failure - tank (catastrophic) | D5: ='1.Risk assessment'!$D$86 -> Tanks are located above ground. In the case of significant damage above ground during operation or maintenance, the total volume contained above ground could be lost. It is not credible for the tank to fail catastrophically structurally as the tank is fit for purpose. The tanks were originally designed and constructed to hold hydrolysed sludge and has been operating with no notable concerns. The tanks could lose their full inventory if the pipe connections to the tank fail/break off and fail catastrophically, causing a rupture/hole in the tank, through which the total inventory is lost as mixer pipework is located near the bottom of the tank. This pipework is supported and the connections in the tank wall are cast in with puddle flanges and hydrophilic water bars so this type of failure is not a credible scenario. There are no credible scenarios that could lead to a catastrophic failure of this tank (partial loss of containment would be more likely to occur but still very unlikely). | K5: ='1.Risk assessment'!L86 -> L | L5: Original tank construction was reinforced concrete (2010). The construction is fit for purpose and there are no credible scenarios identified that could lead to catastrophic failure. If severe damage does occur, operational staff can isolate the tank and drain it down as an emergency response, reducing the loss of containment as they will be in the vicinity of the tank. To reduce the likelihood of loss of containment, the tanks should be structurally inspected on an annual basis by a competent engineer. The tanks should then be refurbished if necessary. Ultrasonic meters in tanks should be alarmed if there is a significant and unanticipated drop in level to mitigate any significant loss of containment. To allow for some loss of containment due to catastrophic failure or significant mixer connection leakage (pre-failure), secondary containment to allow for minimum of 500mm of digester height volume loss until tank is drained down by operational staff. In the case of valve seizure (double jeopardy) - Allow for an additional 250mm of volume loss (750mm in total). The zone is robust and safe provided the permeable areas around the digesters (gravel/stone) is replaced with impermeable hardstanding to remove the pathway to the ground and secondary containment is provided to contain the potential volume loss of the digester within the site. | V5: L
C6: Structural failure - tank (partial) | D6: ='1.Risk assessment'!$D$87 -> Tanks are located above ground. Any significant loss of containment, would spill above ground. Structural failure of the tank would mainly be through cracks. In the case of significant cracks forming above ground, the volume contained above ground would seep through the cracks . If the cracks are significant (>6mm), the tank could potentially lose the above ground volume over a long period of time. This would be identified promptly by operators and the process inhibited immediately. The tank has been designed and constructed to the appropriate code for water retaining concrete structures so this could only reasonably be assumed to occur if the tanks were operated well in excess of their design life without appropriate maintenance or any refurbishment. As the site is manned for 24 hours daily, large drops in levels in the tanks and significant leaks above ground would be noticed. Significant cracks below/above ground would also be easily spotted if tanks are inspected throughout their design life. Partial loss of containment from cracks is still highly unlikely and safeguards are in place to mitigate the impact of such a leak. | K6: ='1.Risk assessment'!L87 -> L | L6: Original tank construction was reinforced concrete (2010). Construction was fit for purpose at the time of construction. In the event that tank loses containment above ground, through structural failure (cracks), sludge would weep through the cracks at a very slow rate. The volume would slowly flow down the side of the tank and gather around the tank. To reduce the likelihood of loss of containment, the tanks should be structurally inspected on an annual basis by a competent engineer. The tanks should then be refurbished if necessary. Ultrasonic meters in tanks should be alarmed if there is a significant and unanticipated drop in level to mitigate any significant loss of containment. The zone is robust and safe provided the permeable areas around the digesters (gravel/stone) is replaced with impermeable hardstanding to remove the pathway to the ground. Associated drainage would connect to liquor return drainage system. The tanks should be inspected on at least an annual basis by a competent engineer in addition to the current maintenance strategy. This can be undertaken during the sludge plant's annual maintenance and inspection shutdown. No further mitigation is considered to be necessary. | V6: L
C7: Structural failure - pipework (catastrophic) | D7: ='1.Risk assessment'!$D$88 -> In the extremely unlikely event where the above ground pipework (rising mains - mixing, feed, de-grit and recirculation pipes) or valves fail completely (PRVs have seized due to corrosion), the total above ground volume could be lost, if the valves are not closed by operational staff or tanks are not drained down to limit loss of containment. In reality, the pumps to and from the digesters would be shut down and the knife gate isolating valves closed immediately, triggered by the automated safeguards (pressure instrumentation). Associated alarms would also be raised to notify the operators. As the site is manned for 24 hours daily, valves can be closed and operated by operational staff if the pipes were to fail and automated safeguards did not function as intended. Total loss of containment is therefore not deemed to be a credible scenario. Partial loss of containment is possible but still highly unlikely when considering larger volumes. | K7: ='1.Risk assessment'!L88 -> L | L7: If catastrophic failure of the above ground pipework occurs (i.e. rising main pipe failure), the pumps have the necessary pressure controls to switch off the pumps (based on PFD and P&ID) to minimise the loss of containment. The volume contained in the pipe length should still be contained. Additional secondary containment is not proposed and volume is assumed will be able to be accommodated in the new hardstanding area around the tank and pipework within the drainage system. The zone is robust and safe provided the permeable areas around the digesters (gravel/stone) is replaced with impermeable hardstanding to remove the pathway to the ground. Associated drainage would connect to the liquor return drainage system. The above ground pipework should continue to be regularly inspected during daily and weekly inspections to enable proactive maintenance when required. Below ground pipework and chambers should be inspected on an annual basis to check their integrity. | V7: L
C8: Structural failure - pipework (partial) | D8: ='1.Risk assessment'!$D$89 -> All pipework around the digesters is above ground carbon or stainless steel. If loss of containment occurs above ground through leaks or damage to pipework, due to the permeable stone around tank, sludge will percolate into the soil at a slow rate over a long period. If significant leaks, cascade onto road and concrete hardstanding and ultimately the liquor return tank. Due to the impermeable external surfacing around the concrete bunds, the majority of the sludge from leaks at valves/mixers would be contained within the hardstanding area within the bund and, if significant, cascade into the gullies within the chambers and ultimately the liquor return tank. The quantities of sludge involved is not expected to have an adverse impact on the wastewater treatment process. Any significant leaks/damage to above ground pipes would be noticed and loss of containment would be mitigated through operational measures (closing of valves and isolation of tanks/pipework). This can be achieved quickly due to the manned presence and daily inspection regime. Operational staff stated that corrosion is a significant problem on site ( due to extremities - site is exposed and close to the ocean). Leaks from corrosion (valves, bolts, pitting in pipework) is thus likely to cause partial loss of containment if inspection and maintenance procedures are not followed. A significant failure has not occurred to date. Total loss of containment is not deemed to be a credible scenario. Partial loss of containment is more likely but still highly unlikely when considering larger volumes. | K8: ='1.Risk assessment'!L89 -> M | L8: As construction was fit for purpose at the time of construction (2010), secondary containment provision is not considered for the above ground pipework. Operational staff stated that there have been pipe leaks on site due to the extremities (corrosion), however, any significant corrosion is repaired if significant. Based on experience the volume that could be lost due to above ground pipework leaks is minimal. Significant leaks would be spotted by operational staff during their daily inspection (site is also manned) and repaired and any loss of containment mitigated. The volume lost to leaks would be able to be contained in the new hardstanding area around the tanks (replacing the permeable stone) and drainage pipework. No secondary containment required. Sludge would seep through the leaks at a very slow rate. The volume would slowly flow down the side of the pipe and gather around the pipework. The actual volume lost would be minimal. In the unlikely event that there is significant loss of containment through pipework above ground, based on topography and the type of inventory, loss of containment would be limited to the hardstanding area around the pipework and the stone area around the digesters. The zone is robust and safe provided the permeable areas around the digesters (gravel/stone) is replaced with impermeable hardstanding to remove the pathway to the ground. Associated drainage would connect to the liquor return drainage system. The above ground pipework should continue to be regularly inspected during daily and weekly inspections to enable proactive maintenance when required. Below ground pipework and chambers should be inspected on an annual basis to check their integrity. | V8: L
C9: Vehicular impact (partial to catastrophic) | D9: ='1.Risk assessment'!$D$90 -> No known vehicle impacts - vehicular guardrails along access road to protect pipework and tank Vehicular damage assumed mitigated due to existing vehicular impact protection. | K9: ='1.Risk assessment'!L90 -> M | L9: The existing measures mitigate any potential impacts from vehicles within the site and potential damage which could lead to loss of containment. There is however a risk of vehicles impacting the digesters from the road adjacent to the site. Additional vehicular impact protection is proposed. | V9: L
C10: Vandalism | D10: ='1.Risk assessment'!$D$91 -> No known vandalism to tanks or pipework - CCTV cameras and automated gates on site. If vandalism damage were to occur, total loss of containment is unlikely due to type of inventory. Partial loss of containment would be more likely to occur if slight damage was done. | K10: ='1.Risk assessment'!L91 -> L | L10: If pipes and the tank get damaged, because it is operated on a daily basis with operational staff present, the risk of loss of containment is low. If there are any signs of damage due to vandalism operators will fix any damage first. No mitigation measures proposed, existing measures deemed adequate. | V10: L
C11: Flooding | D11: ='1.Risk assessment'!$D$92 -> The site is not located within an area with the potential for groundwater flooding to occur. There are no areas of the proposed permit boundary indicated as being affected by sea, river or groundwater flooding. | K11: ='1.Risk assessment'!L92 -> M | L11: No mitigation measures proposed, existing measures deemed adequate. | V11: L
B14: Implementing the above measures will significantly reduce the probability and risk of failure from the concrete tanks and significantly reduce the amount of secondary containment. As per CIRIA 736, the above will need to be implemented in conjunction with a good maintenance strategy as mentioned in Box 5.2,Page 60.

Sheet 3.Containment volume-Total vol.
A1: 3.1 | B1: Secondary containment volume requirement - Inventory volume (above ground)
B3: Digester 01 | C3: 4250 | D3: m3 | E3: (Inventory volume - above ground below overflow)
B5: Total volume | C5: =C3 -> 4250 | D5: m3
B8: 110% rule (CIRIA 736)
B10: *110% of largest tank | C10: =110%*C3 -> 4675 | D10: m3
B12: Secondary storage to be provided | C12: =C10 -> 4675 | D12: m3 | E12: Note: The final containment volume of 6622m3 exceeds this required storage**
B14: Refer B16399-123532-ZZ-XX-RP-WA-HY1008 - Afan WwTW Sludge Containment Assessment for details of the containment volume calculation and selection of the containment boundary
B16: *Note that 10% includes for rainfall and is the minimum allowable storage that can be provided
B17: **Note that the final volume of 6622m3 is the total volume includingantecedent 24hr rainfall but excluding the freeboard.
A19: 3.2 | B19: Loss of containment - Time to empty fully
B21: Quick estimation of rate of loss of containment. Modelling will, however, simulate an instantaneous failure of the full volume
B23: Rate of flow from tank:
B25: Tank volume | E25: =C3 -> 4250 | F25: m3
B28: Diameter of pipe (d) | E28: 0.25 | F28: m
B29: Area | E29: =PI()*(E28/2)^2 -> 0.049087385 | F29: m2
B30: Discharge coefficient (Cd) | E30: 0.61
B31: Gravitational acceleration (g) | E31: 9.81 | F31: m/s2
B34: Height within tank (H),m | C34: Flow rate (Q) m3/s | D34: Diameter of Tank(m) | E34: Volume in tank (m3) - above ground | F34: Volume lost (m3) | G34: % volume lost | H34: Time to drop in level (min) | I34: Time to empty (cumulative) - min
B35: 17.942 | C35: =$E$30*$E$29*(SQRT(2*$E$31*B35)) -> 0.56180379 | D35: 17.3666 | E35: =PI()*((D35/2)^2)*B35 -> 4250.0138 | F35: =$E$25-E35 -> -0.013763956 | G35: =($E$25-E35)/$E$25 -> -3.2385779e-06 | I35: =H35 -> 0
B36: 17.8 | C36: =$E$30*$E$29*(SQRT(2*$E$31*B36)) -> 0.5595762 | D36: 17.3666 | E36: =PI()*((D36/2)^2)*B36 -> 4216.3775 | F36: =$E$25-E36 -> 33.622506 | G36: =($E$25-E36)/$E$25 -> 0.0079111779 | H36: =(E35-E36)/(MAX(C35:C36))/60 -> 0.99786529 | I36: =I35+H36 -> 0.99786529
B37: 17.658 | C37: =$E$30*$E$29*(SQRT(2*$E$31*B37)) -> 0.55733972 | D37: 17.3666 | E37: =PI()*((D37/2)^2)*B37 -> 4182.7412 | F37: =$E$25-E37 -> 67.258776 | G37: =($E$25-E37)/$E$25 -> 0.015825594 | H37: =(E36-E37)/(MAX(C36:C37))/60 -> 1.0018376 | I37: =I36+H37 -> 1.9997029
B38: 17.517 | C38: =$E$30*$E$29*(SQRT(2*$E$31*B38)) -> 0.55511006 | D38: 17.3666 | E38: =PI()*((D38/2)^2)*B38 -> 4149.3418 | F38: =$E$25-E38 -> 100.65817 | G38: =($E$25-E38)/$E$25 -> 0.023684275 | H38: =(E37-E38)/(MAX(C37:C38))/60 -> 0.99877429 | I38: =I37+H38 -> 2.9984772
B39: 17.376 | C39: =$E$30*$E$29*(SQRT(2*$E$31*B39)) -> 0.55287142 | D39: 17.3666 | E39: =PI()*((D39/2)^2)*B39 -> 4115.9424 | F39: =$E$25-E39 -> 134.05757 | G39: =($E$25-E39)/$E$25 -> 0.031542957 | H39: =(E38-E39)/(MAX(C38:C39))/60 -> 1.002786 | I39: =I38+H39 -> 4.0012632
B40: 17.236 | C40: =$E$30*$E$29*(SQRT(2*$E$31*B40)) -> 0.55063965 | D40: 17.3666 | E40: =PI()*((D40/2)^2)*B40 -> 4082.7799 | F40: =$E$25-E40 -> 167.22008 | G40: =($E$25-E40)/$E$25 -> 0.039345902 | H40: =(E39-E40)/(MAX(C39:C40))/60 -> 0.99970561 | I40: =I39+H40 -> 5.0009688
B41: 17 | C41: =$E$30*$E$29*(SQRT(2*$E$31*B41)) -> 0.5468569 | D41: 17.3666 | E41: =PI()*((D41/2)^2)*B41 -> 4026.8774 | F41: =$E$25-E41 -> 223.12262 | G41: =($E$25-E41)/$E$25 -> 0.05249944 | H41: =(E40-E41)/(MAX(C40:C41))/60 -> 1.6920483 | I41: =I40+H41 -> 6.6930171
B42: 16 | C42: =$E$30*$E$29*(SQRT(2*$E$31*B42)) -> 0.53052912 | D42: 17.3666 | E42: =PI()*((D42/2)^2)*B42 -> 3790.0022 | F42: =$E$25-E42 -> 459.99776 | G42: =($E$25-E42)/$E$25 -> 0.10823477 | H42: =(E41-E42)/(MAX(C41:C42))/60 -> 7.2192908 | I42: =I41+H42 -> 13.912308
B43: 15 | C43: =$E$30*$E$29*(SQRT(2*$E$31*B43)) -> 0.51368261 | D43: 17.3666 | E43: =PI()*((D43/2)^2)*B43 -> 3553.1271 | F43: =$E$25-E43 -> 696.8729 | G43: =($E$25-E43)/$E$25 -> 0.16397009 | H43: =(E42-E43)/(MAX(C42:C43))/60 -> 7.4414747 | I43: =I42+H43 -> 21.353783
B44: 14 | C44: =$E$30*$E$29*(SQRT(2*$E$31*B44)) -> 0.49626455 | D44: 17.3666 | E44: =PI()*((D44/2)^2)*B44 -> 3316.252 | F44: =$E$25-E44 -> 933.74804 | G44: =($E$25-E44)/$E$25 -> 0.21970542 | H44: =(E43-E44)/(MAX(C43:C44))/60 -> 7.685522 | I44: =I43+H44 -> 29.039305
B45: 13 | C45: =$E$30*$E$29*(SQRT(2*$E$31*B45)) -> 0.47821249 | D45: 17.3666 | E45: =PI()*((D45/2)^2)*B45 -> 3079.3768 | F45: =$E$25-E45 -> 1170.6232 | G45: =($E$25-E45)/$E$25 -> 0.27544075 | H45: =(E44-E45)/(MAX(C44:C45))/60 -> 7.955271 | I45: =I44+H45 -> 36.994576
B46: 12 | C46: =$E$30*$E$29*(SQRT(2*$E$31*B46)) -> 0.4594517 | D46: 17.3666 | E46: =PI()*((D46/2)^2)*B46 -> 2842.5017 | F46: =$E$25-E46 -> 1407.4983 | G46: =($E$25-E46)/$E$25 -> 0.33117607 | H46: =(E45-E46)/(MAX(C45:C46))/60 -> 8.2555749 | I46: =I45+H46 -> 45.250151 | K46: 8.1 | L46: m AoD
B47: 11 | C47: =$E$30*$E$29*(SQRT(2*$E$31*B47)) -> 0.43989151 | D47: 17.3666 | E47: =PI()*((D47/2)^2)*B47 -> 2605.6265 | F47: =$E$25-E47 -> 1644.3735 | G47: =($E$25-E47)/$E$25 -> 0.3869114 | H47: =(E46-E47)/(MAX(C46:C47))/60 -> 8.5926748 | I47: =I46+H47 -> 53.842825 | K47: 26.042 | L47: m AoD
B48: 10 | C48: =$E$30*$E$29*(SQRT(2*$E$31*B48)) -> 0.4194201 | D48: 17.3666 | E48: =PI()*((D48/2)^2)*B48 -> 2368.7514 | F48: =$E$25-E48 -> 1881.2486 | G48: =($E$25-E48)/$E$25 -> 0.44264673 | H48: =(E47-E48)/(MAX(C47:C48))/60 -> 8.9747561 | I48: =I47+H48 -> 62.817581
B49: 9 | C49: =$E$30*$E$29*(SQRT(2*$E$31*B49)) -> 0.39789684 | D49: 17.3666 | E49: =PI()*((D49/2)^2)*B49 -> 2131.8763 | F49: =$E$25-E49 -> 2118.1237 | G49: =($E$25-E49)/$E$25 -> 0.49838206 | H49: =(E48-E49)/(MAX(C48:C49))/60 -> 9.4128036 | I49: =I48+H49 -> 72.230385 | K49: =K47-K46 -> 17.942 | L49: m
B50: 8 | C50: =$E$30*$E$29*(SQRT(2*$E$31*B50)) -> 0.37514074 | D50: 17.3666 | E50: =PI()*((D50/2)^2)*B50 -> 1895.0011 | F50: =$E$25-E50 -> 2354.9989 | G50: =($E$25-E50)/$E$25 -> 0.55411738 | H50: =(E49-E50)/(MAX(C49:C50))/60 -> 9.9219662 | I50: =I49+H50 -> 82.152351
B51: 7 | C51: =$E$30*$E$29*(SQRT(2*$E$31*B51)) -> 0.35091203 | D51: 17.3666 | E51: =PI()*((D51/2)^2)*B51 -> 1658.126 | F51: =$E$25-E51 -> 2591.874 | G51: =($E$25-E51)/$E$25 -> 0.60985271 | H51: =(E50-E51)/(MAX(C50:C51))/60 -> 10.523834 | I51: =I50+H51 -> 92.676186
B52: 6 | C52: =$E$30*$E$29*(SQRT(2*$E$31*B52)) -> 0.32488141 | D52: 17.3666 | E52: =PI()*((D52/2)^2)*B52 -> 1421.2508 | F52: =$E$25-E52 -> 2828.7492 | G52: =($E$25-E52)/$E$25 -> 0.66558804 | H52: =(E51-E52)/(MAX(C51:C52))/60 -> 11.250452 | I52: =I51+H52 -> 103.92664
B53: 5 | C53: =$E$30*$E$29*(SQRT(2*$E$31*B53)) -> 0.29657479 | D53: 17.3666 | E53: =PI()*((D53/2)^2)*B53 -> 1184.3757 | F53: =$E$25-E53 -> 3065.6243 | G53: =($E$25-E53)/$E$25 -> 0.72132336 | H53: =(E52-E53)/(MAX(C52:C53))/60 -> 12.151877 | I53: =I52+H53 -> 116.07852
B54: 4 | C54: =$E$30*$E$29*(SQRT(2*$E$31*B54)) -> 0.26526456 | D54: 17.3666 | E54: =PI()*((D54/2)^2)*B54 -> 947.50056 | F54: =$E$25-E54 -> 3302.4994 | G54: =($E$25-E54)/$E$25 -> 0.77705869 | H54: =(E53-E54)/(MAX(C53:C54))/60 -> 13.311715 | I54: =I53+H54 -> 129.39023
B55: 3 | C55: =$E$30*$E$29*(SQRT(2*$E$31*B55)) -> 0.22972585 | D55: 17.3666 | E55: =PI()*((D55/2)^2)*B55 -> 710.62542 | F55: =$E$25-E55 -> 3539.3746 | G55: =($E$25-E55)/$E$25 -> 0.83279402 | H55: =(E54-E55)/(MAX(C54:C55))/60 -> 14.882949 | I55: =I54+H55 -> 144.27318
B56: 2 | C56: =$E$30*$E$29*(SQRT(2*$E$31*B56)) -> 0.18757037 | D56: 17.3666 | E56: =PI()*((D56/2)^2)*B56 -> 473.75028 | F56: =$E$25-E56 -> 3776.2497 | G56: =($E$25-E56)/$E$25 -> 0.88852935 | H56: =(E55-E56)/(MAX(C55:C56))/60 -> 17.18535 | I56: =I55+H56 -> 161.45853
B57: 1.5 | C57: =$E$30*$E$29*(SQRT(2*$E$31*B57)) -> 0.1624407 | D57: 17.3666 | E57: =PI()*((D57/2)^2)*B57 -> 355.31271 | F57: =$E$25-E57 -> 3894.6873 | G57: =($E$25-E57)/$E$25 -> 0.91639701 | H57: =(E56-E57)/(MAX(C56:C57))/60 -> 10.523834 | I57: =I56+H57 -> 171.98236
B58: 1 | C58: =$E$30*$E$29*(SQRT(2*$E$31*B58)) -> 0.13263228 | D58: 17.3666 | E58: =PI()*((D58/2)^2)*B58 -> 236.87514 | F58: =$E$25-E58 -> 4013.1249 | G58: =($E$25-E58)/$E$25 -> 0.94426467 | H58: =(E57-E58)/(MAX(C57:C58))/60 -> 12.151877 | I58: =I57+H58 -> 184.13424
B59: 0.5 | C59: =$E$30*$E$29*(SQRT(2*$E$31*B59)) -> 0.093785185 | D59: 17.3666 | E59: =PI()*((D59/2)^2)*B59 -> 118.43757 | F59: =$E$25-E59 -> 4131.5624 | G59: =($E$25-E59)/$E$25 -> 0.97213234 | H59: =(E58-E59)/(MAX(C58:C59))/60 -> 14.882949 | I59: =I58+H59 -> 199.01719
B60: 0 | C60: =$E$30*$E$29*(SQRT(2*$E$31*B60)) -> 0 | D60: 17.3666 | E60: =PI()*((D60/2)^2)*B60 -> 0 | F60: =$E$25-E60 -> 4250 | G60: =($E$25-E60)/$E$25 -> 1 | H60: =(E59-E60)/(MAX(C59:C60))/60 -> 21.047669 | I60: =I59+H60 -> 220.06486 | J60: Minutes to empty to ground level

Sheet 4.Current asset evaluation
A1: 4.1 | B1: Current Asset Evaluation | C1: Digester 01
B2: Description | C2: Digesters
B3: Number of tanks | C3: 2
B4: Volume of tank | C4: 4500m3 - total volume 4250m3 - Working volume (overflow inhibits this)
B5: Material of tank | C5: Concrete
B6: Above/below ground? | C6: Above ground
B7: Pipe material | C7: Above ground - Stainless steel
B8: Drainage for zone | C8: Infiltration through loose stone around tanks Gullies within concrete bunds for mixer and re-circulation pumps connected to liquor return.
B9: Year of construction | C9: 2010
B10: Surrounding area | C10: Mostly loose stone around tanks -permeable Access road is tarmac - impermeable Some areas are concrete - impermeable
B12: Pump rate - to digester | C12: 10.8l/s
B13: Pump rate - from digester | C13: 10.8l/s
B16: Is asset fit for purpose? | C16: The tanks were originally designed and constructed to hold hydrolysed sludge and has been operating with no notable concerns. The tank has not undergone a change of use.
B17: Condition of the tank Any tank failures - cracks, flaking, corrosion, overflows, overfilling? | C17: The tank is in good condition with no structural or serviceability cracks or other signs of concrete deterioration. Foaming occurred once in the past. The mixers failed leading to leakage down the side of the tank.
B18: Condition of pipework Pipe leaks, corrosion? | C18: External corrosion of external pipework, electrical containment and valves does occur due to the coastal environment. These are inspected, maintained and replaced when required.
B19: Protection of assets - bollards? | C19: Bollards at specific locations where assets would otherwise be at risk from vehicular impact.
B20: Control/monitoring/alarming measures in place? | C20: Flow controlled to digesters - level and temperature in digester, failure of recirculation or mixing pumps. Level and temperature sensors within each digester. Automated inhibits if the process falls outside normal operating parameters.
B21: Secondary containment provided? | C21: Concrete containment below mixers with drainage (gullies) connected back to liquor return.
B22: Secondary containment condition? | C22: Concrete condition is good.

Sheet 5.Containment type-Total vol.
A1: 5.1 | B1: Containment to be provided
B3: Based on a Medium site risk rating for the zone, Class 2 containment is required. Bunds, as shown below, or concrete walls will be used
N5: Typical Bund section view
N21: Typical reinforced concrete wall section view
A50: 5.2 | B50: Catastrophic failure
B52: Catastrophic failure assumes the tank loses all its above ground volume and that the total volume would need to be contained.
R54: Location of Digestor
B56: Suitability of containment to be provided
B58: Type | F58: Applicability
B59: Reinforced concrete/masonry flooring and bund | F59: Due to relatively large volume from loss of containment, use of a masonry/concrete bund is generally not appropriate for local containment in this scenario. Due to the limited space available around the area, the use of masonry/concrete bunds is however applicable
B60: Earth banked basins, bunds and flooring | F60: Soil within site is of permeable nature - Clay or impermeable soil type not plentiful Potential for stabilised soil (lime and cement used to make it impermeable) for bund construction. Area of which bunding can be provided is however limited - assuming for example a bund height of 300mm, crest width of 100m, side slopes of 1:3 - a base width of the bund of at least 2000mm is required. Dependant on area required and nature of surrounding area, might be applicable Not applicable within the digester area.
B61: Containment tank | F61: Nature of catastrophic failure and type of primary containment makes use of a containment tank not appropriate
A64: 5.3 | B64: Catastrophic failure in existing situation (Do Nothing) - Visualisation
B67: Figure 5.3.1 Visualisation of Do Nothing Option
A108: 5.4 | B108: Type of containment to be provided
B110: Proposed Option: Local containment
B112: Volume is proposed to be contained within the site and will be constructed within the treatment works site boundary. Where currently permeable (stone and grass), to be made impermeable with either converting this to a concrete surface or via lining. Either mobile pumps to be used to remove volume from bund from the low point or drainage to be updated to incorporate the rainfall fro the bunded site ensureing that in case of failure, sludge cannont escape the boundary. Daily operational inspection to ensure any rainfall runoff within the bund is removed. Walls to be constructed ranging up to 2.0 m with the addition of freeboard. This would limit flow throughout the entire site and contain it to the site boundary. To enable access into the walled area, 2No. floodgates (1 manual and 1 automatic flood gates) are proposed to be constructed at road crossing points. The automatic floodgate is to be installed at the north-west side next to Boiler shed and the manual gate to be installed at the north east side next to cake barn. The floodgates shall be designed to meet British Standard BS 851188 for flood defense systems and shall be finshed with a coating with a minimum C3 rating (ISO 12944). Refer to B16399-123532-XX-AB-MA-ZA-OA0038 - Flood Gates Control Philosophy for the control philosophy for the operation of the automatic flood gates. The approximate area of this area for storage is approximately 12,000m3 and the proposed wall heights are sufficient to contain up to 6622 m3, which is the volume modelled using 24hrs of antecendent rainfall at the site and the working volume of one primary digester but excluding any freeboard. Refer B16399-123532-ZZ-XX-RP-WA-HY1008 - Afan WwTW Sludge Containment Assessment for details of the containment volume and selection of the containment boundary. This option protects the entire site from failure into the nearby sea and grassed areas from all the tanks listed in the permit.
B121: Figure 5.4.1. Proposed Option
B157: Figure 5.4.2. Visualisation of Proposed Option
B195: Advantages | D195: Sludge is kept on-site and out of the identified receptors outside the site boundary. Spills from any tanks registered in the IED permit are contained in case of failure. This option protects key receptors like the FE chamber and transformer building
B200: Disadvantages | D200: Sludge is contained in a large area Flood gates would need to be closed in the event of a risk of catastrophic failure, which may increase flooding risk elsewhere on the treatment works site.
