Workbook

Sheet Dairy Partners Newcastle Emlun
A1: PAN reference | C1: PAN-005323 | F1: Total spread area | H1: 49 | AE1: Crop | AF1: P OFFTAKE
A2: Permit reference | C2: EPR/AB3891CX | F2: Waste type (EWC) | H2: 02 05 02 | AB2: %w/w SAR | AC2: Sandy | AD2: Solid | AE2: Winter wheat/barley | AF2: 8.4
A3: Operator | C3: Mr Daniel James | F3: Waste type (physical form) | H3: Liquid | AB3: %w/w DM | AC3: Sandy Loam | AD3: Liquid | AE3: Spring wheat/barley | AF3: 8.6
A4: Farm Address | C4: Castell Malgywn Farm, Llechryd, Cardigan SA43 2QB | F4: Waste Ref/Name | H4: Dairy Partners - Newcastle Emlun | AB4: kg/t SAR | AC4: Medium/Clay | AD4: Sludge | AE4: Winter/spring oats | AF4: 8.8
A5: Assessed By | C5: Rohini Sawant | F5: Waste pH | H5: 5.24 | AB5: kg/t DM | AC5: Organic | AE5: Oilseed rape | AF5: 15.1
AB6: mg/kg SAR | AC6: Peat | AE6: Maize | AF6: 1.4
A7: Field number | C7: 1 | D7: 2 | E7: 3 | F7: 4 | G7: 5 | H7: 6 | I7: 7 | J7: 8 | K7: 9 | L7: 10 | M7: 11 | N7: 12 | O7: 13 | P7: 14 | Q7: 15 | R7: 16 | S7: 17 | T7: 18 | U7: 19 | V7: 20 | AB7: mg/kg DM | AE7: Fodder beet | AF7: 0.7
A8: Field Ref | C8: 8087 | D8: 9792 | E8: 1188 | F8: 8262 | G8: 165 | H8: 438 | I8: 2341 | J8: Tyriet 8 | K8: Tyriet 9 | L8: 1479 | M8: 1897 | N8: 2672 | O8: 3962 + 4273 | AE8: Grass fresh (15%-20% DM) | AF8: 1.4
A9: SNS Index | C9: Mod | D9: Mod | E9: Mod | F9: Mod | G9: Mod | H9: Mod | I9: Mod | J9: Mod | K9: Mod | L9: 1 | M9: 1 | N9: 1 | O9: 1 | AE9: Grass Silage (25% DM) | AF9: 1.7
A10: Field pH | C10: 6.3 | D10: 6.3 | E10: 6.1 | F10: 6.3 | G10: 6.2 | H10: 5.9 | I10: 6.1 | J10: 5.7 | K10: 5.6 | L10: 6.4 | M10: 6.3 | N10: 6.1 | O10: 5.7 | AE10: Grass Silage (30%) | AF10: 2.1
A11: Phosphorus Index | C11: 2 | D11: 1 | E11: 1 | F11: 1 | G11: 1 | H11: 1 | I11: 1 | J11: 1 | K11: 1 | L11: 0 | M11: 1 | N11: 1 | O11: 1 | AE11: Hay (86% DM) | AF11: 5.9
A12: Potassium Index | C12: 1 | D12: 1 | E12: 2 | F12: 1 | G12: 1 | H12: 0 | I12: 0 | J12: 1 | K12: 1 | L12: 1 | M12: 1 | N12: 2 | O12: 1 | AE12: Haylege (45% DM) | AF12: 3.2
A13: Magnesium Index | C13: 3 | D13: 3 | E13: 4 | F13: 4 | G13: 5 | H13: 2 | I13: 3 | J13: 2 | K13: 3 | L13: 1 | M13: 1 | N13: 2 | O13: 1
A14: Benefiting Crop | C14: Grass Silage (25% DM) | D14: Grass Silage (25% DM) | E14: Grass Silage (25% DM) | F14: Grass Silage (25% DM) | G14: Grass Silage (25% DM) | H14: Grass Silage (25% DM) | I14: Grass Silage (25% DM) | J14: Grass Silage (25% DM) | K14: Grass Silage (25% DM) | L14: Spring wheat/barley | M14: Spring wheat/barley | N14: Winter wheat/barley | O14: Winter wheat/barley
A15: Expected Yield | C15: 47 | D15: 32 | E15: 32 | F15: 32 | G15: 32 | H15: 32 | I15: 47 | J15: 47 | K15: 47 | L15: 6 | M15: 6 | N15: 8 | O15: 8
A16: Soil Type | C16: Medium/Clay | D16: Medium/Clay | E16: Medium/Clay | F16: Medium/Clay | G16: Medium/Clay | H16: Medium/Clay | I16: Medium/Clay | J16: Medium/Clay | K16: Medium/Clay | L16: Medium/Clay | M16: Medium/Clay | N16: Medium/Clay | O16: Medium/Clay
A17: Phosphate Offtake | C17: =IF(C$14="Winter wheat/barley",8.4,IF(C$14="Spring wheat/barley",8.6,IF(C$14="Winter/spring oats",8.8, IF(C$14="Oilseed Rape",15.1,IF(C$14="Grass fresh (15%-20% DM)",1.4,IF(C$14="Grass Silage (25% DM)",1.7,IF(C$14="Grass Silage (30%)",2.1,IF(C$14="Hay (86% DM)",5.9,IF(C$14="Maize",1.4,IF(C$14="Fodder beet",0.7,IF(C$14="Haylege (45% DM)",3.2,"0")))))))))))*C15 -> 79.9 | D17: =IF(D$14="Winter wheat/barley",8.4,IF(D$14="Spring wheat/barley",8.6,IF(D$14="Winter/spring oats",8.8, IF(D$14="Oilseed Rape",15.1,IF(D$14="Grass fresh (15%-20% DM)",1.4,IF(D$14="Grass Silage (25% DM)",1.7,IF(D$14="Grass Silage (30%)",2.1,IF(D$14="Hay (86% DM)",5.9,IF(D$14="Maize",1.4,IF(D$14="Fodder beet",0.7,IF(D$14="Haylege (45% DM)",3.2,"0")))))))))))*D15 -> 54.4 | E17: =IF(E$14="Winter wheat/barley",8.4,IF(E$14="Spring wheat/barley",8.6,IF(E$14="Winter/spring oats",8.8, IF(E$14="Oilseed Rape",15.1,IF(E$14="Grass fresh (15%-20% DM)",1.4,IF(E$14="Grass Silage (25% DM)",1.7,IF(E$14="Grass Silage (30%)",2.1,IF(E$14="Hay (86% DM)",5.9,IF(E$14="Maize",1.4,IF(E$14="Fodder beet",0.7,IF(E$14="Haylege (45% DM)",3.2,"0")))))))))))*E15 -> 54.4 | F17: =IF(F$14="Winter wheat/barley",8.4,IF(F$14="Spring wheat/barley",8.6,IF(F$14="Winter/spring oats",8.8, IF(F$14="Oilseed Rape",15.1,IF(F$14="Grass fresh (15%-20% DM)",1.4,IF(F$14="Grass Silage (25% DM)",1.7,IF(F$14="Grass Silage (30%)",2.1,IF(F$14="Hay (86% DM)",5.9,IF(F$14="Maize",1.4,IF(F$14="Fodder beet",0.7,IF(F$14="Haylege (45% DM)",3.2,"0")))))))))))*F15 -> 54.4 | G17: =IF(G$14="Winter wheat/barley",8.4,IF(G$14="Spring wheat/barley",8.6,IF(G$14="Winter/spring oats",8.8, IF(G$14="Oilseed Rape",15.1,IF(G$14="Grass fresh (15%-20% DM)",1.4,IF(G$14="Grass Silage (25% DM)",1.7,IF(G$14="Grass Silage (30%)",2.1,IF(G$14="Hay (86% DM)",5.9,IF(G$14="Maize",1.4,IF(G$14="Fodder beet",0.7,IF(G$14="Haylege (45% DM)",3.2,"0")))))))))))*G15 -> 54.4 | H17: =IF(H$14="Winter wheat/barley",8.4,IF(H$14="Spring wheat/barley",8.6,IF(H$14="Winter/spring oats",8.8, IF(H$14="Oilseed Rape",15.1,IF(H$14="Grass fresh (15%-20% DM)",1.4,IF(H$14="Grass Silage (25% DM)",1.7,IF(H$14="Grass Silage (30%)",2.1,IF(H$14="Hay (86% DM)",5.9,IF(H$14="Maize",1.4,IF(H$14="Fodder beet",0.7,IF(H$14="Haylege (45% DM)",3.2,"0")))))))))))*H15 -> 54.4 | I17: =IF(I$14="Winter wheat/barley",8.4,IF(I$14="Spring wheat/barley",8.6,IF(I$14="Winter/spring oats",8.8, IF(I$14="Oilseed Rape",15.1,IF(I$14="Grass fresh (15%-20% DM)",1.4,IF(I$14="Grass Silage (25% DM)",1.7,IF(I$14="Grass Silage (30%)",2.1,IF(I$14="Hay (86% DM)",5.9,IF(I$14="Maize",1.4,IF(I$14="Fodder beet",0.7,IF(I$14="Haylege (45% DM)",3.2,"0")))))))))))*I15 -> 79.9 | J17: =IF(J$14="Winter wheat/barley",8.4,IF(J$14="Spring wheat/barley",8.6,IF(J$14="Winter/spring oats",8.8, IF(J$14="Oilseed Rape",15.1,IF(J$14="Grass fresh (15%-20% DM)",1.4,IF(J$14="Grass Silage (25% DM)",1.7,IF(J$14="Grass Silage (30%)",2.1,IF(J$14="Hay (86% DM)",5.9,IF(J$14="Maize",1.4,IF(J$14="Fodder beet",0.7,IF(J$14="Haylege (45% DM)",3.2,"0")))))))))))*J15 -> 79.9 | ... V17: =IF(V$14="Winter wheat/barley",8.4,IF(V$14="Spring wheat/barley",8.6,IF(V$14="Winter/spring oats",8.8, IF(V$14="Oilseed Rape",15.1,IF(V$14="Grass fresh (15%-20% DM)",1.4,IF(V$14="Grass Silage (25% DM)",1.7,IF(V$14="Grass Silage (30%)",2.1,IF(V$14="Hay (86% DM)",5.9,IF(V$14="Maize",1.4,IF(V$14="Fodder beet",0.7,IF(V$14="Haylege (45% DM)",3.2,"0")))))))))))*V15 -> 0
A18: Phosphate Addition | C18: =$D27 -> 64.186947 | D18: =$D28 -> 116.70354 | E18: =$D29 -> 116.70354 | F18: =$D30 -> 116.70354 | G18: =$D31 -> 116.70354 | H18: =$D32 -> 116.70354 | I18: =$D33 -> 157.54978 | J18: =$D34 -> 157.54978 | K18: =$D35 -> 157.54978 | L18: =$D36 -> 157.54978 | M18: =$D37 -> 116.70354 | N18: =$D38 -> 157.54978 | O18: =$D39 -> 157.54978 | P18: =$D40 -> 0 | Q18: =$D41 -> 0 | R18: =$D42 -> 0 | S18: =$D43 -> 0 | T18: =$D44 -> 0 | U18: =$D45 -> 0 | V18: =$D46 -> 0
A19: Difference | C19: =C18-C17 -> -15.713053 | D19: =D18-D17 -> 62.30354 | E19: =E18-E17 -> 62.30354 | F19: =F18-F17 -> 62.30354 | G19: =G18-G17 -> 62.30354 | H19: =H18-H17 -> 62.30354 | I19: =I18-I17 -> 77.649779 | J19: =J18-J17 -> 77.649779 | ... V19: =V18-V17 -> 0
A20: Increase/decrease | C20: =IF($B27="","",IF(C$19>=0,"INCREASE","DECREASE")) -> DECREASE | D20: =IF($B28="","",IF(D$19>=0,"INCREASE","DECREASE")) -> INCREASE | E20: =IF($B29="","",IF(E$19>=0,"INCREASE","DECREASE")) -> INCREASE | F20: =IF($B30="","",IF(F$19>=0,"INCREASE","DECREASE")) -> INCREASE | G20: =IF($B31="","",IF(G$19>=0,"INCREASE","DECREASE")) -> INCREASE | H20: =IF($B32="","",IF(H$19>=0,"INCREASE","DECREASE")) -> INCREASE | I20: =IF($B33="","",IF(I$19>=0,"INCREASE","DECREASE")) -> INCREASE | J20: =IF($B34="","",IF(J$19>=0,"INCREASE","DECREASE")) -> INCREASE | K20: =IF($B35="","",IF(K$19>=0,"INCREASE","DECREASE")) -> INCREASE | L20: =IF($B36="","",IF(L$19>=0,"INCREASE","DECREASE")) -> INCREASE | M20: =IF($B37="","",IF(M$19>=0,"INCREASE","DECREASE")) -> INCREASE | N20: =IF($B38="","",IF(N$19>=0,"INCREASE","DECREASE")) -> INCREASE | O20: =IF($B39="","",IF(O$19>=0,"INCREASE","DECREASE")) -> INCREASE | P20: =IF($B40="","",IF(P$19>=0,"INCREASE","DECREASE")) | Q20: =IF($B41="","",IF(Q$19>=0,"INCREASE","DECREASE")) | R20: =IF($B42="","",IF(R$19>=0,"INCREASE","DECREASE")) | S20: =IF($B43="","",IF(S$19>=0,"INCREASE","DECREASE")) | T20: =IF($B44="","",IF(T$19>=0,"INCREASE","DECREASE")) | U20: =IF($B45="","",IF(U$19>=0,"INCREASE","DECREASE")) | V20: =IF($B46="","",IF(V$19>=0,"INCREASE","DECREASE"))
B22: Dry Matter | C22: Total Nitrogen | D22: Total Phosphorus (P) | E22: Total Potassium (K) | F22: Total Magnesium (Mg) | G22: Total Copper | H22: Total Zinc | I22: Total Lead | J22: Total Cadmium | K22: Total Mercury | L22: Total Nickel | M22: Total Chromium | N22: Total Aluminium | O22: Total Iron | P22: Total Na (Sodium) | Q22: Total Sulphur (S) | R22: Total Selenium | S22: Total Arsenic | T22: Total Mo | U22: Total Fluoride | V22: Conductivity µS/cm | W22: Fats & Oils (%)
B23: % | C23: %w/w SAR | D23: mg/kg SAR | E23: mg/kg SAR | F23: mg/kg SAR | G23: mg/kg SAR | H23: mg/kg SAR | I23: mg/kg SAR | J23: mg/kg SAR | K23: mg/kg SAR | L23: mg/kg SAR | M23: mg/kg SAR | N23: mg/kg SAR | O23: mg/kg SAR | P23: mg/kg SAR | Q23: mg/kg SAR | R23: mg/kg SAR | S23: mg/kg SAR | T23: mg/kg SAR | U23: mg/kg SAR
B24: 4.9 | C24: 0.22 | D24: 849 | E24: 203 | F24: 52 | G24: 0.33 | H24: 2.84 | I24: 0.5 | J24: 0.01 | K24: 0.05 | L24: 0.2 | M24: 0.77 | P24: 1316 | Q24: 188 | V24: 1300 | W24: 0.668
A25: Field Ref | B25: Application Rate | C25: Nitrogen Addition | D25: Phosphate Addition | E25: Potash Addition | F25: Mg Oxide Addition | G25: Copper Addition | H25: Zinc Addition | I25: Lead Addition | J25: Cadmium Addition | K25: Mercury Addition | L25: Nickel Addition | M25: Chromium Addition | N25: Aluminium Addition | O25: Iron Addition | P25: Sodium Addition | Q25: SO3 Addition kg/ha | R25: Selenium Addition | S25: Arsenic Addition | T25: Molybdenum Addition | U25: Fluoride Addition | V25: Conductivity (Acceptable level 5000µS/cm) | W25: Fats & Oils (Acceptable level 4%)
B26: tonnes/ha | C26: kg/ha | D26: P2O5 kg/ha | E26: K2O kg/ha | F26: MgO kg/ha | G26: kg/ha | H26: kg/ha | I26: kg/ha | J26: kg/ha | K26: kg/ha | L26: kg/ha | M26: kg/ha | N26: kg/ha | O26: kg/ha | P26: kg/ha | Q26: kg/ha | R26: kg/ha | S26: kg/ha | T26: kg/ha | U26: kg/ha
A27: =C8 -> 8087 | B27: 33 | C27: =IF(C$23="%w/w SAR",((C$24*10)*$B27),IF(C$23="%w/w DM",(((C$24*10)*($B$24/100))*$B27),IF(C$23="kg/t SAR",(C$24*$B27),IF(C$23="kg/t DM",((C$24*($B$24/100))*$B27),IF(C$23="mg/kg SAR",((C$24*0.001)*$B27),IF(C$23="mg/kg DM",(((C$24*0.001)*($B$24/100))*$B27),0)))))) -> 72.6 | D27: =(IF(D$23="%w/w SAR",((D$24*10)*$B27),IF(D$23="%w/w DM",(((D$24*10)*($B$24/100))*$B27),IF(D$23="kg/t SAR",(D$24*$B27),IF(D$23="kg/t DM",((D$24*($B$24/100))*$B27),IF(D$23="mg/kg SAR",((D$24*0.001)*$B27),IF(D$23="mg/kg DM",(((D$24*0.001)*($B$24/100))*$B27),"0")))))))*2.291 -> 64.186947 | E27: =(IF(E$23="%w/w SAR",((E$24*10)*$B27),IF(E$23="%w/w DM",(((E$24*10)*($B$24/100))*$B27),IF(E$23="kg/t SAR",(E$24*$B27),IF(E$23="kg/t DM",((E$24*($B$24/100))*$B27),IF(E$23="mg/kg SAR",((E$24*0.001)*$B27),IF(E$23="mg/kg DM",(((E$24*0.001)*($B$24/100))*$B27),"0")))))))*1.205 -> 8.072295 | F27: =(IF(F$23="%w/w SAR",((F$24*10)*$B27),IF(F$23="%w/w DM",(((F$24*10)*($B$24/100))*$B27),IF(F$23="kg/t SAR",(F$24*$B27),IF(F$23="kg/t DM",((F$24*($B$24/100))*$B27),IF(F$23="mg/kg SAR",((F$24*0.001)*$B27),IF(F$23="mg/kg DM",(((F$24*0.001)*($B$24/100))*$B27),"0")))))))*1.658 -> 2.845128 | G27: =IF(G$23="%w/w SAR",((G$24*10)*$B27),IF(G$23="%w/w DM",(((G$24*10)*($B$24/100))*$B27),IF(G$23="kg/t SAR",(G$24*$B27),IF(G$23="kg/t DM",((G$24*($B$24/100))*$B27),IF(G$23="mg/kg SAR",((G$24*0.001)*$B27),IF(G$23="mg/kg DM",(((G$24*0.001)*($B$24/100))*$B27),0)))))) -> 0.01089 | H27: =IF(H$23="%w/w SAR",((H$24*10)*$B27),IF(H$23="%w/w DM",(((H$24*10)*($B$24/100))*$B27),IF(H$23="kg/t SAR",(H$24*$B27),IF(H$23="kg/t DM",((H$24*($B$24/100))*$B27),IF(H$23="mg/kg SAR",((H$24*0.001)*$B27),IF(H$23="mg/kg DM",(((H$24*0.001)*($B$24/100))*$B27),0)))))) -> 0.09372 | I27: =IF(I$23="%w/w SAR",((I$24*10)*$B27),IF(I$23="%w/w DM",(((I$24*10)*($B$24/100))*$B27),IF(I$23="kg/t SAR",(I$24*$B27),IF(I$23="kg/t DM",((I$24*($B$24/100))*$B27),IF(I$23="mg/kg SAR",((I$24*0.001)*$B27),IF(I$23="mg/kg DM",(((I$24*0.001)*($B$24/100))*$B27),0)))))) -> 0.0165 | J27: =IF(J$23="%w/w SAR",((J$24*10)*$B27),IF(J$23="%w/w DM",(((J$24*10)*($B$24/100))*$B27),IF(J$23="kg/t SAR",(J$24*$B27),IF(J$23="kg/t DM",((J$24*($B$24/100))*$B27),IF(J$23="mg/kg SAR",((J$24*0.001)*$B27),IF(J$23="mg/kg DM",(((J$24*0.001)*($B$24/100))*$B27),0)))))) -> 0.00033 | K27: =IF(K$23="%w/w SAR",((K$24*10)*$B27),IF(K$23="%w/w DM",(((K$24*10)*($B$24/100))*$B27),IF(K$23="kg/t SAR",(K$24*$B27),IF(K$23="kg/t DM",((K$24*($B$24/100))*$B27),IF(K$23="mg/kg SAR",((K$24*0.001)*$B27),IF(K$23="mg/kg DM",(((K$24*0.001)*($B$24/100))*$B27),0)))))) -> 0.00165 | L27: =IF(L$23="%w/w SAR",((L$24*10)*$B27),IF(L$23="%w/w DM",(((L$24*10)*($B$24/100))*$B27),IF(L$23="kg/t SAR",(L$24*$B27),IF(L$23="kg/t DM",((L$24*($B$24/100))*$B27),IF(L$23="mg/kg SAR",((L$24*0.001)*$B27),IF(L$23="mg/kg DM",(((L$24*0.001)*($B$24/100))*$B27),0)))))) -> 0.0066 | M27: =IF(M$23="%w/w SAR",((M$24*10)*$B27),IF(M$23="%w/w DM",(((M$24*10)*($B$24/100))*$B27),IF(M$23="kg/t SAR",(M$24*$B27),IF(M$23="kg/t DM",((M$24*($B$24/100))*$B27),IF(M$23="mg/kg SAR",((M$24*0.001)*$B27),IF(M$23="mg/kg DM",(((M$24*0.001)*($B$24/100))*$B27),0)))))) -> 0.02541 | N27: =IF(N$23="%w/w SAR",((N$24*10)*$B27),IF(N$23="%w/w DM",(((N$24*10)*($B$24/100))*$B27),IF(N$23="kg/t SAR",(N$24*$B27),IF(N$23="kg/t DM",((N$24*($B$24/100))*$B27),IF(N$23="mg/kg SAR",((N$24*0.001)*$B27),IF(N$23="mg/kg DM",(((N$24*0.001)*($B$24/100))*$B27),0)))))) -> 0 | ... P27: =IF(P$23="%w/w SAR",((P$24*10)*$B27),IF(P$23="%w/w DM",(((P$24*10)*($B$24/100))*$B27),IF(P$23="kg/t SAR",(P$24*$B27),IF(P$23="kg/t DM",((P$24*($B$24/100))*$B27),IF(P$23="mg/kg SAR",((P$24*0.001)*$B27),IF(P$23="mg/kg DM",(((P$24*0.001)*($B$24/100))*$B27),0)))))) -> 43.428 | Q27: =(IF(Q$23="%w/w SAR",((Q$24*10)*$B27),IF(Q$23="%w/w DM",(((Q$24*10)*($B$24/100))*$B27),IF(Q$23="kg/t SAR",(Q$24*$B27),IF(Q$23="kg/t DM",((Q$24*($B$24/100))*$B27),IF(Q$23="mg/kg SAR",((Q$24*0.001)*$B27),IF(Q$23="mg/kg DM",(((Q$24*0.001)*($B$24/100))*$B27),0)))))))*2.5 -> 15.51 | R27: =IF(R$23="%w/w SAR",((R$24*10)*$B27),IF(R$23="%w/w DM",(((R$24*10)*($B$24/100))*$B27),IF(R$23="kg/t SAR",(R$24*$B27),IF(R$23="kg/t DM",((R$24*($B$24/100))*$B27),IF(R$23="mg/kg SAR",((R$24*0.001)*$B27),IF(R$23="mg/kg DM",(((R$24*0.001)*($B$24/100))*$B27),0)))))) -> 0 | S27: =IF(S$23="%w/w SAR",((S$24*10)*$B27),IF(S$23="%w/w DM",(((S$24*10)*($B$24/100))*$B27),IF(S$23="kg/t SAR",(S$24*$B27),IF(S$23="kg/t DM",((S$24*($B$24/100))*$B27),IF(S$23="mg/kg SAR",((S$24*0.001)*$B27),IF(S$23="mg/kg DM",(((S$24*0.001)*($B$24/100))*$B27),0)))))) -> 0 | T27: =IF(T$23="%w/w SAR",((T$24*10)*$B27),IF(T$23="%w/w DM",(((T$24*10)*($B$24/100))*$B27),IF(T$23="kg/t SAR",(T$24*$B27),IF(T$23="kg/t DM",((T$24*($B$24/100))*$B27),IF(T$23="mg/kg SAR",((T$24*0.001)*$B27),IF(T$23="mg/kg DM",(((T$24*0.001)*($B$24/100))*$B27),0)))))) -> 0 | U27: =IF(U$23="%w/w SAR",((U$24*10)*$B27),IF(U$23="%w/w DM",(((U$24*10)*($B$24/100))*$B27),IF(U$23="kg/t SAR",(U$24*$B27),IF(U$23="kg/t DM",((U$24*($B$24/100))*$B27),IF(U$23="mg/kg SAR",((U$24*0.001)*$B27),IF(U$23="mg/kg DM",(((U$24*0.001)*($B$24/100))*$B27),0)))))) -> 0 | V27: =IF($V$24="",0,IF($V$24>5000,"NOT OK","OK")) -> OK | W27: =IF($W$24="",0,IF($W$24>4,"Not OK","OK")) -> OK
A28: =D8 -> 9792 | B28: 60 | C28: =IF(C$23="%w/w SAR",((C$24*10)*$B28),IF(C$23="%w/w DM",(((C$24*10)*($B$24/100))*$B28),IF(C$23="kg/t SAR",(C$24*$B28),IF(C$23="kg/t DM",((C$24*($B$24/100))*$B28),IF(C$23="mg/kg SAR",((C$24*0.001)*$B28),IF(C$23="mg/kg DM",(((C$24*0.001)*($B$24/100))*$B28),0)))))) -> 132 | D28: =(IF(D$23="%w/w SAR",((D$24*10)*$B28),IF(D$23="%w/w DM",(((D$24*10)*($B$24/100))*$B28),IF(D$23="kg/t SAR",(D$24*$B28),IF(D$23="kg/t DM",((D$24*($B$24/100))*$B28),IF(D$23="mg/kg SAR",((D$24*0.001)*$B28),IF(D$23="mg/kg DM",(((D$24*0.001)*($B$24/100))*$B28),"0")))))))*2.291 -> 116.70354 | E28: =(IF(E$23="%w/w SAR",((E$24*10)*$B28),IF(E$23="%w/w DM",(((E$24*10)*($B$24/100))*$B28),IF(E$23="kg/t SAR",(E$24*$B28),IF(E$23="kg/t DM",((E$24*($B$24/100))*$B28),IF(E$23="mg/kg SAR",((E$24*0.001)*$B28),IF(E$23="mg/kg DM",(((E$24*0.001)*($B$24/100))*$B28),"0")))))))*1.205 -> 14.6769 | F28: =(IF(F$23="%w/w SAR",((F$24*10)*$B28),IF(F$23="%w/w DM",(((F$24*10)*($B$24/100))*$B28),IF(F$23="kg/t SAR",(F$24*$B28),IF(F$23="kg/t DM",((F$24*($B$24/100))*$B28),IF(F$23="mg/kg SAR",((F$24*0.001)*$B28),IF(F$23="mg/kg DM",(((F$24*0.001)*($B$24/100))*$B28),"0")))))))*1.658 -> 5.17296 | G28: =IF(G$23="%w/w SAR",((G$24*10)*$B28),IF(G$23="%w/w DM",(((G$24*10)*($B$24/100))*$B28),IF(G$23="kg/t SAR",(G$24*$B28),IF(G$23="kg/t DM",((G$24*($B$24/100))*$B28),IF(G$23="mg/kg SAR",((G$24*0.001)*$B28),IF(G$23="mg/kg DM",(((G$24*0.001)*($B$24/100))*$B28),0)))))) -> 0.0198 | H28: =IF(H$23="%w/w SAR",((H$24*10)*$B28),IF(H$23="%w/w DM",(((H$24*10)*($B$24/100))*$B28),IF(H$23="kg/t SAR",(H$24*$B28),IF(H$23="kg/t DM",((H$24*($B$24/100))*$B28),IF(H$23="mg/kg SAR",((H$24*0.001)*$B28),IF(H$23="mg/kg DM",(((H$24*0.001)*($B$24/100))*$B28),0)))))) -> 0.1704 | I28: =IF(I$23="%w/w SAR",((I$24*10)*$B28),IF(I$23="%w/w DM",(((I$24*10)*($B$24/100))*$B28),IF(I$23="kg/t SAR",(I$24*$B28),IF(I$23="kg/t DM",((I$24*($B$24/100))*$B28),IF(I$23="mg/kg SAR",((I$24*0.001)*$B28),IF(I$23="mg/kg DM",(((I$24*0.001)*($B$24/100))*$B28),0)))))) -> 0.03 | J28: =IF(J$23="%w/w SAR",((J$24*10)*$B28),IF(J$23="%w/w DM",(((J$24*10)*($B$24/100))*$B28),IF(J$23="kg/t SAR",(J$24*$B28),IF(J$23="kg/t DM",((J$24*($B$24/100))*$B28),IF(J$23="mg/kg SAR",((J$24*0.001)*$B28),IF(J$23="mg/kg DM",(((J$24*0.001)*($B$24/100))*$B28),0)))))) -> 0.0006 | K28: =IF(K$23="%w/w SAR",((K$24*10)*$B28),IF(K$23="%w/w DM",(((K$24*10)*($B$24/100))*$B28),IF(K$23="kg/t SAR",(K$24*$B28),IF(K$23="kg/t DM",((K$24*($B$24/100))*$B28),IF(K$23="mg/kg SAR",((K$24*0.001)*$B28),IF(K$23="mg/kg DM",(((K$24*0.001)*($B$24/100))*$B28),0)))))) -> 0.003 | L28: =IF(L$23="%w/w SAR",((L$24*10)*$B28),IF(L$23="%w/w DM",(((L$24*10)*($B$24/100))*$B28),IF(L$23="kg/t SAR",(L$24*$B28),IF(L$23="kg/t DM",((L$24*($B$24/100))*$B28),IF(L$23="mg/kg SAR",((L$24*0.001)*$B28),IF(L$23="mg/kg DM",(((L$24*0.001)*($B$24/100))*$B28),0)))))) -> 0.012 | M28: =IF(M$23="%w/w SAR",((M$24*10)*$B28),IF(M$23="%w/w DM",(((M$24*10)*($B$24/100))*$B28),IF(M$23="kg/t SAR",(M$24*$B28),IF(M$23="kg/t DM",((M$24*($B$24/100))*$B28),IF(M$23="mg/kg SAR",((M$24*0.001)*$B28),IF(M$23="mg/kg DM",(((M$24*0.001)*($B$24/100))*$B28),0)))))) -> 0.0462 | N28: =IF(N$23="%w/w SAR",((N$24*10)*$B28),IF(N$23="%w/w DM",(((N$24*10)*($B$24/100))*$B28),IF(N$23="kg/t SAR",(N$24*$B28),IF(N$23="kg/t DM",((N$24*($B$24/100))*$B28),IF(N$23="mg/kg SAR",((N$24*0.001)*$B28),IF(N$23="mg/kg DM",(((N$24*0.001)*($B$24/100))*$B28),0)))))) -> 0 | ... P28: =IF(P$23="%w/w SAR",((P$24*10)*$B28),IF(P$23="%w/w DM",(((P$24*10)*($B$24/100))*$B28),IF(P$23="kg/t SAR",(P$24*$B28),IF(P$23="kg/t DM",((P$24*($B$24/100))*$B28),IF(P$23="mg/kg SAR",((P$24*0.001)*$B28),IF(P$23="mg/kg DM",(((P$24*0.001)*($B$24/100))*$B28),0)))))) -> 78.96 | Q28: =(IF(Q$23="%w/w SAR",((Q$24*10)*$B28),IF(Q$23="%w/w DM",(((Q$24*10)*($B$24/100))*$B28),IF(Q$23="kg/t SAR",(Q$24*$B28),IF(Q$23="kg/t DM",((Q$24*($B$24/100))*$B28),IF(Q$23="mg/kg SAR",((Q$24*0.001)*$B28),IF(Q$23="mg/kg DM",(((Q$24*0.001)*($B$24/100))*$B28),0)))))))*2.5 -> 28.2 | R28: =IF(R$23="%w/w SAR",((R$24*10)*$B28),IF(R$23="%w/w DM",(((R$24*10)*($B$24/100))*$B28),IF(R$23="kg/t SAR",(R$24*$B28),IF(R$23="kg/t DM",((R$24*($B$24/100))*$B28),IF(R$23="mg/kg SAR",((R$24*0.001)*$B28),IF(R$23="mg/kg DM",(((R$24*0.001)*($B$24/100))*$B28),0)))))) -> 0 | S28: =IF(S$23="%w/w SAR",((S$24*10)*$B28),IF(S$23="%w/w DM",(((S$24*10)*($B$24/100))*$B28),IF(S$23="kg/t SAR",(S$24*$B28),IF(S$23="kg/t DM",((S$24*($B$24/100))*$B28),IF(S$23="mg/kg SAR",((S$24*0.001)*$B28),IF(S$23="mg/kg DM",(((S$24*0.001)*($B$24/100))*$B28),0)))))) -> 0 | T28: =IF(T$23="%w/w SAR",((T$24*10)*$B28),IF(T$23="%w/w DM",(((T$24*10)*($B$24/100))*$B28),IF(T$23="kg/t SAR",(T$24*$B28),IF(T$23="kg/t DM",((T$24*($B$24/100))*$B28),IF(T$23="mg/kg SAR",((T$24*0.001)*$B28),IF(T$23="mg/kg DM",(((T$24*0.001)*($B$24/100))*$B28),0)))))) -> 0 | U28: =IF(U$23="%w/w SAR",((U$24*10)*$B28),IF(U$23="%w/w DM",(((U$24*10)*($B$24/100))*$B28),IF(U$23="kg/t SAR",(U$24*$B28),IF(U$23="kg/t DM",((U$24*($B$24/100))*$B28),IF(U$23="mg/kg SAR",((U$24*0.001)*$B28),IF(U$23="mg/kg DM",(((U$24*0.001)*($B$24/100))*$B28),0)))))) -> 0 | V28: =IF($V$24="",0,IF($V$24>5000,"NOT OK","OK")) -> OK | W28: =IF($W$24="",0,IF($W$24>4,"Not OK","OK")) -> OK
A29: =E8 -> 1188 | B29: 60 | C29: =IF(C$23="%w/w SAR",((C$24*10)*$B29),IF(C$23="%w/w DM",(((C$24*10)*($B$24/100))*$B29),IF(C$23="kg/t SAR",(C$24*$B29),IF(C$23="kg/t DM",((C$24*($B$24/100))*$B29),IF(C$23="mg/kg SAR",((C$24*0.001)*$B29),IF(C$23="mg/kg DM",(((C$24*0.001)*($B$24/100))*$B29),0)))))) -> 132 | D29: =(IF(D$23="%w/w SAR",((D$24*10)*$B29),IF(D$23="%w/w DM",(((D$24*10)*($B$24/100))*$B29),IF(D$23="kg/t SAR",(D$24*$B29),IF(D$23="kg/t DM",((D$24*($B$24/100))*$B29),IF(D$23="mg/kg SAR",((D$24*0.001)*$B29),IF(D$23="mg/kg DM",(((D$24*0.001)*($B$24/100))*$B29),"0")))))))*2.291 -> 116.70354 | E29: =(IF(E$23="%w/w SAR",((E$24*10)*$B29),IF(E$23="%w/w DM",(((E$24*10)*($B$24/100))*$B29),IF(E$23="kg/t SAR",(E$24*$B29),IF(E$23="kg/t DM",((E$24*($B$24/100))*$B29),IF(E$23="mg/kg SAR",((E$24*0.001)*$B29),IF(E$23="mg/kg DM",(((E$24*0.001)*($B$24/100))*$B29),"0")))))))*1.205 -> 14.6769 | F29: =(IF(F$23="%w/w SAR",((F$24*10)*$B29),IF(F$23="%w/w DM",(((F$24*10)*($B$24/100))*$B29),IF(F$23="kg/t SAR",(F$24*$B29),IF(F$23="kg/t DM",((F$24*($B$24/100))*$B29),IF(F$23="mg/kg SAR",((F$24*0.001)*$B29),IF(F$23="mg/kg DM",(((F$24*0.001)*($B$24/100))*$B29),"0")))))))*1.658 -> 5.17296 | G29: =IF(G$23="%w/w SAR",((G$24*10)*$B29),IF(G$23="%w/w DM",(((G$24*10)*($B$24/100))*$B29),IF(G$23="kg/t SAR",(G$24*$B29),IF(G$23="kg/t DM",((G$24*($B$24/100))*$B29),IF(G$23="mg/kg SAR",((G$24*0.001)*$B29),IF(G$23="mg/kg DM",(((G$24*0.001)*($B$24/100))*$B29),0)))))) -> 0.0198 | H29: =IF(H$23="%w/w SAR",((H$24*10)*$B29),IF(H$23="%w/w DM",(((H$24*10)*($B$24/100))*$B29),IF(H$23="kg/t SAR",(H$24*$B29),IF(H$23="kg/t DM",((H$24*($B$24/100))*$B29),IF(H$23="mg/kg SAR",((H$24*0.001)*$B29),IF(H$23="mg/kg DM",(((H$24*0.001)*($B$24/100))*$B29),0)))))) -> 0.1704 | I29: =IF(I$23="%w/w SAR",((I$24*10)*$B29),IF(I$23="%w/w DM",(((I$24*10)*($B$24/100))*$B29),IF(I$23="kg/t SAR",(I$24*$B29),IF(I$23="kg/t DM",((I$24*($B$24/100))*$B29),IF(I$23="mg/kg SAR",((I$24*0.001)*$B29),IF(I$23="mg/kg DM",(((I$24*0.001)*($B$24/100))*$B29),0)))))) -> 0.03 | J29: =IF(J$23="%w/w SAR",((J$24*10)*$B29),IF(J$23="%w/w DM",(((J$24*10)*($B$24/100))*$B29),IF(J$23="kg/t SAR",(J$24*$B29),IF(J$23="kg/t DM",((J$24*($B$24/100))*$B29),IF(J$23="mg/kg SAR",((J$24*0.001)*$B29),IF(J$23="mg/kg DM",(((J$24*0.001)*($B$24/100))*$B29),0)))))) -> 0.0006 | K29: =IF(K$23="%w/w SAR",((K$24*10)*$B29),IF(K$23="%w/w DM",(((K$24*10)*($B$24/100))*$B29),IF(K$23="kg/t SAR",(K$24*$B29),IF(K$23="kg/t DM",((K$24*($B$24/100))*$B29),IF(K$23="mg/kg SAR",((K$24*0.001)*$B29),IF(K$23="mg/kg DM",(((K$24*0.001)*($B$24/100))*$B29),0)))))) -> 0.003 | L29: =IF(L$23="%w/w SAR",((L$24*10)*$B29),IF(L$23="%w/w DM",(((L$24*10)*($B$24/100))*$B29),IF(L$23="kg/t SAR",(L$24*$B29),IF(L$23="kg/t DM",((L$24*($B$24/100))*$B29),IF(L$23="mg/kg SAR",((L$24*0.001)*$B29),IF(L$23="mg/kg DM",(((L$24*0.001)*($B$24/100))*$B29),0)))))) -> 0.012 | M29: =IF(M$23="%w/w SAR",((M$24*10)*$B29),IF(M$23="%w/w DM",(((M$24*10)*($B$24/100))*$B29),IF(M$23="kg/t SAR",(M$24*$B29),IF(M$23="kg/t DM",((M$24*($B$24/100))*$B29),IF(M$23="mg/kg SAR",((M$24*0.001)*$B29),IF(M$23="mg/kg DM",(((M$24*0.001)*($B$24/100))*$B29),0)))))) -> 0.0462 | N29: =IF(N$23="%w/w SAR",((N$24*10)*$B29),IF(N$23="%w/w DM",(((N$24*10)*($B$24/100))*$B29),IF(N$23="kg/t SAR",(N$24*$B29),IF(N$23="kg/t DM",((N$24*($B$24/100))*$B29),IF(N$23="mg/kg SAR",((N$24*0.001)*$B29),IF(N$23="mg/kg DM",(((N$24*0.001)*($B$24/100))*$B29),0)))))) -> 0 | ... P29: =IF(P$23="%w/w SAR",((P$24*10)*$B29),IF(P$23="%w/w DM",(((P$24*10)*($B$24/100))*$B29),IF(P$23="kg/t SAR",(P$24*$B29),IF(P$23="kg/t DM",((P$24*($B$24/100))*$B29),IF(P$23="mg/kg SAR",((P$24*0.001)*$B29),IF(P$23="mg/kg DM",(((P$24*0.001)*($B$24/100))*$B29),0)))))) -> 78.96 | Q29: =(IF(Q$23="%w/w SAR",((Q$24*10)*$B29),IF(Q$23="%w/w DM",(((Q$24*10)*($B$24/100))*$B29),IF(Q$23="kg/t SAR",(Q$24*$B29),IF(Q$23="kg/t DM",((Q$24*($B$24/100))*$B29),IF(Q$23="mg/kg SAR",((Q$24*0.001)*$B29),IF(Q$23="mg/kg DM",(((Q$24*0.001)*($B$24/100))*$B29),0)))))))*2.5 -> 28.2 | R29: =IF(R$23="%w/w SAR",((R$24*10)*$B29),IF(R$23="%w/w DM",(((R$24*10)*($B$24/100))*$B29),IF(R$23="kg/t SAR",(R$24*$B29),IF(R$23="kg/t DM",((R$24*($B$24/100))*$B29),IF(R$23="mg/kg SAR",((R$24*0.001)*$B29),IF(R$23="mg/kg DM",(((R$24*0.001)*($B$24/100))*$B29),0)))))) -> 0 | S29: =IF(S$23="%w/w SAR",((S$24*10)*$B29),IF(S$23="%w/w DM",(((S$24*10)*($B$24/100))*$B29),IF(S$23="kg/t SAR",(S$24*$B29),IF(S$23="kg/t DM",((S$24*($B$24/100))*$B29),IF(S$23="mg/kg SAR",((S$24*0.001)*$B29),IF(S$23="mg/kg DM",(((S$24*0.001)*($B$24/100))*$B29),0)))))) -> 0 | T29: =IF(T$23="%w/w SAR",((T$24*10)*$B29),IF(T$23="%w/w DM",(((T$24*10)*($B$24/100))*$B29),IF(T$23="kg/t SAR",(T$24*$B29),IF(T$23="kg/t DM",((T$24*($B$24/100))*$B29),IF(T$23="mg/kg SAR",((T$24*0.001)*$B29),IF(T$23="mg/kg DM",(((T$24*0.001)*($B$24/100))*$B29),0)))))) -> 0 | U29: =IF(U$23="%w/w SAR",((U$24*10)*$B29),IF(U$23="%w/w DM",(((U$24*10)*($B$24/100))*$B29),IF(U$23="kg/t SAR",(U$24*$B29),IF(U$23="kg/t DM",((U$24*($B$24/100))*$B29),IF(U$23="mg/kg SAR",((U$24*0.001)*$B29),IF(U$23="mg/kg DM",(((U$24*0.001)*($B$24/100))*$B29),0)))))) -> 0 | V29: =IF($V$24="",0,IF($V$24>5000,"NOT OK","OK")) -> OK | W29: =IF($W$24="",0,IF($W$24>4,"Not OK","OK")) -> OK
A30: =F8 -> 8262 | B30: 60 | C30: =IF(C$23="%w/w SAR",((C$24*10)*$B30),IF(C$23="%w/w DM",(((C$24*10)*($B$24/100))*$B30),IF(C$23="kg/t SAR",(C$24*$B30),IF(C$23="kg/t DM",((C$24*($B$24/100))*$B30),IF(C$23="mg/kg SAR",((C$24*0.001)*$B30),IF(C$23="mg/kg DM",(((C$24*0.001)*($B$24/100))*$B30),0)))))) -> 132 | D30: =(IF(D$23="%w/w SAR",((D$24*10)*$B30),IF(D$23="%w/w DM",(((D$24*10)*($B$24/100))*$B30),IF(D$23="kg/t SAR",(D$24*$B30),IF(D$23="kg/t DM",((D$24*($B$24/100))*$B30),IF(D$23="mg/kg SAR",((D$24*0.001)*$B30),IF(D$23="mg/kg DM",(((D$24*0.001)*($B$24/100))*$B30),"0")))))))*2.291 -> 116.70354 | E30: =(IF(E$23="%w/w SAR",((E$24*10)*$B30),IF(E$23="%w/w DM",(((E$24*10)*($B$24/100))*$B30),IF(E$23="kg/t SAR",(E$24*$B30),IF(E$23="kg/t DM",((E$24*($B$24/100))*$B30),IF(E$23="mg/kg SAR",((E$24*0.001)*$B30),IF(E$23="mg/kg DM",(((E$24*0.001)*($B$24/100))*$B30),"0")))))))*1.205 -> 14.6769 | F30: =(IF(F$23="%w/w SAR",((F$24*10)*$B30),IF(F$23="%w/w DM",(((F$24*10)*($B$24/100))*$B30),IF(F$23="kg/t SAR",(F$24*$B30),IF(F$23="kg/t DM",((F$24*($B$24/100))*$B30),IF(F$23="mg/kg SAR",((F$24*0.001)*$B30),IF(F$23="mg/kg DM",(((F$24*0.001)*($B$24/100))*$B30),"0")))))))*1.658 -> 5.17296 | G30: =IF(G$23="%w/w SAR",((G$24*10)*$B30),IF(G$23="%w/w DM",(((G$24*10)*($B$24/100))*$B30),IF(G$23="kg/t SAR",(G$24*$B30),IF(G$23="kg/t DM",((G$24*($B$24/100))*$B30),IF(G$23="mg/kg SAR",((G$24*0.001)*$B30),IF(G$23="mg/kg DM",(((G$24*0.001)*($B$24/100))*$B30),0)))))) -> 0.0198 | H30: =IF(H$23="%w/w SAR",((H$24*10)*$B30),IF(H$23="%w/w DM",(((H$24*10)*($B$24/100))*$B30),IF(H$23="kg/t SAR",(H$24*$B30),IF(H$23="kg/t DM",((H$24*($B$24/100))*$B30),IF(H$23="mg/kg SAR",((H$24*0.001)*$B30),IF(H$23="mg/kg DM",(((H$24*0.001)*($B$24/100))*$B30),0)))))) -> 0.1704 | I30: =IF(I$23="%w/w SAR",((I$24*10)*$B30),IF(I$23="%w/w DM",(((I$24*10)*($B$24/100))*$B30),IF(I$23="kg/t SAR",(I$24*$B30),IF(I$23="kg/t DM",((I$24*($B$24/100))*$B30),IF(I$23="mg/kg SAR",((I$24*0.001)*$B30),IF(I$23="mg/kg DM",(((I$24*0.001)*($B$24/100))*$B30),0)))))) -> 0.03 | J30: =IF(J$23="%w/w SAR",((J$24*10)*$B30),IF(J$23="%w/w DM",(((J$24*10)*($B$24/100))*$B30),IF(J$23="kg/t SAR",(J$24*$B30),IF(J$23="kg/t DM",((J$24*($B$24/100))*$B30),IF(J$23="mg/kg SAR",((J$24*0.001)*$B30),IF(J$23="mg/kg DM",(((J$24*0.001)*($B$24/100))*$B30),0)))))) -> 0.0006 | K30: =IF(K$23="%w/w SAR",((K$24*10)*$B30),IF(K$23="%w/w DM",(((K$24*10)*($B$24/100))*$B30),IF(K$23="kg/t SAR",(K$24*$B30),IF(K$23="kg/t DM",((K$24*($B$24/100))*$B30),IF(K$23="mg/kg SAR",((K$24*0.001)*$B30),IF(K$23="mg/kg DM",(((K$24*0.001)*($B$24/100))*$B30),0)))))) -> 0.003 | L30: =IF(L$23="%w/w SAR",((L$24*10)*$B30),IF(L$23="%w/w DM",(((L$24*10)*($B$24/100))*$B30),IF(L$23="kg/t SAR",(L$24*$B30),IF(L$23="kg/t DM",((L$24*($B$24/100))*$B30),IF(L$23="mg/kg SAR",((L$24*0.001)*$B30),IF(L$23="mg/kg DM",(((L$24*0.001)*($B$24/100))*$B30),0)))))) -> 0.012 | M30: =IF(M$23="%w/w SAR",((M$24*10)*$B30),IF(M$23="%w/w DM",(((M$24*10)*($B$24/100))*$B30),IF(M$23="kg/t SAR",(M$24*$B30),IF(M$23="kg/t DM",((M$24*($B$24/100))*$B30),IF(M$23="mg/kg SAR",((M$24*0.001)*$B30),IF(M$23="mg/kg DM",(((M$24*0.001)*($B$24/100))*$B30),0)))))) -> 0.0462 | N30: =IF(N$23="%w/w SAR",((N$24*10)*$B30),IF(N$23="%w/w DM",(((N$24*10)*($B$24/100))*$B30),IF(N$23="kg/t SAR",(N$24*$B30),IF(N$23="kg/t DM",((N$24*($B$24/100))*$B30),IF(N$23="mg/kg SAR",((N$24*0.001)*$B30),IF(N$23="mg/kg DM",(((N$24*0.001)*($B$24/100))*$B30),0)))))) -> 0 | ... P30: =IF(P$23="%w/w SAR",((P$24*10)*$B30),IF(P$23="%w/w DM",(((P$24*10)*($B$24/100))*$B30),IF(P$23="kg/t SAR",(P$24*$B30),IF(P$23="kg/t DM",((P$24*($B$24/100))*$B30),IF(P$23="mg/kg SAR",((P$24*0.001)*$B30),IF(P$23="mg/kg DM",(((P$24*0.001)*($B$24/100))*$B30),0)))))) -> 78.96 | Q30: =(IF(Q$23="%w/w SAR",((Q$24*10)*$B30),IF(Q$23="%w/w DM",(((Q$24*10)*($B$24/100))*$B30),IF(Q$23="kg/t SAR",(Q$24*$B30),IF(Q$23="kg/t DM",((Q$24*($B$24/100))*$B30),IF(Q$23="mg/kg SAR",((Q$24*0.001)*$B30),IF(Q$23="mg/kg DM",(((Q$24*0.001)*($B$24/100))*$B30),0)))))))*2.5 -> 28.2 | R30: =IF(R$23="%w/w SAR",((R$24*10)*$B30),IF(R$23="%w/w DM",(((R$24*10)*($B$24/100))*$B30),IF(R$23="kg/t SAR",(R$24*$B30),IF(R$23="kg/t DM",((R$24*($B$24/100))*$B30),IF(R$23="mg/kg SAR",((R$24*0.001)*$B30),IF(R$23="mg/kg DM",(((R$24*0.001)*($B$24/100))*$B30),0)))))) -> 0 | S30: =IF(S$23="%w/w SAR",((S$24*10)*$B30),IF(S$23="%w/w DM",(((S$24*10)*($B$24/100))*$B30),IF(S$23="kg/t SAR",(S$24*$B30),IF(S$23="kg/t DM",((S$24*($B$24/100))*$B30),IF(S$23="mg/kg SAR",((S$24*0.001)*$B30),IF(S$23="mg/kg DM",(((S$24*0.001)*($B$24/100))*$B30),0)))))) -> 0 | T30: =IF(T$23="%w/w SAR",((T$24*10)*$B30),IF(T$23="%w/w DM",(((T$24*10)*($B$24/100))*$B30),IF(T$23="kg/t SAR",(T$24*$B30),IF(T$23="kg/t DM",((T$24*($B$24/100))*$B30),IF(T$23="mg/kg SAR",((T$24*0.001)*$B30),IF(T$23="mg/kg DM",(((T$24*0.001)*($B$24/100))*$B30),0)))))) -> 0 | U30: =IF(U$23="%w/w SAR",((U$24*10)*$B30),IF(U$23="%w/w DM",(((U$24*10)*($B$24/100))*$B30),IF(U$23="kg/t SAR",(U$24*$B30),IF(U$23="kg/t DM",((U$24*($B$24/100))*$B30),IF(U$23="mg/kg SAR",((U$24*0.001)*$B30),IF(U$23="mg/kg DM",(((U$24*0.001)*($B$24/100))*$B30),0)))))) -> 0 | V30: =IF($V$24="",0,IF($V$24>5000,"NOT OK","OK")) -> OK | W30: =IF($W$24="",0,IF($W$24>4,"Not OK","OK")) -> OK
A31: =G8 -> 165 | B31: 60 | C31: =IF(C$23="%w/w SAR",((C$24*10)*$B31),IF(C$23="%w/w DM",(((C$24*10)*($B$24/100))*$B31),IF(C$23="kg/t SAR",(C$24*$B31),IF(C$23="kg/t DM",((C$24*($B$24/100))*$B31),IF(C$23="mg/kg SAR",((C$24*0.001)*$B31),IF(C$23="mg/kg DM",(((C$24*0.001)*($B$24/100))*$B31),0)))))) -> 132 | D31: =(IF(D$23="%w/w SAR",((D$24*10)*$B31),IF(D$23="%w/w DM",(((D$24*10)*($B$24/100))*$B31),IF(D$23="kg/t SAR",(D$24*$B31),IF(D$23="kg/t DM",((D$24*($B$24/100))*$B31),IF(D$23="mg/kg SAR",((D$24*0.001)*$B31),IF(D$23="mg/kg DM",(((D$24*0.001)*($B$24/100))*$B31),"0")))))))*2.291 -> 116.70354 | E31: =(IF(E$23="%w/w SAR",((E$24*10)*$B31),IF(E$23="%w/w DM",(((E$24*10)*($B$24/100))*$B31),IF(E$23="kg/t SAR",(E$24*$B31),IF(E$23="kg/t DM",((E$24*($B$24/100))*$B31),IF(E$23="mg/kg SAR",((E$24*0.001)*$B31),IF(E$23="mg/kg DM",(((E$24*0.001)*($B$24/100))*$B31),"0")))))))*1.205 -> 14.6769 | F31: =(IF(F$23="%w/w SAR",((F$24*10)*$B31),IF(F$23="%w/w DM",(((F$24*10)*($B$24/100))*$B31),IF(F$23="kg/t SAR",(F$24*$B31),IF(F$23="kg/t DM",((F$24*($B$24/100))*$B31),IF(F$23="mg/kg SAR",((F$24*0.001)*$B31),IF(F$23="mg/kg DM",(((F$24*0.001)*($B$24/100))*$B31),"0")))))))*1.658 -> 5.17296 | G31: =IF(G$23="%w/w SAR",((G$24*10)*$B31),IF(G$23="%w/w DM",(((G$24*10)*($B$24/100))*$B31),IF(G$23="kg/t SAR",(G$24*$B31),IF(G$23="kg/t DM",((G$24*($B$24/100))*$B31),IF(G$23="mg/kg SAR",((G$24*0.001)*$B31),IF(G$23="mg/kg DM",(((G$24*0.001)*($B$24/100))*$B31),0)))))) -> 0.0198 | H31: =IF(H$23="%w/w SAR",((H$24*10)*$B31),IF(H$23="%w/w DM",(((H$24*10)*($B$24/100))*$B31),IF(H$23="kg/t SAR",(H$24*$B31),IF(H$23="kg/t DM",((H$24*($B$24/100))*$B31),IF(H$23="mg/kg SAR",((H$24*0.001)*$B31),IF(H$23="mg/kg DM",(((H$24*0.001)*($B$24/100))*$B31),0)))))) -> 0.1704 | I31: =IF(I$23="%w/w SAR",((I$24*10)*$B31),IF(I$23="%w/w DM",(((I$24*10)*($B$24/100))*$B31),IF(I$23="kg/t SAR",(I$24*$B31),IF(I$23="kg/t DM",((I$24*($B$24/100))*$B31),IF(I$23="mg/kg SAR",((I$24*0.001)*$B31),IF(I$23="mg/kg DM",(((I$24*0.001)*($B$24/100))*$B31),0)))))) -> 0.03 | J31: =IF(J$23="%w/w SAR",((J$24*10)*$B31),IF(J$23="%w/w DM",(((J$24*10)*($B$24/100))*$B31),IF(J$23="kg/t SAR",(J$24*$B31),IF(J$23="kg/t DM",((J$24*($B$24/100))*$B31),IF(J$23="mg/kg SAR",((J$24*0.001)*$B31),IF(J$23="mg/kg DM",(((J$24*0.001)*($B$24/100))*$B31),0)))))) -> 0.0006 | K31: =IF(K$23="%w/w SAR",((K$24*10)*$B31),IF(K$23="%w/w DM",(((K$24*10)*($B$24/100))*$B31),IF(K$23="kg/t SAR",(K$24*$B31),IF(K$23="kg/t DM",((K$24*($B$24/100))*$B31),IF(K$23="mg/kg SAR",((K$24*0.001)*$B31),IF(K$23="mg/kg DM",(((K$24*0.001)*($B$24/100))*$B31),0)))))) -> 0.003 | L31: =IF(L$23="%w/w SAR",((L$24*10)*$B31),IF(L$23="%w/w DM",(((L$24*10)*($B$24/100))*$B31),IF(L$23="kg/t SAR",(L$24*$B31),IF(L$23="kg/t DM",((L$24*($B$24/100))*$B31),IF(L$23="mg/kg SAR",((L$24*0.001)*$B31),IF(L$23="mg/kg DM",(((L$24*0.001)*($B$24/100))*$B31),0)))))) -> 0.012 | M31: =IF(M$23="%w/w SAR",((M$24*10)*$B31),IF(M$23="%w/w DM",(((M$24*10)*($B$24/100))*$B31),IF(M$23="kg/t SAR",(M$24*$B31),IF(M$23="kg/t DM",((M$24*($B$24/100))*$B31),IF(M$23="mg/kg SAR",((M$24*0.001)*$B31),IF(M$23="mg/kg DM",(((M$24*0.001)*($B$24/100))*$B31),0)))))) -> 0.0462 | N31: =IF(N$23="%w/w SAR",((N$24*10)*$B31),IF(N$23="%w/w DM",(((N$24*10)*($B$24/100))*$B31),IF(N$23="kg/t SAR",(N$24*$B31),IF(N$23="kg/t DM",((N$24*($B$24/100))*$B31),IF(N$23="mg/kg SAR",((N$24*0.001)*$B31),IF(N$23="mg/kg DM",(((N$24*0.001)*($B$24/100))*$B31),0)))))) -> 0 | ... P31: =IF(P$23="%w/w SAR",((P$24*10)*$B31),IF(P$23="%w/w DM",(((P$24*10)*($B$24/100))*$B31),IF(P$23="kg/t SAR",(P$24*$B31),IF(P$23="kg/t DM",((P$24*($B$24/100))*$B31),IF(P$23="mg/kg SAR",((P$24*0.001)*$B31),IF(P$23="mg/kg DM",(((P$24*0.001)*($B$24/100))*$B31),0)))))) -> 78.96 | Q31: =(IF(Q$23="%w/w SAR",((Q$24*10)*$B31),IF(Q$23="%w/w DM",(((Q$24*10)*($B$24/100))*$B31),IF(Q$23="kg/t SAR",(Q$24*$B31),IF(Q$23="kg/t DM",((Q$24*($B$24/100))*$B31),IF(Q$23="mg/kg SAR",((Q$24*0.001)*$B31),IF(Q$23="mg/kg DM",(((Q$24*0.001)*($B$24/100))*$B31),0)))))))*2.5 -> 28.2 | R31: =IF(R$23="%w/w SAR",((R$24*10)*$B31),IF(R$23="%w/w DM",(((R$24*10)*($B$24/100))*$B31),IF(R$23="kg/t SAR",(R$24*$B31),IF(R$23="kg/t DM",((R$24*($B$24/100))*$B31),IF(R$23="mg/kg SAR",((R$24*0.001)*$B31),IF(R$23="mg/kg DM",(((R$24*0.001)*($B$24/100))*$B31),0)))))) -> 0 | S31: =IF(S$23="%w/w SAR",((S$24*10)*$B31),IF(S$23="%w/w DM",(((S$24*10)*($B$24/100))*$B31),IF(S$23="kg/t SAR",(S$24*$B31),IF(S$23="kg/t DM",((S$24*($B$24/100))*$B31),IF(S$23="mg/kg SAR",((S$24*0.001)*$B31),IF(S$23="mg/kg DM",(((S$24*0.001)*($B$24/100))*$B31),0)))))) -> 0 | T31: =IF(T$23="%w/w SAR",((T$24*10)*$B31),IF(T$23="%w/w DM",(((T$24*10)*($B$24/100))*$B31),IF(T$23="kg/t SAR",(T$24*$B31),IF(T$23="kg/t DM",((T$24*($B$24/100))*$B31),IF(T$23="mg/kg SAR",((T$24*0.001)*$B31),IF(T$23="mg/kg DM",(((T$24*0.001)*($B$24/100))*$B31),0)))))) -> 0 | U31: =IF(U$23="%w/w SAR",((U$24*10)*$B31),IF(U$23="%w/w DM",(((U$24*10)*($B$24/100))*$B31),IF(U$23="kg/t SAR",(U$24*$B31),IF(U$23="kg/t DM",((U$24*($B$24/100))*$B31),IF(U$23="mg/kg SAR",((U$24*0.001)*$B31),IF(U$23="mg/kg DM",(((U$24*0.001)*($B$24/100))*$B31),0)))))) -> 0 | V31: =IF($V$24="",0,IF($V$24>5000,"NOT OK","OK")) -> OK | W31: =IF($W$24="",0,IF($W$24>4,"Not OK","OK")) -> OK
A32: =H8 -> 438 | B32: 60 | C32: =IF(C$23="%w/w SAR",((C$24*10)*$B32),IF(C$23="%w/w DM",(((C$24*10)*($B$24/100))*$B32),IF(C$23="kg/t SAR",(C$24*$B32),IF(C$23="kg/t DM",((C$24*($B$24/100))*$B32),IF(C$23="mg/kg SAR",((C$24*0.001)*$B32),IF(C$23="mg/kg DM",(((C$24*0.001)*($B$24/100))*$B32),0)))))) -> 132 | D32: =(IF(D$23="%w/w SAR",((D$24*10)*$B32),IF(D$23="%w/w DM",(((D$24*10)*($B$24/100))*$B32),IF(D$23="kg/t SAR",(D$24*$B32),IF(D$23="kg/t DM",((D$24*($B$24/100))*$B32),IF(D$23="mg/kg SAR",((D$24*0.001)*$B32),IF(D$23="mg/kg DM",(((D$24*0.001)*($B$24/100))*$B32),"0")))))))*2.291 -> 116.70354 | E32: =(IF(E$23="%w/w SAR",((E$24*10)*$B32),IF(E$23="%w/w DM",(((E$24*10)*($B$24/100))*$B32),IF(E$23="kg/t SAR",(E$24*$B32),IF(E$23="kg/t DM",((E$24*($B$24/100))*$B32),IF(E$23="mg/kg SAR",((E$24*0.001)*$B32),IF(E$23="mg/kg DM",(((E$24*0.001)*($B$24/100))*$B32),"0")))))))*1.205 -> 14.6769 | F32: =(IF(F$23="%w/w SAR",((F$24*10)*$B32),IF(F$23="%w/w DM",(((F$24*10)*($B$24/100))*$B32),IF(F$23="kg/t SAR",(F$24*$B32),IF(F$23="kg/t DM",((F$24*($B$24/100))*$B32),IF(F$23="mg/kg SAR",((F$24*0.001)*$B32),IF(F$23="mg/kg DM",(((F$24*0.001)*($B$24/100))*$B32),"0")))))))*1.658 -> 5.17296 | G32: =IF(G$23="%w/w SAR",((G$24*10)*$B32),IF(G$23="%w/w DM",(((G$24*10)*($B$24/100))*$B32),IF(G$23="kg/t SAR",(G$24*$B32),IF(G$23="kg/t DM",((G$24*($B$24/100))*$B32),IF(G$23="mg/kg SAR",((G$24*0.001)*$B32),IF(G$23="mg/kg DM",(((G$24*0.001)*($B$24/100))*$B32),0)))))) -> 0.0198 | H32: =IF(H$23="%w/w SAR",((H$24*10)*$B32),IF(H$23="%w/w DM",(((H$24*10)*($B$24/100))*$B32),IF(H$23="kg/t SAR",(H$24*$B32),IF(H$23="kg/t DM",((H$24*($B$24/100))*$B32),IF(H$23="mg/kg SAR",((H$24*0.001)*$B32),IF(H$23="mg/kg DM",(((H$24*0.001)*($B$24/100))*$B32),0)))))) -> 0.1704 | I32: =IF(I$23="%w/w SAR",((I$24*10)*$B32),IF(I$23="%w/w DM",(((I$24*10)*($B$24/100))*$B32),IF(I$23="kg/t SAR",(I$24*$B32),IF(I$23="kg/t DM",((I$24*($B$24/100))*$B32),IF(I$23="mg/kg SAR",((I$24*0.001)*$B32),IF(I$23="mg/kg DM",(((I$24*0.001)*($B$24/100))*$B32),0)))))) -> 0.03 | J32: =IF(J$23="%w/w SAR",((J$24*10)*$B32),IF(J$23="%w/w DM",(((J$24*10)*($B$24/100))*$B32),IF(J$23="kg/t SAR",(J$24*$B32),IF(J$23="kg/t DM",((J$24*($B$24/100))*$B32),IF(J$23="mg/kg SAR",((J$24*0.001)*$B32),IF(J$23="mg/kg DM",(((J$24*0.001)*($B$24/100))*$B32),0)))))) -> 0.0006 | K32: =IF(K$23="%w/w SAR",((K$24*10)*$B32),IF(K$23="%w/w DM",(((K$24*10)*($B$24/100))*$B32),IF(K$23="kg/t SAR",(K$24*$B32),IF(K$23="kg/t DM",((K$24*($B$24/100))*$B32),IF(K$23="mg/kg SAR",((K$24*0.001)*$B32),IF(K$23="mg/kg DM",(((K$24*0.001)*($B$24/100))*$B32),0)))))) -> 0.003 | L32: =IF(L$23="%w/w SAR",((L$24*10)*$B32),IF(L$23="%w/w DM",(((L$24*10)*($B$24/100))*$B32),IF(L$23="kg/t SAR",(L$24*$B32),IF(L$23="kg/t DM",((L$24*($B$24/100))*$B32),IF(L$23="mg/kg SAR",((L$24*0.001)*$B32),IF(L$23="mg/kg DM",(((L$24*0.001)*($B$24/100))*$B32),0)))))) -> 0.012 | M32: =IF(M$23="%w/w SAR",((M$24*10)*$B32),IF(M$23="%w/w DM",(((M$24*10)*($B$24/100))*$B32),IF(M$23="kg/t SAR",(M$24*$B32),IF(M$23="kg/t DM",((M$24*($B$24/100))*$B32),IF(M$23="mg/kg SAR",((M$24*0.001)*$B32),IF(M$23="mg/kg DM",(((M$24*0.001)*($B$24/100))*$B32),0)))))) -> 0.0462 | N32: =IF(N$23="%w/w SAR",((N$24*10)*$B32),IF(N$23="%w/w DM",(((N$24*10)*($B$24/100))*$B32),IF(N$23="kg/t SAR",(N$24*$B32),IF(N$23="kg/t DM",((N$24*($B$24/100))*$B32),IF(N$23="mg/kg SAR",((N$24*0.001)*$B32),IF(N$23="mg/kg DM",(((N$24*0.001)*($B$24/100))*$B32),0)))))) -> 0 | ... P32: =IF(P$23="%w/w SAR",((P$24*10)*$B32),IF(P$23="%w/w DM",(((P$24*10)*($B$24/100))*$B32),IF(P$23="kg/t SAR",(P$24*$B32),IF(P$23="kg/t DM",((P$24*($B$24/100))*$B32),IF(P$23="mg/kg SAR",((P$24*0.001)*$B32),IF(P$23="mg/kg DM",(((P$24*0.001)*($B$24/100))*$B32),0)))))) -> 78.96 | Q32: =(IF(Q$23="%w/w SAR",((Q$24*10)*$B32),IF(Q$23="%w/w DM",(((Q$24*10)*($B$24/100))*$B32),IF(Q$23="kg/t SAR",(Q$24*$B32),IF(Q$23="kg/t DM",((Q$24*($B$24/100))*$B32),IF(Q$23="mg/kg SAR",((Q$24*0.001)*$B32),IF(Q$23="mg/kg DM",(((Q$24*0.001)*($B$24/100))*$B32),0)))))))*2.5 -> 28.2 | R32: =IF(R$23="%w/w SAR",((R$24*10)*$B32),IF(R$23="%w/w DM",(((R$24*10)*($B$24/100))*$B32),IF(R$23="kg/t SAR",(R$24*$B32),IF(R$23="kg/t DM",((R$24*($B$24/100))*$B32),IF(R$23="mg/kg SAR",((R$24*0.001)*$B32),IF(R$23="mg/kg DM",(((R$24*0.001)*($B$24/100))*$B32),0)))))) -> 0 | S32: =IF(S$23="%w/w SAR",((S$24*10)*$B32),IF(S$23="%w/w DM",(((S$24*10)*($B$24/100))*$B32),IF(S$23="kg/t SAR",(S$24*$B32),IF(S$23="kg/t DM",((S$24*($B$24/100))*$B32),IF(S$23="mg/kg SAR",((S$24*0.001)*$B32),IF(S$23="mg/kg DM",(((S$24*0.001)*($B$24/100))*$B32),0)))))) -> 0 | T32: =IF(T$23="%w/w SAR",((T$24*10)*$B32),IF(T$23="%w/w DM",(((T$24*10)*($B$24/100))*$B32),IF(T$23="kg/t SAR",(T$24*$B32),IF(T$23="kg/t DM",((T$24*($B$24/100))*$B32),IF(T$23="mg/kg SAR",((T$24*0.001)*$B32),IF(T$23="mg/kg DM",(((T$24*0.001)*($B$24/100))*$B32),0)))))) -> 0 | U32: =IF(U$23="%w/w SAR",((U$24*10)*$B32),IF(U$23="%w/w DM",(((U$24*10)*($B$24/100))*$B32),IF(U$23="kg/t SAR",(U$24*$B32),IF(U$23="kg/t DM",((U$24*($B$24/100))*$B32),IF(U$23="mg/kg SAR",((U$24*0.001)*$B32),IF(U$23="mg/kg DM",(((U$24*0.001)*($B$24/100))*$B32),0)))))) -> 0 | V32: =IF($V$24="",0,IF($V$24>5000,"NOT OK","OK")) -> OK | W32: =IF($W$24="",0,IF($W$24>4,"Not OK","OK")) -> OK
A33: =I8 -> 2341 | B33: 81 | C33: =IF(C$23="%w/w SAR",((C$24*10)*$B33),IF(C$23="%w/w DM",(((C$24*10)*($B$24/100))*$B33),IF(C$23="kg/t SAR",(C$24*$B33),IF(C$23="kg/t DM",((C$24*($B$24/100))*$B33),IF(C$23="mg/kg SAR",((C$24*0.001)*$B33),IF(C$23="mg/kg DM",(((C$24*0.001)*($B$24/100))*$B33),0)))))) -> 178.2 | D33: =(IF(D$23="%w/w SAR",((D$24*10)*$B33),IF(D$23="%w/w DM",(((D$24*10)*($B$24/100))*$B33),IF(D$23="kg/t SAR",(D$24*$B33),IF(D$23="kg/t DM",((D$24*($B$24/100))*$B33),IF(D$23="mg/kg SAR",((D$24*0.001)*$B33),IF(D$23="mg/kg DM",(((D$24*0.001)*($B$24/100))*$B33),"0")))))))*2.291 -> 157.54978 | E33: =(IF(E$23="%w/w SAR",((E$24*10)*$B33),IF(E$23="%w/w DM",(((E$24*10)*($B$24/100))*$B33),IF(E$23="kg/t SAR",(E$24*$B33),IF(E$23="kg/t DM",((E$24*($B$24/100))*$B33),IF(E$23="mg/kg SAR",((E$24*0.001)*$B33),IF(E$23="mg/kg DM",(((E$24*0.001)*($B$24/100))*$B33),"0")))))))*1.205 -> 19.813815 | F33: =(IF(F$23="%w/w SAR",((F$24*10)*$B33),IF(F$23="%w/w DM",(((F$24*10)*($B$24/100))*$B33),IF(F$23="kg/t SAR",(F$24*$B33),IF(F$23="kg/t DM",((F$24*($B$24/100))*$B33),IF(F$23="mg/kg SAR",((F$24*0.001)*$B33),IF(F$23="mg/kg DM",(((F$24*0.001)*($B$24/100))*$B33),"0")))))))*1.658 -> 6.983496 | G33: =IF(G$23="%w/w SAR",((G$24*10)*$B33),IF(G$23="%w/w DM",(((G$24*10)*($B$24/100))*$B33),IF(G$23="kg/t SAR",(G$24*$B33),IF(G$23="kg/t DM",((G$24*($B$24/100))*$B33),IF(G$23="mg/kg SAR",((G$24*0.001)*$B33),IF(G$23="mg/kg DM",(((G$24*0.001)*($B$24/100))*$B33),0)))))) -> 0.02673 | H33: =IF(H$23="%w/w SAR",((H$24*10)*$B33),IF(H$23="%w/w DM",(((H$24*10)*($B$24/100))*$B33),IF(H$23="kg/t SAR",(H$24*$B33),IF(H$23="kg/t DM",((H$24*($B$24/100))*$B33),IF(H$23="mg/kg SAR",((H$24*0.001)*$B33),IF(H$23="mg/kg DM",(((H$24*0.001)*($B$24/100))*$B33),0)))))) -> 0.23004 | I33: =IF(I$23="%w/w SAR",((I$24*10)*$B33),IF(I$23="%w/w DM",(((I$24*10)*($B$24/100))*$B33),IF(I$23="kg/t SAR",(I$24*$B33),IF(I$23="kg/t DM",((I$24*($B$24/100))*$B33),IF(I$23="mg/kg SAR",((I$24*0.001)*$B33),IF(I$23="mg/kg DM",(((I$24*0.001)*($B$24/100))*$B33),0)))))) -> 0.0405 | J33: =IF(J$23="%w/w SAR",((J$24*10)*$B33),IF(J$23="%w/w DM",(((J$24*10)*($B$24/100))*$B33),IF(J$23="kg/t SAR",(J$24*$B33),IF(J$23="kg/t DM",((J$24*($B$24/100))*$B33),IF(J$23="mg/kg SAR",((J$24*0.001)*$B33),IF(J$23="mg/kg DM",(((J$24*0.001)*($B$24/100))*$B33),0)))))) -> 0.00081 | K33: =IF(K$23="%w/w SAR",((K$24*10)*$B33),IF(K$23="%w/w DM",(((K$24*10)*($B$24/100))*$B33),IF(K$23="kg/t SAR",(K$24*$B33),IF(K$23="kg/t DM",((K$24*($B$24/100))*$B33),IF(K$23="mg/kg SAR",((K$24*0.001)*$B33),IF(K$23="mg/kg DM",(((K$24*0.001)*($B$24/100))*$B33),0)))))) -> 0.00405 | L33: =IF(L$23="%w/w SAR",((L$24*10)*$B33),IF(L$23="%w/w DM",(((L$24*10)*($B$24/100))*$B33),IF(L$23="kg/t SAR",(L$24*$B33),IF(L$23="kg/t DM",((L$24*($B$24/100))*$B33),IF(L$23="mg/kg SAR",((L$24*0.001)*$B33),IF(L$23="mg/kg DM",(((L$24*0.001)*($B$24/100))*$B33),0)))))) -> 0.0162 | M33: =IF(M$23="%w/w SAR",((M$24*10)*$B33),IF(M$23="%w/w DM",(((M$24*10)*($B$24/100))*$B33),IF(M$23="kg/t SAR",(M$24*$B33),IF(M$23="kg/t DM",((M$24*($B$24/100))*$B33),IF(M$23="mg/kg SAR",((M$24*0.001)*$B33),IF(M$23="mg/kg DM",(((M$24*0.001)*($B$24/100))*$B33),0)))))) -> 0.06237 | N33: =IF(N$23="%w/w SAR",((N$24*10)*$B33),IF(N$23="%w/w DM",(((N$24*10)*($B$24/100))*$B33),IF(N$23="kg/t SAR",(N$24*$B33),IF(N$23="kg/t DM",((N$24*($B$24/100))*$B33),IF(N$23="mg/kg SAR",((N$24*0.001)*$B33),IF(N$23="mg/kg DM",(((N$24*0.001)*($B$24/100))*$B33),0)))))) -> 0 | ... P33: =IF(P$23="%w/w SAR",((P$24*10)*$B33),IF(P$23="%w/w DM",(((P$24*10)*($B$24/100))*$B33),IF(P$23="kg/t SAR",(P$24*$B33),IF(P$23="kg/t DM",((P$24*($B$24/100))*$B33),IF(P$23="mg/kg SAR",((P$24*0.001)*$B33),IF(P$23="mg/kg DM",(((P$24*0.001)*($B$24/100))*$B33),0)))))) -> 106.596 | Q33: =(IF(Q$23="%w/w SAR",((Q$24*10)*$B33),IF(Q$23="%w/w DM",(((Q$24*10)*($B$24/100))*$B33),IF(Q$23="kg/t SAR",(Q$24*$B33),IF(Q$23="kg/t DM",((Q$24*($B$24/100))*$B33),IF(Q$23="mg/kg SAR",((Q$24*0.001)*$B33),IF(Q$23="mg/kg DM",(((Q$24*0.001)*($B$24/100))*$B33),0)))))))*2.5 -> 38.07 | R33: =IF(R$23="%w/w SAR",((R$24*10)*$B33),IF(R$23="%w/w DM",(((R$24*10)*($B$24/100))*$B33),IF(R$23="kg/t SAR",(R$24*$B33),IF(R$23="kg/t DM",((R$24*($B$24/100))*$B33),IF(R$23="mg/kg SAR",((R$24*0.001)*$B33),IF(R$23="mg/kg DM",(((R$24*0.001)*($B$24/100))*$B33),0)))))) -> 0 | S33: =IF(S$23="%w/w SAR",((S$24*10)*$B33),IF(S$23="%w/w DM",(((S$24*10)*($B$24/100))*$B33),IF(S$23="kg/t SAR",(S$24*$B33),IF(S$23="kg/t DM",((S$24*($B$24/100))*$B33),IF(S$23="mg/kg SAR",((S$24*0.001)*$B33),IF(S$23="mg/kg DM",(((S$24*0.001)*($B$24/100))*$B33),0)))))) -> 0 | T33: =IF(T$23="%w/w SAR",((T$24*10)*$B33),IF(T$23="%w/w DM",(((T$24*10)*($B$24/100))*$B33),IF(T$23="kg/t SAR",(T$24*$B33),IF(T$23="kg/t DM",((T$24*($B$24/100))*$B33),IF(T$23="mg/kg SAR",((T$24*0.001)*$B33),IF(T$23="mg/kg DM",(((T$24*0.001)*($B$24/100))*$B33),0)))))) -> 0 | U33: =IF(U$23="%w/w SAR",((U$24*10)*$B33),IF(U$23="%w/w DM",(((U$24*10)*($B$24/100))*$B33),IF(U$23="kg/t SAR",(U$24*$B33),IF(U$23="kg/t DM",((U$24*($B$24/100))*$B33),IF(U$23="mg/kg SAR",((U$24*0.001)*$B33),IF(U$23="mg/kg DM",(((U$24*0.001)*($B$24/100))*$B33),0)))))) -> 0 | V33: =IF($V$24="",0,IF($V$24>5000,"NOT OK","OK")) -> OK | W33: =IF($W$24="",0,IF($W$24>4,"Not OK","OK")) -> OK
A34: =J8 -> Tyriet 8 | B34: 81 | C34: =IF(C$23="%w/w SAR",((C$24*10)*$B34),IF(C$23="%w/w DM",(((C$24*10)*($B$24/100))*$B34),IF(C$23="kg/t SAR",(C$24*$B34),IF(C$23="kg/t DM",((C$24*($B$24/100))*$B34),IF(C$23="mg/kg SAR",((C$24*0.001)*$B34),IF(C$23="mg/kg DM",(((C$24*0.001)*($B$24/100))*$B34),0)))))) -> 178.2 | D34: =(IF(D$23="%w/w SAR",((D$24*10)*$B34),IF(D$23="%w/w DM",(((D$24*10)*($B$24/100))*$B34),IF(D$23="kg/t SAR",(D$24*$B34),IF(D$23="kg/t DM",((D$24*($B$24/100))*$B34),IF(D$23="mg/kg SAR",((D$24*0.001)*$B34),IF(D$23="mg/kg DM",(((D$24*0.001)*($B$24/100))*$B34),"0")))))))*2.291 -> 157.54978 | E34: =(IF(E$23="%w/w SAR",((E$24*10)*$B34),IF(E$23="%w/w DM",(((E$24*10)*($B$24/100))*$B34),IF(E$23="kg/t SAR",(E$24*$B34),IF(E$23="kg/t DM",((E$24*($B$24/100))*$B34),IF(E$23="mg/kg SAR",((E$24*0.001)*$B34),IF(E$23="mg/kg DM",(((E$24*0.001)*($B$24/100))*$B34),"0")))))))*1.205 -> 19.813815 | F34: =(IF(F$23="%w/w SAR",((F$24*10)*$B34),IF(F$23="%w/w DM",(((F$24*10)*($B$24/100))*$B34),IF(F$23="kg/t SAR",(F$24*$B34),IF(F$23="kg/t DM",((F$24*($B$24/100))*$B34),IF(F$23="mg/kg SAR",((F$24*0.001)*$B34),IF(F$23="mg/kg DM",(((F$24*0.001)*($B$24/100))*$B34),"0")))))))*1.658 -> 6.983496 | G34: =IF(G$23="%w/w SAR",((G$24*10)*$B34),IF(G$23="%w/w DM",(((G$24*10)*($B$24/100))*$B34),IF(G$23="kg/t SAR",(G$24*$B34),IF(G$23="kg/t DM",((G$24*($B$24/100))*$B34),IF(G$23="mg/kg SAR",((G$24*0.001)*$B34),IF(G$23="mg/kg DM",(((G$24*0.001)*($B$24/100))*$B34),0)))))) -> 0.02673 | H34: =IF(H$23="%w/w SAR",((H$24*10)*$B34),IF(H$23="%w/w DM",(((H$24*10)*($B$24/100))*$B34),IF(H$23="kg/t SAR",(H$24*$B34),IF(H$23="kg/t DM",((H$24*($B$24/100))*$B34),IF(H$23="mg/kg SAR",((H$24*0.001)*$B34),IF(H$23="mg/kg DM",(((H$24*0.001)*($B$24/100))*$B34),0)))))) -> 0.23004 | I34: =IF(I$23="%w/w SAR",((I$24*10)*$B34),IF(I$23="%w/w DM",(((I$24*10)*($B$24/100))*$B34),IF(I$23="kg/t SAR",(I$24*$B34),IF(I$23="kg/t DM",((I$24*($B$24/100))*$B34),IF(I$23="mg/kg SAR",((I$24*0.001)*$B34),IF(I$23="mg/kg DM",(((I$24*0.001)*($B$24/100))*$B34),0)))))) -> 0.0405 | J34: =IF(J$23="%w/w SAR",((J$24*10)*$B34),IF(J$23="%w/w DM",(((J$24*10)*($B$24/100))*$B34),IF(J$23="kg/t SAR",(J$24*$B34),IF(J$23="kg/t DM",((J$24*($B$24/100))*$B34),IF(J$23="mg/kg SAR",((J$24*0.001)*$B34),IF(J$23="mg/kg DM",(((J$24*0.001)*($B$24/100))*$B34),0)))))) -> 0.00081 | K34: =IF(K$23="%w/w SAR",((K$24*10)*$B34),IF(K$23="%w/w DM",(((K$24*10)*($B$24/100))*$B34),IF(K$23="kg/t SAR",(K$24*$B34),IF(K$23="kg/t DM",((K$24*($B$24/100))*$B34),IF(K$23="mg/kg SAR",((K$24*0.001)*$B34),IF(K$23="mg/kg DM",(((K$24*0.001)*($B$24/100))*$B34),0)))))) -> 0.00405 | L34: =IF(L$23="%w/w SAR",((L$24*10)*$B34),IF(L$23="%w/w DM",(((L$24*10)*($B$24/100))*$B34),IF(L$23="kg/t SAR",(L$24*$B34),IF(L$23="kg/t DM",((L$24*($B$24/100))*$B34),IF(L$23="mg/kg SAR",((L$24*0.001)*$B34),IF(L$23="mg/kg DM",(((L$24*0.001)*($B$24/100))*$B34),0)))))) -> 0.0162 | M34: =IF(M$23="%w/w SAR",((M$24*10)*$B34),IF(M$23="%w/w DM",(((M$24*10)*($B$24/100))*$B34),IF(M$23="kg/t SAR",(M$24*$B34),IF(M$23="kg/t DM",((M$24*($B$24/100))*$B34),IF(M$23="mg/kg SAR",((M$24*0.001)*$B34),IF(M$23="mg/kg DM",(((M$24*0.001)*($B$24/100))*$B34),0)))))) -> 0.06237 | N34: =IF(N$23="%w/w SAR",((N$24*10)*$B34),IF(N$23="%w/w DM",(((N$24*10)*($B$24/100))*$B34),IF(N$23="kg/t SAR",(N$24*$B34),IF(N$23="kg/t DM",((N$24*($B$24/100))*$B34),IF(N$23="mg/kg SAR",((N$24*0.001)*$B34),IF(N$23="mg/kg DM",(((N$24*0.001)*($B$24/100))*$B34),0)))))) -> 0 | ... P34: =IF(P$23="%w/w SAR",((P$24*10)*$B34),IF(P$23="%w/w DM",(((P$24*10)*($B$24/100))*$B34),IF(P$23="kg/t SAR",(P$24*$B34),IF(P$23="kg/t DM",((P$24*($B$24/100))*$B34),IF(P$23="mg/kg SAR",((P$24*0.001)*$B34),IF(P$23="mg/kg DM",(((P$24*0.001)*($B$24/100))*$B34),0)))))) -> 106.596 | Q34: =(IF(Q$23="%w/w SAR",((Q$24*10)*$B34),IF(Q$23="%w/w DM",(((Q$24*10)*($B$24/100))*$B34),IF(Q$23="kg/t SAR",(Q$24*$B34),IF(Q$23="kg/t DM",((Q$24*($B$24/100))*$B34),IF(Q$23="mg/kg SAR",((Q$24*0.001)*$B34),IF(Q$23="mg/kg DM",(((Q$24*0.001)*($B$24/100))*$B34),0)))))))*2.5 -> 38.07 | R34: =IF(R$23="%w/w SAR",((R$24*10)*$B34),IF(R$23="%w/w DM",(((R$24*10)*($B$24/100))*$B34),IF(R$23="kg/t SAR",(R$24*$B34),IF(R$23="kg/t DM",((R$24*($B$24/100))*$B34),IF(R$23="mg/kg SAR",((R$24*0.001)*$B34),IF(R$23="mg/kg DM",(((R$24*0.001)*($B$24/100))*$B34),0)))))) -> 0 | S34: =IF(S$23="%w/w SAR",((S$24*10)*$B34),IF(S$23="%w/w DM",(((S$24*10)*($B$24/100))*$B34),IF(S$23="kg/t SAR",(S$24*$B34),IF(S$23="kg/t DM",((S$24*($B$24/100))*$B34),IF(S$23="mg/kg SAR",((S$24*0.001)*$B34),IF(S$23="mg/kg DM",(((S$24*0.001)*($B$24/100))*$B34),0)))))) -> 0 | T34: =IF(T$23="%w/w SAR",((T$24*10)*$B34),IF(T$23="%w/w DM",(((T$24*10)*($B$24/100))*$B34),IF(T$23="kg/t SAR",(T$24*$B34),IF(T$23="kg/t DM",((T$24*($B$24/100))*$B34),IF(T$23="mg/kg SAR",((T$24*0.001)*$B34),IF(T$23="mg/kg DM",(((T$24*0.001)*($B$24/100))*$B34),0)))))) -> 0 | U34: =IF(U$23="%w/w SAR",((U$24*10)*$B34),IF(U$23="%w/w DM",(((U$24*10)*($B$24/100))*$B34),IF(U$23="kg/t SAR",(U$24*$B34),IF(U$23="kg/t DM",((U$24*($B$24/100))*$B34),IF(U$23="mg/kg SAR",((U$24*0.001)*$B34),IF(U$23="mg/kg DM",(((U$24*0.001)*($B$24/100))*$B34),0)))))) -> 0 | V34: =IF($V$24="",0,IF($V$24>5000,"NOT OK","OK")) -> OK | W34: =IF($W$24="",0,IF($W$24>4,"Not OK","OK")) -> OK
A35: =K8 -> Tyriet 9 | B35: 81 | C35: =IF(C$23="%w/w SAR",((C$24*10)*$B35),IF(C$23="%w/w DM",(((C$24*10)*($B$24/100))*$B35),IF(C$23="kg/t SAR",(C$24*$B35),IF(C$23="kg/t DM",((C$24*($B$24/100))*$B35),IF(C$23="mg/kg SAR",((C$24*0.001)*$B35),IF(C$23="mg/kg DM",(((C$24*0.001)*($B$24/100))*$B35),0)))))) -> 178.2 | D35: =(IF(D$23="%w/w SAR",((D$24*10)*$B35),IF(D$23="%w/w DM",(((D$24*10)*($B$24/100))*$B35),IF(D$23="kg/t SAR",(D$24*$B35),IF(D$23="kg/t DM",((D$24*($B$24/100))*$B35),IF(D$23="mg/kg SAR",((D$24*0.001)*$B35),IF(D$23="mg/kg DM",(((D$24*0.001)*($B$24/100))*$B35),"0")))))))*2.291 -> 157.54978 | E35: =(IF(E$23="%w/w SAR",((E$24*10)*$B35),IF(E$23="%w/w DM",(((E$24*10)*($B$24/100))*$B35),IF(E$23="kg/t SAR",(E$24*$B35),IF(E$23="kg/t DM",((E$24*($B$24/100))*$B35),IF(E$23="mg/kg SAR",((E$24*0.001)*$B35),IF(E$23="mg/kg DM",(((E$24*0.001)*($B$24/100))*$B35),"0")))))))*1.205 -> 19.813815 | F35: =(IF(F$23="%w/w SAR",((F$24*10)*$B35),IF(F$23="%w/w DM",(((F$24*10)*($B$24/100))*$B35),IF(F$23="kg/t SAR",(F$24*$B35),IF(F$23="kg/t DM",((F$24*($B$24/100))*$B35),IF(F$23="mg/kg SAR",((F$24*0.001)*$B35),IF(F$23="mg/kg DM",(((F$24*0.001)*($B$24/100))*$B35),"0")))))))*1.658 -> 6.983496 | G35: =IF(G$23="%w/w SAR",((G$24*10)*$B35),IF(G$23="%w/w DM",(((G$24*10)*($B$24/100))*$B35),IF(G$23="kg/t SAR",(G$24*$B35),IF(G$23="kg/t DM",((G$24*($B$24/100))*$B35),IF(G$23="mg/kg SAR",((G$24*0.001)*$B35),IF(G$23="mg/kg DM",(((G$24*0.001)*($B$24/100))*$B35),0)))))) -> 0.02673 | H35: =IF(H$23="%w/w SAR",((H$24*10)*$B35),IF(H$23="%w/w DM",(((H$24*10)*($B$24/100))*$B35),IF(H$23="kg/t SAR",(H$24*$B35),IF(H$23="kg/t DM",((H$24*($B$24/100))*$B35),IF(H$23="mg/kg SAR",((H$24*0.001)*$B35),IF(H$23="mg/kg DM",(((H$24*0.001)*($B$24/100))*$B35),0)))))) -> 0.23004 | I35: =IF(I$23="%w/w SAR",((I$24*10)*$B35),IF(I$23="%w/w DM",(((I$24*10)*($B$24/100))*$B35),IF(I$23="kg/t SAR",(I$24*$B35),IF(I$23="kg/t DM",((I$24*($B$24/100))*$B35),IF(I$23="mg/kg SAR",((I$24*0.001)*$B35),IF(I$23="mg/kg DM",(((I$24*0.001)*($B$24/100))*$B35),0)))))) -> 0.0405 | J35: =IF(J$23="%w/w SAR",((J$24*10)*$B35),IF(J$23="%w/w DM",(((J$24*10)*($B$24/100))*$B35),IF(J$23="kg/t SAR",(J$24*$B35),IF(J$23="kg/t DM",((J$24*($B$24/100))*$B35),IF(J$23="mg/kg SAR",((J$24*0.001)*$B35),IF(J$23="mg/kg DM",(((J$24*0.001)*($B$24/100))*$B35),0)))))) -> 0.00081 | K35: =IF(K$23="%w/w SAR",((K$24*10)*$B35),IF(K$23="%w/w DM",(((K$24*10)*($B$24/100))*$B35),IF(K$23="kg/t SAR",(K$24*$B35),IF(K$23="kg/t DM",((K$24*($B$24/100))*$B35),IF(K$23="mg/kg SAR",((K$24*0.001)*$B35),IF(K$23="mg/kg DM",(((K$24*0.001)*($B$24/100))*$B35),0)))))) -> 0.00405 | L35: =IF(L$23="%w/w SAR",((L$24*10)*$B35),IF(L$23="%w/w DM",(((L$24*10)*($B$24/100))*$B35),IF(L$23="kg/t SAR",(L$24*$B35),IF(L$23="kg/t DM",((L$24*($B$24/100))*$B35),IF(L$23="mg/kg SAR",((L$24*0.001)*$B35),IF(L$23="mg/kg DM",(((L$24*0.001)*($B$24/100))*$B35),0)))))) -> 0.0162 | M35: =IF(M$23="%w/w SAR",((M$24*10)*$B35),IF(M$23="%w/w DM",(((M$24*10)*($B$24/100))*$B35),IF(M$23="kg/t SAR",(M$24*$B35),IF(M$23="kg/t DM",((M$24*($B$24/100))*$B35),IF(M$23="mg/kg SAR",((M$24*0.001)*$B35),IF(M$23="mg/kg DM",(((M$24*0.001)*($B$24/100))*$B35),0)))))) -> 0.06237 | N35: =IF(N$23="%w/w SAR",((N$24*10)*$B35),IF(N$23="%w/w DM",(((N$24*10)*($B$24/100))*$B35),IF(N$23="kg/t SAR",(N$24*$B35),IF(N$23="kg/t DM",((N$24*($B$24/100))*$B35),IF(N$23="mg/kg SAR",((N$24*0.001)*$B35),IF(N$23="mg/kg DM",(((N$24*0.001)*($B$24/100))*$B35),0)))))) -> 0 | ... P35: =IF(P$23="%w/w SAR",((P$24*10)*$B35),IF(P$23="%w/w DM",(((P$24*10)*($B$24/100))*$B35),IF(P$23="kg/t SAR",(P$24*$B35),IF(P$23="kg/t DM",((P$24*($B$24/100))*$B35),IF(P$23="mg/kg SAR",((P$24*0.001)*$B35),IF(P$23="mg/kg DM",(((P$24*0.001)*($B$24/100))*$B35),0)))))) -> 106.596 | Q35: =(IF(Q$23="%w/w SAR",((Q$24*10)*$B35),IF(Q$23="%w/w DM",(((Q$24*10)*($B$24/100))*$B35),IF(Q$23="kg/t SAR",(Q$24*$B35),IF(Q$23="kg/t DM",((Q$24*($B$24/100))*$B35),IF(Q$23="mg/kg SAR",((Q$24*0.001)*$B35),IF(Q$23="mg/kg DM",(((Q$24*0.001)*($B$24/100))*$B35),0)))))))*2.5 -> 38.07 | R35: =IF(R$23="%w/w SAR",((R$24*10)*$B35),IF(R$23="%w/w DM",(((R$24*10)*($B$24/100))*$B35),IF(R$23="kg/t SAR",(R$24*$B35),IF(R$23="kg/t DM",((R$24*($B$24/100))*$B35),IF(R$23="mg/kg SAR",((R$24*0.001)*$B35),IF(R$23="mg/kg DM",(((R$24*0.001)*($B$24/100))*$B35),0)))))) -> 0 | S35: =IF(S$23="%w/w SAR",((S$24*10)*$B35),IF(S$23="%w/w DM",(((S$24*10)*($B$24/100))*$B35),IF(S$23="kg/t SAR",(S$24*$B35),IF(S$23="kg/t DM",((S$24*($B$24/100))*$B35),IF(S$23="mg/kg SAR",((S$24*0.001)*$B35),IF(S$23="mg/kg DM",(((S$24*0.001)*($B$24/100))*$B35),0)))))) -> 0 | T35: =IF(T$23="%w/w SAR",((T$24*10)*$B35),IF(T$23="%w/w DM",(((T$24*10)*($B$24/100))*$B35),IF(T$23="kg/t SAR",(T$24*$B35),IF(T$23="kg/t DM",((T$24*($B$24/100))*$B35),IF(T$23="mg/kg SAR",((T$24*0.001)*$B35),IF(T$23="mg/kg DM",(((T$24*0.001)*($B$24/100))*$B35),0)))))) -> 0 | U35: =IF(U$23="%w/w SAR",((U$24*10)*$B35),IF(U$23="%w/w DM",(((U$24*10)*($B$24/100))*$B35),IF(U$23="kg/t SAR",(U$24*$B35),IF(U$23="kg/t DM",((U$24*($B$24/100))*$B35),IF(U$23="mg/kg SAR",((U$24*0.001)*$B35),IF(U$23="mg/kg DM",(((U$24*0.001)*($B$24/100))*$B35),0)))))) -> 0 | V35: =IF($V$24="",0,IF($V$24>5000,"NOT OK","OK")) -> OK | W35: =IF($W$24="",0,IF($W$24>4,"Not OK","OK")) -> OK
A36: =L8 -> 1479 | B36: 81 | C36: =IF(C$23="%w/w SAR",((C$24*10)*$B36),IF(C$23="%w/w DM",(((C$24*10)*($B$24/100))*$B36),IF(C$23="kg/t SAR",(C$24*$B36),IF(C$23="kg/t DM",((C$24*($B$24/100))*$B36),IF(C$23="mg/kg SAR",((C$24*0.001)*$B36),IF(C$23="mg/kg DM",(((C$24*0.001)*($B$24/100))*$B36),0)))))) -> 178.2 | D36: =(IF(D$23="%w/w SAR",((D$24*10)*$B36),IF(D$23="%w/w DM",(((D$24*10)*($B$24/100))*$B36),IF(D$23="kg/t SAR",(D$24*$B36),IF(D$23="kg/t DM",((D$24*($B$24/100))*$B36),IF(D$23="mg/kg SAR",((D$24*0.001)*$B36),IF(D$23="mg/kg DM",(((D$24*0.001)*($B$24/100))*$B36),"0")))))))*2.291 -> 157.54978 | E36: =(IF(E$23="%w/w SAR",((E$24*10)*$B36),IF(E$23="%w/w DM",(((E$24*10)*($B$24/100))*$B36),IF(E$23="kg/t SAR",(E$24*$B36),IF(E$23="kg/t DM",((E$24*($B$24/100))*$B36),IF(E$23="mg/kg SAR",((E$24*0.001)*$B36),IF(E$23="mg/kg DM",(((E$24*0.001)*($B$24/100))*$B36),"0")))))))*1.205 -> 19.813815 | F36: =(IF(F$23="%w/w SAR",((F$24*10)*$B36),IF(F$23="%w/w DM",(((F$24*10)*($B$24/100))*$B36),IF(F$23="kg/t SAR",(F$24*$B36),IF(F$23="kg/t DM",((F$24*($B$24/100))*$B36),IF(F$23="mg/kg SAR",((F$24*0.001)*$B36),IF(F$23="mg/kg DM",(((F$24*0.001)*($B$24/100))*$B36),"0")))))))*1.658 -> 6.983496 | G36: =IF(G$23="%w/w SAR",((G$24*10)*$B36),IF(G$23="%w/w DM",(((G$24*10)*($B$24/100))*$B36),IF(G$23="kg/t SAR",(G$24*$B36),IF(G$23="kg/t DM",((G$24*($B$24/100))*$B36),IF(G$23="mg/kg SAR",((G$24*0.001)*$B36),IF(G$23="mg/kg DM",(((G$24*0.001)*($B$24/100))*$B36),0)))))) -> 0.02673 | H36: =IF(H$23="%w/w SAR",((H$24*10)*$B36),IF(H$23="%w/w DM",(((H$24*10)*($B$24/100))*$B36),IF(H$23="kg/t SAR",(H$24*$B36),IF(H$23="kg/t DM",((H$24*($B$24/100))*$B36),IF(H$23="mg/kg SAR",((H$24*0.001)*$B36),IF(H$23="mg/kg DM",(((H$24*0.001)*($B$24/100))*$B36),0)))))) -> 0.23004 | I36: =IF(I$23="%w/w SAR",((I$24*10)*$B36),IF(I$23="%w/w DM",(((I$24*10)*($B$24/100))*$B36),IF(I$23="kg/t SAR",(I$24*$B36),IF(I$23="kg/t DM",((I$24*($B$24/100))*$B36),IF(I$23="mg/kg SAR",((I$24*0.001)*$B36),IF(I$23="mg/kg DM",(((I$24*0.001)*($B$24/100))*$B36),0)))))) -> 0.0405 | J36: =IF(J$23="%w/w SAR",((J$24*10)*$B36),IF(J$23="%w/w DM",(((J$24*10)*($B$24/100))*$B36),IF(J$23="kg/t SAR",(J$24*$B36),IF(J$23="kg/t DM",((J$24*($B$24/100))*$B36),IF(J$23="mg/kg SAR",((J$24*0.001)*$B36),IF(J$23="mg/kg DM",(((J$24*0.001)*($B$24/100))*$B36),0)))))) -> 0.00081 | K36: =IF(K$23="%w/w SAR",((K$24*10)*$B36),IF(K$23="%w/w DM",(((K$24*10)*($B$24/100))*$B36),IF(K$23="kg/t SAR",(K$24*$B36),IF(K$23="kg/t DM",((K$24*($B$24/100))*$B36),IF(K$23="mg/kg SAR",((K$24*0.001)*$B36),IF(K$23="mg/kg DM",(((K$24*0.001)*($B$24/100))*$B36),0)))))) -> 0.00405 | L36: =IF(L$23="%w/w SAR",((L$24*10)*$B36),IF(L$23="%w/w DM",(((L$24*10)*($B$24/100))*$B36),IF(L$23="kg/t SAR",(L$24*$B36),IF(L$23="kg/t DM",((L$24*($B$24/100))*$B36),IF(L$23="mg/kg SAR",((L$24*0.001)*$B36),IF(L$23="mg/kg DM",(((L$24*0.001)*($B$24/100))*$B36),0)))))) -> 0.0162 | M36: =IF(M$23="%w/w SAR",((M$24*10)*$B36),IF(M$23="%w/w DM",(((M$24*10)*($B$24/100))*$B36),IF(M$23="kg/t SAR",(M$24*$B36),IF(M$23="kg/t DM",((M$24*($B$24/100))*$B36),IF(M$23="mg/kg SAR",((M$24*0.001)*$B36),IF(M$23="mg/kg DM",(((M$24*0.001)*($B$24/100))*$B36),0)))))) -> 0.06237 | N36: =IF(N$23="%w/w SAR",((N$24*10)*$B36),IF(N$23="%w/w DM",(((N$24*10)*($B$24/100))*$B36),IF(N$23="kg/t SAR",(N$24*$B36),IF(N$23="kg/t DM",((N$24*($B$24/100))*$B36),IF(N$23="mg/kg SAR",((N$24*0.001)*$B36),IF(N$23="mg/kg DM",(((N$24*0.001)*($B$24/100))*$B36),0)))))) -> 0 | ... P36: =IF(P$23="%w/w SAR",((P$24*10)*$B36),IF(P$23="%w/w DM",(((P$24*10)*($B$24/100))*$B36),IF(P$23="kg/t SAR",(P$24*$B36),IF(P$23="kg/t DM",((P$24*($B$24/100))*$B36),IF(P$23="mg/kg SAR",((P$24*0.001)*$B36),IF(P$23="mg/kg DM",(((P$24*0.001)*($B$24/100))*$B36),0)))))) -> 106.596 | Q36: =(IF(Q$23="%w/w SAR",((Q$24*10)*$B36),IF(Q$23="%w/w DM",(((Q$24*10)*($B$24/100))*$B36),IF(Q$23="kg/t SAR",(Q$24*$B36),IF(Q$23="kg/t DM",((Q$24*($B$24/100))*$B36),IF(Q$23="mg/kg SAR",((Q$24*0.001)*$B36),IF(Q$23="mg/kg DM",(((Q$24*0.001)*($B$24/100))*$B36),0)))))))*2.5 -> 38.07 | R36: =IF(R$23="%w/w SAR",((R$24*10)*$B36),IF(R$23="%w/w DM",(((R$24*10)*($B$24/100))*$B36),IF(R$23="kg/t SAR",(R$24*$B36),IF(R$23="kg/t DM",((R$24*($B$24/100))*$B36),IF(R$23="mg/kg SAR",((R$24*0.001)*$B36),IF(R$23="mg/kg DM",(((R$24*0.001)*($B$24/100))*$B36),0)))))) -> 0 | S36: =IF(S$23="%w/w SAR",((S$24*10)*$B36),IF(S$23="%w/w DM",(((S$24*10)*($B$24/100))*$B36),IF(S$23="kg/t SAR",(S$24*$B36),IF(S$23="kg/t DM",((S$24*($B$24/100))*$B36),IF(S$23="mg/kg SAR",((S$24*0.001)*$B36),IF(S$23="mg/kg DM",(((S$24*0.001)*($B$24/100))*$B36),0)))))) -> 0 | T36: =IF(T$23="%w/w SAR",((T$24*10)*$B36),IF(T$23="%w/w DM",(((T$24*10)*($B$24/100))*$B36),IF(T$23="kg/t SAR",(T$24*$B36),IF(T$23="kg/t DM",((T$24*($B$24/100))*$B36),IF(T$23="mg/kg SAR",((T$24*0.001)*$B36),IF(T$23="mg/kg DM",(((T$24*0.001)*($B$24/100))*$B36),0)))))) -> 0 | U36: =IF(U$23="%w/w SAR",((U$24*10)*$B36),IF(U$23="%w/w DM",(((U$24*10)*($B$24/100))*$B36),IF(U$23="kg/t SAR",(U$24*$B36),IF(U$23="kg/t DM",((U$24*($B$24/100))*$B36),IF(U$23="mg/kg SAR",((U$24*0.001)*$B36),IF(U$23="mg/kg DM",(((U$24*0.001)*($B$24/100))*$B36),0)))))) -> 0 | V36: =IF($V$24="",0,IF($V$24>5000,"NOT OK","OK")) -> OK | W36: =IF($W$24="",0,IF($W$24>4,"Not OK","OK")) -> OK
A37: =M8 -> 1897 | B37: 60 | C37: =IF(C$23="%w/w SAR",((C$24*10)*$B37),IF(C$23="%w/w DM",(((C$24*10)*($B$24/100))*$B37),IF(C$23="kg/t SAR",(C$24*$B37),IF(C$23="kg/t DM",((C$24*($B$24/100))*$B37),IF(C$23="mg/kg SAR",((C$24*0.001)*$B37),IF(C$23="mg/kg DM",(((C$24*0.001)*($B$24/100))*$B37),0)))))) -> 132 | D37: =(IF(D$23="%w/w SAR",((D$24*10)*$B37),IF(D$23="%w/w DM",(((D$24*10)*($B$24/100))*$B37),IF(D$23="kg/t SAR",(D$24*$B37),IF(D$23="kg/t DM",((D$24*($B$24/100))*$B37),IF(D$23="mg/kg SAR",((D$24*0.001)*$B37),IF(D$23="mg/kg DM",(((D$24*0.001)*($B$24/100))*$B37),"0")))))))*2.291 -> 116.70354 | E37: =(IF(E$23="%w/w SAR",((E$24*10)*$B37),IF(E$23="%w/w DM",(((E$24*10)*($B$24/100))*$B37),IF(E$23="kg/t SAR",(E$24*$B37),IF(E$23="kg/t DM",((E$24*($B$24/100))*$B37),IF(E$23="mg/kg SAR",((E$24*0.001)*$B37),IF(E$23="mg/kg DM",(((E$24*0.001)*($B$24/100))*$B37),"0")))))))*1.205 -> 14.6769 | F37: =(IF(F$23="%w/w SAR",((F$24*10)*$B37),IF(F$23="%w/w DM",(((F$24*10)*($B$24/100))*$B37),IF(F$23="kg/t SAR",(F$24*$B37),IF(F$23="kg/t DM",((F$24*($B$24/100))*$B37),IF(F$23="mg/kg SAR",((F$24*0.001)*$B37),IF(F$23="mg/kg DM",(((F$24*0.001)*($B$24/100))*$B37),"0")))))))*1.658 -> 5.17296 | G37: =IF(G$23="%w/w SAR",((G$24*10)*$B37),IF(G$23="%w/w DM",(((G$24*10)*($B$24/100))*$B37),IF(G$23="kg/t SAR",(G$24*$B37),IF(G$23="kg/t DM",((G$24*($B$24/100))*$B37),IF(G$23="mg/kg SAR",((G$24*0.001)*$B37),IF(G$23="mg/kg DM",(((G$24*0.001)*($B$24/100))*$B37),0)))))) -> 0.0198 | H37: =IF(H$23="%w/w SAR",((H$24*10)*$B37),IF(H$23="%w/w DM",(((H$24*10)*($B$24/100))*$B37),IF(H$23="kg/t SAR",(H$24*$B37),IF(H$23="kg/t DM",((H$24*($B$24/100))*$B37),IF(H$23="mg/kg SAR",((H$24*0.001)*$B37),IF(H$23="mg/kg DM",(((H$24*0.001)*($B$24/100))*$B37),0)))))) -> 0.1704 | I37: =IF(I$23="%w/w SAR",((I$24*10)*$B37),IF(I$23="%w/w DM",(((I$24*10)*($B$24/100))*$B37),IF(I$23="kg/t SAR",(I$24*$B37),IF(I$23="kg/t DM",((I$24*($B$24/100))*$B37),IF(I$23="mg/kg SAR",((I$24*0.001)*$B37),IF(I$23="mg/kg DM",(((I$24*0.001)*($B$24/100))*$B37),0)))))) -> 0.03 | J37: =IF(J$23="%w/w SAR",((J$24*10)*$B37),IF(J$23="%w/w DM",(((J$24*10)*($B$24/100))*$B37),IF(J$23="kg/t SAR",(J$24*$B37),IF(J$23="kg/t DM",((J$24*($B$24/100))*$B37),IF(J$23="mg/kg SAR",((J$24*0.001)*$B37),IF(J$23="mg/kg DM",(((J$24*0.001)*($B$24/100))*$B37),0)))))) -> 0.0006 | K37: =IF(K$23="%w/w SAR",((K$24*10)*$B37),IF(K$23="%w/w DM",(((K$24*10)*($B$24/100))*$B37),IF(K$23="kg/t SAR",(K$24*$B37),IF(K$23="kg/t DM",((K$24*($B$24/100))*$B37),IF(K$23="mg/kg SAR",((K$24*0.001)*$B37),IF(K$23="mg/kg DM",(((K$24*0.001)*($B$24/100))*$B37),0)))))) -> 0.003 | L37: =IF(L$23="%w/w SAR",((L$24*10)*$B37),IF(L$23="%w/w DM",(((L$24*10)*($B$24/100))*$B37),IF(L$23="kg/t SAR",(L$24*$B37),IF(L$23="kg/t DM",((L$24*($B$24/100))*$B37),IF(L$23="mg/kg SAR",((L$24*0.001)*$B37),IF(L$23="mg/kg DM",(((L$24*0.001)*($B$24/100))*$B37),0)))))) -> 0.012 | M37: =IF(M$23="%w/w SAR",((M$24*10)*$B37),IF(M$23="%w/w DM",(((M$24*10)*($B$24/100))*$B37),IF(M$23="kg/t SAR",(M$24*$B37),IF(M$23="kg/t DM",((M$24*($B$24/100))*$B37),IF(M$23="mg/kg SAR",((M$24*0.001)*$B37),IF(M$23="mg/kg DM",(((M$24*0.001)*($B$24/100))*$B37),0)))))) -> 0.0462 | N37: =IF(N$23="%w/w SAR",((N$24*10)*$B37),IF(N$23="%w/w DM",(((N$24*10)*($B$24/100))*$B37),IF(N$23="kg/t SAR",(N$24*$B37),IF(N$23="kg/t DM",((N$24*($B$24/100))*$B37),IF(N$23="mg/kg SAR",((N$24*0.001)*$B37),IF(N$23="mg/kg DM",(((N$24*0.001)*($B$24/100))*$B37),0)))))) -> 0 | ... P37: =IF(P$23="%w/w SAR",((P$24*10)*$B37),IF(P$23="%w/w DM",(((P$24*10)*($B$24/100))*$B37),IF(P$23="kg/t SAR",(P$24*$B37),IF(P$23="kg/t DM",((P$24*($B$24/100))*$B37),IF(P$23="mg/kg SAR",((P$24*0.001)*$B37),IF(P$23="mg/kg DM",(((P$24*0.001)*($B$24/100))*$B37),0)))))) -> 78.96 | Q37: =(IF(Q$23="%w/w SAR",((Q$24*10)*$B37),IF(Q$23="%w/w DM",(((Q$24*10)*($B$24/100))*$B37),IF(Q$23="kg/t SAR",(Q$24*$B37),IF(Q$23="kg/t DM",((Q$24*($B$24/100))*$B37),IF(Q$23="mg/kg SAR",((Q$24*0.001)*$B37),IF(Q$23="mg/kg DM",(((Q$24*0.001)*($B$24/100))*$B37),0)))))))*2.5 -> 28.2 | R37: =IF(R$23="%w/w SAR",((R$24*10)*$B37),IF(R$23="%w/w DM",(((R$24*10)*($B$24/100))*$B37),IF(R$23="kg/t SAR",(R$24*$B37),IF(R$23="kg/t DM",((R$24*($B$24/100))*$B37),IF(R$23="mg/kg SAR",((R$24*0.001)*$B37),IF(R$23="mg/kg DM",(((R$24*0.001)*($B$24/100))*$B37),0)))))) -> 0 | S37: =IF(S$23="%w/w SAR",((S$24*10)*$B37),IF(S$23="%w/w DM",(((S$24*10)*($B$24/100))*$B37),IF(S$23="kg/t SAR",(S$24*$B37),IF(S$23="kg/t DM",((S$24*($B$24/100))*$B37),IF(S$23="mg/kg SAR",((S$24*0.001)*$B37),IF(S$23="mg/kg DM",(((S$24*0.001)*($B$24/100))*$B37),0)))))) -> 0 | T37: =IF(T$23="%w/w SAR",((T$24*10)*$B37),IF(T$23="%w/w DM",(((T$24*10)*($B$24/100))*$B37),IF(T$23="kg/t SAR",(T$24*$B37),IF(T$23="kg/t DM",((T$24*($B$24/100))*$B37),IF(T$23="mg/kg SAR",((T$24*0.001)*$B37),IF(T$23="mg/kg DM",(((T$24*0.001)*($B$24/100))*$B37),0)))))) -> 0 | U37: =IF(U$23="%w/w SAR",((U$24*10)*$B37),IF(U$23="%w/w DM",(((U$24*10)*($B$24/100))*$B37),IF(U$23="kg/t SAR",(U$24*$B37),IF(U$23="kg/t DM",((U$24*($B$24/100))*$B37),IF(U$23="mg/kg SAR",((U$24*0.001)*$B37),IF(U$23="mg/kg DM",(((U$24*0.001)*($B$24/100))*$B37),0)))))) -> 0 | V37: =IF($V$24="",0,IF($V$24>5000,"NOT OK","OK")) -> OK | W37: =IF($W$24="",0,IF($W$24>4,"Not OK","OK")) -> OK
A38: =N8 -> 2672 | B38: 81 | C38: =IF(C$23="%w/w SAR",((C$24*10)*$B38),IF(C$23="%w/w DM",(((C$24*10)*($B$24/100))*$B38),IF(C$23="kg/t SAR",(C$24*$B38),IF(C$23="kg/t DM",((C$24*($B$24/100))*$B38),IF(C$23="mg/kg SAR",((C$24*0.001)*$B38),IF(C$23="mg/kg DM",(((C$24*0.001)*($B$24/100))*$B38),0)))))) -> 178.2 | D38: =(IF(D$23="%w/w SAR",((D$24*10)*$B38),IF(D$23="%w/w DM",(((D$24*10)*($B$24/100))*$B38),IF(D$23="kg/t SAR",(D$24*$B38),IF(D$23="kg/t DM",((D$24*($B$24/100))*$B38),IF(D$23="mg/kg SAR",((D$24*0.001)*$B38),IF(D$23="mg/kg DM",(((D$24*0.001)*($B$24/100))*$B38),"0")))))))*2.291 -> 157.54978 | E38: =(IF(E$23="%w/w SAR",((E$24*10)*$B38),IF(E$23="%w/w DM",(((E$24*10)*($B$24/100))*$B38),IF(E$23="kg/t SAR",(E$24*$B38),IF(E$23="kg/t DM",((E$24*($B$24/100))*$B38),IF(E$23="mg/kg SAR",((E$24*0.001)*$B38),IF(E$23="mg/kg DM",(((E$24*0.001)*($B$24/100))*$B38),"0")))))))*1.205 -> 19.813815 | F38: =(IF(F$23="%w/w SAR",((F$24*10)*$B38),IF(F$23="%w/w DM",(((F$24*10)*($B$24/100))*$B38),IF(F$23="kg/t SAR",(F$24*$B38),IF(F$23="kg/t DM",((F$24*($B$24/100))*$B38),IF(F$23="mg/kg SAR",((F$24*0.001)*$B38),IF(F$23="mg/kg DM",(((F$24*0.001)*($B$24/100))*$B38),"0")))))))*1.658 -> 6.983496 | G38: =IF(G$23="%w/w SAR",((G$24*10)*$B38),IF(G$23="%w/w DM",(((G$24*10)*($B$24/100))*$B38),IF(G$23="kg/t SAR",(G$24*$B38),IF(G$23="kg/t DM",((G$24*($B$24/100))*$B38),IF(G$23="mg/kg SAR",((G$24*0.001)*$B38),IF(G$23="mg/kg DM",(((G$24*0.001)*($B$24/100))*$B38),0)))))) -> 0.02673 | H38: =IF(H$23="%w/w SAR",((H$24*10)*$B38),IF(H$23="%w/w DM",(((H$24*10)*($B$24/100))*$B38),IF(H$23="kg/t SAR",(H$24*$B38),IF(H$23="kg/t DM",((H$24*($B$24/100))*$B38),IF(H$23="mg/kg SAR",((H$24*0.001)*$B38),IF(H$23="mg/kg DM",(((H$24*0.001)*($B$24/100))*$B38),0)))))) -> 0.23004 | I38: =IF(I$23="%w/w SAR",((I$24*10)*$B38),IF(I$23="%w/w DM",(((I$24*10)*($B$24/100))*$B38),IF(I$23="kg/t SAR",(I$24*$B38),IF(I$23="kg/t DM",((I$24*($B$24/100))*$B38),IF(I$23="mg/kg SAR",((I$24*0.001)*$B38),IF(I$23="mg/kg DM",(((I$24*0.001)*($B$24/100))*$B38),0)))))) -> 0.0405 | J38: =IF(J$23="%w/w SAR",((J$24*10)*$B38),IF(J$23="%w/w DM",(((J$24*10)*($B$24/100))*$B38),IF(J$23="kg/t SAR",(J$24*$B38),IF(J$23="kg/t DM",((J$24*($B$24/100))*$B38),IF(J$23="mg/kg SAR",((J$24*0.001)*$B38),IF(J$23="mg/kg DM",(((J$24*0.001)*($B$24/100))*$B38),0)))))) -> 0.00081 | K38: =IF(K$23="%w/w SAR",((K$24*10)*$B38),IF(K$23="%w/w DM",(((K$24*10)*($B$24/100))*$B38),IF(K$23="kg/t SAR",(K$24*$B38),IF(K$23="kg/t DM",((K$24*($B$24/100))*$B38),IF(K$23="mg/kg SAR",((K$24*0.001)*$B38),IF(K$23="mg/kg DM",(((K$24*0.001)*($B$24/100))*$B38),0)))))) -> 0.00405 | L38: =IF(L$23="%w/w SAR",((L$24*10)*$B38),IF(L$23="%w/w DM",(((L$24*10)*($B$24/100))*$B38),IF(L$23="kg/t SAR",(L$24*$B38),IF(L$23="kg/t DM",((L$24*($B$24/100))*$B38),IF(L$23="mg/kg SAR",((L$24*0.001)*$B38),IF(L$23="mg/kg DM",(((L$24*0.001)*($B$24/100))*$B38),0)))))) -> 0.0162 | M38: =IF(M$23="%w/w SAR",((M$24*10)*$B38),IF(M$23="%w/w DM",(((M$24*10)*($B$24/100))*$B38),IF(M$23="kg/t SAR",(M$24*$B38),IF(M$23="kg/t DM",((M$24*($B$24/100))*$B38),IF(M$23="mg/kg SAR",((M$24*0.001)*$B38),IF(M$23="mg/kg DM",(((M$24*0.001)*($B$24/100))*$B38),0)))))) -> 0.06237 | N38: =IF(N$23="%w/w SAR",((N$24*10)*$B38),IF(N$23="%w/w DM",(((N$24*10)*($B$24/100))*$B38),IF(N$23="kg/t SAR",(N$24*$B38),IF(N$23="kg/t DM",((N$24*($B$24/100))*$B38),IF(N$23="mg/kg SAR",((N$24*0.001)*$B38),IF(N$23="mg/kg DM",(((N$24*0.001)*($B$24/100))*$B38),0)))))) -> 0 | ... P38: =IF(P$23="%w/w SAR",((P$24*10)*$B38),IF(P$23="%w/w DM",(((P$24*10)*($B$24/100))*$B38),IF(P$23="kg/t SAR",(P$24*$B38),IF(P$23="kg/t DM",((P$24*($B$24/100))*$B38),IF(P$23="mg/kg SAR",((P$24*0.001)*$B38),IF(P$23="mg/kg DM",(((P$24*0.001)*($B$24/100))*$B38),0)))))) -> 106.596 | Q38: =(IF(Q$23="%w/w SAR",((Q$24*10)*$B38),IF(Q$23="%w/w DM",(((Q$24*10)*($B$24/100))*$B38),IF(Q$23="kg/t SAR",(Q$24*$B38),IF(Q$23="kg/t DM",((Q$24*($B$24/100))*$B38),IF(Q$23="mg/kg SAR",((Q$24*0.001)*$B38),IF(Q$23="mg/kg DM",(((Q$24*0.001)*($B$24/100))*$B38),0)))))))*2.5 -> 38.07 | R38: =IF(R$23="%w/w SAR",((R$24*10)*$B38),IF(R$23="%w/w DM",(((R$24*10)*($B$24/100))*$B38),IF(R$23="kg/t SAR",(R$24*$B38),IF(R$23="kg/t DM",((R$24*($B$24/100))*$B38),IF(R$23="mg/kg SAR",((R$24*0.001)*$B38),IF(R$23="mg/kg DM",(((R$24*0.001)*($B$24/100))*$B38),0)))))) -> 0 | S38: =IF(S$23="%w/w SAR",((S$24*10)*$B38),IF(S$23="%w/w DM",(((S$24*10)*($B$24/100))*$B38),IF(S$23="kg/t SAR",(S$24*$B38),IF(S$23="kg/t DM",((S$24*($B$24/100))*$B38),IF(S$23="mg/kg SAR",((S$24*0.001)*$B38),IF(S$23="mg/kg DM",(((S$24*0.001)*($B$24/100))*$B38),0)))))) -> 0 | T38: =IF(T$23="%w/w SAR",((T$24*10)*$B38),IF(T$23="%w/w DM",(((T$24*10)*($B$24/100))*$B38),IF(T$23="kg/t SAR",(T$24*$B38),IF(T$23="kg/t DM",((T$24*($B$24/100))*$B38),IF(T$23="mg/kg SAR",((T$24*0.001)*$B38),IF(T$23="mg/kg DM",(((T$24*0.001)*($B$24/100))*$B38),0)))))) -> 0 | U38: =IF(U$23="%w/w SAR",((U$24*10)*$B38),IF(U$23="%w/w DM",(((U$24*10)*($B$24/100))*$B38),IF(U$23="kg/t SAR",(U$24*$B38),IF(U$23="kg/t DM",((U$24*($B$24/100))*$B38),IF(U$23="mg/kg SAR",((U$24*0.001)*$B38),IF(U$23="mg/kg DM",(((U$24*0.001)*($B$24/100))*$B38),0)))))) -> 0 | V38: =IF($V$24="",0,IF($V$24>5000,"NOT OK","OK")) -> OK | W38: =IF($W$24="",0,IF($W$24>4,"Not OK","OK")) -> OK
A39: =O8 -> 3962 + 4273 | B39: 81 | C39: =IF(C$23="%w/w SAR",((C$24*10)*$B39),IF(C$23="%w/w DM",(((C$24*10)*($B$24/100))*$B39),IF(C$23="kg/t SAR",(C$24*$B39),IF(C$23="kg/t DM",((C$24*($B$24/100))*$B39),IF(C$23="mg/kg SAR",((C$24*0.001)*$B39),IF(C$23="mg/kg DM",(((C$24*0.001)*($B$24/100))*$B39),0)))))) -> 178.2 | D39: =(IF(D$23="%w/w SAR",((D$24*10)*$B39),IF(D$23="%w/w DM",(((D$24*10)*($B$24/100))*$B39),IF(D$23="kg/t SAR",(D$24*$B39),IF(D$23="kg/t DM",((D$24*($B$24/100))*$B39),IF(D$23="mg/kg SAR",((D$24*0.001)*$B39),IF(D$23="mg/kg DM",(((D$24*0.001)*($B$24/100))*$B39),"0")))))))*2.291 -> 157.54978 | E39: =(IF(E$23="%w/w SAR",((E$24*10)*$B39),IF(E$23="%w/w DM",(((E$24*10)*($B$24/100))*$B39),IF(E$23="kg/t SAR",(E$24*$B39),IF(E$23="kg/t DM",((E$24*($B$24/100))*$B39),IF(E$23="mg/kg SAR",((E$24*0.001)*$B39),IF(E$23="mg/kg DM",(((E$24*0.001)*($B$24/100))*$B39),"0")))))))*1.205 -> 19.813815 | F39: =(IF(F$23="%w/w SAR",((F$24*10)*$B39),IF(F$23="%w/w DM",(((F$24*10)*($B$24/100))*$B39),IF(F$23="kg/t SAR",(F$24*$B39),IF(F$23="kg/t DM",((F$24*($B$24/100))*$B39),IF(F$23="mg/kg SAR",((F$24*0.001)*$B39),IF(F$23="mg/kg DM",(((F$24*0.001)*($B$24/100))*$B39),"0")))))))*1.658 -> 6.983496 | G39: =IF(G$23="%w/w SAR",((G$24*10)*$B39),IF(G$23="%w/w DM",(((G$24*10)*($B$24/100))*$B39),IF(G$23="kg/t SAR",(G$24*$B39),IF(G$23="kg/t DM",((G$24*($B$24/100))*$B39),IF(G$23="mg/kg SAR",((G$24*0.001)*$B39),IF(G$23="mg/kg DM",(((G$24*0.001)*($B$24/100))*$B39),0)))))) -> 0.02673 | H39: =IF(H$23="%w/w SAR",((H$24*10)*$B39),IF(H$23="%w/w DM",(((H$24*10)*($B$24/100))*$B39),IF(H$23="kg/t SAR",(H$24*$B39),IF(H$23="kg/t DM",((H$24*($B$24/100))*$B39),IF(H$23="mg/kg SAR",((H$24*0.001)*$B39),IF(H$23="mg/kg DM",(((H$24*0.001)*($B$24/100))*$B39),0)))))) -> 0.23004 | I39: =IF(I$23="%w/w SAR",((I$24*10)*$B39),IF(I$23="%w/w DM",(((I$24*10)*($B$24/100))*$B39),IF(I$23="kg/t SAR",(I$24*$B39),IF(I$23="kg/t DM",((I$24*($B$24/100))*$B39),IF(I$23="mg/kg SAR",((I$24*0.001)*$B39),IF(I$23="mg/kg DM",(((I$24*0.001)*($B$24/100))*$B39),0)))))) -> 0.0405 | J39: =IF(J$23="%w/w SAR",((J$24*10)*$B39),IF(J$23="%w/w DM",(((J$24*10)*($B$24/100))*$B39),IF(J$23="kg/t SAR",(J$24*$B39),IF(J$23="kg/t DM",((J$24*($B$24/100))*$B39),IF(J$23="mg/kg SAR",((J$24*0.001)*$B39),IF(J$23="mg/kg DM",(((J$24*0.001)*($B$24/100))*$B39),0)))))) -> 0.00081 | K39: =IF(K$23="%w/w SAR",((K$24*10)*$B39),IF(K$23="%w/w DM",(((K$24*10)*($B$24/100))*$B39),IF(K$23="kg/t SAR",(K$24*$B39),IF(K$23="kg/t DM",((K$24*($B$24/100))*$B39),IF(K$23="mg/kg SAR",((K$24*0.001)*$B39),IF(K$23="mg/kg DM",(((K$24*0.001)*($B$24/100))*$B39),0)))))) -> 0.00405 | L39: =IF(L$23="%w/w SAR",((L$24*10)*$B39),IF(L$23="%w/w DM",(((L$24*10)*($B$24/100))*$B39),IF(L$23="kg/t SAR",(L$24*$B39),IF(L$23="kg/t DM",((L$24*($B$24/100))*$B39),IF(L$23="mg/kg SAR",((L$24*0.001)*$B39),IF(L$23="mg/kg DM",(((L$24*0.001)*($B$24/100))*$B39),0)))))) -> 0.0162 | M39: =IF(M$23="%w/w SAR",((M$24*10)*$B39),IF(M$23="%w/w DM",(((M$24*10)*($B$24/100))*$B39),IF(M$23="kg/t SAR",(M$24*$B39),IF(M$23="kg/t DM",((M$24*($B$24/100))*$B39),IF(M$23="mg/kg SAR",((M$24*0.001)*$B39),IF(M$23="mg/kg DM",(((M$24*0.001)*($B$24/100))*$B39),0)))))) -> 0.06237 | N39: =IF(N$23="%w/w SAR",((N$24*10)*$B39),IF(N$23="%w/w DM",(((N$24*10)*($B$24/100))*$B39),IF(N$23="kg/t SAR",(N$24*$B39),IF(N$23="kg/t DM",((N$24*($B$24/100))*$B39),IF(N$23="mg/kg SAR",((N$24*0.001)*$B39),IF(N$23="mg/kg DM",(((N$24*0.001)*($B$24/100))*$B39),0)))))) -> 0 | ... P39: =IF(P$23="%w/w SAR",((P$24*10)*$B39),IF(P$23="%w/w DM",(((P$24*10)*($B$24/100))*$B39),IF(P$23="kg/t SAR",(P$24*$B39),IF(P$23="kg/t DM",((P$24*($B$24/100))*$B39),IF(P$23="mg/kg SAR",((P$24*0.001)*$B39),IF(P$23="mg/kg DM",(((P$24*0.001)*($B$24/100))*$B39),0)))))) -> 106.596 | Q39: =(IF(Q$23="%w/w SAR",((Q$24*10)*$B39),IF(Q$23="%w/w DM",(((Q$24*10)*($B$24/100))*$B39),IF(Q$23="kg/t SAR",(Q$24*$B39),IF(Q$23="kg/t DM",((Q$24*($B$24/100))*$B39),IF(Q$23="mg/kg SAR",((Q$24*0.001)*$B39),IF(Q$23="mg/kg DM",(((Q$24*0.001)*($B$24/100))*$B39),0)))))))*2.5 -> 38.07 | R39: =IF(R$23="%w/w SAR",((R$24*10)*$B39),IF(R$23="%w/w DM",(((R$24*10)*($B$24/100))*$B39),IF(R$23="kg/t SAR",(R$24*$B39),IF(R$23="kg/t DM",((R$24*($B$24/100))*$B39),IF(R$23="mg/kg SAR",((R$24*0.001)*$B39),IF(R$23="mg/kg DM",(((R$24*0.001)*($B$24/100))*$B39),0)))))) -> 0 | S39: =IF(S$23="%w/w SAR",((S$24*10)*$B39),IF(S$23="%w/w DM",(((S$24*10)*($B$24/100))*$B39),IF(S$23="kg/t SAR",(S$24*$B39),IF(S$23="kg/t DM",((S$24*($B$24/100))*$B39),IF(S$23="mg/kg SAR",((S$24*0.001)*$B39),IF(S$23="mg/kg DM",(((S$24*0.001)*($B$24/100))*$B39),0)))))) -> 0 | T39: =IF(T$23="%w/w SAR",((T$24*10)*$B39),IF(T$23="%w/w DM",(((T$24*10)*($B$24/100))*$B39),IF(T$23="kg/t SAR",(T$24*$B39),IF(T$23="kg/t DM",((T$24*($B$24/100))*$B39),IF(T$23="mg/kg SAR",((T$24*0.001)*$B39),IF(T$23="mg/kg DM",(((T$24*0.001)*($B$24/100))*$B39),0)))))) -> 0 | U39: =IF(U$23="%w/w SAR",((U$24*10)*$B39),IF(U$23="%w/w DM",(((U$24*10)*($B$24/100))*$B39),IF(U$23="kg/t SAR",(U$24*$B39),IF(U$23="kg/t DM",((U$24*($B$24/100))*$B39),IF(U$23="mg/kg SAR",((U$24*0.001)*$B39),IF(U$23="mg/kg DM",(((U$24*0.001)*($B$24/100))*$B39),0)))))) -> 0 | V39: =IF($V$24="",0,IF($V$24>5000,"NOT OK","OK")) -> OK | W39: =IF($W$24="",0,IF($W$24>4,"Not OK","OK")) -> OK
A40: =P8 -> 0 | C40: =IF(C$23="%w/w SAR",((C$24*10)*$B40),IF(C$23="%w/w DM",(((C$24*10)*($B$24/100))*$B40),IF(C$23="kg/t SAR",(C$24*$B40),IF(C$23="kg/t DM",((C$24*($B$24/100))*$B40),IF(C$23="mg/kg SAR",((C$24*0.001)*$B40),IF(C$23="mg/kg DM",(((C$24*0.001)*($B$24/100))*$B40),0)))))) -> 0 | D40: =(IF(D$23="%w/w SAR",((D$24*10)*$B40),IF(D$23="%w/w DM",(((D$24*10)*($B$24/100))*$B40),IF(D$23="kg/t SAR",(D$24*$B40),IF(D$23="kg/t DM",((D$24*($B$24/100))*$B40),IF(D$23="mg/kg SAR",((D$24*0.001)*$B40),IF(D$23="mg/kg DM",(((D$24*0.001)*($B$24/100))*$B40),"0")))))))*2.291 -> 0 | E40: =(IF(E$23="%w/w SAR",((E$24*10)*$B40),IF(E$23="%w/w DM",(((E$24*10)*($B$24/100))*$B40),IF(E$23="kg/t SAR",(E$24*$B40),IF(E$23="kg/t DM",((E$24*($B$24/100))*$B40),IF(E$23="mg/kg SAR",((E$24*0.001)*$B40),IF(E$23="mg/kg DM",(((E$24*0.001)*($B$24/100))*$B40),"0")))))))*1.205 -> 0 | F40: =(IF(F$23="%w/w SAR",((F$24*10)*$B40),IF(F$23="%w/w DM",(((F$24*10)*($B$24/100))*$B40),IF(F$23="kg/t SAR",(F$24*$B40),IF(F$23="kg/t DM",((F$24*($B$24/100))*$B40),IF(F$23="mg/kg SAR",((F$24*0.001)*$B40),IF(F$23="mg/kg DM",(((F$24*0.001)*($B$24/100))*$B40),"0")))))))*1.658 -> 0 | G40: =IF(G$23="%w/w SAR",((G$24*10)*$B40),IF(G$23="%w/w DM",(((G$24*10)*($B$24/100))*$B40),IF(G$23="kg/t SAR",(G$24*$B40),IF(G$23="kg/t DM",((G$24*($B$24/100))*$B40),IF(G$23="mg/kg SAR",((G$24*0.001)*$B40),IF(G$23="mg/kg DM",(((G$24*0.001)*($B$24/100))*$B40),0)))))) -> 0 | H40: =IF(H$23="%w/w SAR",((H$24*10)*$B40),IF(H$23="%w/w DM",(((H$24*10)*($B$24/100))*$B40),IF(H$23="kg/t SAR",(H$24*$B40),IF(H$23="kg/t DM",((H$24*($B$24/100))*$B40),IF(H$23="mg/kg SAR",((H$24*0.001)*$B40),IF(H$23="mg/kg DM",(((H$24*0.001)*($B$24/100))*$B40),0)))))) -> 0 | I40: =IF(I$23="%w/w SAR",((I$24*10)*$B40),IF(I$23="%w/w DM",(((I$24*10)*($B$24/100))*$B40),IF(I$23="kg/t SAR",(I$24*$B40),IF(I$23="kg/t DM",((I$24*($B$24/100))*$B40),IF(I$23="mg/kg SAR",((I$24*0.001)*$B40),IF(I$23="mg/kg DM",(((I$24*0.001)*($B$24/100))*$B40),0)))))) -> 0 | J40: =IF(J$23="%w/w SAR",((J$24*10)*$B40),IF(J$23="%w/w DM",(((J$24*10)*($B$24/100))*$B40),IF(J$23="kg/t SAR",(J$24*$B40),IF(J$23="kg/t DM",((J$24*($B$24/100))*$B40),IF(J$23="mg/kg SAR",((J$24*0.001)*$B40),IF(J$23="mg/kg DM",(((J$24*0.001)*($B$24/100))*$B40),0)))))) -> 0 | K40: =IF(K$23="%w/w SAR",((K$24*10)*$B40),IF(K$23="%w/w DM",(((K$24*10)*($B$24/100))*$B40),IF(K$23="kg/t SAR",(K$24*$B40),IF(K$23="kg/t DM",((K$24*($B$24/100))*$B40),IF(K$23="mg/kg SAR",((K$24*0.001)*$B40),IF(K$23="mg/kg DM",(((K$24*0.001)*($B$24/100))*$B40),0)))))) -> 0 | L40: =IF(L$23="%w/w SAR",((L$24*10)*$B40),IF(L$23="%w/w DM",(((L$24*10)*($B$24/100))*$B40),IF(L$23="kg/t SAR",(L$24*$B40),IF(L$23="kg/t DM",((L$24*($B$24/100))*$B40),IF(L$23="mg/kg SAR",((L$24*0.001)*$B40),IF(L$23="mg/kg DM",(((L$24*0.001)*($B$24/100))*$B40),0)))))) -> 0 | M40: =IF(M$23="%w/w SAR",((M$24*10)*$B40),IF(M$23="%w/w DM",(((M$24*10)*($B$24/100))*$B40),IF(M$23="kg/t SAR",(M$24*$B40),IF(M$23="kg/t DM",((M$24*($B$24/100))*$B40),IF(M$23="mg/kg SAR",((M$24*0.001)*$B40),IF(M$23="mg/kg DM",(((M$24*0.001)*($B$24/100))*$B40),0)))))) -> 0 | N40: =IF(N$23="%w/w SAR",((N$24*10)*$B40),IF(N$23="%w/w DM",(((N$24*10)*($B$24/100))*$B40),IF(N$23="kg/t SAR",(N$24*$B40),IF(N$23="kg/t DM",((N$24*($B$24/100))*$B40),IF(N$23="mg/kg SAR",((N$24*0.001)*$B40),IF(N$23="mg/kg DM",(((N$24*0.001)*($B$24/100))*$B40),0)))))) -> 0 | ... P40: =IF(P$23="%w/w SAR",((P$24*10)*$B40),IF(P$23="%w/w DM",(((P$24*10)*($B$24/100))*$B40),IF(P$23="kg/t SAR",(P$24*$B40),IF(P$23="kg/t DM",((P$24*($B$24/100))*$B40),IF(P$23="mg/kg SAR",((P$24*0.001)*$B40),IF(P$23="mg/kg DM",(((P$24*0.001)*($B$24/100))*$B40),0)))))) -> 0 | Q40: =(IF(Q$23="%w/w SAR",((Q$24*10)*$B40),IF(Q$23="%w/w DM",(((Q$24*10)*($B$24/100))*$B40),IF(Q$23="kg/t SAR",(Q$24*$B40),IF(Q$23="kg/t DM",((Q$24*($B$24/100))*$B40),IF(Q$23="mg/kg SAR",((Q$24*0.001)*$B40),IF(Q$23="mg/kg DM",(((Q$24*0.001)*($B$24/100))*$B40),0)))))))*2.5 -> 0 | R40: =IF(R$23="%w/w SAR",((R$24*10)*$B40),IF(R$23="%w/w DM",(((R$24*10)*($B$24/100))*$B40),IF(R$23="kg/t SAR",(R$24*$B40),IF(R$23="kg/t DM",((R$24*($B$24/100))*$B40),IF(R$23="mg/kg SAR",((R$24*0.001)*$B40),IF(R$23="mg/kg DM",(((R$24*0.001)*($B$24/100))*$B40),0)))))) -> 0 | S40: =IF(S$23="%w/w SAR",((S$24*10)*$B40),IF(S$23="%w/w DM",(((S$24*10)*($B$24/100))*$B40),IF(S$23="kg/t SAR",(S$24*$B40),IF(S$23="kg/t DM",((S$24*($B$24/100))*$B40),IF(S$23="mg/kg SAR",((S$24*0.001)*$B40),IF(S$23="mg/kg DM",(((S$24*0.001)*($B$24/100))*$B40),0)))))) -> 0 | T40: =IF(T$23="%w/w SAR",((T$24*10)*$B40),IF(T$23="%w/w DM",(((T$24*10)*($B$24/100))*$B40),IF(T$23="kg/t SAR",(T$24*$B40),IF(T$23="kg/t DM",((T$24*($B$24/100))*$B40),IF(T$23="mg/kg SAR",((T$24*0.001)*$B40),IF(T$23="mg/kg DM",(((T$24*0.001)*($B$24/100))*$B40),0)))))) -> 0 | U40: =IF(U$23="%w/w SAR",((U$24*10)*$B40),IF(U$23="%w/w DM",(((U$24*10)*($B$24/100))*$B40),IF(U$23="kg/t SAR",(U$24*$B40),IF(U$23="kg/t DM",((U$24*($B$24/100))*$B40),IF(U$23="mg/kg SAR",((U$24*0.001)*$B40),IF(U$23="mg/kg DM",(((U$24*0.001)*($B$24/100))*$B40),0)))))) -> 0 | V40: =IF($V$24="",0,IF($V$24>5000,"NOT OK","OK")) -> OK | W40: =IF($W$24="",0,IF($W$24>4,"Not OK","OK")) -> OK
A41: =Q8 -> 0 | C41: =IF(C$23="%w/w SAR",((C$24*10)*$B41),IF(C$23="%w/w DM",(((C$24*10)*($B$24/100))*$B41),IF(C$23="kg/t SAR",(C$24*$B41),IF(C$23="kg/t DM",((C$24*($B$24/100))*$B41),IF(C$23="mg/kg SAR",((C$24*0.001)*$B41),IF(C$23="mg/kg DM",(((C$24*0.001)*($B$24/100))*$B41),0)))))) -> 0 | D41: =(IF(D$23="%w/w SAR",((D$24*10)*$B41),IF(D$23="%w/w DM",(((D$24*10)*($B$24/100))*$B41),IF(D$23="kg/t SAR",(D$24*$B41),IF(D$23="kg/t DM",((D$24*($B$24/100))*$B41),IF(D$23="mg/kg SAR",((D$24*0.001)*$B41),IF(D$23="mg/kg DM",(((D$24*0.001)*($B$24/100))*$B41),"0")))))))*2.291 -> 0 | E41: =(IF(E$23="%w/w SAR",((E$24*10)*$B41),IF(E$23="%w/w DM",(((E$24*10)*($B$24/100))*$B41),IF(E$23="kg/t SAR",(E$24*$B41),IF(E$23="kg/t DM",((E$24*($B$24/100))*$B41),IF(E$23="mg/kg SAR",((E$24*0.001)*$B41),IF(E$23="mg/kg DM",(((E$24*0.001)*($B$24/100))*$B41),"0")))))))*1.205 -> 0 | F41: =(IF(F$23="%w/w SAR",((F$24*10)*$B41),IF(F$23="%w/w DM",(((F$24*10)*($B$24/100))*$B41),IF(F$23="kg/t SAR",(F$24*$B41),IF(F$23="kg/t DM",((F$24*($B$24/100))*$B41),IF(F$23="mg/kg SAR",((F$24*0.001)*$B41),IF(F$23="mg/kg DM",(((F$24*0.001)*($B$24/100))*$B41),"0")))))))*1.658 -> 0 | G41: =IF(G$23="%w/w SAR",((G$24*10)*$B41),IF(G$23="%w/w DM",(((G$24*10)*($B$24/100))*$B41),IF(G$23="kg/t SAR",(G$24*$B41),IF(G$23="kg/t DM",((G$24*($B$24/100))*$B41),IF(G$23="mg/kg SAR",((G$24*0.001)*$B41),IF(G$23="mg/kg DM",(((G$24*0.001)*($B$24/100))*$B41),0)))))) -> 0 | H41: =IF(H$23="%w/w SAR",((H$24*10)*$B41),IF(H$23="%w/w DM",(((H$24*10)*($B$24/100))*$B41),IF(H$23="kg/t SAR",(H$24*$B41),IF(H$23="kg/t DM",((H$24*($B$24/100))*$B41),IF(H$23="mg/kg SAR",((H$24*0.001)*$B41),IF(H$23="mg/kg DM",(((H$24*0.001)*($B$24/100))*$B41),0)))))) -> 0 | I41: =IF(I$23="%w/w SAR",((I$24*10)*$B41),IF(I$23="%w/w DM",(((I$24*10)*($B$24/100))*$B41),IF(I$23="kg/t SAR",(I$24*$B41),IF(I$23="kg/t DM",((I$24*($B$24/100))*$B41),IF(I$23="mg/kg SAR",((I$24*0.001)*$B41),IF(I$23="mg/kg DM",(((I$24*0.001)*($B$24/100))*$B41),0)))))) -> 0 | J41: =IF(J$23="%w/w SAR",((J$24*10)*$B41),IF(J$23="%w/w DM",(((J$24*10)*($B$24/100))*$B41),IF(J$23="kg/t SAR",(J$24*$B41),IF(J$23="kg/t DM",((J$24*($B$24/100))*$B41),IF(J$23="mg/kg SAR",((J$24*0.001)*$B41),IF(J$23="mg/kg DM",(((J$24*0.001)*($B$24/100))*$B41),0)))))) -> 0 | K41: =IF(K$23="%w/w SAR",((K$24*10)*$B41),IF(K$23="%w/w DM",(((K$24*10)*($B$24/100))*$B41),IF(K$23="kg/t SAR",(K$24*$B41),IF(K$23="kg/t DM",((K$24*($B$24/100))*$B41),IF(K$23="mg/kg SAR",((K$24*0.001)*$B41),IF(K$23="mg/kg DM",(((K$24*0.001)*($B$24/100))*$B41),0)))))) -> 0 | L41: =IF(L$23="%w/w SAR",((L$24*10)*$B41),IF(L$23="%w/w DM",(((L$24*10)*($B$24/100))*$B41),IF(L$23="kg/t SAR",(L$24*$B41),IF(L$23="kg/t DM",((L$24*($B$24/100))*$B41),IF(L$23="mg/kg SAR",((L$24*0.001)*$B41),IF(L$23="mg/kg DM",(((L$24*0.001)*($B$24/100))*$B41),0)))))) -> 0 | M41: =IF(M$23="%w/w SAR",((M$24*10)*$B41),IF(M$23="%w/w DM",(((M$24*10)*($B$24/100))*$B41),IF(M$23="kg/t SAR",(M$24*$B41),IF(M$23="kg/t DM",((M$24*($B$24/100))*$B41),IF(M$23="mg/kg SAR",((M$24*0.001)*$B41),IF(M$23="mg/kg DM",(((M$24*0.001)*($B$24/100))*$B41),0)))))) -> 0 | N41: =IF(N$23="%w/w SAR",((N$24*10)*$B41),IF(N$23="%w/w DM",(((N$24*10)*($B$24/100))*$B41),IF(N$23="kg/t SAR",(N$24*$B41),IF(N$23="kg/t DM",((N$24*($B$24/100))*$B41),IF(N$23="mg/kg SAR",((N$24*0.001)*$B41),IF(N$23="mg/kg DM",(((N$24*0.001)*($B$24/100))*$B41),0)))))) -> 0 | ... P41: =IF(P$23="%w/w SAR",((P$24*10)*$B41),IF(P$23="%w/w DM",(((P$24*10)*($B$24/100))*$B41),IF(P$23="kg/t SAR",(P$24*$B41),IF(P$23="kg/t DM",((P$24*($B$24/100))*$B41),IF(P$23="mg/kg SAR",((P$24*0.001)*$B41),IF(P$23="mg/kg DM",(((P$24*0.001)*($B$24/100))*$B41),0)))))) -> 0 | Q41: =(IF(Q$23="%w/w SAR",((Q$24*10)*$B41),IF(Q$23="%w/w DM",(((Q$24*10)*($B$24/100))*$B41),IF(Q$23="kg/t SAR",(Q$24*$B41),IF(Q$23="kg/t DM",((Q$24*($B$24/100))*$B41),IF(Q$23="mg/kg SAR",((Q$24*0.001)*$B41),IF(Q$23="mg/kg DM",(((Q$24*0.001)*($B$24/100))*$B41),0)))))))*2.5 -> 0 | R41: =IF(R$23="%w/w SAR",((R$24*10)*$B41),IF(R$23="%w/w DM",(((R$24*10)*($B$24/100))*$B41),IF(R$23="kg/t SAR",(R$24*$B41),IF(R$23="kg/t DM",((R$24*($B$24/100))*$B41),IF(R$23="mg/kg SAR",((R$24*0.001)*$B41),IF(R$23="mg/kg DM",(((R$24*0.001)*($B$24/100))*$B41),0)))))) -> 0 | S41: =IF(S$23="%w/w SAR",((S$24*10)*$B41),IF(S$23="%w/w DM",(((S$24*10)*($B$24/100))*$B41),IF(S$23="kg/t SAR",(S$24*$B41),IF(S$23="kg/t DM",((S$24*($B$24/100))*$B41),IF(S$23="mg/kg SAR",((S$24*0.001)*$B41),IF(S$23="mg/kg DM",(((S$24*0.001)*($B$24/100))*$B41),0)))))) -> 0 | T41: =IF(T$23="%w/w SAR",((T$24*10)*$B41),IF(T$23="%w/w DM",(((T$24*10)*($B$24/100))*$B41),IF(T$23="kg/t SAR",(T$24*$B41),IF(T$23="kg/t DM",((T$24*($B$24/100))*$B41),IF(T$23="mg/kg SAR",((T$24*0.001)*$B41),IF(T$23="mg/kg DM",(((T$24*0.001)*($B$24/100))*$B41),0)))))) -> 0 | U41: =IF(U$23="%w/w SAR",((U$24*10)*$B41),IF(U$23="%w/w DM",(((U$24*10)*($B$24/100))*$B41),IF(U$23="kg/t SAR",(U$24*$B41),IF(U$23="kg/t DM",((U$24*($B$24/100))*$B41),IF(U$23="mg/kg SAR",((U$24*0.001)*$B41),IF(U$23="mg/kg DM",(((U$24*0.001)*($B$24/100))*$B41),0)))))) -> 0 | V41: =IF($V$24="",0,IF($V$24>5000,"NOT OK","OK")) -> OK | W41: =IF($W$24="",0,IF($W$24>4,"Not OK","OK")) -> OK
A42: =R8 -> 0 | C42: =IF(C$23="%w/w SAR",((C$24*10)*$B42),IF(C$23="%w/w DM",(((C$24*10)*($B$24/100))*$B42),IF(C$23="kg/t SAR",(C$24*$B42),IF(C$23="kg/t DM",((C$24*($B$24/100))*$B42),IF(C$23="mg/kg SAR",((C$24*0.001)*$B42),IF(C$23="mg/kg DM",(((C$24*0.001)*($B$24/100))*$B42),0)))))) -> 0 | D42: =(IF(D$23="%w/w SAR",((D$24*10)*$B42),IF(D$23="%w/w DM",(((D$24*10)*($B$24/100))*$B42),IF(D$23="kg/t SAR",(D$24*$B42),IF(D$23="kg/t DM",((D$24*($B$24/100))*$B42),IF(D$23="mg/kg SAR",((D$24*0.001)*$B42),IF(D$23="mg/kg DM",(((D$24*0.001)*($B$24/100))*$B42),"0")))))))*2.291 -> 0 | E42: =(IF(E$23="%w/w SAR",((E$24*10)*$B42),IF(E$23="%w/w DM",(((E$24*10)*($B$24/100))*$B42),IF(E$23="kg/t SAR",(E$24*$B42),IF(E$23="kg/t DM",((E$24*($B$24/100))*$B42),IF(E$23="mg/kg SAR",((E$24*0.001)*$B42),IF(E$23="mg/kg DM",(((E$24*0.001)*($B$24/100))*$B42),"0")))))))*1.205 -> 0 | F42: =(IF(F$23="%w/w SAR",((F$24*10)*$B42),IF(F$23="%w/w DM",(((F$24*10)*($B$24/100))*$B42),IF(F$23="kg/t SAR",(F$24*$B42),IF(F$23="kg/t DM",((F$24*($B$24/100))*$B42),IF(F$23="mg/kg SAR",((F$24*0.001)*$B42),IF(F$23="mg/kg DM",(((F$24*0.001)*($B$24/100))*$B42),"0")))))))*1.658 -> 0 | G42: =IF(G$23="%w/w SAR",((G$24*10)*$B42),IF(G$23="%w/w DM",(((G$24*10)*($B$24/100))*$B42),IF(G$23="kg/t SAR",(G$24*$B42),IF(G$23="kg/t DM",((G$24*($B$24/100))*$B42),IF(G$23="mg/kg SAR",((G$24*0.001)*$B42),IF(G$23="mg/kg DM",(((G$24*0.001)*($B$24/100))*$B42),0)))))) -> 0 | H42: =IF(H$23="%w/w SAR",((H$24*10)*$B42),IF(H$23="%w/w DM",(((H$24*10)*($B$24/100))*$B42),IF(H$23="kg/t SAR",(H$24*$B42),IF(H$23="kg/t DM",((H$24*($B$24/100))*$B42),IF(H$23="mg/kg SAR",((H$24*0.001)*$B42),IF(H$23="mg/kg DM",(((H$24*0.001)*($B$24/100))*$B42),0)))))) -> 0 | I42: =IF(I$23="%w/w SAR",((I$24*10)*$B42),IF(I$23="%w/w DM",(((I$24*10)*($B$24/100))*$B42),IF(I$23="kg/t SAR",(I$24*$B42),IF(I$23="kg/t DM",((I$24*($B$24/100))*$B42),IF(I$23="mg/kg SAR",((I$24*0.001)*$B42),IF(I$23="mg/kg DM",(((I$24*0.001)*($B$24/100))*$B42),0)))))) -> 0 | J42: =IF(J$23="%w/w SAR",((J$24*10)*$B42),IF(J$23="%w/w DM",(((J$24*10)*($B$24/100))*$B42),IF(J$23="kg/t SAR",(J$24*$B42),IF(J$23="kg/t DM",((J$24*($B$24/100))*$B42),IF(J$23="mg/kg SAR",((J$24*0.001)*$B42),IF(J$23="mg/kg DM",(((J$24*0.001)*($B$24/100))*$B42),0)))))) -> 0 | K42: =IF(K$23="%w/w SAR",((K$24*10)*$B42),IF(K$23="%w/w DM",(((K$24*10)*($B$24/100))*$B42),IF(K$23="kg/t SAR",(K$24*$B42),IF(K$23="kg/t DM",((K$24*($B$24/100))*$B42),IF(K$23="mg/kg SAR",((K$24*0.001)*$B42),IF(K$23="mg/kg DM",(((K$24*0.001)*($B$24/100))*$B42),0)))))) -> 0 | L42: =IF(L$23="%w/w SAR",((L$24*10)*$B42),IF(L$23="%w/w DM",(((L$24*10)*($B$24/100))*$B42),IF(L$23="kg/t SAR",(L$24*$B42),IF(L$23="kg/t DM",((L$24*($B$24/100))*$B42),IF(L$23="mg/kg SAR",((L$24*0.001)*$B42),IF(L$23="mg/kg DM",(((L$24*0.001)*($B$24/100))*$B42),0)))))) -> 0 | M42: =IF(M$23="%w/w SAR",((M$24*10)*$B42),IF(M$23="%w/w DM",(((M$24*10)*($B$24/100))*$B42),IF(M$23="kg/t SAR",(M$24*$B42),IF(M$23="kg/t DM",((M$24*($B$24/100))*$B42),IF(M$23="mg/kg SAR",((M$24*0.001)*$B42),IF(M$23="mg/kg DM",(((M$24*0.001)*($B$24/100))*$B42),0)))))) -> 0 | N42: =IF(N$23="%w/w SAR",((N$24*10)*$B42),IF(N$23="%w/w DM",(((N$24*10)*($B$24/100))*$B42),IF(N$23="kg/t SAR",(N$24*$B42),IF(N$23="kg/t DM",((N$24*($B$24/100))*$B42),IF(N$23="mg/kg SAR",((N$24*0.001)*$B42),IF(N$23="mg/kg DM",(((N$24*0.001)*($B$24/100))*$B42),0)))))) -> 0 | ... P42: =IF(P$23="%w/w SAR",((P$24*10)*$B42),IF(P$23="%w/w DM",(((P$24*10)*($B$24/100))*$B42),IF(P$23="kg/t SAR",(P$24*$B42),IF(P$23="kg/t DM",((P$24*($B$24/100))*$B42),IF(P$23="mg/kg SAR",((P$24*0.001)*$B42),IF(P$23="mg/kg DM",(((P$24*0.001)*($B$24/100))*$B42),0)))))) -> 0 | Q42: =(IF(Q$23="%w/w SAR",((Q$24*10)*$B42),IF(Q$23="%w/w DM",(((Q$24*10)*($B$24/100))*$B42),IF(Q$23="kg/t SAR",(Q$24*$B42),IF(Q$23="kg/t DM",((Q$24*($B$24/100))*$B42),IF(Q$23="mg/kg SAR",((Q$24*0.001)*$B42),IF(Q$23="mg/kg DM",(((Q$24*0.001)*($B$24/100))*$B42),0)))))))*2.5 -> 0 | R42: =IF(R$23="%w/w SAR",((R$24*10)*$B42),IF(R$23="%w/w DM",(((R$24*10)*($B$24/100))*$B42),IF(R$23="kg/t SAR",(R$24*$B42),IF(R$23="kg/t DM",((R$24*($B$24/100))*$B42),IF(R$23="mg/kg SAR",((R$24*0.001)*$B42),IF(R$23="mg/kg DM",(((R$24*0.001)*($B$24/100))*$B42),0)))))) -> 0 | S42: =IF(S$23="%w/w SAR",((S$24*10)*$B42),IF(S$23="%w/w DM",(((S$24*10)*($B$24/100))*$B42),IF(S$23="kg/t SAR",(S$24*$B42),IF(S$23="kg/t DM",((S$24*($B$24/100))*$B42),IF(S$23="mg/kg SAR",((S$24*0.001)*$B42),IF(S$23="mg/kg DM",(((S$24*0.001)*($B$24/100))*$B42),0)))))) -> 0 | T42: =IF(T$23="%w/w SAR",((T$24*10)*$B42),IF(T$23="%w/w DM",(((T$24*10)*($B$24/100))*$B42),IF(T$23="kg/t SAR",(T$24*$B42),IF(T$23="kg/t DM",((T$24*($B$24/100))*$B42),IF(T$23="mg/kg SAR",((T$24*0.001)*$B42),IF(T$23="mg/kg DM",(((T$24*0.001)*($B$24/100))*$B42),0)))))) -> 0 | U42: =IF(U$23="%w/w SAR",((U$24*10)*$B42),IF(U$23="%w/w DM",(((U$24*10)*($B$24/100))*$B42),IF(U$23="kg/t SAR",(U$24*$B42),IF(U$23="kg/t DM",((U$24*($B$24/100))*$B42),IF(U$23="mg/kg SAR",((U$24*0.001)*$B42),IF(U$23="mg/kg DM",(((U$24*0.001)*($B$24/100))*$B42),0)))))) -> 0 | V42: =IF($V$24="",0,IF($V$24>5000,"NOT OK","OK")) -> OK | W42: =IF($W$24="",0,IF($W$24>4,"Not OK","OK")) -> OK
A43: =S8 -> 0 | C43: =IF(C$23="%w/w SAR",((C$24*10)*$B43),IF(C$23="%w/w DM",(((C$24*10)*($B$24/100))*$B43),IF(C$23="kg/t SAR",(C$24*$B43),IF(C$23="kg/t DM",((C$24*($B$24/100))*$B43),IF(C$23="mg/kg SAR",((C$24*0.001)*$B43),IF(C$23="mg/kg DM",(((C$24*0.001)*($B$24/100))*$B43),0)))))) -> 0 | D43: =(IF(D$23="%w/w SAR",((D$24*10)*$B43),IF(D$23="%w/w DM",(((D$24*10)*($B$24/100))*$B43),IF(D$23="kg/t SAR",(D$24*$B43),IF(D$23="kg/t DM",((D$24*($B$24/100))*$B43),IF(D$23="mg/kg SAR",((D$24*0.001)*$B43),IF(D$23="mg/kg DM",(((D$24*0.001)*($B$24/100))*$B43),"0")))))))*2.291 -> 0 | E43: =(IF(E$23="%w/w SAR",((E$24*10)*$B43),IF(E$23="%w/w DM",(((E$24*10)*($B$24/100))*$B43),IF(E$23="kg/t SAR",(E$24*$B43),IF(E$23="kg/t DM",((E$24*($B$24/100))*$B43),IF(E$23="mg/kg SAR",((E$24*0.001)*$B43),IF(E$23="mg/kg DM",(((E$24*0.001)*($B$24/100))*$B43),"0")))))))*1.205 -> 0 | F43: =(IF(F$23="%w/w SAR",((F$24*10)*$B43),IF(F$23="%w/w DM",(((F$24*10)*($B$24/100))*$B43),IF(F$23="kg/t SAR",(F$24*$B43),IF(F$23="kg/t DM",((F$24*($B$24/100))*$B43),IF(F$23="mg/kg SAR",((F$24*0.001)*$B43),IF(F$23="mg/kg DM",(((F$24*0.001)*($B$24/100))*$B43),"0")))))))*1.658 -> 0 | G43: =IF(G$23="%w/w SAR",((G$24*10)*$B43),IF(G$23="%w/w DM",(((G$24*10)*($B$24/100))*$B43),IF(G$23="kg/t SAR",(G$24*$B43),IF(G$23="kg/t DM",((G$24*($B$24/100))*$B43),IF(G$23="mg/kg SAR",((G$24*0.001)*$B43),IF(G$23="mg/kg DM",(((G$24*0.001)*($B$24/100))*$B43),0)))))) -> 0 | H43: =IF(H$23="%w/w SAR",((H$24*10)*$B43),IF(H$23="%w/w DM",(((H$24*10)*($B$24/100))*$B43),IF(H$23="kg/t SAR",(H$24*$B43),IF(H$23="kg/t DM",((H$24*($B$24/100))*$B43),IF(H$23="mg/kg SAR",((H$24*0.001)*$B43),IF(H$23="mg/kg DM",(((H$24*0.001)*($B$24/100))*$B43),0)))))) -> 0 | I43: =IF(I$23="%w/w SAR",((I$24*10)*$B43),IF(I$23="%w/w DM",(((I$24*10)*($B$24/100))*$B43),IF(I$23="kg/t SAR",(I$24*$B43),IF(I$23="kg/t DM",((I$24*($B$24/100))*$B43),IF(I$23="mg/kg SAR",((I$24*0.001)*$B43),IF(I$23="mg/kg DM",(((I$24*0.001)*($B$24/100))*$B43),0)))))) -> 0 | J43: =IF(J$23="%w/w SAR",((J$24*10)*$B43),IF(J$23="%w/w DM",(((J$24*10)*($B$24/100))*$B43),IF(J$23="kg/t SAR",(J$24*$B43),IF(J$23="kg/t DM",((J$24*($B$24/100))*$B43),IF(J$23="mg/kg SAR",((J$24*0.001)*$B43),IF(J$23="mg/kg DM",(((J$24*0.001)*($B$24/100))*$B43),0)))))) -> 0 | K43: =IF(K$23="%w/w SAR",((K$24*10)*$B43),IF(K$23="%w/w DM",(((K$24*10)*($B$24/100))*$B43),IF(K$23="kg/t SAR",(K$24*$B43),IF(K$23="kg/t DM",((K$24*($B$24/100))*$B43),IF(K$23="mg/kg SAR",((K$24*0.001)*$B43),IF(K$23="mg/kg DM",(((K$24*0.001)*($B$24/100))*$B43),0)))))) -> 0 | L43: =IF(L$23="%w/w SAR",((L$24*10)*$B43),IF(L$23="%w/w DM",(((L$24*10)*($B$24/100))*$B43),IF(L$23="kg/t SAR",(L$24*$B43),IF(L$23="kg/t DM",((L$24*($B$24/100))*$B43),IF(L$23="mg/kg SAR",((L$24*0.001)*$B43),IF(L$23="mg/kg DM",(((L$24*0.001)*($B$24/100))*$B43),0)))))) -> 0 | M43: =IF(M$23="%w/w SAR",((M$24*10)*$B43),IF(M$23="%w/w DM",(((M$24*10)*($B$24/100))*$B43),IF(M$23="kg/t SAR",(M$24*$B43),IF(M$23="kg/t DM",((M$24*($B$24/100))*$B43),IF(M$23="mg/kg SAR",((M$24*0.001)*$B43),IF(M$23="mg/kg DM",(((M$24*0.001)*($B$24/100))*$B43),0)))))) -> 0 | N43: =IF(N$23="%w/w SAR",((N$24*10)*$B43),IF(N$23="%w/w DM",(((N$24*10)*($B$24/100))*$B43),IF(N$23="kg/t SAR",(N$24*$B43),IF(N$23="kg/t DM",((N$24*($B$24/100))*$B43),IF(N$23="mg/kg SAR",((N$24*0.001)*$B43),IF(N$23="mg/kg DM",(((N$24*0.001)*($B$24/100))*$B43),0)))))) -> 0 | ... P43: =IF(P$23="%w/w SAR",((P$24*10)*$B43),IF(P$23="%w/w DM",(((P$24*10)*($B$24/100))*$B43),IF(P$23="kg/t SAR",(P$24*$B43),IF(P$23="kg/t DM",((P$24*($B$24/100))*$B43),IF(P$23="mg/kg SAR",((P$24*0.001)*$B43),IF(P$23="mg/kg DM",(((P$24*0.001)*($B$24/100))*$B43),0)))))) -> 0 | Q43: =(IF(Q$23="%w/w SAR",((Q$24*10)*$B43),IF(Q$23="%w/w DM",(((Q$24*10)*($B$24/100))*$B43),IF(Q$23="kg/t SAR",(Q$24*$B43),IF(Q$23="kg/t DM",((Q$24*($B$24/100))*$B43),IF(Q$23="mg/kg SAR",((Q$24*0.001)*$B43),IF(Q$23="mg/kg DM",(((Q$24*0.001)*($B$24/100))*$B43),0)))))))*2.5 -> 0 | R43: =IF(R$23="%w/w SAR",((R$24*10)*$B43),IF(R$23="%w/w DM",(((R$24*10)*($B$24/100))*$B43),IF(R$23="kg/t SAR",(R$24*$B43),IF(R$23="kg/t DM",((R$24*($B$24/100))*$B43),IF(R$23="mg/kg SAR",((R$24*0.001)*$B43),IF(R$23="mg/kg DM",(((R$24*0.001)*($B$24/100))*$B43),0)))))) -> 0 | S43: =IF(S$23="%w/w SAR",((S$24*10)*$B43),IF(S$23="%w/w DM",(((S$24*10)*($B$24/100))*$B43),IF(S$23="kg/t SAR",(S$24*$B43),IF(S$23="kg/t DM",((S$24*($B$24/100))*$B43),IF(S$23="mg/kg SAR",((S$24*0.001)*$B43),IF(S$23="mg/kg DM",(((S$24*0.001)*($B$24/100))*$B43),0)))))) -> 0 | T43: =IF(T$23="%w/w SAR",((T$24*10)*$B43),IF(T$23="%w/w DM",(((T$24*10)*($B$24/100))*$B43),IF(T$23="kg/t SAR",(T$24*$B43),IF(T$23="kg/t DM",((T$24*($B$24/100))*$B43),IF(T$23="mg/kg SAR",((T$24*0.001)*$B43),IF(T$23="mg/kg DM",(((T$24*0.001)*($B$24/100))*$B43),0)))))) -> 0 | U43: =IF(U$23="%w/w SAR",((U$24*10)*$B43),IF(U$23="%w/w DM",(((U$24*10)*($B$24/100))*$B43),IF(U$23="kg/t SAR",(U$24*$B43),IF(U$23="kg/t DM",((U$24*($B$24/100))*$B43),IF(U$23="mg/kg SAR",((U$24*0.001)*$B43),IF(U$23="mg/kg DM",(((U$24*0.001)*($B$24/100))*$B43),0)))))) -> 0 | V43: =IF($V$24="",0,IF($V$24>5000,"NOT OK","OK")) -> OK | W43: =IF($W$24="",0,IF($W$24>4,"Not OK","OK")) -> OK
A44: =T8 -> 0 | C44: =IF(C$23="%w/w SAR",((C$24*10)*$B44),IF(C$23="%w/w DM",(((C$24*10)*($B$24/100))*$B44),IF(C$23="kg/t SAR",(C$24*$B44),IF(C$23="kg/t DM",((C$24*($B$24/100))*$B44),IF(C$23="mg/kg SAR",((C$24*0.001)*$B44),IF(C$23="mg/kg DM",(((C$24*0.001)*($B$24/100))*$B44),0)))))) -> 0 | D44: =(IF(D$23="%w/w SAR",((D$24*10)*$B44),IF(D$23="%w/w DM",(((D$24*10)*($B$24/100))*$B44),IF(D$23="kg/t SAR",(D$24*$B44),IF(D$23="kg/t DM",((D$24*($B$24/100))*$B44),IF(D$23="mg/kg SAR",((D$24*0.001)*$B44),IF(D$23="mg/kg DM",(((D$24*0.001)*($B$24/100))*$B44),"0")))))))*2.291 -> 0 | E44: =(IF(E$23="%w/w SAR",((E$24*10)*$B44),IF(E$23="%w/w DM",(((E$24*10)*($B$24/100))*$B44),IF(E$23="kg/t SAR",(E$24*$B44),IF(E$23="kg/t DM",((E$24*($B$24/100))*$B44),IF(E$23="mg/kg SAR",((E$24*0.001)*$B44),IF(E$23="mg/kg DM",(((E$24*0.001)*($B$24/100))*$B44),"0")))))))*1.205 -> 0 | F44: =(IF(F$23="%w/w SAR",((F$24*10)*$B44),IF(F$23="%w/w DM",(((F$24*10)*($B$24/100))*$B44),IF(F$23="kg/t SAR",(F$24*$B44),IF(F$23="kg/t DM",((F$24*($B$24/100))*$B44),IF(F$23="mg/kg SAR",((F$24*0.001)*$B44),IF(F$23="mg/kg DM",(((F$24*0.001)*($B$24/100))*$B44),"0")))))))*1.658 -> 0 | G44: =IF(G$23="%w/w SAR",((G$24*10)*$B44),IF(G$23="%w/w DM",(((G$24*10)*($B$24/100))*$B44),IF(G$23="kg/t SAR",(G$24*$B44),IF(G$23="kg/t DM",((G$24*($B$24/100))*$B44),IF(G$23="mg/kg SAR",((G$24*0.001)*$B44),IF(G$23="mg/kg DM",(((G$24*0.001)*($B$24/100))*$B44),0)))))) -> 0 | H44: =IF(H$23="%w/w SAR",((H$24*10)*$B44),IF(H$23="%w/w DM",(((H$24*10)*($B$24/100))*$B44),IF(H$23="kg/t SAR",(H$24*$B44),IF(H$23="kg/t DM",((H$24*($B$24/100))*$B44),IF(H$23="mg/kg SAR",((H$24*0.001)*$B44),IF(H$23="mg/kg DM",(((H$24*0.001)*($B$24/100))*$B44),0)))))) -> 0 | I44: =IF(I$23="%w/w SAR",((I$24*10)*$B44),IF(I$23="%w/w DM",(((I$24*10)*($B$24/100))*$B44),IF(I$23="kg/t SAR",(I$24*$B44),IF(I$23="kg/t DM",((I$24*($B$24/100))*$B44),IF(I$23="mg/kg SAR",((I$24*0.001)*$B44),IF(I$23="mg/kg DM",(((I$24*0.001)*($B$24/100))*$B44),0)))))) -> 0 | J44: =IF(J$23="%w/w SAR",((J$24*10)*$B44),IF(J$23="%w/w DM",(((J$24*10)*($B$24/100))*$B44),IF(J$23="kg/t SAR",(J$24*$B44),IF(J$23="kg/t DM",((J$24*($B$24/100))*$B44),IF(J$23="mg/kg SAR",((J$24*0.001)*$B44),IF(J$23="mg/kg DM",(((J$24*0.001)*($B$24/100))*$B44),0)))))) -> 0 | K44: =IF(K$23="%w/w SAR",((K$24*10)*$B44),IF(K$23="%w/w DM",(((K$24*10)*($B$24/100))*$B44),IF(K$23="kg/t SAR",(K$24*$B44),IF(K$23="kg/t DM",((K$24*($B$24/100))*$B44),IF(K$23="mg/kg SAR",((K$24*0.001)*$B44),IF(K$23="mg/kg DM",(((K$24*0.001)*($B$24/100))*$B44),0)))))) -> 0 | L44: =IF(L$23="%w/w SAR",((L$24*10)*$B44),IF(L$23="%w/w DM",(((L$24*10)*($B$24/100))*$B44),IF(L$23="kg/t SAR",(L$24*$B44),IF(L$23="kg/t DM",((L$24*($B$24/100))*$B44),IF(L$23="mg/kg SAR",((L$24*0.001)*$B44),IF(L$23="mg/kg DM",(((L$24*0.001)*($B$24/100))*$B44),0)))))) -> 0 | M44: =IF(M$23="%w/w SAR",((M$24*10)*$B44),IF(M$23="%w/w DM",(((M$24*10)*($B$24/100))*$B44),IF(M$23="kg/t SAR",(M$24*$B44),IF(M$23="kg/t DM",((M$24*($B$24/100))*$B44),IF(M$23="mg/kg SAR",((M$24*0.001)*$B44),IF(M$23="mg/kg DM",(((M$24*0.001)*($B$24/100))*$B44),0)))))) -> 0 | N44: =IF(N$23="%w/w SAR",((N$24*10)*$B44),IF(N$23="%w/w DM",(((N$24*10)*($B$24/100))*$B44),IF(N$23="kg/t SAR",(N$24*$B44),IF(N$23="kg/t DM",((N$24*($B$24/100))*$B44),IF(N$23="mg/kg SAR",((N$24*0.001)*$B44),IF(N$23="mg/kg DM",(((N$24*0.001)*($B$24/100))*$B44),0)))))) -> 0 | ... P44: =IF(P$23="%w/w SAR",((P$24*10)*$B44),IF(P$23="%w/w DM",(((P$24*10)*($B$24/100))*$B44),IF(P$23="kg/t SAR",(P$24*$B44),IF(P$23="kg/t DM",((P$24*($B$24/100))*$B44),IF(P$23="mg/kg SAR",((P$24*0.001)*$B44),IF(P$23="mg/kg DM",(((P$24*0.001)*($B$24/100))*$B44),0)))))) -> 0 | Q44: =(IF(Q$23="%w/w SAR",((Q$24*10)*$B44),IF(Q$23="%w/w DM",(((Q$24*10)*($B$24/100))*$B44),IF(Q$23="kg/t SAR",(Q$24*$B44),IF(Q$23="kg/t DM",((Q$24*($B$24/100))*$B44),IF(Q$23="mg/kg SAR",((Q$24*0.001)*$B44),IF(Q$23="mg/kg DM",(((Q$24*0.001)*($B$24/100))*$B44),0)))))))*2.5 -> 0 | R44: =IF(R$23="%w/w SAR",((R$24*10)*$B44),IF(R$23="%w/w DM",(((R$24*10)*($B$24/100))*$B44),IF(R$23="kg/t SAR",(R$24*$B44),IF(R$23="kg/t DM",((R$24*($B$24/100))*$B44),IF(R$23="mg/kg SAR",((R$24*0.001)*$B44),IF(R$23="mg/kg DM",(((R$24*0.001)*($B$24/100))*$B44),0)))))) -> 0 | S44: =IF(S$23="%w/w SAR",((S$24*10)*$B44),IF(S$23="%w/w DM",(((S$24*10)*($B$24/100))*$B44),IF(S$23="kg/t SAR",(S$24*$B44),IF(S$23="kg/t DM",((S$24*($B$24/100))*$B44),IF(S$23="mg/kg SAR",((S$24*0.001)*$B44),IF(S$23="mg/kg DM",(((S$24*0.001)*($B$24/100))*$B44),0)))))) -> 0 | T44: =IF(T$23="%w/w SAR",((T$24*10)*$B44),IF(T$23="%w/w DM",(((T$24*10)*($B$24/100))*$B44),IF(T$23="kg/t SAR",(T$24*$B44),IF(T$23="kg/t DM",((T$24*($B$24/100))*$B44),IF(T$23="mg/kg SAR",((T$24*0.001)*$B44),IF(T$23="mg/kg DM",(((T$24*0.001)*($B$24/100))*$B44),0)))))) -> 0 | U44: =IF(U$23="%w/w SAR",((U$24*10)*$B44),IF(U$23="%w/w DM",(((U$24*10)*($B$24/100))*$B44),IF(U$23="kg/t SAR",(U$24*$B44),IF(U$23="kg/t DM",((U$24*($B$24/100))*$B44),IF(U$23="mg/kg SAR",((U$24*0.001)*$B44),IF(U$23="mg/kg DM",(((U$24*0.001)*($B$24/100))*$B44),0)))))) -> 0 | V44: =IF($V$24="",0,IF($V$24>5000,"NOT OK","OK")) -> OK | W44: =IF($W$24="",0,IF($W$24>4,"Not OK","OK")) -> OK
A45: =U8 -> 0 | C45: =IF(C$23="%w/w SAR",((C$24*10)*$B45),IF(C$23="%w/w DM",(((C$24*10)*($B$24/100))*$B45),IF(C$23="kg/t SAR",(C$24*$B45),IF(C$23="kg/t DM",((C$24*($B$24/100))*$B45),IF(C$23="mg/kg SAR",((C$24*0.001)*$B45),IF(C$23="mg/kg DM",(((C$24*0.001)*($B$24/100))*$B45),0)))))) -> 0 | D45: =(IF(D$23="%w/w SAR",((D$24*10)*$B45),IF(D$23="%w/w DM",(((D$24*10)*($B$24/100))*$B45),IF(D$23="kg/t SAR",(D$24*$B45),IF(D$23="kg/t DM",((D$24*($B$24/100))*$B45),IF(D$23="mg/kg SAR",((D$24*0.001)*$B45),IF(D$23="mg/kg DM",(((D$24*0.001)*($B$24/100))*$B45),"0")))))))*2.291 -> 0 | E45: =(IF(E$23="%w/w SAR",((E$24*10)*$B45),IF(E$23="%w/w DM",(((E$24*10)*($B$24/100))*$B45),IF(E$23="kg/t SAR",(E$24*$B45),IF(E$23="kg/t DM",((E$24*($B$24/100))*$B45),IF(E$23="mg/kg SAR",((E$24*0.001)*$B45),IF(E$23="mg/kg DM",(((E$24*0.001)*($B$24/100))*$B45),"0")))))))*1.205 -> 0 | F45: =(IF(F$23="%w/w SAR",((F$24*10)*$B45),IF(F$23="%w/w DM",(((F$24*10)*($B$24/100))*$B45),IF(F$23="kg/t SAR",(F$24*$B45),IF(F$23="kg/t DM",((F$24*($B$24/100))*$B45),IF(F$23="mg/kg SAR",((F$24*0.001)*$B45),IF(F$23="mg/kg DM",(((F$24*0.001)*($B$24/100))*$B45),"0")))))))*1.658 -> 0 | G45: =IF(G$23="%w/w SAR",((G$24*10)*$B45),IF(G$23="%w/w DM",(((G$24*10)*($B$24/100))*$B45),IF(G$23="kg/t SAR",(G$24*$B45),IF(G$23="kg/t DM",((G$24*($B$24/100))*$B45),IF(G$23="mg/kg SAR",((G$24*0.001)*$B45),IF(G$23="mg/kg DM",(((G$24*0.001)*($B$24/100))*$B45),0)))))) -> 0 | H45: =IF(H$23="%w/w SAR",((H$24*10)*$B45),IF(H$23="%w/w DM",(((H$24*10)*($B$24/100))*$B45),IF(H$23="kg/t SAR",(H$24*$B45),IF(H$23="kg/t DM",((H$24*($B$24/100))*$B45),IF(H$23="mg/kg SAR",((H$24*0.001)*$B45),IF(H$23="mg/kg DM",(((H$24*0.001)*($B$24/100))*$B45),0)))))) -> 0 | I45: =IF(I$23="%w/w SAR",((I$24*10)*$B45),IF(I$23="%w/w DM",(((I$24*10)*($B$24/100))*$B45),IF(I$23="kg/t SAR",(I$24*$B45),IF(I$23="kg/t DM",((I$24*($B$24/100))*$B45),IF(I$23="mg/kg SAR",((I$24*0.001)*$B45),IF(I$23="mg/kg DM",(((I$24*0.001)*($B$24/100))*$B45),0)))))) -> 0 | J45: =IF(J$23="%w/w SAR",((J$24*10)*$B45),IF(J$23="%w/w DM",(((J$24*10)*($B$24/100))*$B45),IF(J$23="kg/t SAR",(J$24*$B45),IF(J$23="kg/t DM",((J$24*($B$24/100))*$B45),IF(J$23="mg/kg SAR",((J$24*0.001)*$B45),IF(J$23="mg/kg DM",(((J$24*0.001)*($B$24/100))*$B45),0)))))) -> 0 | K45: =IF(K$23="%w/w SAR",((K$24*10)*$B45),IF(K$23="%w/w DM",(((K$24*10)*($B$24/100))*$B45),IF(K$23="kg/t SAR",(K$24*$B45),IF(K$23="kg/t DM",((K$24*($B$24/100))*$B45),IF(K$23="mg/kg SAR",((K$24*0.001)*$B45),IF(K$23="mg/kg DM",(((K$24*0.001)*($B$24/100))*$B45),0)))))) -> 0 | L45: =IF(L$23="%w/w SAR",((L$24*10)*$B45),IF(L$23="%w/w DM",(((L$24*10)*($B$24/100))*$B45),IF(L$23="kg/t SAR",(L$24*$B45),IF(L$23="kg/t DM",((L$24*($B$24/100))*$B45),IF(L$23="mg/kg SAR",((L$24*0.001)*$B45),IF(L$23="mg/kg DM",(((L$24*0.001)*($B$24/100))*$B45),0)))))) -> 0 | M45: =IF(M$23="%w/w SAR",((M$24*10)*$B45),IF(M$23="%w/w DM",(((M$24*10)*($B$24/100))*$B45),IF(M$23="kg/t SAR",(M$24*$B45),IF(M$23="kg/t DM",((M$24*($B$24/100))*$B45),IF(M$23="mg/kg SAR",((M$24*0.001)*$B45),IF(M$23="mg/kg DM",(((M$24*0.001)*($B$24/100))*$B45),0)))))) -> 0 | N45: =IF(N$23="%w/w SAR",((N$24*10)*$B45),IF(N$23="%w/w DM",(((N$24*10)*($B$24/100))*$B45),IF(N$23="kg/t SAR",(N$24*$B45),IF(N$23="kg/t DM",((N$24*($B$24/100))*$B45),IF(N$23="mg/kg SAR",((N$24*0.001)*$B45),IF(N$23="mg/kg DM",(((N$24*0.001)*($B$24/100))*$B45),0)))))) -> 0 | ... P45: =IF(P$23="%w/w SAR",((P$24*10)*$B45),IF(P$23="%w/w DM",(((P$24*10)*($B$24/100))*$B45),IF(P$23="kg/t SAR",(P$24*$B45),IF(P$23="kg/t DM",((P$24*($B$24/100))*$B45),IF(P$23="mg/kg SAR",((P$24*0.001)*$B45),IF(P$23="mg/kg DM",(((P$24*0.001)*($B$24/100))*$B45),0)))))) -> 0 | Q45: =(IF(Q$23="%w/w SAR",((Q$24*10)*$B45),IF(Q$23="%w/w DM",(((Q$24*10)*($B$24/100))*$B45),IF(Q$23="kg/t SAR",(Q$24*$B45),IF(Q$23="kg/t DM",((Q$24*($B$24/100))*$B45),IF(Q$23="mg/kg SAR",((Q$24*0.001)*$B45),IF(Q$23="mg/kg DM",(((Q$24*0.001)*($B$24/100))*$B45),0)))))))*2.5 -> 0 | R45: =IF(R$23="%w/w SAR",((R$24*10)*$B45),IF(R$23="%w/w DM",(((R$24*10)*($B$24/100))*$B45),IF(R$23="kg/t SAR",(R$24*$B45),IF(R$23="kg/t DM",((R$24*($B$24/100))*$B45),IF(R$23="mg/kg SAR",((R$24*0.001)*$B45),IF(R$23="mg/kg DM",(((R$24*0.001)*($B$24/100))*$B45),0)))))) -> 0 | S45: =IF(S$23="%w/w SAR",((S$24*10)*$B45),IF(S$23="%w/w DM",(((S$24*10)*($B$24/100))*$B45),IF(S$23="kg/t SAR",(S$24*$B45),IF(S$23="kg/t DM",((S$24*($B$24/100))*$B45),IF(S$23="mg/kg SAR",((S$24*0.001)*$B45),IF(S$23="mg/kg DM",(((S$24*0.001)*($B$24/100))*$B45),0)))))) -> 0 | T45: =IF(T$23="%w/w SAR",((T$24*10)*$B45),IF(T$23="%w/w DM",(((T$24*10)*($B$24/100))*$B45),IF(T$23="kg/t SAR",(T$24*$B45),IF(T$23="kg/t DM",((T$24*($B$24/100))*$B45),IF(T$23="mg/kg SAR",((T$24*0.001)*$B45),IF(T$23="mg/kg DM",(((T$24*0.001)*($B$24/100))*$B45),0)))))) -> 0 | U45: =IF(U$23="%w/w SAR",((U$24*10)*$B45),IF(U$23="%w/w DM",(((U$24*10)*($B$24/100))*$B45),IF(U$23="kg/t SAR",(U$24*$B45),IF(U$23="kg/t DM",((U$24*($B$24/100))*$B45),IF(U$23="mg/kg SAR",((U$24*0.001)*$B45),IF(U$23="mg/kg DM",(((U$24*0.001)*($B$24/100))*$B45),0)))))) -> 0 | V45: =IF($V$24="",0,IF($V$24>5000,"NOT OK","OK")) -> OK | W45: =IF($W$24="",0,IF($W$24>4,"Not OK","OK")) -> OK
A46: =V8 -> 0 | C46: =IF(C$23="%w/w SAR",((C$24*10)*$B46),IF(C$23="%w/w DM",(((C$24*10)*($B$24/100))*$B46),IF(C$23="kg/t SAR",(C$24*$B46),IF(C$23="kg/t DM",((C$24*($B$24/100))*$B46),IF(C$23="mg/kg SAR",((C$24*0.001)*$B46),IF(C$23="mg/kg DM",(((C$24*0.001)*($B$24/100))*$B46),0)))))) -> 0 | D46: =(IF(D$23="%w/w SAR",((D$24*10)*$B46),IF(D$23="%w/w DM",(((D$24*10)*($B$24/100))*$B46),IF(D$23="kg/t SAR",(D$24*$B46),IF(D$23="kg/t DM",((D$24*($B$24/100))*$B46),IF(D$23="mg/kg SAR",((D$24*0.001)*$B46),IF(D$23="mg/kg DM",(((D$24*0.001)*($B$24/100))*$B46),"0")))))))*2.291 -> 0 | E46: =(IF(E$23="%w/w SAR",((E$24*10)*$B46),IF(E$23="%w/w DM",(((E$24*10)*($B$24/100))*$B46),IF(E$23="kg/t SAR",(E$24*$B46),IF(E$23="kg/t DM",((E$24*($B$24/100))*$B46),IF(E$23="mg/kg SAR",((E$24*0.001)*$B46),IF(E$23="mg/kg DM",(((E$24*0.001)*($B$24/100))*$B46),"0")))))))*1.205 -> 0 | F46: =(IF(F$23="%w/w SAR",((F$24*10)*$B46),IF(F$23="%w/w DM",(((F$24*10)*($B$24/100))*$B46),IF(F$23="kg/t SAR",(F$24*$B46),IF(F$23="kg/t DM",((F$24*($B$24/100))*$B46),IF(F$23="mg/kg SAR",((F$24*0.001)*$B46),IF(F$23="mg/kg DM",(((F$24*0.001)*($B$24/100))*$B46),"0")))))))*1.658 -> 0 | G46: =IF(G$23="%w/w SAR",((G$24*10)*$B46),IF(G$23="%w/w DM",(((G$24*10)*($B$24/100))*$B46),IF(G$23="kg/t SAR",(G$24*$B46),IF(G$23="kg/t DM",((G$24*($B$24/100))*$B46),IF(G$23="mg/kg SAR",((G$24*0.001)*$B46),IF(G$23="mg/kg DM",(((G$24*0.001)*($B$24/100))*$B46),0)))))) -> 0 | H46: =IF(H$23="%w/w SAR",((H$24*10)*$B46),IF(H$23="%w/w DM",(((H$24*10)*($B$24/100))*$B46),IF(H$23="kg/t SAR",(H$24*$B46),IF(H$23="kg/t DM",((H$24*($B$24/100))*$B46),IF(H$23="mg/kg SAR",((H$24*0.001)*$B46),IF(H$23="mg/kg DM",(((H$24*0.001)*($B$24/100))*$B46),0)))))) -> 0 | I46: =IF(I$23="%w/w SAR",((I$24*10)*$B46),IF(I$23="%w/w DM",(((I$24*10)*($B$24/100))*$B46),IF(I$23="kg/t SAR",(I$24*$B46),IF(I$23="kg/t DM",((I$24*($B$24/100))*$B46),IF(I$23="mg/kg SAR",((I$24*0.001)*$B46),IF(I$23="mg/kg DM",(((I$24*0.001)*($B$24/100))*$B46),0)))))) -> 0 | J46: =IF(J$23="%w/w SAR",((J$24*10)*$B46),IF(J$23="%w/w DM",(((J$24*10)*($B$24/100))*$B46),IF(J$23="kg/t SAR",(J$24*$B46),IF(J$23="kg/t DM",((J$24*($B$24/100))*$B46),IF(J$23="mg/kg SAR",((J$24*0.001)*$B46),IF(J$23="mg/kg DM",(((J$24*0.001)*($B$24/100))*$B46),0)))))) -> 0 | K46: =IF(K$23="%w/w SAR",((K$24*10)*$B46),IF(K$23="%w/w DM",(((K$24*10)*($B$24/100))*$B46),IF(K$23="kg/t SAR",(K$24*$B46),IF(K$23="kg/t DM",((K$24*($B$24/100))*$B46),IF(K$23="mg/kg SAR",((K$24*0.001)*$B46),IF(K$23="mg/kg DM",(((K$24*0.001)*($B$24/100))*$B46),0)))))) -> 0 | L46: =IF(L$23="%w/w SAR",((L$24*10)*$B46),IF(L$23="%w/w DM",(((L$24*10)*($B$24/100))*$B46),IF(L$23="kg/t SAR",(L$24*$B46),IF(L$23="kg/t DM",((L$24*($B$24/100))*$B46),IF(L$23="mg/kg SAR",((L$24*0.001)*$B46),IF(L$23="mg/kg DM",(((L$24*0.001)*($B$24/100))*$B46),0)))))) -> 0 | M46: =IF(M$23="%w/w SAR",((M$24*10)*$B46),IF(M$23="%w/w DM",(((M$24*10)*($B$24/100))*$B46),IF(M$23="kg/t SAR",(M$24*$B46),IF(M$23="kg/t DM",((M$24*($B$24/100))*$B46),IF(M$23="mg/kg SAR",((M$24*0.001)*$B46),IF(M$23="mg/kg DM",(((M$24*0.001)*($B$24/100))*$B46),0)))))) -> 0 | N46: =IF(N$23="%w/w SAR",((N$24*10)*$B46),IF(N$23="%w/w DM",(((N$24*10)*($B$24/100))*$B46),IF(N$23="kg/t SAR",(N$24*$B46),IF(N$23="kg/t DM",((N$24*($B$24/100))*$B46),IF(N$23="mg/kg SAR",((N$24*0.001)*$B46),IF(N$23="mg/kg DM",(((N$24*0.001)*($B$24/100))*$B46),0)))))) -> 0 | ... P46: =IF(P$23="%w/w SAR",((P$24*10)*$B46),IF(P$23="%w/w DM",(((P$24*10)*($B$24/100))*$B46),IF(P$23="kg/t SAR",(P$24*$B46),IF(P$23="kg/t DM",((P$24*($B$24/100))*$B46),IF(P$23="mg/kg SAR",((P$24*0.001)*$B46),IF(P$23="mg/kg DM",(((P$24*0.001)*($B$24/100))*$B46),0)))))) -> 0 | Q46: =(IF(Q$23="%w/w SAR",((Q$24*10)*$B46),IF(Q$23="%w/w DM",(((Q$24*10)*($B$24/100))*$B46),IF(Q$23="kg/t SAR",(Q$24*$B46),IF(Q$23="kg/t DM",((Q$24*($B$24/100))*$B46),IF(Q$23="mg/kg SAR",((Q$24*0.001)*$B46),IF(Q$23="mg/kg DM",(((Q$24*0.001)*($B$24/100))*$B46),0)))))))*2.5 -> 0 | R46: =IF(R$23="%w/w SAR",((R$24*10)*$B46),IF(R$23="%w/w DM",(((R$24*10)*($B$24/100))*$B46),IF(R$23="kg/t SAR",(R$24*$B46),IF(R$23="kg/t DM",((R$24*($B$24/100))*$B46),IF(R$23="mg/kg SAR",((R$24*0.001)*$B46),IF(R$23="mg/kg DM",(((R$24*0.001)*($B$24/100))*$B46),0)))))) -> 0 | S46: =IF(S$23="%w/w SAR",((S$24*10)*$B46),IF(S$23="%w/w DM",(((S$24*10)*($B$24/100))*$B46),IF(S$23="kg/t SAR",(S$24*$B46),IF(S$23="kg/t DM",((S$24*($B$24/100))*$B46),IF(S$23="mg/kg SAR",((S$24*0.001)*$B46),IF(S$23="mg/kg DM",(((S$24*0.001)*($B$24/100))*$B46),0)))))) -> 0 | T46: =IF(T$23="%w/w SAR",((T$24*10)*$B46),IF(T$23="%w/w DM",(((T$24*10)*($B$24/100))*$B46),IF(T$23="kg/t SAR",(T$24*$B46),IF(T$23="kg/t DM",((T$24*($B$24/100))*$B46),IF(T$23="mg/kg SAR",((T$24*0.001)*$B46),IF(T$23="mg/kg DM",(((T$24*0.001)*($B$24/100))*$B46),0)))))) -> 0 | U46: =IF(U$23="%w/w SAR",((U$24*10)*$B46),IF(U$23="%w/w DM",(((U$24*10)*($B$24/100))*$B46),IF(U$23="kg/t SAR",(U$24*$B46),IF(U$23="kg/t DM",((U$24*($B$24/100))*$B46),IF(U$23="mg/kg SAR",((U$24*0.001)*$B46),IF(U$23="mg/kg DM",(((U$24*0.001)*($B$24/100))*$B46),0)))))) -> 0 | V46: =IF($V$24="",0,IF($V$24>5000,"NOT OK","OK")) -> OK | W46: =IF($W$24="",0,IF($W$24>4,"Not OK","OK")) -> OK
A47: LIMIT | B47: 250 | C47: 250 | D47: Crop Requirement | E47: Crop Requirement | F47: Crop Requirement | G47: 7.5 | H47: 15 | I47: 15 | J47: 0.15 | K47: 0.1 | L47: 3 | M47: 15 | N47: TBC | O47: TBC | P47: 360 | Q47: Crop requirement x10 | R47: 0.15 | S47: 0.7 | T47: 0.2 | U47: 20 | V47: 5000 | W47: 4

Sheet Volac Felinfach
A1: PAN reference | C1: ='Dairy Partners Newcastle Emlun'!C1:E1 -> PAN-005323 | F1: Total spread area | H1: ='Dairy Partners Newcastle Emlun'!H1:J1 -> 49 | AE1: Crop | AF1: P OFFTAKE
A2: Permit reference | C2: ='Dairy Partners Newcastle Emlun'!C2:E2 -> EPR/AB3891CX | F2: Waste type (EWC) | H2: 02 05 02 | AB2: %w/w SAR | AC2: Sandy | AD2: Solid | AE2: Winter wheat/barley | AF2: 8.4
A3: Operator | C3: ='Dairy Partners Newcastle Emlun'!C3:E3 -> Mr Daniel James | F3: Waste type (physical form) | H3: Liquid | AB3: %w/w DM | AC3: Sandy Loam | AD3: Liquid | AE3: Spring wheat/barley | AF3: 8.6
A4: Farm Address | C4: ='Dairy Partners Newcastle Emlun'!C4:E4 -> Castell Malgywn Farm, Llechryd, Cardigan SA43 2QB | F4: Waste Ref/Name | H4: Volac Felinfach | AB4: kg/t SAR | AC4: Medium/Clay | AD4: Sludge | AE4: Winter/spring oats | AF4: 8.8
A5: Assessed By | C5: ='Dairy Partners Newcastle Emlun'!C5:E5 -> Rohini Sawant | F5: Waste pH | H5: 6.34 | AB5: kg/t DM | AC5: Organic | AE5: Oilseed rape | AF5: 15.1
AB6: mg/kg SAR | AC6: Peat | AE6: Maize | AF6: 1.4
A7: Field number | C7: 1 | D7: 2 | E7: 3 | F7: 4 | G7: 5 | H7: 6 | I7: 7 | J7: 8 | K7: 9 | L7: 10 | M7: 11 | N7: 12 | O7: 13 | P7: 14 | Q7: 15 | R7: 16 | S7: 17 | T7: 18 | U7: 19 | V7: 20 | AB7: mg/kg DM | AE7: Fodder beet | AF7: 0.7
A8: Field Ref | C8: ='Dairy Partners Newcastle Emlun'!C8 -> 8087 | D8: ='Dairy Partners Newcastle Emlun'!D8 -> 9792 | E8: ='Dairy Partners Newcastle Emlun'!E8 -> 1188 | F8: ='Dairy Partners Newcastle Emlun'!F8 -> 8262 | G8: ='Dairy Partners Newcastle Emlun'!G8 -> 165 | H8: ='Dairy Partners Newcastle Emlun'!H8 -> 438 | I8: ='Dairy Partners Newcastle Emlun'!I8 -> 2341 | J8: ='Dairy Partners Newcastle Emlun'!J8 -> Tyriet 8 | ... V8: ='Dairy Partners Newcastle Emlun'!V8 -> 0 | AE8: Grass fresh (15%-20% DM) | AF8: 1.4
A9: SNS Index | C9: ='Dairy Partners Newcastle Emlun'!C9 -> Mod | D9: ='Dairy Partners Newcastle Emlun'!D9 -> Mod | E9: ='Dairy Partners Newcastle Emlun'!E9 -> Mod | F9: ='Dairy Partners Newcastle Emlun'!F9 -> Mod | G9: ='Dairy Partners Newcastle Emlun'!G9 -> Mod | H9: ='Dairy Partners Newcastle Emlun'!H9 -> Mod | I9: ='Dairy Partners Newcastle Emlun'!I9 -> Mod | J9: ='Dairy Partners Newcastle Emlun'!J9 -> Mod | ... V9: ='Dairy Partners Newcastle Emlun'!V9 -> 0 | AE9: Grass Silage (25% DM) | AF9: 1.7
A10: Field pH | C10: ='Dairy Partners Newcastle Emlun'!C10 -> 6.3 | D10: ='Dairy Partners Newcastle Emlun'!D10 -> 6.3 | E10: ='Dairy Partners Newcastle Emlun'!E10 -> 6.1 | F10: ='Dairy Partners Newcastle Emlun'!F10 -> 6.3 | G10: ='Dairy Partners Newcastle Emlun'!G10 -> 6.2 | H10: ='Dairy Partners Newcastle Emlun'!H10 -> 5.9 | I10: ='Dairy Partners Newcastle Emlun'!I10 -> 6.1 | J10: ='Dairy Partners Newcastle Emlun'!J10 -> 5.7 | ... V10: ='Dairy Partners Newcastle Emlun'!V10 -> 0 | AE10: Grass Silage (30%) | AF10: 2.1
A11: Phosphorus Index | C11: ='Dairy Partners Newcastle Emlun'!C11 -> 2 | D11: ='Dairy Partners Newcastle Emlun'!D11 -> 1 | E11: ='Dairy Partners Newcastle Emlun'!E11 -> 1 | F11: ='Dairy Partners Newcastle Emlun'!F11 -> 1 | G11: ='Dairy Partners Newcastle Emlun'!G11 -> 1 | H11: ='Dairy Partners Newcastle Emlun'!H11 -> 1 | I11: ='Dairy Partners Newcastle Emlun'!I11 -> 1 | J11: ='Dairy Partners Newcastle Emlun'!J11 -> 1 | ... V11: ='Dairy Partners Newcastle Emlun'!V11 -> 0 | AE11: Hay (86% DM) | AF11: 5.9
A12: Potassium Index | C12: ='Dairy Partners Newcastle Emlun'!C12 -> 1 | D12: ='Dairy Partners Newcastle Emlun'!D12 -> 1 | E12: ='Dairy Partners Newcastle Emlun'!E12 -> 2 | F12: ='Dairy Partners Newcastle Emlun'!F12 -> 1 | G12: ='Dairy Partners Newcastle Emlun'!G12 -> 1 | H12: ='Dairy Partners Newcastle Emlun'!H12 -> 0 | I12: ='Dairy Partners Newcastle Emlun'!I12 -> 0 | J12: ='Dairy Partners Newcastle Emlun'!J12 -> 1 | ... V12: ='Dairy Partners Newcastle Emlun'!V12 -> 0 | AE12: Haylege (45% DM) | AF12: 3.2
A13: Magnesium Index | C13: ='Dairy Partners Newcastle Emlun'!C13 -> 3 | D13: ='Dairy Partners Newcastle Emlun'!D13 -> 3 | E13: ='Dairy Partners Newcastle Emlun'!E13 -> 4 | F13: ='Dairy Partners Newcastle Emlun'!F13 -> 4 | G13: ='Dairy Partners Newcastle Emlun'!G13 -> 5 | H13: ='Dairy Partners Newcastle Emlun'!H13 -> 2 | I13: ='Dairy Partners Newcastle Emlun'!I13 -> 3 | J13: ='Dairy Partners Newcastle Emlun'!J13 -> 2 | ... V13: ='Dairy Partners Newcastle Emlun'!V13 -> 0
A14: Benefiting Crop | C14: ='Dairy Partners Newcastle Emlun'!C14 -> Grass Silage (25% DM) | D14: ='Dairy Partners Newcastle Emlun'!D14 -> Grass Silage (25% DM) | E14: ='Dairy Partners Newcastle Emlun'!E14 -> Grass Silage (25% DM) | F14: ='Dairy Partners Newcastle Emlun'!F14 -> Grass Silage (25% DM) | G14: ='Dairy Partners Newcastle Emlun'!G14 -> Grass Silage (25% DM) | H14: ='Dairy Partners Newcastle Emlun'!H14 -> Grass Silage (25% DM) | I14: ='Dairy Partners Newcastle Emlun'!I14 -> Grass Silage (25% DM) | J14: ='Dairy Partners Newcastle Emlun'!J14 -> Grass Silage (25% DM) | ... V14: ='Dairy Partners Newcastle Emlun'!V14 -> 0
A15: Expected Yield | C15: ='Dairy Partners Newcastle Emlun'!C15 -> 47 | D15: ='Dairy Partners Newcastle Emlun'!D15 -> 32 | E15: ='Dairy Partners Newcastle Emlun'!E15 -> 32 | F15: ='Dairy Partners Newcastle Emlun'!F15 -> 32 | G15: ='Dairy Partners Newcastle Emlun'!G15 -> 32 | H15: ='Dairy Partners Newcastle Emlun'!H15 -> 32 | I15: ='Dairy Partners Newcastle Emlun'!I15 -> 47 | J15: ='Dairy Partners Newcastle Emlun'!J15 -> 47 | ... V15: ='Dairy Partners Newcastle Emlun'!V15 -> 0
A16: Soil Type | C16: ='Dairy Partners Newcastle Emlun'!C16 -> Medium/Clay | D16: ='Dairy Partners Newcastle Emlun'!D16 -> Medium/Clay | E16: ='Dairy Partners Newcastle Emlun'!E16 -> Medium/Clay | F16: ='Dairy Partners Newcastle Emlun'!F16 -> Medium/Clay | G16: ='Dairy Partners Newcastle Emlun'!G16 -> Medium/Clay | H16: ='Dairy Partners Newcastle Emlun'!H16 -> Medium/Clay | I16: ='Dairy Partners Newcastle Emlun'!I16 -> Medium/Clay | J16: ='Dairy Partners Newcastle Emlun'!J16 -> Medium/Clay | ... V16: ='Dairy Partners Newcastle Emlun'!V16 -> 0
A17: Phosphate Offtake | C17: =IF(C$14="Winter wheat/barley",8.4,IF(C$14="Spring wheat/barley",8.6,IF(C$14="Winter/spring oats",8.8, IF(C$14="Oilseed Rape",15.1,IF(C$14="Grass fresh (15%-20% DM)",1.4,IF(C$14="Grass Silage (25% DM)",1.7,IF(C$14="Grass Silage (30%)",2.1,IF(C$14="Hay (86% DM)",5.9,IF(C$14="Maize",1.4,IF(C$14="Fodder beet",0.7,IF(C$14="Haylege (45% DM)",3.2,"0")))))))))))*C15 -> 79.9 | D17: =IF(D$14="Winter wheat/barley",8.4,IF(D$14="Spring wheat/barley",8.6,IF(D$14="Winter/spring oats",8.8, IF(D$14="Oilseed Rape",15.1,IF(D$14="Grass fresh (15%-20% DM)",1.4,IF(D$14="Grass Silage (25% DM)",1.7,IF(D$14="Grass Silage (30%)",2.1,IF(D$14="Hay (86% DM)",5.9,IF(D$14="Maize",1.4,IF(D$14="Fodder beet",0.7,IF(D$14="Haylege (45% DM)",3.2,"0")))))))))))*D15 -> 54.4 | E17: =IF(E$14="Winter wheat/barley",8.4,IF(E$14="Spring wheat/barley",8.6,IF(E$14="Winter/spring oats",8.8, IF(E$14="Oilseed Rape",15.1,IF(E$14="Grass fresh (15%-20% DM)",1.4,IF(E$14="Grass Silage (25% DM)",1.7,IF(E$14="Grass Silage (30%)",2.1,IF(E$14="Hay (86% DM)",5.9,IF(E$14="Maize",1.4,IF(E$14="Fodder beet",0.7,IF(E$14="Haylege (45% DM)",3.2,"0")))))))))))*E15 -> 54.4 | F17: =IF(F$14="Winter wheat/barley",8.4,IF(F$14="Spring wheat/barley",8.6,IF(F$14="Winter/spring oats",8.8, IF(F$14="Oilseed Rape",15.1,IF(F$14="Grass fresh (15%-20% DM)",1.4,IF(F$14="Grass Silage (25% DM)",1.7,IF(F$14="Grass Silage (30%)",2.1,IF(F$14="Hay (86% DM)",5.9,IF(F$14="Maize",1.4,IF(F$14="Fodder beet",0.7,IF(F$14="Haylege (45% DM)",3.2,"0")))))))))))*F15 -> 54.4 | G17: =IF(G$14="Winter wheat/barley",8.4,IF(G$14="Spring wheat/barley",8.6,IF(G$14="Winter/spring oats",8.8, IF(G$14="Oilseed Rape",15.1,IF(G$14="Grass fresh (15%-20% DM)",1.4,IF(G$14="Grass Silage (25% DM)",1.7,IF(G$14="Grass Silage (30%)",2.1,IF(G$14="Hay (86% DM)",5.9,IF(G$14="Maize",1.4,IF(G$14="Fodder beet",0.7,IF(G$14="Haylege (45% DM)",3.2,"0")))))))))))*G15 -> 54.4 | H17: =IF(H$14="Winter wheat/barley",8.4,IF(H$14="Spring wheat/barley",8.6,IF(H$14="Winter/spring oats",8.8, IF(H$14="Oilseed Rape",15.1,IF(H$14="Grass fresh (15%-20% DM)",1.4,IF(H$14="Grass Silage (25% DM)",1.7,IF(H$14="Grass Silage (30%)",2.1,IF(H$14="Hay (86% DM)",5.9,IF(H$14="Maize",1.4,IF(H$14="Fodder beet",0.7,IF(H$14="Haylege (45% DM)",3.2,"0")))))))))))*H15 -> 54.4 | I17: =IF(I$14="Winter wheat/barley",8.4,IF(I$14="Spring wheat/barley",8.6,IF(I$14="Winter/spring oats",8.8, IF(I$14="Oilseed Rape",15.1,IF(I$14="Grass fresh (15%-20% DM)",1.4,IF(I$14="Grass Silage (25% DM)",1.7,IF(I$14="Grass Silage (30%)",2.1,IF(I$14="Hay (86% DM)",5.9,IF(I$14="Maize",1.4,IF(I$14="Fodder beet",0.7,IF(I$14="Haylege (45% DM)",3.2,"0")))))))))))*I15 -> 79.9 | J17: =IF(J$14="Winter wheat/barley",8.4,IF(J$14="Spring wheat/barley",8.6,IF(J$14="Winter/spring oats",8.8, IF(J$14="Oilseed Rape",15.1,IF(J$14="Grass fresh (15%-20% DM)",1.4,IF(J$14="Grass Silage (25% DM)",1.7,IF(J$14="Grass Silage (30%)",2.1,IF(J$14="Hay (86% DM)",5.9,IF(J$14="Maize",1.4,IF(J$14="Fodder beet",0.7,IF(J$14="Haylege (45% DM)",3.2,"0")))))))))))*J15 -> 79.9 | ... V17: =IF(V$14="Winter wheat/barley",8.4,IF(V$14="Spring wheat/barley",8.6,IF(V$14="Winter/spring oats",8.8, IF(V$14="Oilseed Rape",15.1,IF(V$14="Grass fresh (15%-20% DM)",1.4,IF(V$14="Grass Silage (25% DM)",1.7,IF(V$14="Grass Silage (30%)",2.1,IF(V$14="Hay (86% DM)",5.9,IF(V$14="Maize",1.4,IF(V$14="Fodder beet",0.7,IF(V$14="Haylege (45% DM)",3.2,"0")))))))))))*V15 -> 0
A18: Phosphate Addition | C18: =$D27 -> 64.46874 | D18: =$D28 -> 116.65772 | E18: =$D29 -> 116.65772 | F18: =$D30 -> 116.65772 | G18: =$D31 -> 116.65772 | H18: =$D32 -> 116.65772 | I18: =$D33 -> 184.1964 | J18: =$D34 -> 184.1964 | K18: =$D35 -> 156.56694 | L18: =$D36 -> 184.1964 | M18: =$D37 -> 116.65772 | N18: =$D38 -> 156.56694 | O18: =$D39 -> 156.56694 | P18: =$D40 -> 0 | Q18: =$D41 -> 0 | R18: =$D42 -> 0 | S18: =$D43 -> 0 | T18: =$D44 -> 0 | U18: =$D45 -> 0 | V18: =$D46 -> 0
A19: Difference | C19: =C18-C17 -> -15.43126 | D19: =D18-D17 -> 62.25772 | E19: =E18-E17 -> 62.25772 | F19: =F18-F17 -> 62.25772 | G19: =G18-G17 -> 62.25772 | H19: =H18-H17 -> 62.25772 | I19: =I18-I17 -> 104.2964 | J19: =J18-J17 -> 104.2964 | ... V19: =V18-V17 -> 0
A20: Increase/decrease | C20: =IF($B27="","",IF(C$19>=0,"INCREASE","DECREASE")) -> DECREASE | D20: =IF($B28="","",IF(D$19>=0,"INCREASE","DECREASE")) -> INCREASE | E20: =IF($B29="","",IF(E$19>=0,"INCREASE","DECREASE")) -> INCREASE | F20: =IF($B30="","",IF(F$19>=0,"INCREASE","DECREASE")) -> INCREASE | G20: =IF($B31="","",IF(G$19>=0,"INCREASE","DECREASE")) -> INCREASE | H20: =IF($B32="","",IF(H$19>=0,"INCREASE","DECREASE")) -> INCREASE | I20: =IF($B33="","",IF(I$19>=0,"INCREASE","DECREASE")) -> INCREASE | J20: =IF($B34="","",IF(J$19>=0,"INCREASE","DECREASE")) -> INCREASE | K20: =IF($B35="","",IF(K$19>=0,"INCREASE","DECREASE")) -> INCREASE | L20: =IF($B36="","",IF(L$19>=0,"INCREASE","DECREASE")) -> INCREASE | M20: =IF($B37="","",IF(M$19>=0,"INCREASE","DECREASE")) -> INCREASE | N20: =IF($B38="","",IF(N$19>=0,"INCREASE","DECREASE")) -> INCREASE | O20: =IF($B39="","",IF(O$19>=0,"INCREASE","DECREASE")) -> INCREASE | P20: =IF($B40="","",IF(P$19>=0,"INCREASE","DECREASE")) | Q20: =IF($B41="","",IF(Q$19>=0,"INCREASE","DECREASE")) | R20: =IF($B42="","",IF(R$19>=0,"INCREASE","DECREASE")) | S20: =IF($B43="","",IF(S$19>=0,"INCREASE","DECREASE")) | T20: =IF($B44="","",IF(T$19>=0,"INCREASE","DECREASE")) | U20: =IF($B45="","",IF(U$19>=0,"INCREASE","DECREASE")) | V20: =IF($B46="","",IF(V$19>=0,"INCREASE","DECREASE"))
B22: Dry Matter | C22: Total Nitrogen | D22: Total Phosphorus (P) | E22: Total Potassium (K) | F22: Total Magnesium (Mg) | G22: Total Copper | H22: Total Zinc | I22: Total Lead | J22: Total Cadmium | K22: Total Mercury | L22: Total Nickel | M22: Total Chromium | N22: Total Aluminium | O22: Total Iron | P22: Total Na (Sodium) | Q22: Total Sulphur (S) | R22: Total Selenium | S22: Total Arsenic | T22: Total Mo | U22: Total Fluoride | V22: Conductivity µS/cm | W22: Fats & Oils (%)
B23: % | C23: %w/w SAR | D23: mg/kg SAR | E23: mg/kg SAR | F23: mg/kg SAR | G23: mg/kg SAR | H23: mg/kg SAR | I23: mg/kg SAR | J23: mg/kg SAR | K23: mg/kg SAR | L23: mg/kg SAR | M23: mg/kg SAR | N23: mg/kg SAR | O23: mg/kg SAR | P23: mg/kg SAR | Q23: mg/kg SAR | R23: mg/kg SAR | S23: mg/kg SAR | T23: mg/kg SAR | U23: mg/kg SAR
B24: 3.33 | C24: 0.22 | D24: 1340 | E24: 891 | F24: 95.4 | G24: 0.459 | H24: 3.18 | I24: 0.5 | J24: 0.01 | K24: 0.05 | L24: 0.237 | M24: 0.744 | P24: 544 | Q24: 216 | V24: 1497 | W24: 2.106
A25: Field Ref | B25: Application Rate | C25: Nitrogen Addition | D25: Phosphate Addition | E25: Potash Addition | F25: Mg Oxide Addition | G25: Copper Addition | H25: Zinc Addition | I25: Lead Addition | J25: Cadmium Addition | K25: Mercury Addition | L25: Nickel Addition | M25: Chromium Addition | N25: Aluminium Addition | O25: Iron Addition | P25: Sodium Addition | Q25: SO3 Addition kg/ha | R25: Selenium Addition | S25: Arsenic Addition | T25: Molybdenum Addition | U25: Fluoride Addition | V25: Conductivity (Acceptable level 5000µS/cm) | W25: Fats & Oils (Acceptable level 4%)
B26: tonnes/ha | C26: kg/ha | D26: P2O5 kg/ha | E26: K2O kg/ha | F26: MgO kg/ha | G26: kg/ha | H26: kg/ha | I26: kg/ha | J26: kg/ha | K26: kg/ha | L26: kg/ha | M26: kg/ha | N26: kg/ha | O26: kg/ha | P26: kg/ha | Q26: kg/ha | R26: kg/ha | S26: kg/ha | T26: kg/ha | U26: kg/ha
A27: =C8 -> 8087 | B27: 21 | C27: =IF(C$23="%w/w SAR",((C$24*10)*$B27),IF(C$23="%w/w DM",(((C$24*10)*($B$24/100))*$B27),IF(C$23="kg/t SAR",(C$24*$B27),IF(C$23="kg/t DM",((C$24*($B$24/100))*$B27),IF(C$23="mg/kg SAR",((C$24*0.001)*$B27),IF(C$23="mg/kg DM",(((C$24*0.001)*($B$24/100))*$B27),0)))))) -> 46.2 | D27: =(IF(D$23="%w/w SAR",((D$24*10)*$B27),IF(D$23="%w/w DM",(((D$24*10)*($B$24/100))*$B27),IF(D$23="kg/t SAR",(D$24*$B27),IF(D$23="kg/t DM",((D$24*($B$24/100))*$B27),IF(D$23="mg/kg SAR",((D$24*0.001)*$B27),IF(D$23="mg/kg DM",(((D$24*0.001)*($B$24/100))*$B27),"0")))))))*2.291 -> 64.46874 | E27: =(IF(E$23="%w/w SAR",((E$24*10)*$B27),IF(E$23="%w/w DM",(((E$24*10)*($B$24/100))*$B27),IF(E$23="kg/t SAR",(E$24*$B27),IF(E$23="kg/t DM",((E$24*($B$24/100))*$B27),IF(E$23="mg/kg SAR",((E$24*0.001)*$B27),IF(E$23="mg/kg DM",(((E$24*0.001)*($B$24/100))*$B27),"0")))))))*1.205 -> 22.546755 | F27: =(IF(F$23="%w/w SAR",((F$24*10)*$B27),IF(F$23="%w/w DM",(((F$24*10)*($B$24/100))*$B27),IF(F$23="kg/t SAR",(F$24*$B27),IF(F$23="kg/t DM",((F$24*($B$24/100))*$B27),IF(F$23="mg/kg SAR",((F$24*0.001)*$B27),IF(F$23="mg/kg DM",(((F$24*0.001)*($B$24/100))*$B27),"0")))))))*1.658 -> 3.3216372 | G27: =IF(G$23="%w/w SAR",((G$24*10)*$B27),IF(G$23="%w/w DM",(((G$24*10)*($B$24/100))*$B27),IF(G$23="kg/t SAR",(G$24*$B27),IF(G$23="kg/t DM",((G$24*($B$24/100))*$B27),IF(G$23="mg/kg SAR",((G$24*0.001)*$B27),IF(G$23="mg/kg DM",(((G$24*0.001)*($B$24/100))*$B27),0)))))) -> 0.009639 | H27: =IF(H$23="%w/w SAR",((H$24*10)*$B27),IF(H$23="%w/w DM",(((H$24*10)*($B$24/100))*$B27),IF(H$23="kg/t SAR",(H$24*$B27),IF(H$23="kg/t DM",((H$24*($B$24/100))*$B27),IF(H$23="mg/kg SAR",((H$24*0.001)*$B27),IF(H$23="mg/kg DM",(((H$24*0.001)*($B$24/100))*$B27),0)))))) -> 0.06678 | I27: =IF(I$23="%w/w SAR",((I$24*10)*$B27),IF(I$23="%w/w DM",(((I$24*10)*($B$24/100))*$B27),IF(I$23="kg/t SAR",(I$24*$B27),IF(I$23="kg/t DM",((I$24*($B$24/100))*$B27),IF(I$23="mg/kg SAR",((I$24*0.001)*$B27),IF(I$23="mg/kg DM",(((I$24*0.001)*($B$24/100))*$B27),0)))))) -> 0.0105 | J27: =IF(J$23="%w/w SAR",((J$24*10)*$B27),IF(J$23="%w/w DM",(((J$24*10)*($B$24/100))*$B27),IF(J$23="kg/t SAR",(J$24*$B27),IF(J$23="kg/t DM",((J$24*($B$24/100))*$B27),IF(J$23="mg/kg SAR",((J$24*0.001)*$B27),IF(J$23="mg/kg DM",(((J$24*0.001)*($B$24/100))*$B27),0)))))) -> 0.00021 | K27: =IF(K$23="%w/w SAR",((K$24*10)*$B27),IF(K$23="%w/w DM",(((K$24*10)*($B$24/100))*$B27),IF(K$23="kg/t SAR",(K$24*$B27),IF(K$23="kg/t DM",((K$24*($B$24/100))*$B27),IF(K$23="mg/kg SAR",((K$24*0.001)*$B27),IF(K$23="mg/kg DM",(((K$24*0.001)*($B$24/100))*$B27),0)))))) -> 0.00105 | L27: =IF(L$23="%w/w SAR",((L$24*10)*$B27),IF(L$23="%w/w DM",(((L$24*10)*($B$24/100))*$B27),IF(L$23="kg/t SAR",(L$24*$B27),IF(L$23="kg/t DM",((L$24*($B$24/100))*$B27),IF(L$23="mg/kg SAR",((L$24*0.001)*$B27),IF(L$23="mg/kg DM",(((L$24*0.001)*($B$24/100))*$B27),0)))))) -> 0.004977 | M27: =IF(M$23="%w/w SAR",((M$24*10)*$B27),IF(M$23="%w/w DM",(((M$24*10)*($B$24/100))*$B27),IF(M$23="kg/t SAR",(M$24*$B27),IF(M$23="kg/t DM",((M$24*($B$24/100))*$B27),IF(M$23="mg/kg SAR",((M$24*0.001)*$B27),IF(M$23="mg/kg DM",(((M$24*0.001)*($B$24/100))*$B27),0)))))) -> 0.015624 | N27: =IF(N$23="%w/w SAR",((N$24*10)*$B27),IF(N$23="%w/w DM",(((N$24*10)*($B$24/100))*$B27),IF(N$23="kg/t SAR",(N$24*$B27),IF(N$23="kg/t DM",((N$24*($B$24/100))*$B27),IF(N$23="mg/kg SAR",((N$24*0.001)*$B27),IF(N$23="mg/kg DM",(((N$24*0.001)*($B$24/100))*$B27),0)))))) -> 0 | ... P27: =IF(P$23="%w/w SAR",((P$24*10)*$B27),IF(P$23="%w/w DM",(((P$24*10)*($B$24/100))*$B27),IF(P$23="kg/t SAR",(P$24*$B27),IF(P$23="kg/t DM",((P$24*($B$24/100))*$B27),IF(P$23="mg/kg SAR",((P$24*0.001)*$B27),IF(P$23="mg/kg DM",(((P$24*0.001)*($B$24/100))*$B27),0)))))) -> 11.424 | Q27: =(IF(Q$23="%w/w SAR",((Q$24*10)*$B27),IF(Q$23="%w/w DM",(((Q$24*10)*($B$24/100))*$B27),IF(Q$23="kg/t SAR",(Q$24*$B27),IF(Q$23="kg/t DM",((Q$24*($B$24/100))*$B27),IF(Q$23="mg/kg SAR",((Q$24*0.001)*$B27),IF(Q$23="mg/kg DM",(((Q$24*0.001)*($B$24/100))*$B27),0)))))))*2.5 -> 11.34 | R27: =IF(R$23="%w/w SAR",((R$24*10)*$B27),IF(R$23="%w/w DM",(((R$24*10)*($B$24/100))*$B27),IF(R$23="kg/t SAR",(R$24*$B27),IF(R$23="kg/t DM",((R$24*($B$24/100))*$B27),IF(R$23="mg/kg SAR",((R$24*0.001)*$B27),IF(R$23="mg/kg DM",(((R$24*0.001)*($B$24/100))*$B27),0)))))) -> 0 | S27: =IF(S$23="%w/w SAR",((S$24*10)*$B27),IF(S$23="%w/w DM",(((S$24*10)*($B$24/100))*$B27),IF(S$23="kg/t SAR",(S$24*$B27),IF(S$23="kg/t DM",((S$24*($B$24/100))*$B27),IF(S$23="mg/kg SAR",((S$24*0.001)*$B27),IF(S$23="mg/kg DM",(((S$24*0.001)*($B$24/100))*$B27),0)))))) -> 0 | T27: =IF(T$23="%w/w SAR",((T$24*10)*$B27),IF(T$23="%w/w DM",(((T$24*10)*($B$24/100))*$B27),IF(T$23="kg/t SAR",(T$24*$B27),IF(T$23="kg/t DM",((T$24*($B$24/100))*$B27),IF(T$23="mg/kg SAR",((T$24*0.001)*$B27),IF(T$23="mg/kg DM",(((T$24*0.001)*($B$24/100))*$B27),0)))))) -> 0 | U27: =IF(U$23="%w/w SAR",((U$24*10)*$B27),IF(U$23="%w/w DM",(((U$24*10)*($B$24/100))*$B27),IF(U$23="kg/t SAR",(U$24*$B27),IF(U$23="kg/t DM",((U$24*($B$24/100))*$B27),IF(U$23="mg/kg SAR",((U$24*0.001)*$B27),IF(U$23="mg/kg DM",(((U$24*0.001)*($B$24/100))*$B27),0)))))) -> 0 | V27: =IF($V$24="",0,IF($V$24>5000,"NOT OK","OK")) -> OK | W27: =IF($W$24="",0,IF($W$24>4,"Not OK","OK")) -> OK
A28: =D8 -> 9792 | B28: 38 | C28: =IF(C$23="%w/w SAR",((C$24*10)*$B28),IF(C$23="%w/w DM",(((C$24*10)*($B$24/100))*$B28),IF(C$23="kg/t SAR",(C$24*$B28),IF(C$23="kg/t DM",((C$24*($B$24/100))*$B28),IF(C$23="mg/kg SAR",((C$24*0.001)*$B28),IF(C$23="mg/kg DM",(((C$24*0.001)*($B$24/100))*$B28),0)))))) -> 83.6 | D28: =(IF(D$23="%w/w SAR",((D$24*10)*$B28),IF(D$23="%w/w DM",(((D$24*10)*($B$24/100))*$B28),IF(D$23="kg/t SAR",(D$24*$B28),IF(D$23="kg/t DM",((D$24*($B$24/100))*$B28),IF(D$23="mg/kg SAR",((D$24*0.001)*$B28),IF(D$23="mg/kg DM",(((D$24*0.001)*($B$24/100))*$B28),"0")))))))*2.291 -> 116.65772 | E28: =(IF(E$23="%w/w SAR",((E$24*10)*$B28),IF(E$23="%w/w DM",(((E$24*10)*($B$24/100))*$B28),IF(E$23="kg/t SAR",(E$24*$B28),IF(E$23="kg/t DM",((E$24*($B$24/100))*$B28),IF(E$23="mg/kg SAR",((E$24*0.001)*$B28),IF(E$23="mg/kg DM",(((E$24*0.001)*($B$24/100))*$B28),"0")))))))*1.205 -> 40.79889 | F28: =(IF(F$23="%w/w SAR",((F$24*10)*$B28),IF(F$23="%w/w DM",(((F$24*10)*($B$24/100))*$B28),IF(F$23="kg/t SAR",(F$24*$B28),IF(F$23="kg/t DM",((F$24*($B$24/100))*$B28),IF(F$23="mg/kg SAR",((F$24*0.001)*$B28),IF(F$23="mg/kg DM",(((F$24*0.001)*($B$24/100))*$B28),"0")))))))*1.658 -> 6.0105816 | G28: =IF(G$23="%w/w SAR",((G$24*10)*$B28),IF(G$23="%w/w DM",(((G$24*10)*($B$24/100))*$B28),IF(G$23="kg/t SAR",(G$24*$B28),IF(G$23="kg/t DM",((G$24*($B$24/100))*$B28),IF(G$23="mg/kg SAR",((G$24*0.001)*$B28),IF(G$23="mg/kg DM",(((G$24*0.001)*($B$24/100))*$B28),0)))))) -> 0.017442 | H28: =IF(H$23="%w/w SAR",((H$24*10)*$B28),IF(H$23="%w/w DM",(((H$24*10)*($B$24/100))*$B28),IF(H$23="kg/t SAR",(H$24*$B28),IF(H$23="kg/t DM",((H$24*($B$24/100))*$B28),IF(H$23="mg/kg SAR",((H$24*0.001)*$B28),IF(H$23="mg/kg DM",(((H$24*0.001)*($B$24/100))*$B28),0)))))) -> 0.12084 | I28: =IF(I$23="%w/w SAR",((I$24*10)*$B28),IF(I$23="%w/w DM",(((I$24*10)*($B$24/100))*$B28),IF(I$23="kg/t SAR",(I$24*$B28),IF(I$23="kg/t DM",((I$24*($B$24/100))*$B28),IF(I$23="mg/kg SAR",((I$24*0.001)*$B28),IF(I$23="mg/kg DM",(((I$24*0.001)*($B$24/100))*$B28),0)))))) -> 0.019 | J28: =IF(J$23="%w/w SAR",((J$24*10)*$B28),IF(J$23="%w/w DM",(((J$24*10)*($B$24/100))*$B28),IF(J$23="kg/t SAR",(J$24*$B28),IF(J$23="kg/t DM",((J$24*($B$24/100))*$B28),IF(J$23="mg/kg SAR",((J$24*0.001)*$B28),IF(J$23="mg/kg DM",(((J$24*0.001)*($B$24/100))*$B28),0)))))) -> 0.00038 | K28: =IF(K$23="%w/w SAR",((K$24*10)*$B28),IF(K$23="%w/w DM",(((K$24*10)*($B$24/100))*$B28),IF(K$23="kg/t SAR",(K$24*$B28),IF(K$23="kg/t DM",((K$24*($B$24/100))*$B28),IF(K$23="mg/kg SAR",((K$24*0.001)*$B28),IF(K$23="mg/kg DM",(((K$24*0.001)*($B$24/100))*$B28),0)))))) -> 0.0019 | L28: =IF(L$23="%w/w SAR",((L$24*10)*$B28),IF(L$23="%w/w DM",(((L$24*10)*($B$24/100))*$B28),IF(L$23="kg/t SAR",(L$24*$B28),IF(L$23="kg/t DM",((L$24*($B$24/100))*$B28),IF(L$23="mg/kg SAR",((L$24*0.001)*$B28),IF(L$23="mg/kg DM",(((L$24*0.001)*($B$24/100))*$B28),0)))))) -> 0.009006 | M28: =IF(M$23="%w/w SAR",((M$24*10)*$B28),IF(M$23="%w/w DM",(((M$24*10)*($B$24/100))*$B28),IF(M$23="kg/t SAR",(M$24*$B28),IF(M$23="kg/t DM",((M$24*($B$24/100))*$B28),IF(M$23="mg/kg SAR",((M$24*0.001)*$B28),IF(M$23="mg/kg DM",(((M$24*0.001)*($B$24/100))*$B28),0)))))) -> 0.028272 | N28: =IF(N$23="%w/w SAR",((N$24*10)*$B28),IF(N$23="%w/w DM",(((N$24*10)*($B$24/100))*$B28),IF(N$23="kg/t SAR",(N$24*$B28),IF(N$23="kg/t DM",((N$24*($B$24/100))*$B28),IF(N$23="mg/kg SAR",((N$24*0.001)*$B28),IF(N$23="mg/kg DM",(((N$24*0.001)*($B$24/100))*$B28),0)))))) -> 0 | ... P28: =IF(P$23="%w/w SAR",((P$24*10)*$B28),IF(P$23="%w/w DM",(((P$24*10)*($B$24/100))*$B28),IF(P$23="kg/t SAR",(P$24*$B28),IF(P$23="kg/t DM",((P$24*($B$24/100))*$B28),IF(P$23="mg/kg SAR",((P$24*0.001)*$B28),IF(P$23="mg/kg DM",(((P$24*0.001)*($B$24/100))*$B28),0)))))) -> 20.672 | Q28: =(IF(Q$23="%w/w SAR",((Q$24*10)*$B28),IF(Q$23="%w/w DM",(((Q$24*10)*($B$24/100))*$B28),IF(Q$23="kg/t SAR",(Q$24*$B28),IF(Q$23="kg/t DM",((Q$24*($B$24/100))*$B28),IF(Q$23="mg/kg SAR",((Q$24*0.001)*$B28),IF(Q$23="mg/kg DM",(((Q$24*0.001)*($B$24/100))*$B28),0)))))))*2.5 -> 20.52 | R28: =IF(R$23="%w/w SAR",((R$24*10)*$B28),IF(R$23="%w/w DM",(((R$24*10)*($B$24/100))*$B28),IF(R$23="kg/t SAR",(R$24*$B28),IF(R$23="kg/t DM",((R$24*($B$24/100))*$B28),IF(R$23="mg/kg SAR",((R$24*0.001)*$B28),IF(R$23="mg/kg DM",(((R$24*0.001)*($B$24/100))*$B28),0)))))) -> 0 | S28: =IF(S$23="%w/w SAR",((S$24*10)*$B28),IF(S$23="%w/w DM",(((S$24*10)*($B$24/100))*$B28),IF(S$23="kg/t SAR",(S$24*$B28),IF(S$23="kg/t DM",((S$24*($B$24/100))*$B28),IF(S$23="mg/kg SAR",((S$24*0.001)*$B28),IF(S$23="mg/kg DM",(((S$24*0.001)*($B$24/100))*$B28),0)))))) -> 0 | T28: =IF(T$23="%w/w SAR",((T$24*10)*$B28),IF(T$23="%w/w DM",(((T$24*10)*($B$24/100))*$B28),IF(T$23="kg/t SAR",(T$24*$B28),IF(T$23="kg/t DM",((T$24*($B$24/100))*$B28),IF(T$23="mg/kg SAR",((T$24*0.001)*$B28),IF(T$23="mg/kg DM",(((T$24*0.001)*($B$24/100))*$B28),0)))))) -> 0 | U28: =IF(U$23="%w/w SAR",((U$24*10)*$B28),IF(U$23="%w/w DM",(((U$24*10)*($B$24/100))*$B28),IF(U$23="kg/t SAR",(U$24*$B28),IF(U$23="kg/t DM",((U$24*($B$24/100))*$B28),IF(U$23="mg/kg SAR",((U$24*0.001)*$B28),IF(U$23="mg/kg DM",(((U$24*0.001)*($B$24/100))*$B28),0)))))) -> 0 | V28: =IF($V$24="",0,IF($V$24>5000,"NOT OK","OK")) -> OK | W28: =IF($W$24="",0,IF($W$24>4,"Not OK","OK")) -> OK
A29: =E8 -> 1188 | B29: 38 | C29: =IF(C$23="%w/w SAR",((C$24*10)*$B29),IF(C$23="%w/w DM",(((C$24*10)*($B$24/100))*$B29),IF(C$23="kg/t SAR",(C$24*$B29),IF(C$23="kg/t DM",((C$24*($B$24/100))*$B29),IF(C$23="mg/kg SAR",((C$24*0.001)*$B29),IF(C$23="mg/kg DM",(((C$24*0.001)*($B$24/100))*$B29),0)))))) -> 83.6 | D29: =(IF(D$23="%w/w SAR",((D$24*10)*$B29),IF(D$23="%w/w DM",(((D$24*10)*($B$24/100))*$B29),IF(D$23="kg/t SAR",(D$24*$B29),IF(D$23="kg/t DM",((D$24*($B$24/100))*$B29),IF(D$23="mg/kg SAR",((D$24*0.001)*$B29),IF(D$23="mg/kg DM",(((D$24*0.001)*($B$24/100))*$B29),"0")))))))*2.291 -> 116.65772 | E29: =(IF(E$23="%w/w SAR",((E$24*10)*$B29),IF(E$23="%w/w DM",(((E$24*10)*($B$24/100))*$B29),IF(E$23="kg/t SAR",(E$24*$B29),IF(E$23="kg/t DM",((E$24*($B$24/100))*$B29),IF(E$23="mg/kg SAR",((E$24*0.001)*$B29),IF(E$23="mg/kg DM",(((E$24*0.001)*($B$24/100))*$B29),"0")))))))*1.205 -> 40.79889 | F29: =(IF(F$23="%w/w SAR",((F$24*10)*$B29),IF(F$23="%w/w DM",(((F$24*10)*($B$24/100))*$B29),IF(F$23="kg/t SAR",(F$24*$B29),IF(F$23="kg/t DM",((F$24*($B$24/100))*$B29),IF(F$23="mg/kg SAR",((F$24*0.001)*$B29),IF(F$23="mg/kg DM",(((F$24*0.001)*($B$24/100))*$B29),"0")))))))*1.658 -> 6.0105816 | G29: =IF(G$23="%w/w SAR",((G$24*10)*$B29),IF(G$23="%w/w DM",(((G$24*10)*($B$24/100))*$B29),IF(G$23="kg/t SAR",(G$24*$B29),IF(G$23="kg/t DM",((G$24*($B$24/100))*$B29),IF(G$23="mg/kg SAR",((G$24*0.001)*$B29),IF(G$23="mg/kg DM",(((G$24*0.001)*($B$24/100))*$B29),0)))))) -> 0.017442 | H29: =IF(H$23="%w/w SAR",((H$24*10)*$B29),IF(H$23="%w/w DM",(((H$24*10)*($B$24/100))*$B29),IF(H$23="kg/t SAR",(H$24*$B29),IF(H$23="kg/t DM",((H$24*($B$24/100))*$B29),IF(H$23="mg/kg SAR",((H$24*0.001)*$B29),IF(H$23="mg/kg DM",(((H$24*0.001)*($B$24/100))*$B29),0)))))) -> 0.12084 | I29: =IF(I$23="%w/w SAR",((I$24*10)*$B29),IF(I$23="%w/w DM",(((I$24*10)*($B$24/100))*$B29),IF(I$23="kg/t SAR",(I$24*$B29),IF(I$23="kg/t DM",((I$24*($B$24/100))*$B29),IF(I$23="mg/kg SAR",((I$24*0.001)*$B29),IF(I$23="mg/kg DM",(((I$24*0.001)*($B$24/100))*$B29),0)))))) -> 0.019 | J29: =IF(J$23="%w/w SAR",((J$24*10)*$B29),IF(J$23="%w/w DM",(((J$24*10)*($B$24/100))*$B29),IF(J$23="kg/t SAR",(J$24*$B29),IF(J$23="kg/t DM",((J$24*($B$24/100))*$B29),IF(J$23="mg/kg SAR",((J$24*0.001)*$B29),IF(J$23="mg/kg DM",(((J$24*0.001)*($B$24/100))*$B29),0)))))) -> 0.00038 | K29: =IF(K$23="%w/w SAR",((K$24*10)*$B29),IF(K$23="%w/w DM",(((K$24*10)*($B$24/100))*$B29),IF(K$23="kg/t SAR",(K$24*$B29),IF(K$23="kg/t DM",((K$24*($B$24/100))*$B29),IF(K$23="mg/kg SAR",((K$24*0.001)*$B29),IF(K$23="mg/kg DM",(((K$24*0.001)*($B$24/100))*$B29),0)))))) -> 0.0019 | L29: =IF(L$23="%w/w SAR",((L$24*10)*$B29),IF(L$23="%w/w DM",(((L$24*10)*($B$24/100))*$B29),IF(L$23="kg/t SAR",(L$24*$B29),IF(L$23="kg/t DM",((L$24*($B$24/100))*$B29),IF(L$23="mg/kg SAR",((L$24*0.001)*$B29),IF(L$23="mg/kg DM",(((L$24*0.001)*($B$24/100))*$B29),0)))))) -> 0.009006 | M29: =IF(M$23="%w/w SAR",((M$24*10)*$B29),IF(M$23="%w/w DM",(((M$24*10)*($B$24/100))*$B29),IF(M$23="kg/t SAR",(M$24*$B29),IF(M$23="kg/t DM",((M$24*($B$24/100))*$B29),IF(M$23="mg/kg SAR",((M$24*0.001)*$B29),IF(M$23="mg/kg DM",(((M$24*0.001)*($B$24/100))*$B29),0)))))) -> 0.028272 | N29: =IF(N$23="%w/w SAR",((N$24*10)*$B29),IF(N$23="%w/w DM",(((N$24*10)*($B$24/100))*$B29),IF(N$23="kg/t SAR",(N$24*$B29),IF(N$23="kg/t DM",((N$24*($B$24/100))*$B29),IF(N$23="mg/kg SAR",((N$24*0.001)*$B29),IF(N$23="mg/kg DM",(((N$24*0.001)*($B$24/100))*$B29),0)))))) -> 0 | ... P29: =IF(P$23="%w/w SAR",((P$24*10)*$B29),IF(P$23="%w/w DM",(((P$24*10)*($B$24/100))*$B29),IF(P$23="kg/t SAR",(P$24*$B29),IF(P$23="kg/t DM",((P$24*($B$24/100))*$B29),IF(P$23="mg/kg SAR",((P$24*0.001)*$B29),IF(P$23="mg/kg DM",(((P$24*0.001)*($B$24/100))*$B29),0)))))) -> 20.672 | Q29: =(IF(Q$23="%w/w SAR",((Q$24*10)*$B29),IF(Q$23="%w/w DM",(((Q$24*10)*($B$24/100))*$B29),IF(Q$23="kg/t SAR",(Q$24*$B29),IF(Q$23="kg/t DM",((Q$24*($B$24/100))*$B29),IF(Q$23="mg/kg SAR",((Q$24*0.001)*$B29),IF(Q$23="mg/kg DM",(((Q$24*0.001)*($B$24/100))*$B29),0)))))))*2.5 -> 20.52 | R29: =IF(R$23="%w/w SAR",((R$24*10)*$B29),IF(R$23="%w/w DM",(((R$24*10)*($B$24/100))*$B29),IF(R$23="kg/t SAR",(R$24*$B29),IF(R$23="kg/t DM",((R$24*($B$24/100))*$B29),IF(R$23="mg/kg SAR",((R$24*0.001)*$B29),IF(R$23="mg/kg DM",(((R$24*0.001)*($B$24/100))*$B29),0)))))) -> 0 | S29: =IF(S$23="%w/w SAR",((S$24*10)*$B29),IF(S$23="%w/w DM",(((S$24*10)*($B$24/100))*$B29),IF(S$23="kg/t SAR",(S$24*$B29),IF(S$23="kg/t DM",((S$24*($B$24/100))*$B29),IF(S$23="mg/kg SAR",((S$24*0.001)*$B29),IF(S$23="mg/kg DM",(((S$24*0.001)*($B$24/100))*$B29),0)))))) -> 0 | T29: =IF(T$23="%w/w SAR",((T$24*10)*$B29),IF(T$23="%w/w DM",(((T$24*10)*($B$24/100))*$B29),IF(T$23="kg/t SAR",(T$24*$B29),IF(T$23="kg/t DM",((T$24*($B$24/100))*$B29),IF(T$23="mg/kg SAR",((T$24*0.001)*$B29),IF(T$23="mg/kg DM",(((T$24*0.001)*($B$24/100))*$B29),0)))))) -> 0 | U29: =IF(U$23="%w/w SAR",((U$24*10)*$B29),IF(U$23="%w/w DM",(((U$24*10)*($B$24/100))*$B29),IF(U$23="kg/t SAR",(U$24*$B29),IF(U$23="kg/t DM",((U$24*($B$24/100))*$B29),IF(U$23="mg/kg SAR",((U$24*0.001)*$B29),IF(U$23="mg/kg DM",(((U$24*0.001)*($B$24/100))*$B29),0)))))) -> 0 | V29: =IF($V$24="",0,IF($V$24>5000,"NOT OK","OK")) -> OK | W29: =IF($W$24="",0,IF($W$24>4,"Not OK","OK")) -> OK
A30: =F8 -> 8262 | B30: 38 | C30: =IF(C$23="%w/w SAR",((C$24*10)*$B30),IF(C$23="%w/w DM",(((C$24*10)*($B$24/100))*$B30),IF(C$23="kg/t SAR",(C$24*$B30),IF(C$23="kg/t DM",((C$24*($B$24/100))*$B30),IF(C$23="mg/kg SAR",((C$24*0.001)*$B30),IF(C$23="mg/kg DM",(((C$24*0.001)*($B$24/100))*$B30),0)))))) -> 83.6 | D30: =(IF(D$23="%w/w SAR",((D$24*10)*$B30),IF(D$23="%w/w DM",(((D$24*10)*($B$24/100))*$B30),IF(D$23="kg/t SAR",(D$24*$B30),IF(D$23="kg/t DM",((D$24*($B$24/100))*$B30),IF(D$23="mg/kg SAR",((D$24*0.001)*$B30),IF(D$23="mg/kg DM",(((D$24*0.001)*($B$24/100))*$B30),"0")))))))*2.291 -> 116.65772 | E30: =(IF(E$23="%w/w SAR",((E$24*10)*$B30),IF(E$23="%w/w DM",(((E$24*10)*($B$24/100))*$B30),IF(E$23="kg/t SAR",(E$24*$B30),IF(E$23="kg/t DM",((E$24*($B$24/100))*$B30),IF(E$23="mg/kg SAR",((E$24*0.001)*$B30),IF(E$23="mg/kg DM",(((E$24*0.001)*($B$24/100))*$B30),"0")))))))*1.205 -> 40.79889 | F30: =(IF(F$23="%w/w SAR",((F$24*10)*$B30),IF(F$23="%w/w DM",(((F$24*10)*($B$24/100))*$B30),IF(F$23="kg/t SAR",(F$24*$B30),IF(F$23="kg/t DM",((F$24*($B$24/100))*$B30),IF(F$23="mg/kg SAR",((F$24*0.001)*$B30),IF(F$23="mg/kg DM",(((F$24*0.001)*($B$24/100))*$B30),"0")))))))*1.658 -> 6.0105816 | G30: =IF(G$23="%w/w SAR",((G$24*10)*$B30),IF(G$23="%w/w DM",(((G$24*10)*($B$24/100))*$B30),IF(G$23="kg/t SAR",(G$24*$B30),IF(G$23="kg/t DM",((G$24*($B$24/100))*$B30),IF(G$23="mg/kg SAR",((G$24*0.001)*$B30),IF(G$23="mg/kg DM",(((G$24*0.001)*($B$24/100))*$B30),0)))))) -> 0.017442 | H30: =IF(H$23="%w/w SAR",((H$24*10)*$B30),IF(H$23="%w/w DM",(((H$24*10)*($B$24/100))*$B30),IF(H$23="kg/t SAR",(H$24*$B30),IF(H$23="kg/t DM",((H$24*($B$24/100))*$B30),IF(H$23="mg/kg SAR",((H$24*0.001)*$B30),IF(H$23="mg/kg DM",(((H$24*0.001)*($B$24/100))*$B30),0)))))) -> 0.12084 | I30: =IF(I$23="%w/w SAR",((I$24*10)*$B30),IF(I$23="%w/w DM",(((I$24*10)*($B$24/100))*$B30),IF(I$23="kg/t SAR",(I$24*$B30),IF(I$23="kg/t DM",((I$24*($B$24/100))*$B30),IF(I$23="mg/kg SAR",((I$24*0.001)*$B30),IF(I$23="mg/kg DM",(((I$24*0.001)*($B$24/100))*$B30),0)))))) -> 0.019 | J30: =IF(J$23="%w/w SAR",((J$24*10)*$B30),IF(J$23="%w/w DM",(((J$24*10)*($B$24/100))*$B30),IF(J$23="kg/t SAR",(J$24*$B30),IF(J$23="kg/t DM",((J$24*($B$24/100))*$B30),IF(J$23="mg/kg SAR",((J$24*0.001)*$B30),IF(J$23="mg/kg DM",(((J$24*0.001)*($B$24/100))*$B30),0)))))) -> 0.00038 | K30: =IF(K$23="%w/w SAR",((K$24*10)*$B30),IF(K$23="%w/w DM",(((K$24*10)*($B$24/100))*$B30),IF(K$23="kg/t SAR",(K$24*$B30),IF(K$23="kg/t DM",((K$24*($B$24/100))*$B30),IF(K$23="mg/kg SAR",((K$24*0.001)*$B30),IF(K$23="mg/kg DM",(((K$24*0.001)*($B$24/100))*$B30),0)))))) -> 0.0019 | L30: =IF(L$23="%w/w SAR",((L$24*10)*$B30),IF(L$23="%w/w DM",(((L$24*10)*($B$24/100))*$B30),IF(L$23="kg/t SAR",(L$24*$B30),IF(L$23="kg/t DM",((L$24*($B$24/100))*$B30),IF(L$23="mg/kg SAR",((L$24*0.001)*$B30),IF(L$23="mg/kg DM",(((L$24*0.001)*($B$24/100))*$B30),0)))))) -> 0.009006 | M30: =IF(M$23="%w/w SAR",((M$24*10)*$B30),IF(M$23="%w/w DM",(((M$24*10)*($B$24/100))*$B30),IF(M$23="kg/t SAR",(M$24*$B30),IF(M$23="kg/t DM",((M$24*($B$24/100))*$B30),IF(M$23="mg/kg SAR",((M$24*0.001)*$B30),IF(M$23="mg/kg DM",(((M$24*0.001)*($B$24/100))*$B30),0)))))) -> 0.028272 | N30: =IF(N$23="%w/w SAR",((N$24*10)*$B30),IF(N$23="%w/w DM",(((N$24*10)*($B$24/100))*$B30),IF(N$23="kg/t SAR",(N$24*$B30),IF(N$23="kg/t DM",((N$24*($B$24/100))*$B30),IF(N$23="mg/kg SAR",((N$24*0.001)*$B30),IF(N$23="mg/kg DM",(((N$24*0.001)*($B$24/100))*$B30),0)))))) -> 0 | ... P30: =IF(P$23="%w/w SAR",((P$24*10)*$B30),IF(P$23="%w/w DM",(((P$24*10)*($B$24/100))*$B30),IF(P$23="kg/t SAR",(P$24*$B30),IF(P$23="kg/t DM",((P$24*($B$24/100))*$B30),IF(P$23="mg/kg SAR",((P$24*0.001)*$B30),IF(P$23="mg/kg DM",(((P$24*0.001)*($B$24/100))*$B30),0)))))) -> 20.672 | Q30: =(IF(Q$23="%w/w SAR",((Q$24*10)*$B30),IF(Q$23="%w/w DM",(((Q$24*10)*($B$24/100))*$B30),IF(Q$23="kg/t SAR",(Q$24*$B30),IF(Q$23="kg/t DM",((Q$24*($B$24/100))*$B30),IF(Q$23="mg/kg SAR",((Q$24*0.001)*$B30),IF(Q$23="mg/kg DM",(((Q$24*0.001)*($B$24/100))*$B30),0)))))))*2.5 -> 20.52 | R30: =IF(R$23="%w/w SAR",((R$24*10)*$B30),IF(R$23="%w/w DM",(((R$24*10)*($B$24/100))*$B30),IF(R$23="kg/t SAR",(R$24*$B30),IF(R$23="kg/t DM",((R$24*($B$24/100))*$B30),IF(R$23="mg/kg SAR",((R$24*0.001)*$B30),IF(R$23="mg/kg DM",(((R$24*0.001)*($B$24/100))*$B30),0)))))) -> 0 | S30: =IF(S$23="%w/w SAR",((S$24*10)*$B30),IF(S$23="%w/w DM",(((S$24*10)*($B$24/100))*$B30),IF(S$23="kg/t SAR",(S$24*$B30),IF(S$23="kg/t DM",((S$24*($B$24/100))*$B30),IF(S$23="mg/kg SAR",((S$24*0.001)*$B30),IF(S$23="mg/kg DM",(((S$24*0.001)*($B$24/100))*$B30),0)))))) -> 0 | T30: =IF(T$23="%w/w SAR",((T$24*10)*$B30),IF(T$23="%w/w DM",(((T$24*10)*($B$24/100))*$B30),IF(T$23="kg/t SAR",(T$24*$B30),IF(T$23="kg/t DM",((T$24*($B$24/100))*$B30),IF(T$23="mg/kg SAR",((T$24*0.001)*$B30),IF(T$23="mg/kg DM",(((T$24*0.001)*($B$24/100))*$B30),0)))))) -> 0 | U30: =IF(U$23="%w/w SAR",((U$24*10)*$B30),IF(U$23="%w/w DM",(((U$24*10)*($B$24/100))*$B30),IF(U$23="kg/t SAR",(U$24*$B30),IF(U$23="kg/t DM",((U$24*($B$24/100))*$B30),IF(U$23="mg/kg SAR",((U$24*0.001)*$B30),IF(U$23="mg/kg DM",(((U$24*0.001)*($B$24/100))*$B30),0)))))) -> 0 | V30: =IF($V$24="",0,IF($V$24>5000,"NOT OK","OK")) -> OK | W30: =IF($W$24="",0,IF($W$24>4,"Not OK","OK")) -> OK
A31: =G8 -> 165 | B31: 38 | C31: =IF(C$23="%w/w SAR",((C$24*10)*$B31),IF(C$23="%w/w DM",(((C$24*10)*($B$24/100))*$B31),IF(C$23="kg/t SAR",(C$24*$B31),IF(C$23="kg/t DM",((C$24*($B$24/100))*$B31),IF(C$23="mg/kg SAR",((C$24*0.001)*$B31),IF(C$23="mg/kg DM",(((C$24*0.001)*($B$24/100))*$B31),0)))))) -> 83.6 | D31: =(IF(D$23="%w/w SAR",((D$24*10)*$B31),IF(D$23="%w/w DM",(((D$24*10)*($B$24/100))*$B31),IF(D$23="kg/t SAR",(D$24*$B31),IF(D$23="kg/t DM",((D$24*($B$24/100))*$B31),IF(D$23="mg/kg SAR",((D$24*0.001)*$B31),IF(D$23="mg/kg DM",(((D$24*0.001)*($B$24/100))*$B31),"0")))))))*2.291 -> 116.65772 | E31: =(IF(E$23="%w/w SAR",((E$24*10)*$B31),IF(E$23="%w/w DM",(((E$24*10)*($B$24/100))*$B31),IF(E$23="kg/t SAR",(E$24*$B31),IF(E$23="kg/t DM",((E$24*($B$24/100))*$B31),IF(E$23="mg/kg SAR",((E$24*0.001)*$B31),IF(E$23="mg/kg DM",(((E$24*0.001)*($B$24/100))*$B31),"0")))))))*1.205 -> 40.79889 | F31: =(IF(F$23="%w/w SAR",((F$24*10)*$B31),IF(F$23="%w/w DM",(((F$24*10)*($B$24/100))*$B31),IF(F$23="kg/t SAR",(F$24*$B31),IF(F$23="kg/t DM",((F$24*($B$24/100))*$B31),IF(F$23="mg/kg SAR",((F$24*0.001)*$B31),IF(F$23="mg/kg DM",(((F$24*0.001)*($B$24/100))*$B31),"0")))))))*1.658 -> 6.0105816 | G31: =IF(G$23="%w/w SAR",((G$24*10)*$B31),IF(G$23="%w/w DM",(((G$24*10)*($B$24/100))*$B31),IF(G$23="kg/t SAR",(G$24*$B31),IF(G$23="kg/t DM",((G$24*($B$24/100))*$B31),IF(G$23="mg/kg SAR",((G$24*0.001)*$B31),IF(G$23="mg/kg DM",(((G$24*0.001)*($B$24/100))*$B31),0)))))) -> 0.017442 | H31: =IF(H$23="%w/w SAR",((H$24*10)*$B31),IF(H$23="%w/w DM",(((H$24*10)*($B$24/100))*$B31),IF(H$23="kg/t SAR",(H$24*$B31),IF(H$23="kg/t DM",((H$24*($B$24/100))*$B31),IF(H$23="mg/kg SAR",((H$24*0.001)*$B31),IF(H$23="mg/kg DM",(((H$24*0.001)*($B$24/100))*$B31),0)))))) -> 0.12084 | I31: =IF(I$23="%w/w SAR",((I$24*10)*$B31),IF(I$23="%w/w DM",(((I$24*10)*($B$24/100))*$B31),IF(I$23="kg/t SAR",(I$24*$B31),IF(I$23="kg/t DM",((I$24*($B$24/100))*$B31),IF(I$23="mg/kg SAR",((I$24*0.001)*$B31),IF(I$23="mg/kg DM",(((I$24*0.001)*($B$24/100))*$B31),0)))))) -> 0.019 | J31: =IF(J$23="%w/w SAR",((J$24*10)*$B31),IF(J$23="%w/w DM",(((J$24*10)*($B$24/100))*$B31),IF(J$23="kg/t SAR",(J$24*$B31),IF(J$23="kg/t DM",((J$24*($B$24/100))*$B31),IF(J$23="mg/kg SAR",((J$24*0.001)*$B31),IF(J$23="mg/kg DM",(((J$24*0.001)*($B$24/100))*$B31),0)))))) -> 0.00038 | K31: =IF(K$23="%w/w SAR",((K$24*10)*$B31),IF(K$23="%w/w DM",(((K$24*10)*($B$24/100))*$B31),IF(K$23="kg/t SAR",(K$24*$B31),IF(K$23="kg/t DM",((K$24*($B$24/100))*$B31),IF(K$23="mg/kg SAR",((K$24*0.001)*$B31),IF(K$23="mg/kg DM",(((K$24*0.001)*($B$24/100))*$B31),0)))))) -> 0.0019 | L31: =IF(L$23="%w/w SAR",((L$24*10)*$B31),IF(L$23="%w/w DM",(((L$24*10)*($B$24/100))*$B31),IF(L$23="kg/t SAR",(L$24*$B31),IF(L$23="kg/t DM",((L$24*($B$24/100))*$B31),IF(L$23="mg/kg SAR",((L$24*0.001)*$B31),IF(L$23="mg/kg DM",(((L$24*0.001)*($B$24/100))*$B31),0)))))) -> 0.009006 | M31: =IF(M$23="%w/w SAR",((M$24*10)*$B31),IF(M$23="%w/w DM",(((M$24*10)*($B$24/100))*$B31),IF(M$23="kg/t SAR",(M$24*$B31),IF(M$23="kg/t DM",((M$24*($B$24/100))*$B31),IF(M$23="mg/kg SAR",((M$24*0.001)*$B31),IF(M$23="mg/kg DM",(((M$24*0.001)*($B$24/100))*$B31),0)))))) -> 0.028272 | N31: =IF(N$23="%w/w SAR",((N$24*10)*$B31),IF(N$23="%w/w DM",(((N$24*10)*($B$24/100))*$B31),IF(N$23="kg/t SAR",(N$24*$B31),IF(N$23="kg/t DM",((N$24*($B$24/100))*$B31),IF(N$23="mg/kg SAR",((N$24*0.001)*$B31),IF(N$23="mg/kg DM",(((N$24*0.001)*($B$24/100))*$B31),0)))))) -> 0 | ... P31: =IF(P$23="%w/w SAR",((P$24*10)*$B31),IF(P$23="%w/w DM",(((P$24*10)*($B$24/100))*$B31),IF(P$23="kg/t SAR",(P$24*$B31),IF(P$23="kg/t DM",((P$24*($B$24/100))*$B31),IF(P$23="mg/kg SAR",((P$24*0.001)*$B31),IF(P$23="mg/kg DM",(((P$24*0.001)*($B$24/100))*$B31),0)))))) -> 20.672 | Q31: =(IF(Q$23="%w/w SAR",((Q$24*10)*$B31),IF(Q$23="%w/w DM",(((Q$24*10)*($B$24/100))*$B31),IF(Q$23="kg/t SAR",(Q$24*$B31),IF(Q$23="kg/t DM",((Q$24*($B$24/100))*$B31),IF(Q$23="mg/kg SAR",((Q$24*0.001)*$B31),IF(Q$23="mg/kg DM",(((Q$24*0.001)*($B$24/100))*$B31),0)))))))*2.5 -> 20.52 | R31: =IF(R$23="%w/w SAR",((R$24*10)*$B31),IF(R$23="%w/w DM",(((R$24*10)*($B$24/100))*$B31),IF(R$23="kg/t SAR",(R$24*$B31),IF(R$23="kg/t DM",((R$24*($B$24/100))*$B31),IF(R$23="mg/kg SAR",((R$24*0.001)*$B31),IF(R$23="mg/kg DM",(((R$24*0.001)*($B$24/100))*$B31),0)))))) -> 0 | S31: =IF(S$23="%w/w SAR",((S$24*10)*$B31),IF(S$23="%w/w DM",(((S$24*10)*($B$24/100))*$B31),IF(S$23="kg/t SAR",(S$24*$B31),IF(S$23="kg/t DM",((S$24*($B$24/100))*$B31),IF(S$23="mg/kg SAR",((S$24*0.001)*$B31),IF(S$23="mg/kg DM",(((S$24*0.001)*($B$24/100))*$B31),0)))))) -> 0 | T31: =IF(T$23="%w/w SAR",((T$24*10)*$B31),IF(T$23="%w/w DM",(((T$24*10)*($B$24/100))*$B31),IF(T$23="kg/t SAR",(T$24*$B31),IF(T$23="kg/t DM",((T$24*($B$24/100))*$B31),IF(T$23="mg/kg SAR",((T$24*0.001)*$B31),IF(T$23="mg/kg DM",(((T$24*0.001)*($B$24/100))*$B31),0)))))) -> 0 | U31: =IF(U$23="%w/w SAR",((U$24*10)*$B31),IF(U$23="%w/w DM",(((U$24*10)*($B$24/100))*$B31),IF(U$23="kg/t SAR",(U$24*$B31),IF(U$23="kg/t DM",((U$24*($B$24/100))*$B31),IF(U$23="mg/kg SAR",((U$24*0.001)*$B31),IF(U$23="mg/kg DM",(((U$24*0.001)*($B$24/100))*$B31),0)))))) -> 0 | V31: =IF($V$24="",0,IF($V$24>5000,"NOT OK","OK")) -> OK | W31: =IF($W$24="",0,IF($W$24>4,"Not OK","OK")) -> OK
A32: =H8 -> 438 | B32: 38 | C32: =IF(C$23="%w/w SAR",((C$24*10)*$B32),IF(C$23="%w/w DM",(((C$24*10)*($B$24/100))*$B32),IF(C$23="kg/t SAR",(C$24*$B32),IF(C$23="kg/t DM",((C$24*($B$24/100))*$B32),IF(C$23="mg/kg SAR",((C$24*0.001)*$B32),IF(C$23="mg/kg DM",(((C$24*0.001)*($B$24/100))*$B32),0)))))) -> 83.6 | D32: =(IF(D$23="%w/w SAR",((D$24*10)*$B32),IF(D$23="%w/w DM",(((D$24*10)*($B$24/100))*$B32),IF(D$23="kg/t SAR",(D$24*$B32),IF(D$23="kg/t DM",((D$24*($B$24/100))*$B32),IF(D$23="mg/kg SAR",((D$24*0.001)*$B32),IF(D$23="mg/kg DM",(((D$24*0.001)*($B$24/100))*$B32),"0")))))))*2.291 -> 116.65772 | E32: =(IF(E$23="%w/w SAR",((E$24*10)*$B32),IF(E$23="%w/w DM",(((E$24*10)*($B$24/100))*$B32),IF(E$23="kg/t SAR",(E$24*$B32),IF(E$23="kg/t DM",((E$24*($B$24/100))*$B32),IF(E$23="mg/kg SAR",((E$24*0.001)*$B32),IF(E$23="mg/kg DM",(((E$24*0.001)*($B$24/100))*$B32),"0")))))))*1.205 -> 40.79889 | F32: =(IF(F$23="%w/w SAR",((F$24*10)*$B32),IF(F$23="%w/w DM",(((F$24*10)*($B$24/100))*$B32),IF(F$23="kg/t SAR",(F$24*$B32),IF(F$23="kg/t DM",((F$24*($B$24/100))*$B32),IF(F$23="mg/kg SAR",((F$24*0.001)*$B32),IF(F$23="mg/kg DM",(((F$24*0.001)*($B$24/100))*$B32),"0")))))))*1.658 -> 6.0105816 | G32: =IF(G$23="%w/w SAR",((G$24*10)*$B32),IF(G$23="%w/w DM",(((G$24*10)*($B$24/100))*$B32),IF(G$23="kg/t SAR",(G$24*$B32),IF(G$23="kg/t DM",((G$24*($B$24/100))*$B32),IF(G$23="mg/kg SAR",((G$24*0.001)*$B32),IF(G$23="mg/kg DM",(((G$24*0.001)*($B$24/100))*$B32),0)))))) -> 0.017442 | H32: =IF(H$23="%w/w SAR",((H$24*10)*$B32),IF(H$23="%w/w DM",(((H$24*10)*($B$24/100))*$B32),IF(H$23="kg/t SAR",(H$24*$B32),IF(H$23="kg/t DM",((H$24*($B$24/100))*$B32),IF(H$23="mg/kg SAR",((H$24*0.001)*$B32),IF(H$23="mg/kg DM",(((H$24*0.001)*($B$24/100))*$B32),0)))))) -> 0.12084 | I32: =IF(I$23="%w/w SAR",((I$24*10)*$B32),IF(I$23="%w/w DM",(((I$24*10)*($B$24/100))*$B32),IF(I$23="kg/t SAR",(I$24*$B32),IF(I$23="kg/t DM",((I$24*($B$24/100))*$B32),IF(I$23="mg/kg SAR",((I$24*0.001)*$B32),IF(I$23="mg/kg DM",(((I$24*0.001)*($B$24/100))*$B32),0)))))) -> 0.019 | J32: =IF(J$23="%w/w SAR",((J$24*10)*$B32),IF(J$23="%w/w DM",(((J$24*10)*($B$24/100))*$B32),IF(J$23="kg/t SAR",(J$24*$B32),IF(J$23="kg/t DM",((J$24*($B$24/100))*$B32),IF(J$23="mg/kg SAR",((J$24*0.001)*$B32),IF(J$23="mg/kg DM",(((J$24*0.001)*($B$24/100))*$B32),0)))))) -> 0.00038 | K32: =IF(K$23="%w/w SAR",((K$24*10)*$B32),IF(K$23="%w/w DM",(((K$24*10)*($B$24/100))*$B32),IF(K$23="kg/t SAR",(K$24*$B32),IF(K$23="kg/t DM",((K$24*($B$24/100))*$B32),IF(K$23="mg/kg SAR",((K$24*0.001)*$B32),IF(K$23="mg/kg DM",(((K$24*0.001)*($B$24/100))*$B32),0)))))) -> 0.0019 | L32: =IF(L$23="%w/w SAR",((L$24*10)*$B32),IF(L$23="%w/w DM",(((L$24*10)*($B$24/100))*$B32),IF(L$23="kg/t SAR",(L$24*$B32),IF(L$23="kg/t DM",((L$24*($B$24/100))*$B32),IF(L$23="mg/kg SAR",((L$24*0.001)*$B32),IF(L$23="mg/kg DM",(((L$24*0.001)*($B$24/100))*$B32),0)))))) -> 0.009006 | M32: =IF(M$23="%w/w SAR",((M$24*10)*$B32),IF(M$23="%w/w DM",(((M$24*10)*($B$24/100))*$B32),IF(M$23="kg/t SAR",(M$24*$B32),IF(M$23="kg/t DM",((M$24*($B$24/100))*$B32),IF(M$23="mg/kg SAR",((M$24*0.001)*$B32),IF(M$23="mg/kg DM",(((M$24*0.001)*($B$24/100))*$B32),0)))))) -> 0.028272 | N32: =IF(N$23="%w/w SAR",((N$24*10)*$B32),IF(N$23="%w/w DM",(((N$24*10)*($B$24/100))*$B32),IF(N$23="kg/t SAR",(N$24*$B32),IF(N$23="kg/t DM",((N$24*($B$24/100))*$B32),IF(N$23="mg/kg SAR",((N$24*0.001)*$B32),IF(N$23="mg/kg DM",(((N$24*0.001)*($B$24/100))*$B32),0)))))) -> 0 | ... P32: =IF(P$23="%w/w SAR",((P$24*10)*$B32),IF(P$23="%w/w DM",(((P$24*10)*($B$24/100))*$B32),IF(P$23="kg/t SAR",(P$24*$B32),IF(P$23="kg/t DM",((P$24*($B$24/100))*$B32),IF(P$23="mg/kg SAR",((P$24*0.001)*$B32),IF(P$23="mg/kg DM",(((P$24*0.001)*($B$24/100))*$B32),0)))))) -> 20.672 | Q32: =(IF(Q$23="%w/w SAR",((Q$24*10)*$B32),IF(Q$23="%w/w DM",(((Q$24*10)*($B$24/100))*$B32),IF(Q$23="kg/t SAR",(Q$24*$B32),IF(Q$23="kg/t DM",((Q$24*($B$24/100))*$B32),IF(Q$23="mg/kg SAR",((Q$24*0.001)*$B32),IF(Q$23="mg/kg DM",(((Q$24*0.001)*($B$24/100))*$B32),0)))))))*2.5 -> 20.52 | R32: =IF(R$23="%w/w SAR",((R$24*10)*$B32),IF(R$23="%w/w DM",(((R$24*10)*($B$24/100))*$B32),IF(R$23="kg/t SAR",(R$24*$B32),IF(R$23="kg/t DM",((R$24*($B$24/100))*$B32),IF(R$23="mg/kg SAR",((R$24*0.001)*$B32),IF(R$23="mg/kg DM",(((R$24*0.001)*($B$24/100))*$B32),0)))))) -> 0 | S32: =IF(S$23="%w/w SAR",((S$24*10)*$B32),IF(S$23="%w/w DM",(((S$24*10)*($B$24/100))*$B32),IF(S$23="kg/t SAR",(S$24*$B32),IF(S$23="kg/t DM",((S$24*($B$24/100))*$B32),IF(S$23="mg/kg SAR",((S$24*0.001)*$B32),IF(S$23="mg/kg DM",(((S$24*0.001)*($B$24/100))*$B32),0)))))) -> 0 | T32: =IF(T$23="%w/w SAR",((T$24*10)*$B32),IF(T$23="%w/w DM",(((T$24*10)*($B$24/100))*$B32),IF(T$23="kg/t SAR",(T$24*$B32),IF(T$23="kg/t DM",((T$24*($B$24/100))*$B32),IF(T$23="mg/kg SAR",((T$24*0.001)*$B32),IF(T$23="mg/kg DM",(((T$24*0.001)*($B$24/100))*$B32),0)))))) -> 0 | U32: =IF(U$23="%w/w SAR",((U$24*10)*$B32),IF(U$23="%w/w DM",(((U$24*10)*($B$24/100))*$B32),IF(U$23="kg/t SAR",(U$24*$B32),IF(U$23="kg/t DM",((U$24*($B$24/100))*$B32),IF(U$23="mg/kg SAR",((U$24*0.001)*$B32),IF(U$23="mg/kg DM",(((U$24*0.001)*($B$24/100))*$B32),0)))))) -> 0 | V32: =IF($V$24="",0,IF($V$24>5000,"NOT OK","OK")) -> OK | W32: =IF($W$24="",0,IF($W$24>4,"Not OK","OK")) -> OK
A33: =I8 -> 2341 | B33: 60 | C33: =IF(C$23="%w/w SAR",((C$24*10)*$B33),IF(C$23="%w/w DM",(((C$24*10)*($B$24/100))*$B33),IF(C$23="kg/t SAR",(C$24*$B33),IF(C$23="kg/t DM",((C$24*($B$24/100))*$B33),IF(C$23="mg/kg SAR",((C$24*0.001)*$B33),IF(C$23="mg/kg DM",(((C$24*0.001)*($B$24/100))*$B33),0)))))) -> 132 | D33: =(IF(D$23="%w/w SAR",((D$24*10)*$B33),IF(D$23="%w/w DM",(((D$24*10)*($B$24/100))*$B33),IF(D$23="kg/t SAR",(D$24*$B33),IF(D$23="kg/t DM",((D$24*($B$24/100))*$B33),IF(D$23="mg/kg SAR",((D$24*0.001)*$B33),IF(D$23="mg/kg DM",(((D$24*0.001)*($B$24/100))*$B33),"0")))))))*2.291 -> 184.1964 | E33: =(IF(E$23="%w/w SAR",((E$24*10)*$B33),IF(E$23="%w/w DM",(((E$24*10)*($B$24/100))*$B33),IF(E$23="kg/t SAR",(E$24*$B33),IF(E$23="kg/t DM",((E$24*($B$24/100))*$B33),IF(E$23="mg/kg SAR",((E$24*0.001)*$B33),IF(E$23="mg/kg DM",(((E$24*0.001)*($B$24/100))*$B33),"0")))))))*1.205 -> 64.4193 | F33: =(IF(F$23="%w/w SAR",((F$24*10)*$B33),IF(F$23="%w/w DM",(((F$24*10)*($B$24/100))*$B33),IF(F$23="kg/t SAR",(F$24*$B33),IF(F$23="kg/t DM",((F$24*($B$24/100))*$B33),IF(F$23="mg/kg SAR",((F$24*0.001)*$B33),IF(F$23="mg/kg DM",(((F$24*0.001)*($B$24/100))*$B33),"0")))))))*1.658 -> 9.490392 | G33: =IF(G$23="%w/w SAR",((G$24*10)*$B33),IF(G$23="%w/w DM",(((G$24*10)*($B$24/100))*$B33),IF(G$23="kg/t SAR",(G$24*$B33),IF(G$23="kg/t DM",((G$24*($B$24/100))*$B33),IF(G$23="mg/kg SAR",((G$24*0.001)*$B33),IF(G$23="mg/kg DM",(((G$24*0.001)*($B$24/100))*$B33),0)))))) -> 0.02754 | H33: =IF(H$23="%w/w SAR",((H$24*10)*$B33),IF(H$23="%w/w DM",(((H$24*10)*($B$24/100))*$B33),IF(H$23="kg/t SAR",(H$24*$B33),IF(H$23="kg/t DM",((H$24*($B$24/100))*$B33),IF(H$23="mg/kg SAR",((H$24*0.001)*$B33),IF(H$23="mg/kg DM",(((H$24*0.001)*($B$24/100))*$B33),0)))))) -> 0.1908 | I33: =IF(I$23="%w/w SAR",((I$24*10)*$B33),IF(I$23="%w/w DM",(((I$24*10)*($B$24/100))*$B33),IF(I$23="kg/t SAR",(I$24*$B33),IF(I$23="kg/t DM",((I$24*($B$24/100))*$B33),IF(I$23="mg/kg SAR",((I$24*0.001)*$B33),IF(I$23="mg/kg DM",(((I$24*0.001)*($B$24/100))*$B33),0)))))) -> 0.03 | J33: =IF(J$23="%w/w SAR",((J$24*10)*$B33),IF(J$23="%w/w DM",(((J$24*10)*($B$24/100))*$B33),IF(J$23="kg/t SAR",(J$24*$B33),IF(J$23="kg/t DM",((J$24*($B$24/100))*$B33),IF(J$23="mg/kg SAR",((J$24*0.001)*$B33),IF(J$23="mg/kg DM",(((J$24*0.001)*($B$24/100))*$B33),0)))))) -> 0.0006 | K33: =IF(K$23="%w/w SAR",((K$24*10)*$B33),IF(K$23="%w/w DM",(((K$24*10)*($B$24/100))*$B33),IF(K$23="kg/t SAR",(K$24*$B33),IF(K$23="kg/t DM",((K$24*($B$24/100))*$B33),IF(K$23="mg/kg SAR",((K$24*0.001)*$B33),IF(K$23="mg/kg DM",(((K$24*0.001)*($B$24/100))*$B33),0)))))) -> 0.003 | L33: =IF(L$23="%w/w SAR",((L$24*10)*$B33),IF(L$23="%w/w DM",(((L$24*10)*($B$24/100))*$B33),IF(L$23="kg/t SAR",(L$24*$B33),IF(L$23="kg/t DM",((L$24*($B$24/100))*$B33),IF(L$23="mg/kg SAR",((L$24*0.001)*$B33),IF(L$23="mg/kg DM",(((L$24*0.001)*($B$24/100))*$B33),0)))))) -> 0.01422 | M33: =IF(M$23="%w/w SAR",((M$24*10)*$B33),IF(M$23="%w/w DM",(((M$24*10)*($B$24/100))*$B33),IF(M$23="kg/t SAR",(M$24*$B33),IF(M$23="kg/t DM",((M$24*($B$24/100))*$B33),IF(M$23="mg/kg SAR",((M$24*0.001)*$B33),IF(M$23="mg/kg DM",(((M$24*0.001)*($B$24/100))*$B33),0)))))) -> 0.04464 | N33: =IF(N$23="%w/w SAR",((N$24*10)*$B33),IF(N$23="%w/w DM",(((N$24*10)*($B$24/100))*$B33),IF(N$23="kg/t SAR",(N$24*$B33),IF(N$23="kg/t DM",((N$24*($B$24/100))*$B33),IF(N$23="mg/kg SAR",((N$24*0.001)*$B33),IF(N$23="mg/kg DM",(((N$24*0.001)*($B$24/100))*$B33),0)))))) -> 0 | ... P33: =IF(P$23="%w/w SAR",((P$24*10)*$B33),IF(P$23="%w/w DM",(((P$24*10)*($B$24/100))*$B33),IF(P$23="kg/t SAR",(P$24*$B33),IF(P$23="kg/t DM",((P$24*($B$24/100))*$B33),IF(P$23="mg/kg SAR",((P$24*0.001)*$B33),IF(P$23="mg/kg DM",(((P$24*0.001)*($B$24/100))*$B33),0)))))) -> 32.64 | Q33: =(IF(Q$23="%w/w SAR",((Q$24*10)*$B33),IF(Q$23="%w/w DM",(((Q$24*10)*($B$24/100))*$B33),IF(Q$23="kg/t SAR",(Q$24*$B33),IF(Q$23="kg/t DM",((Q$24*($B$24/100))*$B33),IF(Q$23="mg/kg SAR",((Q$24*0.001)*$B33),IF(Q$23="mg/kg DM",(((Q$24*0.001)*($B$24/100))*$B33),0)))))))*2.5 -> 32.4 | R33: =IF(R$23="%w/w SAR",((R$24*10)*$B33),IF(R$23="%w/w DM",(((R$24*10)*($B$24/100))*$B33),IF(R$23="kg/t SAR",(R$24*$B33),IF(R$23="kg/t DM",((R$24*($B$24/100))*$B33),IF(R$23="mg/kg SAR",((R$24*0.001)*$B33),IF(R$23="mg/kg DM",(((R$24*0.001)*($B$24/100))*$B33),0)))))) -> 0 | S33: =IF(S$23="%w/w SAR",((S$24*10)*$B33),IF(S$23="%w/w DM",(((S$24*10)*($B$24/100))*$B33),IF(S$23="kg/t SAR",(S$24*$B33),IF(S$23="kg/t DM",((S$24*($B$24/100))*$B33),IF(S$23="mg/kg SAR",((S$24*0.001)*$B33),IF(S$23="mg/kg DM",(((S$24*0.001)*($B$24/100))*$B33),0)))))) -> 0 | T33: =IF(T$23="%w/w SAR",((T$24*10)*$B33),IF(T$23="%w/w DM",(((T$24*10)*($B$24/100))*$B33),IF(T$23="kg/t SAR",(T$24*$B33),IF(T$23="kg/t DM",((T$24*($B$24/100))*$B33),IF(T$23="mg/kg SAR",((T$24*0.001)*$B33),IF(T$23="mg/kg DM",(((T$24*0.001)*($B$24/100))*$B33),0)))))) -> 0 | U33: =IF(U$23="%w/w SAR",((U$24*10)*$B33),IF(U$23="%w/w DM",(((U$24*10)*($B$24/100))*$B33),IF(U$23="kg/t SAR",(U$24*$B33),IF(U$23="kg/t DM",((U$24*($B$24/100))*$B33),IF(U$23="mg/kg SAR",((U$24*0.001)*$B33),IF(U$23="mg/kg DM",(((U$24*0.001)*($B$24/100))*$B33),0)))))) -> 0 | V33: =IF($V$24="",0,IF($V$24>5000,"NOT OK","OK")) -> OK | W33: =IF($W$24="",0,IF($W$24>4,"Not OK","OK")) -> OK
A34: =J8 -> Tyriet 8 | B34: 60 | C34: =IF(C$23="%w/w SAR",((C$24*10)*$B34),IF(C$23="%w/w DM",(((C$24*10)*($B$24/100))*$B34),IF(C$23="kg/t SAR",(C$24*$B34),IF(C$23="kg/t DM",((C$24*($B$24/100))*$B34),IF(C$23="mg/kg SAR",((C$24*0.001)*$B34),IF(C$23="mg/kg DM",(((C$24*0.001)*($B$24/100))*$B34),0)))))) -> 132 | D34: =(IF(D$23="%w/w SAR",((D$24*10)*$B34),IF(D$23="%w/w DM",(((D$24*10)*($B$24/100))*$B34),IF(D$23="kg/t SAR",(D$24*$B34),IF(D$23="kg/t DM",((D$24*($B$24/100))*$B34),IF(D$23="mg/kg SAR",((D$24*0.001)*$B34),IF(D$23="mg/kg DM",(((D$24*0.001)*($B$24/100))*$B34),"0")))))))*2.291 -> 184.1964 | E34: =(IF(E$23="%w/w SAR",((E$24*10)*$B34),IF(E$23="%w/w DM",(((E$24*10)*($B$24/100))*$B34),IF(E$23="kg/t SAR",(E$24*$B34),IF(E$23="kg/t DM",((E$24*($B$24/100))*$B34),IF(E$23="mg/kg SAR",((E$24*0.001)*$B34),IF(E$23="mg/kg DM",(((E$24*0.001)*($B$24/100))*$B34),"0")))))))*1.205 -> 64.4193 | F34: =(IF(F$23="%w/w SAR",((F$24*10)*$B34),IF(F$23="%w/w DM",(((F$24*10)*($B$24/100))*$B34),IF(F$23="kg/t SAR",(F$24*$B34),IF(F$23="kg/t DM",((F$24*($B$24/100))*$B34),IF(F$23="mg/kg SAR",((F$24*0.001)*$B34),IF(F$23="mg/kg DM",(((F$24*0.001)*($B$24/100))*$B34),"0")))))))*1.658 -> 9.490392 | G34: =IF(G$23="%w/w SAR",((G$24*10)*$B34),IF(G$23="%w/w DM",(((G$24*10)*($B$24/100))*$B34),IF(G$23="kg/t SAR",(G$24*$B34),IF(G$23="kg/t DM",((G$24*($B$24/100))*$B34),IF(G$23="mg/kg SAR",((G$24*0.001)*$B34),IF(G$23="mg/kg DM",(((G$24*0.001)*($B$24/100))*$B34),0)))))) -> 0.02754 | H34: =IF(H$23="%w/w SAR",((H$24*10)*$B34),IF(H$23="%w/w DM",(((H$24*10)*($B$24/100))*$B34),IF(H$23="kg/t SAR",(H$24*$B34),IF(H$23="kg/t DM",((H$24*($B$24/100))*$B34),IF(H$23="mg/kg SAR",((H$24*0.001)*$B34),IF(H$23="mg/kg DM",(((H$24*0.001)*($B$24/100))*$B34),0)))))) -> 0.1908 | I34: =IF(I$23="%w/w SAR",((I$24*10)*$B34),IF(I$23="%w/w DM",(((I$24*10)*($B$24/100))*$B34),IF(I$23="kg/t SAR",(I$24*$B34),IF(I$23="kg/t DM",((I$24*($B$24/100))*$B34),IF(I$23="mg/kg SAR",((I$24*0.001)*$B34),IF(I$23="mg/kg DM",(((I$24*0.001)*($B$24/100))*$B34),0)))))) -> 0.03 | J34: =IF(J$23="%w/w SAR",((J$24*10)*$B34),IF(J$23="%w/w DM",(((J$24*10)*($B$24/100))*$B34),IF(J$23="kg/t SAR",(J$24*$B34),IF(J$23="kg/t DM",((J$24*($B$24/100))*$B34),IF(J$23="mg/kg SAR",((J$24*0.001)*$B34),IF(J$23="mg/kg DM",(((J$24*0.001)*($B$24/100))*$B34),0)))))) -> 0.0006 | K34: =IF(K$23="%w/w SAR",((K$24*10)*$B34),IF(K$23="%w/w DM",(((K$24*10)*($B$24/100))*$B34),IF(K$23="kg/t SAR",(K$24*$B34),IF(K$23="kg/t DM",((K$24*($B$24/100))*$B34),IF(K$23="mg/kg SAR",((K$24*0.001)*$B34),IF(K$23="mg/kg DM",(((K$24*0.001)*($B$24/100))*$B34),0)))))) -> 0.003 | L34: =IF(L$23="%w/w SAR",((L$24*10)*$B34),IF(L$23="%w/w DM",(((L$24*10)*($B$24/100))*$B34),IF(L$23="kg/t SAR",(L$24*$B34),IF(L$23="kg/t DM",((L$24*($B$24/100))*$B34),IF(L$23="mg/kg SAR",((L$24*0.001)*$B34),IF(L$23="mg/kg DM",(((L$24*0.001)*($B$24/100))*$B34),0)))))) -> 0.01422 | M34: =IF(M$23="%w/w SAR",((M$24*10)*$B34),IF(M$23="%w/w DM",(((M$24*10)*($B$24/100))*$B34),IF(M$23="kg/t SAR",(M$24*$B34),IF(M$23="kg/t DM",((M$24*($B$24/100))*$B34),IF(M$23="mg/kg SAR",((M$24*0.001)*$B34),IF(M$23="mg/kg DM",(((M$24*0.001)*($B$24/100))*$B34),0)))))) -> 0.04464 | N34: =IF(N$23="%w/w SAR",((N$24*10)*$B34),IF(N$23="%w/w DM",(((N$24*10)*($B$24/100))*$B34),IF(N$23="kg/t SAR",(N$24*$B34),IF(N$23="kg/t DM",((N$24*($B$24/100))*$B34),IF(N$23="mg/kg SAR",((N$24*0.001)*$B34),IF(N$23="mg/kg DM",(((N$24*0.001)*($B$24/100))*$B34),0)))))) -> 0 | ... P34: =IF(P$23="%w/w SAR",((P$24*10)*$B34),IF(P$23="%w/w DM",(((P$24*10)*($B$24/100))*$B34),IF(P$23="kg/t SAR",(P$24*$B34),IF(P$23="kg/t DM",((P$24*($B$24/100))*$B34),IF(P$23="mg/kg SAR",((P$24*0.001)*$B34),IF(P$23="mg/kg DM",(((P$24*0.001)*($B$24/100))*$B34),0)))))) -> 32.64 | Q34: =(IF(Q$23="%w/w SAR",((Q$24*10)*$B34),IF(Q$23="%w/w DM",(((Q$24*10)*($B$24/100))*$B34),IF(Q$23="kg/t SAR",(Q$24*$B34),IF(Q$23="kg/t DM",((Q$24*($B$24/100))*$B34),IF(Q$23="mg/kg SAR",((Q$24*0.001)*$B34),IF(Q$23="mg/kg DM",(((Q$24*0.001)*($B$24/100))*$B34),0)))))))*2.5 -> 32.4 | R34: =IF(R$23="%w/w SAR",((R$24*10)*$B34),IF(R$23="%w/w DM",(((R$24*10)*($B$24/100))*$B34),IF(R$23="kg/t SAR",(R$24*$B34),IF(R$23="kg/t DM",((R$24*($B$24/100))*$B34),IF(R$23="mg/kg SAR",((R$24*0.001)*$B34),IF(R$23="mg/kg DM",(((R$24*0.001)*($B$24/100))*$B34),0)))))) -> 0 | S34: =IF(S$23="%w/w SAR",((S$24*10)*$B34),IF(S$23="%w/w DM",(((S$24*10)*($B$24/100))*$B34),IF(S$23="kg/t SAR",(S$24*$B34),IF(S$23="kg/t DM",((S$24*($B$24/100))*$B34),IF(S$23="mg/kg SAR",((S$24*0.001)*$B34),IF(S$23="mg/kg DM",(((S$24*0.001)*($B$24/100))*$B34),0)))))) -> 0 | T34: =IF(T$23="%w/w SAR",((T$24*10)*$B34),IF(T$23="%w/w DM",(((T$24*10)*($B$24/100))*$B34),IF(T$23="kg/t SAR",(T$24*$B34),IF(T$23="kg/t DM",((T$24*($B$24/100))*$B34),IF(T$23="mg/kg SAR",((T$24*0.001)*$B34),IF(T$23="mg/kg DM",(((T$24*0.001)*($B$24/100))*$B34),0)))))) -> 0 | U34: =IF(U$23="%w/w SAR",((U$24*10)*$B34),IF(U$23="%w/w DM",(((U$24*10)*($B$24/100))*$B34),IF(U$23="kg/t SAR",(U$24*$B34),IF(U$23="kg/t DM",((U$24*($B$24/100))*$B34),IF(U$23="mg/kg SAR",((U$24*0.001)*$B34),IF(U$23="mg/kg DM",(((U$24*0.001)*($B$24/100))*$B34),0)))))) -> 0 | V34: =IF($V$24="",0,IF($V$24>5000,"NOT OK","OK")) -> OK | W34: =IF($W$24="",0,IF($W$24>4,"Not OK","OK")) -> OK
A35: =K8 -> Tyriet 9 | B35: 51 | C35: =IF(C$23="%w/w SAR",((C$24*10)*$B35),IF(C$23="%w/w DM",(((C$24*10)*($B$24/100))*$B35),IF(C$23="kg/t SAR",(C$24*$B35),IF(C$23="kg/t DM",((C$24*($B$24/100))*$B35),IF(C$23="mg/kg SAR",((C$24*0.001)*$B35),IF(C$23="mg/kg DM",(((C$24*0.001)*($B$24/100))*$B35),0)))))) -> 112.2 | D35: =(IF(D$23="%w/w SAR",((D$24*10)*$B35),IF(D$23="%w/w DM",(((D$24*10)*($B$24/100))*$B35),IF(D$23="kg/t SAR",(D$24*$B35),IF(D$23="kg/t DM",((D$24*($B$24/100))*$B35),IF(D$23="mg/kg SAR",((D$24*0.001)*$B35),IF(D$23="mg/kg DM",(((D$24*0.001)*($B$24/100))*$B35),"0")))))))*2.291 -> 156.56694 | E35: =(IF(E$23="%w/w SAR",((E$24*10)*$B35),IF(E$23="%w/w DM",(((E$24*10)*($B$24/100))*$B35),IF(E$23="kg/t SAR",(E$24*$B35),IF(E$23="kg/t DM",((E$24*($B$24/100))*$B35),IF(E$23="mg/kg SAR",((E$24*0.001)*$B35),IF(E$23="mg/kg DM",(((E$24*0.001)*($B$24/100))*$B35),"0")))))))*1.205 -> 54.756405 | F35: =(IF(F$23="%w/w SAR",((F$24*10)*$B35),IF(F$23="%w/w DM",(((F$24*10)*($B$24/100))*$B35),IF(F$23="kg/t SAR",(F$24*$B35),IF(F$23="kg/t DM",((F$24*($B$24/100))*$B35),IF(F$23="mg/kg SAR",((F$24*0.001)*$B35),IF(F$23="mg/kg DM",(((F$24*0.001)*($B$24/100))*$B35),"0")))))))*1.658 -> 8.0668332 | G35: =IF(G$23="%w/w SAR",((G$24*10)*$B35),IF(G$23="%w/w DM",(((G$24*10)*($B$24/100))*$B35),IF(G$23="kg/t SAR",(G$24*$B35),IF(G$23="kg/t DM",((G$24*($B$24/100))*$B35),IF(G$23="mg/kg SAR",((G$24*0.001)*$B35),IF(G$23="mg/kg DM",(((G$24*0.001)*($B$24/100))*$B35),0)))))) -> 0.023409 | H35: =IF(H$23="%w/w SAR",((H$24*10)*$B35),IF(H$23="%w/w DM",(((H$24*10)*($B$24/100))*$B35),IF(H$23="kg/t SAR",(H$24*$B35),IF(H$23="kg/t DM",((H$24*($B$24/100))*$B35),IF(H$23="mg/kg SAR",((H$24*0.001)*$B35),IF(H$23="mg/kg DM",(((H$24*0.001)*($B$24/100))*$B35),0)))))) -> 0.16218 | I35: =IF(I$23="%w/w SAR",((I$24*10)*$B35),IF(I$23="%w/w DM",(((I$24*10)*($B$24/100))*$B35),IF(I$23="kg/t SAR",(I$24*$B35),IF(I$23="kg/t DM",((I$24*($B$24/100))*$B35),IF(I$23="mg/kg SAR",((I$24*0.001)*$B35),IF(I$23="mg/kg DM",(((I$24*0.001)*($B$24/100))*$B35),0)))))) -> 0.0255 | J35: =IF(J$23="%w/w SAR",((J$24*10)*$B35),IF(J$23="%w/w DM",(((J$24*10)*($B$24/100))*$B35),IF(J$23="kg/t SAR",(J$24*$B35),IF(J$23="kg/t DM",((J$24*($B$24/100))*$B35),IF(J$23="mg/kg SAR",((J$24*0.001)*$B35),IF(J$23="mg/kg DM",(((J$24*0.001)*($B$24/100))*$B35),0)))))) -> 0.00051 | K35: =IF(K$23="%w/w SAR",((K$24*10)*$B35),IF(K$23="%w/w DM",(((K$24*10)*($B$24/100))*$B35),IF(K$23="kg/t SAR",(K$24*$B35),IF(K$23="kg/t DM",((K$24*($B$24/100))*$B35),IF(K$23="mg/kg SAR",((K$24*0.001)*$B35),IF(K$23="mg/kg DM",(((K$24*0.001)*($B$24/100))*$B35),0)))))) -> 0.00255 | L35: =IF(L$23="%w/w SAR",((L$24*10)*$B35),IF(L$23="%w/w DM",(((L$24*10)*($B$24/100))*$B35),IF(L$23="kg/t SAR",(L$24*$B35),IF(L$23="kg/t DM",((L$24*($B$24/100))*$B35),IF(L$23="mg/kg SAR",((L$24*0.001)*$B35),IF(L$23="mg/kg DM",(((L$24*0.001)*($B$24/100))*$B35),0)))))) -> 0.012087 | M35: =IF(M$23="%w/w SAR",((M$24*10)*$B35),IF(M$23="%w/w DM",(((M$24*10)*($B$24/100))*$B35),IF(M$23="kg/t SAR",(M$24*$B35),IF(M$23="kg/t DM",((M$24*($B$24/100))*$B35),IF(M$23="mg/kg SAR",((M$24*0.001)*$B35),IF(M$23="mg/kg DM",(((M$24*0.001)*($B$24/100))*$B35),0)))))) -> 0.037944 | N35: =IF(N$23="%w/w SAR",((N$24*10)*$B35),IF(N$23="%w/w DM",(((N$24*10)*($B$24/100))*$B35),IF(N$23="kg/t SAR",(N$24*$B35),IF(N$23="kg/t DM",((N$24*($B$24/100))*$B35),IF(N$23="mg/kg SAR",((N$24*0.001)*$B35),IF(N$23="mg/kg DM",(((N$24*0.001)*($B$24/100))*$B35),0)))))) -> 0 | ... P35: =IF(P$23="%w/w SAR",((P$24*10)*$B35),IF(P$23="%w/w DM",(((P$24*10)*($B$24/100))*$B35),IF(P$23="kg/t SAR",(P$24*$B35),IF(P$23="kg/t DM",((P$24*($B$24/100))*$B35),IF(P$23="mg/kg SAR",((P$24*0.001)*$B35),IF(P$23="mg/kg DM",(((P$24*0.001)*($B$24/100))*$B35),0)))))) -> 27.744 | Q35: =(IF(Q$23="%w/w SAR",((Q$24*10)*$B35),IF(Q$23="%w/w DM",(((Q$24*10)*($B$24/100))*$B35),IF(Q$23="kg/t SAR",(Q$24*$B35),IF(Q$23="kg/t DM",((Q$24*($B$24/100))*$B35),IF(Q$23="mg/kg SAR",((Q$24*0.001)*$B35),IF(Q$23="mg/kg DM",(((Q$24*0.001)*($B$24/100))*$B35),0)))))))*2.5 -> 27.54 | R35: =IF(R$23="%w/w SAR",((R$24*10)*$B35),IF(R$23="%w/w DM",(((R$24*10)*($B$24/100))*$B35),IF(R$23="kg/t SAR",(R$24*$B35),IF(R$23="kg/t DM",((R$24*($B$24/100))*$B35),IF(R$23="mg/kg SAR",((R$24*0.001)*$B35),IF(R$23="mg/kg DM",(((R$24*0.001)*($B$24/100))*$B35),0)))))) -> 0 | S35: =IF(S$23="%w/w SAR",((S$24*10)*$B35),IF(S$23="%w/w DM",(((S$24*10)*($B$24/100))*$B35),IF(S$23="kg/t SAR",(S$24*$B35),IF(S$23="kg/t DM",((S$24*($B$24/100))*$B35),IF(S$23="mg/kg SAR",((S$24*0.001)*$B35),IF(S$23="mg/kg DM",(((S$24*0.001)*($B$24/100))*$B35),0)))))) -> 0 | T35: =IF(T$23="%w/w SAR",((T$24*10)*$B35),IF(T$23="%w/w DM",(((T$24*10)*($B$24/100))*$B35),IF(T$23="kg/t SAR",(T$24*$B35),IF(T$23="kg/t DM",((T$24*($B$24/100))*$B35),IF(T$23="mg/kg SAR",((T$24*0.001)*$B35),IF(T$23="mg/kg DM",(((T$24*0.001)*($B$24/100))*$B35),0)))))) -> 0 | U35: =IF(U$23="%w/w SAR",((U$24*10)*$B35),IF(U$23="%w/w DM",(((U$24*10)*($B$24/100))*$B35),IF(U$23="kg/t SAR",(U$24*$B35),IF(U$23="kg/t DM",((U$24*($B$24/100))*$B35),IF(U$23="mg/kg SAR",((U$24*0.001)*$B35),IF(U$23="mg/kg DM",(((U$24*0.001)*($B$24/100))*$B35),0)))))) -> 0 | V35: =IF($V$24="",0,IF($V$24>5000,"NOT OK","OK")) -> OK | W35: =IF($W$24="",0,IF($W$24>4,"Not OK","OK")) -> OK
A36: =L8 -> 1479 | B36: 60 | C36: =IF(C$23="%w/w SAR",((C$24*10)*$B36),IF(C$23="%w/w DM",(((C$24*10)*($B$24/100))*$B36),IF(C$23="kg/t SAR",(C$24*$B36),IF(C$23="kg/t DM",((C$24*($B$24/100))*$B36),IF(C$23="mg/kg SAR",((C$24*0.001)*$B36),IF(C$23="mg/kg DM",(((C$24*0.001)*($B$24/100))*$B36),0)))))) -> 132 | D36: =(IF(D$23="%w/w SAR",((D$24*10)*$B36),IF(D$23="%w/w DM",(((D$24*10)*($B$24/100))*$B36),IF(D$23="kg/t SAR",(D$24*$B36),IF(D$23="kg/t DM",((D$24*($B$24/100))*$B36),IF(D$23="mg/kg SAR",((D$24*0.001)*$B36),IF(D$23="mg/kg DM",(((D$24*0.001)*($B$24/100))*$B36),"0")))))))*2.291 -> 184.1964 | E36: =(IF(E$23="%w/w SAR",((E$24*10)*$B36),IF(E$23="%w/w DM",(((E$24*10)*($B$24/100))*$B36),IF(E$23="kg/t SAR",(E$24*$B36),IF(E$23="kg/t DM",((E$24*($B$24/100))*$B36),IF(E$23="mg/kg SAR",((E$24*0.001)*$B36),IF(E$23="mg/kg DM",(((E$24*0.001)*($B$24/100))*$B36),"0")))))))*1.205 -> 64.4193 | F36: =(IF(F$23="%w/w SAR",((F$24*10)*$B36),IF(F$23="%w/w DM",(((F$24*10)*($B$24/100))*$B36),IF(F$23="kg/t SAR",(F$24*$B36),IF(F$23="kg/t DM",((F$24*($B$24/100))*$B36),IF(F$23="mg/kg SAR",((F$24*0.001)*$B36),IF(F$23="mg/kg DM",(((F$24*0.001)*($B$24/100))*$B36),"0")))))))*1.658 -> 9.490392 | G36: =IF(G$23="%w/w SAR",((G$24*10)*$B36),IF(G$23="%w/w DM",(((G$24*10)*($B$24/100))*$B36),IF(G$23="kg/t SAR",(G$24*$B36),IF(G$23="kg/t DM",((G$24*($B$24/100))*$B36),IF(G$23="mg/kg SAR",((G$24*0.001)*$B36),IF(G$23="mg/kg DM",(((G$24*0.001)*($B$24/100))*$B36),0)))))) -> 0.02754 | H36: =IF(H$23="%w/w SAR",((H$24*10)*$B36),IF(H$23="%w/w DM",(((H$24*10)*($B$24/100))*$B36),IF(H$23="kg/t SAR",(H$24*$B36),IF(H$23="kg/t DM",((H$24*($B$24/100))*$B36),IF(H$23="mg/kg SAR",((H$24*0.001)*$B36),IF(H$23="mg/kg DM",(((H$24*0.001)*($B$24/100))*$B36),0)))))) -> 0.1908 | I36: =IF(I$23="%w/w SAR",((I$24*10)*$B36),IF(I$23="%w/w DM",(((I$24*10)*($B$24/100))*$B36),IF(I$23="kg/t SAR",(I$24*$B36),IF(I$23="kg/t DM",((I$24*($B$24/100))*$B36),IF(I$23="mg/kg SAR",((I$24*0.001)*$B36),IF(I$23="mg/kg DM",(((I$24*0.001)*($B$24/100))*$B36),0)))))) -> 0.03 | J36: =IF(J$23="%w/w SAR",((J$24*10)*$B36),IF(J$23="%w/w DM",(((J$24*10)*($B$24/100))*$B36),IF(J$23="kg/t SAR",(J$24*$B36),IF(J$23="kg/t DM",((J$24*($B$24/100))*$B36),IF(J$23="mg/kg SAR",((J$24*0.001)*$B36),IF(J$23="mg/kg DM",(((J$24*0.001)*($B$24/100))*$B36),0)))))) -> 0.0006 | K36: =IF(K$23="%w/w SAR",((K$24*10)*$B36),IF(K$23="%w/w DM",(((K$24*10)*($B$24/100))*$B36),IF(K$23="kg/t SAR",(K$24*$B36),IF(K$23="kg/t DM",((K$24*($B$24/100))*$B36),IF(K$23="mg/kg SAR",((K$24*0.001)*$B36),IF(K$23="mg/kg DM",(((K$24*0.001)*($B$24/100))*$B36),0)))))) -> 0.003 | L36: =IF(L$23="%w/w SAR",((L$24*10)*$B36),IF(L$23="%w/w DM",(((L$24*10)*($B$24/100))*$B36),IF(L$23="kg/t SAR",(L$24*$B36),IF(L$23="kg/t DM",((L$24*($B$24/100))*$B36),IF(L$23="mg/kg SAR",((L$24*0.001)*$B36),IF(L$23="mg/kg DM",(((L$24*0.001)*($B$24/100))*$B36),0)))))) -> 0.01422 | M36: =IF(M$23="%w/w SAR",((M$24*10)*$B36),IF(M$23="%w/w DM",(((M$24*10)*($B$24/100))*$B36),IF(M$23="kg/t SAR",(M$24*$B36),IF(M$23="kg/t DM",((M$24*($B$24/100))*$B36),IF(M$23="mg/kg SAR",((M$24*0.001)*$B36),IF(M$23="mg/kg DM",(((M$24*0.001)*($B$24/100))*$B36),0)))))) -> 0.04464 | N36: =IF(N$23="%w/w SAR",((N$24*10)*$B36),IF(N$23="%w/w DM",(((N$24*10)*($B$24/100))*$B36),IF(N$23="kg/t SAR",(N$24*$B36),IF(N$23="kg/t DM",((N$24*($B$24/100))*$B36),IF(N$23="mg/kg SAR",((N$24*0.001)*$B36),IF(N$23="mg/kg DM",(((N$24*0.001)*($B$24/100))*$B36),0)))))) -> 0 | ... P36: =IF(P$23="%w/w SAR",((P$24*10)*$B36),IF(P$23="%w/w DM",(((P$24*10)*($B$24/100))*$B36),IF(P$23="kg/t SAR",(P$24*$B36),IF(P$23="kg/t DM",((P$24*($B$24/100))*$B36),IF(P$23="mg/kg SAR",((P$24*0.001)*$B36),IF(P$23="mg/kg DM",(((P$24*0.001)*($B$24/100))*$B36),0)))))) -> 32.64 | Q36: =(IF(Q$23="%w/w SAR",((Q$24*10)*$B36),IF(Q$23="%w/w DM",(((Q$24*10)*($B$24/100))*$B36),IF(Q$23="kg/t SAR",(Q$24*$B36),IF(Q$23="kg/t DM",((Q$24*($B$24/100))*$B36),IF(Q$23="mg/kg SAR",((Q$24*0.001)*$B36),IF(Q$23="mg/kg DM",(((Q$24*0.001)*($B$24/100))*$B36),0)))))))*2.5 -> 32.4 | R36: =IF(R$23="%w/w SAR",((R$24*10)*$B36),IF(R$23="%w/w DM",(((R$24*10)*($B$24/100))*$B36),IF(R$23="kg/t SAR",(R$24*$B36),IF(R$23="kg/t DM",((R$24*($B$24/100))*$B36),IF(R$23="mg/kg SAR",((R$24*0.001)*$B36),IF(R$23="mg/kg DM",(((R$24*0.001)*($B$24/100))*$B36),0)))))) -> 0 | S36: =IF(S$23="%w/w SAR",((S$24*10)*$B36),IF(S$23="%w/w DM",(((S$24*10)*($B$24/100))*$B36),IF(S$23="kg/t SAR",(S$24*$B36),IF(S$23="kg/t DM",((S$24*($B$24/100))*$B36),IF(S$23="mg/kg SAR",((S$24*0.001)*$B36),IF(S$23="mg/kg DM",(((S$24*0.001)*($B$24/100))*$B36),0)))))) -> 0 | T36: =IF(T$23="%w/w SAR",((T$24*10)*$B36),IF(T$23="%w/w DM",(((T$24*10)*($B$24/100))*$B36),IF(T$23="kg/t SAR",(T$24*$B36),IF(T$23="kg/t DM",((T$24*($B$24/100))*$B36),IF(T$23="mg/kg SAR",((T$24*0.001)*$B36),IF(T$23="mg/kg DM",(((T$24*0.001)*($B$24/100))*$B36),0)))))) -> 0 | U36: =IF(U$23="%w/w SAR",((U$24*10)*$B36),IF(U$23="%w/w DM",(((U$24*10)*($B$24/100))*$B36),IF(U$23="kg/t SAR",(U$24*$B36),IF(U$23="kg/t DM",((U$24*($B$24/100))*$B36),IF(U$23="mg/kg SAR",((U$24*0.001)*$B36),IF(U$23="mg/kg DM",(((U$24*0.001)*($B$24/100))*$B36),0)))))) -> 0 | V36: =IF($V$24="",0,IF($V$24>5000,"NOT OK","OK")) -> OK | W36: =IF($W$24="",0,IF($W$24>4,"Not OK","OK")) -> OK
A37: =M8 -> 1897 | B37: 38 | C37: =IF(C$23="%w/w SAR",((C$24*10)*$B37),IF(C$23="%w/w DM",(((C$24*10)*($B$24/100))*$B37),IF(C$23="kg/t SAR",(C$24*$B37),IF(C$23="kg/t DM",((C$24*($B$24/100))*$B37),IF(C$23="mg/kg SAR",((C$24*0.001)*$B37),IF(C$23="mg/kg DM",(((C$24*0.001)*($B$24/100))*$B37),0)))))) -> 83.6 | D37: =(IF(D$23="%w/w SAR",((D$24*10)*$B37),IF(D$23="%w/w DM",(((D$24*10)*($B$24/100))*$B37),IF(D$23="kg/t SAR",(D$24*$B37),IF(D$23="kg/t DM",((D$24*($B$24/100))*$B37),IF(D$23="mg/kg SAR",((D$24*0.001)*$B37),IF(D$23="mg/kg DM",(((D$24*0.001)*($B$24/100))*$B37),"0")))))))*2.291 -> 116.65772 | E37: =(IF(E$23="%w/w SAR",((E$24*10)*$B37),IF(E$23="%w/w DM",(((E$24*10)*($B$24/100))*$B37),IF(E$23="kg/t SAR",(E$24*$B37),IF(E$23="kg/t DM",((E$24*($B$24/100))*$B37),IF(E$23="mg/kg SAR",((E$24*0.001)*$B37),IF(E$23="mg/kg DM",(((E$24*0.001)*($B$24/100))*$B37),"0")))))))*1.205 -> 40.79889 | F37: =(IF(F$23="%w/w SAR",((F$24*10)*$B37),IF(F$23="%w/w DM",(((F$24*10)*($B$24/100))*$B37),IF(F$23="kg/t SAR",(F$24*$B37),IF(F$23="kg/t DM",((F$24*($B$24/100))*$B37),IF(F$23="mg/kg SAR",((F$24*0.001)*$B37),IF(F$23="mg/kg DM",(((F$24*0.001)*($B$24/100))*$B37),"0")))))))*1.658 -> 6.0105816 | G37: =IF(G$23="%w/w SAR",((G$24*10)*$B37),IF(G$23="%w/w DM",(((G$24*10)*($B$24/100))*$B37),IF(G$23="kg/t SAR",(G$24*$B37),IF(G$23="kg/t DM",((G$24*($B$24/100))*$B37),IF(G$23="mg/kg SAR",((G$24*0.001)*$B37),IF(G$23="mg/kg DM",(((G$24*0.001)*($B$24/100))*$B37),0)))))) -> 0.017442 | H37: =IF(H$23="%w/w SAR",((H$24*10)*$B37),IF(H$23="%w/w DM",(((H$24*10)*($B$24/100))*$B37),IF(H$23="kg/t SAR",(H$24*$B37),IF(H$23="kg/t DM",((H$24*($B$24/100))*$B37),IF(H$23="mg/kg SAR",((H$24*0.001)*$B37),IF(H$23="mg/kg DM",(((H$24*0.001)*($B$24/100))*$B37),0)))))) -> 0.12084 | I37: =IF(I$23="%w/w SAR",((I$24*10)*$B37),IF(I$23="%w/w DM",(((I$24*10)*($B$24/100))*$B37),IF(I$23="kg/t SAR",(I$24*$B37),IF(I$23="kg/t DM",((I$24*($B$24/100))*$B37),IF(I$23="mg/kg SAR",((I$24*0.001)*$B37),IF(I$23="mg/kg DM",(((I$24*0.001)*($B$24/100))*$B37),0)))))) -> 0.019 | J37: =IF(J$23="%w/w SAR",((J$24*10)*$B37),IF(J$23="%w/w DM",(((J$24*10)*($B$24/100))*$B37),IF(J$23="kg/t SAR",(J$24*$B37),IF(J$23="kg/t DM",((J$24*($B$24/100))*$B37),IF(J$23="mg/kg SAR",((J$24*0.001)*$B37),IF(J$23="mg/kg DM",(((J$24*0.001)*($B$24/100))*$B37),0)))))) -> 0.00038 | K37: =IF(K$23="%w/w SAR",((K$24*10)*$B37),IF(K$23="%w/w DM",(((K$24*10)*($B$24/100))*$B37),IF(K$23="kg/t SAR",(K$24*$B37),IF(K$23="kg/t DM",((K$24*($B$24/100))*$B37),IF(K$23="mg/kg SAR",((K$24*0.001)*$B37),IF(K$23="mg/kg DM",(((K$24*0.001)*($B$24/100))*$B37),0)))))) -> 0.0019 | L37: =IF(L$23="%w/w SAR",((L$24*10)*$B37),IF(L$23="%w/w DM",(((L$24*10)*($B$24/100))*$B37),IF(L$23="kg/t SAR",(L$24*$B37),IF(L$23="kg/t DM",((L$24*($B$24/100))*$B37),IF(L$23="mg/kg SAR",((L$24*0.001)*$B37),IF(L$23="mg/kg DM",(((L$24*0.001)*($B$24/100))*$B37),0)))))) -> 0.009006 | M37: =IF(M$23="%w/w SAR",((M$24*10)*$B37),IF(M$23="%w/w DM",(((M$24*10)*($B$24/100))*$B37),IF(M$23="kg/t SAR",(M$24*$B37),IF(M$23="kg/t DM",((M$24*($B$24/100))*$B37),IF(M$23="mg/kg SAR",((M$24*0.001)*$B37),IF(M$23="mg/kg DM",(((M$24*0.001)*($B$24/100))*$B37),0)))))) -> 0.028272 | N37: =IF(N$23="%w/w SAR",((N$24*10)*$B37),IF(N$23="%w/w DM",(((N$24*10)*($B$24/100))*$B37),IF(N$23="kg/t SAR",(N$24*$B37),IF(N$23="kg/t DM",((N$24*($B$24/100))*$B37),IF(N$23="mg/kg SAR",((N$24*0.001)*$B37),IF(N$23="mg/kg DM",(((N$24*0.001)*($B$24/100))*$B37),0)))))) -> 0 | ... P37: =IF(P$23="%w/w SAR",((P$24*10)*$B37),IF(P$23="%w/w DM",(((P$24*10)*($B$24/100))*$B37),IF(P$23="kg/t SAR",(P$24*$B37),IF(P$23="kg/t DM",((P$24*($B$24/100))*$B37),IF(P$23="mg/kg SAR",((P$24*0.001)*$B37),IF(P$23="mg/kg DM",(((P$24*0.001)*($B$24/100))*$B37),0)))))) -> 20.672 | Q37: =(IF(Q$23="%w/w SAR",((Q$24*10)*$B37),IF(Q$23="%w/w DM",(((Q$24*10)*($B$24/100))*$B37),IF(Q$23="kg/t SAR",(Q$24*$B37),IF(Q$23="kg/t DM",((Q$24*($B$24/100))*$B37),IF(Q$23="mg/kg SAR",((Q$24*0.001)*$B37),IF(Q$23="mg/kg DM",(((Q$24*0.001)*($B$24/100))*$B37),0)))))))*2.5 -> 20.52 | R37: =IF(R$23="%w/w SAR",((R$24*10)*$B37),IF(R$23="%w/w DM",(((R$24*10)*($B$24/100))*$B37),IF(R$23="kg/t SAR",(R$24*$B37),IF(R$23="kg/t DM",((R$24*($B$24/100))*$B37),IF(R$23="mg/kg SAR",((R$24*0.001)*$B37),IF(R$23="mg/kg DM",(((R$24*0.001)*($B$24/100))*$B37),0)))))) -> 0 | S37: =IF(S$23="%w/w SAR",((S$24*10)*$B37),IF(S$23="%w/w DM",(((S$24*10)*($B$24/100))*$B37),IF(S$23="kg/t SAR",(S$24*$B37),IF(S$23="kg/t DM",((S$24*($B$24/100))*$B37),IF(S$23="mg/kg SAR",((S$24*0.001)*$B37),IF(S$23="mg/kg DM",(((S$24*0.001)*($B$24/100))*$B37),0)))))) -> 0 | T37: =IF(T$23="%w/w SAR",((T$24*10)*$B37),IF(T$23="%w/w DM",(((T$24*10)*($B$24/100))*$B37),IF(T$23="kg/t SAR",(T$24*$B37),IF(T$23="kg/t DM",((T$24*($B$24/100))*$B37),IF(T$23="mg/kg SAR",((T$24*0.001)*$B37),IF(T$23="mg/kg DM",(((T$24*0.001)*($B$24/100))*$B37),0)))))) -> 0 | U37: =IF(U$23="%w/w SAR",((U$24*10)*$B37),IF(U$23="%w/w DM",(((U$24*10)*($B$24/100))*$B37),IF(U$23="kg/t SAR",(U$24*$B37),IF(U$23="kg/t DM",((U$24*($B$24/100))*$B37),IF(U$23="mg/kg SAR",((U$24*0.001)*$B37),IF(U$23="mg/kg DM",(((U$24*0.001)*($B$24/100))*$B37),0)))))) -> 0 | V37: =IF($V$24="",0,IF($V$24>5000,"NOT OK","OK")) -> OK | W37: =IF($W$24="",0,IF($W$24>4,"Not OK","OK")) -> OK
A38: =N8 -> 2672 | B38: 51 | C38: =IF(C$23="%w/w SAR",((C$24*10)*$B38),IF(C$23="%w/w DM",(((C$24*10)*($B$24/100))*$B38),IF(C$23="kg/t SAR",(C$24*$B38),IF(C$23="kg/t DM",((C$24*($B$24/100))*$B38),IF(C$23="mg/kg SAR",((C$24*0.001)*$B38),IF(C$23="mg/kg DM",(((C$24*0.001)*($B$24/100))*$B38),0)))))) -> 112.2 | D38: =(IF(D$23="%w/w SAR",((D$24*10)*$B38),IF(D$23="%w/w DM",(((D$24*10)*($B$24/100))*$B38),IF(D$23="kg/t SAR",(D$24*$B38),IF(D$23="kg/t DM",((D$24*($B$24/100))*$B38),IF(D$23="mg/kg SAR",((D$24*0.001)*$B38),IF(D$23="mg/kg DM",(((D$24*0.001)*($B$24/100))*$B38),"0")))))))*2.291 -> 156.56694 | E38: =(IF(E$23="%w/w SAR",((E$24*10)*$B38),IF(E$23="%w/w DM",(((E$24*10)*($B$24/100))*$B38),IF(E$23="kg/t SAR",(E$24*$B38),IF(E$23="kg/t DM",((E$24*($B$24/100))*$B38),IF(E$23="mg/kg SAR",((E$24*0.001)*$B38),IF(E$23="mg/kg DM",(((E$24*0.001)*($B$24/100))*$B38),"0")))))))*1.205 -> 54.756405 | F38: =(IF(F$23="%w/w SAR",((F$24*10)*$B38),IF(F$23="%w/w DM",(((F$24*10)*($B$24/100))*$B38),IF(F$23="kg/t SAR",(F$24*$B38),IF(F$23="kg/t DM",((F$24*($B$24/100))*$B38),IF(F$23="mg/kg SAR",((F$24*0.001)*$B38),IF(F$23="mg/kg DM",(((F$24*0.001)*($B$24/100))*$B38),"0")))))))*1.658 -> 8.0668332 | G38: =IF(G$23="%w/w SAR",((G$24*10)*$B38),IF(G$23="%w/w DM",(((G$24*10)*($B$24/100))*$B38),IF(G$23="kg/t SAR",(G$24*$B38),IF(G$23="kg/t DM",((G$24*($B$24/100))*$B38),IF(G$23="mg/kg SAR",((G$24*0.001)*$B38),IF(G$23="mg/kg DM",(((G$24*0.001)*($B$24/100))*$B38),0)))))) -> 0.023409 | H38: =IF(H$23="%w/w SAR",((H$24*10)*$B38),IF(H$23="%w/w DM",(((H$24*10)*($B$24/100))*$B38),IF(H$23="kg/t SAR",(H$24*$B38),IF(H$23="kg/t DM",((H$24*($B$24/100))*$B38),IF(H$23="mg/kg SAR",((H$24*0.001)*$B38),IF(H$23="mg/kg DM",(((H$24*0.001)*($B$24/100))*$B38),0)))))) -> 0.16218 | I38: =IF(I$23="%w/w SAR",((I$24*10)*$B38),IF(I$23="%w/w DM",(((I$24*10)*($B$24/100))*$B38),IF(I$23="kg/t SAR",(I$24*$B38),IF(I$23="kg/t DM",((I$24*($B$24/100))*$B38),IF(I$23="mg/kg SAR",((I$24*0.001)*$B38),IF(I$23="mg/kg DM",(((I$24*0.001)*($B$24/100))*$B38),0)))))) -> 0.0255 | J38: =IF(J$23="%w/w SAR",((J$24*10)*$B38),IF(J$23="%w/w DM",(((J$24*10)*($B$24/100))*$B38),IF(J$23="kg/t SAR",(J$24*$B38),IF(J$23="kg/t DM",((J$24*($B$24/100))*$B38),IF(J$23="mg/kg SAR",((J$24*0.001)*$B38),IF(J$23="mg/kg DM",(((J$24*0.001)*($B$24/100))*$B38),0)))))) -> 0.00051 | K38: =IF(K$23="%w/w SAR",((K$24*10)*$B38),IF(K$23="%w/w DM",(((K$24*10)*($B$24/100))*$B38),IF(K$23="kg/t SAR",(K$24*$B38),IF(K$23="kg/t DM",((K$24*($B$24/100))*$B38),IF(K$23="mg/kg SAR",((K$24*0.001)*$B38),IF(K$23="mg/kg DM",(((K$24*0.001)*($B$24/100))*$B38),0)))))) -> 0.00255 | L38: =IF(L$23="%w/w SAR",((L$24*10)*$B38),IF(L$23="%w/w DM",(((L$24*10)*($B$24/100))*$B38),IF(L$23="kg/t SAR",(L$24*$B38),IF(L$23="kg/t DM",((L$24*($B$24/100))*$B38),IF(L$23="mg/kg SAR",((L$24*0.001)*$B38),IF(L$23="mg/kg DM",(((L$24*0.001)*($B$24/100))*$B38),0)))))) -> 0.012087 | M38: =IF(M$23="%w/w SAR",((M$24*10)*$B38),IF(M$23="%w/w DM",(((M$24*10)*($B$24/100))*$B38),IF(M$23="kg/t SAR",(M$24*$B38),IF(M$23="kg/t DM",((M$24*($B$24/100))*$B38),IF(M$23="mg/kg SAR",((M$24*0.001)*$B38),IF(M$23="mg/kg DM",(((M$24*0.001)*($B$24/100))*$B38),0)))))) -> 0.037944 | N38: =IF(N$23="%w/w SAR",((N$24*10)*$B38),IF(N$23="%w/w DM",(((N$24*10)*($B$24/100))*$B38),IF(N$23="kg/t SAR",(N$24*$B38),IF(N$23="kg/t DM",((N$24*($B$24/100))*$B38),IF(N$23="mg/kg SAR",((N$24*0.001)*$B38),IF(N$23="mg/kg DM",(((N$24*0.001)*($B$24/100))*$B38),0)))))) -> 0 | ... P38: =IF(P$23="%w/w SAR",((P$24*10)*$B38),IF(P$23="%w/w DM",(((P$24*10)*($B$24/100))*$B38),IF(P$23="kg/t SAR",(P$24*$B38),IF(P$23="kg/t DM",((P$24*($B$24/100))*$B38),IF(P$23="mg/kg SAR",((P$24*0.001)*$B38),IF(P$23="mg/kg DM",(((P$24*0.001)*($B$24/100))*$B38),0)))))) -> 27.744 | Q38: =(IF(Q$23="%w/w SAR",((Q$24*10)*$B38),IF(Q$23="%w/w DM",(((Q$24*10)*($B$24/100))*$B38),IF(Q$23="kg/t SAR",(Q$24*$B38),IF(Q$23="kg/t DM",((Q$24*($B$24/100))*$B38),IF(Q$23="mg/kg SAR",((Q$24*0.001)*$B38),IF(Q$23="mg/kg DM",(((Q$24*0.001)*($B$24/100))*$B38),0)))))))*2.5 -> 27.54 | R38: =IF(R$23="%w/w SAR",((R$24*10)*$B38),IF(R$23="%w/w DM",(((R$24*10)*($B$24/100))*$B38),IF(R$23="kg/t SAR",(R$24*$B38),IF(R$23="kg/t DM",((R$24*($B$24/100))*$B38),IF(R$23="mg/kg SAR",((R$24*0.001)*$B38),IF(R$23="mg/kg DM",(((R$24*0.001)*($B$24/100))*$B38),0)))))) -> 0 | S38: =IF(S$23="%w/w SAR",((S$24*10)*$B38),IF(S$23="%w/w DM",(((S$24*10)*($B$24/100))*$B38),IF(S$23="kg/t SAR",(S$24*$B38),IF(S$23="kg/t DM",((S$24*($B$24/100))*$B38),IF(S$23="mg/kg SAR",((S$24*0.001)*$B38),IF(S$23="mg/kg DM",(((S$24*0.001)*($B$24/100))*$B38),0)))))) -> 0 | T38: =IF(T$23="%w/w SAR",((T$24*10)*$B38),IF(T$23="%w/w DM",(((T$24*10)*($B$24/100))*$B38),IF(T$23="kg/t SAR",(T$24*$B38),IF(T$23="kg/t DM",((T$24*($B$24/100))*$B38),IF(T$23="mg/kg SAR",((T$24*0.001)*$B38),IF(T$23="mg/kg DM",(((T$24*0.001)*($B$24/100))*$B38),0)))))) -> 0 | U38: =IF(U$23="%w/w SAR",((U$24*10)*$B38),IF(U$23="%w/w DM",(((U$24*10)*($B$24/100))*$B38),IF(U$23="kg/t SAR",(U$24*$B38),IF(U$23="kg/t DM",((U$24*($B$24/100))*$B38),IF(U$23="mg/kg SAR",((U$24*0.001)*$B38),IF(U$23="mg/kg DM",(((U$24*0.001)*($B$24/100))*$B38),0)))))) -> 0 | V38: =IF($V$24="",0,IF($V$24>5000,"NOT OK","OK")) -> OK | W38: =IF($W$24="",0,IF($W$24>4,"Not OK","OK")) -> OK
A39: =O8 -> 3962 + 4273 | B39: 51 | C39: =IF(C$23="%w/w SAR",((C$24*10)*$B39),IF(C$23="%w/w DM",(((C$24*10)*($B$24/100))*$B39),IF(C$23="kg/t SAR",(C$24*$B39),IF(C$23="kg/t DM",((C$24*($B$24/100))*$B39),IF(C$23="mg/kg SAR",((C$24*0.001)*$B39),IF(C$23="mg/kg DM",(((C$24*0.001)*($B$24/100))*$B39),0)))))) -> 112.2 | D39: =(IF(D$23="%w/w SAR",((D$24*10)*$B39),IF(D$23="%w/w DM",(((D$24*10)*($B$24/100))*$B39),IF(D$23="kg/t SAR",(D$24*$B39),IF(D$23="kg/t DM",((D$24*($B$24/100))*$B39),IF(D$23="mg/kg SAR",((D$24*0.001)*$B39),IF(D$23="mg/kg DM",(((D$24*0.001)*($B$24/100))*$B39),"0")))))))*2.291 -> 156.56694 | E39: =(IF(E$23="%w/w SAR",((E$24*10)*$B39),IF(E$23="%w/w DM",(((E$24*10)*($B$24/100))*$B39),IF(E$23="kg/t SAR",(E$24*$B39),IF(E$23="kg/t DM",((E$24*($B$24/100))*$B39),IF(E$23="mg/kg SAR",((E$24*0.001)*$B39),IF(E$23="mg/kg DM",(((E$24*0.001)*($B$24/100))*$B39),"0")))))))*1.205 -> 54.756405 | F39: =(IF(F$23="%w/w SAR",((F$24*10)*$B39),IF(F$23="%w/w DM",(((F$24*10)*($B$24/100))*$B39),IF(F$23="kg/t SAR",(F$24*$B39),IF(F$23="kg/t DM",((F$24*($B$24/100))*$B39),IF(F$23="mg/kg SAR",((F$24*0.001)*$B39),IF(F$23="mg/kg DM",(((F$24*0.001)*($B$24/100))*$B39),"0")))))))*1.658 -> 8.0668332 | G39: =IF(G$23="%w/w SAR",((G$24*10)*$B39),IF(G$23="%w/w DM",(((G$24*10)*($B$24/100))*$B39),IF(G$23="kg/t SAR",(G$24*$B39),IF(G$23="kg/t DM",((G$24*($B$24/100))*$B39),IF(G$23="mg/kg SAR",((G$24*0.001)*$B39),IF(G$23="mg/kg DM",(((G$24*0.001)*($B$24/100))*$B39),0)))))) -> 0.023409 | H39: =IF(H$23="%w/w SAR",((H$24*10)*$B39),IF(H$23="%w/w DM",(((H$24*10)*($B$24/100))*$B39),IF(H$23="kg/t SAR",(H$24*$B39),IF(H$23="kg/t DM",((H$24*($B$24/100))*$B39),IF(H$23="mg/kg SAR",((H$24*0.001)*$B39),IF(H$23="mg/kg DM",(((H$24*0.001)*($B$24/100))*$B39),0)))))) -> 0.16218 | I39: =IF(I$23="%w/w SAR",((I$24*10)*$B39),IF(I$23="%w/w DM",(((I$24*10)*($B$24/100))*$B39),IF(I$23="kg/t SAR",(I$24*$B39),IF(I$23="kg/t DM",((I$24*($B$24/100))*$B39),IF(I$23="mg/kg SAR",((I$24*0.001)*$B39),IF(I$23="mg/kg DM",(((I$24*0.001)*($B$24/100))*$B39),0)))))) -> 0.0255 | J39: =IF(J$23="%w/w SAR",((J$24*10)*$B39),IF(J$23="%w/w DM",(((J$24*10)*($B$24/100))*$B39),IF(J$23="kg/t SAR",(J$24*$B39),IF(J$23="kg/t DM",((J$24*($B$24/100))*$B39),IF(J$23="mg/kg SAR",((J$24*0.001)*$B39),IF(J$23="mg/kg DM",(((J$24*0.001)*($B$24/100))*$B39),0)))))) -> 0.00051 | K39: =IF(K$23="%w/w SAR",((K$24*10)*$B39),IF(K$23="%w/w DM",(((K$24*10)*($B$24/100))*$B39),IF(K$23="kg/t SAR",(K$24*$B39),IF(K$23="kg/t DM",((K$24*($B$24/100))*$B39),IF(K$23="mg/kg SAR",((K$24*0.001)*$B39),IF(K$23="mg/kg DM",(((K$24*0.001)*($B$24/100))*$B39),0)))))) -> 0.00255 | L39: =IF(L$23="%w/w SAR",((L$24*10)*$B39),IF(L$23="%w/w DM",(((L$24*10)*($B$24/100))*$B39),IF(L$23="kg/t SAR",(L$24*$B39),IF(L$23="kg/t DM",((L$24*($B$24/100))*$B39),IF(L$23="mg/kg SAR",((L$24*0.001)*$B39),IF(L$23="mg/kg DM",(((L$24*0.001)*($B$24/100))*$B39),0)))))) -> 0.012087 | M39: =IF(M$23="%w/w SAR",((M$24*10)*$B39),IF(M$23="%w/w DM",(((M$24*10)*($B$24/100))*$B39),IF(M$23="kg/t SAR",(M$24*$B39),IF(M$23="kg/t DM",((M$24*($B$24/100))*$B39),IF(M$23="mg/kg SAR",((M$24*0.001)*$B39),IF(M$23="mg/kg DM",(((M$24*0.001)*($B$24/100))*$B39),0)))))) -> 0.037944 | N39: =IF(N$23="%w/w SAR",((N$24*10)*$B39),IF(N$23="%w/w DM",(((N$24*10)*($B$24/100))*$B39),IF(N$23="kg/t SAR",(N$24*$B39),IF(N$23="kg/t DM",((N$24*($B$24/100))*$B39),IF(N$23="mg/kg SAR",((N$24*0.001)*$B39),IF(N$23="mg/kg DM",(((N$24*0.001)*($B$24/100))*$B39),0)))))) -> 0 | ... P39: =IF(P$23="%w/w SAR",((P$24*10)*$B39),IF(P$23="%w/w DM",(((P$24*10)*($B$24/100))*$B39),IF(P$23="kg/t SAR",(P$24*$B39),IF(P$23="kg/t DM",((P$24*($B$24/100))*$B39),IF(P$23="mg/kg SAR",((P$24*0.001)*$B39),IF(P$23="mg/kg DM",(((P$24*0.001)*($B$24/100))*$B39),0)))))) -> 27.744 | Q39: =(IF(Q$23="%w/w SAR",((Q$24*10)*$B39),IF(Q$23="%w/w DM",(((Q$24*10)*($B$24/100))*$B39),IF(Q$23="kg/t SAR",(Q$24*$B39),IF(Q$23="kg/t DM",((Q$24*($B$24/100))*$B39),IF(Q$23="mg/kg SAR",((Q$24*0.001)*$B39),IF(Q$23="mg/kg DM",(((Q$24*0.001)*($B$24/100))*$B39),0)))))))*2.5 -> 27.54 | R39: =IF(R$23="%w/w SAR",((R$24*10)*$B39),IF(R$23="%w/w DM",(((R$24*10)*($B$24/100))*$B39),IF(R$23="kg/t SAR",(R$24*$B39),IF(R$23="kg/t DM",((R$24*($B$24/100))*$B39),IF(R$23="mg/kg SAR",((R$24*0.001)*$B39),IF(R$23="mg/kg DM",(((R$24*0.001)*($B$24/100))*$B39),0)))))) -> 0 | S39: =IF(S$23="%w/w SAR",((S$24*10)*$B39),IF(S$23="%w/w DM",(((S$24*10)*($B$24/100))*$B39),IF(S$23="kg/t SAR",(S$24*$B39),IF(S$23="kg/t DM",((S$24*($B$24/100))*$B39),IF(S$23="mg/kg SAR",((S$24*0.001)*$B39),IF(S$23="mg/kg DM",(((S$24*0.001)*($B$24/100))*$B39),0)))))) -> 0 | T39: =IF(T$23="%w/w SAR",((T$24*10)*$B39),IF(T$23="%w/w DM",(((T$24*10)*($B$24/100))*$B39),IF(T$23="kg/t SAR",(T$24*$B39),IF(T$23="kg/t DM",((T$24*($B$24/100))*$B39),IF(T$23="mg/kg SAR",((T$24*0.001)*$B39),IF(T$23="mg/kg DM",(((T$24*0.001)*($B$24/100))*$B39),0)))))) -> 0 | U39: =IF(U$23="%w/w SAR",((U$24*10)*$B39),IF(U$23="%w/w DM",(((U$24*10)*($B$24/100))*$B39),IF(U$23="kg/t SAR",(U$24*$B39),IF(U$23="kg/t DM",((U$24*($B$24/100))*$B39),IF(U$23="mg/kg SAR",((U$24*0.001)*$B39),IF(U$23="mg/kg DM",(((U$24*0.001)*($B$24/100))*$B39),0)))))) -> 0 | V39: =IF($V$24="",0,IF($V$24>5000,"NOT OK","OK")) -> OK | W39: =IF($W$24="",0,IF($W$24>4,"Not OK","OK")) -> OK
A40: =P8 -> 0 | C40: =IF(C$23="%w/w SAR",((C$24*10)*$B40),IF(C$23="%w/w DM",(((C$24*10)*($B$24/100))*$B40),IF(C$23="kg/t SAR",(C$24*$B40),IF(C$23="kg/t DM",((C$24*($B$24/100))*$B40),IF(C$23="mg/kg SAR",((C$24*0.001)*$B40),IF(C$23="mg/kg DM",(((C$24*0.001)*($B$24/100))*$B40),0)))))) -> 0 | D40: =(IF(D$23="%w/w SAR",((D$24*10)*$B40),IF(D$23="%w/w DM",(((D$24*10)*($B$24/100))*$B40),IF(D$23="kg/t SAR",(D$24*$B40),IF(D$23="kg/t DM",((D$24*($B$24/100))*$B40),IF(D$23="mg/kg SAR",((D$24*0.001)*$B40),IF(D$23="mg/kg DM",(((D$24*0.001)*($B$24/100))*$B40),"0")))))))*2.291 -> 0 | E40: =(IF(E$23="%w/w SAR",((E$24*10)*$B40),IF(E$23="%w/w DM",(((E$24*10)*($B$24/100))*$B40),IF(E$23="kg/t SAR",(E$24*$B40),IF(E$23="kg/t DM",((E$24*($B$24/100))*$B40),IF(E$23="mg/kg SAR",((E$24*0.001)*$B40),IF(E$23="mg/kg DM",(((E$24*0.001)*($B$24/100))*$B40),"0")))))))*1.205 -> 0 | F40: =(IF(F$23="%w/w SAR",((F$24*10)*$B40),IF(F$23="%w/w DM",(((F$24*10)*($B$24/100))*$B40),IF(F$23="kg/t SAR",(F$24*$B40),IF(F$23="kg/t DM",((F$24*($B$24/100))*$B40),IF(F$23="mg/kg SAR",((F$24*0.001)*$B40),IF(F$23="mg/kg DM",(((F$24*0.001)*($B$24/100))*$B40),"0")))))))*1.658 -> 0 | G40: =IF(G$23="%w/w SAR",((G$24*10)*$B40),IF(G$23="%w/w DM",(((G$24*10)*($B$24/100))*$B40),IF(G$23="kg/t SAR",(G$24*$B40),IF(G$23="kg/t DM",((G$24*($B$24/100))*$B40),IF(G$23="mg/kg SAR",((G$24*0.001)*$B40),IF(G$23="mg/kg DM",(((G$24*0.001)*($B$24/100))*$B40),0)))))) -> 0 | H40: =IF(H$23="%w/w SAR",((H$24*10)*$B40),IF(H$23="%w/w DM",(((H$24*10)*($B$24/100))*$B40),IF(H$23="kg/t SAR",(H$24*$B40),IF(H$23="kg/t DM",((H$24*($B$24/100))*$B40),IF(H$23="mg/kg SAR",((H$24*0.001)*$B40),IF(H$23="mg/kg DM",(((H$24*0.001)*($B$24/100))*$B40),0)))))) -> 0 | I40: =IF(I$23="%w/w SAR",((I$24*10)*$B40),IF(I$23="%w/w DM",(((I$24*10)*($B$24/100))*$B40),IF(I$23="kg/t SAR",(I$24*$B40),IF(I$23="kg/t DM",((I$24*($B$24/100))*$B40),IF(I$23="mg/kg SAR",((I$24*0.001)*$B40),IF(I$23="mg/kg DM",(((I$24*0.001)*($B$24/100))*$B40),0)))))) -> 0 | J40: =IF(J$23="%w/w SAR",((J$24*10)*$B40),IF(J$23="%w/w DM",(((J$24*10)*($B$24/100))*$B40),IF(J$23="kg/t SAR",(J$24*$B40),IF(J$23="kg/t DM",((J$24*($B$24/100))*$B40),IF(J$23="mg/kg SAR",((J$24*0.001)*$B40),IF(J$23="mg/kg DM",(((J$24*0.001)*($B$24/100))*$B40),0)))))) -> 0 | K40: =IF(K$23="%w/w SAR",((K$24*10)*$B40),IF(K$23="%w/w DM",(((K$24*10)*($B$24/100))*$B40),IF(K$23="kg/t SAR",(K$24*$B40),IF(K$23="kg/t DM",((K$24*($B$24/100))*$B40),IF(K$23="mg/kg SAR",((K$24*0.001)*$B40),IF(K$23="mg/kg DM",(((K$24*0.001)*($B$24/100))*$B40),0)))))) -> 0 | L40: =IF(L$23="%w/w SAR",((L$24*10)*$B40),IF(L$23="%w/w DM",(((L$24*10)*($B$24/100))*$B40),IF(L$23="kg/t SAR",(L$24*$B40),IF(L$23="kg/t DM",((L$24*($B$24/100))*$B40),IF(L$23="mg/kg SAR",((L$24*0.001)*$B40),IF(L$23="mg/kg DM",(((L$24*0.001)*($B$24/100))*$B40),0)))))) -> 0 | M40: =IF(M$23="%w/w SAR",((M$24*10)*$B40),IF(M$23="%w/w DM",(((M$24*10)*($B$24/100))*$B40),IF(M$23="kg/t SAR",(M$24*$B40),IF(M$23="kg/t DM",((M$24*($B$24/100))*$B40),IF(M$23="mg/kg SAR",((M$24*0.001)*$B40),IF(M$23="mg/kg DM",(((M$24*0.001)*($B$24/100))*$B40),0)))))) -> 0 | N40: =IF(N$23="%w/w SAR",((N$24*10)*$B40),IF(N$23="%w/w DM",(((N$24*10)*($B$24/100))*$B40),IF(N$23="kg/t SAR",(N$24*$B40),IF(N$23="kg/t DM",((N$24*($B$24/100))*$B40),IF(N$23="mg/kg SAR",((N$24*0.001)*$B40),IF(N$23="mg/kg DM",(((N$24*0.001)*($B$24/100))*$B40),0)))))) -> 0 | ... P40: =IF(P$23="%w/w SAR",((P$24*10)*$B40),IF(P$23="%w/w DM",(((P$24*10)*($B$24/100))*$B40),IF(P$23="kg/t SAR",(P$24*$B40),IF(P$23="kg/t DM",((P$24*($B$24/100))*$B40),IF(P$23="mg/kg SAR",((P$24*0.001)*$B40),IF(P$23="mg/kg DM",(((P$24*0.001)*($B$24/100))*$B40),0)))))) -> 0 | Q40: =(IF(Q$23="%w/w SAR",((Q$24*10)*$B40),IF(Q$23="%w/w DM",(((Q$24*10)*($B$24/100))*$B40),IF(Q$23="kg/t SAR",(Q$24*$B40),IF(Q$23="kg/t DM",((Q$24*($B$24/100))*$B40),IF(Q$23="mg/kg SAR",((Q$24*0.001)*$B40),IF(Q$23="mg/kg DM",(((Q$24*0.001)*($B$24/100))*$B40),0)))))))*2.5 -> 0 | R40: =IF(R$23="%w/w SAR",((R$24*10)*$B40),IF(R$23="%w/w DM",(((R$24*10)*($B$24/100))*$B40),IF(R$23="kg/t SAR",(R$24*$B40),IF(R$23="kg/t DM",((R$24*($B$24/100))*$B40),IF(R$23="mg/kg SAR",((R$24*0.001)*$B40),IF(R$23="mg/kg DM",(((R$24*0.001)*($B$24/100))*$B40),0)))))) -> 0 | S40: =IF(S$23="%w/w SAR",((S$24*10)*$B40),IF(S$23="%w/w DM",(((S$24*10)*($B$24/100))*$B40),IF(S$23="kg/t SAR",(S$24*$B40),IF(S$23="kg/t DM",((S$24*($B$24/100))*$B40),IF(S$23="mg/kg SAR",((S$24*0.001)*$B40),IF(S$23="mg/kg DM",(((S$24*0.001)*($B$24/100))*$B40),0)))))) -> 0 | T40: =IF(T$23="%w/w SAR",((T$24*10)*$B40),IF(T$23="%w/w DM",(((T$24*10)*($B$24/100))*$B40),IF(T$23="kg/t SAR",(T$24*$B40),IF(T$23="kg/t DM",((T$24*($B$24/100))*$B40),IF(T$23="mg/kg SAR",((T$24*0.001)*$B40),IF(T$23="mg/kg DM",(((T$24*0.001)*($B$24/100))*$B40),0)))))) -> 0 | U40: =IF(U$23="%w/w SAR",((U$24*10)*$B40),IF(U$23="%w/w DM",(((U$24*10)*($B$24/100))*$B40),IF(U$23="kg/t SAR",(U$24*$B40),IF(U$23="kg/t DM",((U$24*($B$24/100))*$B40),IF(U$23="mg/kg SAR",((U$24*0.001)*$B40),IF(U$23="mg/kg DM",(((U$24*0.001)*($B$24/100))*$B40),0)))))) -> 0 | V40: =IF($V$24="",0,IF($V$24>5000,"NOT OK","OK")) -> OK | W40: =IF($W$24="",0,IF($W$24>4,"Not OK","OK")) -> OK
