Workbook

Sheet READ ME
A1: HG & E JONES
A3: The Water Resources (Transitional Provisions) Regulations 2017
A5: APPLICATION FOR NEW GROUNDWATER ABSTRACTION
A6: LICENCE FOR A PREVIOUSLY EXEMPT ABSTRACTION AT NEW HOUSE FARM

Sheet Annual Summary 
A1: NEW HOUSE FARM, LUDCHURCH, NARBERTH, PEMBROKESHIRE
A2: GROUNDWATER ABSTRACTION - ANNUAL HISTORIC / PLANNED SUMMARY 'POINT A' 2011 - 2017
A4: Year | B4: Total Historic Abstraction (m3/year) | D4: Maximum Abstraction Rate (m3/hr) | E4: Peak Instantaneous Flow Rate (l/s) | F4: Maximum Abstraction Rate (m3/d) | G4: Abstraction Hrs per day
A5: 2011 | B5: ='Abstraction Volumes ''11-''17 '!AI7 -> 7069.85 | D5: 4.2 | E5: =(D5/60/60)*1000 -> 1.1666667 | F5: ='Abstraction Volumes ''11-''17 '!E7+'Abstraction Volumes ''11-''17 '!G7+'Abstraction Volumes ''11-''17 '!I7+'Abstraction Volumes ''11-''17 '!Q7+'Abstraction Volumes ''11-''17 '!W7+'Abstraction Volumes ''11-''17 '!AE7 -> 45.55 | G5: =F5/D5 -> 10.845238
A6: 2012 | B6: ='Abstraction Volumes ''11-''17 '!AI8 -> 8352.6 | D6: 4.2 | E6: =(D6/60/60)*1000 -> 1.1666667 | F6: ='Abstraction Volumes ''11-''17 '!E8+'Abstraction Volumes ''11-''17 '!G8+'Abstraction Volumes ''11-''17 '!I8+'Abstraction Volumes ''11-''17 '!Q8+'Abstraction Volumes ''11-''17 '!W8+'Abstraction Volumes ''11-''17 '!AE8 -> 54.3 | G6: =F6/D6 -> 12.928571
A7: 2013 | B7: ='Abstraction Volumes ''11-''17 '!AI9 -> 9635.35 | D7: 4.2 | E7: =(D7/60/60)*1000 -> 1.1666667 | F7: ='Abstraction Volumes ''11-''17 '!E9+'Abstraction Volumes ''11-''17 '!G9+'Abstraction Volumes ''11-''17 '!I9+'Abstraction Volumes ''11-''17 '!Q9+'Abstraction Volumes ''11-''17 '!W9+'Abstraction Volumes ''11-''17 '!AE9 -> 63.05 | G7: =F7/D7 -> 15.011905
A8: 2014 | B8: ='Abstraction Volumes ''11-''17 '!AI10 -> 11019.65 | D8: 4.2 | E8: =(D8/60/60)*1000 -> 1.1666667 | F8: ='Abstraction Volumes ''11-''17 '!E10+'Abstraction Volumes ''11-''17 '!G10+'Abstraction Volumes ''11-''17 '!I10+'Abstraction Volumes ''11-''17 '!Q10+'Abstraction Volumes ''11-''17 '!W10+'Abstraction Volumes ''11-''17 '!AE10 -> 72.85 | G8: =F8/D8 -> 17.345238
A9: 2015 | B9: ='Abstraction Volumes ''11-''17 '!AI11 -> 11019.65 | D9: 4.2 | E9: =(D9/60/60)*1000 -> 1.1666667 | F9: ='Abstraction Volumes ''11-''17 '!E11+'Abstraction Volumes ''11-''17 '!G11+'Abstraction Volumes ''11-''17 '!I11+'Abstraction Volumes ''11-''17 '!Q11+'Abstraction Volumes ''11-''17 '!W11+'Abstraction Volumes ''11-''17 '!AE11 -> 72.85 | G9: =F9/D9 -> 17.345238
A10: 2016 | B10: ='Abstraction Volumes ''11-''17 '!AI12 -> 11019.65 | D10: 4.2 | E10: =(D10/60/60)*1000 -> 1.1666667 | F10: ='Abstraction Volumes ''11-''17 '!E12+'Abstraction Volumes ''11-''17 '!G12+'Abstraction Volumes ''11-''17 '!I12+'Abstraction Volumes ''11-''17 '!Q12+'Abstraction Volumes ''11-''17 '!W12+'Abstraction Volumes ''11-''17 '!AE12 -> 72.85 | G10: =F10/D10 -> 17.345238
A11: 2017 | B11: ='Abstraction Volumes ''11-''17 '!AI13 -> 11019.65 | D11: 4.2 | E11: =(D11/60/60)*1000 -> 1.1666667 | F11: ='Abstraction Volumes ''11-''17 '!E13+'Abstraction Volumes ''11-''17 '!G13+'Abstraction Volumes ''11-''17 '!I13+'Abstraction Volumes ''11-''17 '!Q13+'Abstraction Volumes ''11-''17 '!W13+'Abstraction Volumes ''11-''17 '!AE13 -> 72.85 | G11: =F11/D11 -> 17.345238
A12: MAX | B12: =MAX(B5:B11) -> 11019.65 | D12: * Pump capacity

Sheet Abstraction Volumes '11-'17 
A1: NEW HOUSE FARM, LUDCHURCH, NARBERTH, PEMBROKESHIRE
A2: GROUNDWATER ABSTRACTION - ANNUAL SUMMARY 'POINT A' 2011 - 2017
A5: Milk production (Cattle Drinking and Washdown) | N5: Domestic | T5: Fodder Beet Washing | Z5: Agricultural Vehicle Washdown
A6: Year | B6: Number of Adults | C6: Number of Followers | D6: Typical Drinking Requirement - Adults (l/day/animal) | E6: Daily Water Usage for Drinking - Adults (m3/day) | F6: Typical drinking water requirement - Followers (l/day/animal) | G6: Daily Water Usage for Drinking - Followers (m3/day) | H6: Typical Water Requirement - Cleaning with Power hose (l/day/animal) | I6: Daily Water Usage for Washdown (m3/day) | J6: Annual Abstraction for Parlour Washdown (m3/yr) | K6: Annual Abstraction for Cattle Drinking (m3/yr) | L6: Total Annual Abstraction for Milk Production (m3/yr) | N6: Number of people present all year | O6: Water Usage (l/day/pp) | P6: Water Usage (m3/day/pp) | Q6: Water Usage (m3/day) | R6: Annual Abstraction for Domestic Use (m3/year) | T6: Quantity (tonne) | U6: Water Usage (l/hr) | V6: Washing hours (20 tonnes/hr) | W6: Max Washing (m3/d) | X6: Annual Abstraction for Fodder Beet (m3/year) | Z6: Number of vehicles/machinery | AA6: Time to wash 1 vehicle (mins) | AB6: Flow rate - Pressure Washer (litres/min) | AC6: Flow rate - Pressure Washer (m3/hr) | AD6: Max Vehicles per day | AE6: Max Water Usage (m3/d) | AF6: Water Usage (m3/week) | AG6: Annual Abstraction for Machinery Washdown (m3/year) | AI6: Total Annual Abstraction - all uses (m3/year)
A7: 40544 | B7: 125 | C7: 125 | D7: 70 | E7: =B7*(D7/1000) -> 8.75 | F7: 25 | G7: =C7*(F7/1000) -> 3.125 | H7: 45 | I7: =B7*(H7/1000) -> 5.625 | J7: =I7*365 -> 2053.125 | K7: =(E7*365)+(G7*365) -> 4334.375 | L7: =J7+K7 -> 6387.5 | N7: 6 | O7: 150 | P7: =O7/1000 -> 0.15 | Q7: =P7*N7 -> 0.9 | R7: =Q7*365 -> 328.5 | T7: 125 | U7: 4200 | V7: =T7/20 -> 6.25 | W7: =(U7/1000)*V7 -> 26.25 | X7: =(U7/1000)*V7 -> 26.25 | Z7: 7 | AA7: 60 | AB7: 15 | AC7: =(AB7/1000)*60 -> 0.9 | AD7: 1 | AE7: =AC7*AD7 -> 0.9 | AF7: =Z7*AC7 -> 6.3 | AG7: =AF7*52 -> 327.6 | AI7: =L7+R7+X7+AG7 -> 7069.85
A8: 40909 | B8: 150 | C8: 150 | D8: 70 | E8: =B8*(D8/1000) -> 10.5 | F8: 25 | G8: =C8*(F8/1000) -> 3.75 | H8: 45 | I8: =B8*(H8/1000) -> 6.75 | J8: =I8*365 -> 2463.75 | K8: =(E8*365)+(G8*365) -> 5201.25 | L8: =J8+K8 -> 7665 | N8: 6 | O8: 150 | P8: =O8/1000 -> 0.15 | Q8: =P8*N8 -> 0.9 | R8: =Q8*365 -> 328.5 | T8: 150 | U8: 4200 | V8: =T8/20 -> 7.5 | W8: =(U8/1000)*V8 -> 31.5 | X8: =(U8/1000)*V8 -> 31.5 | Z8: 7 | AA8: 60 | AB8: 15 | AC8: =(AB8/1000)*60 -> 0.9 | AD8: 1 | AE8: =AC8*AD8 -> 0.9 | AF8: =Z8*AC8 -> 6.3 | AG8: =AF8*52 -> 327.6 | AI8: =L8+R8+X8+AG8 -> 8352.6
A9: 41275 | B9: 175 | C9: 175 | D9: 70 | E9: =B9*(D9/1000) -> 12.25 | F9: 25 | G9: =C9*(F9/1000) -> 4.375 | H9: 45 | I9: =B9*(H9/1000) -> 7.875 | J9: =I9*365 -> 2874.375 | K9: =(E9*365)+(G9*365) -> 6068.125 | L9: =J9+K9 -> 8942.5 | N9: 6 | O9: 150 | P9: =O9/1000 -> 0.15 | Q9: =P9*N9 -> 0.9 | R9: =Q9*365 -> 328.5 | T9: 175 | U9: 4200 | V9: =T9/20 -> 8.75 | W9: =(U9/1000)*V9 -> 36.75 | X9: =(U9/1000)*V9 -> 36.75 | Z9: 7 | AA9: 60 | AB9: 15 | AC9: =(AB9/1000)*60 -> 0.9 | AD9: 1 | AE9: =AC9*AD9 -> 0.9 | AF9: =Z9*AC9 -> 6.3 | AG9: =AF9*52 -> 327.6 | AI9: =L9+R9+X9+AG9 -> 9635.35
A10: 41640 | B10: 200 | C10: 200 | D10: 70 | E10: =B10*(D10/1000) -> 14 | F10: 25 | G10: =C10*(F10/1000) -> 5 | H10: 45 | I10: =B10*(H10/1000) -> 9 | J10: =I10*365 -> 3285 | K10: =(E10*365)+(G10*365) -> 6935 | L10: =J10+K10 -> 10220 | N10: 7 | O10: 150 | P10: =O10/1000 -> 0.15 | Q10: =P10*N10 -> 1.05 | R10: =Q10*365 -> 383.25 | T10: 200 | U10: 4200 | V10: =T10/20 -> 10 | W10: =(U10/1000)*V10 -> 42 | X10: =(U10/1000)*V10 -> 42 | Z10: 8 | AA10: 60 | AB10: 15 | AC10: =(AB10/1000)*60 -> 0.9 | AD10: 2 | AE10: =AC10*AD10 -> 1.8 | AF10: =Z10*AC10 -> 7.2 | AG10: =AF10*52 -> 374.4 | AI10: =L10+R10+X10+AG10 -> 11019.65
A11: 42005 | B11: 200 | C11: 200 | D11: 70 | E11: =B11*(D11/1000) -> 14 | F11: 25 | G11: =C11*(F11/1000) -> 5 | H11: 45 | I11: =B11*(H11/1000) -> 9 | J11: =I11*365 -> 3285 | K11: =(E11*365)+(G11*365) -> 6935 | L11: =J11+K11 -> 10220 | N11: 7 | O11: 150 | P11: =O11/1000 -> 0.15 | Q11: =P11*N11 -> 1.05 | R11: =Q11*365 -> 383.25 | T11: 200 | U11: 4200 | V11: =T11/20 -> 10 | W11: =(U11/1000)*V11 -> 42 | X11: =(U11/1000)*V11 -> 42 | Z11: 8 | AA11: 60 | AB11: 15 | AC11: =(AB11/1000)*60 -> 0.9 | AD11: 2 | AE11: =AC11*AD11 -> 1.8 | AF11: =Z11*AC11 -> 7.2 | AG11: =AF11*52 -> 374.4 | AI11: =L11+R11+X11+AG11 -> 11019.65
A12: 42370 | B12: 200 | C12: 200 | D12: 70 | E12: =B12*(D12/1000) -> 14 | F12: 25 | G12: =C12*(F12/1000) -> 5 | H12: 45 | I12: =B12*(H12/1000) -> 9 | J12: =I12*365 -> 3285 | K12: =(E12*365)+(G12*365) -> 6935 | L12: =J12+K12 -> 10220 | N12: 7 | O12: 150 | P12: =O12/1000 -> 0.15 | Q12: =P12*N12 -> 1.05 | R12: =Q12*365 -> 383.25 | T12: 200 | U12: 4200 | V12: =T12/20 -> 10 | W12: =(U12/1000)*V12 -> 42 | X12: =(U12/1000)*V12 -> 42 | Z12: 8 | AA12: 60 | AB12: 15 | AC12: =(AB12/1000)*60 -> 0.9 | AD12: 2 | AE12: =AC12*AD12 -> 1.8 | AF12: =Z12*AC12 -> 7.2 | AG12: =AF12*52 -> 374.4 | AI12: =L12+R12+X12+AG12 -> 11019.65
A13: 42736 | B13: 200 | C13: 200 | D13: 70 | E13: =B13*(D13/1000) -> 14 | F13: 25 | G13: =C13*(F13/1000) -> 5 | H13: 45 | I13: =B13*(H13/1000) -> 9 | J13: =I13*365 -> 3285 | K13: =(E13*365)+(G13*365) -> 6935 | L13: =J13+K13 -> 10220 | N13: 7 | O13: 150 | P13: =O13/1000 -> 0.15 | Q13: =P13*N13 -> 1.05 | R13: =Q13*365 -> 383.25 | T13: 200 | U13: 4200 | V13: =T13/20 -> 10 | W13: =(U13/1000)*V13 -> 42 | X13: =(U13/1000)*V13 -> 42 | Z13: 8 | AA13: 60 | AB13: 15 | AC13: =(AB13/1000)*60 -> 0.9 | AD13: 2 | AE13: =AC13*AD13 -> 1.8 | AF13: =Z13*AC13 -> 7.2 | AG13: =AF13*52 -> 374.4 | AI13: =L13+R13+X13+AG13 -> 11019.65
D14: *Standard usage figures from ‘R&D Best Practice Manual W6-056/TR for industry and agriculture’ | O14: *from British Water - Codes of Practice: Flows and Loads | U14: *From equipment spec / borehole pump rate | AB14: *From equipment spec
C15: Dairy Cows drinking | D15: 45-70l/d/head
C16: Calves/ followers drinking | D16: 15-25l/d/head
