Workbook

Sheet Field data and Waste 1
A1: PAN reference | C1: PAN-004219 | F1: Total spread area | H1: 50 | AE1: Crop | AF1: P OFFTAKE
A2: Permit reference | C2: EPR/GP3792SK | F2: Waste type (EWC) | H2: 19 09 02 | AB2: %w/w SAR | AC2: Sandy | AD2: Solid | AE2: Winter wheat/barley | AF2: 8.4
A3: Operator | C3: ByProcuct Recovery Ltd | F3: Waste type (physical form) | H3: Sludge | AB3: %w/w DM | AC3: Sandy Loam | AD3: Liquid | AE3: Spring wheat/barley | AF3: 8.6
A4: Farm Address | C4: Bodnolwyn Groes Farm, Llantrisant, Anglesey LL65 4TW | F4: Waste Ref/Name | H4: DCWW Alaw | AB4: kg/t SAR | AC4: Medium/Clay | AD4: Sludge | AE4: Winter/spring oats | AF4: 8.8
A5: Assessed By | C5: Rohini Sawant | F5: Waste pH | H5: 7 | AB5: kg/t DM | AC5: Organic | AE5: Oilseed rape | AF5: 15.1
AB6: mg/kg SAR | AC6: Peat | AE6: Maize | AF6: 1.4
A7: Field number | C7: 1 | D7: 2 | E7: 3 | F7: 4 | G7: 5 | H7: 6 | I7: 7 | J7: 8 | K7: 9 | L7: 10 | M7: 11 | N7: 12 | O7: 13 | P7: 14 | Q7: 15 | R7: 16 | S7: 17 | T7: 18 | U7: 19 | V7: 20 | AB7: mg/kg DM | AE7: Fodder beet | AF7: 0.7
A8: Field Ref | C8: 7183 | D8: 5044 | E8: 4330 | F8: 3709 | G8: 289 | H8: 9719 | I8: 943 | J8: 3878 | AE8: Grass fresh (15%-20% DM) | AF8: 1.4
A9: SNS Index | C9: M | D9: M | E9: M | F9: 1 | G9: M | H9: M | I9: M | J9: M | AE9: Grass Silage (25% DM) | AF9: 1.7
A10: Field pH | C10: 6.2 | D10: 6.3 | E10: 6.3 | F10: 6.5 | G10: 5.6 | H10: 6.8 | I10: 6 | J10: 6 | AE10: Grass Silage (30%) | AF10: 2.1
A11: Phosphorus Index | C11: 2 | D11: 2 | E11: 1 | F11: 0 | G11: 0 | H11: 1 | I11: 0 | J11: 2 | AE11: Hay (86% DM) | AF11: 5.9
A12: Potassium Index | C12: 1 | D12: 1 | E12: 1 | F12: 1 | G12: 1 | H12: 0 | I12: 0 | J12: 1 | AE12: Haylege (45% DM) | AF12: 3.2
A13: Magnesium Index | C13: 3 | D13: 3 | E13: 3 | F13: 3 | G13: 3 | H13: 3 | I13: 3 | J13: 3
A14: Benefiting Crop | C14: Grass Silage (25% DM) | D14: Grass Silage (25% DM) | E14: Grass Silage (25% DM) | F14: Spring wheat/barley | G14: Grass Silage (25% DM) | H14: Grass Silage (25% DM) | I14: Grass Silage (25% DM) | J14: Grass Silage (25% DM)
A15: Expected Yield | C15: 42 | D15: 42 | E15: 42 | F15: 6 | G15: 42 | H15: 42 | I15: 42 | J15: 42
A16: Soil Type | C16: Medium/Clay | D16: Medium/Clay | E16: Medium/Clay | F16: Medium/Clay | G16: Medium/Clay | H16: Medium/Clay | I16: Medium/Clay | J16: Medium/Clay
A17: Phosphate Offtake | C17: =IF(C$14="Winter wheat/barley",8.4,IF(C$14="Spring wheat/barley",8.6,IF(C$14="Winter/spring oats",8.8, IF(C$14="Oilseed Rape",15.1,IF(C$14="Grass fresh (15%-20% DM)",1.4,IF(C$14="Grass Silage (25% DM)",1.7,IF(C$14="Grass Silage (30%)",2.1,IF(C$14="Hay (86% DM)",5.9,IF(C$14="Maize",1.4,IF(C$14="Fodder beet",0.7,IF(C$14="Haylege (45% DM)",3.2,"0")))))))))))*C15 -> 71.4 | D17: =IF(D$14="Winter wheat/barley",8.4,IF(D$14="Spring wheat/barley",8.6,IF(D$14="Winter/spring oats",8.8, IF(D$14="Oilseed Rape",15.1,IF(D$14="Grass fresh (15%-20% DM)",1.4,IF(D$14="Grass Silage (25% DM)",1.7,IF(D$14="Grass Silage (30%)",2.1,IF(D$14="Hay (86% DM)",5.9,IF(D$14="Maize",1.4,IF(D$14="Fodder beet",0.7,IF(D$14="Haylege (45% DM)",3.2,"0")))))))))))*D15 -> 71.4 | E17: =IF(E$14="Winter wheat/barley",8.4,IF(E$14="Spring wheat/barley",8.6,IF(E$14="Winter/spring oats",8.8, IF(E$14="Oilseed Rape",15.1,IF(E$14="Grass fresh (15%-20% DM)",1.4,IF(E$14="Grass Silage (25% DM)",1.7,IF(E$14="Grass Silage (30%)",2.1,IF(E$14="Hay (86% DM)",5.9,IF(E$14="Maize",1.4,IF(E$14="Fodder beet",0.7,IF(E$14="Haylege (45% DM)",3.2,"0")))))))))))*E15 -> 71.4 | F17: =IF(F$14="Winter wheat/barley",8.4,IF(F$14="Spring wheat/barley",8.6,IF(F$14="Winter/spring oats",8.8, IF(F$14="Oilseed Rape",15.1,IF(F$14="Grass fresh (15%-20% DM)",1.4,IF(F$14="Grass Silage (25% DM)",1.7,IF(F$14="Grass Silage (30%)",2.1,IF(F$14="Hay (86% DM)",5.9,IF(F$14="Maize",1.4,IF(F$14="Fodder beet",0.7,IF(F$14="Haylege (45% DM)",3.2,"0")))))))))))*F15 -> 51.6 | G17: =IF(G$14="Winter wheat/barley",8.4,IF(G$14="Spring wheat/barley",8.6,IF(G$14="Winter/spring oats",8.8, IF(G$14="Oilseed Rape",15.1,IF(G$14="Grass fresh (15%-20% DM)",1.4,IF(G$14="Grass Silage (25% DM)",1.7,IF(G$14="Grass Silage (30%)",2.1,IF(G$14="Hay (86% DM)",5.9,IF(G$14="Maize",1.4,IF(G$14="Fodder beet",0.7,IF(G$14="Haylege (45% DM)",3.2,"0")))))))))))*G15 -> 71.4 | H17: =IF(H$14="Winter wheat/barley",8.4,IF(H$14="Spring wheat/barley",8.6,IF(H$14="Winter/spring oats",8.8, IF(H$14="Oilseed Rape",15.1,IF(H$14="Grass fresh (15%-20% DM)",1.4,IF(H$14="Grass Silage (25% DM)",1.7,IF(H$14="Grass Silage (30%)",2.1,IF(H$14="Hay (86% DM)",5.9,IF(H$14="Maize",1.4,IF(H$14="Fodder beet",0.7,IF(H$14="Haylege (45% DM)",3.2,"0")))))))))))*H15 -> 71.4 | I17: =IF(I$14="Winter wheat/barley",8.4,IF(I$14="Spring wheat/barley",8.6,IF(I$14="Winter/spring oats",8.8, IF(I$14="Oilseed Rape",15.1,IF(I$14="Grass fresh (15%-20% DM)",1.4,IF(I$14="Grass Silage (25% DM)",1.7,IF(I$14="Grass Silage (30%)",2.1,IF(I$14="Hay (86% DM)",5.9,IF(I$14="Maize",1.4,IF(I$14="Fodder beet",0.7,IF(I$14="Haylege (45% DM)",3.2,"0")))))))))))*I15 -> 71.4 | J17: =IF(J$14="Winter wheat/barley",8.4,IF(J$14="Spring wheat/barley",8.6,IF(J$14="Winter/spring oats",8.8, IF(J$14="Oilseed Rape",15.1,IF(J$14="Grass fresh (15%-20% DM)",1.4,IF(J$14="Grass Silage (25% DM)",1.7,IF(J$14="Grass Silage (30%)",2.1,IF(J$14="Hay (86% DM)",5.9,IF(J$14="Maize",1.4,IF(J$14="Fodder beet",0.7,IF(J$14="Haylege (45% DM)",3.2,"0")))))))))))*J15 -> 71.4 | ... V17: =IF(V$14="Winter wheat/barley",8.4,IF(V$14="Spring wheat/barley",8.6,IF(V$14="Winter/spring oats",8.8, IF(V$14="Oilseed Rape",15.1,IF(V$14="Grass fresh (15%-20% DM)",1.4,IF(V$14="Grass Silage (25% DM)",1.7,IF(V$14="Grass Silage (30%)",2.1,IF(V$14="Hay (86% DM)",5.9,IF(V$14="Maize",1.4,IF(V$14="Fodder beet",0.7,IF(V$14="Haylege (45% DM)",3.2,"0")))))))))))*V15 -> 0
A18: Phosphate Addition | C18: =$D27 -> 34.71621 | D18: =$D28 -> 34.71621 | E18: =$D29 -> 34.71621 | F18: =$D30 -> 34.71621 | G18: =$D31 -> 0 | H18: =$D32 -> 34.71621 | I18: =$D33 -> 34.71621 | J18: =$D34 -> 34.71621 | K18: =$D35 -> 0 | L18: =$D36 -> 0 | M18: =$D37 -> 0 | N18: =$D38 -> 0 | O18: =$D39 -> 0 | P18: =$D40 -> 0 | Q18: =$D41 -> 0 | R18: =$D42 -> 0 | S18: =$D43 -> 0 | T18: =$D44 -> 0 | U18: =$D45 -> 0 | V18: =$D46 -> 0
A19: Difference | C19: =C18-C17 -> -36.68379 | D19: =D18-D17 -> -36.68379 | E19: =E18-E17 -> -36.68379 | F19: =F18-F17 -> -16.88379 | G19: =G18-G17 -> -71.4 | H19: =H18-H17 -> -36.68379 | I19: =I18-I17 -> -36.68379 | J19: =J18-J17 -> -36.68379 | ... V19: =V18-V17 -> 0
A20: Increase/decrease | C20: =IF($B27="","",IF(C$19>=0,"INCREASE","DECREASE")) -> DECREASE | D20: =IF($B28="","",IF(D$19>=0,"INCREASE","DECREASE")) -> DECREASE | E20: =IF($B29="","",IF(E$19>=0,"INCREASE","DECREASE")) -> DECREASE | F20: =IF($B30="","",IF(F$19>=0,"INCREASE","DECREASE")) -> DECREASE | G20: =IF($B31="","",IF(G$19>=0,"INCREASE","DECREASE")) -> DECREASE | H20: =IF($B32="","",IF(H$19>=0,"INCREASE","DECREASE")) -> DECREASE | I20: =IF($B33="","",IF(I$19>=0,"INCREASE","DECREASE")) -> DECREASE | J20: =IF($B34="","",IF(J$19>=0,"INCREASE","DECREASE")) -> DECREASE | K20: =IF($B35="","",IF(K$19>=0,"INCREASE","DECREASE")) | L20: =IF($B36="","",IF(L$19>=0,"INCREASE","DECREASE")) | M20: =IF($B37="","",IF(M$19>=0,"INCREASE","DECREASE")) | N20: =IF($B38="","",IF(N$19>=0,"INCREASE","DECREASE")) | O20: =IF($B39="","",IF(O$19>=0,"INCREASE","DECREASE")) | P20: =IF($B40="","",IF(P$19>=0,"INCREASE","DECREASE")) | Q20: =IF($B41="","",IF(Q$19>=0,"INCREASE","DECREASE")) | R20: =IF($B42="","",IF(R$19>=0,"INCREASE","DECREASE")) | S20: =IF($B43="","",IF(S$19>=0,"INCREASE","DECREASE")) | T20: =IF($B44="","",IF(T$19>=0,"INCREASE","DECREASE")) | U20: =IF($B45="","",IF(U$19>=0,"INCREASE","DECREASE")) | V20: =IF($B46="","",IF(V$19>=0,"INCREASE","DECREASE"))
B22: Dry Matter | C22: Total Nitrogen | D22: Total Phosphorus (P) | E22: Total Potassium (K) | F22: Total Magnesium (Mg) | G22: Total Copper | H22: Total Zinc | I22: Total Lead | J22: Total Cadmium | K22: Total Mercury | L22: Total Nickel | M22: Total Chromium | N22: Total Aluminium | O22: Total Iron | P22: Total Na (Sodium) | Q22: Total Sulphur (S) | R22: Total Selenium | S22: Total Arsenic | T22: Total Mo | U22: Total Fluoride | V22: Conductivity µS/cm | W22: Fats & Oils (%)
B23: % | C23: %w/w DM | D23: mg/kg DM | E23: mg/kg DM | F23: mg/kg DM | G23: mg/kg DM | H23: mg/kg DM | I23: mg/kg DM | J23: mg/kg DM | K23: mg/kg DM | L23: mg/kg DM | M23: mg/kg DM | N23: mg/kg DM | O23: mg/kg DM | P23: mg/kg DM | Q23: mg/kg DM | R23: mg/kg DM | S23: mg/kg DM | T23: mg/kg DM | U23: mg/kg DM
B24: 11.3 | C24: 1.48 | D24: 900 | E24: 190 | F24: 260 | G24: 39.5 | H24: 12.3 | I24: 6.2 | J24: 0.11 | K24: 0.45 | L24: 6.1 | M24: 4.3 | N24: 225000 | O24: 4500 | Q24: 10400 | S24: 14.7
A25: Field Ref | B25: Application Rate | C25: Nitrogen Addition | D25: Phosphate Addition | E25: Potash Addition | F25: Mg Oxide Addition | G25: Copper Addition | H25: Zinc Addition | I25: Lead Addition | J25: Cadmium Addition | K25: Mercury Addition | L25: Nickel Addition | M25: Chromium Addition | N25: Aluminium Addition | O25: Iron Addition | P25: Sodium Addition | Q25: SO3 Addition kg/ha | R25: Selenium Addition | S25: Arsenic Addition | T25: Molybdenum Addition | U25: Fluoride Addition | V25: Conductivity (Acceptable level 5000µS/cm) | W25: Fats & Oils (Acceptable level 4%)
B26: tonnes/ha | C26: kg/ha | D26: P2O5 kg/ha | E26: K2O kg/ha | F26: MgO kg/ha | G26: kg/ha | H26: kg/ha | I26: kg/ha | J26: kg/ha | K26: kg/ha | L26: kg/ha | M26: kg/ha | N26: kg/ha | O26: kg/ha | P26: kg/ha | Q26: kg/ha | R26: kg/ha | S26: kg/ha | T26: kg/ha | U26: kg/ha
A27: =C8 -> 7183 | B27: 149 | C27: =IF(C$23="%w/w SAR",((C$24*10)*$B27),IF(C$23="%w/w DM",(((C$24*10)*($B$24/100))*$B27),IF(C$23="kg/t SAR",(C$24*$B27),IF(C$23="kg/t DM",((C$24*($B$24/100))*$B27),IF(C$23="mg/kg SAR",((C$24*0.001)*$B27),IF(C$23="mg/kg DM",(((C$24*0.001)*($B$24/100))*$B27),0)))))) -> 249.1876 | D27: =(IF(D$23="%w/w SAR",((D$24*10)*$B27),IF(D$23="%w/w DM",(((D$24*10)*($B$24/100))*$B27),IF(D$23="kg/t SAR",(D$24*$B27),IF(D$23="kg/t DM",((D$24*($B$24/100))*$B27),IF(D$23="mg/kg SAR",((D$24*0.001)*$B27),IF(D$23="mg/kg DM",(((D$24*0.001)*($B$24/100))*$B27),"0")))))))*2.291 -> 34.71621 | E27: =(IF(E$23="%w/w SAR",((E$24*10)*$B27),IF(E$23="%w/w DM",(((E$24*10)*($B$24/100))*$B27),IF(E$23="kg/t SAR",(E$24*$B27),IF(E$23="kg/t DM",((E$24*($B$24/100))*$B27),IF(E$23="mg/kg SAR",((E$24*0.001)*$B27),IF(E$23="mg/kg DM",(((E$24*0.001)*($B$24/100))*$B27),"0")))))))*1.205 -> 3.8548312 | F27: =(IF(F$23="%w/w SAR",((F$24*10)*$B27),IF(F$23="%w/w DM",(((F$24*10)*($B$24/100))*$B27),IF(F$23="kg/t SAR",(F$24*$B27),IF(F$23="kg/t DM",((F$24*($B$24/100))*$B27),IF(F$23="mg/kg SAR",((F$24*0.001)*$B27),IF(F$23="mg/kg DM",(((F$24*0.001)*($B$24/100))*$B27),"0")))))))*1.658 -> 7.258094 | G27: =IF(G$23="%w/w SAR",((G$24*10)*$B27),IF(G$23="%w/w DM",(((G$24*10)*($B$24/100))*$B27),IF(G$23="kg/t SAR",(G$24*$B27),IF(G$23="kg/t DM",((G$24*($B$24/100))*$B27),IF(G$23="mg/kg SAR",((G$24*0.001)*$B27),IF(G$23="mg/kg DM",(((G$24*0.001)*($B$24/100))*$B27),0)))))) -> 0.6650615 | H27: =IF(H$23="%w/w SAR",((H$24*10)*$B27),IF(H$23="%w/w DM",(((H$24*10)*($B$24/100))*$B27),IF(H$23="kg/t SAR",(H$24*$B27),IF(H$23="kg/t DM",((H$24*($B$24/100))*$B27),IF(H$23="mg/kg SAR",((H$24*0.001)*$B27),IF(H$23="mg/kg DM",(((H$24*0.001)*($B$24/100))*$B27),0)))))) -> 0.2070951 | I27: =IF(I$23="%w/w SAR",((I$24*10)*$B27),IF(I$23="%w/w DM",(((I$24*10)*($B$24/100))*$B27),IF(I$23="kg/t SAR",(I$24*$B27),IF(I$23="kg/t DM",((I$24*($B$24/100))*$B27),IF(I$23="mg/kg SAR",((I$24*0.001)*$B27),IF(I$23="mg/kg DM",(((I$24*0.001)*($B$24/100))*$B27),0)))))) -> 0.1043894 | J27: =IF(J$23="%w/w SAR",((J$24*10)*$B27),IF(J$23="%w/w DM",(((J$24*10)*($B$24/100))*$B27),IF(J$23="kg/t SAR",(J$24*$B27),IF(J$23="kg/t DM",((J$24*($B$24/100))*$B27),IF(J$23="mg/kg SAR",((J$24*0.001)*$B27),IF(J$23="mg/kg DM",(((J$24*0.001)*($B$24/100))*$B27),0)))))) -> 0.00185207 | K27: =IF(K$23="%w/w SAR",((K$24*10)*$B27),IF(K$23="%w/w DM",(((K$24*10)*($B$24/100))*$B27),IF(K$23="kg/t SAR",(K$24*$B27),IF(K$23="kg/t DM",((K$24*($B$24/100))*$B27),IF(K$23="mg/kg SAR",((K$24*0.001)*$B27),IF(K$23="mg/kg DM",(((K$24*0.001)*($B$24/100))*$B27),0)))))) -> 0.00757665 | L27: =IF(L$23="%w/w SAR",((L$24*10)*$B27),IF(L$23="%w/w DM",(((L$24*10)*($B$24/100))*$B27),IF(L$23="kg/t SAR",(L$24*$B27),IF(L$23="kg/t DM",((L$24*($B$24/100))*$B27),IF(L$23="mg/kg SAR",((L$24*0.001)*$B27),IF(L$23="mg/kg DM",(((L$24*0.001)*($B$24/100))*$B27),0)))))) -> 0.1027057 | M27: =IF(M$23="%w/w SAR",((M$24*10)*$B27),IF(M$23="%w/w DM",(((M$24*10)*($B$24/100))*$B27),IF(M$23="kg/t SAR",(M$24*$B27),IF(M$23="kg/t DM",((M$24*($B$24/100))*$B27),IF(M$23="mg/kg SAR",((M$24*0.001)*$B27),IF(M$23="mg/kg DM",(((M$24*0.001)*($B$24/100))*$B27),0)))))) -> 0.0723991 | N27: =IF(N$23="%w/w SAR",((N$24*10)*$B27),IF(N$23="%w/w DM",(((N$24*10)*($B$24/100))*$B27),IF(N$23="kg/t SAR",(N$24*$B27),IF(N$23="kg/t DM",((N$24*($B$24/100))*$B27),IF(N$23="mg/kg SAR",((N$24*0.001)*$B27),IF(N$23="mg/kg DM",(((N$24*0.001)*($B$24/100))*$B27),0)))))) -> 3788.325 | ... P27: =IF(P$23="%w/w SAR",((P$24*10)*$B27),IF(P$23="%w/w DM",(((P$24*10)*($B$24/100))*$B27),IF(P$23="kg/t SAR",(P$24*$B27),IF(P$23="kg/t DM",((P$24*($B$24/100))*$B27),IF(P$23="mg/kg SAR",((P$24*0.001)*$B27),IF(P$23="mg/kg DM",(((P$24*0.001)*($B$24/100))*$B27),0)))))) -> 0 | Q27: =(IF(Q$23="%w/w SAR",((Q$24*10)*$B27),IF(Q$23="%w/w DM",(((Q$24*10)*($B$24/100))*$B27),IF(Q$23="kg/t SAR",(Q$24*$B27),IF(Q$23="kg/t DM",((Q$24*($B$24/100))*$B27),IF(Q$23="mg/kg SAR",((Q$24*0.001)*$B27),IF(Q$23="mg/kg DM",(((Q$24*0.001)*($B$24/100))*$B27),0)))))))*2.5 -> 437.762 | R27: =IF(R$23="%w/w SAR",((R$24*10)*$B27),IF(R$23="%w/w DM",(((R$24*10)*($B$24/100))*$B27),IF(R$23="kg/t SAR",(R$24*$B27),IF(R$23="kg/t DM",((R$24*($B$24/100))*$B27),IF(R$23="mg/kg SAR",((R$24*0.001)*$B27),IF(R$23="mg/kg DM",(((R$24*0.001)*($B$24/100))*$B27),0)))))) -> 0 | S27: =IF(S$23="%w/w SAR",((S$24*10)*$B27),IF(S$23="%w/w DM",(((S$24*10)*($B$24/100))*$B27),IF(S$23="kg/t SAR",(S$24*$B27),IF(S$23="kg/t DM",((S$24*($B$24/100))*$B27),IF(S$23="mg/kg SAR",((S$24*0.001)*$B27),IF(S$23="mg/kg DM",(((S$24*0.001)*($B$24/100))*$B27),0)))))) -> 0.2475039 | T27: =IF(T$23="%w/w SAR",((T$24*10)*$B27),IF(T$23="%w/w DM",(((T$24*10)*($B$24/100))*$B27),IF(T$23="kg/t SAR",(T$24*$B27),IF(T$23="kg/t DM",((T$24*($B$24/100))*$B27),IF(T$23="mg/kg SAR",((T$24*0.001)*$B27),IF(T$23="mg/kg DM",(((T$24*0.001)*($B$24/100))*$B27),0)))))) -> 0 | U27: =IF(U$23="%w/w SAR",((U$24*10)*$B27),IF(U$23="%w/w DM",(((U$24*10)*($B$24/100))*$B27),IF(U$23="kg/t SAR",(U$24*$B27),IF(U$23="kg/t DM",((U$24*($B$24/100))*$B27),IF(U$23="mg/kg SAR",((U$24*0.001)*$B27),IF(U$23="mg/kg DM",(((U$24*0.001)*($B$24/100))*$B27),0)))))) -> 0 | V27: =IF($V$24="",0,IF($V$24>5000,"NOT OK","OK")) -> 0 | W27: =IF($W$24="",0,IF($W$24>4,"Not OK","OK")) -> 0
A28: =D8 -> 5044 | B28: 149 | C28: =IF(C$23="%w/w SAR",((C$24*10)*$B28),IF(C$23="%w/w DM",(((C$24*10)*($B$24/100))*$B28),IF(C$23="kg/t SAR",(C$24*$B28),IF(C$23="kg/t DM",((C$24*($B$24/100))*$B28),IF(C$23="mg/kg SAR",((C$24*0.001)*$B28),IF(C$23="mg/kg DM",(((C$24*0.001)*($B$24/100))*$B28),0)))))) -> 249.1876 | D28: =(IF(D$23="%w/w SAR",((D$24*10)*$B28),IF(D$23="%w/w DM",(((D$24*10)*($B$24/100))*$B28),IF(D$23="kg/t SAR",(D$24*$B28),IF(D$23="kg/t DM",((D$24*($B$24/100))*$B28),IF(D$23="mg/kg SAR",((D$24*0.001)*$B28),IF(D$23="mg/kg DM",(((D$24*0.001)*($B$24/100))*$B28),"0")))))))*2.291 -> 34.71621 | E28: =(IF(E$23="%w/w SAR",((E$24*10)*$B28),IF(E$23="%w/w DM",(((E$24*10)*($B$24/100))*$B28),IF(E$23="kg/t SAR",(E$24*$B28),IF(E$23="kg/t DM",((E$24*($B$24/100))*$B28),IF(E$23="mg/kg SAR",((E$24*0.001)*$B28),IF(E$23="mg/kg DM",(((E$24*0.001)*($B$24/100))*$B28),"0")))))))*1.205 -> 3.8548312 | F28: =(IF(F$23="%w/w SAR",((F$24*10)*$B28),IF(F$23="%w/w DM",(((F$24*10)*($B$24/100))*$B28),IF(F$23="kg/t SAR",(F$24*$B28),IF(F$23="kg/t DM",((F$24*($B$24/100))*$B28),IF(F$23="mg/kg SAR",((F$24*0.001)*$B28),IF(F$23="mg/kg DM",(((F$24*0.001)*($B$24/100))*$B28),"0")))))))*1.658 -> 7.258094 | G28: =IF(G$23="%w/w SAR",((G$24*10)*$B28),IF(G$23="%w/w DM",(((G$24*10)*($B$24/100))*$B28),IF(G$23="kg/t SAR",(G$24*$B28),IF(G$23="kg/t DM",((G$24*($B$24/100))*$B28),IF(G$23="mg/kg SAR",((G$24*0.001)*$B28),IF(G$23="mg/kg DM",(((G$24*0.001)*($B$24/100))*$B28),0)))))) -> 0.6650615 | H28: =IF(H$23="%w/w SAR",((H$24*10)*$B28),IF(H$23="%w/w DM",(((H$24*10)*($B$24/100))*$B28),IF(H$23="kg/t SAR",(H$24*$B28),IF(H$23="kg/t DM",((H$24*($B$24/100))*$B28),IF(H$23="mg/kg SAR",((H$24*0.001)*$B28),IF(H$23="mg/kg DM",(((H$24*0.001)*($B$24/100))*$B28),0)))))) -> 0.2070951 | I28: =IF(I$23="%w/w SAR",((I$24*10)*$B28),IF(I$23="%w/w DM",(((I$24*10)*($B$24/100))*$B28),IF(I$23="kg/t SAR",(I$24*$B28),IF(I$23="kg/t DM",((I$24*($B$24/100))*$B28),IF(I$23="mg/kg SAR",((I$24*0.001)*$B28),IF(I$23="mg/kg DM",(((I$24*0.001)*($B$24/100))*$B28),0)))))) -> 0.1043894 | J28: =IF(J$23="%w/w SAR",((J$24*10)*$B28),IF(J$23="%w/w DM",(((J$24*10)*($B$24/100))*$B28),IF(J$23="kg/t SAR",(J$24*$B28),IF(J$23="kg/t DM",((J$24*($B$24/100))*$B28),IF(J$23="mg/kg SAR",((J$24*0.001)*$B28),IF(J$23="mg/kg DM",(((J$24*0.001)*($B$24/100))*$B28),0)))))) -> 0.00185207 | K28: =IF(K$23="%w/w SAR",((K$24*10)*$B28),IF(K$23="%w/w DM",(((K$24*10)*($B$24/100))*$B28),IF(K$23="kg/t SAR",(K$24*$B28),IF(K$23="kg/t DM",((K$24*($B$24/100))*$B28),IF(K$23="mg/kg SAR",((K$24*0.001)*$B28),IF(K$23="mg/kg DM",(((K$24*0.001)*($B$24/100))*$B28),0)))))) -> 0.00757665 | L28: =IF(L$23="%w/w SAR",((L$24*10)*$B28),IF(L$23="%w/w DM",(((L$24*10)*($B$24/100))*$B28),IF(L$23="kg/t SAR",(L$24*$B28),IF(L$23="kg/t DM",((L$24*($B$24/100))*$B28),IF(L$23="mg/kg SAR",((L$24*0.001)*$B28),IF(L$23="mg/kg DM",(((L$24*0.001)*($B$24/100))*$B28),0)))))) -> 0.1027057 | M28: =IF(M$23="%w/w SAR",((M$24*10)*$B28),IF(M$23="%w/w DM",(((M$24*10)*($B$24/100))*$B28),IF(M$23="kg/t SAR",(M$24*$B28),IF(M$23="kg/t DM",((M$24*($B$24/100))*$B28),IF(M$23="mg/kg SAR",((M$24*0.001)*$B28),IF(M$23="mg/kg DM",(((M$24*0.001)*($B$24/100))*$B28),0)))))) -> 0.0723991 | N28: =IF(N$23="%w/w SAR",((N$24*10)*$B28),IF(N$23="%w/w DM",(((N$24*10)*($B$24/100))*$B28),IF(N$23="kg/t SAR",(N$24*$B28),IF(N$23="kg/t DM",((N$24*($B$24/100))*$B28),IF(N$23="mg/kg SAR",((N$24*0.001)*$B28),IF(N$23="mg/kg DM",(((N$24*0.001)*($B$24/100))*$B28),0)))))) -> 3788.325 | ... P28: =IF(P$23="%w/w SAR",((P$24*10)*$B28),IF(P$23="%w/w DM",(((P$24*10)*($B$24/100))*$B28),IF(P$23="kg/t SAR",(P$24*$B28),IF(P$23="kg/t DM",((P$24*($B$24/100))*$B28),IF(P$23="mg/kg SAR",((P$24*0.001)*$B28),IF(P$23="mg/kg DM",(((P$24*0.001)*($B$24/100))*$B28),0)))))) -> 0 | Q28: =(IF(Q$23="%w/w SAR",((Q$24*10)*$B28),IF(Q$23="%w/w DM",(((Q$24*10)*($B$24/100))*$B28),IF(Q$23="kg/t SAR",(Q$24*$B28),IF(Q$23="kg/t DM",((Q$24*($B$24/100))*$B28),IF(Q$23="mg/kg SAR",((Q$24*0.001)*$B28),IF(Q$23="mg/kg DM",(((Q$24*0.001)*($B$24/100))*$B28),0)))))))*2.5 -> 437.762 | R28: =IF(R$23="%w/w SAR",((R$24*10)*$B28),IF(R$23="%w/w DM",(((R$24*10)*($B$24/100))*$B28),IF(R$23="kg/t SAR",(R$24*$B28),IF(R$23="kg/t DM",((R$24*($B$24/100))*$B28),IF(R$23="mg/kg SAR",((R$24*0.001)*$B28),IF(R$23="mg/kg DM",(((R$24*0.001)*($B$24/100))*$B28),0)))))) -> 0 | S28: =IF(S$23="%w/w SAR",((S$24*10)*$B28),IF(S$23="%w/w DM",(((S$24*10)*($B$24/100))*$B28),IF(S$23="kg/t SAR",(S$24*$B28),IF(S$23="kg/t DM",((S$24*($B$24/100))*$B28),IF(S$23="mg/kg SAR",((S$24*0.001)*$B28),IF(S$23="mg/kg DM",(((S$24*0.001)*($B$24/100))*$B28),0)))))) -> 0.2475039 | T28: =IF(T$23="%w/w SAR",((T$24*10)*$B28),IF(T$23="%w/w DM",(((T$24*10)*($B$24/100))*$B28),IF(T$23="kg/t SAR",(T$24*$B28),IF(T$23="kg/t DM",((T$24*($B$24/100))*$B28),IF(T$23="mg/kg SAR",((T$24*0.001)*$B28),IF(T$23="mg/kg DM",(((T$24*0.001)*($B$24/100))*$B28),0)))))) -> 0 | U28: =IF(U$23="%w/w SAR",((U$24*10)*$B28),IF(U$23="%w/w DM",(((U$24*10)*($B$24/100))*$B28),IF(U$23="kg/t SAR",(U$24*$B28),IF(U$23="kg/t DM",((U$24*($B$24/100))*$B28),IF(U$23="mg/kg SAR",((U$24*0.001)*$B28),IF(U$23="mg/kg DM",(((U$24*0.001)*($B$24/100))*$B28),0)))))) -> 0 | V28: =IF($V$24="",0,IF($V$24>5000,"NOT OK","OK")) -> 0 | W28: =IF($W$24="",0,IF($W$24>4,"Not OK","OK")) -> 0
A29: =E8 -> 4330 | B29: 149 | C29: =IF(C$23="%w/w SAR",((C$24*10)*$B29),IF(C$23="%w/w DM",(((C$24*10)*($B$24/100))*$B29),IF(C$23="kg/t SAR",(C$24*$B29),IF(C$23="kg/t DM",((C$24*($B$24/100))*$B29),IF(C$23="mg/kg SAR",((C$24*0.001)*$B29),IF(C$23="mg/kg DM",(((C$24*0.001)*($B$24/100))*$B29),0)))))) -> 249.1876 | D29: =(IF(D$23="%w/w SAR",((D$24*10)*$B29),IF(D$23="%w/w DM",(((D$24*10)*($B$24/100))*$B29),IF(D$23="kg/t SAR",(D$24*$B29),IF(D$23="kg/t DM",((D$24*($B$24/100))*$B29),IF(D$23="mg/kg SAR",((D$24*0.001)*$B29),IF(D$23="mg/kg DM",(((D$24*0.001)*($B$24/100))*$B29),"0")))))))*2.291 -> 34.71621 | E29: =(IF(E$23="%w/w SAR",((E$24*10)*$B29),IF(E$23="%w/w DM",(((E$24*10)*($B$24/100))*$B29),IF(E$23="kg/t SAR",(E$24*$B29),IF(E$23="kg/t DM",((E$24*($B$24/100))*$B29),IF(E$23="mg/kg SAR",((E$24*0.001)*$B29),IF(E$23="mg/kg DM",(((E$24*0.001)*($B$24/100))*$B29),"0")))))))*1.205 -> 3.8548312 | F29: =(IF(F$23="%w/w SAR",((F$24*10)*$B29),IF(F$23="%w/w DM",(((F$24*10)*($B$24/100))*$B29),IF(F$23="kg/t SAR",(F$24*$B29),IF(F$23="kg/t DM",((F$24*($B$24/100))*$B29),IF(F$23="mg/kg SAR",((F$24*0.001)*$B29),IF(F$23="mg/kg DM",(((F$24*0.001)*($B$24/100))*$B29),"0")))))))*1.658 -> 7.258094 | G29: =IF(G$23="%w/w SAR",((G$24*10)*$B29),IF(G$23="%w/w DM",(((G$24*10)*($B$24/100))*$B29),IF(G$23="kg/t SAR",(G$24*$B29),IF(G$23="kg/t DM",((G$24*($B$24/100))*$B29),IF(G$23="mg/kg SAR",((G$24*0.001)*$B29),IF(G$23="mg/kg DM",(((G$24*0.001)*($B$24/100))*$B29),0)))))) -> 0.6650615 | H29: =IF(H$23="%w/w SAR",((H$24*10)*$B29),IF(H$23="%w/w DM",(((H$24*10)*($B$24/100))*$B29),IF(H$23="kg/t SAR",(H$24*$B29),IF(H$23="kg/t DM",((H$24*($B$24/100))*$B29),IF(H$23="mg/kg SAR",((H$24*0.001)*$B29),IF(H$23="mg/kg DM",(((H$24*0.001)*($B$24/100))*$B29),0)))))) -> 0.2070951 | I29: =IF(I$23="%w/w SAR",((I$24*10)*$B29),IF(I$23="%w/w DM",(((I$24*10)*($B$24/100))*$B29),IF(I$23="kg/t SAR",(I$24*$B29),IF(I$23="kg/t DM",((I$24*($B$24/100))*$B29),IF(I$23="mg/kg SAR",((I$24*0.001)*$B29),IF(I$23="mg/kg DM",(((I$24*0.001)*($B$24/100))*$B29),0)))))) -> 0.1043894 | J29: =IF(J$23="%w/w SAR",((J$24*10)*$B29),IF(J$23="%w/w DM",(((J$24*10)*($B$24/100))*$B29),IF(J$23="kg/t SAR",(J$24*$B29),IF(J$23="kg/t DM",((J$24*($B$24/100))*$B29),IF(J$23="mg/kg SAR",((J$24*0.001)*$B29),IF(J$23="mg/kg DM",(((J$24*0.001)*($B$24/100))*$B29),0)))))) -> 0.00185207 | K29: =IF(K$23="%w/w SAR",((K$24*10)*$B29),IF(K$23="%w/w DM",(((K$24*10)*($B$24/100))*$B29),IF(K$23="kg/t SAR",(K$24*$B29),IF(K$23="kg/t DM",((K$24*($B$24/100))*$B29),IF(K$23="mg/kg SAR",((K$24*0.001)*$B29),IF(K$23="mg/kg DM",(((K$24*0.001)*($B$24/100))*$B29),0)))))) -> 0.00757665 | L29: =IF(L$23="%w/w SAR",((L$24*10)*$B29),IF(L$23="%w/w DM",(((L$24*10)*($B$24/100))*$B29),IF(L$23="kg/t SAR",(L$24*$B29),IF(L$23="kg/t DM",((L$24*($B$24/100))*$B29),IF(L$23="mg/kg SAR",((L$24*0.001)*$B29),IF(L$23="mg/kg DM",(((L$24*0.001)*($B$24/100))*$B29),0)))))) -> 0.1027057 | M29: =IF(M$23="%w/w SAR",((M$24*10)*$B29),IF(M$23="%w/w DM",(((M$24*10)*($B$24/100))*$B29),IF(M$23="kg/t SAR",(M$24*$B29),IF(M$23="kg/t DM",((M$24*($B$24/100))*$B29),IF(M$23="mg/kg SAR",((M$24*0.001)*$B29),IF(M$23="mg/kg DM",(((M$24*0.001)*($B$24/100))*$B29),0)))))) -> 0.0723991 | N29: =IF(N$23="%w/w SAR",((N$24*10)*$B29),IF(N$23="%w/w DM",(((N$24*10)*($B$24/100))*$B29),IF(N$23="kg/t SAR",(N$24*$B29),IF(N$23="kg/t DM",((N$24*($B$24/100))*$B29),IF(N$23="mg/kg SAR",((N$24*0.001)*$B29),IF(N$23="mg/kg DM",(((N$24*0.001)*($B$24/100))*$B29),0)))))) -> 3788.325 | ... P29: =IF(P$23="%w/w SAR",((P$24*10)*$B29),IF(P$23="%w/w DM",(((P$24*10)*($B$24/100))*$B29),IF(P$23="kg/t SAR",(P$24*$B29),IF(P$23="kg/t DM",((P$24*($B$24/100))*$B29),IF(P$23="mg/kg SAR",((P$24*0.001)*$B29),IF(P$23="mg/kg DM",(((P$24*0.001)*($B$24/100))*$B29),0)))))) -> 0 | Q29: =(IF(Q$23="%w/w SAR",((Q$24*10)*$B29),IF(Q$23="%w/w DM",(((Q$24*10)*($B$24/100))*$B29),IF(Q$23="kg/t SAR",(Q$24*$B29),IF(Q$23="kg/t DM",((Q$24*($B$24/100))*$B29),IF(Q$23="mg/kg SAR",((Q$24*0.001)*$B29),IF(Q$23="mg/kg DM",(((Q$24*0.001)*($B$24/100))*$B29),0)))))))*2.5 -> 437.762 | R29: =IF(R$23="%w/w SAR",((R$24*10)*$B29),IF(R$23="%w/w DM",(((R$24*10)*($B$24/100))*$B29),IF(R$23="kg/t SAR",(R$24*$B29),IF(R$23="kg/t DM",((R$24*($B$24/100))*$B29),IF(R$23="mg/kg SAR",((R$24*0.001)*$B29),IF(R$23="mg/kg DM",(((R$24*0.001)*($B$24/100))*$B29),0)))))) -> 0 | S29: =IF(S$23="%w/w SAR",((S$24*10)*$B29),IF(S$23="%w/w DM",(((S$24*10)*($B$24/100))*$B29),IF(S$23="kg/t SAR",(S$24*$B29),IF(S$23="kg/t DM",((S$24*($B$24/100))*$B29),IF(S$23="mg/kg SAR",((S$24*0.001)*$B29),IF(S$23="mg/kg DM",(((S$24*0.001)*($B$24/100))*$B29),0)))))) -> 0.2475039 | T29: =IF(T$23="%w/w SAR",((T$24*10)*$B29),IF(T$23="%w/w DM",(((T$24*10)*($B$24/100))*$B29),IF(T$23="kg/t SAR",(T$24*$B29),IF(T$23="kg/t DM",((T$24*($B$24/100))*$B29),IF(T$23="mg/kg SAR",((T$24*0.001)*$B29),IF(T$23="mg/kg DM",(((T$24*0.001)*($B$24/100))*$B29),0)))))) -> 0 | U29: =IF(U$23="%w/w SAR",((U$24*10)*$B29),IF(U$23="%w/w DM",(((U$24*10)*($B$24/100))*$B29),IF(U$23="kg/t SAR",(U$24*$B29),IF(U$23="kg/t DM",((U$24*($B$24/100))*$B29),IF(U$23="mg/kg SAR",((U$24*0.001)*$B29),IF(U$23="mg/kg DM",(((U$24*0.001)*($B$24/100))*$B29),0)))))) -> 0 | V29: =IF($V$24="",0,IF($V$24>5000,"NOT OK","OK")) -> 0 | W29: =IF($W$24="",0,IF($W$24>4,"Not OK","OK")) -> 0
A30: =F8 -> 3709 | B30: 149 | C30: =IF(C$23="%w/w SAR",((C$24*10)*$B30),IF(C$23="%w/w DM",(((C$24*10)*($B$24/100))*$B30),IF(C$23="kg/t SAR",(C$24*$B30),IF(C$23="kg/t DM",((C$24*($B$24/100))*$B30),IF(C$23="mg/kg SAR",((C$24*0.001)*$B30),IF(C$23="mg/kg DM",(((C$24*0.001)*($B$24/100))*$B30),0)))))) -> 249.1876 | D30: =(IF(D$23="%w/w SAR",((D$24*10)*$B30),IF(D$23="%w/w DM",(((D$24*10)*($B$24/100))*$B30),IF(D$23="kg/t SAR",(D$24*$B30),IF(D$23="kg/t DM",((D$24*($B$24/100))*$B30),IF(D$23="mg/kg SAR",((D$24*0.001)*$B30),IF(D$23="mg/kg DM",(((D$24*0.001)*($B$24/100))*$B30),"0")))))))*2.291 -> 34.71621 | E30: =(IF(E$23="%w/w SAR",((E$24*10)*$B30),IF(E$23="%w/w DM",(((E$24*10)*($B$24/100))*$B30),IF(E$23="kg/t SAR",(E$24*$B30),IF(E$23="kg/t DM",((E$24*($B$24/100))*$B30),IF(E$23="mg/kg SAR",((E$24*0.001)*$B30),IF(E$23="mg/kg DM",(((E$24*0.001)*($B$24/100))*$B30),"0")))))))*1.205 -> 3.8548312 | F30: =(IF(F$23="%w/w SAR",((F$24*10)*$B30),IF(F$23="%w/w DM",(((F$24*10)*($B$24/100))*$B30),IF(F$23="kg/t SAR",(F$24*$B30),IF(F$23="kg/t DM",((F$24*($B$24/100))*$B30),IF(F$23="mg/kg SAR",((F$24*0.001)*$B30),IF(F$23="mg/kg DM",(((F$24*0.001)*($B$24/100))*$B30),"0")))))))*1.658 -> 7.258094 | G30: =IF(G$23="%w/w SAR",((G$24*10)*$B30),IF(G$23="%w/w DM",(((G$24*10)*($B$24/100))*$B30),IF(G$23="kg/t SAR",(G$24*$B30),IF(G$23="kg/t DM",((G$24*($B$24/100))*$B30),IF(G$23="mg/kg SAR",((G$24*0.001)*$B30),IF(G$23="mg/kg DM",(((G$24*0.001)*($B$24/100))*$B30),0)))))) -> 0.6650615 | H30: =IF(H$23="%w/w SAR",((H$24*10)*$B30),IF(H$23="%w/w DM",(((H$24*10)*($B$24/100))*$B30),IF(H$23="kg/t SAR",(H$24*$B30),IF(H$23="kg/t DM",((H$24*($B$24/100))*$B30),IF(H$23="mg/kg SAR",((H$24*0.001)*$B30),IF(H$23="mg/kg DM",(((H$24*0.001)*($B$24/100))*$B30),0)))))) -> 0.2070951 | I30: =IF(I$23="%w/w SAR",((I$24*10)*$B30),IF(I$23="%w/w DM",(((I$24*10)*($B$24/100))*$B30),IF(I$23="kg/t SAR",(I$24*$B30),IF(I$23="kg/t DM",((I$24*($B$24/100))*$B30),IF(I$23="mg/kg SAR",((I$24*0.001)*$B30),IF(I$23="mg/kg DM",(((I$24*0.001)*($B$24/100))*$B30),0)))))) -> 0.1043894 | J30: =IF(J$23="%w/w SAR",((J$24*10)*$B30),IF(J$23="%w/w DM",(((J$24*10)*($B$24/100))*$B30),IF(J$23="kg/t SAR",(J$24*$B30),IF(J$23="kg/t DM",((J$24*($B$24/100))*$B30),IF(J$23="mg/kg SAR",((J$24*0.001)*$B30),IF(J$23="mg/kg DM",(((J$24*0.001)*($B$24/100))*$B30),0)))))) -> 0.00185207 | K30: =IF(K$23="%w/w SAR",((K$24*10)*$B30),IF(K$23="%w/w DM",(((K$24*10)*($B$24/100))*$B30),IF(K$23="kg/t SAR",(K$24*$B30),IF(K$23="kg/t DM",((K$24*($B$24/100))*$B30),IF(K$23="mg/kg SAR",((K$24*0.001)*$B30),IF(K$23="mg/kg DM",(((K$24*0.001)*($B$24/100))*$B30),0)))))) -> 0.00757665 | L30: =IF(L$23="%w/w SAR",((L$24*10)*$B30),IF(L$23="%w/w DM",(((L$24*10)*($B$24/100))*$B30),IF(L$23="kg/t SAR",(L$24*$B30),IF(L$23="kg/t DM",((L$24*($B$24/100))*$B30),IF(L$23="mg/kg SAR",((L$24*0.001)*$B30),IF(L$23="mg/kg DM",(((L$24*0.001)*($B$24/100))*$B30),0)))))) -> 0.1027057 | M30: =IF(M$23="%w/w SAR",((M$24*10)*$B30),IF(M$23="%w/w DM",(((M$24*10)*($B$24/100))*$B30),IF(M$23="kg/t SAR",(M$24*$B30),IF(M$23="kg/t DM",((M$24*($B$24/100))*$B30),IF(M$23="mg/kg SAR",((M$24*0.001)*$B30),IF(M$23="mg/kg DM",(((M$24*0.001)*($B$24/100))*$B30),0)))))) -> 0.0723991 | N30: =IF(N$23="%w/w SAR",((N$24*10)*$B30),IF(N$23="%w/w DM",(((N$24*10)*($B$24/100))*$B30),IF(N$23="kg/t SAR",(N$24*$B30),IF(N$23="kg/t DM",((N$24*($B$24/100))*$B30),IF(N$23="mg/kg SAR",((N$24*0.001)*$B30),IF(N$23="mg/kg DM",(((N$24*0.001)*($B$24/100))*$B30),0)))))) -> 3788.325 | ... P30: =IF(P$23="%w/w SAR",((P$24*10)*$B30),IF(P$23="%w/w DM",(((P$24*10)*($B$24/100))*$B30),IF(P$23="kg/t SAR",(P$24*$B30),IF(P$23="kg/t DM",((P$24*($B$24/100))*$B30),IF(P$23="mg/kg SAR",((P$24*0.001)*$B30),IF(P$23="mg/kg DM",(((P$24*0.001)*($B$24/100))*$B30),0)))))) -> 0 | Q30: =(IF(Q$23="%w/w SAR",((Q$24*10)*$B30),IF(Q$23="%w/w DM",(((Q$24*10)*($B$24/100))*$B30),IF(Q$23="kg/t SAR",(Q$24*$B30),IF(Q$23="kg/t DM",((Q$24*($B$24/100))*$B30),IF(Q$23="mg/kg SAR",((Q$24*0.001)*$B30),IF(Q$23="mg/kg DM",(((Q$24*0.001)*($B$24/100))*$B30),0)))))))*2.5 -> 437.762 | R30: =IF(R$23="%w/w SAR",((R$24*10)*$B30),IF(R$23="%w/w DM",(((R$24*10)*($B$24/100))*$B30),IF(R$23="kg/t SAR",(R$24*$B30),IF(R$23="kg/t DM",((R$24*($B$24/100))*$B30),IF(R$23="mg/kg SAR",((R$24*0.001)*$B30),IF(R$23="mg/kg DM",(((R$24*0.001)*($B$24/100))*$B30),0)))))) -> 0 | S30: =IF(S$23="%w/w SAR",((S$24*10)*$B30),IF(S$23="%w/w DM",(((S$24*10)*($B$24/100))*$B30),IF(S$23="kg/t SAR",(S$24*$B30),IF(S$23="kg/t DM",((S$24*($B$24/100))*$B30),IF(S$23="mg/kg SAR",((S$24*0.001)*$B30),IF(S$23="mg/kg DM",(((S$24*0.001)*($B$24/100))*$B30),0)))))) -> 0.2475039 | T30: =IF(T$23="%w/w SAR",((T$24*10)*$B30),IF(T$23="%w/w DM",(((T$24*10)*($B$24/100))*$B30),IF(T$23="kg/t SAR",(T$24*$B30),IF(T$23="kg/t DM",((T$24*($B$24/100))*$B30),IF(T$23="mg/kg SAR",((T$24*0.001)*$B30),IF(T$23="mg/kg DM",(((T$24*0.001)*($B$24/100))*$B30),0)))))) -> 0 | U30: =IF(U$23="%w/w SAR",((U$24*10)*$B30),IF(U$23="%w/w DM",(((U$24*10)*($B$24/100))*$B30),IF(U$23="kg/t SAR",(U$24*$B30),IF(U$23="kg/t DM",((U$24*($B$24/100))*$B30),IF(U$23="mg/kg SAR",((U$24*0.001)*$B30),IF(U$23="mg/kg DM",(((U$24*0.001)*($B$24/100))*$B30),0)))))) -> 0 | V30: =IF($V$24="",0,IF($V$24>5000,"NOT OK","OK")) -> 0 | W30: =IF($W$24="",0,IF($W$24>4,"Not OK","OK")) -> 0
A31: =G8 -> 289 | B31: 0 | C31: =IF(C$23="%w/w SAR",((C$24*10)*$B31),IF(C$23="%w/w DM",(((C$24*10)*($B$24/100))*$B31),IF(C$23="kg/t SAR",(C$24*$B31),IF(C$23="kg/t DM",((C$24*($B$24/100))*$B31),IF(C$23="mg/kg SAR",((C$24*0.001)*$B31),IF(C$23="mg/kg DM",(((C$24*0.001)*($B$24/100))*$B31),0)))))) -> 0 | D31: =(IF(D$23="%w/w SAR",((D$24*10)*$B31),IF(D$23="%w/w DM",(((D$24*10)*($B$24/100))*$B31),IF(D$23="kg/t SAR",(D$24*$B31),IF(D$23="kg/t DM",((D$24*($B$24/100))*$B31),IF(D$23="mg/kg SAR",((D$24*0.001)*$B31),IF(D$23="mg/kg DM",(((D$24*0.001)*($B$24/100))*$B31),"0")))))))*2.291 -> 0 | E31: =(IF(E$23="%w/w SAR",((E$24*10)*$B31),IF(E$23="%w/w DM",(((E$24*10)*($B$24/100))*$B31),IF(E$23="kg/t SAR",(E$24*$B31),IF(E$23="kg/t DM",((E$24*($B$24/100))*$B31),IF(E$23="mg/kg SAR",((E$24*0.001)*$B31),IF(E$23="mg/kg DM",(((E$24*0.001)*($B$24/100))*$B31),"0")))))))*1.205 -> 0 | F31: =(IF(F$23="%w/w SAR",((F$24*10)*$B31),IF(F$23="%w/w DM",(((F$24*10)*($B$24/100))*$B31),IF(F$23="kg/t SAR",(F$24*$B31),IF(F$23="kg/t DM",((F$24*($B$24/100))*$B31),IF(F$23="mg/kg SAR",((F$24*0.001)*$B31),IF(F$23="mg/kg DM",(((F$24*0.001)*($B$24/100))*$B31),"0")))))))*1.658 -> 0 | G31: =IF(G$23="%w/w SAR",((G$24*10)*$B31),IF(G$23="%w/w DM",(((G$24*10)*($B$24/100))*$B31),IF(G$23="kg/t SAR",(G$24*$B31),IF(G$23="kg/t DM",((G$24*($B$24/100))*$B31),IF(G$23="mg/kg SAR",((G$24*0.001)*$B31),IF(G$23="mg/kg DM",(((G$24*0.001)*($B$24/100))*$B31),0)))))) -> 0 | H31: =IF(H$23="%w/w SAR",((H$24*10)*$B31),IF(H$23="%w/w DM",(((H$24*10)*($B$24/100))*$B31),IF(H$23="kg/t SAR",(H$24*$B31),IF(H$23="kg/t DM",((H$24*($B$24/100))*$B31),IF(H$23="mg/kg SAR",((H$24*0.001)*$B31),IF(H$23="mg/kg DM",(((H$24*0.001)*($B$24/100))*$B31),0)))))) -> 0 | I31: =IF(I$23="%w/w SAR",((I$24*10)*$B31),IF(I$23="%w/w DM",(((I$24*10)*($B$24/100))*$B31),IF(I$23="kg/t SAR",(I$24*$B31),IF(I$23="kg/t DM",((I$24*($B$24/100))*$B31),IF(I$23="mg/kg SAR",((I$24*0.001)*$B31),IF(I$23="mg/kg DM",(((I$24*0.001)*($B$24/100))*$B31),0)))))) -> 0 | J31: =IF(J$23="%w/w SAR",((J$24*10)*$B31),IF(J$23="%w/w DM",(((J$24*10)*($B$24/100))*$B31),IF(J$23="kg/t SAR",(J$24*$B31),IF(J$23="kg/t DM",((J$24*($B$24/100))*$B31),IF(J$23="mg/kg SAR",((J$24*0.001)*$B31),IF(J$23="mg/kg DM",(((J$24*0.001)*($B$24/100))*$B31),0)))))) -> 0 | K31: =IF(K$23="%w/w SAR",((K$24*10)*$B31),IF(K$23="%w/w DM",(((K$24*10)*($B$24/100))*$B31),IF(K$23="kg/t SAR",(K$24*$B31),IF(K$23="kg/t DM",((K$24*($B$24/100))*$B31),IF(K$23="mg/kg SAR",((K$24*0.001)*$B31),IF(K$23="mg/kg DM",(((K$24*0.001)*($B$24/100))*$B31),0)))))) -> 0 | L31: =IF(L$23="%w/w SAR",((L$24*10)*$B31),IF(L$23="%w/w DM",(((L$24*10)*($B$24/100))*$B31),IF(L$23="kg/t SAR",(L$24*$B31),IF(L$23="kg/t DM",((L$24*($B$24/100))*$B31),IF(L$23="mg/kg SAR",((L$24*0.001)*$B31),IF(L$23="mg/kg DM",(((L$24*0.001)*($B$24/100))*$B31),0)))))) -> 0 | M31: =IF(M$23="%w/w SAR",((M$24*10)*$B31),IF(M$23="%w/w DM",(((M$24*10)*($B$24/100))*$B31),IF(M$23="kg/t SAR",(M$24*$B31),IF(M$23="kg/t DM",((M$24*($B$24/100))*$B31),IF(M$23="mg/kg SAR",((M$24*0.001)*$B31),IF(M$23="mg/kg DM",(((M$24*0.001)*($B$24/100))*$B31),0)))))) -> 0 | N31: =IF(N$23="%w/w SAR",((N$24*10)*$B31),IF(N$23="%w/w DM",(((N$24*10)*($B$24/100))*$B31),IF(N$23="kg/t SAR",(N$24*$B31),IF(N$23="kg/t DM",((N$24*($B$24/100))*$B31),IF(N$23="mg/kg SAR",((N$24*0.001)*$B31),IF(N$23="mg/kg DM",(((N$24*0.001)*($B$24/100))*$B31),0)))))) -> 0 | ... P31: =IF(P$23="%w/w SAR",((P$24*10)*$B31),IF(P$23="%w/w DM",(((P$24*10)*($B$24/100))*$B31),IF(P$23="kg/t SAR",(P$24*$B31),IF(P$23="kg/t DM",((P$24*($B$24/100))*$B31),IF(P$23="mg/kg SAR",((P$24*0.001)*$B31),IF(P$23="mg/kg DM",(((P$24*0.001)*($B$24/100))*$B31),0)))))) -> 0 | Q31: =(IF(Q$23="%w/w SAR",((Q$24*10)*$B31),IF(Q$23="%w/w DM",(((Q$24*10)*($B$24/100))*$B31),IF(Q$23="kg/t SAR",(Q$24*$B31),IF(Q$23="kg/t DM",((Q$24*($B$24/100))*$B31),IF(Q$23="mg/kg SAR",((Q$24*0.001)*$B31),IF(Q$23="mg/kg DM",(((Q$24*0.001)*($B$24/100))*$B31),0)))))))*2.5 -> 0 | R31: =IF(R$23="%w/w SAR",((R$24*10)*$B31),IF(R$23="%w/w DM",(((R$24*10)*($B$24/100))*$B31),IF(R$23="kg/t SAR",(R$24*$B31),IF(R$23="kg/t DM",((R$24*($B$24/100))*$B31),IF(R$23="mg/kg SAR",((R$24*0.001)*$B31),IF(R$23="mg/kg DM",(((R$24*0.001)*($B$24/100))*$B31),0)))))) -> 0 | S31: =IF(S$23="%w/w SAR",((S$24*10)*$B31),IF(S$23="%w/w DM",(((S$24*10)*($B$24/100))*$B31),IF(S$23="kg/t SAR",(S$24*$B31),IF(S$23="kg/t DM",((S$24*($B$24/100))*$B31),IF(S$23="mg/kg SAR",((S$24*0.001)*$B31),IF(S$23="mg/kg DM",(((S$24*0.001)*($B$24/100))*$B31),0)))))) -> 0 | T31: =IF(T$23="%w/w SAR",((T$24*10)*$B31),IF(T$23="%w/w DM",(((T$24*10)*($B$24/100))*$B31),IF(T$23="kg/t SAR",(T$24*$B31),IF(T$23="kg/t DM",((T$24*($B$24/100))*$B31),IF(T$23="mg/kg SAR",((T$24*0.001)*$B31),IF(T$23="mg/kg DM",(((T$24*0.001)*($B$24/100))*$B31),0)))))) -> 0 | U31: =IF(U$23="%w/w SAR",((U$24*10)*$B31),IF(U$23="%w/w DM",(((U$24*10)*($B$24/100))*$B31),IF(U$23="kg/t SAR",(U$24*$B31),IF(U$23="kg/t DM",((U$24*($B$24/100))*$B31),IF(U$23="mg/kg SAR",((U$24*0.001)*$B31),IF(U$23="mg/kg DM",(((U$24*0.001)*($B$24/100))*$B31),0)))))) -> 0 | V31: =IF($V$24="",0,IF($V$24>5000,"NOT OK","OK")) -> 0 | W31: =IF($W$24="",0,IF($W$24>4,"Not OK","OK")) -> 0
A32: =H8 -> 9719 | B32: 149 | C32: =IF(C$23="%w/w SAR",((C$24*10)*$B32),IF(C$23="%w/w DM",(((C$24*10)*($B$24/100))*$B32),IF(C$23="kg/t SAR",(C$24*$B32),IF(C$23="kg/t DM",((C$24*($B$24/100))*$B32),IF(C$23="mg/kg SAR",((C$24*0.001)*$B32),IF(C$23="mg/kg DM",(((C$24*0.001)*($B$24/100))*$B32),0)))))) -> 249.1876 | D32: =(IF(D$23="%w/w SAR",((D$24*10)*$B32),IF(D$23="%w/w DM",(((D$24*10)*($B$24/100))*$B32),IF(D$23="kg/t SAR",(D$24*$B32),IF(D$23="kg/t DM",((D$24*($B$24/100))*$B32),IF(D$23="mg/kg SAR",((D$24*0.001)*$B32),IF(D$23="mg/kg DM",(((D$24*0.001)*($B$24/100))*$B32),"0")))))))*2.291 -> 34.71621 | E32: =(IF(E$23="%w/w SAR",((E$24*10)*$B32),IF(E$23="%w/w DM",(((E$24*10)*($B$24/100))*$B32),IF(E$23="kg/t SAR",(E$24*$B32),IF(E$23="kg/t DM",((E$24*($B$24/100))*$B32),IF(E$23="mg/kg SAR",((E$24*0.001)*$B32),IF(E$23="mg/kg DM",(((E$24*0.001)*($B$24/100))*$B32),"0")))))))*1.205 -> 3.8548312 | F32: =(IF(F$23="%w/w SAR",((F$24*10)*$B32),IF(F$23="%w/w DM",(((F$24*10)*($B$24/100))*$B32),IF(F$23="kg/t SAR",(F$24*$B32),IF(F$23="kg/t DM",((F$24*($B$24/100))*$B32),IF(F$23="mg/kg SAR",((F$24*0.001)*$B32),IF(F$23="mg/kg DM",(((F$24*0.001)*($B$24/100))*$B32),"0")))))))*1.658 -> 7.258094 | G32: =IF(G$23="%w/w SAR",((G$24*10)*$B32),IF(G$23="%w/w DM",(((G$24*10)*($B$24/100))*$B32),IF(G$23="kg/t SAR",(G$24*$B32),IF(G$23="kg/t DM",((G$24*($B$24/100))*$B32),IF(G$23="mg/kg SAR",((G$24*0.001)*$B32),IF(G$23="mg/kg DM",(((G$24*0.001)*($B$24/100))*$B32),0)))))) -> 0.6650615 | H32: =IF(H$23="%w/w SAR",((H$24*10)*$B32),IF(H$23="%w/w DM",(((H$24*10)*($B$24/100))*$B32),IF(H$23="kg/t SAR",(H$24*$B32),IF(H$23="kg/t DM",((H$24*($B$24/100))*$B32),IF(H$23="mg/kg SAR",((H$24*0.001)*$B32),IF(H$23="mg/kg DM",(((H$24*0.001)*($B$24/100))*$B32),0)))))) -> 0.2070951 | I32: =IF(I$23="%w/w SAR",((I$24*10)*$B32),IF(I$23="%w/w DM",(((I$24*10)*($B$24/100))*$B32),IF(I$23="kg/t SAR",(I$24*$B32),IF(I$23="kg/t DM",((I$24*($B$24/100))*$B32),IF(I$23="mg/kg SAR",((I$24*0.001)*$B32),IF(I$23="mg/kg DM",(((I$24*0.001)*($B$24/100))*$B32),0)))))) -> 0.1043894 | J32: =IF(J$23="%w/w SAR",((J$24*10)*$B32),IF(J$23="%w/w DM",(((J$24*10)*($B$24/100))*$B32),IF(J$23="kg/t SAR",(J$24*$B32),IF(J$23="kg/t DM",((J$24*($B$24/100))*$B32),IF(J$23="mg/kg SAR",((J$24*0.001)*$B32),IF(J$23="mg/kg DM",(((J$24*0.001)*($B$24/100))*$B32),0)))))) -> 0.00185207 | K32: =IF(K$23="%w/w SAR",((K$24*10)*$B32),IF(K$23="%w/w DM",(((K$24*10)*($B$24/100))*$B32),IF(K$23="kg/t SAR",(K$24*$B32),IF(K$23="kg/t DM",((K$24*($B$24/100))*$B32),IF(K$23="mg/kg SAR",((K$24*0.001)*$B32),IF(K$23="mg/kg DM",(((K$24*0.001)*($B$24/100))*$B32),0)))))) -> 0.00757665 | L32: =IF(L$23="%w/w SAR",((L$24*10)*$B32),IF(L$23="%w/w DM",(((L$24*10)*($B$24/100))*$B32),IF(L$23="kg/t SAR",(L$24*$B32),IF(L$23="kg/t DM",((L$24*($B$24/100))*$B32),IF(L$23="mg/kg SAR",((L$24*0.001)*$B32),IF(L$23="mg/kg DM",(((L$24*0.001)*($B$24/100))*$B32),0)))))) -> 0.1027057 | M32: =IF(M$23="%w/w SAR",((M$24*10)*$B32),IF(M$23="%w/w DM",(((M$24*10)*($B$24/100))*$B32),IF(M$23="kg/t SAR",(M$24*$B32),IF(M$23="kg/t DM",((M$24*($B$24/100))*$B32),IF(M$23="mg/kg SAR",((M$24*0.001)*$B32),IF(M$23="mg/kg DM",(((M$24*0.001)*($B$24/100))*$B32),0)))))) -> 0.0723991 | N32: =IF(N$23="%w/w SAR",((N$24*10)*$B32),IF(N$23="%w/w DM",(((N$24*10)*($B$24/100))*$B32),IF(N$23="kg/t SAR",(N$24*$B32),IF(N$23="kg/t DM",((N$24*($B$24/100))*$B32),IF(N$23="mg/kg SAR",((N$24*0.001)*$B32),IF(N$23="mg/kg DM",(((N$24*0.001)*($B$24/100))*$B32),0)))))) -> 3788.325 | ... P32: =IF(P$23="%w/w SAR",((P$24*10)*$B32),IF(P$23="%w/w DM",(((P$24*10)*($B$24/100))*$B32),IF(P$23="kg/t SAR",(P$24*$B32),IF(P$23="kg/t DM",((P$24*($B$24/100))*$B32),IF(P$23="mg/kg SAR",((P$24*0.001)*$B32),IF(P$23="mg/kg DM",(((P$24*0.001)*($B$24/100))*$B32),0)))))) -> 0 | Q32: =(IF(Q$23="%w/w SAR",((Q$24*10)*$B32),IF(Q$23="%w/w DM",(((Q$24*10)*($B$24/100))*$B32),IF(Q$23="kg/t SAR",(Q$24*$B32),IF(Q$23="kg/t DM",((Q$24*($B$24/100))*$B32),IF(Q$23="mg/kg SAR",((Q$24*0.001)*$B32),IF(Q$23="mg/kg DM",(((Q$24*0.001)*($B$24/100))*$B32),0)))))))*2.5 -> 437.762 | R32: =IF(R$23="%w/w SAR",((R$24*10)*$B32),IF(R$23="%w/w DM",(((R$24*10)*($B$24/100))*$B32),IF(R$23="kg/t SAR",(R$24*$B32),IF(R$23="kg/t DM",((R$24*($B$24/100))*$B32),IF(R$23="mg/kg SAR",((R$24*0.001)*$B32),IF(R$23="mg/kg DM",(((R$24*0.001)*($B$24/100))*$B32),0)))))) -> 0 | S32: =IF(S$23="%w/w SAR",((S$24*10)*$B32),IF(S$23="%w/w DM",(((S$24*10)*($B$24/100))*$B32),IF(S$23="kg/t SAR",(S$24*$B32),IF(S$23="kg/t DM",((S$24*($B$24/100))*$B32),IF(S$23="mg/kg SAR",((S$24*0.001)*$B32),IF(S$23="mg/kg DM",(((S$24*0.001)*($B$24/100))*$B32),0)))))) -> 0.2475039 | T32: =IF(T$23="%w/w SAR",((T$24*10)*$B32),IF(T$23="%w/w DM",(((T$24*10)*($B$24/100))*$B32),IF(T$23="kg/t SAR",(T$24*$B32),IF(T$23="kg/t DM",((T$24*($B$24/100))*$B32),IF(T$23="mg/kg SAR",((T$24*0.001)*$B32),IF(T$23="mg/kg DM",(((T$24*0.001)*($B$24/100))*$B32),0)))))) -> 0 | U32: =IF(U$23="%w/w SAR",((U$24*10)*$B32),IF(U$23="%w/w DM",(((U$24*10)*($B$24/100))*$B32),IF(U$23="kg/t SAR",(U$24*$B32),IF(U$23="kg/t DM",((U$24*($B$24/100))*$B32),IF(U$23="mg/kg SAR",((U$24*0.001)*$B32),IF(U$23="mg/kg DM",(((U$24*0.001)*($B$24/100))*$B32),0)))))) -> 0 | V32: =IF($V$24="",0,IF($V$24>5000,"NOT OK","OK")) -> 0 | W32: =IF($W$24="",0,IF($W$24>4,"Not OK","OK")) -> 0
A33: =I8 -> 943 | B33: 149 | C33: =IF(C$23="%w/w SAR",((C$24*10)*$B33),IF(C$23="%w/w DM",(((C$24*10)*($B$24/100))*$B33),IF(C$23="kg/t SAR",(C$24*$B33),IF(C$23="kg/t DM",((C$24*($B$24/100))*$B33),IF(C$23="mg/kg SAR",((C$24*0.001)*$B33),IF(C$23="mg/kg DM",(((C$24*0.001)*($B$24/100))*$B33),0)))))) -> 249.1876 | D33: =(IF(D$23="%w/w SAR",((D$24*10)*$B33),IF(D$23="%w/w DM",(((D$24*10)*($B$24/100))*$B33),IF(D$23="kg/t SAR",(D$24*$B33),IF(D$23="kg/t DM",((D$24*($B$24/100))*$B33),IF(D$23="mg/kg SAR",((D$24*0.001)*$B33),IF(D$23="mg/kg DM",(((D$24*0.001)*($B$24/100))*$B33),"0")))))))*2.291 -> 34.71621 | E33: =(IF(E$23="%w/w SAR",((E$24*10)*$B33),IF(E$23="%w/w DM",(((E$24*10)*($B$24/100))*$B33),IF(E$23="kg/t SAR",(E$24*$B33),IF(E$23="kg/t DM",((E$24*($B$24/100))*$B33),IF(E$23="mg/kg SAR",((E$24*0.001)*$B33),IF(E$23="mg/kg DM",(((E$24*0.001)*($B$24/100))*$B33),"0")))))))*1.205 -> 3.8548312 | F33: =(IF(F$23="%w/w SAR",((F$24*10)*$B33),IF(F$23="%w/w DM",(((F$24*10)*($B$24/100))*$B33),IF(F$23="kg/t SAR",(F$24*$B33),IF(F$23="kg/t DM",((F$24*($B$24/100))*$B33),IF(F$23="mg/kg SAR",((F$24*0.001)*$B33),IF(F$23="mg/kg DM",(((F$24*0.001)*($B$24/100))*$B33),"0")))))))*1.658 -> 7.258094 | G33: =IF(G$23="%w/w SAR",((G$24*10)*$B33),IF(G$23="%w/w DM",(((G$24*10)*($B$24/100))*$B33),IF(G$23="kg/t SAR",(G$24*$B33),IF(G$23="kg/t DM",((G$24*($B$24/100))*$B33),IF(G$23="mg/kg SAR",((G$24*0.001)*$B33),IF(G$23="mg/kg DM",(((G$24*0.001)*($B$24/100))*$B33),0)))))) -> 0.6650615 | H33: =IF(H$23="%w/w SAR",((H$24*10)*$B33),IF(H$23="%w/w DM",(((H$24*10)*($B$24/100))*$B33),IF(H$23="kg/t SAR",(H$24*$B33),IF(H$23="kg/t DM",((H$24*($B$24/100))*$B33),IF(H$23="mg/kg SAR",((H$24*0.001)*$B33),IF(H$23="mg/kg DM",(((H$24*0.001)*($B$24/100))*$B33),0)))))) -> 0.2070951 | I33: =IF(I$23="%w/w SAR",((I$24*10)*$B33),IF(I$23="%w/w DM",(((I$24*10)*($B$24/100))*$B33),IF(I$23="kg/t SAR",(I$24*$B33),IF(I$23="kg/t DM",((I$24*($B$24/100))*$B33),IF(I$23="mg/kg SAR",((I$24*0.001)*$B33),IF(I$23="mg/kg DM",(((I$24*0.001)*($B$24/100))*$B33),0)))))) -> 0.1043894 | J33: =IF(J$23="%w/w SAR",((J$24*10)*$B33),IF(J$23="%w/w DM",(((J$24*10)*($B$24/100))*$B33),IF(J$23="kg/t SAR",(J$24*$B33),IF(J$23="kg/t DM",((J$24*($B$24/100))*$B33),IF(J$23="mg/kg SAR",((J$24*0.001)*$B33),IF(J$23="mg/kg DM",(((J$24*0.001)*($B$24/100))*$B33),0)))))) -> 0.00185207 | K33: =IF(K$23="%w/w SAR",((K$24*10)*$B33),IF(K$23="%w/w DM",(((K$24*10)*($B$24/100))*$B33),IF(K$23="kg/t SAR",(K$24*$B33),IF(K$23="kg/t DM",((K$24*($B$24/100))*$B33),IF(K$23="mg/kg SAR",((K$24*0.001)*$B33),IF(K$23="mg/kg DM",(((K$24*0.001)*($B$24/100))*$B33),0)))))) -> 0.00757665 | L33: =IF(L$23="%w/w SAR",((L$24*10)*$B33),IF(L$23="%w/w DM",(((L$24*10)*($B$24/100))*$B33),IF(L$23="kg/t SAR",(L$24*$B33),IF(L$23="kg/t DM",((L$24*($B$24/100))*$B33),IF(L$23="mg/kg SAR",((L$24*0.001)*$B33),IF(L$23="mg/kg DM",(((L$24*0.001)*($B$24/100))*$B33),0)))))) -> 0.1027057 | M33: =IF(M$23="%w/w SAR",((M$24*10)*$B33),IF(M$23="%w/w DM",(((M$24*10)*($B$24/100))*$B33),IF(M$23="kg/t SAR",(M$24*$B33),IF(M$23="kg/t DM",((M$24*($B$24/100))*$B33),IF(M$23="mg/kg SAR",((M$24*0.001)*$B33),IF(M$23="mg/kg DM",(((M$24*0.001)*($B$24/100))*$B33),0)))))) -> 0.0723991 | N33: =IF(N$23="%w/w SAR",((N$24*10)*$B33),IF(N$23="%w/w DM",(((N$24*10)*($B$24/100))*$B33),IF(N$23="kg/t SAR",(N$24*$B33),IF(N$23="kg/t DM",((N$24*($B$24/100))*$B33),IF(N$23="mg/kg SAR",((N$24*0.001)*$B33),IF(N$23="mg/kg DM",(((N$24*0.001)*($B$24/100))*$B33),0)))))) -> 3788.325 | ... P33: =IF(P$23="%w/w SAR",((P$24*10)*$B33),IF(P$23="%w/w DM",(((P$24*10)*($B$24/100))*$B33),IF(P$23="kg/t SAR",(P$24*$B33),IF(P$23="kg/t DM",((P$24*($B$24/100))*$B33),IF(P$23="mg/kg SAR",((P$24*0.001)*$B33),IF(P$23="mg/kg DM",(((P$24*0.001)*($B$24/100))*$B33),0)))))) -> 0 | Q33: =(IF(Q$23="%w/w SAR",((Q$24*10)*$B33),IF(Q$23="%w/w DM",(((Q$24*10)*($B$24/100))*$B33),IF(Q$23="kg/t SAR",(Q$24*$B33),IF(Q$23="kg/t DM",((Q$24*($B$24/100))*$B33),IF(Q$23="mg/kg SAR",((Q$24*0.001)*$B33),IF(Q$23="mg/kg DM",(((Q$24*0.001)*($B$24/100))*$B33),0)))))))*2.5 -> 437.762 | R33: =IF(R$23="%w/w SAR",((R$24*10)*$B33),IF(R$23="%w/w DM",(((R$24*10)*($B$24/100))*$B33),IF(R$23="kg/t SAR",(R$24*$B33),IF(R$23="kg/t DM",((R$24*($B$24/100))*$B33),IF(R$23="mg/kg SAR",((R$24*0.001)*$B33),IF(R$23="mg/kg DM",(((R$24*0.001)*($B$24/100))*$B33),0)))))) -> 0 | S33: =IF(S$23="%w/w SAR",((S$24*10)*$B33),IF(S$23="%w/w DM",(((S$24*10)*($B$24/100))*$B33),IF(S$23="kg/t SAR",(S$24*$B33),IF(S$23="kg/t DM",((S$24*($B$24/100))*$B33),IF(S$23="mg/kg SAR",((S$24*0.001)*$B33),IF(S$23="mg/kg DM",(((S$24*0.001)*($B$24/100))*$B33),0)))))) -> 0.2475039 | T33: =IF(T$23="%w/w SAR",((T$24*10)*$B33),IF(T$23="%w/w DM",(((T$24*10)*($B$24/100))*$B33),IF(T$23="kg/t SAR",(T$24*$B33),IF(T$23="kg/t DM",((T$24*($B$24/100))*$B33),IF(T$23="mg/kg SAR",((T$24*0.001)*$B33),IF(T$23="mg/kg DM",(((T$24*0.001)*($B$24/100))*$B33),0)))))) -> 0 | U33: =IF(U$23="%w/w SAR",((U$24*10)*$B33),IF(U$23="%w/w DM",(((U$24*10)*($B$24/100))*$B33),IF(U$23="kg/t SAR",(U$24*$B33),IF(U$23="kg/t DM",((U$24*($B$24/100))*$B33),IF(U$23="mg/kg SAR",((U$24*0.001)*$B33),IF(U$23="mg/kg DM",(((U$24*0.001)*($B$24/100))*$B33),0)))))) -> 0 | V33: =IF($V$24="",0,IF($V$24>5000,"NOT OK","OK")) -> 0 | W33: =IF($W$24="",0,IF($W$24>4,"Not OK","OK")) -> 0
A34: =J8 -> 3878 | B34: 149 | C34: =IF(C$23="%w/w SAR",((C$24*10)*$B34),IF(C$23="%w/w DM",(((C$24*10)*($B$24/100))*$B34),IF(C$23="kg/t SAR",(C$24*$B34),IF(C$23="kg/t DM",((C$24*($B$24/100))*$B34),IF(C$23="mg/kg SAR",((C$24*0.001)*$B34),IF(C$23="mg/kg DM",(((C$24*0.001)*($B$24/100))*$B34),0)))))) -> 249.1876 | D34: =(IF(D$23="%w/w SAR",((D$24*10)*$B34),IF(D$23="%w/w DM",(((D$24*10)*($B$24/100))*$B34),IF(D$23="kg/t SAR",(D$24*$B34),IF(D$23="kg/t DM",((D$24*($B$24/100))*$B34),IF(D$23="mg/kg SAR",((D$24*0.001)*$B34),IF(D$23="mg/kg DM",(((D$24*0.001)*($B$24/100))*$B34),"0")))))))*2.291 -> 34.71621 | E34: =(IF(E$23="%w/w SAR",((E$24*10)*$B34),IF(E$23="%w/w DM",(((E$24*10)*($B$24/100))*$B34),IF(E$23="kg/t SAR",(E$24*$B34),IF(E$23="kg/t DM",((E$24*($B$24/100))*$B34),IF(E$23="mg/kg SAR",((E$24*0.001)*$B34),IF(E$23="mg/kg DM",(((E$24*0.001)*($B$24/100))*$B34),"0")))))))*1.205 -> 3.8548312 | F34: =(IF(F$23="%w/w SAR",((F$24*10)*$B34),IF(F$23="%w/w DM",(((F$24*10)*($B$24/100))*$B34),IF(F$23="kg/t SAR",(F$24*$B34),IF(F$23="kg/t DM",((F$24*($B$24/100))*$B34),IF(F$23="mg/kg SAR",((F$24*0.001)*$B34),IF(F$23="mg/kg DM",(((F$24*0.001)*($B$24/100))*$B34),"0")))))))*1.658 -> 7.258094 | G34: =IF(G$23="%w/w SAR",((G$24*10)*$B34),IF(G$23="%w/w DM",(((G$24*10)*($B$24/100))*$B34),IF(G$23="kg/t SAR",(G$24*$B34),IF(G$23="kg/t DM",((G$24*($B$24/100))*$B34),IF(G$23="mg/kg SAR",((G$24*0.001)*$B34),IF(G$23="mg/kg DM",(((G$24*0.001)*($B$24/100))*$B34),0)))))) -> 0.6650615 | H34: =IF(H$23="%w/w SAR",((H$24*10)*$B34),IF(H$23="%w/w DM",(((H$24*10)*($B$24/100))*$B34),IF(H$23="kg/t SAR",(H$24*$B34),IF(H$23="kg/t DM",((H$24*($B$24/100))*$B34),IF(H$23="mg/kg SAR",((H$24*0.001)*$B34),IF(H$23="mg/kg DM",(((H$24*0.001)*($B$24/100))*$B34),0)))))) -> 0.2070951 | I34: =IF(I$23="%w/w SAR",((I$24*10)*$B34),IF(I$23="%w/w DM",(((I$24*10)*($B$24/100))*$B34),IF(I$23="kg/t SAR",(I$24*$B34),IF(I$23="kg/t DM",((I$24*($B$24/100))*$B34),IF(I$23="mg/kg SAR",((I$24*0.001)*$B34),IF(I$23="mg/kg DM",(((I$24*0.001)*($B$24/100))*$B34),0)))))) -> 0.1043894 | J34: =IF(J$23="%w/w SAR",((J$24*10)*$B34),IF(J$23="%w/w DM",(((J$24*10)*($B$24/100))*$B34),IF(J$23="kg/t SAR",(J$24*$B34),IF(J$23="kg/t DM",((J$24*($B$24/100))*$B34),IF(J$23="mg/kg SAR",((J$24*0.001)*$B34),IF(J$23="mg/kg DM",(((J$24*0.001)*($B$24/100))*$B34),0)))))) -> 0.00185207 | K34: =IF(K$23="%w/w SAR",((K$24*10)*$B34),IF(K$23="%w/w DM",(((K$24*10)*($B$24/100))*$B34),IF(K$23="kg/t SAR",(K$24*$B34),IF(K$23="kg/t DM",((K$24*($B$24/100))*$B34),IF(K$23="mg/kg SAR",((K$24*0.001)*$B34),IF(K$23="mg/kg DM",(((K$24*0.001)*($B$24/100))*$B34),0)))))) -> 0.00757665 | L34: =IF(L$23="%w/w SAR",((L$24*10)*$B34),IF(L$23="%w/w DM",(((L$24*10)*($B$24/100))*$B34),IF(L$23="kg/t SAR",(L$24*$B34),IF(L$23="kg/t DM",((L$24*($B$24/100))*$B34),IF(L$23="mg/kg SAR",((L$24*0.001)*$B34),IF(L$23="mg/kg DM",(((L$24*0.001)*($B$24/100))*$B34),0)))))) -> 0.1027057 | M34: =IF(M$23="%w/w SAR",((M$24*10)*$B34),IF(M$23="%w/w DM",(((M$24*10)*($B$24/100))*$B34),IF(M$23="kg/t SAR",(M$24*$B34),IF(M$23="kg/t DM",((M$24*($B$24/100))*$B34),IF(M$23="mg/kg SAR",((M$24*0.001)*$B34),IF(M$23="mg/kg DM",(((M$24*0.001)*($B$24/100))*$B34),0)))))) -> 0.0723991 | N34: =IF(N$23="%w/w SAR",((N$24*10)*$B34),IF(N$23="%w/w DM",(((N$24*10)*($B$24/100))*$B34),IF(N$23="kg/t SAR",(N$24*$B34),IF(N$23="kg/t DM",((N$24*($B$24/100))*$B34),IF(N$23="mg/kg SAR",((N$24*0.001)*$B34),IF(N$23="mg/kg DM",(((N$24*0.001)*($B$24/100))*$B34),0)))))) -> 3788.325 | ... P34: =IF(P$23="%w/w SAR",((P$24*10)*$B34),IF(P$23="%w/w DM",(((P$24*10)*($B$24/100))*$B34),IF(P$23="kg/t SAR",(P$24*$B34),IF(P$23="kg/t DM",((P$24*($B$24/100))*$B34),IF(P$23="mg/kg SAR",((P$24*0.001)*$B34),IF(P$23="mg/kg DM",(((P$24*0.001)*($B$24/100))*$B34),0)))))) -> 0 | Q34: =(IF(Q$23="%w/w SAR",((Q$24*10)*$B34),IF(Q$23="%w/w DM",(((Q$24*10)*($B$24/100))*$B34),IF(Q$23="kg/t SAR",(Q$24*$B34),IF(Q$23="kg/t DM",((Q$24*($B$24/100))*$B34),IF(Q$23="mg/kg SAR",((Q$24*0.001)*$B34),IF(Q$23="mg/kg DM",(((Q$24*0.001)*($B$24/100))*$B34),0)))))))*2.5 -> 437.762 | R34: =IF(R$23="%w/w SAR",((R$24*10)*$B34),IF(R$23="%w/w DM",(((R$24*10)*($B$24/100))*$B34),IF(R$23="kg/t SAR",(R$24*$B34),IF(R$23="kg/t DM",((R$24*($B$24/100))*$B34),IF(R$23="mg/kg SAR",((R$24*0.001)*$B34),IF(R$23="mg/kg DM",(((R$24*0.001)*($B$24/100))*$B34),0)))))) -> 0 | S34: =IF(S$23="%w/w SAR",((S$24*10)*$B34),IF(S$23="%w/w DM",(((S$24*10)*($B$24/100))*$B34),IF(S$23="kg/t SAR",(S$24*$B34),IF(S$23="kg/t DM",((S$24*($B$24/100))*$B34),IF(S$23="mg/kg SAR",((S$24*0.001)*$B34),IF(S$23="mg/kg DM",(((S$24*0.001)*($B$24/100))*$B34),0)))))) -> 0.2475039 | T34: =IF(T$23="%w/w SAR",((T$24*10)*$B34),IF(T$23="%w/w DM",(((T$24*10)*($B$24/100))*$B34),IF(T$23="kg/t SAR",(T$24*$B34),IF(T$23="kg/t DM",((T$24*($B$24/100))*$B34),IF(T$23="mg/kg SAR",((T$24*0.001)*$B34),IF(T$23="mg/kg DM",(((T$24*0.001)*($B$24/100))*$B34),0)))))) -> 0 | U34: =IF(U$23="%w/w SAR",((U$24*10)*$B34),IF(U$23="%w/w DM",(((U$24*10)*($B$24/100))*$B34),IF(U$23="kg/t SAR",(U$24*$B34),IF(U$23="kg/t DM",((U$24*($B$24/100))*$B34),IF(U$23="mg/kg SAR",((U$24*0.001)*$B34),IF(U$23="mg/kg DM",(((U$24*0.001)*($B$24/100))*$B34),0)))))) -> 0 | V34: =IF($V$24="",0,IF($V$24>5000,"NOT OK","OK")) -> 0 | W34: =IF($W$24="",0,IF($W$24>4,"Not OK","OK")) -> 0
A35: =K8 -> 0 | C35: =IF(C$23="%w/w SAR",((C$24*10)*$B35),IF(C$23="%w/w DM",(((C$24*10)*($B$24/100))*$B35),IF(C$23="kg/t SAR",(C$24*$B35),IF(C$23="kg/t DM",((C$24*($B$24/100))*$B35),IF(C$23="mg/kg SAR",((C$24*0.001)*$B35),IF(C$23="mg/kg DM",(((C$24*0.001)*($B$24/100))*$B35),0)))))) -> 0 | D35: =(IF(D$23="%w/w SAR",((D$24*10)*$B35),IF(D$23="%w/w DM",(((D$24*10)*($B$24/100))*$B35),IF(D$23="kg/t SAR",(D$24*$B35),IF(D$23="kg/t DM",((D$24*($B$24/100))*$B35),IF(D$23="mg/kg SAR",((D$24*0.001)*$B35),IF(D$23="mg/kg DM",(((D$24*0.001)*($B$24/100))*$B35),"0")))))))*2.291 -> 0 | E35: =(IF(E$23="%w/w SAR",((E$24*10)*$B35),IF(E$23="%w/w DM",(((E$24*10)*($B$24/100))*$B35),IF(E$23="kg/t SAR",(E$24*$B35),IF(E$23="kg/t DM",((E$24*($B$24/100))*$B35),IF(E$23="mg/kg SAR",((E$24*0.001)*$B35),IF(E$23="mg/kg DM",(((E$24*0.001)*($B$24/100))*$B35),"0")))))))*1.205 -> 0 | F35: =(IF(F$23="%w/w SAR",((F$24*10)*$B35),IF(F$23="%w/w DM",(((F$24*10)*($B$24/100))*$B35),IF(F$23="kg/t SAR",(F$24*$B35),IF(F$23="kg/t DM",((F$24*($B$24/100))*$B35),IF(F$23="mg/kg SAR",((F$24*0.001)*$B35),IF(F$23="mg/kg DM",(((F$24*0.001)*($B$24/100))*$B35),"0")))))))*1.658 -> 0 | G35: =IF(G$23="%w/w SAR",((G$24*10)*$B35),IF(G$23="%w/w DM",(((G$24*10)*($B$24/100))*$B35),IF(G$23="kg/t SAR",(G$24*$B35),IF(G$23="kg/t DM",((G$24*($B$24/100))*$B35),IF(G$23="mg/kg SAR",((G$24*0.001)*$B35),IF(G$23="mg/kg DM",(((G$24*0.001)*($B$24/100))*$B35),0)))))) -> 0 | H35: =IF(H$23="%w/w SAR",((H$24*10)*$B35),IF(H$23="%w/w DM",(((H$24*10)*($B$24/100))*$B35),IF(H$23="kg/t SAR",(H$24*$B35),IF(H$23="kg/t DM",((H$24*($B$24/100))*$B35),IF(H$23="mg/kg SAR",((H$24*0.001)*$B35),IF(H$23="mg/kg DM",(((H$24*0.001)*($B$24/100))*$B35),0)))))) -> 0 | I35: =IF(I$23="%w/w SAR",((I$24*10)*$B35),IF(I$23="%w/w DM",(((I$24*10)*($B$24/100))*$B35),IF(I$23="kg/t SAR",(I$24*$B35),IF(I$23="kg/t DM",((I$24*($B$24/100))*$B35),IF(I$23="mg/kg SAR",((I$24*0.001)*$B35),IF(I$23="mg/kg DM",(((I$24*0.001)*($B$24/100))*$B35),0)))))) -> 0 | J35: =IF(J$23="%w/w SAR",((J$24*10)*$B35),IF(J$23="%w/w DM",(((J$24*10)*($B$24/100))*$B35),IF(J$23="kg/t SAR",(J$24*$B35),IF(J$23="kg/t DM",((J$24*($B$24/100))*$B35),IF(J$23="mg/kg SAR",((J$24*0.001)*$B35),IF(J$23="mg/kg DM",(((J$24*0.001)*($B$24/100))*$B35),0)))))) -> 0 | K35: =IF(K$23="%w/w SAR",((K$24*10)*$B35),IF(K$23="%w/w DM",(((K$24*10)*($B$24/100))*$B35),IF(K$23="kg/t SAR",(K$24*$B35),IF(K$23="kg/t DM",((K$24*($B$24/100))*$B35),IF(K$23="mg/kg SAR",((K$24*0.001)*$B35),IF(K$23="mg/kg DM",(((K$24*0.001)*($B$24/100))*$B35),0)))))) -> 0 | L35: =IF(L$23="%w/w SAR",((L$24*10)*$B35),IF(L$23="%w/w DM",(((L$24*10)*($B$24/100))*$B35),IF(L$23="kg/t SAR",(L$24*$B35),IF(L$23="kg/t DM",((L$24*($B$24/100))*$B35),IF(L$23="mg/kg SAR",((L$24*0.001)*$B35),IF(L$23="mg/kg DM",(((L$24*0.001)*($B$24/100))*$B35),0)))))) -> 0 | M35: =IF(M$23="%w/w SAR",((M$24*10)*$B35),IF(M$23="%w/w DM",(((M$24*10)*($B$24/100))*$B35),IF(M$23="kg/t SAR",(M$24*$B35),IF(M$23="kg/t DM",((M$24*($B$24/100))*$B35),IF(M$23="mg/kg SAR",((M$24*0.001)*$B35),IF(M$23="mg/kg DM",(((M$24*0.001)*($B$24/100))*$B35),0)))))) -> 0 | N35: =IF(N$23="%w/w SAR",((N$24*10)*$B35),IF(N$23="%w/w DM",(((N$24*10)*($B$24/100))*$B35),IF(N$23="kg/t SAR",(N$24*$B35),IF(N$23="kg/t DM",((N$24*($B$24/100))*$B35),IF(N$23="mg/kg SAR",((N$24*0.001)*$B35),IF(N$23="mg/kg DM",(((N$24*0.001)*($B$24/100))*$B35),0)))))) -> 0 | ... P35: =IF(P$23="%w/w SAR",((P$24*10)*$B35),IF(P$23="%w/w DM",(((P$24*10)*($B$24/100))*$B35),IF(P$23="kg/t SAR",(P$24*$B35),IF(P$23="kg/t DM",((P$24*($B$24/100))*$B35),IF(P$23="mg/kg SAR",((P$24*0.001)*$B35),IF(P$23="mg/kg DM",(((P$24*0.001)*($B$24/100))*$B35),0)))))) -> 0 | Q35: =(IF(Q$23="%w/w SAR",((Q$24*10)*$B35),IF(Q$23="%w/w DM",(((Q$24*10)*($B$24/100))*$B35),IF(Q$23="kg/t SAR",(Q$24*$B35),IF(Q$23="kg/t DM",((Q$24*($B$24/100))*$B35),IF(Q$23="mg/kg SAR",((Q$24*0.001)*$B35),IF(Q$23="mg/kg DM",(((Q$24*0.001)*($B$24/100))*$B35),0)))))))*2.5 -> 0 | R35: =IF(R$23="%w/w SAR",((R$24*10)*$B35),IF(R$23="%w/w DM",(((R$24*10)*($B$24/100))*$B35),IF(R$23="kg/t SAR",(R$24*$B35),IF(R$23="kg/t DM",((R$24*($B$24/100))*$B35),IF(R$23="mg/kg SAR",((R$24*0.001)*$B35),IF(R$23="mg/kg DM",(((R$24*0.001)*($B$24/100))*$B35),0)))))) -> 0 | S35: =IF(S$23="%w/w SAR",((S$24*10)*$B35),IF(S$23="%w/w DM",(((S$24*10)*($B$24/100))*$B35),IF(S$23="kg/t SAR",(S$24*$B35),IF(S$23="kg/t DM",((S$24*($B$24/100))*$B35),IF(S$23="mg/kg SAR",((S$24*0.001)*$B35),IF(S$23="mg/kg DM",(((S$24*0.001)*($B$24/100))*$B35),0)))))) -> 0 | T35: =IF(T$23="%w/w SAR",((T$24*10)*$B35),IF(T$23="%w/w DM",(((T$24*10)*($B$24/100))*$B35),IF(T$23="kg/t SAR",(T$24*$B35),IF(T$23="kg/t DM",((T$24*($B$24/100))*$B35),IF(T$23="mg/kg SAR",((T$24*0.001)*$B35),IF(T$23="mg/kg DM",(((T$24*0.001)*($B$24/100))*$B35),0)))))) -> 0 | U35: =IF(U$23="%w/w SAR",((U$24*10)*$B35),IF(U$23="%w/w DM",(((U$24*10)*($B$24/100))*$B35),IF(U$23="kg/t SAR",(U$24*$B35),IF(U$23="kg/t DM",((U$24*($B$24/100))*$B35),IF(U$23="mg/kg SAR",((U$24*0.001)*$B35),IF(U$23="mg/kg DM",(((U$24*0.001)*($B$24/100))*$B35),0)))))) -> 0 | V35: =IF($V$24="",0,IF($V$24>5000,"NOT OK","OK")) -> 0 | W35: =IF($W$24="",0,IF($W$24>4,"Not OK","OK")) -> 0
