Workbook

Sheet Bolton Hill
A1: PAN reference | C1: PAN-008803 | F1: Total spread area | H1: 49.9 ha | AE1: Crop | AF1: P OFFTAKE
A2: Permit reference | C2: RP3596ET | F2: Waste type (EWC) | H2: 19 09 02 | AB2: %w/w SAR | AC2: Sandy | AD2: Solid | AE2: Winter wheat/barley | AF2: 8.4
A3: Operator | C3: Mr Bryan Llewellyn | F3: Waste type (physical form) | H3: Sludge | AB3: %w/w DM | AC3: Sandy Loam | AD3: Liquid | AE3: Spring wheat/barley | AF3: 8.6
A4: Farm Address | C4: Abergelli Farm, Felindre, Swansea, SA5 7NN | F4: Waste Ref/Name | H4: DCWW Bolton Hill | AB4: kg/t SAR | AC4: Medium/Clay | AD4: Sludge | AE4: Winter/spring oats | AF4: 8.8
A5: Assessed By | C5: Rhiannon Smith | F5: Waste pH | H5: 5.38 | AB5: kg/t DM | AC5: Organic | AE5: Oilseed rape | AF5: 15.1
AB6: mg/kg SAR | AC6: Peat | AE6: Maize | AF6: 1.4
A7: Field number | C7: 1 | D7: 2 | E7: 3 | F7: 4 | G7: 5 | H7: 6 | I7: 7 | J7: 8 | K7: 9 | L7: 10 | M7: 11 | N7: 12 | O7: 13 | P7: 14 | Q7: 15 | R7: 16 | S7: 17 | T7: 18 | U7: 19 | V7: 20 | AB7: mg/kg DM | AE7: Fodder beet | AF7: 0.7
A8: Field Ref | C8: 1294 | D8: 2225 | E8: 3210 | F8: 3732 | G8: 4144 | H8: 5867 | I8: 1808 | J8: 16 | K8: 17 | L8: 18 | M8: 24 | N8: 25 | O8: 26 | P8: 27 | Q8: 33 | R8: 34 | S8: 35 | T8: 36a | U8: 37 | AE8: Grass fresh (15%-20% DM) | AF8: 1.4
A9: SNS Index | C9: M | D9: M | E9: M | F9: M | G9: M | H9: M | I9: M | J9: M | K9: M | L9: M | M9: M | N9: M | O9: M | P9: M | Q9: M | R9: M | S9: M | T9: M | U9: M | AE9: Grass Silage (25% DM) | AF9: 1.7
A10: Field pH | C10: 7 | D10: 7.6 | E10: 7.3 | F10: 7.5 | G10: 7.7 | H10: 7.9 | I10: 6.4 | J10: 8.4 | K10: 8.4 | L10: 8.6 | M10: 8.2 | N10: 8.2 | O10: 7.6 | P10: 7.2 | Q10: 7.1 | R10: 7.1 | S10: 7 | T10: 7.9 | U10: 8 | AE10: Grass Silage (30%) | AF10: 2.1
A11: Phosphorus Index | C11: 0 | D11: 0 | E11: 0 | F11: 0 | G11: 0 | H11: 0 | I11: 2 | J11: 1 | K11: 0 | L11: 1 | M11: 0 | N11: 0 | O11: 1 | P11: 1 | Q11: 1 | R11: 1 | S11: 0 | T11: 0 | U11: 0 | AE11: Hay (86% DM) | AF11: 5.9
A12: Potassium Index | C12: 1 | D12: 1 | E12: 1 | F12: 1 | G12: 1 | H12: 1 | I12: 2 | J12: 1 | K12: 1 | L12: 1 | M12: 1 | N12: 1 | O12: 2 | P12: 1 | Q12: 1 | R12: 2 | S12: 1 | T12: 1 | U12: 1 | AE12: Haylege (45% DM) | AF12: 3.2
A13: Magnesium Index | C13: 2 | D13: 3 | E13: 2 | F13: 2 | G13: 3 | H13: 3 | I13: 4 | J13: 6 | K13: 5 | L13: 6 | M13: 3 | N13: 4 | O13: 5 | P13: 4 | Q13: 5 | R13: 6 | S13: 5 | T13: 3 | U13: 3
A14: Benefiting Crop | C14: Grass Silage (25% DM) | D14: Grass Silage (25% DM) | E14: Grass Silage (25% DM) | F14: Grass Silage (25% DM) | G14: Grass Silage (25% DM) | H14: Grass Silage (25% DM) | I14: Grass Silage (25% DM) | J14: Grass Silage (25% DM) | K14: Grass Silage (25% DM) | L14: Grass Silage (25% DM) | M14: Grass Silage (25% DM) | N14: Grass Silage (25% DM) | O14: Grass Silage (25% DM) | P14: Grass Silage (25% DM) | Q14: Grass Silage (25% DM) | R14: Grass Silage (25% DM) | S14: Grass Silage (25% DM) | T14: Grass Silage (25% DM) | U14: Grass Silage (25% DM)
A15: Expected Yield | C15: 32 | D15: 32 | E15: 32 | F15: 32 | G15: 32 | H15: 32 | I15: 32 | J15: 32 | K15: 32 | L15: 32 | M15: 32 | N15: 32 | O15: 32 | P15: 32 | Q15: 32 | R15: 32 | S15: 32 | T15: 32 | U15: 32
A16: Soil Type | C16: Medium/Clay | D16: Medium/Clay | E16: Medium/Clay | F16: Medium/Clay | G16: Medium/Clay | H16: Medium/Clay | I16: Medium/Clay | J16: Medium/Clay | K16: Medium/Clay | L16: Medium/Clay | M16: Medium/Clay | N16: Medium/Clay | O16: Medium/Clay | P16: Medium/Clay | Q16: Medium/Clay | R16: Medium/Clay | S16: Medium/Clay | T16: Medium/Clay | U16: Medium/Clay
A17: Phosphate Offtake | C17: =IF(C$14="Winter wheat/barley",8.4,IF(C$14="Spring wheat/barley",8.6,IF(C$14="Winter/spring oats",8.8, IF(C$14="Oilseed Rape",15.1,IF(C$14="Grass fresh (15%-20% DM)",1.4,IF(C$14="Grass Silage (25% DM)",1.7,IF(C$14="Grass Silage (30%)",2.1,IF(C$14="Hay (86% DM)",5.9,IF(C$14="Maize",1.4,IF(C$14="Fodder beet",0.7,IF(C$14="Haylege (45% DM)",3.2,"0")))))))))))*C15 -> 54.4 | D17: =IF(D$14="Winter wheat/barley",8.4,IF(D$14="Spring wheat/barley",8.6,IF(D$14="Winter/spring oats",8.8, IF(D$14="Oilseed Rape",15.1,IF(D$14="Grass fresh (15%-20% DM)",1.4,IF(D$14="Grass Silage (25% DM)",1.7,IF(D$14="Grass Silage (30%)",2.1,IF(D$14="Hay (86% DM)",5.9,IF(D$14="Maize",1.4,IF(D$14="Fodder beet",0.7,IF(D$14="Haylege (45% DM)",3.2,"0")))))))))))*D15 -> 54.4 | E17: =IF(E$14="Winter wheat/barley",8.4,IF(E$14="Spring wheat/barley",8.6,IF(E$14="Winter/spring oats",8.8, IF(E$14="Oilseed Rape",15.1,IF(E$14="Grass fresh (15%-20% DM)",1.4,IF(E$14="Grass Silage (25% DM)",1.7,IF(E$14="Grass Silage (30%)",2.1,IF(E$14="Hay (86% DM)",5.9,IF(E$14="Maize",1.4,IF(E$14="Fodder beet",0.7,IF(E$14="Haylege (45% DM)",3.2,"0")))))))))))*E15 -> 54.4 | F17: =IF(F$14="Winter wheat/barley",8.4,IF(F$14="Spring wheat/barley",8.6,IF(F$14="Winter/spring oats",8.8, IF(F$14="Oilseed Rape",15.1,IF(F$14="Grass fresh (15%-20% DM)",1.4,IF(F$14="Grass Silage (25% DM)",1.7,IF(F$14="Grass Silage (30%)",2.1,IF(F$14="Hay (86% DM)",5.9,IF(F$14="Maize",1.4,IF(F$14="Fodder beet",0.7,IF(F$14="Haylege (45% DM)",3.2,"0")))))))))))*F15 -> 54.4 | G17: =IF(G$14="Winter wheat/barley",8.4,IF(G$14="Spring wheat/barley",8.6,IF(G$14="Winter/spring oats",8.8, IF(G$14="Oilseed Rape",15.1,IF(G$14="Grass fresh (15%-20% DM)",1.4,IF(G$14="Grass Silage (25% DM)",1.7,IF(G$14="Grass Silage (30%)",2.1,IF(G$14="Hay (86% DM)",5.9,IF(G$14="Maize",1.4,IF(G$14="Fodder beet",0.7,IF(G$14="Haylege (45% DM)",3.2,"0")))))))))))*G15 -> 54.4 | H17: =IF(H$14="Winter wheat/barley",8.4,IF(H$14="Spring wheat/barley",8.6,IF(H$14="Winter/spring oats",8.8, IF(H$14="Oilseed Rape",15.1,IF(H$14="Grass fresh (15%-20% DM)",1.4,IF(H$14="Grass Silage (25% DM)",1.7,IF(H$14="Grass Silage (30%)",2.1,IF(H$14="Hay (86% DM)",5.9,IF(H$14="Maize",1.4,IF(H$14="Fodder beet",0.7,IF(H$14="Haylege (45% DM)",3.2,"0")))))))))))*H15 -> 54.4 | I17: =IF(I$14="Winter wheat/barley",8.4,IF(I$14="Spring wheat/barley",8.6,IF(I$14="Winter/spring oats",8.8, IF(I$14="Oilseed Rape",15.1,IF(I$14="Grass fresh (15%-20% DM)",1.4,IF(I$14="Grass Silage (25% DM)",1.7,IF(I$14="Grass Silage (30%)",2.1,IF(I$14="Hay (86% DM)",5.9,IF(I$14="Maize",1.4,IF(I$14="Fodder beet",0.7,IF(I$14="Haylege (45% DM)",3.2,"0")))))))))))*I15 -> 54.4 | J17: =IF(J$14="Winter wheat/barley",8.4,IF(J$14="Spring wheat/barley",8.6,IF(J$14="Winter/spring oats",8.8, IF(J$14="Oilseed Rape",15.1,IF(J$14="Grass fresh (15%-20% DM)",1.4,IF(J$14="Grass Silage (25% DM)",1.7,IF(J$14="Grass Silage (30%)",2.1,IF(J$14="Hay (86% DM)",5.9,IF(J$14="Maize",1.4,IF(J$14="Fodder beet",0.7,IF(J$14="Haylege (45% DM)",3.2,"0")))))))))))*J15 -> 54.4 | ... V17: =IF(V$14="Winter wheat/barley",8.4,IF(V$14="Spring wheat/barley",8.6,IF(V$14="Winter/spring oats",8.8, IF(V$14="Oilseed Rape",15.1,IF(V$14="Grass fresh (15%-20% DM)",1.4,IF(V$14="Grass Silage (25% DM)",1.7,IF(V$14="Grass Silage (30%)",2.1,IF(V$14="Hay (86% DM)",5.9,IF(V$14="Maize",1.4,IF(V$14="Fodder beet",0.7,IF(V$14="Haylege (45% DM)",3.2,"0")))))))))))*V15 -> 0
A18: Phosphate Addition | C18: =$D27 -> 35.0523 | D18: =$D28 -> 35.0523 | E18: =$D29 -> 35.0523 | F18: =$D30 -> 35.0523 | G18: =$D31 -> 35.0523 | H18: =$D32 -> 35.0523 | I18: =$D33 -> 35.0523 | J18: =$D34 -> 35.0523 | K18: =$D35 -> 35.0523 | L18: =$D36 -> 35.0523 | M18: =$D37 -> 35.0523 | N18: =$D38 -> 35.0523 | O18: =$D39 -> 35.0523 | P18: =$D40 -> 35.0523 | Q18: =$D41 -> 35.0523 | R18: =$D42 -> 35.0523 | S18: =$D43 -> 35.0523 | T18: =$D44 -> 35.0523 | U18: =$D45 -> 35.0523 | V18: =$D46 -> 0
A19: Difference | C19: =C18-C17 -> -19.3477 | D19: =D18-D17 -> -19.3477 | E19: =E18-E17 -> -19.3477 | F19: =F18-F17 -> -19.3477 | G19: =G18-G17 -> -19.3477 | H19: =H18-H17 -> -19.3477 | I19: =I18-I17 -> -19.3477 | J19: =J18-J17 -> -19.3477 | ... V19: =V18-V17 -> 0
A20: Increase/decrease | C20: =IF($B27="","",IF(C$19>=0,"INCREASE","DECREASE")) -> DECREASE | D20: =IF($B28="","",IF(D$19>=0,"INCREASE","DECREASE")) -> DECREASE | E20: =IF($B29="","",IF(E$19>=0,"INCREASE","DECREASE")) -> DECREASE | F20: =IF($B30="","",IF(F$19>=0,"INCREASE","DECREASE")) -> DECREASE | G20: =IF($B31="","",IF(G$19>=0,"INCREASE","DECREASE")) -> DECREASE | H20: =IF($B32="","",IF(H$19>=0,"INCREASE","DECREASE")) -> DECREASE | I20: =IF($B33="","",IF(I$19>=0,"INCREASE","DECREASE")) -> DECREASE | J20: =IF($B34="","",IF(J$19>=0,"INCREASE","DECREASE")) -> DECREASE | K20: =IF($B35="","",IF(K$19>=0,"INCREASE","DECREASE")) -> DECREASE | L20: =IF($B36="","",IF(L$19>=0,"INCREASE","DECREASE")) -> DECREASE | M20: =IF($B37="","",IF(M$19>=0,"INCREASE","DECREASE")) -> DECREASE | N20: =IF($B38="","",IF(N$19>=0,"INCREASE","DECREASE")) -> DECREASE | O20: =IF($B39="","",IF(O$19>=0,"INCREASE","DECREASE")) -> DECREASE | P20: =IF($B40="","",IF(P$19>=0,"INCREASE","DECREASE")) -> DECREASE | Q20: =IF($B41="","",IF(Q$19>=0,"INCREASE","DECREASE")) -> DECREASE | R20: =IF($B42="","",IF(R$19>=0,"INCREASE","DECREASE")) -> DECREASE | S20: =IF($B43="","",IF(S$19>=0,"INCREASE","DECREASE")) -> DECREASE | T20: =IF($B44="","",IF(T$19>=0,"INCREASE","DECREASE")) -> DECREASE | U20: =IF($B45="","",IF(U$19>=0,"INCREASE","DECREASE")) -> DECREASE | V20: =IF($B46="","",IF(V$19>=0,"INCREASE","DECREASE"))
B22: Dry Matter | C22: Total Nitrogen | D22: Total Phosphorus (P) | E22: Total Potassium (K) | F22: Total Magnesium (Mg) | G22: Total Copper | H22: Total Zinc | I22: Total Lead | J22: Total Cadmium | K22: Total Mercury | L22: Total Nickel | M22: Total Chromium | N22: Total Aluminium | O22: Total Iron | P22: Total Na (Sodium) | Q22: Total Sulphur (S) | R22: Total Selenium | S22: Total Arsenic | T22: Total Mo | U22: Total Fluoride | V22: Conductivity µS/cm | W22: Fats & Oils (%)
B23: % | C23: %w/w SAR | D23: mg/kg SAR | E23: mg/kg SAR | F23: mg/kg SAR | G23: mg/kg SAR | H23: mg/kg SAR | I23: mg/kg SAR | J23: mg/kg SAR | K23: mg/kg SAR | L23: mg/kg SAR | M23: mg/kg SAR | N23: mg/kg SAR | O23: mg/kg SAR | P23: mg/kg SAR | Q23: mg/kg SAR | R23: mg/kg SAR | S23: mg/kg SAR | T23: mg/kg SAR | U23: mg/kg SAR
C24: 0.04 | D24: 61.2 | E24: 26.8 | F24: 31.8 | G24: 0.98 | H24: 2.34 | I24: 0.5 | J24: 0.01 | K24: 0.05 | L24: 0.55 | M24: 0.51 | N24: 2770 | O24: 434 | P24: 12.5 | Q24: 144 | S24: 0.5 | V24: 67
A25: Field Ref | B25: Application Rate | C25: Nitrogen Addition | D25: Phosphate Addition | E25: Potash Addition | F25: Mg Oxide Addition | G25: Copper Addition | H25: Zinc Addition | I25: Lead Addition | J25: Cadmium Addition | K25: Mercury Addition | L25: Nickel Addition | M25: Chromium Addition | N25: Aluminium Addition | O25: Iron Addition | P25: Sodium Addition | Q25: SO3 Addition kg/ha | R25: Selenium Addition | S25: Arsenic Addition | T25: Molybdenum Addition | U25: Fluoride Addition | V25: Conductivity (Acceptable level 5000µS/cm) | W25: Fats & Oils (Acceptable level 4%)
B26: tonnes/ha | C26: kg/ha | D26: P2O5 kg/ha | E26: K2O kg/ha | F26: MgO kg/ha | G26: kg/ha | H26: kg/ha | I26: kg/ha | J26: kg/ha | K26: kg/ha | L26: kg/ha | M26: kg/ha | N26: kg/ha | O26: kg/ha | P26: kg/ha | Q26: kg/ha | R26: kg/ha | S26: kg/ha | T26: kg/ha | U26: kg/ha
A27: =C8 -> 1294 | B27: 250 | C27: =IF(C$23="%w/w SAR",((C$24*10)*$B27),IF(C$23="%w/w DM",(((C$24*10)*($B$24/100))*$B27),IF(C$23="kg/t SAR",(C$24*$B27),IF(C$23="kg/t DM",((C$24*($B$24/100))*$B27),IF(C$23="mg/kg SAR",((C$24*0.001)*$B27),IF(C$23="mg/kg DM",(((C$24*0.001)*($B$24/100))*$B27),0)))))) -> 100 | D27: =(IF(D$23="%w/w SAR",((D$24*10)*$B27),IF(D$23="%w/w DM",(((D$24*10)*($B$24/100))*$B27),IF(D$23="kg/t SAR",(D$24*$B27),IF(D$23="kg/t DM",((D$24*($B$24/100))*$B27),IF(D$23="mg/kg SAR",((D$24*0.001)*$B27),IF(D$23="mg/kg DM",(((D$24*0.001)*($B$24/100))*$B27),"0")))))))*2.291 -> 35.0523 | E27: =(IF(E$23="%w/w SAR",((E$24*10)*$B27),IF(E$23="%w/w DM",(((E$24*10)*($B$24/100))*$B27),IF(E$23="kg/t SAR",(E$24*$B27),IF(E$23="kg/t DM",((E$24*($B$24/100))*$B27),IF(E$23="mg/kg SAR",((E$24*0.001)*$B27),IF(E$23="mg/kg DM",(((E$24*0.001)*($B$24/100))*$B27),"0")))))))*1.205 -> 8.0735 | F27: =(IF(F$23="%w/w SAR",((F$24*10)*$B27),IF(F$23="%w/w DM",(((F$24*10)*($B$24/100))*$B27),IF(F$23="kg/t SAR",(F$24*$B27),IF(F$23="kg/t DM",((F$24*($B$24/100))*$B27),IF(F$23="mg/kg SAR",((F$24*0.001)*$B27),IF(F$23="mg/kg DM",(((F$24*0.001)*($B$24/100))*$B27),"0")))))))*1.658 -> 13.1811 | G27: =IF(G$23="%w/w SAR",((G$24*10)*$B27),IF(G$23="%w/w DM",(((G$24*10)*($B$24/100))*$B27),IF(G$23="kg/t SAR",(G$24*$B27),IF(G$23="kg/t DM",((G$24*($B$24/100))*$B27),IF(G$23="mg/kg SAR",((G$24*0.001)*$B27),IF(G$23="mg/kg DM",(((G$24*0.001)*($B$24/100))*$B27),0)))))) -> 0.245 | H27: =IF(H$23="%w/w SAR",((H$24*10)*$B27),IF(H$23="%w/w DM",(((H$24*10)*($B$24/100))*$B27),IF(H$23="kg/t SAR",(H$24*$B27),IF(H$23="kg/t DM",((H$24*($B$24/100))*$B27),IF(H$23="mg/kg SAR",((H$24*0.001)*$B27),IF(H$23="mg/kg DM",(((H$24*0.001)*($B$24/100))*$B27),0)))))) -> 0.585 | I27: =IF(I$23="%w/w SAR",((I$24*10)*$B27),IF(I$23="%w/w DM",(((I$24*10)*($B$24/100))*$B27),IF(I$23="kg/t SAR",(I$24*$B27),IF(I$23="kg/t DM",((I$24*($B$24/100))*$B27),IF(I$23="mg/kg SAR",((I$24*0.001)*$B27),IF(I$23="mg/kg DM",(((I$24*0.001)*($B$24/100))*$B27),0)))))) -> 0.125 | J27: =IF(J$23="%w/w SAR",((J$24*10)*$B27),IF(J$23="%w/w DM",(((J$24*10)*($B$24/100))*$B27),IF(J$23="kg/t SAR",(J$24*$B27),IF(J$23="kg/t DM",((J$24*($B$24/100))*$B27),IF(J$23="mg/kg SAR",((J$24*0.001)*$B27),IF(J$23="mg/kg DM",(((J$24*0.001)*($B$24/100))*$B27),0)))))) -> 0.0025 | K27: =IF(K$23="%w/w SAR",((K$24*10)*$B27),IF(K$23="%w/w DM",(((K$24*10)*($B$24/100))*$B27),IF(K$23="kg/t SAR",(K$24*$B27),IF(K$23="kg/t DM",((K$24*($B$24/100))*$B27),IF(K$23="mg/kg SAR",((K$24*0.001)*$B27),IF(K$23="mg/kg DM",(((K$24*0.001)*($B$24/100))*$B27),0)))))) -> 0.0125 | L27: =IF(L$23="%w/w SAR",((L$24*10)*$B27),IF(L$23="%w/w DM",(((L$24*10)*($B$24/100))*$B27),IF(L$23="kg/t SAR",(L$24*$B27),IF(L$23="kg/t DM",((L$24*($B$24/100))*$B27),IF(L$23="mg/kg SAR",((L$24*0.001)*$B27),IF(L$23="mg/kg DM",(((L$24*0.001)*($B$24/100))*$B27),0)))))) -> 0.1375 | M27: =IF(M$23="%w/w SAR",((M$24*10)*$B27),IF(M$23="%w/w DM",(((M$24*10)*($B$24/100))*$B27),IF(M$23="kg/t SAR",(M$24*$B27),IF(M$23="kg/t DM",((M$24*($B$24/100))*$B27),IF(M$23="mg/kg SAR",((M$24*0.001)*$B27),IF(M$23="mg/kg DM",(((M$24*0.001)*($B$24/100))*$B27),0)))))) -> 0.1275 | N27: =IF(N$23="%w/w SAR",((N$24*10)*$B27),IF(N$23="%w/w DM",(((N$24*10)*($B$24/100))*$B27),IF(N$23="kg/t SAR",(N$24*$B27),IF(N$23="kg/t DM",((N$24*($B$24/100))*$B27),IF(N$23="mg/kg SAR",((N$24*0.001)*$B27),IF(N$23="mg/kg DM",(((N$24*0.001)*($B$24/100))*$B27),0)))))) -> 692.5 | ... P27: =IF(P$23="%w/w SAR",((P$24*10)*$B27),IF(P$23="%w/w DM",(((P$24*10)*($B$24/100))*$B27),IF(P$23="kg/t SAR",(P$24*$B27),IF(P$23="kg/t DM",((P$24*($B$24/100))*$B27),IF(P$23="mg/kg SAR",((P$24*0.001)*$B27),IF(P$23="mg/kg DM",(((P$24*0.001)*($B$24/100))*$B27),0)))))) -> 3.125 | Q27: =(IF(Q$23="%w/w SAR",((Q$24*10)*$B27),IF(Q$23="%w/w DM",(((Q$24*10)*($B$24/100))*$B27),IF(Q$23="kg/t SAR",(Q$24*$B27),IF(Q$23="kg/t DM",((Q$24*($B$24/100))*$B27),IF(Q$23="mg/kg SAR",((Q$24*0.001)*$B27),IF(Q$23="mg/kg DM",(((Q$24*0.001)*($B$24/100))*$B27),0)))))))*2.5 -> 90 | R27: =IF(R$23="%w/w SAR",((R$24*10)*$B27),IF(R$23="%w/w DM",(((R$24*10)*($B$24/100))*$B27),IF(R$23="kg/t SAR",(R$24*$B27),IF(R$23="kg/t DM",((R$24*($B$24/100))*$B27),IF(R$23="mg/kg SAR",((R$24*0.001)*$B27),IF(R$23="mg/kg DM",(((R$24*0.001)*($B$24/100))*$B27),0)))))) -> 0 | S27: =IF(S$23="%w/w SAR",((S$24*10)*$B27),IF(S$23="%w/w DM",(((S$24*10)*($B$24/100))*$B27),IF(S$23="kg/t SAR",(S$24*$B27),IF(S$23="kg/t DM",((S$24*($B$24/100))*$B27),IF(S$23="mg/kg SAR",((S$24*0.001)*$B27),IF(S$23="mg/kg DM",(((S$24*0.001)*($B$24/100))*$B27),0)))))) -> 0.125 | T27: =IF(T$23="%w/w SAR",((T$24*10)*$B27),IF(T$23="%w/w DM",(((T$24*10)*($B$24/100))*$B27),IF(T$23="kg/t SAR",(T$24*$B27),IF(T$23="kg/t DM",((T$24*($B$24/100))*$B27),IF(T$23="mg/kg SAR",((T$24*0.001)*$B27),IF(T$23="mg/kg DM",(((T$24*0.001)*($B$24/100))*$B27),0)))))) -> 0 | U27: =IF(U$23="%w/w SAR",((U$24*10)*$B27),IF(U$23="%w/w DM",(((U$24*10)*($B$24/100))*$B27),IF(U$23="kg/t SAR",(U$24*$B27),IF(U$23="kg/t DM",((U$24*($B$24/100))*$B27),IF(U$23="mg/kg SAR",((U$24*0.001)*$B27),IF(U$23="mg/kg DM",(((U$24*0.001)*($B$24/100))*$B27),0)))))) -> 0 | V27: =IF($V$24="",0,IF($V$24>5000,"NOT OK","OK")) -> OK | W27: =IF($W$24="",0,IF($W$24>4,"Not OK","OK")) -> 0
A28: =D8 -> 2225 | B28: 250 | C28: =IF(C$23="%w/w SAR",((C$24*10)*$B28),IF(C$23="%w/w DM",(((C$24*10)*($B$24/100))*$B28),IF(C$23="kg/t SAR",(C$24*$B28),IF(C$23="kg/t DM",((C$24*($B$24/100))*$B28),IF(C$23="mg/kg SAR",((C$24*0.001)*$B28),IF(C$23="mg/kg DM",(((C$24*0.001)*($B$24/100))*$B28),0)))))) -> 100 | D28: =(IF(D$23="%w/w SAR",((D$24*10)*$B28),IF(D$23="%w/w DM",(((D$24*10)*($B$24/100))*$B28),IF(D$23="kg/t SAR",(D$24*$B28),IF(D$23="kg/t DM",((D$24*($B$24/100))*$B28),IF(D$23="mg/kg SAR",((D$24*0.001)*$B28),IF(D$23="mg/kg DM",(((D$24*0.001)*($B$24/100))*$B28),"0")))))))*2.291 -> 35.0523 | E28: =(IF(E$23="%w/w SAR",((E$24*10)*$B28),IF(E$23="%w/w DM",(((E$24*10)*($B$24/100))*$B28),IF(E$23="kg/t SAR",(E$24*$B28),IF(E$23="kg/t DM",((E$24*($B$24/100))*$B28),IF(E$23="mg/kg SAR",((E$24*0.001)*$B28),IF(E$23="mg/kg DM",(((E$24*0.001)*($B$24/100))*$B28),"0")))))))*1.205 -> 8.0735 | F28: =(IF(F$23="%w/w SAR",((F$24*10)*$B28),IF(F$23="%w/w DM",(((F$24*10)*($B$24/100))*$B28),IF(F$23="kg/t SAR",(F$24*$B28),IF(F$23="kg/t DM",((F$24*($B$24/100))*$B28),IF(F$23="mg/kg SAR",((F$24*0.001)*$B28),IF(F$23="mg/kg DM",(((F$24*0.001)*($B$24/100))*$B28),"0")))))))*1.658 -> 13.1811 | G28: =IF(G$23="%w/w SAR",((G$24*10)*$B28),IF(G$23="%w/w DM",(((G$24*10)*($B$24/100))*$B28),IF(G$23="kg/t SAR",(G$24*$B28),IF(G$23="kg/t DM",((G$24*($B$24/100))*$B28),IF(G$23="mg/kg SAR",((G$24*0.001)*$B28),IF(G$23="mg/kg DM",(((G$24*0.001)*($B$24/100))*$B28),0)))))) -> 0.245 | H28: =IF(H$23="%w/w SAR",((H$24*10)*$B28),IF(H$23="%w/w DM",(((H$24*10)*($B$24/100))*$B28),IF(H$23="kg/t SAR",(H$24*$B28),IF(H$23="kg/t DM",((H$24*($B$24/100))*$B28),IF(H$23="mg/kg SAR",((H$24*0.001)*$B28),IF(H$23="mg/kg DM",(((H$24*0.001)*($B$24/100))*$B28),0)))))) -> 0.585 | I28: =IF(I$23="%w/w SAR",((I$24*10)*$B28),IF(I$23="%w/w DM",(((I$24*10)*($B$24/100))*$B28),IF(I$23="kg/t SAR",(I$24*$B28),IF(I$23="kg/t DM",((I$24*($B$24/100))*$B28),IF(I$23="mg/kg SAR",((I$24*0.001)*$B28),IF(I$23="mg/kg DM",(((I$24*0.001)*($B$24/100))*$B28),0)))))) -> 0.125 | J28: =IF(J$23="%w/w SAR",((J$24*10)*$B28),IF(J$23="%w/w DM",(((J$24*10)*($B$24/100))*$B28),IF(J$23="kg/t SAR",(J$24*$B28),IF(J$23="kg/t DM",((J$24*($B$24/100))*$B28),IF(J$23="mg/kg SAR",((J$24*0.001)*$B28),IF(J$23="mg/kg DM",(((J$24*0.001)*($B$24/100))*$B28),0)))))) -> 0.0025 | K28: =IF(K$23="%w/w SAR",((K$24*10)*$B28),IF(K$23="%w/w DM",(((K$24*10)*($B$24/100))*$B28),IF(K$23="kg/t SAR",(K$24*$B28),IF(K$23="kg/t DM",((K$24*($B$24/100))*$B28),IF(K$23="mg/kg SAR",((K$24*0.001)*$B28),IF(K$23="mg/kg DM",(((K$24*0.001)*($B$24/100))*$B28),0)))))) -> 0.0125 | L28: =IF(L$23="%w/w SAR",((L$24*10)*$B28),IF(L$23="%w/w DM",(((L$24*10)*($B$24/100))*$B28),IF(L$23="kg/t SAR",(L$24*$B28),IF(L$23="kg/t DM",((L$24*($B$24/100))*$B28),IF(L$23="mg/kg SAR",((L$24*0.001)*$B28),IF(L$23="mg/kg DM",(((L$24*0.001)*($B$24/100))*$B28),0)))))) -> 0.1375 | M28: =IF(M$23="%w/w SAR",((M$24*10)*$B28),IF(M$23="%w/w DM",(((M$24*10)*($B$24/100))*$B28),IF(M$23="kg/t SAR",(M$24*$B28),IF(M$23="kg/t DM",((M$24*($B$24/100))*$B28),IF(M$23="mg/kg SAR",((M$24*0.001)*$B28),IF(M$23="mg/kg DM",(((M$24*0.001)*($B$24/100))*$B28),0)))))) -> 0.1275 | N28: =IF(N$23="%w/w SAR",((N$24*10)*$B28),IF(N$23="%w/w DM",(((N$24*10)*($B$24/100))*$B28),IF(N$23="kg/t SAR",(N$24*$B28),IF(N$23="kg/t DM",((N$24*($B$24/100))*$B28),IF(N$23="mg/kg SAR",((N$24*0.001)*$B28),IF(N$23="mg/kg DM",(((N$24*0.001)*($B$24/100))*$B28),0)))))) -> 692.5 | ... P28: =IF(P$23="%w/w SAR",((P$24*10)*$B28),IF(P$23="%w/w DM",(((P$24*10)*($B$24/100))*$B28),IF(P$23="kg/t SAR",(P$24*$B28),IF(P$23="kg/t DM",((P$24*($B$24/100))*$B28),IF(P$23="mg/kg SAR",((P$24*0.001)*$B28),IF(P$23="mg/kg DM",(((P$24*0.001)*($B$24/100))*$B28),0)))))) -> 3.125 | Q28: =(IF(Q$23="%w/w SAR",((Q$24*10)*$B28),IF(Q$23="%w/w DM",(((Q$24*10)*($B$24/100))*$B28),IF(Q$23="kg/t SAR",(Q$24*$B28),IF(Q$23="kg/t DM",((Q$24*($B$24/100))*$B28),IF(Q$23="mg/kg SAR",((Q$24*0.001)*$B28),IF(Q$23="mg/kg DM",(((Q$24*0.001)*($B$24/100))*$B28),0)))))))*2.5 -> 90 | R28: =IF(R$23="%w/w SAR",((R$24*10)*$B28),IF(R$23="%w/w DM",(((R$24*10)*($B$24/100))*$B28),IF(R$23="kg/t SAR",(R$24*$B28),IF(R$23="kg/t DM",((R$24*($B$24/100))*$B28),IF(R$23="mg/kg SAR",((R$24*0.001)*$B28),IF(R$23="mg/kg DM",(((R$24*0.001)*($B$24/100))*$B28),0)))))) -> 0 | S28: =IF(S$23="%w/w SAR",((S$24*10)*$B28),IF(S$23="%w/w DM",(((S$24*10)*($B$24/100))*$B28),IF(S$23="kg/t SAR",(S$24*$B28),IF(S$23="kg/t DM",((S$24*($B$24/100))*$B28),IF(S$23="mg/kg SAR",((S$24*0.001)*$B28),IF(S$23="mg/kg DM",(((S$24*0.001)*($B$24/100))*$B28),0)))))) -> 0.125 | T28: =IF(T$23="%w/w SAR",((T$24*10)*$B28),IF(T$23="%w/w DM",(((T$24*10)*($B$24/100))*$B28),IF(T$23="kg/t SAR",(T$24*$B28),IF(T$23="kg/t DM",((T$24*($B$24/100))*$B28),IF(T$23="mg/kg SAR",((T$24*0.001)*$B28),IF(T$23="mg/kg DM",(((T$24*0.001)*($B$24/100))*$B28),0)))))) -> 0 | U28: =IF(U$23="%w/w SAR",((U$24*10)*$B28),IF(U$23="%w/w DM",(((U$24*10)*($B$24/100))*$B28),IF(U$23="kg/t SAR",(U$24*$B28),IF(U$23="kg/t DM",((U$24*($B$24/100))*$B28),IF(U$23="mg/kg SAR",((U$24*0.001)*$B28),IF(U$23="mg/kg DM",(((U$24*0.001)*($B$24/100))*$B28),0)))))) -> 0 | V28: =IF($V$24="",0,IF($V$24>5000,"NOT OK","OK")) -> OK | W28: =IF($W$24="",0,IF($W$24>4,"Not OK","OK")) -> 0
A29: =E8 -> 3210 | B29: 250 | C29: =IF(C$23="%w/w SAR",((C$24*10)*$B29),IF(C$23="%w/w DM",(((C$24*10)*($B$24/100))*$B29),IF(C$23="kg/t SAR",(C$24*$B29),IF(C$23="kg/t DM",((C$24*($B$24/100))*$B29),IF(C$23="mg/kg SAR",((C$24*0.001)*$B29),IF(C$23="mg/kg DM",(((C$24*0.001)*($B$24/100))*$B29),0)))))) -> 100 | D29: =(IF(D$23="%w/w SAR",((D$24*10)*$B29),IF(D$23="%w/w DM",(((D$24*10)*($B$24/100))*$B29),IF(D$23="kg/t SAR",(D$24*$B29),IF(D$23="kg/t DM",((D$24*($B$24/100))*$B29),IF(D$23="mg/kg SAR",((D$24*0.001)*$B29),IF(D$23="mg/kg DM",(((D$24*0.001)*($B$24/100))*$B29),"0")))))))*2.291 -> 35.0523 | E29: =(IF(E$23="%w/w SAR",((E$24*10)*$B29),IF(E$23="%w/w DM",(((E$24*10)*($B$24/100))*$B29),IF(E$23="kg/t SAR",(E$24*$B29),IF(E$23="kg/t DM",((E$24*($B$24/100))*$B29),IF(E$23="mg/kg SAR",((E$24*0.001)*$B29),IF(E$23="mg/kg DM",(((E$24*0.001)*($B$24/100))*$B29),"0")))))))*1.205 -> 8.0735 | F29: =(IF(F$23="%w/w SAR",((F$24*10)*$B29),IF(F$23="%w/w DM",(((F$24*10)*($B$24/100))*$B29),IF(F$23="kg/t SAR",(F$24*$B29),IF(F$23="kg/t DM",((F$24*($B$24/100))*$B29),IF(F$23="mg/kg SAR",((F$24*0.001)*$B29),IF(F$23="mg/kg DM",(((F$24*0.001)*($B$24/100))*$B29),"0")))))))*1.658 -> 13.1811 | G29: =IF(G$23="%w/w SAR",((G$24*10)*$B29),IF(G$23="%w/w DM",(((G$24*10)*($B$24/100))*$B29),IF(G$23="kg/t SAR",(G$24*$B29),IF(G$23="kg/t DM",((G$24*($B$24/100))*$B29),IF(G$23="mg/kg SAR",((G$24*0.001)*$B29),IF(G$23="mg/kg DM",(((G$24*0.001)*($B$24/100))*$B29),0)))))) -> 0.245 | H29: =IF(H$23="%w/w SAR",((H$24*10)*$B29),IF(H$23="%w/w DM",(((H$24*10)*($B$24/100))*$B29),IF(H$23="kg/t SAR",(H$24*$B29),IF(H$23="kg/t DM",((H$24*($B$24/100))*$B29),IF(H$23="mg/kg SAR",((H$24*0.001)*$B29),IF(H$23="mg/kg DM",(((H$24*0.001)*($B$24/100))*$B29),0)))))) -> 0.585 | I29: =IF(I$23="%w/w SAR",((I$24*10)*$B29),IF(I$23="%w/w DM",(((I$24*10)*($B$24/100))*$B29),IF(I$23="kg/t SAR",(I$24*$B29),IF(I$23="kg/t DM",((I$24*($B$24/100))*$B29),IF(I$23="mg/kg SAR",((I$24*0.001)*$B29),IF(I$23="mg/kg DM",(((I$24*0.001)*($B$24/100))*$B29),0)))))) -> 0.125 | J29: =IF(J$23="%w/w SAR",((J$24*10)*$B29),IF(J$23="%w/w DM",(((J$24*10)*($B$24/100))*$B29),IF(J$23="kg/t SAR",(J$24*$B29),IF(J$23="kg/t DM",((J$24*($B$24/100))*$B29),IF(J$23="mg/kg SAR",((J$24*0.001)*$B29),IF(J$23="mg/kg DM",(((J$24*0.001)*($B$24/100))*$B29),0)))))) -> 0.0025 | K29: =IF(K$23="%w/w SAR",((K$24*10)*$B29),IF(K$23="%w/w DM",(((K$24*10)*($B$24/100))*$B29),IF(K$23="kg/t SAR",(K$24*$B29),IF(K$23="kg/t DM",((K$24*($B$24/100))*$B29),IF(K$23="mg/kg SAR",((K$24*0.001)*$B29),IF(K$23="mg/kg DM",(((K$24*0.001)*($B$24/100))*$B29),0)))))) -> 0.0125 | L29: =IF(L$23="%w/w SAR",((L$24*10)*$B29),IF(L$23="%w/w DM",(((L$24*10)*($B$24/100))*$B29),IF(L$23="kg/t SAR",(L$24*$B29),IF(L$23="kg/t DM",((L$24*($B$24/100))*$B29),IF(L$23="mg/kg SAR",((L$24*0.001)*$B29),IF(L$23="mg/kg DM",(((L$24*0.001)*($B$24/100))*$B29),0)))))) -> 0.1375 | M29: =IF(M$23="%w/w SAR",((M$24*10)*$B29),IF(M$23="%w/w DM",(((M$24*10)*($B$24/100))*$B29),IF(M$23="kg/t SAR",(M$24*$B29),IF(M$23="kg/t DM",((M$24*($B$24/100))*$B29),IF(M$23="mg/kg SAR",((M$24*0.001)*$B29),IF(M$23="mg/kg DM",(((M$24*0.001)*($B$24/100))*$B29),0)))))) -> 0.1275 | N29: =IF(N$23="%w/w SAR",((N$24*10)*$B29),IF(N$23="%w/w DM",(((N$24*10)*($B$24/100))*$B29),IF(N$23="kg/t SAR",(N$24*$B29),IF(N$23="kg/t DM",((N$24*($B$24/100))*$B29),IF(N$23="mg/kg SAR",((N$24*0.001)*$B29),IF(N$23="mg/kg DM",(((N$24*0.001)*($B$24/100))*$B29),0)))))) -> 692.5 | ... P29: =IF(P$23="%w/w SAR",((P$24*10)*$B29),IF(P$23="%w/w DM",(((P$24*10)*($B$24/100))*$B29),IF(P$23="kg/t SAR",(P$24*$B29),IF(P$23="kg/t DM",((P$24*($B$24/100))*$B29),IF(P$23="mg/kg SAR",((P$24*0.001)*$B29),IF(P$23="mg/kg DM",(((P$24*0.001)*($B$24/100))*$B29),0)))))) -> 3.125 | Q29: =(IF(Q$23="%w/w SAR",((Q$24*10)*$B29),IF(Q$23="%w/w DM",(((Q$24*10)*($B$24/100))*$B29),IF(Q$23="kg/t SAR",(Q$24*$B29),IF(Q$23="kg/t DM",((Q$24*($B$24/100))*$B29),IF(Q$23="mg/kg SAR",((Q$24*0.001)*$B29),IF(Q$23="mg/kg DM",(((Q$24*0.001)*($B$24/100))*$B29),0)))))))*2.5 -> 90 | R29: =IF(R$23="%w/w SAR",((R$24*10)*$B29),IF(R$23="%w/w DM",(((R$24*10)*($B$24/100))*$B29),IF(R$23="kg/t SAR",(R$24*$B29),IF(R$23="kg/t DM",((R$24*($B$24/100))*$B29),IF(R$23="mg/kg SAR",((R$24*0.001)*$B29),IF(R$23="mg/kg DM",(((R$24*0.001)*($B$24/100))*$B29),0)))))) -> 0 | S29: =IF(S$23="%w/w SAR",((S$24*10)*$B29),IF(S$23="%w/w DM",(((S$24*10)*($B$24/100))*$B29),IF(S$23="kg/t SAR",(S$24*$B29),IF(S$23="kg/t DM",((S$24*($B$24/100))*$B29),IF(S$23="mg/kg SAR",((S$24*0.001)*$B29),IF(S$23="mg/kg DM",(((S$24*0.001)*($B$24/100))*$B29),0)))))) -> 0.125 | T29: =IF(T$23="%w/w SAR",((T$24*10)*$B29),IF(T$23="%w/w DM",(((T$24*10)*($B$24/100))*$B29),IF(T$23="kg/t SAR",(T$24*$B29),IF(T$23="kg/t DM",((T$24*($B$24/100))*$B29),IF(T$23="mg/kg SAR",((T$24*0.001)*$B29),IF(T$23="mg/kg DM",(((T$24*0.001)*($B$24/100))*$B29),0)))))) -> 0 | U29: =IF(U$23="%w/w SAR",((U$24*10)*$B29),IF(U$23="%w/w DM",(((U$24*10)*($B$24/100))*$B29),IF(U$23="kg/t SAR",(U$24*$B29),IF(U$23="kg/t DM",((U$24*($B$24/100))*$B29),IF(U$23="mg/kg SAR",((U$24*0.001)*$B29),IF(U$23="mg/kg DM",(((U$24*0.001)*($B$24/100))*$B29),0)))))) -> 0 | V29: =IF($V$24="",0,IF($V$24>5000,"NOT OK","OK")) -> OK | W29: =IF($W$24="",0,IF($W$24>4,"Not OK","OK")) -> 0
A30: =F8 -> 3732 | B30: 250 | C30: =IF(C$23="%w/w SAR",((C$24*10)*$B30),IF(C$23="%w/w DM",(((C$24*10)*($B$24/100))*$B30),IF(C$23="kg/t SAR",(C$24*$B30),IF(C$23="kg/t DM",((C$24*($B$24/100))*$B30),IF(C$23="mg/kg SAR",((C$24*0.001)*$B30),IF(C$23="mg/kg DM",(((C$24*0.001)*($B$24/100))*$B30),0)))))) -> 100 | D30: =(IF(D$23="%w/w SAR",((D$24*10)*$B30),IF(D$23="%w/w DM",(((D$24*10)*($B$24/100))*$B30),IF(D$23="kg/t SAR",(D$24*$B30),IF(D$23="kg/t DM",((D$24*($B$24/100))*$B30),IF(D$23="mg/kg SAR",((D$24*0.001)*$B30),IF(D$23="mg/kg DM",(((D$24*0.001)*($B$24/100))*$B30),"0")))))))*2.291 -> 35.0523 | E30: =(IF(E$23="%w/w SAR",((E$24*10)*$B30),IF(E$23="%w/w DM",(((E$24*10)*($B$24/100))*$B30),IF(E$23="kg/t SAR",(E$24*$B30),IF(E$23="kg/t DM",((E$24*($B$24/100))*$B30),IF(E$23="mg/kg SAR",((E$24*0.001)*$B30),IF(E$23="mg/kg DM",(((E$24*0.001)*($B$24/100))*$B30),"0")))))))*1.205 -> 8.0735 | F30: =(IF(F$23="%w/w SAR",((F$24*10)*$B30),IF(F$23="%w/w DM",(((F$24*10)*($B$24/100))*$B30),IF(F$23="kg/t SAR",(F$24*$B30),IF(F$23="kg/t DM",((F$24*($B$24/100))*$B30),IF(F$23="mg/kg SAR",((F$24*0.001)*$B30),IF(F$23="mg/kg DM",(((F$24*0.001)*($B$24/100))*$B30),"0")))))))*1.658 -> 13.1811 | G30: =IF(G$23="%w/w SAR",((G$24*10)*$B30),IF(G$23="%w/w DM",(((G$24*10)*($B$24/100))*$B30),IF(G$23="kg/t SAR",(G$24*$B30),IF(G$23="kg/t DM",((G$24*($B$24/100))*$B30),IF(G$23="mg/kg SAR",((G$24*0.001)*$B30),IF(G$23="mg/kg DM",(((G$24*0.001)*($B$24/100))*$B30),0)))))) -> 0.245 | H30: =IF(H$23="%w/w SAR",((H$24*10)*$B30),IF(H$23="%w/w DM",(((H$24*10)*($B$24/100))*$B30),IF(H$23="kg/t SAR",(H$24*$B30),IF(H$23="kg/t DM",((H$24*($B$24/100))*$B30),IF(H$23="mg/kg SAR",((H$24*0.001)*$B30),IF(H$23="mg/kg DM",(((H$24*0.001)*($B$24/100))*$B30),0)))))) -> 0.585 | I30: =IF(I$23="%w/w SAR",((I$24*10)*$B30),IF(I$23="%w/w DM",(((I$24*10)*($B$24/100))*$B30),IF(I$23="kg/t SAR",(I$24*$B30),IF(I$23="kg/t DM",((I$24*($B$24/100))*$B30),IF(I$23="mg/kg SAR",((I$24*0.001)*$B30),IF(I$23="mg/kg DM",(((I$24*0.001)*($B$24/100))*$B30),0)))))) -> 0.125 | J30: =IF(J$23="%w/w SAR",((J$24*10)*$B30),IF(J$23="%w/w DM",(((J$24*10)*($B$24/100))*$B30),IF(J$23="kg/t SAR",(J$24*$B30),IF(J$23="kg/t DM",((J$24*($B$24/100))*$B30),IF(J$23="mg/kg SAR",((J$24*0.001)*$B30),IF(J$23="mg/kg DM",(((J$24*0.001)*($B$24/100))*$B30),0)))))) -> 0.0025 | K30: =IF(K$23="%w/w SAR",((K$24*10)*$B30),IF(K$23="%w/w DM",(((K$24*10)*($B$24/100))*$B30),IF(K$23="kg/t SAR",(K$24*$B30),IF(K$23="kg/t DM",((K$24*($B$24/100))*$B30),IF(K$23="mg/kg SAR",((K$24*0.001)*$B30),IF(K$23="mg/kg DM",(((K$24*0.001)*($B$24/100))*$B30),0)))))) -> 0.0125 | L30: =IF(L$23="%w/w SAR",((L$24*10)*$B30),IF(L$23="%w/w DM",(((L$24*10)*($B$24/100))*$B30),IF(L$23="kg/t SAR",(L$24*$B30),IF(L$23="kg/t DM",((L$24*($B$24/100))*$B30),IF(L$23="mg/kg SAR",((L$24*0.001)*$B30),IF(L$23="mg/kg DM",(((L$24*0.001)*($B$24/100))*$B30),0)))))) -> 0.1375 | M30: =IF(M$23="%w/w SAR",((M$24*10)*$B30),IF(M$23="%w/w DM",(((M$24*10)*($B$24/100))*$B30),IF(M$23="kg/t SAR",(M$24*$B30),IF(M$23="kg/t DM",((M$24*($B$24/100))*$B30),IF(M$23="mg/kg SAR",((M$24*0.001)*$B30),IF(M$23="mg/kg DM",(((M$24*0.001)*($B$24/100))*$B30),0)))))) -> 0.1275 | N30: =IF(N$23="%w/w SAR",((N$24*10)*$B30),IF(N$23="%w/w DM",(((N$24*10)*($B$24/100))*$B30),IF(N$23="kg/t SAR",(N$24*$B30),IF(N$23="kg/t DM",((N$24*($B$24/100))*$B30),IF(N$23="mg/kg SAR",((N$24*0.001)*$B30),IF(N$23="mg/kg DM",(((N$24*0.001)*($B$24/100))*$B30),0)))))) -> 692.5 | ... P30: =IF(P$23="%w/w SAR",((P$24*10)*$B30),IF(P$23="%w/w DM",(((P$24*10)*($B$24/100))*$B30),IF(P$23="kg/t SAR",(P$24*$B30),IF(P$23="kg/t DM",((P$24*($B$24/100))*$B30),IF(P$23="mg/kg SAR",((P$24*0.001)*$B30),IF(P$23="mg/kg DM",(((P$24*0.001)*($B$24/100))*$B30),0)))))) -> 3.125 | Q30: =(IF(Q$23="%w/w SAR",((Q$24*10)*$B30),IF(Q$23="%w/w DM",(((Q$24*10)*($B$24/100))*$B30),IF(Q$23="kg/t SAR",(Q$24*$B30),IF(Q$23="kg/t DM",((Q$24*($B$24/100))*$B30),IF(Q$23="mg/kg SAR",((Q$24*0.001)*$B30),IF(Q$23="mg/kg DM",(((Q$24*0.001)*($B$24/100))*$B30),0)))))))*2.5 -> 90 | R30: =IF(R$23="%w/w SAR",((R$24*10)*$B30),IF(R$23="%w/w DM",(((R$24*10)*($B$24/100))*$B30),IF(R$23="kg/t SAR",(R$24*$B30),IF(R$23="kg/t DM",((R$24*($B$24/100))*$B30),IF(R$23="mg/kg SAR",((R$24*0.001)*$B30),IF(R$23="mg/kg DM",(((R$24*0.001)*($B$24/100))*$B30),0)))))) -> 0 | S30: =IF(S$23="%w/w SAR",((S$24*10)*$B30),IF(S$23="%w/w DM",(((S$24*10)*($B$24/100))*$B30),IF(S$23="kg/t SAR",(S$24*$B30),IF(S$23="kg/t DM",((S$24*($B$24/100))*$B30),IF(S$23="mg/kg SAR",((S$24*0.001)*$B30),IF(S$23="mg/kg DM",(((S$24*0.001)*($B$24/100))*$B30),0)))))) -> 0.125 | T30: =IF(T$23="%w/w SAR",((T$24*10)*$B30),IF(T$23="%w/w DM",(((T$24*10)*($B$24/100))*$B30),IF(T$23="kg/t SAR",(T$24*$B30),IF(T$23="kg/t DM",((T$24*($B$24/100))*$B30),IF(T$23="mg/kg SAR",((T$24*0.001)*$B30),IF(T$23="mg/kg DM",(((T$24*0.001)*($B$24/100))*$B30),0)))))) -> 0 | U30: =IF(U$23="%w/w SAR",((U$24*10)*$B30),IF(U$23="%w/w DM",(((U$24*10)*($B$24/100))*$B30),IF(U$23="kg/t SAR",(U$24*$B30),IF(U$23="kg/t DM",((U$24*($B$24/100))*$B30),IF(U$23="mg/kg SAR",((U$24*0.001)*$B30),IF(U$23="mg/kg DM",(((U$24*0.001)*($B$24/100))*$B30),0)))))) -> 0 | V30: =IF($V$24="",0,IF($V$24>5000,"NOT OK","OK")) -> OK | W30: =IF($W$24="",0,IF($W$24>4,"Not OK","OK")) -> 0
A31: =G8 -> 4144 | B31: 250 | C31: =IF(C$23="%w/w SAR",((C$24*10)*$B31),IF(C$23="%w/w DM",(((C$24*10)*($B$24/100))*$B31),IF(C$23="kg/t SAR",(C$24*$B31),IF(C$23="kg/t DM",((C$24*($B$24/100))*$B31),IF(C$23="mg/kg SAR",((C$24*0.001)*$B31),IF(C$23="mg/kg DM",(((C$24*0.001)*($B$24/100))*$B31),0)))))) -> 100 | D31: =(IF(D$23="%w/w SAR",((D$24*10)*$B31),IF(D$23="%w/w DM",(((D$24*10)*($B$24/100))*$B31),IF(D$23="kg/t SAR",(D$24*$B31),IF(D$23="kg/t DM",((D$24*($B$24/100))*$B31),IF(D$23="mg/kg SAR",((D$24*0.001)*$B31),IF(D$23="mg/kg DM",(((D$24*0.001)*($B$24/100))*$B31),"0")))))))*2.291 -> 35.0523 | E31: =(IF(E$23="%w/w SAR",((E$24*10)*$B31),IF(E$23="%w/w DM",(((E$24*10)*($B$24/100))*$B31),IF(E$23="kg/t SAR",(E$24*$B31),IF(E$23="kg/t DM",((E$24*($B$24/100))*$B31),IF(E$23="mg/kg SAR",((E$24*0.001)*$B31),IF(E$23="mg/kg DM",(((E$24*0.001)*($B$24/100))*$B31),"0")))))))*1.205 -> 8.0735 | F31: =(IF(F$23="%w/w SAR",((F$24*10)*$B31),IF(F$23="%w/w DM",(((F$24*10)*($B$24/100))*$B31),IF(F$23="kg/t SAR",(F$24*$B31),IF(F$23="kg/t DM",((F$24*($B$24/100))*$B31),IF(F$23="mg/kg SAR",((F$24*0.001)*$B31),IF(F$23="mg/kg DM",(((F$24*0.001)*($B$24/100))*$B31),"0")))))))*1.658 -> 13.1811 | G31: =IF(G$23="%w/w SAR",((G$24*10)*$B31),IF(G$23="%w/w DM",(((G$24*10)*($B$24/100))*$B31),IF(G$23="kg/t SAR",(G$24*$B31),IF(G$23="kg/t DM",((G$24*($B$24/100))*$B31),IF(G$23="mg/kg SAR",((G$24*0.001)*$B31),IF(G$23="mg/kg DM",(((G$24*0.001)*($B$24/100))*$B31),0)))))) -> 0.245 | H31: =IF(H$23="%w/w SAR",((H$24*10)*$B31),IF(H$23="%w/w DM",(((H$24*10)*($B$24/100))*$B31),IF(H$23="kg/t SAR",(H$24*$B31),IF(H$23="kg/t DM",((H$24*($B$24/100))*$B31),IF(H$23="mg/kg SAR",((H$24*0.001)*$B31),IF(H$23="mg/kg DM",(((H$24*0.001)*($B$24/100))*$B31),0)))))) -> 0.585 | I31: =IF(I$23="%w/w SAR",((I$24*10)*$B31),IF(I$23="%w/w DM",(((I$24*10)*($B$24/100))*$B31),IF(I$23="kg/t SAR",(I$24*$B31),IF(I$23="kg/t DM",((I$24*($B$24/100))*$B31),IF(I$23="mg/kg SAR",((I$24*0.001)*$B31),IF(I$23="mg/kg DM",(((I$24*0.001)*($B$24/100))*$B31),0)))))) -> 0.125 | J31: =IF(J$23="%w/w SAR",((J$24*10)*$B31),IF(J$23="%w/w DM",(((J$24*10)*($B$24/100))*$B31),IF(J$23="kg/t SAR",(J$24*$B31),IF(J$23="kg/t DM",((J$24*($B$24/100))*$B31),IF(J$23="mg/kg SAR",((J$24*0.001)*$B31),IF(J$23="mg/kg DM",(((J$24*0.001)*($B$24/100))*$B31),0)))))) -> 0.0025 | K31: =IF(K$23="%w/w SAR",((K$24*10)*$B31),IF(K$23="%w/w DM",(((K$24*10)*($B$24/100))*$B31),IF(K$23="kg/t SAR",(K$24*$B31),IF(K$23="kg/t DM",((K$24*($B$24/100))*$B31),IF(K$23="mg/kg SAR",((K$24*0.001)*$B31),IF(K$23="mg/kg DM",(((K$24*0.001)*($B$24/100))*$B31),0)))))) -> 0.0125 | L31: =IF(L$23="%w/w SAR",((L$24*10)*$B31),IF(L$23="%w/w DM",(((L$24*10)*($B$24/100))*$B31),IF(L$23="kg/t SAR",(L$24*$B31),IF(L$23="kg/t DM",((L$24*($B$24/100))*$B31),IF(L$23="mg/kg SAR",((L$24*0.001)*$B31),IF(L$23="mg/kg DM",(((L$24*0.001)*($B$24/100))*$B31),0)))))) -> 0.1375 | M31: =IF(M$23="%w/w SAR",((M$24*10)*$B31),IF(M$23="%w/w DM",(((M$24*10)*($B$24/100))*$B31),IF(M$23="kg/t SAR",(M$24*$B31),IF(M$23="kg/t DM",((M$24*($B$24/100))*$B31),IF(M$23="mg/kg SAR",((M$24*0.001)*$B31),IF(M$23="mg/kg DM",(((M$24*0.001)*($B$24/100))*$B31),0)))))) -> 0.1275 | N31: =IF(N$23="%w/w SAR",((N$24*10)*$B31),IF(N$23="%w/w DM",(((N$24*10)*($B$24/100))*$B31),IF(N$23="kg/t SAR",(N$24*$B31),IF(N$23="kg/t DM",((N$24*($B$24/100))*$B31),IF(N$23="mg/kg SAR",((N$24*0.001)*$B31),IF(N$23="mg/kg DM",(((N$24*0.001)*($B$24/100))*$B31),0)))))) -> 692.5 | ... P31: =IF(P$23="%w/w SAR",((P$24*10)*$B31),IF(P$23="%w/w DM",(((P$24*10)*($B$24/100))*$B31),IF(P$23="kg/t SAR",(P$24*$B31),IF(P$23="kg/t DM",((P$24*($B$24/100))*$B31),IF(P$23="mg/kg SAR",((P$24*0.001)*$B31),IF(P$23="mg/kg DM",(((P$24*0.001)*($B$24/100))*$B31),0)))))) -> 3.125 | Q31: =(IF(Q$23="%w/w SAR",((Q$24*10)*$B31),IF(Q$23="%w/w DM",(((Q$24*10)*($B$24/100))*$B31),IF(Q$23="kg/t SAR",(Q$24*$B31),IF(Q$23="kg/t DM",((Q$24*($B$24/100))*$B31),IF(Q$23="mg/kg SAR",((Q$24*0.001)*$B31),IF(Q$23="mg/kg DM",(((Q$24*0.001)*($B$24/100))*$B31),0)))))))*2.5 -> 90 | R31: =IF(R$23="%w/w SAR",((R$24*10)*$B31),IF(R$23="%w/w DM",(((R$24*10)*($B$24/100))*$B31),IF(R$23="kg/t SAR",(R$24*$B31),IF(R$23="kg/t DM",((R$24*($B$24/100))*$B31),IF(R$23="mg/kg SAR",((R$24*0.001)*$B31),IF(R$23="mg/kg DM",(((R$24*0.001)*($B$24/100))*$B31),0)))))) -> 0 | S31: =IF(S$23="%w/w SAR",((S$24*10)*$B31),IF(S$23="%w/w DM",(((S$24*10)*($B$24/100))*$B31),IF(S$23="kg/t SAR",(S$24*$B31),IF(S$23="kg/t DM",((S$24*($B$24/100))*$B31),IF(S$23="mg/kg SAR",((S$24*0.001)*$B31),IF(S$23="mg/kg DM",(((S$24*0.001)*($B$24/100))*$B31),0)))))) -> 0.125 | T31: =IF(T$23="%w/w SAR",((T$24*10)*$B31),IF(T$23="%w/w DM",(((T$24*10)*($B$24/100))*$B31),IF(T$23="kg/t SAR",(T$24*$B31),IF(T$23="kg/t DM",((T$24*($B$24/100))*$B31),IF(T$23="mg/kg SAR",((T$24*0.001)*$B31),IF(T$23="mg/kg DM",(((T$24*0.001)*($B$24/100))*$B31),0)))))) -> 0 | U31: =IF(U$23="%w/w SAR",((U$24*10)*$B31),IF(U$23="%w/w DM",(((U$24*10)*($B$24/100))*$B31),IF(U$23="kg/t SAR",(U$24*$B31),IF(U$23="kg/t DM",((U$24*($B$24/100))*$B31),IF(U$23="mg/kg SAR",((U$24*0.001)*$B31),IF(U$23="mg/kg DM",(((U$24*0.001)*($B$24/100))*$B31),0)))))) -> 0 | V31: =IF($V$24="",0,IF($V$24>5000,"NOT OK","OK")) -> OK | W31: =IF($W$24="",0,IF($W$24>4,"Not OK","OK")) -> 0
A32: =H8 -> 5867 | B32: 250 | C32: =IF(C$23="%w/w SAR",((C$24*10)*$B32),IF(C$23="%w/w DM",(((C$24*10)*($B$24/100))*$B32),IF(C$23="kg/t SAR",(C$24*$B32),IF(C$23="kg/t DM",((C$24*($B$24/100))*$B32),IF(C$23="mg/kg SAR",((C$24*0.001)*$B32),IF(C$23="mg/kg DM",(((C$24*0.001)*($B$24/100))*$B32),0)))))) -> 100 | D32: =(IF(D$23="%w/w SAR",((D$24*10)*$B32),IF(D$23="%w/w DM",(((D$24*10)*($B$24/100))*$B32),IF(D$23="kg/t SAR",(D$24*$B32),IF(D$23="kg/t DM",((D$24*($B$24/100))*$B32),IF(D$23="mg/kg SAR",((D$24*0.001)*$B32),IF(D$23="mg/kg DM",(((D$24*0.001)*($B$24/100))*$B32),"0")))))))*2.291 -> 35.0523 | E32: =(IF(E$23="%w/w SAR",((E$24*10)*$B32),IF(E$23="%w/w DM",(((E$24*10)*($B$24/100))*$B32),IF(E$23="kg/t SAR",(E$24*$B32),IF(E$23="kg/t DM",((E$24*($B$24/100))*$B32),IF(E$23="mg/kg SAR",((E$24*0.001)*$B32),IF(E$23="mg/kg DM",(((E$24*0.001)*($B$24/100))*$B32),"0")))))))*1.205 -> 8.0735 | F32: =(IF(F$23="%w/w SAR",((F$24*10)*$B32),IF(F$23="%w/w DM",(((F$24*10)*($B$24/100))*$B32),IF(F$23="kg/t SAR",(F$24*$B32),IF(F$23="kg/t DM",((F$24*($B$24/100))*$B32),IF(F$23="mg/kg SAR",((F$24*0.001)*$B32),IF(F$23="mg/kg DM",(((F$24*0.001)*($B$24/100))*$B32),"0")))))))*1.658 -> 13.1811 | G32: =IF(G$23="%w/w SAR",((G$24*10)*$B32),IF(G$23="%w/w DM",(((G$24*10)*($B$24/100))*$B32),IF(G$23="kg/t SAR",(G$24*$B32),IF(G$23="kg/t DM",((G$24*($B$24/100))*$B32),IF(G$23="mg/kg SAR",((G$24*0.001)*$B32),IF(G$23="mg/kg DM",(((G$24*0.001)*($B$24/100))*$B32),0)))))) -> 0.245 | H32: =IF(H$23="%w/w SAR",((H$24*10)*$B32),IF(H$23="%w/w DM",(((H$24*10)*($B$24/100))*$B32),IF(H$23="kg/t SAR",(H$24*$B32),IF(H$23="kg/t DM",((H$24*($B$24/100))*$B32),IF(H$23="mg/kg SAR",((H$24*0.001)*$B32),IF(H$23="mg/kg DM",(((H$24*0.001)*($B$24/100))*$B32),0)))))) -> 0.585 | I32: =IF(I$23="%w/w SAR",((I$24*10)*$B32),IF(I$23="%w/w DM",(((I$24*10)*($B$24/100))*$B32),IF(I$23="kg/t SAR",(I$24*$B32),IF(I$23="kg/t DM",((I$24*($B$24/100))*$B32),IF(I$23="mg/kg SAR",((I$24*0.001)*$B32),IF(I$23="mg/kg DM",(((I$24*0.001)*($B$24/100))*$B32),0)))))) -> 0.125 | J32: =IF(J$23="%w/w SAR",((J$24*10)*$B32),IF(J$23="%w/w DM",(((J$24*10)*($B$24/100))*$B32),IF(J$23="kg/t SAR",(J$24*$B32),IF(J$23="kg/t DM",((J$24*($B$24/100))*$B32),IF(J$23="mg/kg SAR",((J$24*0.001)*$B32),IF(J$23="mg/kg DM",(((J$24*0.001)*($B$24/100))*$B32),0)))))) -> 0.0025 | K32: =IF(K$23="%w/w SAR",((K$24*10)*$B32),IF(K$23="%w/w DM",(((K$24*10)*($B$24/100))*$B32),IF(K$23="kg/t SAR",(K$24*$B32),IF(K$23="kg/t DM",((K$24*($B$24/100))*$B32),IF(K$23="mg/kg SAR",((K$24*0.001)*$B32),IF(K$23="mg/kg DM",(((K$24*0.001)*($B$24/100))*$B32),0)))))) -> 0.0125 | L32: =IF(L$23="%w/w SAR",((L$24*10)*$B32),IF(L$23="%w/w DM",(((L$24*10)*($B$24/100))*$B32),IF(L$23="kg/t SAR",(L$24*$B32),IF(L$23="kg/t DM",((L$24*($B$24/100))*$B32),IF(L$23="mg/kg SAR",((L$24*0.001)*$B32),IF(L$23="mg/kg DM",(((L$24*0.001)*($B$24/100))*$B32),0)))))) -> 0.1375 | M32: =IF(M$23="%w/w SAR",((M$24*10)*$B32),IF(M$23="%w/w DM",(((M$24*10)*($B$24/100))*$B32),IF(M$23="kg/t SAR",(M$24*$B32),IF(M$23="kg/t DM",((M$24*($B$24/100))*$B32),IF(M$23="mg/kg SAR",((M$24*0.001)*$B32),IF(M$23="mg/kg DM",(((M$24*0.001)*($B$24/100))*$B32),0)))))) -> 0.1275 | N32: =IF(N$23="%w/w SAR",((N$24*10)*$B32),IF(N$23="%w/w DM",(((N$24*10)*($B$24/100))*$B32),IF(N$23="kg/t SAR",(N$24*$B32),IF(N$23="kg/t DM",((N$24*($B$24/100))*$B32),IF(N$23="mg/kg SAR",((N$24*0.001)*$B32),IF(N$23="mg/kg DM",(((N$24*0.001)*($B$24/100))*$B32),0)))))) -> 692.5 | ... P32: =IF(P$23="%w/w SAR",((P$24*10)*$B32),IF(P$23="%w/w DM",(((P$24*10)*($B$24/100))*$B32),IF(P$23="kg/t SAR",(P$24*$B32),IF(P$23="kg/t DM",((P$24*($B$24/100))*$B32),IF(P$23="mg/kg SAR",((P$24*0.001)*$B32),IF(P$23="mg/kg DM",(((P$24*0.001)*($B$24/100))*$B32),0)))))) -> 3.125 | Q32: =(IF(Q$23="%w/w SAR",((Q$24*10)*$B32),IF(Q$23="%w/w DM",(((Q$24*10)*($B$24/100))*$B32),IF(Q$23="kg/t SAR",(Q$24*$B32),IF(Q$23="kg/t DM",((Q$24*($B$24/100))*$B32),IF(Q$23="mg/kg SAR",((Q$24*0.001)*$B32),IF(Q$23="mg/kg DM",(((Q$24*0.001)*($B$24/100))*$B32),0)))))))*2.5 -> 90 | R32: =IF(R$23="%w/w SAR",((R$24*10)*$B32),IF(R$23="%w/w DM",(((R$24*10)*($B$24/100))*$B32),IF(R$23="kg/t SAR",(R$24*$B32),IF(R$23="kg/t DM",((R$24*($B$24/100))*$B32),IF(R$23="mg/kg SAR",((R$24*0.001)*$B32),IF(R$23="mg/kg DM",(((R$24*0.001)*($B$24/100))*$B32),0)))))) -> 0 | S32: =IF(S$23="%w/w SAR",((S$24*10)*$B32),IF(S$23="%w/w DM",(((S$24*10)*($B$24/100))*$B32),IF(S$23="kg/t SAR",(S$24*$B32),IF(S$23="kg/t DM",((S$24*($B$24/100))*$B32),IF(S$23="mg/kg SAR",((S$24*0.001)*$B32),IF(S$23="mg/kg DM",(((S$24*0.001)*($B$24/100))*$B32),0)))))) -> 0.125 | T32: =IF(T$23="%w/w SAR",((T$24*10)*$B32),IF(T$23="%w/w DM",(((T$24*10)*($B$24/100))*$B32),IF(T$23="kg/t SAR",(T$24*$B32),IF(T$23="kg/t DM",((T$24*($B$24/100))*$B32),IF(T$23="mg/kg SAR",((T$24*0.001)*$B32),IF(T$23="mg/kg DM",(((T$24*0.001)*($B$24/100))*$B32),0)))))) -> 0 | U32: =IF(U$23="%w/w SAR",((U$24*10)*$B32),IF(U$23="%w/w DM",(((U$24*10)*($B$24/100))*$B32),IF(U$23="kg/t SAR",(U$24*$B32),IF(U$23="kg/t DM",((U$24*($B$24/100))*$B32),IF(U$23="mg/kg SAR",((U$24*0.001)*$B32),IF(U$23="mg/kg DM",(((U$24*0.001)*($B$24/100))*$B32),0)))))) -> 0 | V32: =IF($V$24="",0,IF($V$24>5000,"NOT OK","OK")) -> OK | W32: =IF($W$24="",0,IF($W$24>4,"Not OK","OK")) -> 0
A33: =I8 -> 1808 | B33: 250 | C33: =IF(C$23="%w/w SAR",((C$24*10)*$B33),IF(C$23="%w/w DM",(((C$24*10)*($B$24/100))*$B33),IF(C$23="kg/t SAR",(C$24*$B33),IF(C$23="kg/t DM",((C$24*($B$24/100))*$B33),IF(C$23="mg/kg SAR",((C$24*0.001)*$B33),IF(C$23="mg/kg DM",(((C$24*0.001)*($B$24/100))*$B33),0)))))) -> 100 | D33: =(IF(D$23="%w/w SAR",((D$24*10)*$B33),IF(D$23="%w/w DM",(((D$24*10)*($B$24/100))*$B33),IF(D$23="kg/t SAR",(D$24*$B33),IF(D$23="kg/t DM",((D$24*($B$24/100))*$B33),IF(D$23="mg/kg SAR",((D$24*0.001)*$B33),IF(D$23="mg/kg DM",(((D$24*0.001)*($B$24/100))*$B33),"0")))))))*2.291 -> 35.0523 | E33: =(IF(E$23="%w/w SAR",((E$24*10)*$B33),IF(E$23="%w/w DM",(((E$24*10)*($B$24/100))*$B33),IF(E$23="kg/t SAR",(E$24*$B33),IF(E$23="kg/t DM",((E$24*($B$24/100))*$B33),IF(E$23="mg/kg SAR",((E$24*0.001)*$B33),IF(E$23="mg/kg DM",(((E$24*0.001)*($B$24/100))*$B33),"0")))))))*1.205 -> 8.0735 | F33: =(IF(F$23="%w/w SAR",((F$24*10)*$B33),IF(F$23="%w/w DM",(((F$24*10)*($B$24/100))*$B33),IF(F$23="kg/t SAR",(F$24*$B33),IF(F$23="kg/t DM",((F$24*($B$24/100))*$B33),IF(F$23="mg/kg SAR",((F$24*0.001)*$B33),IF(F$23="mg/kg DM",(((F$24*0.001)*($B$24/100))*$B33),"0")))))))*1.658 -> 13.1811 | G33: =IF(G$23="%w/w SAR",((G$24*10)*$B33),IF(G$23="%w/w DM",(((G$24*10)*($B$24/100))*$B33),IF(G$23="kg/t SAR",(G$24*$B33),IF(G$23="kg/t DM",((G$24*($B$24/100))*$B33),IF(G$23="mg/kg SAR",((G$24*0.001)*$B33),IF(G$23="mg/kg DM",(((G$24*0.001)*($B$24/100))*$B33),0)))))) -> 0.245 | H33: =IF(H$23="%w/w SAR",((H$24*10)*$B33),IF(H$23="%w/w DM",(((H$24*10)*($B$24/100))*$B33),IF(H$23="kg/t SAR",(H$24*$B33),IF(H$23="kg/t DM",((H$24*($B$24/100))*$B33),IF(H$23="mg/kg SAR",((H$24*0.001)*$B33),IF(H$23="mg/kg DM",(((H$24*0.001)*($B$24/100))*$B33),0)))))) -> 0.585 | I33: =IF(I$23="%w/w SAR",((I$24*10)*$B33),IF(I$23="%w/w DM",(((I$24*10)*($B$24/100))*$B33),IF(I$23="kg/t SAR",(I$24*$B33),IF(I$23="kg/t DM",((I$24*($B$24/100))*$B33),IF(I$23="mg/kg SAR",((I$24*0.001)*$B33),IF(I$23="mg/kg DM",(((I$24*0.001)*($B$24/100))*$B33),0)))))) -> 0.125 | J33: =IF(J$23="%w/w SAR",((J$24*10)*$B33),IF(J$23="%w/w DM",(((J$24*10)*($B$24/100))*$B33),IF(J$23="kg/t SAR",(J$24*$B33),IF(J$23="kg/t DM",((J$24*($B$24/100))*$B33),IF(J$23="mg/kg SAR",((J$24*0.001)*$B33),IF(J$23="mg/kg DM",(((J$24*0.001)*($B$24/100))*$B33),0)))))) -> 0.0025 | K33: =IF(K$23="%w/w SAR",((K$24*10)*$B33),IF(K$23="%w/w DM",(((K$24*10)*($B$24/100))*$B33),IF(K$23="kg/t SAR",(K$24*$B33),IF(K$23="kg/t DM",((K$24*($B$24/100))*$B33),IF(K$23="mg/kg SAR",((K$24*0.001)*$B33),IF(K$23="mg/kg DM",(((K$24*0.001)*($B$24/100))*$B33),0)))))) -> 0.0125 | L33: =IF(L$23="%w/w SAR",((L$24*10)*$B33),IF(L$23="%w/w DM",(((L$24*10)*($B$24/100))*$B33),IF(L$23="kg/t SAR",(L$24*$B33),IF(L$23="kg/t DM",((L$24*($B$24/100))*$B33),IF(L$23="mg/kg SAR",((L$24*0.001)*$B33),IF(L$23="mg/kg DM",(((L$24*0.001)*($B$24/100))*$B33),0)))))) -> 0.1375 | M33: =IF(M$23="%w/w SAR",((M$24*10)*$B33),IF(M$23="%w/w DM",(((M$24*10)*($B$24/100))*$B33),IF(M$23="kg/t SAR",(M$24*$B33),IF(M$23="kg/t DM",((M$24*($B$24/100))*$B33),IF(M$23="mg/kg SAR",((M$24*0.001)*$B33),IF(M$23="mg/kg DM",(((M$24*0.001)*($B$24/100))*$B33),0)))))) -> 0.1275 | N33: =IF(N$23="%w/w SAR",((N$24*10)*$B33),IF(N$23="%w/w DM",(((N$24*10)*($B$24/100))*$B33),IF(N$23="kg/t SAR",(N$24*$B33),IF(N$23="kg/t DM",((N$24*($B$24/100))*$B33),IF(N$23="mg/kg SAR",((N$24*0.001)*$B33),IF(N$23="mg/kg DM",(((N$24*0.001)*($B$24/100))*$B33),0)))))) -> 692.5 | ... P33: =IF(P$23="%w/w SAR",((P$24*10)*$B33),IF(P$23="%w/w DM",(((P$24*10)*($B$24/100))*$B33),IF(P$23="kg/t SAR",(P$24*$B33),IF(P$23="kg/t DM",((P$24*($B$24/100))*$B33),IF(P$23="mg/kg SAR",((P$24*0.001)*$B33),IF(P$23="mg/kg DM",(((P$24*0.001)*($B$24/100))*$B33),0)))))) -> 3.125 | Q33: =(IF(Q$23="%w/w SAR",((Q$24*10)*$B33),IF(Q$23="%w/w DM",(((Q$24*10)*($B$24/100))*$B33),IF(Q$23="kg/t SAR",(Q$24*$B33),IF(Q$23="kg/t DM",((Q$24*($B$24/100))*$B33),IF(Q$23="mg/kg SAR",((Q$24*0.001)*$B33),IF(Q$23="mg/kg DM",(((Q$24*0.001)*($B$24/100))*$B33),0)))))))*2.5 -> 90 | R33: =IF(R$23="%w/w SAR",((R$24*10)*$B33),IF(R$23="%w/w DM",(((R$24*10)*($B$24/100))*$B33),IF(R$23="kg/t SAR",(R$24*$B33),IF(R$23="kg/t DM",((R$24*($B$24/100))*$B33),IF(R$23="mg/kg SAR",((R$24*0.001)*$B33),IF(R$23="mg/kg DM",(((R$24*0.001)*($B$24/100))*$B33),0)))))) -> 0 | S33: =IF(S$23="%w/w SAR",((S$24*10)*$B33),IF(S$23="%w/w DM",(((S$24*10)*($B$24/100))*$B33),IF(S$23="kg/t SAR",(S$24*$B33),IF(S$23="kg/t DM",((S$24*($B$24/100))*$B33),IF(S$23="mg/kg SAR",((S$24*0.001)*$B33),IF(S$23="mg/kg DM",(((S$24*0.001)*($B$24/100))*$B33),0)))))) -> 0.125 | T33: =IF(T$23="%w/w SAR",((T$24*10)*$B33),IF(T$23="%w/w DM",(((T$24*10)*($B$24/100))*$B33),IF(T$23="kg/t SAR",(T$24*$B33),IF(T$23="kg/t DM",((T$24*($B$24/100))*$B33),IF(T$23="mg/kg SAR",((T$24*0.001)*$B33),IF(T$23="mg/kg DM",(((T$24*0.001)*($B$24/100))*$B33),0)))))) -> 0 | U33: =IF(U$23="%w/w SAR",((U$24*10)*$B33),IF(U$23="%w/w DM",(((U$24*10)*($B$24/100))*$B33),IF(U$23="kg/t SAR",(U$24*$B33),IF(U$23="kg/t DM",((U$24*($B$24/100))*$B33),IF(U$23="mg/kg SAR",((U$24*0.001)*$B33),IF(U$23="mg/kg DM",(((U$24*0.001)*($B$24/100))*$B33),0)))))) -> 0 | V33: =IF($V$24="",0,IF($V$24>5000,"NOT OK","OK")) -> OK | W33: =IF($W$24="",0,IF($W$24>4,"Not OK","OK")) -> 0
A34: =J8 -> 16 | B34: 250 | C34: =IF(C$23="%w/w SAR",((C$24*10)*$B34),IF(C$23="%w/w DM",(((C$24*10)*($B$24/100))*$B34),IF(C$23="kg/t SAR",(C$24*$B34),IF(C$23="kg/t DM",((C$24*($B$24/100))*$B34),IF(C$23="mg/kg SAR",((C$24*0.001)*$B34),IF(C$23="mg/kg DM",(((C$24*0.001)*($B$24/100))*$B34),0)))))) -> 100 | D34: =(IF(D$23="%w/w SAR",((D$24*10)*$B34),IF(D$23="%w/w DM",(((D$24*10)*($B$24/100))*$B34),IF(D$23="kg/t SAR",(D$24*$B34),IF(D$23="kg/t DM",((D$24*($B$24/100))*$B34),IF(D$23="mg/kg SAR",((D$24*0.001)*$B34),IF(D$23="mg/kg DM",(((D$24*0.001)*($B$24/100))*$B34),"0")))))))*2.291 -> 35.0523 | E34: =(IF(E$23="%w/w SAR",((E$24*10)*$B34),IF(E$23="%w/w DM",(((E$24*10)*($B$24/100))*$B34),IF(E$23="kg/t SAR",(E$24*$B34),IF(E$23="kg/t DM",((E$24*($B$24/100))*$B34),IF(E$23="mg/kg SAR",((E$24*0.001)*$B34),IF(E$23="mg/kg DM",(((E$24*0.001)*($B$24/100))*$B34),"0")))))))*1.205 -> 8.0735 | F34: =(IF(F$23="%w/w SAR",((F$24*10)*$B34),IF(F$23="%w/w DM",(((F$24*10)*($B$24/100))*$B34),IF(F$23="kg/t SAR",(F$24*$B34),IF(F$23="kg/t DM",((F$24*($B$24/100))*$B34),IF(F$23="mg/kg SAR",((F$24*0.001)*$B34),IF(F$23="mg/kg DM",(((F$24*0.001)*($B$24/100))*$B34),"0")))))))*1.658 -> 13.1811 | G34: =IF(G$23="%w/w SAR",((G$24*10)*$B34),IF(G$23="%w/w DM",(((G$24*10)*($B$24/100))*$B34),IF(G$23="kg/t SAR",(G$24*$B34),IF(G$23="kg/t DM",((G$24*($B$24/100))*$B34),IF(G$23="mg/kg SAR",((G$24*0.001)*$B34),IF(G$23="mg/kg DM",(((G$24*0.001)*($B$24/100))*$B34),0)))))) -> 0.245 | H34: =IF(H$23="%w/w SAR",((H$24*10)*$B34),IF(H$23="%w/w DM",(((H$24*10)*($B$24/100))*$B34),IF(H$23="kg/t SAR",(H$24*$B34),IF(H$23="kg/t DM",((H$24*($B$24/100))*$B34),IF(H$23="mg/kg SAR",((H$24*0.001)*$B34),IF(H$23="mg/kg DM",(((H$24*0.001)*($B$24/100))*$B34),0)))))) -> 0.585 | I34: =IF(I$23="%w/w SAR",((I$24*10)*$B34),IF(I$23="%w/w DM",(((I$24*10)*($B$24/100))*$B34),IF(I$23="kg/t SAR",(I$24*$B34),IF(I$23="kg/t DM",((I$24*($B$24/100))*$B34),IF(I$23="mg/kg SAR",((I$24*0.001)*$B34),IF(I$23="mg/kg DM",(((I$24*0.001)*($B$24/100))*$B34),0)))))) -> 0.125 | J34: =IF(J$23="%w/w SAR",((J$24*10)*$B34),IF(J$23="%w/w DM",(((J$24*10)*($B$24/100))*$B34),IF(J$23="kg/t SAR",(J$24*$B34),IF(J$23="kg/t DM",((J$24*($B$24/100))*$B34),IF(J$23="mg/kg SAR",((J$24*0.001)*$B34),IF(J$23="mg/kg DM",(((J$24*0.001)*($B$24/100))*$B34),0)))))) -> 0.0025 | K34: =IF(K$23="%w/w SAR",((K$24*10)*$B34),IF(K$23="%w/w DM",(((K$24*10)*($B$24/100))*$B34),IF(K$23="kg/t SAR",(K$24*$B34),IF(K$23="kg/t DM",((K$24*($B$24/100))*$B34),IF(K$23="mg/kg SAR",((K$24*0.001)*$B34),IF(K$23="mg/kg DM",(((K$24*0.001)*($B$24/100))*$B34),0)))))) -> 0.0125 | L34: =IF(L$23="%w/w SAR",((L$24*10)*$B34),IF(L$23="%w/w DM",(((L$24*10)*($B$24/100))*$B34),IF(L$23="kg/t SAR",(L$24*$B34),IF(L$23="kg/t DM",((L$24*($B$24/100))*$B34),IF(L$23="mg/kg SAR",((L$24*0.001)*$B34),IF(L$23="mg/kg DM",(((L$24*0.001)*($B$24/100))*$B34),0)))))) -> 0.1375 | M34: =IF(M$23="%w/w SAR",((M$24*10)*$B34),IF(M$23="%w/w DM",(((M$24*10)*($B$24/100))*$B34),IF(M$23="kg/t SAR",(M$24*$B34),IF(M$23="kg/t DM",((M$24*($B$24/100))*$B34),IF(M$23="mg/kg SAR",((M$24*0.001)*$B34),IF(M$23="mg/kg DM",(((M$24*0.001)*($B$24/100))*$B34),0)))))) -> 0.1275 | N34: =IF(N$23="%w/w SAR",((N$24*10)*$B34),IF(N$23="%w/w DM",(((N$24*10)*($B$24/100))*$B34),IF(N$23="kg/t SAR",(N$24*$B34),IF(N$23="kg/t DM",((N$24*($B$24/100))*$B34),IF(N$23="mg/kg SAR",((N$24*0.001)*$B34),IF(N$23="mg/kg DM",(((N$24*0.001)*($B$24/100))*$B34),0)))))) -> 692.5 | ... P34: =IF(P$23="%w/w SAR",((P$24*10)*$B34),IF(P$23="%w/w DM",(((P$24*10)*($B$24/100))*$B34),IF(P$23="kg/t SAR",(P$24*$B34),IF(P$23="kg/t DM",((P$24*($B$24/100))*$B34),IF(P$23="mg/kg SAR",((P$24*0.001)*$B34),IF(P$23="mg/kg DM",(((P$24*0.001)*($B$24/100))*$B34),0)))))) -> 3.125 | Q34: =(IF(Q$23="%w/w SAR",((Q$24*10)*$B34),IF(Q$23="%w/w DM",(((Q$24*10)*($B$24/100))*$B34),IF(Q$23="kg/t SAR",(Q$24*$B34),IF(Q$23="kg/t DM",((Q$24*($B$24/100))*$B34),IF(Q$23="mg/kg SAR",((Q$24*0.001)*$B34),IF(Q$23="mg/kg DM",(((Q$24*0.001)*($B$24/100))*$B34),0)))))))*2.5 -> 90 | R34: =IF(R$23="%w/w SAR",((R$24*10)*$B34),IF(R$23="%w/w DM",(((R$24*10)*($B$24/100))*$B34),IF(R$23="kg/t SAR",(R$24*$B34),IF(R$23="kg/t DM",((R$24*($B$24/100))*$B34),IF(R$23="mg/kg SAR",((R$24*0.001)*$B34),IF(R$23="mg/kg DM",(((R$24*0.001)*($B$24/100))*$B34),0)))))) -> 0 | S34: =IF(S$23="%w/w SAR",((S$24*10)*$B34),IF(S$23="%w/w DM",(((S$24*10)*($B$24/100))*$B34),IF(S$23="kg/t SAR",(S$24*$B34),IF(S$23="kg/t DM",((S$24*($B$24/100))*$B34),IF(S$23="mg/kg SAR",((S$24*0.001)*$B34),IF(S$23="mg/kg DM",(((S$24*0.001)*($B$24/100))*$B34),0)))))) -> 0.125 | T34: =IF(T$23="%w/w SAR",((T$24*10)*$B34),IF(T$23="%w/w DM",(((T$24*10)*($B$24/100))*$B34),IF(T$23="kg/t SAR",(T$24*$B34),IF(T$23="kg/t DM",((T$24*($B$24/100))*$B34),IF(T$23="mg/kg SAR",((T$24*0.001)*$B34),IF(T$23="mg/kg DM",(((T$24*0.001)*($B$24/100))*$B34),0)))))) -> 0 | U34: =IF(U$23="%w/w SAR",((U$24*10)*$B34),IF(U$23="%w/w DM",(((U$24*10)*($B$24/100))*$B34),IF(U$23="kg/t SAR",(U$24*$B34),IF(U$23="kg/t DM",((U$24*($B$24/100))*$B34),IF(U$23="mg/kg SAR",((U$24*0.001)*$B34),IF(U$23="mg/kg DM",(((U$24*0.001)*($B$24/100))*$B34),0)))))) -> 0 | V34: =IF($V$24="",0,IF($V$24>5000,"NOT OK","OK")) -> OK | W34: =IF($W$24="",0,IF($W$24>4,"Not OK","OK")) -> 0
A35: =K8 -> 17 | B35: 250 | C35: =IF(C$23="%w/w SAR",((C$24*10)*$B35),IF(C$23="%w/w DM",(((C$24*10)*($B$24/100))*$B35),IF(C$23="kg/t SAR",(C$24*$B35),IF(C$23="kg/t DM",((C$24*($B$24/100))*$B35),IF(C$23="mg/kg SAR",((C$24*0.001)*$B35),IF(C$23="mg/kg DM",(((C$24*0.001)*($B$24/100))*$B35),0)))))) -> 100 | D35: =(IF(D$23="%w/w SAR",((D$24*10)*$B35),IF(D$23="%w/w DM",(((D$24*10)*($B$24/100))*$B35),IF(D$23="kg/t SAR",(D$24*$B35),IF(D$23="kg/t DM",((D$24*($B$24/100))*$B35),IF(D$23="mg/kg SAR",((D$24*0.001)*$B35),IF(D$23="mg/kg DM",(((D$24*0.001)*($B$24/100))*$B35),"0")))))))*2.291 -> 35.0523 | E35: =(IF(E$23="%w/w SAR",((E$24*10)*$B35),IF(E$23="%w/w DM",(((E$24*10)*($B$24/100))*$B35),IF(E$23="kg/t SAR",(E$24*$B35),IF(E$23="kg/t DM",((E$24*($B$24/100))*$B35),IF(E$23="mg/kg SAR",((E$24*0.001)*$B35),IF(E$23="mg/kg DM",(((E$24*0.001)*($B$24/100))*$B35),"0")))))))*1.205 -> 8.0735 | F35: =(IF(F$23="%w/w SAR",((F$24*10)*$B35),IF(F$23="%w/w DM",(((F$24*10)*($B$24/100))*$B35),IF(F$23="kg/t SAR",(F$24*$B35),IF(F$23="kg/t DM",((F$24*($B$24/100))*$B35),IF(F$23="mg/kg SAR",((F$24*0.001)*$B35),IF(F$23="mg/kg DM",(((F$24*0.001)*($B$24/100))*$B35),"0")))))))*1.658 -> 13.1811 | G35: =IF(G$23="%w/w SAR",((G$24*10)*$B35),IF(G$23="%w/w DM",(((G$24*10)*($B$24/100))*$B35),IF(G$23="kg/t SAR",(G$24*$B35),IF(G$23="kg/t DM",((G$24*($B$24/100))*$B35),IF(G$23="mg/kg SAR",((G$24*0.001)*$B35),IF(G$23="mg/kg DM",(((G$24*0.001)*($B$24/100))*$B35),0)))))) -> 0.245 | H35: =IF(H$23="%w/w SAR",((H$24*10)*$B35),IF(H$23="%w/w DM",(((H$24*10)*($B$24/100))*$B35),IF(H$23="kg/t SAR",(H$24*$B35),IF(H$23="kg/t DM",((H$24*($B$24/100))*$B35),IF(H$23="mg/kg SAR",((H$24*0.001)*$B35),IF(H$23="mg/kg DM",(((H$24*0.001)*($B$24/100))*$B35),0)))))) -> 0.585 | I35: =IF(I$23="%w/w SAR",((I$24*10)*$B35),IF(I$23="%w/w DM",(((I$24*10)*($B$24/100))*$B35),IF(I$23="kg/t SAR",(I$24*$B35),IF(I$23="kg/t DM",((I$24*($B$24/100))*$B35),IF(I$23="mg/kg SAR",((I$24*0.001)*$B35),IF(I$23="mg/kg DM",(((I$24*0.001)*($B$24/100))*$B35),0)))))) -> 0.125 | J35: =IF(J$23="%w/w SAR",((J$24*10)*$B35),IF(J$23="%w/w DM",(((J$24*10)*($B$24/100))*$B35),IF(J$23="kg/t SAR",(J$24*$B35),IF(J$23="kg/t DM",((J$24*($B$24/100))*$B35),IF(J$23="mg/kg SAR",((J$24*0.001)*$B35),IF(J$23="mg/kg DM",(((J$24*0.001)*($B$24/100))*$B35),0)))))) -> 0.0025 | K35: =IF(K$23="%w/w SAR",((K$24*10)*$B35),IF(K$23="%w/w DM",(((K$24*10)*($B$24/100))*$B35),IF(K$23="kg/t SAR",(K$24*$B35),IF(K$23="kg/t DM",((K$24*($B$24/100))*$B35),IF(K$23="mg/kg SAR",((K$24*0.001)*$B35),IF(K$23="mg/kg DM",(((K$24*0.001)*($B$24/100))*$B35),0)))))) -> 0.0125 | L35: =IF(L$23="%w/w SAR",((L$24*10)*$B35),IF(L$23="%w/w DM",(((L$24*10)*($B$24/100))*$B35),IF(L$23="kg/t SAR",(L$24*$B35),IF(L$23="kg/t DM",((L$24*($B$24/100))*$B35),IF(L$23="mg/kg SAR",((L$24*0.001)*$B35),IF(L$23="mg/kg DM",(((L$24*0.001)*($B$24/100))*$B35),0)))))) -> 0.1375 | M35: =IF(M$23="%w/w SAR",((M$24*10)*$B35),IF(M$23="%w/w DM",(((M$24*10)*($B$24/100))*$B35),IF(M$23="kg/t SAR",(M$24*$B35),IF(M$23="kg/t DM",((M$24*($B$24/100))*$B35),IF(M$23="mg/kg SAR",((M$24*0.001)*$B35),IF(M$23="mg/kg DM",(((M$24*0.001)*($B$24/100))*$B35),0)))))) -> 0.1275 | N35: =IF(N$23="%w/w SAR",((N$24*10)*$B35),IF(N$23="%w/w DM",(((N$24*10)*($B$24/100))*$B35),IF(N$23="kg/t SAR",(N$24*$B35),IF(N$23="kg/t DM",((N$24*($B$24/100))*$B35),IF(N$23="mg/kg SAR",((N$24*0.001)*$B35),IF(N$23="mg/kg DM",(((N$24*0.001)*($B$24/100))*$B35),0)))))) -> 692.5 | ... P35: =IF(P$23="%w/w SAR",((P$24*10)*$B35),IF(P$23="%w/w DM",(((P$24*10)*($B$24/100))*$B35),IF(P$23="kg/t SAR",(P$24*$B35),IF(P$23="kg/t DM",((P$24*($B$24/100))*$B35),IF(P$23="mg/kg SAR",((P$24*0.001)*$B35),IF(P$23="mg/kg DM",(((P$24*0.001)*($B$24/100))*$B35),0)))))) -> 3.125 | Q35: =(IF(Q$23="%w/w SAR",((Q$24*10)*$B35),IF(Q$23="%w/w DM",(((Q$24*10)*($B$24/100))*$B35),IF(Q$23="kg/t SAR",(Q$24*$B35),IF(Q$23="kg/t DM",((Q$24*($B$24/100))*$B35),IF(Q$23="mg/kg SAR",((Q$24*0.001)*$B35),IF(Q$23="mg/kg DM",(((Q$24*0.001)*($B$24/100))*$B35),0)))))))*2.5 -> 90 | R35: =IF(R$23="%w/w SAR",((R$24*10)*$B35),IF(R$23="%w/w DM",(((R$24*10)*($B$24/100))*$B35),IF(R$23="kg/t SAR",(R$24*$B35),IF(R$23="kg/t DM",((R$24*($B$24/100))*$B35),IF(R$23="mg/kg SAR",((R$24*0.001)*$B35),IF(R$23="mg/kg DM",(((R$24*0.001)*($B$24/100))*$B35),0)))))) -> 0 | S35: =IF(S$23="%w/w SAR",((S$24*10)*$B35),IF(S$23="%w/w DM",(((S$24*10)*($B$24/100))*$B35),IF(S$23="kg/t SAR",(S$24*$B35),IF(S$23="kg/t DM",((S$24*($B$24/100))*$B35),IF(S$23="mg/kg SAR",((S$24*0.001)*$B35),IF(S$23="mg/kg DM",(((S$24*0.001)*($B$24/100))*$B35),0)))))) -> 0.125 | T35: =IF(T$23="%w/w SAR",((T$24*10)*$B35),IF(T$23="%w/w DM",(((T$24*10)*($B$24/100))*$B35),IF(T$23="kg/t SAR",(T$24*$B35),IF(T$23="kg/t DM",((T$24*($B$24/100))*$B35),IF(T$23="mg/kg SAR",((T$24*0.001)*$B35),IF(T$23="mg/kg DM",(((T$24*0.001)*($B$24/100))*$B35),0)))))) -> 0 | U35: =IF(U$23="%w/w SAR",((U$24*10)*$B35),IF(U$23="%w/w DM",(((U$24*10)*($B$24/100))*$B35),IF(U$23="kg/t SAR",(U$24*$B35),IF(U$23="kg/t DM",((U$24*($B$24/100))*$B35),IF(U$23="mg/kg SAR",((U$24*0.001)*$B35),IF(U$23="mg/kg DM",(((U$24*0.001)*($B$24/100))*$B35),0)))))) -> 0 | V35: =IF($V$24="",0,IF($V$24>5000,"NOT OK","OK")) -> OK | W35: =IF($W$24="",0,IF($W$24>4,"Not OK","OK")) -> 0
A36: =L8 -> 18 | B36: 250 | C36: =IF(C$23="%w/w SAR",((C$24*10)*$B36),IF(C$23="%w/w DM",(((C$24*10)*($B$24/100))*$B36),IF(C$23="kg/t SAR",(C$24*$B36),IF(C$23="kg/t DM",((C$24*($B$24/100))*$B36),IF(C$23="mg/kg SAR",((C$24*0.001)*$B36),IF(C$23="mg/kg DM",(((C$24*0.001)*($B$24/100))*$B36),0)))))) -> 100 | D36: =(IF(D$23="%w/w SAR",((D$24*10)*$B36),IF(D$23="%w/w DM",(((D$24*10)*($B$24/100))*$B36),IF(D$23="kg/t SAR",(D$24*$B36),IF(D$23="kg/t DM",((D$24*($B$24/100))*$B36),IF(D$23="mg/kg SAR",((D$24*0.001)*$B36),IF(D$23="mg/kg DM",(((D$24*0.001)*($B$24/100))*$B36),"0")))))))*2.291 -> 35.0523 | E36: =(IF(E$23="%w/w SAR",((E$24*10)*$B36),IF(E$23="%w/w DM",(((E$24*10)*($B$24/100))*$B36),IF(E$23="kg/t SAR",(E$24*$B36),IF(E$23="kg/t DM",((E$24*($B$24/100))*$B36),IF(E$23="mg/kg SAR",((E$24*0.001)*$B36),IF(E$23="mg/kg DM",(((E$24*0.001)*($B$24/100))*$B36),"0")))))))*1.205 -> 8.0735 | F36: =(IF(F$23="%w/w SAR",((F$24*10)*$B36),IF(F$23="%w/w DM",(((F$24*10)*($B$24/100))*$B36),IF(F$23="kg/t SAR",(F$24*$B36),IF(F$23="kg/t DM",((F$24*($B$24/100))*$B36),IF(F$23="mg/kg SAR",((F$24*0.001)*$B36),IF(F$23="mg/kg DM",(((F$24*0.001)*($B$24/100))*$B36),"0")))))))*1.658 -> 13.1811 | G36: =IF(G$23="%w/w SAR",((G$24*10)*$B36),IF(G$23="%w/w DM",(((G$24*10)*($B$24/100))*$B36),IF(G$23="kg/t SAR",(G$24*$B36),IF(G$23="kg/t DM",((G$24*($B$24/100))*$B36),IF(G$23="mg/kg SAR",((G$24*0.001)*$B36),IF(G$23="mg/kg DM",(((G$24*0.001)*($B$24/100))*$B36),0)))))) -> 0.245 | H36: =IF(H$23="%w/w SAR",((H$24*10)*$B36),IF(H$23="%w/w DM",(((H$24*10)*($B$24/100))*$B36),IF(H$23="kg/t SAR",(H$24*$B36),IF(H$23="kg/t DM",((H$24*($B$24/100))*$B36),IF(H$23="mg/kg SAR",((H$24*0.001)*$B36),IF(H$23="mg/kg DM",(((H$24*0.001)*($B$24/100))*$B36),0)))))) -> 0.585 | I36: =IF(I$23="%w/w SAR",((I$24*10)*$B36),IF(I$23="%w/w DM",(((I$24*10)*($B$24/100))*$B36),IF(I$23="kg/t SAR",(I$24*$B36),IF(I$23="kg/t DM",((I$24*($B$24/100))*$B36),IF(I$23="mg/kg SAR",((I$24*0.001)*$B36),IF(I$23="mg/kg DM",(((I$24*0.001)*($B$24/100))*$B36),0)))))) -> 0.125 | J36: =IF(J$23="%w/w SAR",((J$24*10)*$B36),IF(J$23="%w/w DM",(((J$24*10)*($B$24/100))*$B36),IF(J$23="kg/t SAR",(J$24*$B36),IF(J$23="kg/t DM",((J$24*($B$24/100))*$B36),IF(J$23="mg/kg SAR",((J$24*0.001)*$B36),IF(J$23="mg/kg DM",(((J$24*0.001)*($B$24/100))*$B36),0)))))) -> 0.0025 | K36: =IF(K$23="%w/w SAR",((K$24*10)*$B36),IF(K$23="%w/w DM",(((K$24*10)*($B$24/100))*$B36),IF(K$23="kg/t SAR",(K$24*$B36),IF(K$23="kg/t DM",((K$24*($B$24/100))*$B36),IF(K$23="mg/kg SAR",((K$24*0.001)*$B36),IF(K$23="mg/kg DM",(((K$24*0.001)*($B$24/100))*$B36),0)))))) -> 0.0125 | L36: =IF(L$23="%w/w SAR",((L$24*10)*$B36),IF(L$23="%w/w DM",(((L$24*10)*($B$24/100))*$B36),IF(L$23="kg/t SAR",(L$24*$B36),IF(L$23="kg/t DM",((L$24*($B$24/100))*$B36),IF(L$23="mg/kg SAR",((L$24*0.001)*$B36),IF(L$23="mg/kg DM",(((L$24*0.001)*($B$24/100))*$B36),0)))))) -> 0.1375 | M36: =IF(M$23="%w/w SAR",((M$24*10)*$B36),IF(M$23="%w/w DM",(((M$24*10)*($B$24/100))*$B36),IF(M$23="kg/t SAR",(M$24*$B36),IF(M$23="kg/t DM",((M$24*($B$24/100))*$B36),IF(M$23="mg/kg SAR",((M$24*0.001)*$B36),IF(M$23="mg/kg DM",(((M$24*0.001)*($B$24/100))*$B36),0)))))) -> 0.1275 | N36: =IF(N$23="%w/w SAR",((N$24*10)*$B36),IF(N$23="%w/w DM",(((N$24*10)*($B$24/100))*$B36),IF(N$23="kg/t SAR",(N$24*$B36),IF(N$23="kg/t DM",((N$24*($B$24/100))*$B36),IF(N$23="mg/kg SAR",((N$24*0.001)*$B36),IF(N$23="mg/kg DM",(((N$24*0.001)*($B$24/100))*$B36),0)))))) -> 692.5 | ... P36: =IF(P$23="%w/w SAR",((P$24*10)*$B36),IF(P$23="%w/w DM",(((P$24*10)*($B$24/100))*$B36),IF(P$23="kg/t SAR",(P$24*$B36),IF(P$23="kg/t DM",((P$24*($B$24/100))*$B36),IF(P$23="mg/kg SAR",((P$24*0.001)*$B36),IF(P$23="mg/kg DM",(((P$24*0.001)*($B$24/100))*$B36),0)))))) -> 3.125 | Q36: =(IF(Q$23="%w/w SAR",((Q$24*10)*$B36),IF(Q$23="%w/w DM",(((Q$24*10)*($B$24/100))*$B36),IF(Q$23="kg/t SAR",(Q$24*$B36),IF(Q$23="kg/t DM",((Q$24*($B$24/100))*$B36),IF(Q$23="mg/kg SAR",((Q$24*0.001)*$B36),IF(Q$23="mg/kg DM",(((Q$24*0.001)*($B$24/100))*$B36),0)))))))*2.5 -> 90 | R36: =IF(R$23="%w/w SAR",((R$24*10)*$B36),IF(R$23="%w/w DM",(((R$24*10)*($B$24/100))*$B36),IF(R$23="kg/t SAR",(R$24*$B36),IF(R$23="kg/t DM",((R$24*($B$24/100))*$B36),IF(R$23="mg/kg SAR",((R$24*0.001)*$B36),IF(R$23="mg/kg DM",(((R$24*0.001)*($B$24/100))*$B36),0)))))) -> 0 | S36: =IF(S$23="%w/w SAR",((S$24*10)*$B36),IF(S$23="%w/w DM",(((S$24*10)*($B$24/100))*$B36),IF(S$23="kg/t SAR",(S$24*$B36),IF(S$23="kg/t DM",((S$24*($B$24/100))*$B36),IF(S$23="mg/kg SAR",((S$24*0.001)*$B36),IF(S$23="mg/kg DM",(((S$24*0.001)*($B$24/100))*$B36),0)))))) -> 0.125 | T36: =IF(T$23="%w/w SAR",((T$24*10)*$B36),IF(T$23="%w/w DM",(((T$24*10)*($B$24/100))*$B36),IF(T$23="kg/t SAR",(T$24*$B36),IF(T$23="kg/t DM",((T$24*($B$24/100))*$B36),IF(T$23="mg/kg SAR",((T$24*0.001)*$B36),IF(T$23="mg/kg DM",(((T$24*0.001)*($B$24/100))*$B36),0)))))) -> 0 | U36: =IF(U$23="%w/w SAR",((U$24*10)*$B36),IF(U$23="%w/w DM",(((U$24*10)*($B$24/100))*$B36),IF(U$23="kg/t SAR",(U$24*$B36),IF(U$23="kg/t DM",((U$24*($B$24/100))*$B36),IF(U$23="mg/kg SAR",((U$24*0.001)*$B36),IF(U$23="mg/kg DM",(((U$24*0.001)*($B$24/100))*$B36),0)))))) -> 0 | V36: =IF($V$24="",0,IF($V$24>5000,"NOT OK","OK")) -> OK | W36: =IF($W$24="",0,IF($W$24>4,"Not OK","OK")) -> 0
A37: =M8 -> 24 | B37: 250 | C37: =IF(C$23="%w/w SAR",((C$24*10)*$B37),IF(C$23="%w/w DM",(((C$24*10)*($B$24/100))*$B37),IF(C$23="kg/t SAR",(C$24*$B37),IF(C$23="kg/t DM",((C$24*($B$24/100))*$B37),IF(C$23="mg/kg SAR",((C$24*0.001)*$B37),IF(C$23="mg/kg DM",(((C$24*0.001)*($B$24/100))*$B37),0)))))) -> 100 | D37: =(IF(D$23="%w/w SAR",((D$24*10)*$B37),IF(D$23="%w/w DM",(((D$24*10)*($B$24/100))*$B37),IF(D$23="kg/t SAR",(D$24*$B37),IF(D$23="kg/t DM",((D$24*($B$24/100))*$B37),IF(D$23="mg/kg SAR",((D$24*0.001)*$B37),IF(D$23="mg/kg DM",(((D$24*0.001)*($B$24/100))*$B37),"0")))))))*2.291 -> 35.0523 | E37: =(IF(E$23="%w/w SAR",((E$24*10)*$B37),IF(E$23="%w/w DM",(((E$24*10)*($B$24/100))*$B37),IF(E$23="kg/t SAR",(E$24*$B37),IF(E$23="kg/t DM",((E$24*($B$24/100))*$B37),IF(E$23="mg/kg SAR",((E$24*0.001)*$B37),IF(E$23="mg/kg DM",(((E$24*0.001)*($B$24/100))*$B37),"0")))))))*1.205 -> 8.0735 | F37: =(IF(F$23="%w/w SAR",((F$24*10)*$B37),IF(F$23="%w/w DM",(((F$24*10)*($B$24/100))*$B37),IF(F$23="kg/t SAR",(F$24*$B37),IF(F$23="kg/t DM",((F$24*($B$24/100))*$B37),IF(F$23="mg/kg SAR",((F$24*0.001)*$B37),IF(F$23="mg/kg DM",(((F$24*0.001)*($B$24/100))*$B37),"0")))))))*1.658 -> 13.1811 | G37: =IF(G$23="%w/w SAR",((G$24*10)*$B37),IF(G$23="%w/w DM",(((G$24*10)*($B$24/100))*$B37),IF(G$23="kg/t SAR",(G$24*$B37),IF(G$23="kg/t DM",((G$24*($B$24/100))*$B37),IF(G$23="mg/kg SAR",((G$24*0.001)*$B37),IF(G$23="mg/kg DM",(((G$24*0.001)*($B$24/100))*$B37),0)))))) -> 0.245 | H37: =IF(H$23="%w/w SAR",((H$24*10)*$B37),IF(H$23="%w/w DM",(((H$24*10)*($B$24/100))*$B37),IF(H$23="kg/t SAR",(H$24*$B37),IF(H$23="kg/t DM",((H$24*($B$24/100))*$B37),IF(H$23="mg/kg SAR",((H$24*0.001)*$B37),IF(H$23="mg/kg DM",(((H$24*0.001)*($B$24/100))*$B37),0)))))) -> 0.585 | I37: =IF(I$23="%w/w SAR",((I$24*10)*$B37),IF(I$23="%w/w DM",(((I$24*10)*($B$24/100))*$B37),IF(I$23="kg/t SAR",(I$24*$B37),IF(I$23="kg/t DM",((I$24*($B$24/100))*$B37),IF(I$23="mg/kg SAR",((I$24*0.001)*$B37),IF(I$23="mg/kg DM",(((I$24*0.001)*($B$24/100))*$B37),0)))))) -> 0.125 | J37: =IF(J$23="%w/w SAR",((J$24*10)*$B37),IF(J$23="%w/w DM",(((J$24*10)*($B$24/100))*$B37),IF(J$23="kg/t SAR",(J$24*$B37),IF(J$23="kg/t DM",((J$24*($B$24/100))*$B37),IF(J$23="mg/kg SAR",((J$24*0.001)*$B37),IF(J$23="mg/kg DM",(((J$24*0.001)*($B$24/100))*$B37),0)))))) -> 0.0025 | K37: =IF(K$23="%w/w SAR",((K$24*10)*$B37),IF(K$23="%w/w DM",(((K$24*10)*($B$24/100))*$B37),IF(K$23="kg/t SAR",(K$24*$B37),IF(K$23="kg/t DM",((K$24*($B$24/100))*$B37),IF(K$23="mg/kg SAR",((K$24*0.001)*$B37),IF(K$23="mg/kg DM",(((K$24*0.001)*($B$24/100))*$B37),0)))))) -> 0.0125 | L37: =IF(L$23="%w/w SAR",((L$24*10)*$B37),IF(L$23="%w/w DM",(((L$24*10)*($B$24/100))*$B37),IF(L$23="kg/t SAR",(L$24*$B37),IF(L$23="kg/t DM",((L$24*($B$24/100))*$B37),IF(L$23="mg/kg SAR",((L$24*0.001)*$B37),IF(L$23="mg/kg DM",(((L$24*0.001)*($B$24/100))*$B37),0)))))) -> 0.1375 | M37: =IF(M$23="%w/w SAR",((M$24*10)*$B37),IF(M$23="%w/w DM",(((M$24*10)*($B$24/100))*$B37),IF(M$23="kg/t SAR",(M$24*$B37),IF(M$23="kg/t DM",((M$24*($B$24/100))*$B37),IF(M$23="mg/kg SAR",((M$24*0.001)*$B37),IF(M$23="mg/kg DM",(((M$24*0.001)*($B$24/100))*$B37),0)))))) -> 0.1275 | N37: =IF(N$23="%w/w SAR",((N$24*10)*$B37),IF(N$23="%w/w DM",(((N$24*10)*($B$24/100))*$B37),IF(N$23="kg/t SAR",(N$24*$B37),IF(N$23="kg/t DM",((N$24*($B$24/100))*$B37),IF(N$23="mg/kg SAR",((N$24*0.001)*$B37),IF(N$23="mg/kg DM",(((N$24*0.001)*($B$24/100))*$B37),0)))))) -> 692.5 | ... P37: =IF(P$23="%w/w SAR",((P$24*10)*$B37),IF(P$23="%w/w DM",(((P$24*10)*($B$24/100))*$B37),IF(P$23="kg/t SAR",(P$24*$B37),IF(P$23="kg/t DM",((P$24*($B$24/100))*$B37),IF(P$23="mg/kg SAR",((P$24*0.001)*$B37),IF(P$23="mg/kg DM",(((P$24*0.001)*($B$24/100))*$B37),0)))))) -> 3.125 | Q37: =(IF(Q$23="%w/w SAR",((Q$24*10)*$B37),IF(Q$23="%w/w DM",(((Q$24*10)*($B$24/100))*$B37),IF(Q$23="kg/t SAR",(Q$24*$B37),IF(Q$23="kg/t DM",((Q$24*($B$24/100))*$B37),IF(Q$23="mg/kg SAR",((Q$24*0.001)*$B37),IF(Q$23="mg/kg DM",(((Q$24*0.001)*($B$24/100))*$B37),0)))))))*2.5 -> 90 | R37: =IF(R$23="%w/w SAR",((R$24*10)*$B37),IF(R$23="%w/w DM",(((R$24*10)*($B$24/100))*$B37),IF(R$23="kg/t SAR",(R$24*$B37),IF(R$23="kg/t DM",((R$24*($B$24/100))*$B37),IF(R$23="mg/kg SAR",((R$24*0.001)*$B37),IF(R$23="mg/kg DM",(((R$24*0.001)*($B$24/100))*$B37),0)))))) -> 0 | S37: =IF(S$23="%w/w SAR",((S$24*10)*$B37),IF(S$23="%w/w DM",(((S$24*10)*($B$24/100))*$B37),IF(S$23="kg/t SAR",(S$24*$B37),IF(S$23="kg/t DM",((S$24*($B$24/100))*$B37),IF(S$23="mg/kg SAR",((S$24*0.001)*$B37),IF(S$23="mg/kg DM",(((S$24*0.001)*($B$24/100))*$B37),0)))))) -> 0.125 | T37: =IF(T$23="%w/w SAR",((T$24*10)*$B37),IF(T$23="%w/w DM",(((T$24*10)*($B$24/100))*$B37),IF(T$23="kg/t SAR",(T$24*$B37),IF(T$23="kg/t DM",((T$24*($B$24/100))*$B37),IF(T$23="mg/kg SAR",((T$24*0.001)*$B37),IF(T$23="mg/kg DM",(((T$24*0.001)*($B$24/100))*$B37),0)))))) -> 0 | U37: =IF(U$23="%w/w SAR",((U$24*10)*$B37),IF(U$23="%w/w DM",(((U$24*10)*($B$24/100))*$B37),IF(U$23="kg/t SAR",(U$24*$B37),IF(U$23="kg/t DM",((U$24*($B$24/100))*$B37),IF(U$23="mg/kg SAR",((U$24*0.001)*$B37),IF(U$23="mg/kg DM",(((U$24*0.001)*($B$24/100))*$B37),0)))))) -> 0 | V37: =IF($V$24="",0,IF($V$24>5000,"NOT OK","OK")) -> OK | W37: =IF($W$24="",0,IF($W$24>4,"Not OK","OK")) -> 0
A38: =N8 -> 25 | B38: 250 | C38: =IF(C$23="%w/w SAR",((C$24*10)*$B38),IF(C$23="%w/w DM",(((C$24*10)*($B$24/100))*$B38),IF(C$23="kg/t SAR",(C$24*$B38),IF(C$23="kg/t DM",((C$24*($B$24/100))*$B38),IF(C$23="mg/kg SAR",((C$24*0.001)*$B38),IF(C$23="mg/kg DM",(((C$24*0.001)*($B$24/100))*$B38),0)))))) -> 100 | D38: =(IF(D$23="%w/w SAR",((D$24*10)*$B38),IF(D$23="%w/w DM",(((D$24*10)*($B$24/100))*$B38),IF(D$23="kg/t SAR",(D$24*$B38),IF(D$23="kg/t DM",((D$24*($B$24/100))*$B38),IF(D$23="mg/kg SAR",((D$24*0.001)*$B38),IF(D$23="mg/kg DM",(((D$24*0.001)*($B$24/100))*$B38),"0")))))))*2.291 -> 35.0523 | E38: =(IF(E$23="%w/w SAR",((E$24*10)*$B38),IF(E$23="%w/w DM",(((E$24*10)*($B$24/100))*$B38),IF(E$23="kg/t SAR",(E$24*$B38),IF(E$23="kg/t DM",((E$24*($B$24/100))*$B38),IF(E$23="mg/kg SAR",((E$24*0.001)*$B38),IF(E$23="mg/kg DM",(((E$24*0.001)*($B$24/100))*$B38),"0")))))))*1.205 -> 8.0735 | F38: =(IF(F$23="%w/w SAR",((F$24*10)*$B38),IF(F$23="%w/w DM",(((F$24*10)*($B$24/100))*$B38),IF(F$23="kg/t SAR",(F$24*$B38),IF(F$23="kg/t DM",((F$24*($B$24/100))*$B38),IF(F$23="mg/kg SAR",((F$24*0.001)*$B38),IF(F$23="mg/kg DM",(((F$24*0.001)*($B$24/100))*$B38),"0")))))))*1.658 -> 13.1811 | G38: =IF(G$23="%w/w SAR",((G$24*10)*$B38),IF(G$23="%w/w DM",(((G$24*10)*($B$24/100))*$B38),IF(G$23="kg/t SAR",(G$24*$B38),IF(G$23="kg/t DM",((G$24*($B$24/100))*$B38),IF(G$23="mg/kg SAR",((G$24*0.001)*$B38),IF(G$23="mg/kg DM",(((G$24*0.001)*($B$24/100))*$B38),0)))))) -> 0.245 | H38: =IF(H$23="%w/w SAR",((H$24*10)*$B38),IF(H$23="%w/w DM",(((H$24*10)*($B$24/100))*$B38),IF(H$23="kg/t SAR",(H$24*$B38),IF(H$23="kg/t DM",((H$24*($B$24/100))*$B38),IF(H$23="mg/kg SAR",((H$24*0.001)*$B38),IF(H$23="mg/kg DM",(((H$24*0.001)*($B$24/100))*$B38),0)))))) -> 0.585 | I38: =IF(I$23="%w/w SAR",((I$24*10)*$B38),IF(I$23="%w/w DM",(((I$24*10)*($B$24/100))*$B38),IF(I$23="kg/t SAR",(I$24*$B38),IF(I$23="kg/t DM",((I$24*($B$24/100))*$B38),IF(I$23="mg/kg SAR",((I$24*0.001)*$B38),IF(I$23="mg/kg DM",(((I$24*0.001)*($B$24/100))*$B38),0)))))) -> 0.125 | J38: =IF(J$23="%w/w SAR",((J$24*10)*$B38),IF(J$23="%w/w DM",(((J$24*10)*($B$24/100))*$B38),IF(J$23="kg/t SAR",(J$24*$B38),IF(J$23="kg/t DM",((J$24*($B$24/100))*$B38),IF(J$23="mg/kg SAR",((J$24*0.001)*$B38),IF(J$23="mg/kg DM",(((J$24*0.001)*($B$24/100))*$B38),0)))))) -> 0.0025 | K38: =IF(K$23="%w/w SAR",((K$24*10)*$B38),IF(K$23="%w/w DM",(((K$24*10)*($B$24/100))*$B38),IF(K$23="kg/t SAR",(K$24*$B38),IF(K$23="kg/t DM",((K$24*($B$24/100))*$B38),IF(K$23="mg/kg SAR",((K$24*0.001)*$B38),IF(K$23="mg/kg DM",(((K$24*0.001)*($B$24/100))*$B38),0)))))) -> 0.0125 | L38: =IF(L$23="%w/w SAR",((L$24*10)*$B38),IF(L$23="%w/w DM",(((L$24*10)*($B$24/100))*$B38),IF(L$23="kg/t SAR",(L$24*$B38),IF(L$23="kg/t DM",((L$24*($B$24/100))*$B38),IF(L$23="mg/kg SAR",((L$24*0.001)*$B38),IF(L$23="mg/kg DM",(((L$24*0.001)*($B$24/100))*$B38),0)))))) -> 0.1375 | M38: =IF(M$23="%w/w SAR",((M$24*10)*$B38),IF(M$23="%w/w DM",(((M$24*10)*($B$24/100))*$B38),IF(M$23="kg/t SAR",(M$24*$B38),IF(M$23="kg/t DM",((M$24*($B$24/100))*$B38),IF(M$23="mg/kg SAR",((M$24*0.001)*$B38),IF(M$23="mg/kg DM",(((M$24*0.001)*($B$24/100))*$B38),0)))))) -> 0.1275 | N38: =IF(N$23="%w/w SAR",((N$24*10)*$B38),IF(N$23="%w/w DM",(((N$24*10)*($B$24/100))*$B38),IF(N$23="kg/t SAR",(N$24*$B38),IF(N$23="kg/t DM",((N$24*($B$24/100))*$B38),IF(N$23="mg/kg SAR",((N$24*0.001)*$B38),IF(N$23="mg/kg DM",(((N$24*0.001)*($B$24/100))*$B38),0)))))) -> 692.5 | ... P38: =IF(P$23="%w/w SAR",((P$24*10)*$B38),IF(P$23="%w/w DM",(((P$24*10)*($B$24/100))*$B38),IF(P$23="kg/t SAR",(P$24*$B38),IF(P$23="kg/t DM",((P$24*($B$24/100))*$B38),IF(P$23="mg/kg SAR",((P$24*0.001)*$B38),IF(P$23="mg/kg DM",(((P$24*0.001)*($B$24/100))*$B38),0)))))) -> 3.125 | Q38: =(IF(Q$23="%w/w SAR",((Q$24*10)*$B38),IF(Q$23="%w/w DM",(((Q$24*10)*($B$24/100))*$B38),IF(Q$23="kg/t SAR",(Q$24*$B38),IF(Q$23="kg/t DM",((Q$24*($B$24/100))*$B38),IF(Q$23="mg/kg SAR",((Q$24*0.001)*$B38),IF(Q$23="mg/kg DM",(((Q$24*0.001)*($B$24/100))*$B38),0)))))))*2.5 -> 90 | R38: =IF(R$23="%w/w SAR",((R$24*10)*$B38),IF(R$23="%w/w DM",(((R$24*10)*($B$24/100))*$B38),IF(R$23="kg/t SAR",(R$24*$B38),IF(R$23="kg/t DM",((R$24*($B$24/100))*$B38),IF(R$23="mg/kg SAR",((R$24*0.001)*$B38),IF(R$23="mg/kg DM",(((R$24*0.001)*($B$24/100))*$B38),0)))))) -> 0 | S38: =IF(S$23="%w/w SAR",((S$24*10)*$B38),IF(S$23="%w/w DM",(((S$24*10)*($B$24/100))*$B38),IF(S$23="kg/t SAR",(S$24*$B38),IF(S$23="kg/t DM",((S$24*($B$24/100))*$B38),IF(S$23="mg/kg SAR",((S$24*0.001)*$B38),IF(S$23="mg/kg DM",(((S$24*0.001)*($B$24/100))*$B38),0)))))) -> 0.125 | T38: =IF(T$23="%w/w SAR",((T$24*10)*$B38),IF(T$23="%w/w DM",(((T$24*10)*($B$24/100))*$B38),IF(T$23="kg/t SAR",(T$24*$B38),IF(T$23="kg/t DM",((T$24*($B$24/100))*$B38),IF(T$23="mg/kg SAR",((T$24*0.001)*$B38),IF(T$23="mg/kg DM",(((T$24*0.001)*($B$24/100))*$B38),0)))))) -> 0 | U38: =IF(U$23="%w/w SAR",((U$24*10)*$B38),IF(U$23="%w/w DM",(((U$24*10)*($B$24/100))*$B38),IF(U$23="kg/t SAR",(U$24*$B38),IF(U$23="kg/t DM",((U$24*($B$24/100))*$B38),IF(U$23="mg/kg SAR",((U$24*0.001)*$B38),IF(U$23="mg/kg DM",(((U$24*0.001)*($B$24/100))*$B38),0)))))) -> 0 | V38: =IF($V$24="",0,IF($V$24>5000,"NOT OK","OK")) -> OK | W38: =IF($W$24="",0,IF($W$24>4,"Not OK","OK")) -> 0
A39: =O8 -> 26 | B39: 250 | C39: =IF(C$23="%w/w SAR",((C$24*10)*$B39),IF(C$23="%w/w DM",(((C$24*10)*($B$24/100))*$B39),IF(C$23="kg/t SAR",(C$24*$B39),IF(C$23="kg/t DM",((C$24*($B$24/100))*$B39),IF(C$23="mg/kg SAR",((C$24*0.001)*$B39),IF(C$23="mg/kg DM",(((C$24*0.001)*($B$24/100))*$B39),0)))))) -> 100 | D39: =(IF(D$23="%w/w SAR",((D$24*10)*$B39),IF(D$23="%w/w DM",(((D$24*10)*($B$24/100))*$B39),IF(D$23="kg/t SAR",(D$24*$B39),IF(D$23="kg/t DM",((D$24*($B$24/100))*$B39),IF(D$23="mg/kg SAR",((D$24*0.001)*$B39),IF(D$23="mg/kg DM",(((D$24*0.001)*($B$24/100))*$B39),"0")))))))*2.291 -> 35.0523 | E39: =(IF(E$23="%w/w SAR",((E$24*10)*$B39),IF(E$23="%w/w DM",(((E$24*10)*($B$24/100))*$B39),IF(E$23="kg/t SAR",(E$24*$B39),IF(E$23="kg/t DM",((E$24*($B$24/100))*$B39),IF(E$23="mg/kg SAR",((E$24*0.001)*$B39),IF(E$23="mg/kg DM",(((E$24*0.001)*($B$24/100))*$B39),"0")))))))*1.205 -> 8.0735 | F39: =(IF(F$23="%w/w SAR",((F$24*10)*$B39),IF(F$23="%w/w DM",(((F$24*10)*($B$24/100))*$B39),IF(F$23="kg/t SAR",(F$24*$B39),IF(F$23="kg/t DM",((F$24*($B$24/100))*$B39),IF(F$23="mg/kg SAR",((F$24*0.001)*$B39),IF(F$23="mg/kg DM",(((F$24*0.001)*($B$24/100))*$B39),"0")))))))*1.658 -> 13.1811 | G39: =IF(G$23="%w/w SAR",((G$24*10)*$B39),IF(G$23="%w/w DM",(((G$24*10)*($B$24/100))*$B39),IF(G$23="kg/t SAR",(G$24*$B39),IF(G$23="kg/t DM",((G$24*($B$24/100))*$B39),IF(G$23="mg/kg SAR",((G$24*0.001)*$B39),IF(G$23="mg/kg DM",(((G$24*0.001)*($B$24/100))*$B39),0)))))) -> 0.245 | H39: =IF(H$23="%w/w SAR",((H$24*10)*$B39),IF(H$23="%w/w DM",(((H$24*10)*($B$24/100))*$B39),IF(H$23="kg/t SAR",(H$24*$B39),IF(H$23="kg/t DM",((H$24*($B$24/100))*$B39),IF(H$23="mg/kg SAR",((H$24*0.001)*$B39),IF(H$23="mg/kg DM",(((H$24*0.001)*($B$24/100))*$B39),0)))))) -> 0.585 | I39: =IF(I$23="%w/w SAR",((I$24*10)*$B39),IF(I$23="%w/w DM",(((I$24*10)*($B$24/100))*$B39),IF(I$23="kg/t SAR",(I$24*$B39),IF(I$23="kg/t DM",((I$24*($B$24/100))*$B39),IF(I$23="mg/kg SAR",((I$24*0.001)*$B39),IF(I$23="mg/kg DM",(((I$24*0.001)*($B$24/100))*$B39),0)))))) -> 0.125 | J39: =IF(J$23="%w/w SAR",((J$24*10)*$B39),IF(J$23="%w/w DM",(((J$24*10)*($B$24/100))*$B39),IF(J$23="kg/t SAR",(J$24*$B39),IF(J$23="kg/t DM",((J$24*($B$24/100))*$B39),IF(J$23="mg/kg SAR",((J$24*0.001)*$B39),IF(J$23="mg/kg DM",(((J$24*0.001)*($B$24/100))*$B39),0)))))) -> 0.0025 | K39: =IF(K$23="%w/w SAR",((K$24*10)*$B39),IF(K$23="%w/w DM",(((K$24*10)*($B$24/100))*$B39),IF(K$23="kg/t SAR",(K$24*$B39),IF(K$23="kg/t DM",((K$24*($B$24/100))*$B39),IF(K$23="mg/kg SAR",((K$24*0.001)*$B39),IF(K$23="mg/kg DM",(((K$24*0.001)*($B$24/100))*$B39),0)))))) -> 0.0125 | L39: =IF(L$23="%w/w SAR",((L$24*10)*$B39),IF(L$23="%w/w DM",(((L$24*10)*($B$24/100))*$B39),IF(L$23="kg/t SAR",(L$24*$B39),IF(L$23="kg/t DM",((L$24*($B$24/100))*$B39),IF(L$23="mg/kg SAR",((L$24*0.001)*$B39),IF(L$23="mg/kg DM",(((L$24*0.001)*($B$24/100))*$B39),0)))))) -> 0.1375 | M39: =IF(M$23="%w/w SAR",((M$24*10)*$B39),IF(M$23="%w/w DM",(((M$24*10)*($B$24/100))*$B39),IF(M$23="kg/t SAR",(M$24*$B39),IF(M$23="kg/t DM",((M$24*($B$24/100))*$B39),IF(M$23="mg/kg SAR",((M$24*0.001)*$B39),IF(M$23="mg/kg DM",(((M$24*0.001)*($B$24/100))*$B39),0)))))) -> 0.1275 | N39: =IF(N$23="%w/w SAR",((N$24*10)*$B39),IF(N$23="%w/w DM",(((N$24*10)*($B$24/100))*$B39),IF(N$23="kg/t SAR",(N$24*$B39),IF(N$23="kg/t DM",((N$24*($B$24/100))*$B39),IF(N$23="mg/kg SAR",((N$24*0.001)*$B39),IF(N$23="mg/kg DM",(((N$24*0.001)*($B$24/100))*$B39),0)))))) -> 692.5 | ... P39: =IF(P$23="%w/w SAR",((P$24*10)*$B39),IF(P$23="%w/w DM",(((P$24*10)*($B$24/100))*$B39),IF(P$23="kg/t SAR",(P$24*$B39),IF(P$23="kg/t DM",((P$24*($B$24/100))*$B39),IF(P$23="mg/kg SAR",((P$24*0.001)*$B39),IF(P$23="mg/kg DM",(((P$24*0.001)*($B$24/100))*$B39),0)))))) -> 3.125 | Q39: =(IF(Q$23="%w/w SAR",((Q$24*10)*$B39),IF(Q$23="%w/w DM",(((Q$24*10)*($B$24/100))*$B39),IF(Q$23="kg/t SAR",(Q$24*$B39),IF(Q$23="kg/t DM",((Q$24*($B$24/100))*$B39),IF(Q$23="mg/kg SAR",((Q$24*0.001)*$B39),IF(Q$23="mg/kg DM",(((Q$24*0.001)*($B$24/100))*$B39),0)))))))*2.5 -> 90 | R39: =IF(R$23="%w/w SAR",((R$24*10)*$B39),IF(R$23="%w/w DM",(((R$24*10)*($B$24/100))*$B39),IF(R$23="kg/t SAR",(R$24*$B39),IF(R$23="kg/t DM",((R$24*($B$24/100))*$B39),IF(R$23="mg/kg SAR",((R$24*0.001)*$B39),IF(R$23="mg/kg DM",(((R$24*0.001)*($B$24/100))*$B39),0)))))) -> 0 | S39: =IF(S$23="%w/w SAR",((S$24*10)*$B39),IF(S$23="%w/w DM",(((S$24*10)*($B$24/100))*$B39),IF(S$23="kg/t SAR",(S$24*$B39),IF(S$23="kg/t DM",((S$24*($B$24/100))*$B39),IF(S$23="mg/kg SAR",((S$24*0.001)*$B39),IF(S$23="mg/kg DM",(((S$24*0.001)*($B$24/100))*$B39),0)))))) -> 0.125 | T39: =IF(T$23="%w/w SAR",((T$24*10)*$B39),IF(T$23="%w/w DM",(((T$24*10)*($B$24/100))*$B39),IF(T$23="kg/t SAR",(T$24*$B39),IF(T$23="kg/t DM",((T$24*($B$24/100))*$B39),IF(T$23="mg/kg SAR",((T$24*0.001)*$B39),IF(T$23="mg/kg DM",(((T$24*0.001)*($B$24/100))*$B39),0)))))) -> 0 | U39: =IF(U$23="%w/w SAR",((U$24*10)*$B39),IF(U$23="%w/w DM",(((U$24*10)*($B$24/100))*$B39),IF(U$23="kg/t SAR",(U$24*$B39),IF(U$23="kg/t DM",((U$24*($B$24/100))*$B39),IF(U$23="mg/kg SAR",((U$24*0.001)*$B39),IF(U$23="mg/kg DM",(((U$24*0.001)*($B$24/100))*$B39),0)))))) -> 0 | V39: =IF($V$24="",0,IF($V$24>5000,"NOT OK","OK")) -> OK | W39: =IF($W$24="",0,IF($W$24>4,"Not OK","OK")) -> 0
A40: =P8 -> 27 | B40: 250 | C40: =IF(C$23="%w/w SAR",((C$24*10)*$B40),IF(C$23="%w/w DM",(((C$24*10)*($B$24/100))*$B40),IF(C$23="kg/t SAR",(C$24*$B40),IF(C$23="kg/t DM",((C$24*($B$24/100))*$B40),IF(C$23="mg/kg SAR",((C$24*0.001)*$B40),IF(C$23="mg/kg DM",(((C$24*0.001)*($B$24/100))*$B40),0)))))) -> 100 | D40: =(IF(D$23="%w/w SAR",((D$24*10)*$B40),IF(D$23="%w/w DM",(((D$24*10)*($B$24/100))*$B40),IF(D$23="kg/t SAR",(D$24*$B40),IF(D$23="kg/t DM",((D$24*($B$24/100))*$B40),IF(D$23="mg/kg SAR",((D$24*0.001)*$B40),IF(D$23="mg/kg DM",(((D$24*0.001)*($B$24/100))*$B40),"0")))))))*2.291 -> 35.0523 | E40: =(IF(E$23="%w/w SAR",((E$24*10)*$B40),IF(E$23="%w/w DM",(((E$24*10)*($B$24/100))*$B40),IF(E$23="kg/t SAR",(E$24*$B40),IF(E$23="kg/t DM",((E$24*($B$24/100))*$B40),IF(E$23="mg/kg SAR",((E$24*0.001)*$B40),IF(E$23="mg/kg DM",(((E$24*0.001)*($B$24/100))*$B40),"0")))))))*1.205 -> 8.0735 | F40: =(IF(F$23="%w/w SAR",((F$24*10)*$B40),IF(F$23="%w/w DM",(((F$24*10)*($B$24/100))*$B40),IF(F$23="kg/t SAR",(F$24*$B40),IF(F$23="kg/t DM",((F$24*($B$24/100))*$B40),IF(F$23="mg/kg SAR",((F$24*0.001)*$B40),IF(F$23="mg/kg DM",(((F$24*0.001)*($B$24/100))*$B40),"0")))))))*1.658 -> 13.1811 | G40: =IF(G$23="%w/w SAR",((G$24*10)*$B40),IF(G$23="%w/w DM",(((G$24*10)*($B$24/100))*$B40),IF(G$23="kg/t SAR",(G$24*$B40),IF(G$23="kg/t DM",((G$24*($B$24/100))*$B40),IF(G$23="mg/kg SAR",((G$24*0.001)*$B40),IF(G$23="mg/kg DM",(((G$24*0.001)*($B$24/100))*$B40),0)))))) -> 0.245 | H40: =IF(H$23="%w/w SAR",((H$24*10)*$B40),IF(H$23="%w/w DM",(((H$24*10)*($B$24/100))*$B40),IF(H$23="kg/t SAR",(H$24*$B40),IF(H$23="kg/t DM",((H$24*($B$24/100))*$B40),IF(H$23="mg/kg SAR",((H$24*0.001)*$B40),IF(H$23="mg/kg DM",(((H$24*0.001)*($B$24/100))*$B40),0)))))) -> 0.585 | I40: =IF(I$23="%w/w SAR",((I$24*10)*$B40),IF(I$23="%w/w DM",(((I$24*10)*($B$24/100))*$B40),IF(I$23="kg/t SAR",(I$24*$B40),IF(I$23="kg/t DM",((I$24*($B$24/100))*$B40),IF(I$23="mg/kg SAR",((I$24*0.001)*$B40),IF(I$23="mg/kg DM",(((I$24*0.001)*($B$24/100))*$B40),0)))))) -> 0.125 | J40: =IF(J$23="%w/w SAR",((J$24*10)*$B40),IF(J$23="%w/w DM",(((J$24*10)*($B$24/100))*$B40),IF(J$23="kg/t SAR",(J$24*$B40),IF(J$23="kg/t DM",((J$24*($B$24/100))*$B40),IF(J$23="mg/kg SAR",((J$24*0.001)*$B40),IF(J$23="mg/kg DM",(((J$24*0.001)*($B$24/100))*$B40),0)))))) -> 0.0025 | K40: =IF(K$23="%w/w SAR",((K$24*10)*$B40),IF(K$23="%w/w DM",(((K$24*10)*($B$24/100))*$B40),IF(K$23="kg/t SAR",(K$24*$B40),IF(K$23="kg/t DM",((K$24*($B$24/100))*$B40),IF(K$23="mg/kg SAR",((K$24*0.001)*$B40),IF(K$23="mg/kg DM",(((K$24*0.001)*($B$24/100))*$B40),0)))))) -> 0.0125 | L40: =IF(L$23="%w/w SAR",((L$24*10)*$B40),IF(L$23="%w/w DM",(((L$24*10)*($B$24/100))*$B40),IF(L$23="kg/t SAR",(L$24*$B40),IF(L$23="kg/t DM",((L$24*($B$24/100))*$B40),IF(L$23="mg/kg SAR",((L$24*0.001)*$B40),IF(L$23="mg/kg DM",(((L$24*0.001)*($B$24/100))*$B40),0)))))) -> 0.1375 | M40: =IF(M$23="%w/w SAR",((M$24*10)*$B40),IF(M$23="%w/w DM",(((M$24*10)*($B$24/100))*$B40),IF(M$23="kg/t SAR",(M$24*$B40),IF(M$23="kg/t DM",((M$24*($B$24/100))*$B40),IF(M$23="mg/kg SAR",((M$24*0.001)*$B40),IF(M$23="mg/kg DM",(((M$24*0.001)*($B$24/100))*$B40),0)))))) -> 0.1275 | N40: =IF(N$23="%w/w SAR",((N$24*10)*$B40),IF(N$23="%w/w DM",(((N$24*10)*($B$24/100))*$B40),IF(N$23="kg/t SAR",(N$24*$B40),IF(N$23="kg/t DM",((N$24*($B$24/100))*$B40),IF(N$23="mg/kg SAR",((N$24*0.001)*$B40),IF(N$23="mg/kg DM",(((N$24*0.001)*($B$24/100))*$B40),0)))))) -> 692.5 | ... P40: =IF(P$23="%w/w SAR",((P$24*10)*$B40),IF(P$23="%w/w DM",(((P$24*10)*($B$24/100))*$B40),IF(P$23="kg/t SAR",(P$24*$B40),IF(P$23="kg/t DM",((P$24*($B$24/100))*$B40),IF(P$23="mg/kg SAR",((P$24*0.001)*$B40),IF(P$23="mg/kg DM",(((P$24*0.001)*($B$24/100))*$B40),0)))))) -> 3.125 | Q40: =(IF(Q$23="%w/w SAR",((Q$24*10)*$B40),IF(Q$23="%w/w DM",(((Q$24*10)*($B$24/100))*$B40),IF(Q$23="kg/t SAR",(Q$24*$B40),IF(Q$23="kg/t DM",((Q$24*($B$24/100))*$B40),IF(Q$23="mg/kg SAR",((Q$24*0.001)*$B40),IF(Q$23="mg/kg DM",(((Q$24*0.001)*($B$24/100))*$B40),0)))))))*2.5 -> 90 | R40: =IF(R$23="%w/w SAR",((R$24*10)*$B40),IF(R$23="%w/w DM",(((R$24*10)*($B$24/100))*$B40),IF(R$23="kg/t SAR",(R$24*$B40),IF(R$23="kg/t DM",((R$24*($B$24/100))*$B40),IF(R$23="mg/kg SAR",((R$24*0.001)*$B40),IF(R$23="mg/kg DM",(((R$24*0.001)*($B$24/100))*$B40),0)))))) -> 0 | S40: =IF(S$23="%w/w SAR",((S$24*10)*$B40),IF(S$23="%w/w DM",(((S$24*10)*($B$24/100))*$B40),IF(S$23="kg/t SAR",(S$24*$B40),IF(S$23="kg/t DM",((S$24*($B$24/100))*$B40),IF(S$23="mg/kg SAR",((S$24*0.001)*$B40),IF(S$23="mg/kg DM",(((S$24*0.001)*($B$24/100))*$B40),0)))))) -> 0.125 | T40: =IF(T$23="%w/w SAR",((T$24*10)*$B40),IF(T$23="%w/w DM",(((T$24*10)*($B$24/100))*$B40),IF(T$23="kg/t SAR",(T$24*$B40),IF(T$23="kg/t DM",((T$24*($B$24/100))*$B40),IF(T$23="mg/kg SAR",((T$24*0.001)*$B40),IF(T$23="mg/kg DM",(((T$24*0.001)*($B$24/100))*$B40),0)))))) -> 0 | U40: =IF(U$23="%w/w SAR",((U$24*10)*$B40),IF(U$23="%w/w DM",(((U$24*10)*($B$24/100))*$B40),IF(U$23="kg/t SAR",(U$24*$B40),IF(U$23="kg/t DM",((U$24*($B$24/100))*$B40),IF(U$23="mg/kg SAR",((U$24*0.001)*$B40),IF(U$23="mg/kg DM",(((U$24*0.001)*($B$24/100))*$B40),0)))))) -> 0 | V40: =IF($V$24="",0,IF($V$24>5000,"NOT OK","OK")) -> OK | W40: =IF($W$24="",0,IF($W$24>4,"Not OK","OK")) -> 0
A41: =Q8 -> 33 | B41: 250 | C41: =IF(C$23="%w/w SAR",((C$24*10)*$B41),IF(C$23="%w/w DM",(((C$24*10)*($B$24/100))*$B41),IF(C$23="kg/t SAR",(C$24*$B41),IF(C$23="kg/t DM",((C$24*($B$24/100))*$B41),IF(C$23="mg/kg SAR",((C$24*0.001)*$B41),IF(C$23="mg/kg DM",(((C$24*0.001)*($B$24/100))*$B41),0)))))) -> 100 | D41: =(IF(D$23="%w/w SAR",((D$24*10)*$B41),IF(D$23="%w/w DM",(((D$24*10)*($B$24/100))*$B41),IF(D$23="kg/t SAR",(D$24*$B41),IF(D$23="kg/t DM",((D$24*($B$24/100))*$B41),IF(D$23="mg/kg SAR",((D$24*0.001)*$B41),IF(D$23="mg/kg DM",(((D$24*0.001)*($B$24/100))*$B41),"0")))))))*2.291 -> 35.0523 | E41: =(IF(E$23="%w/w SAR",((E$24*10)*$B41),IF(E$23="%w/w DM",(((E$24*10)*($B$24/100))*$B41),IF(E$23="kg/t SAR",(E$24*$B41),IF(E$23="kg/t DM",((E$24*($B$24/100))*$B41),IF(E$23="mg/kg SAR",((E$24*0.001)*$B41),IF(E$23="mg/kg DM",(((E$24*0.001)*($B$24/100))*$B41),"0")))))))*1.205 -> 8.0735 | F41: =(IF(F$23="%w/w SAR",((F$24*10)*$B41),IF(F$23="%w/w DM",(((F$24*10)*($B$24/100))*$B41),IF(F$23="kg/t SAR",(F$24*$B41),IF(F$23="kg/t DM",((F$24*($B$24/100))*$B41),IF(F$23="mg/kg SAR",((F$24*0.001)*$B41),IF(F$23="mg/kg DM",(((F$24*0.001)*($B$24/100))*$B41),"0")))))))*1.658 -> 13.1811 | G41: =IF(G$23="%w/w SAR",((G$24*10)*$B41),IF(G$23="%w/w DM",(((G$24*10)*($B$24/100))*$B41),IF(G$23="kg/t SAR",(G$24*$B41),IF(G$23="kg/t DM",((G$24*($B$24/100))*$B41),IF(G$23="mg/kg SAR",((G$24*0.001)*$B41),IF(G$23="mg/kg DM",(((G$24*0.001)*($B$24/100))*$B41),0)))))) -> 0.245 | H41: =IF(H$23="%w/w SAR",((H$24*10)*$B41),IF(H$23="%w/w DM",(((H$24*10)*($B$24/100))*$B41),IF(H$23="kg/t SAR",(H$24*$B41),IF(H$23="kg/t DM",((H$24*($B$24/100))*$B41),IF(H$23="mg/kg SAR",((H$24*0.001)*$B41),IF(H$23="mg/kg DM",(((H$24*0.001)*($B$24/100))*$B41),0)))))) -> 0.585 | I41: =IF(I$23="%w/w SAR",((I$24*10)*$B41),IF(I$23="%w/w DM",(((I$24*10)*($B$24/100))*$B41),IF(I$23="kg/t SAR",(I$24*$B41),IF(I$23="kg/t DM",((I$24*($B$24/100))*$B41),IF(I$23="mg/kg SAR",((I$24*0.001)*$B41),IF(I$23="mg/kg DM",(((I$24*0.001)*($B$24/100))*$B41),0)))))) -> 0.125 | J41: =IF(J$23="%w/w SAR",((J$24*10)*$B41),IF(J$23="%w/w DM",(((J$24*10)*($B$24/100))*$B41),IF(J$23="kg/t SAR",(J$24*$B41),IF(J$23="kg/t DM",((J$24*($B$24/100))*$B41),IF(J$23="mg/kg SAR",((J$24*0.001)*$B41),IF(J$23="mg/kg DM",(((J$24*0.001)*($B$24/100))*$B41),0)))))) -> 0.0025 | K41: =IF(K$23="%w/w SAR",((K$24*10)*$B41),IF(K$23="%w/w DM",(((K$24*10)*($B$24/100))*$B41),IF(K$23="kg/t SAR",(K$24*$B41),IF(K$23="kg/t DM",((K$24*($B$24/100))*$B41),IF(K$23="mg/kg SAR",((K$24*0.001)*$B41),IF(K$23="mg/kg DM",(((K$24*0.001)*($B$24/100))*$B41),0)))))) -> 0.0125 | L41: =IF(L$23="%w/w SAR",((L$24*10)*$B41),IF(L$23="%w/w DM",(((L$24*10)*($B$24/100))*$B41),IF(L$23="kg/t SAR",(L$24*$B41),IF(L$23="kg/t DM",((L$24*($B$24/100))*$B41),IF(L$23="mg/kg SAR",((L$24*0.001)*$B41),IF(L$23="mg/kg DM",(((L$24*0.001)*($B$24/100))*$B41),0)))))) -> 0.1375 | M41: =IF(M$23="%w/w SAR",((M$24*10)*$B41),IF(M$23="%w/w DM",(((M$24*10)*($B$24/100))*$B41),IF(M$23="kg/t SAR",(M$24*$B41),IF(M$23="kg/t DM",((M$24*($B$24/100))*$B41),IF(M$23="mg/kg SAR",((M$24*0.001)*$B41),IF(M$23="mg/kg DM",(((M$24*0.001)*($B$24/100))*$B41),0)))))) -> 0.1275 | N41: =IF(N$23="%w/w SAR",((N$24*10)*$B41),IF(N$23="%w/w DM",(((N$24*10)*($B$24/100))*$B41),IF(N$23="kg/t SAR",(N$24*$B41),IF(N$23="kg/t DM",((N$24*($B$24/100))*$B41),IF(N$23="mg/kg SAR",((N$24*0.001)*$B41),IF(N$23="mg/kg DM",(((N$24*0.001)*($B$24/100))*$B41),0)))))) -> 692.5 | ... P41: =IF(P$23="%w/w SAR",((P$24*10)*$B41),IF(P$23="%w/w DM",(((P$24*10)*($B$24/100))*$B41),IF(P$23="kg/t SAR",(P$24*$B41),IF(P$23="kg/t DM",((P$24*($B$24/100))*$B41),IF(P$23="mg/kg SAR",((P$24*0.001)*$B41),IF(P$23="mg/kg DM",(((P$24*0.001)*($B$24/100))*$B41),0)))))) -> 3.125 | Q41: =(IF(Q$23="%w/w SAR",((Q$24*10)*$B41),IF(Q$23="%w/w DM",(((Q$24*10)*($B$24/100))*$B41),IF(Q$23="kg/t SAR",(Q$24*$B41),IF(Q$23="kg/t DM",((Q$24*($B$24/100))*$B41),IF(Q$23="mg/kg SAR",((Q$24*0.001)*$B41),IF(Q$23="mg/kg DM",(((Q$24*0.001)*($B$24/100))*$B41),0)))))))*2.5 -> 90 | R41: =IF(R$23="%w/w SAR",((R$24*10)*$B41),IF(R$23="%w/w DM",(((R$24*10)*($B$24/100))*$B41),IF(R$23="kg/t SAR",(R$24*$B41),IF(R$23="kg/t DM",((R$24*($B$24/100))*$B41),IF(R$23="mg/kg SAR",((R$24*0.001)*$B41),IF(R$23="mg/kg DM",(((R$24*0.001)*($B$24/100))*$B41),0)))))) -> 0 | S41: =IF(S$23="%w/w SAR",((S$24*10)*$B41),IF(S$23="%w/w DM",(((S$24*10)*($B$24/100))*$B41),IF(S$23="kg/t SAR",(S$24*$B41),IF(S$23="kg/t DM",((S$24*($B$24/100))*$B41),IF(S$23="mg/kg SAR",((S$24*0.001)*$B41),IF(S$23="mg/kg DM",(((S$24*0.001)*($B$24/100))*$B41),0)))))) -> 0.125 | T41: =IF(T$23="%w/w SAR",((T$24*10)*$B41),IF(T$23="%w/w DM",(((T$24*10)*($B$24/100))*$B41),IF(T$23="kg/t SAR",(T$24*$B41),IF(T$23="kg/t DM",((T$24*($B$24/100))*$B41),IF(T$23="mg/kg SAR",((T$24*0.001)*$B41),IF(T$23="mg/kg DM",(((T$24*0.001)*($B$24/100))*$B41),0)))))) -> 0 | U41: =IF(U$23="%w/w SAR",((U$24*10)*$B41),IF(U$23="%w/w DM",(((U$24*10)*($B$24/100))*$B41),IF(U$23="kg/t SAR",(U$24*$B41),IF(U$23="kg/t DM",((U$24*($B$24/100))*$B41),IF(U$23="mg/kg SAR",((U$24*0.001)*$B41),IF(U$23="mg/kg DM",(((U$24*0.001)*($B$24/100))*$B41),0)))))) -> 0 | V41: =IF($V$24="",0,IF($V$24>5000,"NOT OK","OK")) -> OK | W41: =IF($W$24="",0,IF($W$24>4,"Not OK","OK")) -> 0
A42: =R8 -> 34 | B42: 250 | C42: =IF(C$23="%w/w SAR",((C$24*10)*$B42),IF(C$23="%w/w DM",(((C$24*10)*($B$24/100))*$B42),IF(C$23="kg/t SAR",(C$24*$B42),IF(C$23="kg/t DM",((C$24*($B$24/100))*$B42),IF(C$23="mg/kg SAR",((C$24*0.001)*$B42),IF(C$23="mg/kg DM",(((C$24*0.001)*($B$24/100))*$B42),0)))))) -> 100 | D42: =(IF(D$23="%w/w SAR",((D$24*10)*$B42),IF(D$23="%w/w DM",(((D$24*10)*($B$24/100))*$B42),IF(D$23="kg/t SAR",(D$24*$B42),IF(D$23="kg/t DM",((D$24*($B$24/100))*$B42),IF(D$23="mg/kg SAR",((D$24*0.001)*$B42),IF(D$23="mg/kg DM",(((D$24*0.001)*($B$24/100))*$B42),"0")))))))*2.291 -> 35.0523 | E42: =(IF(E$23="%w/w SAR",((E$24*10)*$B42),IF(E$23="%w/w DM",(((E$24*10)*($B$24/100))*$B42),IF(E$23="kg/t SAR",(E$24*$B42),IF(E$23="kg/t DM",((E$24*($B$24/100))*$B42),IF(E$23="mg/kg SAR",((E$24*0.001)*$B42),IF(E$23="mg/kg DM",(((E$24*0.001)*($B$24/100))*$B42),"0")))))))*1.205 -> 8.0735 | F42: =(IF(F$23="%w/w SAR",((F$24*10)*$B42),IF(F$23="%w/w DM",(((F$24*10)*($B$24/100))*$B42),IF(F$23="kg/t SAR",(F$24*$B42),IF(F$23="kg/t DM",((F$24*($B$24/100))*$B42),IF(F$23="mg/kg SAR",((F$24*0.001)*$B42),IF(F$23="mg/kg DM",(((F$24*0.001)*($B$24/100))*$B42),"0")))))))*1.658 -> 13.1811 | G42: =IF(G$23="%w/w SAR",((G$24*10)*$B42),IF(G$23="%w/w DM",(((G$24*10)*($B$24/100))*$B42),IF(G$23="kg/t SAR",(G$24*$B42),IF(G$23="kg/t DM",((G$24*($B$24/100))*$B42),IF(G$23="mg/kg SAR",((G$24*0.001)*$B42),IF(G$23="mg/kg DM",(((G$24*0.001)*($B$24/100))*$B42),0)))))) -> 0.245 | H42: =IF(H$23="%w/w SAR",((H$24*10)*$B42),IF(H$23="%w/w DM",(((H$24*10)*($B$24/100))*$B42),IF(H$23="kg/t SAR",(H$24*$B42),IF(H$23="kg/t DM",((H$24*($B$24/100))*$B42),IF(H$23="mg/kg SAR",((H$24*0.001)*$B42),IF(H$23="mg/kg DM",(((H$24*0.001)*($B$24/100))*$B42),0)))))) -> 0.585 | I42: =IF(I$23="%w/w SAR",((I$24*10)*$B42),IF(I$23="%w/w DM",(((I$24*10)*($B$24/100))*$B42),IF(I$23="kg/t SAR",(I$24*$B42),IF(I$23="kg/t DM",((I$24*($B$24/100))*$B42),IF(I$23="mg/kg SAR",((I$24*0.001)*$B42),IF(I$23="mg/kg DM",(((I$24*0.001)*($B$24/100))*$B42),0)))))) -> 0.125 | J42: =IF(J$23="%w/w SAR",((J$24*10)*$B42),IF(J$23="%w/w DM",(((J$24*10)*($B$24/100))*$B42),IF(J$23="kg/t SAR",(J$24*$B42),IF(J$23="kg/t DM",((J$24*($B$24/100))*$B42),IF(J$23="mg/kg SAR",((J$24*0.001)*$B42),IF(J$23="mg/kg DM",(((J$24*0.001)*($B$24/100))*$B42),0)))))) -> 0.0025 | K42: =IF(K$23="%w/w SAR",((K$24*10)*$B42),IF(K$23="%w/w DM",(((K$24*10)*($B$24/100))*$B42),IF(K$23="kg/t SAR",(K$24*$B42),IF(K$23="kg/t DM",((K$24*($B$24/100))*$B42),IF(K$23="mg/kg SAR",((K$24*0.001)*$B42),IF(K$23="mg/kg DM",(((K$24*0.001)*($B$24/100))*$B42),0)))))) -> 0.0125 | L42: =IF(L$23="%w/w SAR",((L$24*10)*$B42),IF(L$23="%w/w DM",(((L$24*10)*($B$24/100))*$B42),IF(L$23="kg/t SAR",(L$24*$B42),IF(L$23="kg/t DM",((L$24*($B$24/100))*$B42),IF(L$23="mg/kg SAR",((L$24*0.001)*$B42),IF(L$23="mg/kg DM",(((L$24*0.001)*($B$24/100))*$B42),0)))))) -> 0.1375 | M42: =IF(M$23="%w/w SAR",((M$24*10)*$B42),IF(M$23="%w/w DM",(((M$24*10)*($B$24/100))*$B42),IF(M$23="kg/t SAR",(M$24*$B42),IF(M$23="kg/t DM",((M$24*($B$24/100))*$B42),IF(M$23="mg/kg SAR",((M$24*0.001)*$B42),IF(M$23="mg/kg DM",(((M$24*0.001)*($B$24/100))*$B42),0)))))) -> 0.1275 | N42: =IF(N$23="%w/w SAR",((N$24*10)*$B42),IF(N$23="%w/w DM",(((N$24*10)*($B$24/100))*$B42),IF(N$23="kg/t SAR",(N$24*$B42),IF(N$23="kg/t DM",((N$24*($B$24/100))*$B42),IF(N$23="mg/kg SAR",((N$24*0.001)*$B42),IF(N$23="mg/kg DM",(((N$24*0.001)*($B$24/100))*$B42),0)))))) -> 692.5 | ... P42: =IF(P$23="%w/w SAR",((P$24*10)*$B42),IF(P$23="%w/w DM",(((P$24*10)*($B$24/100))*$B42),IF(P$23="kg/t SAR",(P$24*$B42),IF(P$23="kg/t DM",((P$24*($B$24/100))*$B42),IF(P$23="mg/kg SAR",((P$24*0.001)*$B42),IF(P$23="mg/kg DM",(((P$24*0.001)*($B$24/100))*$B42),0)))))) -> 3.125 | Q42: =(IF(Q$23="%w/w SAR",((Q$24*10)*$B42),IF(Q$23="%w/w DM",(((Q$24*10)*($B$24/100))*$B42),IF(Q$23="kg/t SAR",(Q$24*$B42),IF(Q$23="kg/t DM",((Q$24*($B$24/100))*$B42),IF(Q$23="mg/kg SAR",((Q$24*0.001)*$B42),IF(Q$23="mg/kg DM",(((Q$24*0.001)*($B$24/100))*$B42),0)))))))*2.5 -> 90 | R42: =IF(R$23="%w/w SAR",((R$24*10)*$B42),IF(R$23="%w/w DM",(((R$24*10)*($B$24/100))*$B42),IF(R$23="kg/t SAR",(R$24*$B42),IF(R$23="kg/t DM",((R$24*($B$24/100))*$B42),IF(R$23="mg/kg SAR",((R$24*0.001)*$B42),IF(R$23="mg/kg DM",(((R$24*0.001)*($B$24/100))*$B42),0)))))) -> 0 | S42: =IF(S$23="%w/w SAR",((S$24*10)*$B42),IF(S$23="%w/w DM",(((S$24*10)*($B$24/100))*$B42),IF(S$23="kg/t SAR",(S$24*$B42),IF(S$23="kg/t DM",((S$24*($B$24/100))*$B42),IF(S$23="mg/kg SAR",((S$24*0.001)*$B42),IF(S$23="mg/kg DM",(((S$24*0.001)*($B$24/100))*$B42),0)))))) -> 0.125 | T42: =IF(T$23="%w/w SAR",((T$24*10)*$B42),IF(T$23="%w/w DM",(((T$24*10)*($B$24/100))*$B42),IF(T$23="kg/t SAR",(T$24*$B42),IF(T$23="kg/t DM",((T$24*($B$24/100))*$B42),IF(T$23="mg/kg SAR",((T$24*0.001)*$B42),IF(T$23="mg/kg DM",(((T$24*0.001)*($B$24/100))*$B42),0)))))) -> 0 | U42: =IF(U$23="%w/w SAR",((U$24*10)*$B42),IF(U$23="%w/w DM",(((U$24*10)*($B$24/100))*$B42),IF(U$23="kg/t SAR",(U$24*$B42),IF(U$23="kg/t DM",((U$24*($B$24/100))*$B42),IF(U$23="mg/kg SAR",((U$24*0.001)*$B42),IF(U$23="mg/kg DM",(((U$24*0.001)*($B$24/100))*$B42),0)))))) -> 0 | V42: =IF($V$24="",0,IF($V$24>5000,"NOT OK","OK")) -> OK | W42: =IF($W$24="",0,IF($W$24>4,"Not OK","OK")) -> 0
A43: =S8 -> 35 | B43: 250 | C43: =IF(C$23="%w/w SAR",((C$24*10)*$B43),IF(C$23="%w/w DM",(((C$24*10)*($B$24/100))*$B43),IF(C$23="kg/t SAR",(C$24*$B43),IF(C$23="kg/t DM",((C$24*($B$24/100))*$B43),IF(C$23="mg/kg SAR",((C$24*0.001)*$B43),IF(C$23="mg/kg DM",(((C$24*0.001)*($B$24/100))*$B43),0)))))) -> 100 | D43: =(IF(D$23="%w/w SAR",((D$24*10)*$B43),IF(D$23="%w/w DM",(((D$24*10)*($B$24/100))*$B43),IF(D$23="kg/t SAR",(D$24*$B43),IF(D$23="kg/t DM",((D$24*($B$24/100))*$B43),IF(D$23="mg/kg SAR",((D$24*0.001)*$B43),IF(D$23="mg/kg DM",(((D$24*0.001)*($B$24/100))*$B43),"0")))))))*2.291 -> 35.0523 | E43: =(IF(E$23="%w/w SAR",((E$24*10)*$B43),IF(E$23="%w/w DM",(((E$24*10)*($B$24/100))*$B43),IF(E$23="kg/t SAR",(E$24*$B43),IF(E$23="kg/t DM",((E$24*($B$24/100))*$B43),IF(E$23="mg/kg SAR",((E$24*0.001)*$B43),IF(E$23="mg/kg DM",(((E$24*0.001)*($B$24/100))*$B43),"0")))))))*1.205 -> 8.0735 | F43: =(IF(F$23="%w/w SAR",((F$24*10)*$B43),IF(F$23="%w/w DM",(((F$24*10)*($B$24/100))*$B43),IF(F$23="kg/t SAR",(F$24*$B43),IF(F$23="kg/t DM",((F$24*($B$24/100))*$B43),IF(F$23="mg/kg SAR",((F$24*0.001)*$B43),IF(F$23="mg/kg DM",(((F$24*0.001)*($B$24/100))*$B43),"0")))))))*1.658 -> 13.1811 | G43: =IF(G$23="%w/w SAR",((G$24*10)*$B43),IF(G$23="%w/w DM",(((G$24*10)*($B$24/100))*$B43),IF(G$23="kg/t SAR",(G$24*$B43),IF(G$23="kg/t DM",((G$24*($B$24/100))*$B43),IF(G$23="mg/kg SAR",((G$24*0.001)*$B43),IF(G$23="mg/kg DM",(((G$24*0.001)*($B$24/100))*$B43),0)))))) -> 0.245 | H43: =IF(H$23="%w/w SAR",((H$24*10)*$B43),IF(H$23="%w/w DM",(((H$24*10)*($B$24/100))*$B43),IF(H$23="kg/t SAR",(H$24*$B43),IF(H$23="kg/t DM",((H$24*($B$24/100))*$B43),IF(H$23="mg/kg SAR",((H$24*0.001)*$B43),IF(H$23="mg/kg DM",(((H$24*0.001)*($B$24/100))*$B43),0)))))) -> 0.585 | I43: =IF(I$23="%w/w SAR",((I$24*10)*$B43),IF(I$23="%w/w DM",(((I$24*10)*($B$24/100))*$B43),IF(I$23="kg/t SAR",(I$24*$B43),IF(I$23="kg/t DM",((I$24*($B$24/100))*$B43),IF(I$23="mg/kg SAR",((I$24*0.001)*$B43),IF(I$23="mg/kg DM",(((I$24*0.001)*($B$24/100))*$B43),0)))))) -> 0.125 | J43: =IF(J$23="%w/w SAR",((J$24*10)*$B43),IF(J$23="%w/w DM",(((J$24*10)*($B$24/100))*$B43),IF(J$23="kg/t SAR",(J$24*$B43),IF(J$23="kg/t DM",((J$24*($B$24/100))*$B43),IF(J$23="mg/kg SAR",((J$24*0.001)*$B43),IF(J$23="mg/kg DM",(((J$24*0.001)*($B$24/100))*$B43),0)))))) -> 0.0025 | K43: =IF(K$23="%w/w SAR",((K$24*10)*$B43),IF(K$23="%w/w DM",(((K$24*10)*($B$24/100))*$B43),IF(K$23="kg/t SAR",(K$24*$B43),IF(K$23="kg/t DM",((K$24*($B$24/100))*$B43),IF(K$23="mg/kg SAR",((K$24*0.001)*$B43),IF(K$23="mg/kg DM",(((K$24*0.001)*($B$24/100))*$B43),0)))))) -> 0.0125 | L43: =IF(L$23="%w/w SAR",((L$24*10)*$B43),IF(L$23="%w/w DM",(((L$24*10)*($B$24/100))*$B43),IF(L$23="kg/t SAR",(L$24*$B43),IF(L$23="kg/t DM",((L$24*($B$24/100))*$B43),IF(L$23="mg/kg SAR",((L$24*0.001)*$B43),IF(L$23="mg/kg DM",(((L$24*0.001)*($B$24/100))*$B43),0)))))) -> 0.1375 | M43: =IF(M$23="%w/w SAR",((M$24*10)*$B43),IF(M$23="%w/w DM",(((M$24*10)*($B$24/100))*$B43),IF(M$23="kg/t SAR",(M$24*$B43),IF(M$23="kg/t DM",((M$24*($B$24/100))*$B43),IF(M$23="mg/kg SAR",((M$24*0.001)*$B43),IF(M$23="mg/kg DM",(((M$24*0.001)*($B$24/100))*$B43),0)))))) -> 0.1275 | N43: =IF(N$23="%w/w SAR",((N$24*10)*$B43),IF(N$23="%w/w DM",(((N$24*10)*($B$24/100))*$B43),IF(N$23="kg/t SAR",(N$24*$B43),IF(N$23="kg/t DM",((N$24*($B$24/100))*$B43),IF(N$23="mg/kg SAR",((N$24*0.001)*$B43),IF(N$23="mg/kg DM",(((N$24*0.001)*($B$24/100))*$B43),0)))))) -> 692.5 | ... P43: =IF(P$23="%w/w SAR",((P$24*10)*$B43),IF(P$23="%w/w DM",(((P$24*10)*($B$24/100))*$B43),IF(P$23="kg/t SAR",(P$24*$B43),IF(P$23="kg/t DM",((P$24*($B$24/100))*$B43),IF(P$23="mg/kg SAR",((P$24*0.001)*$B43),IF(P$23="mg/kg DM",(((P$24*0.001)*($B$24/100))*$B43),0)))))) -> 3.125 | Q43: =(IF(Q$23="%w/w SAR",((Q$24*10)*$B43),IF(Q$23="%w/w DM",(((Q$24*10)*($B$24/100))*$B43),IF(Q$23="kg/t SAR",(Q$24*$B43),IF(Q$23="kg/t DM",((Q$24*($B$24/100))*$B43),IF(Q$23="mg/kg SAR",((Q$24*0.001)*$B43),IF(Q$23="mg/kg DM",(((Q$24*0.001)*($B$24/100))*$B43),0)))))))*2.5 -> 90 | R43: =IF(R$23="%w/w SAR",((R$24*10)*$B43),IF(R$23="%w/w DM",(((R$24*10)*($B$24/100))*$B43),IF(R$23="kg/t SAR",(R$24*$B43),IF(R$23="kg/t DM",((R$24*($B$24/100))*$B43),IF(R$23="mg/kg SAR",((R$24*0.001)*$B43),IF(R$23="mg/kg DM",(((R$24*0.001)*($B$24/100))*$B43),0)))))) -> 0 | S43: =IF(S$23="%w/w SAR",((S$24*10)*$B43),IF(S$23="%w/w DM",(((S$24*10)*($B$24/100))*$B43),IF(S$23="kg/t SAR",(S$24*$B43),IF(S$23="kg/t DM",((S$24*($B$24/100))*$B43),IF(S$23="mg/kg SAR",((S$24*0.001)*$B43),IF(S$23="mg/kg DM",(((S$24*0.001)*($B$24/100))*$B43),0)))))) -> 0.125 | T43: =IF(T$23="%w/w SAR",((T$24*10)*$B43),IF(T$23="%w/w DM",(((T$24*10)*($B$24/100))*$B43),IF(T$23="kg/t SAR",(T$24*$B43),IF(T$23="kg/t DM",((T$24*($B$24/100))*$B43),IF(T$23="mg/kg SAR",((T$24*0.001)*$B43),IF(T$23="mg/kg DM",(((T$24*0.001)*($B$24/100))*$B43),0)))))) -> 0 | U43: =IF(U$23="%w/w SAR",((U$24*10)*$B43),IF(U$23="%w/w DM",(((U$24*10)*($B$24/100))*$B43),IF(U$23="kg/t SAR",(U$24*$B43),IF(U$23="kg/t DM",((U$24*($B$24/100))*$B43),IF(U$23="mg/kg SAR",((U$24*0.001)*$B43),IF(U$23="mg/kg DM",(((U$24*0.001)*($B$24/100))*$B43),0)))))) -> 0 | V43: =IF($V$24="",0,IF($V$24>5000,"NOT OK","OK")) -> OK | W43: =IF($W$24="",0,IF($W$24>4,"Not OK","OK")) -> 0
A44: =T8 -> 36a | B44: 250 | C44: =IF(C$23="%w/w SAR",((C$24*10)*$B44),IF(C$23="%w/w DM",(((C$24*10)*($B$24/100))*$B44),IF(C$23="kg/t SAR",(C$24*$B44),IF(C$23="kg/t DM",((C$24*($B$24/100))*$B44),IF(C$23="mg/kg SAR",((C$24*0.001)*$B44),IF(C$23="mg/kg DM",(((C$24*0.001)*($B$24/100))*$B44),0)))))) -> 100 | D44: =(IF(D$23="%w/w SAR",((D$24*10)*$B44),IF(D$23="%w/w DM",(((D$24*10)*($B$24/100))*$B44),IF(D$23="kg/t SAR",(D$24*$B44),IF(D$23="kg/t DM",((D$24*($B$24/100))*$B44),IF(D$23="mg/kg SAR",((D$24*0.001)*$B44),IF(D$23="mg/kg DM",(((D$24*0.001)*($B$24/100))*$B44),"0")))))))*2.291 -> 35.0523 | E44: =(IF(E$23="%w/w SAR",((E$24*10)*$B44),IF(E$23="%w/w DM",(((E$24*10)*($B$24/100))*$B44),IF(E$23="kg/t SAR",(E$24*$B44),IF(E$23="kg/t DM",((E$24*($B$24/100))*$B44),IF(E$23="mg/kg SAR",((E$24*0.001)*$B44),IF(E$23="mg/kg DM",(((E$24*0.001)*($B$24/100))*$B44),"0")))))))*1.205 -> 8.0735 | F44: =(IF(F$23="%w/w SAR",((F$24*10)*$B44),IF(F$23="%w/w DM",(((F$24*10)*($B$24/100))*$B44),IF(F$23="kg/t SAR",(F$24*$B44),IF(F$23="kg/t DM",((F$24*($B$24/100))*$B44),IF(F$23="mg/kg SAR",((F$24*0.001)*$B44),IF(F$23="mg/kg DM",(((F$24*0.001)*($B$24/100))*$B44),"0")))))))*1.658 -> 13.1811 | G44: =IF(G$23="%w/w SAR",((G$24*10)*$B44),IF(G$23="%w/w DM",(((G$24*10)*($B$24/100))*$B44),IF(G$23="kg/t SAR",(G$24*$B44),IF(G$23="kg/t DM",((G$24*($B$24/100))*$B44),IF(G$23="mg/kg SAR",((G$24*0.001)*$B44),IF(G$23="mg/kg DM",(((G$24*0.001)*($B$24/100))*$B44),0)))))) -> 0.245 | H44: =IF(H$23="%w/w SAR",((H$24*10)*$B44),IF(H$23="%w/w DM",(((H$24*10)*($B$24/100))*$B44),IF(H$23="kg/t SAR",(H$24*$B44),IF(H$23="kg/t DM",((H$24*($B$24/100))*$B44),IF(H$23="mg/kg SAR",((H$24*0.001)*$B44),IF(H$23="mg/kg DM",(((H$24*0.001)*($B$24/100))*$B44),0)))))) -> 0.585 | I44: =IF(I$23="%w/w SAR",((I$24*10)*$B44),IF(I$23="%w/w DM",(((I$24*10)*($B$24/100))*$B44),IF(I$23="kg/t SAR",(I$24*$B44),IF(I$23="kg/t DM",((I$24*($B$24/100))*$B44),IF(I$23="mg/kg SAR",((I$24*0.001)*$B44),IF(I$23="mg/kg DM",(((I$24*0.001)*($B$24/100))*$B44),0)))))) -> 0.125 | J44: =IF(J$23="%w/w SAR",((J$24*10)*$B44),IF(J$23="%w/w DM",(((J$24*10)*($B$24/100))*$B44),IF(J$23="kg/t SAR",(J$24*$B44),IF(J$23="kg/t DM",((J$24*($B$24/100))*$B44),IF(J$23="mg/kg SAR",((J$24*0.001)*$B44),IF(J$23="mg/kg DM",(((J$24*0.001)*($B$24/100))*$B44),0)))))) -> 0.0025 | K44: =IF(K$23="%w/w SAR",((K$24*10)*$B44),IF(K$23="%w/w DM",(((K$24*10)*($B$24/100))*$B44),IF(K$23="kg/t SAR",(K$24*$B44),IF(K$23="kg/t DM",((K$24*($B$24/100))*$B44),IF(K$23="mg/kg SAR",((K$24*0.001)*$B44),IF(K$23="mg/kg DM",(((K$24*0.001)*($B$24/100))*$B44),0)))))) -> 0.0125 | L44: =IF(L$23="%w/w SAR",((L$24*10)*$B44),IF(L$23="%w/w DM",(((L$24*10)*($B$24/100))*$B44),IF(L$23="kg/t SAR",(L$24*$B44),IF(L$23="kg/t DM",((L$24*($B$24/100))*$B44),IF(L$23="mg/kg SAR",((L$24*0.001)*$B44),IF(L$23="mg/kg DM",(((L$24*0.001)*($B$24/100))*$B44),0)))))) -> 0.1375 | M44: =IF(M$23="%w/w SAR",((M$24*10)*$B44),IF(M$23="%w/w DM",(((M$24*10)*($B$24/100))*$B44),IF(M$23="kg/t SAR",(M$24*$B44),IF(M$23="kg/t DM",((M$24*($B$24/100))*$B44),IF(M$23="mg/kg SAR",((M$24*0.001)*$B44),IF(M$23="mg/kg DM",(((M$24*0.001)*($B$24/100))*$B44),0)))))) -> 0.1275 | N44: =IF(N$23="%w/w SAR",((N$24*10)*$B44),IF(N$23="%w/w DM",(((N$24*10)*($B$24/100))*$B44),IF(N$23="kg/t SAR",(N$24*$B44),IF(N$23="kg/t DM",((N$24*($B$24/100))*$B44),IF(N$23="mg/kg SAR",((N$24*0.001)*$B44),IF(N$23="mg/kg DM",(((N$24*0.001)*($B$24/100))*$B44),0)))))) -> 692.5 | ... P44: =IF(P$23="%w/w SAR",((P$24*10)*$B44),IF(P$23="%w/w DM",(((P$24*10)*($B$24/100))*$B44),IF(P$23="kg/t SAR",(P$24*$B44),IF(P$23="kg/t DM",((P$24*($B$24/100))*$B44),IF(P$23="mg/kg SAR",((P$24*0.001)*$B44),IF(P$23="mg/kg DM",(((P$24*0.001)*($B$24/100))*$B44),0)))))) -> 3.125 | Q44: =(IF(Q$23="%w/w SAR",((Q$24*10)*$B44),IF(Q$23="%w/w DM",(((Q$24*10)*($B$24/100))*$B44),IF(Q$23="kg/t SAR",(Q$24*$B44),IF(Q$23="kg/t DM",((Q$24*($B$24/100))*$B44),IF(Q$23="mg/kg SAR",((Q$24*0.001)*$B44),IF(Q$23="mg/kg DM",(((Q$24*0.001)*($B$24/100))*$B44),0)))))))*2.5 -> 90 | R44: =IF(R$23="%w/w SAR",((R$24*10)*$B44),IF(R$23="%w/w DM",(((R$24*10)*($B$24/100))*$B44),IF(R$23="kg/t SAR",(R$24*$B44),IF(R$23="kg/t DM",((R$24*($B$24/100))*$B44),IF(R$23="mg/kg SAR",((R$24*0.001)*$B44),IF(R$23="mg/kg DM",(((R$24*0.001)*($B$24/100))*$B44),0)))))) -> 0 | S44: =IF(S$23="%w/w SAR",((S$24*10)*$B44),IF(S$23="%w/w DM",(((S$24*10)*($B$24/100))*$B44),IF(S$23="kg/t SAR",(S$24*$B44),IF(S$23="kg/t DM",((S$24*($B$24/100))*$B44),IF(S$23="mg/kg SAR",((S$24*0.001)*$B44),IF(S$23="mg/kg DM",(((S$24*0.001)*($B$24/100))*$B44),0)))))) -> 0.125 | T44: =IF(T$23="%w/w SAR",((T$24*10)*$B44),IF(T$23="%w/w DM",(((T$24*10)*($B$24/100))*$B44),IF(T$23="kg/t SAR",(T$24*$B44),IF(T$23="kg/t DM",((T$24*($B$24/100))*$B44),IF(T$23="mg/kg SAR",((T$24*0.001)*$B44),IF(T$23="mg/kg DM",(((T$24*0.001)*($B$24/100))*$B44),0)))))) -> 0 | U44: =IF(U$23="%w/w SAR",((U$24*10)*$B44),IF(U$23="%w/w DM",(((U$24*10)*($B$24/100))*$B44),IF(U$23="kg/t SAR",(U$24*$B44),IF(U$23="kg/t DM",((U$24*($B$24/100))*$B44),IF(U$23="mg/kg SAR",((U$24*0.001)*$B44),IF(U$23="mg/kg DM",(((U$24*0.001)*($B$24/100))*$B44),0)))))) -> 0 | V44: =IF($V$24="",0,IF($V$24>5000,"NOT OK","OK")) -> OK | W44: =IF($W$24="",0,IF($W$24>4,"Not OK","OK")) -> 0
A45: =U8 -> 37 | B45: 250 | C45: =IF(C$23="%w/w SAR",((C$24*10)*$B45),IF(C$23="%w/w DM",(((C$24*10)*($B$24/100))*$B45),IF(C$23="kg/t SAR",(C$24*$B45),IF(C$23="kg/t DM",((C$24*($B$24/100))*$B45),IF(C$23="mg/kg SAR",((C$24*0.001)*$B45),IF(C$23="mg/kg DM",(((C$24*0.001)*($B$24/100))*$B45),0)))))) -> 100 | D45: =(IF(D$23="%w/w SAR",((D$24*10)*$B45),IF(D$23="%w/w DM",(((D$24*10)*($B$24/100))*$B45),IF(D$23="kg/t SAR",(D$24*$B45),IF(D$23="kg/t DM",((D$24*($B$24/100))*$B45),IF(D$23="mg/kg SAR",((D$24*0.001)*$B45),IF(D$23="mg/kg DM",(((D$24*0.001)*($B$24/100))*$B45),"0")))))))*2.291 -> 35.0523 | E45: =(IF(E$23="%w/w SAR",((E$24*10)*$B45),IF(E$23="%w/w DM",(((E$24*10)*($B$24/100))*$B45),IF(E$23="kg/t SAR",(E$24*$B45),IF(E$23="kg/t DM",((E$24*($B$24/100))*$B45),IF(E$23="mg/kg SAR",((E$24*0.001)*$B45),IF(E$23="mg/kg DM",(((E$24*0.001)*($B$24/100))*$B45),"0")))))))*1.205 -> 8.0735 | F45: =(IF(F$23="%w/w SAR",((F$24*10)*$B45),IF(F$23="%w/w DM",(((F$24*10)*($B$24/100))*$B45),IF(F$23="kg/t SAR",(F$24*$B45),IF(F$23="kg/t DM",((F$24*($B$24/100))*$B45),IF(F$23="mg/kg SAR",((F$24*0.001)*$B45),IF(F$23="mg/kg DM",(((F$24*0.001)*($B$24/100))*$B45),"0")))))))*1.658 -> 13.1811 | G45: =IF(G$23="%w/w SAR",((G$24*10)*$B45),IF(G$23="%w/w DM",(((G$24*10)*($B$24/100))*$B45),IF(G$23="kg/t SAR",(G$24*$B45),IF(G$23="kg/t DM",((G$24*($B$24/100))*$B45),IF(G$23="mg/kg SAR",((G$24*0.001)*$B45),IF(G$23="mg/kg DM",(((G$24*0.001)*($B$24/100))*$B45),0)))))) -> 0.245 | H45: =IF(H$23="%w/w SAR",((H$24*10)*$B45),IF(H$23="%w/w DM",(((H$24*10)*($B$24/100))*$B45),IF(H$23="kg/t SAR",(H$24*$B45),IF(H$23="kg/t DM",((H$24*($B$24/100))*$B45),IF(H$23="mg/kg SAR",((H$24*0.001)*$B45),IF(H$23="mg/kg DM",(((H$24*0.001)*($B$24/100))*$B45),0)))))) -> 0.585 | I45: =IF(I$23="%w/w SAR",((I$24*10)*$B45),IF(I$23="%w/w DM",(((I$24*10)*($B$24/100))*$B45),IF(I$23="kg/t SAR",(I$24*$B45),IF(I$23="kg/t DM",((I$24*($B$24/100))*$B45),IF(I$23="mg/kg SAR",((I$24*0.001)*$B45),IF(I$23="mg/kg DM",(((I$24*0.001)*($B$24/100))*$B45),0)))))) -> 0.125 | J45: =IF(J$23="%w/w SAR",((J$24*10)*$B45),IF(J$23="%w/w DM",(((J$24*10)*($B$24/100))*$B45),IF(J$23="kg/t SAR",(J$24*$B45),IF(J$23="kg/t DM",((J$24*($B$24/100))*$B45),IF(J$23="mg/kg SAR",((J$24*0.001)*$B45),IF(J$23="mg/kg DM",(((J$24*0.001)*($B$24/100))*$B45),0)))))) -> 0.0025 | K45: =IF(K$23="%w/w SAR",((K$24*10)*$B45),IF(K$23="%w/w DM",(((K$24*10)*($B$24/100))*$B45),IF(K$23="kg/t SAR",(K$24*$B45),IF(K$23="kg/t DM",((K$24*($B$24/100))*$B45),IF(K$23="mg/kg SAR",((K$24*0.001)*$B45),IF(K$23="mg/kg DM",(((K$24*0.001)*($B$24/100))*$B45),0)))))) -> 0.0125 | L45: =IF(L$23="%w/w SAR",((L$24*10)*$B45),IF(L$23="%w/w DM",(((L$24*10)*($B$24/100))*$B45),IF(L$23="kg/t SAR",(L$24*$B45),IF(L$23="kg/t DM",((L$24*($B$24/100))*$B45),IF(L$23="mg/kg SAR",((L$24*0.001)*$B45),IF(L$23="mg/kg DM",(((L$24*0.001)*($B$24/100))*$B45),0)))))) -> 0.1375 | M45: =IF(M$23="%w/w SAR",((M$24*10)*$B45),IF(M$23="%w/w DM",(((M$24*10)*($B$24/100))*$B45),IF(M$23="kg/t SAR",(M$24*$B45),IF(M$23="kg/t DM",((M$24*($B$24/100))*$B45),IF(M$23="mg/kg SAR",((M$24*0.001)*$B45),IF(M$23="mg/kg DM",(((M$24*0.001)*($B$24/100))*$B45),0)))))) -> 0.1275 | N45: =IF(N$23="%w/w SAR",((N$24*10)*$B45),IF(N$23="%w/w DM",(((N$24*10)*($B$24/100))*$B45),IF(N$23="kg/t SAR",(N$24*$B45),IF(N$23="kg/t DM",((N$24*($B$24/100))*$B45),IF(N$23="mg/kg SAR",((N$24*0.001)*$B45),IF(N$23="mg/kg DM",(((N$24*0.001)*($B$24/100))*$B45),0)))))) -> 692.5 | ... P45: =IF(P$23="%w/w SAR",((P$24*10)*$B45),IF(P$23="%w/w DM",(((P$24*10)*($B$24/100))*$B45),IF(P$23="kg/t SAR",(P$24*$B45),IF(P$23="kg/t DM",((P$24*($B$24/100))*$B45),IF(P$23="mg/kg SAR",((P$24*0.001)*$B45),IF(P$23="mg/kg DM",(((P$24*0.001)*($B$24/100))*$B45),0)))))) -> 3.125 | Q45: =(IF(Q$23="%w/w SAR",((Q$24*10)*$B45),IF(Q$23="%w/w DM",(((Q$24*10)*($B$24/100))*$B45),IF(Q$23="kg/t SAR",(Q$24*$B45),IF(Q$23="kg/t DM",((Q$24*($B$24/100))*$B45),IF(Q$23="mg/kg SAR",((Q$24*0.001)*$B45),IF(Q$23="mg/kg DM",(((Q$24*0.001)*($B$24/100))*$B45),0)))))))*2.5 -> 90 | R45: =IF(R$23="%w/w SAR",((R$24*10)*$B45),IF(R$23="%w/w DM",(((R$24*10)*($B$24/100))*$B45),IF(R$23="kg/t SAR",(R$24*$B45),IF(R$23="kg/t DM",((R$24*($B$24/100))*$B45),IF(R$23="mg/kg SAR",((R$24*0.001)*$B45),IF(R$23="mg/kg DM",(((R$24*0.001)*($B$24/100))*$B45),0)))))) -> 0 | S45: =IF(S$23="%w/w SAR",((S$24*10)*$B45),IF(S$23="%w/w DM",(((S$24*10)*($B$24/100))*$B45),IF(S$23="kg/t SAR",(S$24*$B45),IF(S$23="kg/t DM",((S$24*($B$24/100))*$B45),IF(S$23="mg/kg SAR",((S$24*0.001)*$B45),IF(S$23="mg/kg DM",(((S$24*0.001)*($B$24/100))*$B45),0)))))) -> 0.125 | T45: =IF(T$23="%w/w SAR",((T$24*10)*$B45),IF(T$23="%w/w DM",(((T$24*10)*($B$24/100))*$B45),IF(T$23="kg/t SAR",(T$24*$B45),IF(T$23="kg/t DM",((T$24*($B$24/100))*$B45),IF(T$23="mg/kg SAR",((T$24*0.001)*$B45),IF(T$23="mg/kg DM",(((T$24*0.001)*($B$24/100))*$B45),0)))))) -> 0 | U45: =IF(U$23="%w/w SAR",((U$24*10)*$B45),IF(U$23="%w/w DM",(((U$24*10)*($B$24/100))*$B45),IF(U$23="kg/t SAR",(U$24*$B45),IF(U$23="kg/t DM",((U$24*($B$24/100))*$B45),IF(U$23="mg/kg SAR",((U$24*0.001)*$B45),IF(U$23="mg/kg DM",(((U$24*0.001)*($B$24/100))*$B45),0)))))) -> 0 | V45: =IF($V$24="",0,IF($V$24>5000,"NOT OK","OK")) -> OK | W45: =IF($W$24="",0,IF($W$24>4,"Not OK","OK")) -> 0
A46: =V8 -> 0 | C46: =IF(C$23="%w/w SAR",((C$24*10)*$B46),IF(C$23="%w/w DM",(((C$24*10)*($B$24/100))*$B46),IF(C$23="kg/t SAR",(C$24*$B46),IF(C$23="kg/t DM",((C$24*($B$24/100))*$B46),IF(C$23="mg/kg SAR",((C$24*0.001)*$B46),IF(C$23="mg/kg DM",(((C$24*0.001)*($B$24/100))*$B46),0)))))) -> 0 | D46: =(IF(D$23="%w/w SAR",((D$24*10)*$B46),IF(D$23="%w/w DM",(((D$24*10)*($B$24/100))*$B46),IF(D$23="kg/t SAR",(D$24*$B46),IF(D$23="kg/t DM",((D$24*($B$24/100))*$B46),IF(D$23="mg/kg SAR",((D$24*0.001)*$B46),IF(D$23="mg/kg DM",(((D$24*0.001)*($B$24/100))*$B46),"0")))))))*2.291 -> 0 | E46: =(IF(E$23="%w/w SAR",((E$24*10)*$B46),IF(E$23="%w/w DM",(((E$24*10)*($B$24/100))*$B46),IF(E$23="kg/t SAR",(E$24*$B46),IF(E$23="kg/t DM",((E$24*($B$24/100))*$B46),IF(E$23="mg/kg SAR",((E$24*0.001)*$B46),IF(E$23="mg/kg DM",(((E$24*0.001)*($B$24/100))*$B46),"0")))))))*1.205 -> 0 | F46: =(IF(F$23="%w/w SAR",((F$24*10)*$B46),IF(F$23="%w/w DM",(((F$24*10)*($B$24/100))*$B46),IF(F$23="kg/t SAR",(F$24*$B46),IF(F$23="kg/t DM",((F$24*($B$24/100))*$B46),IF(F$23="mg/kg SAR",((F$24*0.001)*$B46),IF(F$23="mg/kg DM",(((F$24*0.001)*($B$24/100))*$B46),"0")))))))*1.658 -> 0 | G46: =IF(G$23="%w/w SAR",((G$24*10)*$B46),IF(G$23="%w/w DM",(((G$24*10)*($B$24/100))*$B46),IF(G$23="kg/t SAR",(G$24*$B46),IF(G$23="kg/t DM",((G$24*($B$24/100))*$B46),IF(G$23="mg/kg SAR",((G$24*0.001)*$B46),IF(G$23="mg/kg DM",(((G$24*0.001)*($B$24/100))*$B46),0)))))) -> 0 | H46: =IF(H$23="%w/w SAR",((H$24*10)*$B46),IF(H$23="%w/w DM",(((H$24*10)*($B$24/100))*$B46),IF(H$23="kg/t SAR",(H$24*$B46),IF(H$23="kg/t DM",((H$24*($B$24/100))*$B46),IF(H$23="mg/kg SAR",((H$24*0.001)*$B46),IF(H$23="mg/kg DM",(((H$24*0.001)*($B$24/100))*$B46),0)))))) -> 0 | I46: =IF(I$23="%w/w SAR",((I$24*10)*$B46),IF(I$23="%w/w DM",(((I$24*10)*($B$24/100))*$B46),IF(I$23="kg/t SAR",(I$24*$B46),IF(I$23="kg/t DM",((I$24*($B$24/100))*$B46),IF(I$23="mg/kg SAR",((I$24*0.001)*$B46),IF(I$23="mg/kg DM",(((I$24*0.001)*($B$24/100))*$B46),0)))))) -> 0 | J46: =IF(J$23="%w/w SAR",((J$24*10)*$B46),IF(J$23="%w/w DM",(((J$24*10)*($B$24/100))*$B46),IF(J$23="kg/t SAR",(J$24*$B46),IF(J$23="kg/t DM",((J$24*($B$24/100))*$B46),IF(J$23="mg/kg SAR",((J$24*0.001)*$B46),IF(J$23="mg/kg DM",(((J$24*0.001)*($B$24/100))*$B46),0)))))) -> 0 | K46: =IF(K$23="%w/w SAR",((K$24*10)*$B46),IF(K$23="%w/w DM",(((K$24*10)*($B$24/100))*$B46),IF(K$23="kg/t SAR",(K$24*$B46),IF(K$23="kg/t DM",((K$24*($B$24/100))*$B46),IF(K$23="mg/kg SAR",((K$24*0.001)*$B46),IF(K$23="mg/kg DM",(((K$24*0.001)*($B$24/100))*$B46),0)))))) -> 0 | L46: =IF(L$23="%w/w SAR",((L$24*10)*$B46),IF(L$23="%w/w DM",(((L$24*10)*($B$24/100))*$B46),IF(L$23="kg/t SAR",(L$24*$B46),IF(L$23="kg/t DM",((L$24*($B$24/100))*$B46),IF(L$23="mg/kg SAR",((L$24*0.001)*$B46),IF(L$23="mg/kg DM",(((L$24*0.001)*($B$24/100))*$B46),0)))))) -> 0 | M46: =IF(M$23="%w/w SAR",((M$24*10)*$B46),IF(M$23="%w/w DM",(((M$24*10)*($B$24/100))*$B46),IF(M$23="kg/t SAR",(M$24*$B46),IF(M$23="kg/t DM",((M$24*($B$24/100))*$B46),IF(M$23="mg/kg SAR",((M$24*0.001)*$B46),IF(M$23="mg/kg DM",(((M$24*0.001)*($B$24/100))*$B46),0)))))) -> 0 | N46: =IF(N$23="%w/w SAR",((N$24*10)*$B46),IF(N$23="%w/w DM",(((N$24*10)*($B$24/100))*$B46),IF(N$23="kg/t SAR",(N$24*$B46),IF(N$23="kg/t DM",((N$24*($B$24/100))*$B46),IF(N$23="mg/kg SAR",((N$24*0.001)*$B46),IF(N$23="mg/kg DM",(((N$24*0.001)*($B$24/100))*$B46),0)))))) -> 0 | ... P46: =IF(P$23="%w/w SAR",((P$24*10)*$B46),IF(P$23="%w/w DM",(((P$24*10)*($B$24/100))*$B46),IF(P$23="kg/t SAR",(P$24*$B46),IF(P$23="kg/t DM",((P$24*($B$24/100))*$B46),IF(P$23="mg/kg SAR",((P$24*0.001)*$B46),IF(P$23="mg/kg DM",(((P$24*0.001)*($B$24/100))*$B46),0)))))) -> 0 | Q46: =(IF(Q$23="%w/w SAR",((Q$24*10)*$B46),IF(Q$23="%w/w DM",(((Q$24*10)*($B$24/100))*$B46),IF(Q$23="kg/t SAR",(Q$24*$B46),IF(Q$23="kg/t DM",((Q$24*($B$24/100))*$B46),IF(Q$23="mg/kg SAR",((Q$24*0.001)*$B46),IF(Q$23="mg/kg DM",(((Q$24*0.001)*($B$24/100))*$B46),0)))))))*2.5 -> 0 | R46: =IF(R$23="%w/w SAR",((R$24*10)*$B46),IF(R$23="%w/w DM",(((R$24*10)*($B$24/100))*$B46),IF(R$23="kg/t SAR",(R$24*$B46),IF(R$23="kg/t DM",((R$24*($B$24/100))*$B46),IF(R$23="mg/kg SAR",((R$24*0.001)*$B46),IF(R$23="mg/kg DM",(((R$24*0.001)*($B$24/100))*$B46),0)))))) -> 0 | S46: =IF(S$23="%w/w SAR",((S$24*10)*$B46),IF(S$23="%w/w DM",(((S$24*10)*($B$24/100))*$B46),IF(S$23="kg/t SAR",(S$24*$B46),IF(S$23="kg/t DM",((S$24*($B$24/100))*$B46),IF(S$23="mg/kg SAR",((S$24*0.001)*$B46),IF(S$23="mg/kg DM",(((S$24*0.001)*($B$24/100))*$B46),0)))))) -> 0 | T46: =IF(T$23="%w/w SAR",((T$24*10)*$B46),IF(T$23="%w/w DM",(((T$24*10)*($B$24/100))*$B46),IF(T$23="kg/t SAR",(T$24*$B46),IF(T$23="kg/t DM",((T$24*($B$24/100))*$B46),IF(T$23="mg/kg SAR",((T$24*0.001)*$B46),IF(T$23="mg/kg DM",(((T$24*0.001)*($B$24/100))*$B46),0)))))) -> 0 | U46: =IF(U$23="%w/w SAR",((U$24*10)*$B46),IF(U$23="%w/w DM",(((U$24*10)*($B$24/100))*$B46),IF(U$23="kg/t SAR",(U$24*$B46),IF(U$23="kg/t DM",((U$24*($B$24/100))*$B46),IF(U$23="mg/kg SAR",((U$24*0.001)*$B46),IF(U$23="mg/kg DM",(((U$24*0.001)*($B$24/100))*$B46),0)))))) -> 0 | V46: =IF($V$24="",0,IF($V$24>5000,"NOT OK","OK")) -> OK | W46: =IF($W$24="",0,IF($W$24>4,"Not OK","OK")) -> 0
A47: LIMIT | B47: 250 | C47: 250 | D47: Crop Requirement | E47: Crop Requirement | F47: Crop Requirement | G47: 7.5 | H47: 15 | I47: 15 | J47: 0.15 | K47: 0.1 | L47: 3 | M47: 15 | N47: TBC | O47: TBC | P47: 360 | Q47: Crop requirement x10 | R47: 0.15 | S47: 0.7 | T47: 0.2 | U47: 20 | V47: 5000 | W47: 4

Sheet Felindre (Sludge cake)
A1: PAN reference | C1: ='Bolton Hill'!C1:E1 -> PAN-008803 | F1: Total spread area | H1: ='Bolton Hill'!H1:J1 -> 49.9 ha | AE1: Crop | AF1: P OFFTAKE
A2: Permit reference | C2: ='Bolton Hill'!C2:E2 -> RP3596ET | F2: Waste type (EWC) | H2: 19 09 02 | AB2: %w/w SAR | AC2: Sandy | AD2: Solid | AE2: Winter wheat/barley | AF2: 8.4
A3: Operator | C3: ='Bolton Hill'!C3:E3 -> Mr Bryan Llewellyn | F3: Waste type (physical form) | H3: Sludge | AB3: %w/w DM | AC3: Sandy Loam | AD3: Liquid | AE3: Spring wheat/barley | AF3: 8.6
A4: Farm Address | C4: ='Bolton Hill'!C4:E4 -> Abergelli Farm, Felindre, Swansea, SA5 7NN | F4: Waste Ref/Name | H4: Felindre Sludge Cake | AB4: kg/t SAR | AC4: Medium/Clay | AD4: Sludge | AE4: Winter/spring oats | AF4: 8.8
A5: Assessed By | C5: ='Bolton Hill'!C5:E5 -> Rhiannon Smith | F5: Waste pH | H5: 7.7 | AB5: kg/t DM | AC5: Organic | AE5: Oilseed rape | AF5: 15.1
AB6: mg/kg SAR | AC6: Peat | AE6: Maize | AF6: 1.4
A7: Field number | C7: 1 | D7: 2 | E7: 3 | F7: 4 | G7: 5 | H7: 6 | I7: 7 | J7: 8 | K7: 9 | L7: 10 | M7: 11 | N7: 12 | O7: 13 | P7: 14 | Q7: 15 | R7: 16 | S7: 17 | T7: 18 | U7: 19 | V7: 20 | AB7: mg/kg DM | AE7: Fodder beet | AF7: 0.7
A8: Field Ref | C8: ='Bolton Hill'!C8 -> 1294 | D8: ='Bolton Hill'!D8 -> 2225 | E8: ='Bolton Hill'!E8 -> 3210 | F8: ='Bolton Hill'!F8 -> 3732 | G8: ='Bolton Hill'!G8 -> 4144 | H8: ='Bolton Hill'!H8 -> 5867 | I8: ='Bolton Hill'!I8 -> 1808 | J8: ='Bolton Hill'!J8 -> 16 | ... V8: ='Bolton Hill'!V8 -> 0 | AE8: Grass fresh (15%-20% DM) | AF8: 1.4
A9: SNS Index | C9: ='Bolton Hill'!C9 -> M | D9: ='Bolton Hill'!D9 -> M | E9: ='Bolton Hill'!E9 -> M | F9: ='Bolton Hill'!F9 -> M | G9: ='Bolton Hill'!G9 -> M | H9: ='Bolton Hill'!H9 -> M | I9: ='Bolton Hill'!I9 -> M | J9: ='Bolton Hill'!J9 -> M | ... V9: ='Bolton Hill'!V9 -> 0 | AE9: Grass Silage (25% DM) | AF9: 1.7
A10: Field pH | C10: ='Bolton Hill'!C10 -> 7 | D10: ='Bolton Hill'!D10 -> 7.6 | E10: ='Bolton Hill'!E10 -> 7.3 | F10: ='Bolton Hill'!F10 -> 7.5 | G10: ='Bolton Hill'!G10 -> 7.7 | H10: ='Bolton Hill'!H10 -> 7.9 | I10: ='Bolton Hill'!I10 -> 6.4 | J10: ='Bolton Hill'!J10 -> 8.4 | ... V10: ='Bolton Hill'!V10 -> 0 | AE10: Grass Silage (30%) | AF10: 2.1
A11: Phosphorus Index | C11: ='Bolton Hill'!C11 -> 0 | D11: ='Bolton Hill'!D11 -> 0 | E11: ='Bolton Hill'!E11 -> 0 | F11: ='Bolton Hill'!F11 -> 0 | G11: ='Bolton Hill'!G11 -> 0 | H11: ='Bolton Hill'!H11 -> 0 | I11: ='Bolton Hill'!I11 -> 2 | J11: ='Bolton Hill'!J11 -> 1 | ... V11: ='Bolton Hill'!V11 -> 0 | AE11: Hay (86% DM) | AF11: 5.9
A12: Potassium Index | C12: ='Bolton Hill'!C12 -> 1 | D12: ='Bolton Hill'!D12 -> 1 | E12: ='Bolton Hill'!E12 -> 1 | F12: ='Bolton Hill'!F12 -> 1 | G12: ='Bolton Hill'!G12 -> 1 | H12: ='Bolton Hill'!H12 -> 1 | I12: ='Bolton Hill'!I12 -> 2 | J12: ='Bolton Hill'!J12 -> 1 | ... V12: ='Bolton Hill'!V12 -> 0 | AE12: Haylege (45% DM) | AF12: 3.2
A13: Magnesium Index | C13: ='Bolton Hill'!C13 -> 2 | D13: ='Bolton Hill'!D13 -> 3 | E13: ='Bolton Hill'!E13 -> 2 | F13: ='Bolton Hill'!F13 -> 2 | G13: ='Bolton Hill'!G13 -> 3 | H13: ='Bolton Hill'!H13 -> 3 | I13: ='Bolton Hill'!I13 -> 4 | J13: ='Bolton Hill'!J13 -> 6 | ... V13: ='Bolton Hill'!V13 -> 0
A14: Benefiting Crop | C14: ='Bolton Hill'!C14 -> Grass Silage (25% DM) | D14: ='Bolton Hill'!D14 -> Grass Silage (25% DM) | E14: ='Bolton Hill'!E14 -> Grass Silage (25% DM) | F14: ='Bolton Hill'!F14 -> Grass Silage (25% DM) | G14: ='Bolton Hill'!G14 -> Grass Silage (25% DM) | H14: ='Bolton Hill'!H14 -> Grass Silage (25% DM) | I14: ='Bolton Hill'!I14 -> Grass Silage (25% DM) | J14: ='Bolton Hill'!J14 -> Grass Silage (25% DM) | ... V14: ='Bolton Hill'!V14 -> 0
A15: Expected Yield | C15: ='Bolton Hill'!C15 -> 32 | D15: ='Bolton Hill'!D15 -> 32 | E15: ='Bolton Hill'!E15 -> 32 | F15: ='Bolton Hill'!F15 -> 32 | G15: ='Bolton Hill'!G15 -> 32 | H15: ='Bolton Hill'!H15 -> 32 | I15: ='Bolton Hill'!I15 -> 32 | J15: ='Bolton Hill'!J15 -> 32 | ... V15: ='Bolton Hill'!V15 -> 0
A16: Soil Type | C16: ='Bolton Hill'!C16 -> Medium/Clay | D16: ='Bolton Hill'!D16 -> Medium/Clay | E16: ='Bolton Hill'!E16 -> Medium/Clay | F16: ='Bolton Hill'!F16 -> Medium/Clay | G16: ='Bolton Hill'!G16 -> Medium/Clay | H16: ='Bolton Hill'!H16 -> Medium/Clay | I16: ='Bolton Hill'!I16 -> Medium/Clay | J16: ='Bolton Hill'!J16 -> Medium/Clay | ... V16: ='Bolton Hill'!V16 -> 0
A17: Phosphate Offtake | C17: =IF(C$14="Winter wheat/barley",8.4,IF(C$14="Spring wheat/barley",8.6,IF(C$14="Winter/spring oats",8.8, IF(C$14="Oilseed Rape",15.1,IF(C$14="Grass fresh (15%-20% DM)",1.4,IF(C$14="Grass Silage (25% DM)",1.7,IF(C$14="Grass Silage (30%)",2.1,IF(C$14="Hay (86% DM)",5.9,IF(C$14="Maize",1.4,IF(C$14="Fodder beet",0.7,IF(C$14="Haylege (45% DM)",3.2,"0")))))))))))*C15 -> 54.4 | D17: =IF(D$14="Winter wheat/barley",8.4,IF(D$14="Spring wheat/barley",8.6,IF(D$14="Winter/spring oats",8.8, IF(D$14="Oilseed Rape",15.1,IF(D$14="Grass fresh (15%-20% DM)",1.4,IF(D$14="Grass Silage (25% DM)",1.7,IF(D$14="Grass Silage (30%)",2.1,IF(D$14="Hay (86% DM)",5.9,IF(D$14="Maize",1.4,IF(D$14="Fodder beet",0.7,IF(D$14="Haylege (45% DM)",3.2,"0")))))))))))*D15 -> 54.4 | E17: =IF(E$14="Winter wheat/barley",8.4,IF(E$14="Spring wheat/barley",8.6,IF(E$14="Winter/spring oats",8.8, IF(E$14="Oilseed Rape",15.1,IF(E$14="Grass fresh (15%-20% DM)",1.4,IF(E$14="Grass Silage (25% DM)",1.7,IF(E$14="Grass Silage (30%)",2.1,IF(E$14="Hay (86% DM)",5.9,IF(E$14="Maize",1.4,IF(E$14="Fodder beet",0.7,IF(E$14="Haylege (45% DM)",3.2,"0")))))))))))*E15 -> 54.4 | F17: =IF(F$14="Winter wheat/barley",8.4,IF(F$14="Spring wheat/barley",8.6,IF(F$14="Winter/spring oats",8.8, IF(F$14="Oilseed Rape",15.1,IF(F$14="Grass fresh (15%-20% DM)",1.4,IF(F$14="Grass Silage (25% DM)",1.7,IF(F$14="Grass Silage (30%)",2.1,IF(F$14="Hay (86% DM)",5.9,IF(F$14="Maize",1.4,IF(F$14="Fodder beet",0.7,IF(F$14="Haylege (45% DM)",3.2,"0")))))))))))*F15 -> 54.4 | G17: =IF(G$14="Winter wheat/barley",8.4,IF(G$14="Spring wheat/barley",8.6,IF(G$14="Winter/spring oats",8.8, IF(G$14="Oilseed Rape",15.1,IF(G$14="Grass fresh (15%-20% DM)",1.4,IF(G$14="Grass Silage (25% DM)",1.7,IF(G$14="Grass Silage (30%)",2.1,IF(G$14="Hay (86% DM)",5.9,IF(G$14="Maize",1.4,IF(G$14="Fodder beet",0.7,IF(G$14="Haylege (45% DM)",3.2,"0")))))))))))*G15 -> 54.4 | H17: =IF(H$14="Winter wheat/barley",8.4,IF(H$14="Spring wheat/barley",8.6,IF(H$14="Winter/spring oats",8.8, IF(H$14="Oilseed Rape",15.1,IF(H$14="Grass fresh (15%-20% DM)",1.4,IF(H$14="Grass Silage (25% DM)",1.7,IF(H$14="Grass Silage (30%)",2.1,IF(H$14="Hay (86% DM)",5.9,IF(H$14="Maize",1.4,IF(H$14="Fodder beet",0.7,IF(H$14="Haylege (45% DM)",3.2,"0")))))))))))*H15 -> 54.4 | I17: =IF(I$14="Winter wheat/barley",8.4,IF(I$14="Spring wheat/barley",8.6,IF(I$14="Winter/spring oats",8.8, IF(I$14="Oilseed Rape",15.1,IF(I$14="Grass fresh (15%-20% DM)",1.4,IF(I$14="Grass Silage (25% DM)",1.7,IF(I$14="Grass Silage (30%)",2.1,IF(I$14="Hay (86% DM)",5.9,IF(I$14="Maize",1.4,IF(I$14="Fodder beet",0.7,IF(I$14="Haylege (45% DM)",3.2,"0")))))))))))*I15 -> 54.4 | J17: =IF(J$14="Winter wheat/barley",8.4,IF(J$14="Spring wheat/barley",8.6,IF(J$14="Winter/spring oats",8.8, IF(J$14="Oilseed Rape",15.1,IF(J$14="Grass fresh (15%-20% DM)",1.4,IF(J$14="Grass Silage (25% DM)",1.7,IF(J$14="Grass Silage (30%)",2.1,IF(J$14="Hay (86% DM)",5.9,IF(J$14="Maize",1.4,IF(J$14="Fodder beet",0.7,IF(J$14="Haylege (45% DM)",3.2,"0")))))))))))*J15 -> 54.4 | ... V17: =IF(V$14="Winter wheat/barley",8.4,IF(V$14="Spring wheat/barley",8.6,IF(V$14="Winter/spring oats",8.8, IF(V$14="Oilseed Rape",15.1,IF(V$14="Grass fresh (15%-20% DM)",1.4,IF(V$14="Grass Silage (25% DM)",1.7,IF(V$14="Grass Silage (30%)",2.1,IF(V$14="Hay (86% DM)",5.9,IF(V$14="Maize",1.4,IF(V$14="Fodder beet",0.7,IF(V$14="Haylege (45% DM)",3.2,"0")))))))))))*V15 -> 0
A18: Phosphate Addition | C18: =$D27 -> 78.797777 | D18: =$D28 -> 78.797777 | E18: =$D29 -> 78.797777 | F18: =$D30 -> 78.797777 | G18: =$D31 -> 78.797777 | H18: =$D32 -> 78.797777 | I18: =$D33 -> 48.490939 | J18: =$D34 -> 78.797777 | K18: =$D35 -> 78.797777 | L18: =$D36 -> 78.797777 | M18: =$D37 -> 78.797777 | N18: =$D38 -> 78.797777 | O18: =$D39 -> 78.797777 | P18: =$D40 -> 78.797777 | Q18: =$D41 -> 78.797777 | R18: =$D42 -> 78.797777 | S18: =$D43 -> 78.797777 | T18: =$D44 -> 78.797777 | U18: =$D45 -> 78.797777 | V18: =$D46 -> 0
A19: Difference | C19: =C18-C17 -> 24.397777 | D19: =D18-D17 -> 24.397777 | E19: =E18-E17 -> 24.397777 | F19: =F18-F17 -> 24.397777 | G19: =G18-G17 -> 24.397777 | H19: =H18-H17 -> 24.397777 | I19: =I18-I17 -> -5.9090606 | J19: =J18-J17 -> 24.397777 | ... V19: =V18-V17 -> 0
A20: Increase/decrease | C20: =IF($B27="","",IF(C$19>=0,"INCREASE","DECREASE")) -> INCREASE | D20: =IF($B28="","",IF(D$19>=0,"INCREASE","DECREASE")) -> INCREASE | E20: =IF($B29="","",IF(E$19>=0,"INCREASE","DECREASE")) -> INCREASE | F20: =IF($B30="","",IF(F$19>=0,"INCREASE","DECREASE")) -> INCREASE | G20: =IF($B31="","",IF(G$19>=0,"INCREASE","DECREASE")) -> INCREASE | H20: =IF($B32="","",IF(H$19>=0,"INCREASE","DECREASE")) -> INCREASE | I20: =IF($B33="","",IF(I$19>=0,"INCREASE","DECREASE")) -> DECREASE | J20: =IF($B34="","",IF(J$19>=0,"INCREASE","DECREASE")) -> INCREASE | K20: =IF($B35="","",IF(K$19>=0,"INCREASE","DECREASE")) -> INCREASE | L20: =IF($B36="","",IF(L$19>=0,"INCREASE","DECREASE")) -> INCREASE | M20: =IF($B37="","",IF(M$19>=0,"INCREASE","DECREASE")) -> INCREASE | N20: =IF($B38="","",IF(N$19>=0,"INCREASE","DECREASE")) -> INCREASE | O20: =IF($B39="","",IF(O$19>=0,"INCREASE","DECREASE")) -> INCREASE | P20: =IF($B40="","",IF(P$19>=0,"INCREASE","DECREASE")) -> INCREASE | Q20: =IF($B41="","",IF(Q$19>=0,"INCREASE","DECREASE")) -> INCREASE | R20: =IF($B42="","",IF(R$19>=0,"INCREASE","DECREASE")) -> INCREASE | S20: =IF($B43="","",IF(S$19>=0,"INCREASE","DECREASE")) -> INCREASE | T20: =IF($B44="","",IF(T$19>=0,"INCREASE","DECREASE")) -> INCREASE | U20: =IF($B45="","",IF(U$19>=0,"INCREASE","DECREASE")) -> INCREASE | V20: =IF($B46="","",IF(V$19>=0,"INCREASE","DECREASE"))
B22: Dry Matter | C22: Total Nitrogen | D22: Total Phosphorus (P) | E22: Total Potassium (K) | F22: Total Magnesium (Mg) | G22: Total Copper | H22: Total Zinc | I22: Total Lead | J22: Total Cadmium | K22: Total Mercury | L22: Total Nickel | M22: Total Chromium | N22: Total Aluminium | O22: Total Iron | P22: Total Na (Sodium) | Q22: Total Sulphur (S) | R22: Total Selenium | S22: Total Arsenic | T22: Total Mo | U22: Total Fluoride | V22: Conductivity µS/cm | W22: Fats & Oils (%)
B23: % | C23: %w/w DM | D23: %w/w DM | E23: %w/w DM | F23: mg/kg DM | G23: mg/kg DM | H23: mg/kg DM | I23: mg/kg DM | J23: mg/kg DM | K23: mg/kg DM | L23: mg/kg DM | M23: mg/kg DM | N23: mg/kg DM | O23: mg/kg DM | P23: mg/kg DM | Q23: mg/kg DM | S23: mg/kg DM
B24: 23.9 | C24: 0.48 | D24: 0.123 | E24: 0.0269 | F24: 1860 | G24: 36.4 | H24: 228 | I24: 30.8 | J24: 1.18 | K24: 0.21 | L24: 19.2 | M24: 11.9 | N24: 104000 | O24: 20100 | Q24: 4700 | S24: 24.8
A25: Field Ref | B25: Application Rate | C25: Nitrogen Addition | D25: Phosphate Addition | E25: Potash Addition | F25: Mg Oxide Addition | G25: Copper Addition | H25: Zinc Addition | I25: Lead Addition | J25: Cadmium Addition | K25: Mercury Addition | L25: Nickel Addition | M25: Chromium Addition | N25: Aluminium Addition | O25: Iron Addition | P25: Sodium Addition | Q25: SO3 Addition kg/ha | R25: Selenium Addition | S25: Arsenic Addition | T25: Molybdenum Addition | U25: Fluoride Addition | V25: Conductivity (Acceptable level 5000µS/cm) | W25: Fats & Oils (Acceptable level 4%)
B26: tonnes/ha | C26: kg/ha | D26: P2O5 kg/ha | E26: K2O kg/ha | F26: MgO kg/ha | G26: kg/ha | H26: kg/ha | I26: kg/ha | J26: kg/ha | K26: kg/ha | L26: kg/ha | M26: kg/ha | N26: kg/ha | O26: kg/ha | P26: kg/ha | Q26: kg/ha | R26: kg/ha | S26: kg/ha | T26: kg/ha | U26: kg/ha
A27: =C8 -> 1294 | B27: 117 | C27: =IF(C$23="%w/w SAR",((C$24*10)*$B27),IF(C$23="%w/w DM",(((C$24*10)*($B$24/100))*$B27),IF(C$23="kg/t SAR",(C$24*$B27),IF(C$23="kg/t DM",((C$24*($B$24/100))*$B27),IF(C$23="mg/kg SAR",((C$24*0.001)*$B27),IF(C$23="mg/kg DM",(((C$24*0.001)*($B$24/100))*$B27),0)))))) -> 134.2224 | D27: =(IF(D$23="%w/w SAR",((D$24*10)*$B27),IF(D$23="%w/w DM",(((D$24*10)*($B$24/100))*$B27),IF(D$23="kg/t SAR",(D$24*$B27),IF(D$23="kg/t DM",((D$24*($B$24/100))*$B27),IF(D$23="mg/kg SAR",((D$24*0.001)*$B27),IF(D$23="mg/kg DM",(((D$24*0.001)*($B$24/100))*$B27),"0")))))))*2.291 -> 78.797777 | E27: =(IF(E$23="%w/w SAR",((E$24*10)*$B27),IF(E$23="%w/w DM",(((E$24*10)*($B$24/100))*$B27),IF(E$23="kg/t SAR",(E$24*$B27),IF(E$23="kg/t DM",((E$24*($B$24/100))*$B27),IF(E$23="mg/kg SAR",((E$24*0.001)*$B27),IF(E$23="mg/kg DM",(((E$24*0.001)*($B$24/100))*$B27),"0")))))))*1.205 -> 9.0640666 | F27: =(IF(F$23="%w/w SAR",((F$24*10)*$B27),IF(F$23="%w/w DM",(((F$24*10)*($B$24/100))*$B27),IF(F$23="kg/t SAR",(F$24*$B27),IF(F$23="kg/t DM",((F$24*($B$24/100))*$B27),IF(F$23="mg/kg SAR",((F$24*0.001)*$B27),IF(F$23="mg/kg DM",(((F$24*0.001)*($B$24/100))*$B27),"0")))))))*1.658 -> 86.234536 | G27: =IF(G$23="%w/w SAR",((G$24*10)*$B27),IF(G$23="%w/w DM",(((G$24*10)*($B$24/100))*$B27),IF(G$23="kg/t SAR",(G$24*$B27),IF(G$23="kg/t DM",((G$24*($B$24/100))*$B27),IF(G$23="mg/kg SAR",((G$24*0.001)*$B27),IF(G$23="mg/kg DM",(((G$24*0.001)*($B$24/100))*$B27),0)))))) -> 1.0178532 | H27: =IF(H$23="%w/w SAR",((H$24*10)*$B27),IF(H$23="%w/w DM",(((H$24*10)*($B$24/100))*$B27),IF(H$23="kg/t SAR",(H$24*$B27),IF(H$23="kg/t DM",((H$24*($B$24/100))*$B27),IF(H$23="mg/kg SAR",((H$24*0.001)*$B27),IF(H$23="mg/kg DM",(((H$24*0.001)*($B$24/100))*$B27),0)))))) -> 6.375564 | I27: =IF(I$23="%w/w SAR",((I$24*10)*$B27),IF(I$23="%w/w DM",(((I$24*10)*($B$24/100))*$B27),IF(I$23="kg/t SAR",(I$24*$B27),IF(I$23="kg/t DM",((I$24*($B$24/100))*$B27),IF(I$23="mg/kg SAR",((I$24*0.001)*$B27),IF(I$23="mg/kg DM",(((I$24*0.001)*($B$24/100))*$B27),0)))))) -> 0.8612604 | J27: =IF(J$23="%w/w SAR",((J$24*10)*$B27),IF(J$23="%w/w DM",(((J$24*10)*($B$24/100))*$B27),IF(J$23="kg/t SAR",(J$24*$B27),IF(J$23="kg/t DM",((J$24*($B$24/100))*$B27),IF(J$23="mg/kg SAR",((J$24*0.001)*$B27),IF(J$23="mg/kg DM",(((J$24*0.001)*($B$24/100))*$B27),0)))))) -> 0.03299634 | K27: =IF(K$23="%w/w SAR",((K$24*10)*$B27),IF(K$23="%w/w DM",(((K$24*10)*($B$24/100))*$B27),IF(K$23="kg/t SAR",(K$24*$B27),IF(K$23="kg/t DM",((K$24*($B$24/100))*$B27),IF(K$23="mg/kg SAR",((K$24*0.001)*$B27),IF(K$23="mg/kg DM",(((K$24*0.001)*($B$24/100))*$B27),0)))))) -> 0.00587223 | L27: =IF(L$23="%w/w SAR",((L$24*10)*$B27),IF(L$23="%w/w DM",(((L$24*10)*($B$24/100))*$B27),IF(L$23="kg/t SAR",(L$24*$B27),IF(L$23="kg/t DM",((L$24*($B$24/100))*$B27),IF(L$23="mg/kg SAR",((L$24*0.001)*$B27),IF(L$23="mg/kg DM",(((L$24*0.001)*($B$24/100))*$B27),0)))))) -> 0.5368896 | M27: =IF(M$23="%w/w SAR",((M$24*10)*$B27),IF(M$23="%w/w DM",(((M$24*10)*($B$24/100))*$B27),IF(M$23="kg/t SAR",(M$24*$B27),IF(M$23="kg/t DM",((M$24*($B$24/100))*$B27),IF(M$23="mg/kg SAR",((M$24*0.001)*$B27),IF(M$23="mg/kg DM",(((M$24*0.001)*($B$24/100))*$B27),0)))))) -> 0.3327597 | N27: =IF(N$23="%w/w SAR",((N$24*10)*$B27),IF(N$23="%w/w DM",(((N$24*10)*($B$24/100))*$B27),IF(N$23="kg/t SAR",(N$24*$B27),IF(N$23="kg/t DM",((N$24*($B$24/100))*$B27),IF(N$23="mg/kg SAR",((N$24*0.001)*$B27),IF(N$23="mg/kg DM",(((N$24*0.001)*($B$24/100))*$B27),0)))))) -> 2908.152 | ... P27: =IF(P$23="%w/w SAR",((P$24*10)*$B27),IF(P$23="%w/w DM",(((P$24*10)*($B$24/100))*$B27),IF(P$23="kg/t SAR",(P$24*$B27),IF(P$23="kg/t DM",((P$24*($B$24/100))*$B27),IF(P$23="mg/kg SAR",((P$24*0.001)*$B27),IF(P$23="mg/kg DM",(((P$24*0.001)*($B$24/100))*$B27),0)))))) -> 0 | Q27: =(IF(Q$23="%w/w SAR",((Q$24*10)*$B27),IF(Q$23="%w/w DM",(((Q$24*10)*($B$24/100))*$B27),IF(Q$23="kg/t SAR",(Q$24*$B27),IF(Q$23="kg/t DM",((Q$24*($B$24/100))*$B27),IF(Q$23="mg/kg SAR",((Q$24*0.001)*$B27),IF(Q$23="mg/kg DM",(((Q$24*0.001)*($B$24/100))*$B27),0)))))))*2.5 -> 328.56525 | R27: =IF(R$23="%w/w SAR",((R$24*10)*$B27),IF(R$23="%w/w DM",(((R$24*10)*($B$24/100))*$B27),IF(R$23="kg/t SAR",(R$24*$B27),IF(R$23="kg/t DM",((R$24*($B$24/100))*$B27),IF(R$23="mg/kg SAR",((R$24*0.001)*$B27),IF(R$23="mg/kg DM",(((R$24*0.001)*($B$24/100))*$B27),0)))))) -> 0 | S27: =IF(S$23="%w/w SAR",((S$24*10)*$B27),IF(S$23="%w/w DM",(((S$24*10)*($B$24/100))*$B27),IF(S$23="kg/t SAR",(S$24*$B27),IF(S$23="kg/t DM",((S$24*($B$24/100))*$B27),IF(S$23="mg/kg SAR",((S$24*0.001)*$B27),IF(S$23="mg/kg DM",(((S$24*0.001)*($B$24/100))*$B27),0)))))) -> 0.6934824 | T27: =IF(T$23="%w/w SAR",((T$24*10)*$B27),IF(T$23="%w/w DM",(((T$24*10)*($B$24/100))*$B27),IF(T$23="kg/t SAR",(T$24*$B27),IF(T$23="kg/t DM",((T$24*($B$24/100))*$B27),IF(T$23="mg/kg SAR",((T$24*0.001)*$B27),IF(T$23="mg/kg DM",(((T$24*0.001)*($B$24/100))*$B27),0)))))) -> 0 | U27: =IF(U$23="%w/w SAR",((U$24*10)*$B27),IF(U$23="%w/w DM",(((U$24*10)*($B$24/100))*$B27),IF(U$23="kg/t SAR",(U$24*$B27),IF(U$23="kg/t DM",((U$24*($B$24/100))*$B27),IF(U$23="mg/kg SAR",((U$24*0.001)*$B27),IF(U$23="mg/kg DM",(((U$24*0.001)*($B$24/100))*$B27),0)))))) -> 0 | V27: =IF($V$24="",0,IF($V$24>5000,"NOT OK","OK")) -> 0 | W27: =IF($W$24="",0,IF($W$24>4,"Not OK","OK")) -> 0
A28: =D8 -> 2225 | B28: 117 | C28: =IF(C$23="%w/w SAR",((C$24*10)*$B28),IF(C$23="%w/w DM",(((C$24*10)*($B$24/100))*$B28),IF(C$23="kg/t SAR",(C$24*$B28),IF(C$23="kg/t DM",((C$24*($B$24/100))*$B28),IF(C$23="mg/kg SAR",((C$24*0.001)*$B28),IF(C$23="mg/kg DM",(((C$24*0.001)*($B$24/100))*$B28),0)))))) -> 134.2224 | D28: =(IF(D$23="%w/w SAR",((D$24*10)*$B28),IF(D$23="%w/w DM",(((D$24*10)*($B$24/100))*$B28),IF(D$23="kg/t SAR",(D$24*$B28),IF(D$23="kg/t DM",((D$24*($B$24/100))*$B28),IF(D$23="mg/kg SAR",((D$24*0.001)*$B28),IF(D$23="mg/kg DM",(((D$24*0.001)*($B$24/100))*$B28),"0")))))))*2.291 -> 78.797777 | E28: =(IF(E$23="%w/w SAR",((E$24*10)*$B28),IF(E$23="%w/w DM",(((E$24*10)*($B$24/100))*$B28),IF(E$23="kg/t SAR",(E$24*$B28),IF(E$23="kg/t DM",((E$24*($B$24/100))*$B28),IF(E$23="mg/kg SAR",((E$24*0.001)*$B28),IF(E$23="mg/kg DM",(((E$24*0.001)*($B$24/100))*$B28),"0")))))))*1.205 -> 9.0640666 | F28: =(IF(F$23="%w/w SAR",((F$24*10)*$B28),IF(F$23="%w/w DM",(((F$24*10)*($B$24/100))*$B28),IF(F$23="kg/t SAR",(F$24*$B28),IF(F$23="kg/t DM",((F$24*($B$24/100))*$B28),IF(F$23="mg/kg SAR",((F$24*0.001)*$B28),IF(F$23="mg/kg DM",(((F$24*0.001)*($B$24/100))*$B28),"0")))))))*1.658 -> 86.234536 | G28: =IF(G$23="%w/w SAR",((G$24*10)*$B28),IF(G$23="%w/w DM",(((G$24*10)*($B$24/100))*$B28),IF(G$23="kg/t SAR",(G$24*$B28),IF(G$23="kg/t DM",((G$24*($B$24/100))*$B28),IF(G$23="mg/kg SAR",((G$24*0.001)*$B28),IF(G$23="mg/kg DM",(((G$24*0.001)*($B$24/100))*$B28),0)))))) -> 1.0178532 | H28: =IF(H$23="%w/w SAR",((H$24*10)*$B28),IF(H$23="%w/w DM",(((H$24*10)*($B$24/100))*$B28),IF(H$23="kg/t SAR",(H$24*$B28),IF(H$23="kg/t DM",((H$24*($B$24/100))*$B28),IF(H$23="mg/kg SAR",((H$24*0.001)*$B28),IF(H$23="mg/kg DM",(((H$24*0.001)*($B$24/100))*$B28),0)))))) -> 6.375564 | I28: =IF(I$23="%w/w SAR",((I$24*10)*$B28),IF(I$23="%w/w DM",(((I$24*10)*($B$24/100))*$B28),IF(I$23="kg/t SAR",(I$24*$B28),IF(I$23="kg/t DM",((I$24*($B$24/100))*$B28),IF(I$23="mg/kg SAR",((I$24*0.001)*$B28),IF(I$23="mg/kg DM",(((I$24*0.001)*($B$24/100))*$B28),0)))))) -> 0.8612604 | J28: =IF(J$23="%w/w SAR",((J$24*10)*$B28),IF(J$23="%w/w DM",(((J$24*10)*($B$24/100))*$B28),IF(J$23="kg/t SAR",(J$24*$B28),IF(J$23="kg/t DM",((J$24*($B$24/100))*$B28),IF(J$23="mg/kg SAR",((J$24*0.001)*$B28),IF(J$23="mg/kg DM",(((J$24*0.001)*($B$24/100))*$B28),0)))))) -> 0.03299634 | K28: =IF(K$23="%w/w SAR",((K$24*10)*$B28),IF(K$23="%w/w DM",(((K$24*10)*($B$24/100))*$B28),IF(K$23="kg/t SAR",(K$24*$B28),IF(K$23="kg/t DM",((K$24*($B$24/100))*$B28),IF(K$23="mg/kg SAR",((K$24*0.001)*$B28),IF(K$23="mg/kg DM",(((K$24*0.001)*($B$24/100))*$B28),0)))))) -> 0.00587223 | L28: =IF(L$23="%w/w SAR",((L$24*10)*$B28),IF(L$23="%w/w DM",(((L$24*10)*($B$24/100))*$B28),IF(L$23="kg/t SAR",(L$24*$B28),IF(L$23="kg/t DM",((L$24*($B$24/100))*$B28),IF(L$23="mg/kg SAR",((L$24*0.001)*$B28),IF(L$23="mg/kg DM",(((L$24*0.001)*($B$24/100))*$B28),0)))))) -> 0.5368896 | M28: =IF(M$23="%w/w SAR",((M$24*10)*$B28),IF(M$23="%w/w DM",(((M$24*10)*($B$24/100))*$B28),IF(M$23="kg/t SAR",(M$24*$B28),IF(M$23="kg/t DM",((M$24*($B$24/100))*$B28),IF(M$23="mg/kg SAR",((M$24*0.001)*$B28),IF(M$23="mg/kg DM",(((M$24*0.001)*($B$24/100))*$B28),0)))))) -> 0.3327597 | N28: =IF(N$23="%w/w SAR",((N$24*10)*$B28),IF(N$23="%w/w DM",(((N$24*10)*($B$24/100))*$B28),IF(N$23="kg/t SAR",(N$24*$B28),IF(N$23="kg/t DM",((N$24*($B$24/100))*$B28),IF(N$23="mg/kg SAR",((N$24*0.001)*$B28),IF(N$23="mg/kg DM",(((N$24*0.001)*($B$24/100))*$B28),0)))))) -> 2908.152 | ... P28: =IF(P$23="%w/w SAR",((P$24*10)*$B28),IF(P$23="%w/w DM",(((P$24*10)*($B$24/100))*$B28),IF(P$23="kg/t SAR",(P$24*$B28),IF(P$23="kg/t DM",((P$24*($B$24/100))*$B28),IF(P$23="mg/kg SAR",((P$24*0.001)*$B28),IF(P$23="mg/kg DM",(((P$24*0.001)*($B$24/100))*$B28),0)))))) -> 0 | Q28: =(IF(Q$23="%w/w SAR",((Q$24*10)*$B28),IF(Q$23="%w/w DM",(((Q$24*10)*($B$24/100))*$B28),IF(Q$23="kg/t SAR",(Q$24*$B28),IF(Q$23="kg/t DM",((Q$24*($B$24/100))*$B28),IF(Q$23="mg/kg SAR",((Q$24*0.001)*$B28),IF(Q$23="mg/kg DM",(((Q$24*0.001)*($B$24/100))*$B28),0)))))))*2.5 -> 328.56525 | R28: =IF(R$23="%w/w SAR",((R$24*10)*$B28),IF(R$23="%w/w DM",(((R$24*10)*($B$24/100))*$B28),IF(R$23="kg/t SAR",(R$24*$B28),IF(R$23="kg/t DM",((R$24*($B$24/100))*$B28),IF(R$23="mg/kg SAR",((R$24*0.001)*$B28),IF(R$23="mg/kg DM",(((R$24*0.001)*($B$24/100))*$B28),0)))))) -> 0 | S28: =IF(S$23="%w/w SAR",((S$24*10)*$B28),IF(S$23="%w/w DM",(((S$24*10)*($B$24/100))*$B28),IF(S$23="kg/t SAR",(S$24*$B28),IF(S$23="kg/t DM",((S$24*($B$24/100))*$B28),IF(S$23="mg/kg SAR",((S$24*0.001)*$B28),IF(S$23="mg/kg DM",(((S$24*0.001)*($B$24/100))*$B28),0)))))) -> 0.6934824 | T28: =IF(T$23="%w/w SAR",((T$24*10)*$B28),IF(T$23="%w/w DM",(((T$24*10)*($B$24/100))*$B28),IF(T$23="kg/t SAR",(T$24*$B28),IF(T$23="kg/t DM",((T$24*($B$24/100))*$B28),IF(T$23="mg/kg SAR",((T$24*0.001)*$B28),IF(T$23="mg/kg DM",(((T$24*0.001)*($B$24/100))*$B28),0)))))) -> 0 | U28: =IF(U$23="%w/w SAR",((U$24*10)*$B28),IF(U$23="%w/w DM",(((U$24*10)*($B$24/100))*$B28),IF(U$23="kg/t SAR",(U$24*$B28),IF(U$23="kg/t DM",((U$24*($B$24/100))*$B28),IF(U$23="mg/kg SAR",((U$24*0.001)*$B28),IF(U$23="mg/kg DM",(((U$24*0.001)*($B$24/100))*$B28),0)))))) -> 0 | V28: =IF($V$24="",0,IF($V$24>5000,"NOT OK","OK")) -> 0 | W28: =IF($W$24="",0,IF($W$24>4,"Not OK","OK")) -> 0
A29: =E8 -> 3210 | B29: 117 | C29: =IF(C$23="%w/w SAR",((C$24*10)*$B29),IF(C$23="%w/w DM",(((C$24*10)*($B$24/100))*$B29),IF(C$23="kg/t SAR",(C$24*$B29),IF(C$23="kg/t DM",((C$24*($B$24/100))*$B29),IF(C$23="mg/kg SAR",((C$24*0.001)*$B29),IF(C$23="mg/kg DM",(((C$24*0.001)*($B$24/100))*$B29),0)))))) -> 134.2224 | D29: =(IF(D$23="%w/w SAR",((D$24*10)*$B29),IF(D$23="%w/w DM",(((D$24*10)*($B$24/100))*$B29),IF(D$23="kg/t SAR",(D$24*$B29),IF(D$23="kg/t DM",((D$24*($B$24/100))*$B29),IF(D$23="mg/kg SAR",((D$24*0.001)*$B29),IF(D$23="mg/kg DM",(((D$24*0.001)*($B$24/100))*$B29),"0")))))))*2.291 -> 78.797777 | E29: =(IF(E$23="%w/w SAR",((E$24*10)*$B29),IF(E$23="%w/w DM",(((E$24*10)*($B$24/100))*$B29),IF(E$23="kg/t SAR",(E$24*$B29),IF(E$23="kg/t DM",((E$24*($B$24/100))*$B29),IF(E$23="mg/kg SAR",((E$24*0.001)*$B29),IF(E$23="mg/kg DM",(((E$24*0.001)*($B$24/100))*$B29),"0")))))))*1.205 -> 9.0640666 | F29: =(IF(F$23="%w/w SAR",((F$24*10)*$B29),IF(F$23="%w/w DM",(((F$24*10)*($B$24/100))*$B29),IF(F$23="kg/t SAR",(F$24*$B29),IF(F$23="kg/t DM",((F$24*($B$24/100))*$B29),IF(F$23="mg/kg SAR",((F$24*0.001)*$B29),IF(F$23="mg/kg DM",(((F$24*0.001)*($B$24/100))*$B29),"0")))))))*1.658 -> 86.234536 | G29: =IF(G$23="%w/w SAR",((G$24*10)*$B29),IF(G$23="%w/w DM",(((G$24*10)*($B$24/100))*$B29),IF(G$23="kg/t SAR",(G$24*$B29),IF(G$23="kg/t DM",((G$24*($B$24/100))*$B29),IF(G$23="mg/kg SAR",((G$24*0.001)*$B29),IF(G$23="mg/kg DM",(((G$24*0.001)*($B$24/100))*$B29),0)))))) -> 1.0178532 | H29: =IF(H$23="%w/w SAR",((H$24*10)*$B29),IF(H$23="%w/w DM",(((H$24*10)*($B$24/100))*$B29),IF(H$23="kg/t SAR",(H$24*$B29),IF(H$23="kg/t DM",((H$24*($B$24/100))*$B29),IF(H$23="mg/kg SAR",((H$24*0.001)*$B29),IF(H$23="mg/kg DM",(((H$24*0.001)*($B$24/100))*$B29),0)))))) -> 6.375564 | I29: =IF(I$23="%w/w SAR",((I$24*10)*$B29),IF(I$23="%w/w DM",(((I$24*10)*($B$24/100))*$B29),IF(I$23="kg/t SAR",(I$24*$B29),IF(I$23="kg/t DM",((I$24*($B$24/100))*$B29),IF(I$23="mg/kg SAR",((I$24*0.001)*$B29),IF(I$23="mg/kg DM",(((I$24*0.001)*($B$24/100))*$B29),0)))))) -> 0.8612604 | J29: =IF(J$23="%w/w SAR",((J$24*10)*$B29),IF(J$23="%w/w DM",(((J$24*10)*($B$24/100))*$B29),IF(J$23="kg/t SAR",(J$24*$B29),IF(J$23="kg/t DM",((J$24*($B$24/100))*$B29),IF(J$23="mg/kg SAR",((J$24*0.001)*$B29),IF(J$23="mg/kg DM",(((J$24*0.001)*($B$24/100))*$B29),0)))))) -> 0.03299634 | K29: =IF(K$23="%w/w SAR",((K$24*10)*$B29),IF(K$23="%w/w DM",(((K$24*10)*($B$24/100))*$B29),IF(K$23="kg/t SAR",(K$24*$B29),IF(K$23="kg/t DM",((K$24*($B$24/100))*$B29),IF(K$23="mg/kg SAR",((K$24*0.001)*$B29),IF(K$23="mg/kg DM",(((K$24*0.001)*($B$24/100))*$B29),0)))))) -> 0.00587223 | L29: =IF(L$23="%w/w SAR",((L$24*10)*$B29),IF(L$23="%w/w DM",(((L$24*10)*($B$24/100))*$B29),IF(L$23="kg/t SAR",(L$24*$B29),IF(L$23="kg/t DM",((L$24*($B$24/100))*$B29),IF(L$23="mg/kg SAR",((L$24*0.001)*$B29),IF(L$23="mg/kg DM",(((L$24*0.001)*($B$24/100))*$B29),0)))))) -> 0.5368896 | M29: =IF(M$23="%w/w SAR",((M$24*10)*$B29),IF(M$23="%w/w DM",(((M$24*10)*($B$24/100))*$B29),IF(M$23="kg/t SAR",(M$24*$B29),IF(M$23="kg/t DM",((M$24*($B$24/100))*$B29),IF(M$23="mg/kg SAR",((M$24*0.001)*$B29),IF(M$23="mg/kg DM",(((M$24*0.001)*($B$24/100))*$B29),0)))))) -> 0.3327597 | N29: =IF(N$23="%w/w SAR",((N$24*10)*$B29),IF(N$23="%w/w DM",(((N$24*10)*($B$24/100))*$B29),IF(N$23="kg/t SAR",(N$24*$B29),IF(N$23="kg/t DM",((N$24*($B$24/100))*$B29),IF(N$23="mg/kg SAR",((N$24*0.001)*$B29),IF(N$23="mg/kg DM",(((N$24*0.001)*($B$24/100))*$B29),0)))))) -> 2908.152 | ... P29: =IF(P$23="%w/w SAR",((P$24*10)*$B29),IF(P$23="%w/w DM",(((P$24*10)*($B$24/100))*$B29),IF(P$23="kg/t SAR",(P$24*$B29),IF(P$23="kg/t DM",((P$24*($B$24/100))*$B29),IF(P$23="mg/kg SAR",((P$24*0.001)*$B29),IF(P$23="mg/kg DM",(((P$24*0.001)*($B$24/100))*$B29),0)))))) -> 0 | Q29: =(IF(Q$23="%w/w SAR",((Q$24*10)*$B29),IF(Q$23="%w/w DM",(((Q$24*10)*($B$24/100))*$B29),IF(Q$23="kg/t SAR",(Q$24*$B29),IF(Q$23="kg/t DM",((Q$24*($B$24/100))*$B29),IF(Q$23="mg/kg SAR",((Q$24*0.001)*$B29),IF(Q$23="mg/kg DM",(((Q$24*0.001)*($B$24/100))*$B29),0)))))))*2.5 -> 328.56525 | R29: =IF(R$23="%w/w SAR",((R$24*10)*$B29),IF(R$23="%w/w DM",(((R$24*10)*($B$24/100))*$B29),IF(R$23="kg/t SAR",(R$24*$B29),IF(R$23="kg/t DM",((R$24*($B$24/100))*$B29),IF(R$23="mg/kg SAR",((R$24*0.001)*$B29),IF(R$23="mg/kg DM",(((R$24*0.001)*($B$24/100))*$B29),0)))))) -> 0 | S29: =IF(S$23="%w/w SAR",((S$24*10)*$B29),IF(S$23="%w/w DM",(((S$24*10)*($B$24/100))*$B29),IF(S$23="kg/t SAR",(S$24*$B29),IF(S$23="kg/t DM",((S$24*($B$24/100))*$B29),IF(S$23="mg/kg SAR",((S$24*0.001)*$B29),IF(S$23="mg/kg DM",(((S$24*0.001)*($B$24/100))*$B29),0)))))) -> 0.6934824 | T29: =IF(T$23="%w/w SAR",((T$24*10)*$B29),IF(T$23="%w/w DM",(((T$24*10)*($B$24/100))*$B29),IF(T$23="kg/t SAR",(T$24*$B29),IF(T$23="kg/t DM",((T$24*($B$24/100))*$B29),IF(T$23="mg/kg SAR",((T$24*0.001)*$B29),IF(T$23="mg/kg DM",(((T$24*0.001)*($B$24/100))*$B29),0)))))) -> 0 | U29: =IF(U$23="%w/w SAR",((U$24*10)*$B29),IF(U$23="%w/w DM",(((U$24*10)*($B$24/100))*$B29),IF(U$23="kg/t SAR",(U$24*$B29),IF(U$23="kg/t DM",((U$24*($B$24/100))*$B29),IF(U$23="mg/kg SAR",((U$24*0.001)*$B29),IF(U$23="mg/kg DM",(((U$24*0.001)*($B$24/100))*$B29),0)))))) -> 0 | V29: =IF($V$24="",0,IF($V$24>5000,"NOT OK","OK")) -> 0 | W29: =IF($W$24="",0,IF($W$24>4,"Not OK","OK")) -> 0
A30: =F8 -> 3732 | B30: 117 | C30: =IF(C$23="%w/w SAR",((C$24*10)*$B30),IF(C$23="%w/w DM",(((C$24*10)*($B$24/100))*$B30),IF(C$23="kg/t SAR",(C$24*$B30),IF(C$23="kg/t DM",((C$24*($B$24/100))*$B30),IF(C$23="mg/kg SAR",((C$24*0.001)*$B30),IF(C$23="mg/kg DM",(((C$24*0.001)*($B$24/100))*$B30),0)))))) -> 134.2224 | D30: =(IF(D$23="%w/w SAR",((D$24*10)*$B30),IF(D$23="%w/w DM",(((D$24*10)*($B$24/100))*$B30),IF(D$23="kg/t SAR",(D$24*$B30),IF(D$23="kg/t DM",((D$24*($B$24/100))*$B30),IF(D$23="mg/kg SAR",((D$24*0.001)*$B30),IF(D$23="mg/kg DM",(((D$24*0.001)*($B$24/100))*$B30),"0")))))))*2.291 -> 78.797777 | E30: =(IF(E$23="%w/w SAR",((E$24*10)*$B30),IF(E$23="%w/w DM",(((E$24*10)*($B$24/100))*$B30),IF(E$23="kg/t SAR",(E$24*$B30),IF(E$23="kg/t DM",((E$24*($B$24/100))*$B30),IF(E$23="mg/kg SAR",((E$24*0.001)*$B30),IF(E$23="mg/kg DM",(((E$24*0.001)*($B$24/100))*$B30),"0")))))))*1.205 -> 9.0640666 | F30: =(IF(F$23="%w/w SAR",((F$24*10)*$B30),IF(F$23="%w/w DM",(((F$24*10)*($B$24/100))*$B30),IF(F$23="kg/t SAR",(F$24*$B30),IF(F$23="kg/t DM",((F$24*($B$24/100))*$B30),IF(F$23="mg/kg SAR",((F$24*0.001)*$B30),IF(F$23="mg/kg DM",(((F$24*0.001)*($B$24/100))*$B30),"0")))))))*1.658 -> 86.234536 | G30: =IF(G$23="%w/w SAR",((G$24*10)*$B30),IF(G$23="%w/w DM",(((G$24*10)*($B$24/100))*$B30),IF(G$23="kg/t SAR",(G$24*$B30),IF(G$23="kg/t DM",((G$24*($B$24/100))*$B30),IF(G$23="mg/kg SAR",((G$24*0.001)*$B30),IF(G$23="mg/kg DM",(((G$24*0.001)*($B$24/100))*$B30),0)))))) -> 1.0178532 | H30: =IF(H$23="%w/w SAR",((H$24*10)*$B30),IF(H$23="%w/w DM",(((H$24*10)*($B$24/100))*$B30),IF(H$23="kg/t SAR",(H$24*$B30),IF(H$23="kg/t DM",((H$24*($B$24/100))*$B30),IF(H$23="mg/kg SAR",((H$24*0.001)*$B30),IF(H$23="mg/kg DM",(((H$24*0.001)*($B$24/100))*$B30),0)))))) -> 6.375564 | I30: =IF(I$23="%w/w SAR",((I$24*10)*$B30),IF(I$23="%w/w DM",(((I$24*10)*($B$24/100))*$B30),IF(I$23="kg/t SAR",(I$24*$B30),IF(I$23="kg/t DM",((I$24*($B$24/100))*$B30),IF(I$23="mg/kg SAR",((I$24*0.001)*$B30),IF(I$23="mg/kg DM",(((I$24*0.001)*($B$24/100))*$B30),0)))))) -> 0.8612604 | J30: =IF(J$23="%w/w SAR",((J$24*10)*$B30),IF(J$23="%w/w DM",(((J$24*10)*($B$24/100))*$B30),IF(J$23="kg/t SAR",(J$24*$B30),IF(J$23="kg/t DM",((J$24*($B$24/100))*$B30),IF(J$23="mg/kg SAR",((J$24*0.001)*$B30),IF(J$23="mg/kg DM",(((J$24*0.001)*($B$24/100))*$B30),0)))))) -> 0.03299634 | K30: =IF(K$23="%w/w SAR",((K$24*10)*$B30),IF(K$23="%w/w DM",(((K$24*10)*($B$24/100))*$B30),IF(K$23="kg/t SAR",(K$24*$B30),IF(K$23="kg/t DM",((K$24*($B$24/100))*$B30),IF(K$23="mg/kg SAR",((K$24*0.001)*$B30),IF(K$23="mg/kg DM",(((K$24*0.001)*($B$24/100))*$B30),0)))))) -> 0.00587223 | L30: =IF(L$23="%w/w SAR",((L$24*10)*$B30),IF(L$23="%w/w DM",(((L$24*10)*($B$24/100))*$B30),IF(L$23="kg/t SAR",(L$24*$B30),IF(L$23="kg/t DM",((L$24*($B$24/100))*$B30),IF(L$23="mg/kg SAR",((L$24*0.001)*$B30),IF(L$23="mg/kg DM",(((L$24*0.001)*($B$24/100))*$B30),0)))))) -> 0.5368896 | M30: =IF(M$23="%w/w SAR",((M$24*10)*$B30),IF(M$23="%w/w DM",(((M$24*10)*($B$24/100))*$B30),IF(M$23="kg/t SAR",(M$24*$B30),IF(M$23="kg/t DM",((M$24*($B$24/100))*$B30),IF(M$23="mg/kg SAR",((M$24*0.001)*$B30),IF(M$23="mg/kg DM",(((M$24*0.001)*($B$24/100))*$B30),0)))))) -> 0.3327597 | N30: =IF(N$23="%w/w SAR",((N$24*10)*$B30),IF(N$23="%w/w DM",(((N$24*10)*($B$24/100))*$B30),IF(N$23="kg/t SAR",(N$24*$B30),IF(N$23="kg/t DM",((N$24*($B$24/100))*$B30),IF(N$23="mg/kg SAR",((N$24*0.001)*$B30),IF(N$23="mg/kg DM",(((N$24*0.001)*($B$24/100))*$B30),0)))))) -> 2908.152 | ... P30: =IF(P$23="%w/w SAR",((P$24*10)*$B30),IF(P$23="%w/w DM",(((P$24*10)*($B$24/100))*$B30),IF(P$23="kg/t SAR",(P$24*$B30),IF(P$23="kg/t DM",((P$24*($B$24/100))*$B30),IF(P$23="mg/kg SAR",((P$24*0.001)*$B30),IF(P$23="mg/kg DM",(((P$24*0.001)*($B$24/100))*$B30),0)))))) -> 0 | Q30: =(IF(Q$23="%w/w SAR",((Q$24*10)*$B30),IF(Q$23="%w/w DM",(((Q$24*10)*($B$24/100))*$B30),IF(Q$23="kg/t SAR",(Q$24*$B30),IF(Q$23="kg/t DM",((Q$24*($B$24/100))*$B30),IF(Q$23="mg/kg SAR",((Q$24*0.001)*$B30),IF(Q$23="mg/kg DM",(((Q$24*0.001)*($B$24/100))*$B30),0)))))))*2.5 -> 328.56525 | R30: =IF(R$23="%w/w SAR",((R$24*10)*$B30),IF(R$23="%w/w DM",(((R$24*10)*($B$24/100))*$B30),IF(R$23="kg/t SAR",(R$24*$B30),IF(R$23="kg/t DM",((R$24*($B$24/100))*$B30),IF(R$23="mg/kg SAR",((R$24*0.001)*$B30),IF(R$23="mg/kg DM",(((R$24*0.001)*($B$24/100))*$B30),0)))))) -> 0 | S30: =IF(S$23="%w/w SAR",((S$24*10)*$B30),IF(S$23="%w/w DM",(((S$24*10)*($B$24/100))*$B30),IF(S$23="kg/t SAR",(S$24*$B30),IF(S$23="kg/t DM",((S$24*($B$24/100))*$B30),IF(S$23="mg/kg SAR",((S$24*0.001)*$B30),IF(S$23="mg/kg DM",(((S$24*0.001)*($B$24/100))*$B30),0)))))) -> 0.6934824 | T30: =IF(T$23="%w/w SAR",((T$24*10)*$B30),IF(T$23="%w/w DM",(((T$24*10)*($B$24/100))*$B30),IF(T$23="kg/t SAR",(T$24*$B30),IF(T$23="kg/t DM",((T$24*($B$24/100))*$B30),IF(T$23="mg/kg SAR",((T$24*0.001)*$B30),IF(T$23="mg/kg DM",(((T$24*0.001)*($B$24/100))*$B30),0)))))) -> 0 | U30: =IF(U$23="%w/w SAR",((U$24*10)*$B30),IF(U$23="%w/w DM",(((U$24*10)*($B$24/100))*$B30),IF(U$23="kg/t SAR",(U$24*$B30),IF(U$23="kg/t DM",((U$24*($B$24/100))*$B30),IF(U$23="mg/kg SAR",((U$24*0.001)*$B30),IF(U$23="mg/kg DM",(((U$24*0.001)*($B$24/100))*$B30),0)))))) -> 0 | V30: =IF($V$24="",0,IF($V$24>5000,"NOT OK","OK")) -> 0 | W30: =IF($W$24="",0,IF($W$24>4,"Not OK","OK")) -> 0
A31: =G8 -> 4144 | B31: 117 | C31: =IF(C$23="%w/w SAR",((C$24*10)*$B31),IF(C$23="%w/w DM",(((C$24*10)*($B$24/100))*$B31),IF(C$23="kg/t SAR",(C$24*$B31),IF(C$23="kg/t DM",((C$24*($B$24/100))*$B31),IF(C$23="mg/kg SAR",((C$24*0.001)*$B31),IF(C$23="mg/kg DM",(((C$24*0.001)*($B$24/100))*$B31),0)))))) -> 134.2224 | D31: =(IF(D$23="%w/w SAR",((D$24*10)*$B31),IF(D$23="%w/w DM",(((D$24*10)*($B$24/100))*$B31),IF(D$23="kg/t SAR",(D$24*$B31),IF(D$23="kg/t DM",((D$24*($B$24/100))*$B31),IF(D$23="mg/kg SAR",((D$24*0.001)*$B31),IF(D$23="mg/kg DM",(((D$24*0.001)*($B$24/100))*$B31),"0")))))))*2.291 -> 78.797777 | E31: =(IF(E$23="%w/w SAR",((E$24*10)*$B31),IF(E$23="%w/w DM",(((E$24*10)*($B$24/100))*$B31),IF(E$23="kg/t SAR",(E$24*$B31),IF(E$23="kg/t DM",((E$24*($B$24/100))*$B31),IF(E$23="mg/kg SAR",((E$24*0.001)*$B31),IF(E$23="mg/kg DM",(((E$24*0.001)*($B$24/100))*$B31),"0")))))))*1.205 -> 9.0640666 | F31: =(IF(F$23="%w/w SAR",((F$24*10)*$B31),IF(F$23="%w/w DM",(((F$24*10)*($B$24/100))*$B31),IF(F$23="kg/t SAR",(F$24*$B31),IF(F$23="kg/t DM",((F$24*($B$24/100))*$B31),IF(F$23="mg/kg SAR",((F$24*0.001)*$B31),IF(F$23="mg/kg DM",(((F$24*0.001)*($B$24/100))*$B31),"0")))))))*1.658 -> 86.234536 | G31: =IF(G$23="%w/w SAR",((G$24*10)*$B31),IF(G$23="%w/w DM",(((G$24*10)*($B$24/100))*$B31),IF(G$23="kg/t SAR",(G$24*$B31),IF(G$23="kg/t DM",((G$24*($B$24/100))*$B31),IF(G$23="mg/kg SAR",((G$24*0.001)*$B31),IF(G$23="mg/kg DM",(((G$24*0.001)*($B$24/100))*$B31),0)))))) -> 1.0178532 | H31: =IF(H$23="%w/w SAR",((H$24*10)*$B31),IF(H$23="%w/w DM",(((H$24*10)*($B$24/100))*$B31),IF(H$23="kg/t SAR",(H$24*$B31),IF(H$23="kg/t DM",((H$24*($B$24/100))*$B31),IF(H$23="mg/kg SAR",((H$24*0.001)*$B31),IF(H$23="mg/kg DM",(((H$24*0.001)*($B$24/100))*$B31),0)))))) -> 6.375564 | I31: =IF(I$23="%w/w SAR",((I$24*10)*$B31),IF(I$23="%w/w DM",(((I$24*10)*($B$24/100))*$B31),IF(I$23="kg/t SAR",(I$24*$B31),IF(I$23="kg/t DM",((I$24*($B$24/100))*$B31),IF(I$23="mg/kg SAR",((I$24*0.001)*$B31),IF(I$23="mg/kg DM",(((I$24*0.001)*($B$24/100))*$B31),0)))))) -> 0.8612604 | J31: =IF(J$23="%w/w SAR",((J$24*10)*$B31),IF(J$23="%w/w DM",(((J$24*10)*($B$24/100))*$B31),IF(J$23="kg/t SAR",(J$24*$B31),IF(J$23="kg/t DM",((J$24*($B$24/100))*$B31),IF(J$23="mg/kg SAR",((J$24*0.001)*$B31),IF(J$23="mg/kg DM",(((J$24*0.001)*($B$24/100))*$B31),0)))))) -> 0.03299634 | K31: =IF(K$23="%w/w SAR",((K$24*10)*$B31),IF(K$23="%w/w DM",(((K$24*10)*($B$24/100))*$B31),IF(K$23="kg/t SAR",(K$24*$B31),IF(K$23="kg/t DM",((K$24*($B$24/100))*$B31),IF(K$23="mg/kg SAR",((K$24*0.001)*$B31),IF(K$23="mg/kg DM",(((K$24*0.001)*($B$24/100))*$B31),0)))))) -> 0.00587223 | L31: =IF(L$23="%w/w SAR",((L$24*10)*$B31),IF(L$23="%w/w DM",(((L$24*10)*($B$24/100))*$B31),IF(L$23="kg/t SAR",(L$24*$B31),IF(L$23="kg/t DM",((L$24*($B$24/100))*$B31),IF(L$23="mg/kg SAR",((L$24*0.001)*$B31),IF(L$23="mg/kg DM",(((L$24*0.001)*($B$24/100))*$B31),0)))))) -> 0.5368896 | M31: =IF(M$23="%w/w SAR",((M$24*10)*$B31),IF(M$23="%w/w DM",(((M$24*10)*($B$24/100))*$B31),IF(M$23="kg/t SAR",(M$24*$B31),IF(M$23="kg/t DM",((M$24*($B$24/100))*$B31),IF(M$23="mg/kg SAR",((M$24*0.001)*$B31),IF(M$23="mg/kg DM",(((M$24*0.001)*($B$24/100))*$B31),0)))))) -> 0.3327597 | N31: =IF(N$23="%w/w SAR",((N$24*10)*$B31),IF(N$23="%w/w DM",(((N$24*10)*($B$24/100))*$B31),IF(N$23="kg/t SAR",(N$24*$B31),IF(N$23="kg/t DM",((N$24*($B$24/100))*$B31),IF(N$23="mg/kg SAR",((N$24*0.001)*$B31),IF(N$23="mg/kg DM",(((N$24*0.001)*($B$24/100))*$B31),0)))))) -> 2908.152 | ... P31: =IF(P$23="%w/w SAR",((P$24*10)*$B31),IF(P$23="%w/w DM",(((P$24*10)*($B$24/100))*$B31),IF(P$23="kg/t SAR",(P$24*$B31),IF(P$23="kg/t DM",((P$24*($B$24/100))*$B31),IF(P$23="mg/kg SAR",((P$24*0.001)*$B31),IF(P$23="mg/kg DM",(((P$24*0.001)*($B$24/100))*$B31),0)))))) -> 0 | Q31: =(IF(Q$23="%w/w SAR",((Q$24*10)*$B31),IF(Q$23="%w/w DM",(((Q$24*10)*($B$24/100))*$B31),IF(Q$23="kg/t SAR",(Q$24*$B31),IF(Q$23="kg/t DM",((Q$24*($B$24/100))*$B31),IF(Q$23="mg/kg SAR",((Q$24*0.001)*$B31),IF(Q$23="mg/kg DM",(((Q$24*0.001)*($B$24/100))*$B31),0)))))))*2.5 -> 328.56525 | R31: =IF(R$23="%w/w SAR",((R$24*10)*$B31),IF(R$23="%w/w DM",(((R$24*10)*($B$24/100))*$B31),IF(R$23="kg/t SAR",(R$24*$B31),IF(R$23="kg/t DM",((R$24*($B$24/100))*$B31),IF(R$23="mg/kg SAR",((R$24*0.001)*$B31),IF(R$23="mg/kg DM",(((R$24*0.001)*($B$24/100))*$B31),0)))))) -> 0 | S31: =IF(S$23="%w/w SAR",((S$24*10)*$B31),IF(S$23="%w/w DM",(((S$24*10)*($B$24/100))*$B31),IF(S$23="kg/t SAR",(S$24*$B31),IF(S$23="kg/t DM",((S$24*($B$24/100))*$B31),IF(S$23="mg/kg SAR",((S$24*0.001)*$B31),IF(S$23="mg/kg DM",(((S$24*0.001)*($B$24/100))*$B31),0)))))) -> 0.6934824 | T31: =IF(T$23="%w/w SAR",((T$24*10)*$B31),IF(T$23="%w/w DM",(((T$24*10)*($B$24/100))*$B31),IF(T$23="kg/t SAR",(T$24*$B31),IF(T$23="kg/t DM",((T$24*($B$24/100))*$B31),IF(T$23="mg/kg SAR",((T$24*0.001)*$B31),IF(T$23="mg/kg DM",(((T$24*0.001)*($B$24/100))*$B31),0)))))) -> 0 | U31: =IF(U$23="%w/w SAR",((U$24*10)*$B31),IF(U$23="%w/w DM",(((U$24*10)*($B$24/100))*$B31),IF(U$23="kg/t SAR",(U$24*$B31),IF(U$23="kg/t DM",((U$24*($B$24/100))*$B31),IF(U$23="mg/kg SAR",((U$24*0.001)*$B31),IF(U$23="mg/kg DM",(((U$24*0.001)*($B$24/100))*$B31),0)))))) -> 0 | V31: =IF($V$24="",0,IF($V$24>5000,"NOT OK","OK")) -> 0 | W31: =IF($W$24="",0,IF($W$24>4,"Not OK","OK")) -> 0
A32: =H8 -> 5867 | B32: 117 | C32: =IF(C$23="%w/w SAR",((C$24*10)*$B32),IF(C$23="%w/w DM",(((C$24*10)*($B$24/100))*$B32),IF(C$23="kg/t SAR",(C$24*$B32),IF(C$23="kg/t DM",((C$24*($B$24/100))*$B32),IF(C$23="mg/kg SAR",((C$24*0.001)*$B32),IF(C$23="mg/kg DM",(((C$24*0.001)*($B$24/100))*$B32),0)))))) -> 134.2224 | D32: =(IF(D$23="%w/w SAR",((D$24*10)*$B32),IF(D$23="%w/w DM",(((D$24*10)*($B$24/100))*$B32),IF(D$23="kg/t SAR",(D$24*$B32),IF(D$23="kg/t DM",((D$24*($B$24/100))*$B32),IF(D$23="mg/kg SAR",((D$24*0.001)*$B32),IF(D$23="mg/kg DM",(((D$24*0.001)*($B$24/100))*$B32),"0")))))))*2.291 -> 78.797777 | E32: =(IF(E$23="%w/w SAR",((E$24*10)*$B32),IF(E$23="%w/w DM",(((E$24*10)*($B$24/100))*$B32),IF(E$23="kg/t SAR",(E$24*$B32),IF(E$23="kg/t DM",((E$24*($B$24/100))*$B32),IF(E$23="mg/kg SAR",((E$24*0.001)*$B32),IF(E$23="mg/kg DM",(((E$24*0.001)*($B$24/100))*$B32),"0")))))))*1.205 -> 9.0640666 | F32: =(IF(F$23="%w/w SAR",((F$24*10)*$B32),IF(F$23="%w/w DM",(((F$24*10)*($B$24/100))*$B32),IF(F$23="kg/t SAR",(F$24*$B32),IF(F$23="kg/t DM",((F$24*($B$24/100))*$B32),IF(F$23="mg/kg SAR",((F$24*0.001)*$B32),IF(F$23="mg/kg DM",(((F$24*0.001)*($B$24/100))*$B32),"0")))))))*1.658 -> 86.234536 | G32: =IF(G$23="%w/w SAR",((G$24*10)*$B32),IF(G$23="%w/w DM",(((G$24*10)*($B$24/100))*$B32),IF(G$23="kg/t SAR",(G$24*$B32),IF(G$23="kg/t DM",((G$24*($B$24/100))*$B32),IF(G$23="mg/kg SAR",((G$24*0.001)*$B32),IF(G$23="mg/kg DM",(((G$24*0.001)*($B$24/100))*$B32),0)))))) -> 1.0178532 | H32: =IF(H$23="%w/w SAR",((H$24*10)*$B32),IF(H$23="%w/w DM",(((H$24*10)*($B$24/100))*$B32),IF(H$23="kg/t SAR",(H$24*$B32),IF(H$23="kg/t DM",((H$24*($B$24/100))*$B32),IF(H$23="mg/kg SAR",((H$24*0.001)*$B32),IF(H$23="mg/kg DM",(((H$24*0.001)*($B$24/100))*$B32),0)))))) -> 6.375564 | I32: =IF(I$23="%w/w SAR",((I$24*10)*$B32),IF(I$23="%w/w DM",(((I$24*10)*($B$24/100))*$B32),IF(I$23="kg/t SAR",(I$24*$B32),IF(I$23="kg/t DM",((I$24*($B$24/100))*$B32),IF(I$23="mg/kg SAR",((I$24*0.001)*$B32),IF(I$23="mg/kg DM",(((I$24*0.001)*($B$24/100))*$B32),0)))))) -> 0.8612604 | J32: =IF(J$23="%w/w SAR",((J$24*10)*$B32),IF(J$23="%w/w DM",(((J$24*10)*($B$24/100))*$B32),IF(J$23="kg/t SAR",(J$24*$B32),IF(J$23="kg/t DM",((J$24*($B$24/100))*$B32),IF(J$23="mg/kg SAR",((J$24*0.001)*$B32),IF(J$23="mg/kg DM",(((J$24*0.001)*($B$24/100))*$B32),0)))))) -> 0.03299634 | K32: =IF(K$23="%w/w SAR",((K$24*10)*$B32),IF(K$23="%w/w DM",(((K$24*10)*($B$24/100))*$B32),IF(K$23="kg/t SAR",(K$24*$B32),IF(K$23="kg/t DM",((K$24*($B$24/100))*$B32),IF(K$23="mg/kg SAR",((K$24*0.001)*$B32),IF(K$23="mg/kg DM",(((K$24*0.001)*($B$24/100))*$B32),0)))))) -> 0.00587223 | L32: =IF(L$23="%w/w SAR",((L$24*10)*$B32),IF(L$23="%w/w DM",(((L$24*10)*($B$24/100))*$B32),IF(L$23="kg/t SAR",(L$24*$B32),IF(L$23="kg/t DM",((L$24*($B$24/100))*$B32),IF(L$23="mg/kg SAR",((L$24*0.001)*$B32),IF(L$23="mg/kg DM",(((L$24*0.001)*($B$24/100))*$B32),0)))))) -> 0.5368896 | M32: =IF(M$23="%w/w SAR",((M$24*10)*$B32),IF(M$23="%w/w DM",(((M$24*10)*($B$24/100))*$B32),IF(M$23="kg/t SAR",(M$24*$B32),IF(M$23="kg/t DM",((M$24*($B$24/100))*$B32),IF(M$23="mg/kg SAR",((M$24*0.001)*$B32),IF(M$23="mg/kg DM",(((M$24*0.001)*($B$24/100))*$B32),0)))))) -> 0.3327597 | N32: =IF(N$23="%w/w SAR",((N$24*10)*$B32),IF(N$23="%w/w DM",(((N$24*10)*($B$24/100))*$B32),IF(N$23="kg/t SAR",(N$24*$B32),IF(N$23="kg/t DM",((N$24*($B$24/100))*$B32),IF(N$23="mg/kg SAR",((N$24*0.001)*$B32),IF(N$23="mg/kg DM",(((N$24*0.001)*($B$24/100))*$B32),0)))))) -> 2908.152 | ... P32: =IF(P$23="%w/w SAR",((P$24*10)*$B32),IF(P$23="%w/w DM",(((P$24*10)*($B$24/100))*$B32),IF(P$23="kg/t SAR",(P$24*$B32),IF(P$23="kg/t DM",((P$24*($B$24/100))*$B32),IF(P$23="mg/kg SAR",((P$24*0.001)*$B32),IF(P$23="mg/kg DM",(((P$24*0.001)*($B$24/100))*$B32),0)))))) -> 0 | Q32: =(IF(Q$23="%w/w SAR",((Q$24*10)*$B32),IF(Q$23="%w/w DM",(((Q$24*10)*($B$24/100))*$B32),IF(Q$23="kg/t SAR",(Q$24*$B32),IF(Q$23="kg/t DM",((Q$24*($B$24/100))*$B32),IF(Q$23="mg/kg SAR",((Q$24*0.001)*$B32),IF(Q$23="mg/kg DM",(((Q$24*0.001)*($B$24/100))*$B32),0)))))))*2.5 -> 328.56525 | R32: =IF(R$23="%w/w SAR",((R$24*10)*$B32),IF(R$23="%w/w DM",(((R$24*10)*($B$24/100))*$B32),IF(R$23="kg/t SAR",(R$24*$B32),IF(R$23="kg/t DM",((R$24*($B$24/100))*$B32),IF(R$23="mg/kg SAR",((R$24*0.001)*$B32),IF(R$23="mg/kg DM",(((R$24*0.001)*($B$24/100))*$B32),0)))))) -> 0 | S32: =IF(S$23="%w/w SAR",((S$24*10)*$B32),IF(S$23="%w/w DM",(((S$24*10)*($B$24/100))*$B32),IF(S$23="kg/t SAR",(S$24*$B32),IF(S$23="kg/t DM",((S$24*($B$24/100))*$B32),IF(S$23="mg/kg SAR",((S$24*0.001)*$B32),IF(S$23="mg/kg DM",(((S$24*0.001)*($B$24/100))*$B32),0)))))) -> 0.6934824 | T32: =IF(T$23="%w/w SAR",((T$24*10)*$B32),IF(T$23="%w/w DM",(((T$24*10)*($B$24/100))*$B32),IF(T$23="kg/t SAR",(T$24*$B32),IF(T$23="kg/t DM",((T$24*($B$24/100))*$B32),IF(T$23="mg/kg SAR",((T$24*0.001)*$B32),IF(T$23="mg/kg DM",(((T$24*0.001)*($B$24/100))*$B32),0)))))) -> 0 | U32: =IF(U$23="%w/w SAR",((U$24*10)*$B32),IF(U$23="%w/w DM",(((U$24*10)*($B$24/100))*$B32),IF(U$23="kg/t SAR",(U$24*$B32),IF(U$23="kg/t DM",((U$24*($B$24/100))*$B32),IF(U$23="mg/kg SAR",((U$24*0.001)*$B32),IF(U$23="mg/kg DM",(((U$24*0.001)*($B$24/100))*$B32),0)))))) -> 0 | V32: =IF($V$24="",0,IF($V$24>5000,"NOT OK","OK")) -> 0 | W32: =IF($W$24="",0,IF($W$24>4,"Not OK","OK")) -> 0
A33: =I8 -> 1808 | B33: 72 | C33: =IF(C$23="%w/w SAR",((C$24*10)*$B33),IF(C$23="%w/w DM",(((C$24*10)*($B$24/100))*$B33),IF(C$23="kg/t SAR",(C$24*$B33),IF(C$23="kg/t DM",((C$24*($B$24/100))*$B33),IF(C$23="mg/kg SAR",((C$24*0.001)*$B33),IF(C$23="mg/kg DM",(((C$24*0.001)*($B$24/100))*$B33),0)))))) -> 82.5984 | D33: =(IF(D$23="%w/w SAR",((D$24*10)*$B33),IF(D$23="%w/w DM",(((D$24*10)*($B$24/100))*$B33),IF(D$23="kg/t SAR",(D$24*$B33),IF(D$23="kg/t DM",((D$24*($B$24/100))*$B33),IF(D$23="mg/kg SAR",((D$24*0.001)*$B33),IF(D$23="mg/kg DM",(((D$24*0.001)*($B$24/100))*$B33),"0")))))))*2.291 -> 48.490939 | E33: =(IF(E$23="%w/w SAR",((E$24*10)*$B33),IF(E$23="%w/w DM",(((E$24*10)*($B$24/100))*$B33),IF(E$23="kg/t SAR",(E$24*$B33),IF(E$23="kg/t DM",((E$24*($B$24/100))*$B33),IF(E$23="mg/kg SAR",((E$24*0.001)*$B33),IF(E$23="mg/kg DM",(((E$24*0.001)*($B$24/100))*$B33),"0")))))))*1.205 -> 5.5778872 | F33: =(IF(F$23="%w/w SAR",((F$24*10)*$B33),IF(F$23="%w/w DM",(((F$24*10)*($B$24/100))*$B33),IF(F$23="kg/t SAR",(F$24*$B33),IF(F$23="kg/t DM",((F$24*($B$24/100))*$B33),IF(F$23="mg/kg SAR",((F$24*0.001)*$B33),IF(F$23="mg/kg DM",(((F$24*0.001)*($B$24/100))*$B33),"0")))))))*1.658 -> 53.067407 | G33: =IF(G$23="%w/w SAR",((G$24*10)*$B33),IF(G$23="%w/w DM",(((G$24*10)*($B$24/100))*$B33),IF(G$23="kg/t SAR",(G$24*$B33),IF(G$23="kg/t DM",((G$24*($B$24/100))*$B33),IF(G$23="mg/kg SAR",((G$24*0.001)*$B33),IF(G$23="mg/kg DM",(((G$24*0.001)*($B$24/100))*$B33),0)))))) -> 0.6263712 | H33: =IF(H$23="%w/w SAR",((H$24*10)*$B33),IF(H$23="%w/w DM",(((H$24*10)*($B$24/100))*$B33),IF(H$23="kg/t SAR",(H$24*$B33),IF(H$23="kg/t DM",((H$24*($B$24/100))*$B33),IF(H$23="mg/kg SAR",((H$24*0.001)*$B33),IF(H$23="mg/kg DM",(((H$24*0.001)*($B$24/100))*$B33),0)))))) -> 3.923424 | I33: =IF(I$23="%w/w SAR",((I$24*10)*$B33),IF(I$23="%w/w DM",(((I$24*10)*($B$24/100))*$B33),IF(I$23="kg/t SAR",(I$24*$B33),IF(I$23="kg/t DM",((I$24*($B$24/100))*$B33),IF(I$23="mg/kg SAR",((I$24*0.001)*$B33),IF(I$23="mg/kg DM",(((I$24*0.001)*($B$24/100))*$B33),0)))))) -> 0.5300064 | J33: =IF(J$23="%w/w SAR",((J$24*10)*$B33),IF(J$23="%w/w DM",(((J$24*10)*($B$24/100))*$B33),IF(J$23="kg/t SAR",(J$24*$B33),IF(J$23="kg/t DM",((J$24*($B$24/100))*$B33),IF(J$23="mg/kg SAR",((J$24*0.001)*$B33),IF(J$23="mg/kg DM",(((J$24*0.001)*($B$24/100))*$B33),0)))))) -> 0.02030544 | K33: =IF(K$23="%w/w SAR",((K$24*10)*$B33),IF(K$23="%w/w DM",(((K$24*10)*($B$24/100))*$B33),IF(K$23="kg/t SAR",(K$24*$B33),IF(K$23="kg/t DM",((K$24*($B$24/100))*$B33),IF(K$23="mg/kg SAR",((K$24*0.001)*$B33),IF(K$23="mg/kg DM",(((K$24*0.001)*($B$24/100))*$B33),0)))))) -> 0.00361368 | L33: =IF(L$23="%w/w SAR",((L$24*10)*$B33),IF(L$23="%w/w DM",(((L$24*10)*($B$24/100))*$B33),IF(L$23="kg/t SAR",(L$24*$B33),IF(L$23="kg/t DM",((L$24*($B$24/100))*$B33),IF(L$23="mg/kg SAR",((L$24*0.001)*$B33),IF(L$23="mg/kg DM",(((L$24*0.001)*($B$24/100))*$B33),0)))))) -> 0.3303936 | M33: =IF(M$23="%w/w SAR",((M$24*10)*$B33),IF(M$23="%w/w DM",(((M$24*10)*($B$24/100))*$B33),IF(M$23="kg/t SAR",(M$24*$B33),IF(M$23="kg/t DM",((M$24*($B$24/100))*$B33),IF(M$23="mg/kg SAR",((M$24*0.001)*$B33),IF(M$23="mg/kg DM",(((M$24*0.001)*($B$24/100))*$B33),0)))))) -> 0.2047752 | N33: =IF(N$23="%w/w SAR",((N$24*10)*$B33),IF(N$23="%w/w DM",(((N$24*10)*($B$24/100))*$B33),IF(N$23="kg/t SAR",(N$24*$B33),IF(N$23="kg/t DM",((N$24*($B$24/100))*$B33),IF(N$23="mg/kg SAR",((N$24*0.001)*$B33),IF(N$23="mg/kg DM",(((N$24*0.001)*($B$24/100))*$B33),0)))))) -> 1789.632 | ... P33: =IF(P$23="%w/w SAR",((P$24*10)*$B33),IF(P$23="%w/w DM",(((P$24*10)*($B$24/100))*$B33),IF(P$23="kg/t SAR",(P$24*$B33),IF(P$23="kg/t DM",((P$24*($B$24/100))*$B33),IF(P$23="mg/kg SAR",((P$24*0.001)*$B33),IF(P$23="mg/kg DM",(((P$24*0.001)*($B$24/100))*$B33),0)))))) -> 0 | Q33: =(IF(Q$23="%w/w SAR",((Q$24*10)*$B33),IF(Q$23="%w/w DM",(((Q$24*10)*($B$24/100))*$B33),IF(Q$23="kg/t SAR",(Q$24*$B33),IF(Q$23="kg/t DM",((Q$24*($B$24/100))*$B33),IF(Q$23="mg/kg SAR",((Q$24*0.001)*$B33),IF(Q$23="mg/kg DM",(((Q$24*0.001)*($B$24/100))*$B33),0)))))))*2.5 -> 202.194 | R33: =IF(R$23="%w/w SAR",((R$24*10)*$B33),IF(R$23="%w/w DM",(((R$24*10)*($B$24/100))*$B33),IF(R$23="kg/t SAR",(R$24*$B33),IF(R$23="kg/t DM",((R$24*($B$24/100))*$B33),IF(R$23="mg/kg SAR",((R$24*0.001)*$B33),IF(R$23="mg/kg DM",(((R$24*0.001)*($B$24/100))*$B33),0)))))) -> 0 | S33: =IF(S$23="%w/w SAR",((S$24*10)*$B33),IF(S$23="%w/w DM",(((S$24*10)*($B$24/100))*$B33),IF(S$23="kg/t SAR",(S$24*$B33),IF(S$23="kg/t DM",((S$24*($B$24/100))*$B33),IF(S$23="mg/kg SAR",((S$24*0.001)*$B33),IF(S$23="mg/kg DM",(((S$24*0.001)*($B$24/100))*$B33),0)))))) -> 0.4267584 | T33: =IF(T$23="%w/w SAR",((T$24*10)*$B33),IF(T$23="%w/w DM",(((T$24*10)*($B$24/100))*$B33),IF(T$23="kg/t SAR",(T$24*$B33),IF(T$23="kg/t DM",((T$24*($B$24/100))*$B33),IF(T$23="mg/kg SAR",((T$24*0.001)*$B33),IF(T$23="mg/kg DM",(((T$24*0.001)*($B$24/100))*$B33),0)))))) -> 0 | U33: =IF(U$23="%w/w SAR",((U$24*10)*$B33),IF(U$23="%w/w DM",(((U$24*10)*($B$24/100))*$B33),IF(U$23="kg/t SAR",(U$24*$B33),IF(U$23="kg/t DM",((U$24*($B$24/100))*$B33),IF(U$23="mg/kg SAR",((U$24*0.001)*$B33),IF(U$23="mg/kg DM",(((U$24*0.001)*($B$24/100))*$B33),0)))))) -> 0 | V33: =IF($V$24="",0,IF($V$24>5000,"NOT OK","OK")) -> 0 | W33: =IF($W$24="",0,IF($W$24>4,"Not OK","OK")) -> 0
A34: =J8 -> 16 | B34: 117 | C34: =IF(C$23="%w/w SAR",((C$24*10)*$B34),IF(C$23="%w/w DM",(((C$24*10)*($B$24/100))*$B34),IF(C$23="kg/t SAR",(C$24*$B34),IF(C$23="kg/t DM",((C$24*($B$24/100))*$B34),IF(C$23="mg/kg SAR",((C$24*0.001)*$B34),IF(C$23="mg/kg DM",(((C$24*0.001)*($B$24/100))*$B34),0)))))) -> 134.2224 | D34: =(IF(D$23="%w/w SAR",((D$24*10)*$B34),IF(D$23="%w/w DM",(((D$24*10)*($B$24/100))*$B34),IF(D$23="kg/t SAR",(D$24*$B34),IF(D$23="kg/t DM",((D$24*($B$24/100))*$B34),IF(D$23="mg/kg SAR",((D$24*0.001)*$B34),IF(D$23="mg/kg DM",(((D$24*0.001)*($B$24/100))*$B34),"0")))))))*2.291 -> 78.797777 | E34: =(IF(E$23="%w/w SAR",((E$24*10)*$B34),IF(E$23="%w/w DM",(((E$24*10)*($B$24/100))*$B34),IF(E$23="kg/t SAR",(E$24*$B34),IF(E$23="kg/t DM",((E$24*($B$24/100))*$B34),IF(E$23="mg/kg SAR",((E$24*0.001)*$B34),IF(E$23="mg/kg DM",(((E$24*0.001)*($B$24/100))*$B34),"0")))))))*1.205 -> 9.0640666 | F34: =(IF(F$23="%w/w SAR",((F$24*10)*$B34),IF(F$23="%w/w DM",(((F$24*10)*($B$24/100))*$B34),IF(F$23="kg/t SAR",(F$24*$B34),IF(F$23="kg/t DM",((F$24*($B$24/100))*$B34),IF(F$23="mg/kg SAR",((F$24*0.001)*$B34),IF(F$23="mg/kg DM",(((F$24*0.001)*($B$24/100))*$B34),"0")))))))*1.658 -> 86.234536 | G34: =IF(G$23="%w/w SAR",((G$24*10)*$B34),IF(G$23="%w/w DM",(((G$24*10)*($B$24/100))*$B34),IF(G$23="kg/t SAR",(G$24*$B34),IF(G$23="kg/t DM",((G$24*($B$24/100))*$B34),IF(G$23="mg/kg SAR",((G$24*0.001)*$B34),IF(G$23="mg/kg DM",(((G$24*0.001)*($B$24/100))*$B34),0)))))) -> 1.0178532 | H34: =IF(H$23="%w/w SAR",((H$24*10)*$B34),IF(H$23="%w/w DM",(((H$24*10)*($B$24/100))*$B34),IF(H$23="kg/t SAR",(H$24*$B34),IF(H$23="kg/t DM",((H$24*($B$24/100))*$B34),IF(H$23="mg/kg SAR",((H$24*0.001)*$B34),IF(H$23="mg/kg DM",(((H$24*0.001)*($B$24/100))*$B34),0)))))) -> 6.375564 | I34: =IF(I$23="%w/w SAR",((I$24*10)*$B34),IF(I$23="%w/w DM",(((I$24*10)*($B$24/100))*$B34),IF(I$23="kg/t SAR",(I$24*$B34),IF(I$23="kg/t DM",((I$24*($B$24/100))*$B34),IF(I$23="mg/kg SAR",((I$24*0.001)*$B34),IF(I$23="mg/kg DM",(((I$24*0.001)*($B$24/100))*$B34),0)))))) -> 0.8612604 | J34: =IF(J$23="%w/w SAR",((J$24*10)*$B34),IF(J$23="%w/w DM",(((J$24*10)*($B$24/100))*$B34),IF(J$23="kg/t SAR",(J$24*$B34),IF(J$23="kg/t DM",((J$24*($B$24/100))*$B34),IF(J$23="mg/kg SAR",((J$24*0.001)*$B34),IF(J$23="mg/kg DM",(((J$24*0.001)*($B$24/100))*$B34),0)))))) -> 0.03299634 | K34: =IF(K$23="%w/w SAR",((K$24*10)*$B34),IF(K$23="%w/w DM",(((K$24*10)*($B$24/100))*$B34),IF(K$23="kg/t SAR",(K$24*$B34),IF(K$23="kg/t DM",((K$24*($B$24/100))*$B34),IF(K$23="mg/kg SAR",((K$24*0.001)*$B34),IF(K$23="mg/kg DM",(((K$24*0.001)*($B$24/100))*$B34),0)))))) -> 0.00587223 | L34: =IF(L$23="%w/w SAR",((L$24*10)*$B34),IF(L$23="%w/w DM",(((L$24*10)*($B$24/100))*$B34),IF(L$23="kg/t SAR",(L$24*$B34),IF(L$23="kg/t DM",((L$24*($B$24/100))*$B34),IF(L$23="mg/kg SAR",((L$24*0.001)*$B34),IF(L$23="mg/kg DM",(((L$24*0.001)*($B$24/100))*$B34),0)))))) -> 0.5368896 | M34: =IF(M$23="%w/w SAR",((M$24*10)*$B34),IF(M$23="%w/w DM",(((M$24*10)*($B$24/100))*$B34),IF(M$23="kg/t SAR",(M$24*$B34),IF(M$23="kg/t DM",((M$24*($B$24/100))*$B34),IF(M$23="mg/kg SAR",((M$24*0.001)*$B34),IF(M$23="mg/kg DM",(((M$24*0.001)*($B$24/100))*$B34),0)))))) -> 0.3327597 | N34: =IF(N$23="%w/w SAR",((N$24*10)*$B34),IF(N$23="%w/w DM",(((N$24*10)*($B$24/100))*$B34),IF(N$23="kg/t SAR",(N$24*$B34),IF(N$23="kg/t DM",((N$24*($B$24/100))*$B34),IF(N$23="mg/kg SAR",((N$24*0.001)*$B34),IF(N$23="mg/kg DM",(((N$24*0.001)*($B$24/100))*$B34),0)))))) -> 2908.152 | ... P34: =IF(P$23="%w/w SAR",((P$24*10)*$B34),IF(P$23="%w/w DM",(((P$24*10)*($B$24/100))*$B34),IF(P$23="kg/t SAR",(P$24*$B34),IF(P$23="kg/t DM",((P$24*($B$24/100))*$B34),IF(P$23="mg/kg SAR",((P$24*0.001)*$B34),IF(P$23="mg/kg DM",(((P$24*0.001)*($B$24/100))*$B34),0)))))) -> 0 | Q34: =(IF(Q$23="%w/w SAR",((Q$24*10)*$B34),IF(Q$23="%w/w DM",(((Q$24*10)*($B$24/100))*$B34),IF(Q$23="kg/t SAR",(Q$24*$B34),IF(Q$23="kg/t DM",((Q$24*($B$24/100))*$B34),IF(Q$23="mg/kg SAR",((Q$24*0.001)*$B34),IF(Q$23="mg/kg DM",(((Q$24*0.001)*($B$24/100))*$B34),0)))))))*2.5 -> 328.56525 | R34: =IF(R$23="%w/w SAR",((R$24*10)*$B34),IF(R$23="%w/w DM",(((R$24*10)*($B$24/100))*$B34),IF(R$23="kg/t SAR",(R$24*$B34),IF(R$23="kg/t DM",((R$24*($B$24/100))*$B34),IF(R$23="mg/kg SAR",((R$24*0.001)*$B34),IF(R$23="mg/kg DM",(((R$24*0.001)*($B$24/100))*$B34),0)))))) -> 0 | S34: =IF(S$23="%w/w SAR",((S$24*10)*$B34),IF(S$23="%w/w DM",(((S$24*10)*($B$24/100))*$B34),IF(S$23="kg/t SAR",(S$24*$B34),IF(S$23="kg/t DM",((S$24*($B$24/100))*$B34),IF(S$23="mg/kg SAR",((S$24*0.001)*$B34),IF(S$23="mg/kg DM",(((S$24*0.001)*($B$24/100))*$B34),0)))))) -> 0.6934824 | T34: =IF(T$23="%w/w SAR",((T$24*10)*$B34),IF(T$23="%w/w DM",(((T$24*10)*($B$24/100))*$B34),IF(T$23="kg/t SAR",(T$24*$B34),IF(T$23="kg/t DM",((T$24*($B$24/100))*$B34),IF(T$23="mg/kg SAR",((T$24*0.001)*$B34),IF(T$23="mg/kg DM",(((T$24*0.001)*($B$24/100))*$B34),0)))))) -> 0 | U34: =IF(U$23="%w/w SAR",((U$24*10)*$B34),IF(U$23="%w/w DM",(((U$24*10)*($B$24/100))*$B34),IF(U$23="kg/t SAR",(U$24*$B34),IF(U$23="kg/t DM",((U$24*($B$24/100))*$B34),IF(U$23="mg/kg SAR",((U$24*0.001)*$B34),IF(U$23="mg/kg DM",(((U$24*0.001)*($B$24/100))*$B34),0)))))) -> 0 | V34: =IF($V$24="",0,IF($V$24>5000,"NOT OK","OK")) -> 0 | W34: =IF($W$24="",0,IF($W$24>4,"Not OK","OK")) -> 0
A35: =K8 -> 17 | B35: 117 | C35: =IF(C$23="%w/w SAR",((C$24*10)*$B35),IF(C$23="%w/w DM",(((C$24*10)*($B$24/100))*$B35),IF(C$23="kg/t SAR",(C$24*$B35),IF(C$23="kg/t DM",((C$24*($B$24/100))*$B35),IF(C$23="mg/kg SAR",((C$24*0.001)*$B35),IF(C$23="mg/kg DM",(((C$24*0.001)*($B$24/100))*$B35),0)))))) -> 134.2224 | D35: =(IF(D$23="%w/w SAR",((D$24*10)*$B35),IF(D$23="%w/w DM",(((D$24*10)*($B$24/100))*$B35),IF(D$23="kg/t SAR",(D$24*$B35),IF(D$23="kg/t DM",((D$24*($B$24/100))*$B35),IF(D$23="mg/kg SAR",((D$24*0.001)*$B35),IF(D$23="mg/kg DM",(((D$24*0.001)*($B$24/100))*$B35),"0")))))))*2.291 -> 78.797777 | E35: =(IF(E$23="%w/w SAR",((E$24*10)*$B35),IF(E$23="%w/w DM",(((E$24*10)*($B$24/100))*$B35),IF(E$23="kg/t SAR",(E$24*$B35),IF(E$23="kg/t DM",((E$24*($B$24/100))*$B35),IF(E$23="mg/kg SAR",((E$24*0.001)*$B35),IF(E$23="mg/kg DM",(((E$24*0.001)*($B$24/100))*$B35),"0")))))))*1.205 -> 9.0640666 | F35: =(IF(F$23="%w/w SAR",((F$24*10)*$B35),IF(F$23="%w/w DM",(((F$24*10)*($B$24/100))*$B35),IF(F$23="kg/t SAR",(F$24*$B35),IF(F$23="kg/t DM",((F$24*($B$24/100))*$B35),IF(F$23="mg/kg SAR",((F$24*0.001)*$B35),IF(F$23="mg/kg DM",(((F$24*0.001)*($B$24/100))*$B35),"0")))))))*1.658 -> 86.234536 | G35: =IF(G$23="%w/w SAR",((G$24*10)*$B35),IF(G$23="%w/w DM",(((G$24*10)*($B$24/100))*$B35),IF(G$23="kg/t SAR",(G$24*$B35),IF(G$23="kg/t DM",((G$24*($B$24/100))*$B35),IF(G$23="mg/kg SAR",((G$24*0.001)*$B35),IF(G$23="mg/kg DM",(((G$24*0.001)*($B$24/100))*$B35),0)))))) -> 1.0178532 | H35: =IF(H$23="%w/w SAR",((H$24*10)*$B35),IF(H$23="%w/w DM",(((H$24*10)*($B$24/100))*$B35),IF(H$23="kg/t SAR",(H$24*$B35),IF(H$23="kg/t DM",((H$24*($B$24/100))*$B35),IF(H$23="mg/kg SAR",((H$24*0.001)*$B35),IF(H$23="mg/kg DM",(((H$24*0.001)*($B$24/100))*$B35),0)))))) -> 6.375564 | I35: =IF(I$23="%w/w SAR",((I$24*10)*$B35),IF(I$23="%w/w DM",(((I$24*10)*($B$24/100))*$B35),IF(I$23="kg/t SAR",(I$24*$B35),IF(I$23="kg/t DM",((I$24*($B$24/100))*$B35),IF(I$23="mg/kg SAR",((I$24*0.001)*$B35),IF(I$23="mg/kg DM",(((I$24*0.001)*($B$24/100))*$B35),0)))))) -> 0.8612604 | J35: =IF(J$23="%w/w SAR",((J$24*10)*$B35),IF(J$23="%w/w DM",(((J$24*10)*($B$24/100))*$B35),IF(J$23="kg/t SAR",(J$24*$B35),IF(J$23="kg/t DM",((J$24*($B$24/100))*$B35),IF(J$23="mg/kg SAR",((J$24*0.001)*$B35),IF(J$23="mg/kg DM",(((J$24*0.001)*($B$24/100))*$B35),0)))))) -> 0.03299634 | K35: =IF(K$23="%w/w SAR",((K$24*10)*$B35),IF(K$23="%w/w DM",(((K$24*10)*($B$24/100))*$B35),IF(K$23="kg/t SAR",(K$24*$B35),IF(K$23="kg/t DM",((K$24*($B$24/100))*$B35),IF(K$23="mg/kg SAR",((K$24*0.001)*$B35),IF(K$23="mg/kg DM",(((K$24*0.001)*($B$24/100))*$B35),0)))))) -> 0.00587223 | L35: =IF(L$23="%w/w SAR",((L$24*10)*$B35),IF(L$23="%w/w DM",(((L$24*10)*($B$24/100))*$B35),IF(L$23="kg/t SAR",(L$24*$B35),IF(L$23="kg/t DM",((L$24*($B$24/100))*$B35),IF(L$23="mg/kg SAR",((L$24*0.001)*$B35),IF(L$23="mg/kg DM",(((L$24*0.001)*($B$24/100))*$B35),0)))))) -> 0.5368896 | M35: =IF(M$23="%w/w SAR",((M$24*10)*$B35),IF(M$23="%w/w DM",(((M$24*10)*($B$24/100))*$B35),IF(M$23="kg/t SAR",(M$24*$B35),IF(M$23="kg/t DM",((M$24*($B$24/100))*$B35),IF(M$23="mg/kg SAR",((M$24*0.001)*$B35),IF(M$23="mg/kg DM",(((M$24*0.001)*($B$24/100))*$B35),0)))))) -> 0.3327597 | N35: =IF(N$23="%w/w SAR",((N$24*10)*$B35),IF(N$23="%w/w DM",(((N$24*10)*($B$24/100))*$B35),IF(N$23="kg/t SAR",(N$24*$B35),IF(N$23="kg/t DM",((N$24*($B$24/100))*$B35),IF(N$23="mg/kg SAR",((N$24*0.001)*$B35),IF(N$23="mg/kg DM",(((N$24*0.001)*($B$24/100))*$B35),0)))))) -> 2908.152 | ... P35: =IF(P$23="%w/w SAR",((P$24*10)*$B35),IF(P$23="%w/w DM",(((P$24*10)*($B$24/100))*$B35),IF(P$23="kg/t SAR",(P$24*$B35),IF(P$23="kg/t DM",((P$24*($B$24/100))*$B35),IF(P$23="mg/kg SAR",((P$24*0.001)*$B35),IF(P$23="mg/kg DM",(((P$24*0.001)*($B$24/100))*$B35),0)))))) -> 0 | Q35: =(IF(Q$23="%w/w SAR",((Q$24*10)*$B35),IF(Q$23="%w/w DM",(((Q$24*10)*($B$24/100))*$B35),IF(Q$23="kg/t SAR",(Q$24*$B35),IF(Q$23="kg/t DM",((Q$24*($B$24/100))*$B35),IF(Q$23="mg/kg SAR",((Q$24*0.001)*$B35),IF(Q$23="mg/kg DM",(((Q$24*0.001)*($B$24/100))*$B35),0)))))))*2.5 -> 328.56525 | R35: =IF(R$23="%w/w SAR",((R$24*10)*$B35),IF(R$23="%w/w DM",(((R$24*10)*($B$24/100))*$B35),IF(R$23="kg/t SAR",(R$24*$B35),IF(R$23="kg/t DM",((R$24*($B$24/100))*$B35),IF(R$23="mg/kg SAR",((R$24*0.001)*$B35),IF(R$23="mg/kg DM",(((R$24*0.001)*($B$24/100))*$B35),0)))))) -> 0 | S35: =IF(S$23="%w/w SAR",((S$24*10)*$B35),IF(S$23="%w/w DM",(((S$24*10)*($B$24/100))*$B35),IF(S$23="kg/t SAR",(S$24*$B35),IF(S$23="kg/t DM",((S$24*($B$24/100))*$B35),IF(S$23="mg/kg SAR",((S$24*0.001)*$B35),IF(S$23="mg/kg DM",(((S$24*0.001)*($B$24/100))*$B35),0)))))) -> 0.6934824 | T35: =IF(T$23="%w/w SAR",((T$24*10)*$B35),IF(T$23="%w/w DM",(((T$24*10)*($B$24/100))*$B35),IF(T$23="kg/t SAR",(T$24*$B35),IF(T$23="kg/t DM",((T$24*($B$24/100))*$B35),IF(T$23="mg/kg SAR",((T$24*0.001)*$B35),IF(T$23="mg/kg DM",(((T$24*0.001)*($B$24/100))*$B35),0)))))) -> 0 | U35: =IF(U$23="%w/w SAR",((U$24*10)*$B35),IF(U$23="%w/w DM",(((U$24*10)*($B$24/100))*$B35),IF(U$23="kg/t SAR",(U$24*$B35),IF(U$23="kg/t DM",((U$24*($B$24/100))*$B35),IF(U$23="mg/kg SAR",((U$24*0.001)*$B35),IF(U$23="mg/kg DM",(((U$24*0.001)*($B$24/100))*$B35),0)))))) -> 0 | V35: =IF($V$24="",0,IF($V$24>5000,"NOT OK","OK")) -> 0 | W35: =IF($W$24="",0,IF($W$24>4,"Not OK","OK")) -> 0
A36: =L8 -> 18 | B36: 117 | C36: =IF(C$23="%w/w SAR",((C$24*10)*$B36),IF(C$23="%w/w DM",(((C$24*10)*($B$24/100))*$B36),IF(C$23="kg/t SAR",(C$24*$B36),IF(C$23="kg/t DM",((C$24*($B$24/100))*$B36),IF(C$23="mg/kg SAR",((C$24*0.001)*$B36),IF(C$23="mg/kg DM",(((C$24*0.001)*($B$24/100))*$B36),0)))))) -> 134.2224 | D36: =(IF(D$23="%w/w SAR",((D$24*10)*$B36),IF(D$23="%w/w DM",(((D$24*10)*($B$24/100))*$B36),IF(D$23="kg/t SAR",(D$24*$B36),IF(D$23="kg/t DM",((D$24*($B$24/100))*$B36),IF(D$23="mg/kg SAR",((D$24*0.001)*$B36),IF(D$23="mg/kg DM",(((D$24*0.001)*($B$24/100))*$B36),"0")))))))*2.291 -> 78.797777 | E36: =(IF(E$23="%w/w SAR",((E$24*10)*$B36),IF(E$23="%w/w DM",(((E$24*10)*($B$24/100))*$B36),IF(E$23="kg/t SAR",(E$24*$B36),IF(E$23="kg/t DM",((E$24*($B$24/100))*$B36),IF(E$23="mg/kg SAR",((E$24*0.001)*$B36),IF(E$23="mg/kg DM",(((E$24*0.001)*($B$24/100))*$B36),"0")))))))*1.205 -> 9.0640666 | F36: =(IF(F$23="%w/w SAR",((F$24*10)*$B36),IF(F$23="%w/w DM",(((F$24*10)*($B$24/100))*$B36),IF(F$23="kg/t SAR",(F$24*$B36),IF(F$23="kg/t DM",((F$24*($B$24/100))*$B36),IF(F$23="mg/kg SAR",((F$24*0.001)*$B36),IF(F$23="mg/kg DM",(((F$24*0.001)*($B$24/100))*$B36),"0")))))))*1.658 -> 86.234536 | G36: =IF(G$23="%w/w SAR",((G$24*10)*$B36),IF(G$23="%w/w DM",(((G$24*10)*($B$24/100))*$B36),IF(G$23="kg/t SAR",(G$24*$B36),IF(G$23="kg/t DM",((G$24*($B$24/100))*$B36),IF(G$23="mg/kg SAR",((G$24*0.001)*$B36),IF(G$23="mg/kg DM",(((G$24*0.001)*($B$24/100))*$B36),0)))))) -> 1.0178532 | H36: =IF(H$23="%w/w SAR",((H$24*10)*$B36),IF(H$23="%w/w DM",(((H$24*10)*($B$24/100))*$B36),IF(H$23="kg/t SAR",(H$24*$B36),IF(H$23="kg/t DM",((H$24*($B$24/100))*$B36),IF(H$23="mg/kg SAR",((H$24*0.001)*$B36),IF(H$23="mg/kg DM",(((H$24*0.001)*($B$24/100))*$B36),0)))))) -> 6.375564 | I36: =IF(I$23="%w/w SAR",((I$24*10)*$B36),IF(I$23="%w/w DM",(((I$24*10)*($B$24/100))*$B36),IF(I$23="kg/t SAR",(I$24*$B36),IF(I$23="kg/t DM",((I$24*($B$24/100))*$B36),IF(I$23="mg/kg SAR",((I$24*0.001)*$B36),IF(I$23="mg/kg DM",(((I$24*0.001)*($B$24/100))*$B36),0)))))) -> 0.8612604 | J36: =IF(J$23="%w/w SAR",((J$24*10)*$B36),IF(J$23="%w/w DM",(((J$24*10)*($B$24/100))*$B36),IF(J$23="kg/t SAR",(J$24*$B36),IF(J$23="kg/t DM",((J$24*($B$24/100))*$B36),IF(J$23="mg/kg SAR",((J$24*0.001)*$B36),IF(J$23="mg/kg DM",(((J$24*0.001)*($B$24/100))*$B36),0)))))) -> 0.03299634 | K36: =IF(K$23="%w/w SAR",((K$24*10)*$B36),IF(K$23="%w/w DM",(((K$24*10)*($B$24/100))*$B36),IF(K$23="kg/t SAR",(K$24*$B36),IF(K$23="kg/t DM",((K$24*($B$24/100))*$B36),IF(K$23="mg/kg SAR",((K$24*0.001)*$B36),IF(K$23="mg/kg DM",(((K$24*0.001)*($B$24/100))*$B36),0)))))) -> 0.00587223 | L36: =IF(L$23="%w/w SAR",((L$24*10)*$B36),IF(L$23="%w/w DM",(((L$24*10)*($B$24/100))*$B36),IF(L$23="kg/t SAR",(L$24*$B36),IF(L$23="kg/t DM",((L$24*($B$24/100))*$B36),IF(L$23="mg/kg SAR",((L$24*0.001)*$B36),IF(L$23="mg/kg DM",(((L$24*0.001)*($B$24/100))*$B36),0)))))) -> 0.5368896 | M36: =IF(M$23="%w/w SAR",((M$24*10)*$B36),IF(M$23="%w/w DM",(((M$24*10)*($B$24/100))*$B36),IF(M$23="kg/t SAR",(M$24*$B36),IF(M$23="kg/t DM",((M$24*($B$24/100))*$B36),IF(M$23="mg/kg SAR",((M$24*0.001)*$B36),IF(M$23="mg/kg DM",(((M$24*0.001)*($B$24/100))*$B36),0)))))) -> 0.3327597 | N36: =IF(N$23="%w/w SAR",((N$24*10)*$B36),IF(N$23="%w/w DM",(((N$24*10)*($B$24/100))*$B36),IF(N$23="kg/t SAR",(N$24*$B36),IF(N$23="kg/t DM",((N$24*($B$24/100))*$B36),IF(N$23="mg/kg SAR",((N$24*0.001)*$B36),IF(N$23="mg/kg DM",(((N$24*0.001)*($B$24/100))*$B36),0)))))) -> 2908.152 | ... P36: =IF(P$23="%w/w SAR",((P$24*10)*$B36),IF(P$23="%w/w DM",(((P$24*10)*($B$24/100))*$B36),IF(P$23="kg/t SAR",(P$24*$B36),IF(P$23="kg/t DM",((P$24*($B$24/100))*$B36),IF(P$23="mg/kg SAR",((P$24*0.001)*$B36),IF(P$23="mg/kg DM",(((P$24*0.001)*($B$24/100))*$B36),0)))))) -> 0 | Q36: =(IF(Q$23="%w/w SAR",((Q$24*10)*$B36),IF(Q$23="%w/w DM",(((Q$24*10)*($B$24/100))*$B36),IF(Q$23="kg/t SAR",(Q$24*$B36),IF(Q$23="kg/t DM",((Q$24*($B$24/100))*$B36),IF(Q$23="mg/kg SAR",((Q$24*0.001)*$B36),IF(Q$23="mg/kg DM",(((Q$24*0.001)*($B$24/100))*$B36),0)))))))*2.5 -> 328.56525 | R36: =IF(R$23="%w/w SAR",((R$24*10)*$B36),IF(R$23="%w/w DM",(((R$24*10)*($B$24/100))*$B36),IF(R$23="kg/t SAR",(R$24*$B36),IF(R$23="kg/t DM",((R$24*($B$24/100))*$B36),IF(R$23="mg/kg SAR",((R$24*0.001)*$B36),IF(R$23="mg/kg DM",(((R$24*0.001)*($B$24/100))*$B36),0)))))) -> 0 | S36: =IF(S$23="%w/w SAR",((S$24*10)*$B36),IF(S$23="%w/w DM",(((S$24*10)*($B$24/100))*$B36),IF(S$23="kg/t SAR",(S$24*$B36),IF(S$23="kg/t DM",((S$24*($B$24/100))*$B36),IF(S$23="mg/kg SAR",((S$24*0.001)*$B36),IF(S$23="mg/kg DM",(((S$24*0.001)*($B$24/100))*$B36),0)))))) -> 0.6934824 | T36: =IF(T$23="%w/w SAR",((T$24*10)*$B36),IF(T$23="%w/w DM",(((T$24*10)*($B$24/100))*$B36),IF(T$23="kg/t SAR",(T$24*$B36),IF(T$23="kg/t DM",((T$24*($B$24/100))*$B36),IF(T$23="mg/kg SAR",((T$24*0.001)*$B36),IF(T$23="mg/kg DM",(((T$24*0.001)*($B$24/100))*$B36),0)))))) -> 0 | U36: =IF(U$23="%w/w SAR",((U$24*10)*$B36),IF(U$23="%w/w DM",(((U$24*10)*($B$24/100))*$B36),IF(U$23="kg/t SAR",(U$24*$B36),IF(U$23="kg/t DM",((U$24*($B$24/100))*$B36),IF(U$23="mg/kg SAR",((U$24*0.001)*$B36),IF(U$23="mg/kg DM",(((U$24*0.001)*($B$24/100))*$B36),0)))))) -> 0 | V36: =IF($V$24="",0,IF($V$24>5000,"NOT OK","OK")) -> 0 | W36: =IF($W$24="",0,IF($W$24>4,"Not OK","OK")) -> 0
A37: =M8 -> 24 | B37: 117 | C37: =IF(C$23="%w/w SAR",((C$24*10)*$B37),IF(C$23="%w/w DM",(((C$24*10)*($B$24/100))*$B37),IF(C$23="kg/t SAR",(C$24*$B37),IF(C$23="kg/t DM",((C$24*($B$24/100))*$B37),IF(C$23="mg/kg SAR",((C$24*0.001)*$B37),IF(C$23="mg/kg DM",(((C$24*0.001)*($B$24/100))*$B37),0)))))) -> 134.2224 | D37: =(IF(D$23="%w/w SAR",((D$24*10)*$B37),IF(D$23="%w/w DM",(((D$24*10)*($B$24/100))*$B37),IF(D$23="kg/t SAR",(D$24*$B37),IF(D$23="kg/t DM",((D$24*($B$24/100))*$B37),IF(D$23="mg/kg SAR",((D$24*0.001)*$B37),IF(D$23="mg/kg DM",(((D$24*0.001)*($B$24/100))*$B37),"0")))))))*2.291 -> 78.797777 | E37: =(IF(E$23="%w/w SAR",((E$24*10)*$B37),IF(E$23="%w/w DM",(((E$24*10)*($B$24/100))*$B37),IF(E$23="kg/t SAR",(E$24*$B37),IF(E$23="kg/t DM",((E$24*($B$24/100))*$B37),IF(E$23="mg/kg SAR",((E$24*0.001)*$B37),IF(E$23="mg/kg DM",(((E$24*0.001)*($B$24/100))*$B37),"0")))))))*1.205 -> 9.0640666 | F37: =(IF(F$23="%w/w SAR",((F$24*10)*$B37),IF(F$23="%w/w DM",(((F$24*10)*($B$24/100))*$B37),IF(F$23="kg/t SAR",(F$24*$B37),IF(F$23="kg/t DM",((F$24*($B$24/100))*$B37),IF(F$23="mg/kg SAR",((F$24*0.001)*$B37),IF(F$23="mg/kg DM",(((F$24*0.001)*($B$24/100))*$B37),"0")))))))*1.658 -> 86.234536 | G37: =IF(G$23="%w/w SAR",((G$24*10)*$B37),IF(G$23="%w/w DM",(((G$24*10)*($B$24/100))*$B37),IF(G$23="kg/t SAR",(G$24*$B37),IF(G$23="kg/t DM",((G$24*($B$24/100))*$B37),IF(G$23="mg/kg SAR",((G$24*0.001)*$B37),IF(G$23="mg/kg DM",(((G$24*0.001)*($B$24/100))*$B37),0)))))) -> 1.0178532 | H37: =IF(H$23="%w/w SAR",((H$24*10)*$B37),IF(H$23="%w/w DM",(((H$24*10)*($B$24/100))*$B37),IF(H$23="kg/t SAR",(H$24*$B37),IF(H$23="kg/t DM",((H$24*($B$24/100))*$B37),IF(H$23="mg/kg SAR",((H$24*0.001)*$B37),IF(H$23="mg/kg DM",(((H$24*0.001)*($B$24/100))*$B37),0)))))) -> 6.375564 | I37: =IF(I$23="%w/w SAR",((I$24*10)*$B37),IF(I$23="%w/w DM",(((I$24*10)*($B$24/100))*$B37),IF(I$23="kg/t SAR",(I$24*$B37),IF(I$23="kg/t DM",((I$24*($B$24/100))*$B37),IF(I$23="mg/kg SAR",((I$24*0.001)*$B37),IF(I$23="mg/kg DM",(((I$24*0.001)*($B$24/100))*$B37),0)))))) -> 0.8612604 | J37: =IF(J$23="%w/w SAR",((J$24*10)*$B37),IF(J$23="%w/w DM",(((J$24*10)*($B$24/100))*$B37),IF(J$23="kg/t SAR",(J$24*$B37),IF(J$23="kg/t DM",((J$24*($B$24/100))*$B37),IF(J$23="mg/kg SAR",((J$24*0.001)*$B37),IF(J$23="mg/kg DM",(((J$24*0.001)*($B$24/100))*$B37),0)))))) -> 0.03299634 | K37: =IF(K$23="%w/w SAR",((K$24*10)*$B37),IF(K$23="%w/w DM",(((K$24*10)*($B$24/100))*$B37),IF(K$23="kg/t SAR",(K$24*$B37),IF(K$23="kg/t DM",((K$24*($B$24/100))*$B37),IF(K$23="mg/kg SAR",((K$24*0.001)*$B37),IF(K$23="mg/kg DM",(((K$24*0.001)*($B$24/100))*$B37),0)))))) -> 0.00587223 | L37: =IF(L$23="%w/w SAR",((L$24*10)*$B37),IF(L$23="%w/w DM",(((L$24*10)*($B$24/100))*$B37),IF(L$23="kg/t SAR",(L$24*$B37),IF(L$23="kg/t DM",((L$24*($B$24/100))*$B37),IF(L$23="mg/kg SAR",((L$24*0.001)*$B37),IF(L$23="mg/kg DM",(((L$24*0.001)*($B$24/100))*$B37),0)))))) -> 0.5368896 | M37: =IF(M$23="%w/w SAR",((M$24*10)*$B37),IF(M$23="%w/w DM",(((M$24*10)*($B$24/100))*$B37),IF(M$23="kg/t SAR",(M$24*$B37),IF(M$23="kg/t DM",((M$24*($B$24/100))*$B37),IF(M$23="mg/kg SAR",((M$24*0.001)*$B37),IF(M$23="mg/kg DM",(((M$24*0.001)*($B$24/100))*$B37),0)))))) -> 0.3327597 | N37: =IF(N$23="%w/w SAR",((N$24*10)*$B37),IF(N$23="%w/w DM",(((N$24*10)*($B$24/100))*$B37),IF(N$23="kg/t SAR",(N$24*$B37),IF(N$23="kg/t DM",((N$24*($B$24/100))*$B37),IF(N$23="mg/kg SAR",((N$24*0.001)*$B37),IF(N$23="mg/kg DM",(((N$24*0.001)*($B$24/100))*$B37),0)))))) -> 2908.152 | ... P37: =IF(P$23="%w/w SAR",((P$24*10)*$B37),IF(P$23="%w/w DM",(((P$24*10)*($B$24/100))*$B37),IF(P$23="kg/t SAR",(P$24*$B37),IF(P$23="kg/t DM",((P$24*($B$24/100))*$B37),IF(P$23="mg/kg SAR",((P$24*0.001)*$B37),IF(P$23="mg/kg DM",(((P$24*0.001)*($B$24/100))*$B37),0)))))) -> 0 | Q37: =(IF(Q$23="%w/w SAR",((Q$24*10)*$B37),IF(Q$23="%w/w DM",(((Q$24*10)*($B$24/100))*$B37),IF(Q$23="kg/t SAR",(Q$24*$B37),IF(Q$23="kg/t DM",((Q$24*($B$24/100))*$B37),IF(Q$23="mg/kg SAR",((Q$24*0.001)*$B37),IF(Q$23="mg/kg DM",(((Q$24*0.001)*($B$24/100))*$B37),0)))))))*2.5 -> 328.56525 | R37: =IF(R$23="%w/w SAR",((R$24*10)*$B37),IF(R$23="%w/w DM",(((R$24*10)*($B$24/100))*$B37),IF(R$23="kg/t SAR",(R$24*$B37),IF(R$23="kg/t DM",((R$24*($B$24/100))*$B37),IF(R$23="mg/kg SAR",((R$24*0.001)*$B37),IF(R$23="mg/kg DM",(((R$24*0.001)*($B$24/100))*$B37),0)))))) -> 0 | S37: =IF(S$23="%w/w SAR",((S$24*10)*$B37),IF(S$23="%w/w DM",(((S$24*10)*($B$24/100))*$B37),IF(S$23="kg/t SAR",(S$24*$B37),IF(S$23="kg/t DM",((S$24*($B$24/100))*$B37),IF(S$23="mg/kg SAR",((S$24*0.001)*$B37),IF(S$23="mg/kg DM",(((S$24*0.001)*($B$24/100))*$B37),0)))))) -> 0.6934824 | T37: =IF(T$23="%w/w SAR",((T$24*10)*$B37),IF(T$23="%w/w DM",(((T$24*10)*($B$24/100))*$B37),IF(T$23="kg/t SAR",(T$24*$B37),IF(T$23="kg/t DM",((T$24*($B$24/100))*$B37),IF(T$23="mg/kg SAR",((T$24*0.001)*$B37),IF(T$23="mg/kg DM",(((T$24*0.001)*($B$24/100))*$B37),0)))))) -> 0 | U37: =IF(U$23="%w/w SAR",((U$24*10)*$B37),IF(U$23="%w/w DM",(((U$24*10)*($B$24/100))*$B37),IF(U$23="kg/t SAR",(U$24*$B37),IF(U$23="kg/t DM",((U$24*($B$24/100))*$B37),IF(U$23="mg/kg SAR",((U$24*0.001)*$B37),IF(U$23="mg/kg DM",(((U$24*0.001)*($B$24/100))*$B37),0)))))) -> 0 | V37: =IF($V$24="",0,IF($V$24>5000,"NOT OK","OK")) -> 0 | W37: =IF($W$24="",0,IF($W$24>4,"Not OK","OK")) -> 0
A38: =N8 -> 25 | B38: 117 | C38: =IF(C$23="%w/w SAR",((C$24*10)*$B38),IF(C$23="%w/w DM",(((C$24*10)*($B$24/100))*$B38),IF(C$23="kg/t SAR",(C$24*$B38),IF(C$23="kg/t DM",((C$24*($B$24/100))*$B38),IF(C$23="mg/kg SAR",((C$24*0.001)*$B38),IF(C$23="mg/kg DM",(((C$24*0.001)*($B$24/100))*$B38),0)))))) -> 134.2224 | D38: =(IF(D$23="%w/w SAR",((D$24*10)*$B38),IF(D$23="%w/w DM",(((D$24*10)*($B$24/100))*$B38),IF(D$23="kg/t SAR",(D$24*$B38),IF(D$23="kg/t DM",((D$24*($B$24/100))*$B38),IF(D$23="mg/kg SAR",((D$24*0.001)*$B38),IF(D$23="mg/kg DM",(((D$24*0.001)*($B$24/100))*$B38),"0")))))))*2.291 -> 78.797777 | E38: =(IF(E$23="%w/w SAR",((E$24*10)*$B38),IF(E$23="%w/w DM",(((E$24*10)*($B$24/100))*$B38),IF(E$23="kg/t SAR",(E$24*$B38),IF(E$23="kg/t DM",((E$24*($B$24/100))*$B38),IF(E$23="mg/kg SAR",((E$24*0.001)*$B38),IF(E$23="mg/kg DM",(((E$24*0.001)*($B$24/100))*$B38),"0")))))))*1.205 -> 9.0640666 | F38: =(IF(F$23="%w/w SAR",((F$24*10)*$B38),IF(F$23="%w/w DM",(((F$24*10)*($B$24/100))*$B38),IF(F$23="kg/t SAR",(F$24*$B38),IF(F$23="kg/t DM",((F$24*($B$24/100))*$B38),IF(F$23="mg/kg SAR",((F$24*0.001)*$B38),IF(F$23="mg/kg DM",(((F$24*0.001)*($B$24/100))*$B38),"0")))))))*1.658 -> 86.234536 | G38: =IF(G$23="%w/w SAR",((G$24*10)*$B38),IF(G$23="%w/w DM",(((G$24*10)*($B$24/100))*$B38),IF(G$23="kg/t SAR",(G$24*$B38),IF(G$23="kg/t DM",((G$24*($B$24/100))*$B38),IF(G$23="mg/kg SAR",((G$24*0.001)*$B38),IF(G$23="mg/kg DM",(((G$24*0.001)*($B$24/100))*$B38),0)))))) -> 1.0178532 | H38: =IF(H$23="%w/w SAR",((H$24*10)*$B38),IF(H$23="%w/w DM",(((H$24*10)*($B$24/100))*$B38),IF(H$23="kg/t SAR",(H$24*$B38),IF(H$23="kg/t DM",((H$24*($B$24/100))*$B38),IF(H$23="mg/kg SAR",((H$24*0.001)*$B38),IF(H$23="mg/kg DM",(((H$24*0.001)*($B$24/100))*$B38),0)))))) -> 6.375564 | I38: =IF(I$23="%w/w SAR",((I$24*10)*$B38),IF(I$23="%w/w DM",(((I$24*10)*($B$24/100))*$B38),IF(I$23="kg/t SAR",(I$24*$B38),IF(I$23="kg/t DM",((I$24*($B$24/100))*$B38),IF(I$23="mg/kg SAR",((I$24*0.001)*$B38),IF(I$23="mg/kg DM",(((I$24*0.001)*($B$24/100))*$B38),0)))))) -> 0.8612604 | J38: =IF(J$23="%w/w SAR",((J$24*10)*$B38),IF(J$23="%w/w DM",(((J$24*10)*($B$24/100))*$B38),IF(J$23="kg/t SAR",(J$24*$B38),IF(J$23="kg/t DM",((J$24*($B$24/100))*$B38),IF(J$23="mg/kg SAR",((J$24*0.001)*$B38),IF(J$23="mg/kg DM",(((J$24*0.001)*($B$24/100))*$B38),0)))))) -> 0.03299634 | K38: =IF(K$23="%w/w SAR",((K$24*10)*$B38),IF(K$23="%w/w DM",(((K$24*10)*($B$24/100))*$B38),IF(K$23="kg/t SAR",(K$24*$B38),IF(K$23="kg/t DM",((K$24*($B$24/100))*$B38),IF(K$23="mg/kg SAR",((K$24*0.001)*$B38),IF(K$23="mg/kg DM",(((K$24*0.001)*($B$24/100))*$B38),0)))))) -> 0.00587223 | L38: =IF(L$23="%w/w SAR",((L$24*10)*$B38),IF(L$23="%w/w DM",(((L$24*10)*($B$24/100))*$B38),IF(L$23="kg/t SAR",(L$24*$B38),IF(L$23="kg/t DM",((L$24*($B$24/100))*$B38),IF(L$23="mg/kg SAR",((L$24*0.001)*$B38),IF(L$23="mg/kg DM",(((L$24*0.001)*($B$24/100))*$B38),0)))))) -> 0.5368896 | M38: =IF(M$23="%w/w SAR",((M$24*10)*$B38),IF(M$23="%w/w DM",(((M$24*10)*($B$24/100))*$B38),IF(M$23="kg/t SAR",(M$24*$B38),IF(M$23="kg/t DM",((M$24*($B$24/100))*$B38),IF(M$23="mg/kg SAR",((M$24*0.001)*$B38),IF(M$23="mg/kg DM",(((M$24*0.001)*($B$24/100))*$B38),0)))))) -> 0.3327597 | N38: =IF(N$23="%w/w SAR",((N$24*10)*$B38),IF(N$23="%w/w DM",(((N$24*10)*($B$24/100))*$B38),IF(N$23="kg/t SAR",(N$24*$B38),IF(N$23="kg/t DM",((N$24*($B$24/100))*$B38),IF(N$23="mg/kg SAR",((N$24*0.001)*$B38),IF(N$23="mg/kg DM",(((N$24*0.001)*($B$24/100))*$B38),0)))))) -> 2908.152 | ... P38: =IF(P$23="%w/w SAR",((P$24*10)*$B38),IF(P$23="%w/w DM",(((P$24*10)*($B$24/100))*$B38),IF(P$23="kg/t SAR",(P$24*$B38),IF(P$23="kg/t DM",((P$24*($B$24/100))*$B38),IF(P$23="mg/kg SAR",((P$24*0.001)*$B38),IF(P$23="mg/kg DM",(((P$24*0.001)*($B$24/100))*$B38),0)))))) -> 0 | Q38: =(IF(Q$23="%w/w SAR",((Q$24*10)*$B38),IF(Q$23="%w/w DM",(((Q$24*10)*($B$24/100))*$B38),IF(Q$23="kg/t SAR",(Q$24*$B38),IF(Q$23="kg/t DM",((Q$24*($B$24/100))*$B38),IF(Q$23="mg/kg SAR",((Q$24*0.001)*$B38),IF(Q$23="mg/kg DM",(((Q$24*0.001)*($B$24/100))*$B38),0)))))))*2.5 -> 328.56525 | R38: =IF(R$23="%w/w SAR",((R$24*10)*$B38),IF(R$23="%w/w DM",(((R$24*10)*($B$24/100))*$B38),IF(R$23="kg/t SAR",(R$24*$B38),IF(R$23="kg/t DM",((R$24*($B$24/100))*$B38),IF(R$23="mg/kg SAR",((R$24*0.001)*$B38),IF(R$23="mg/kg DM",(((R$24*0.001)*($B$24/100))*$B38),0)))))) -> 0 | S38: =IF(S$23="%w/w SAR",((S$24*10)*$B38),IF(S$23="%w/w DM",(((S$24*10)*($B$24/100))*$B38),IF(S$23="kg/t SAR",(S$24*$B38),IF(S$23="kg/t DM",((S$24*($B$24/100))*$B38),IF(S$23="mg/kg SAR",((S$24*0.001)*$B38),IF(S$23="mg/kg DM",(((S$24*0.001)*($B$24/100))*$B38),0)))))) -> 0.6934824 | T38: =IF(T$23="%w/w SAR",((T$24*10)*$B38),IF(T$23="%w/w DM",(((T$24*10)*($B$24/100))*$B38),IF(T$23="kg/t SAR",(T$24*$B38),IF(T$23="kg/t DM",((T$24*($B$24/100))*$B38),IF(T$23="mg/kg SAR",((T$24*0.001)*$B38),IF(T$23="mg/kg DM",(((T$24*0.001)*($B$24/100))*$B38),0)))))) -> 0 | U38: =IF(U$23="%w/w SAR",((U$24*10)*$B38),IF(U$23="%w/w DM",(((U$24*10)*($B$24/100))*$B38),IF(U$23="kg/t SAR",(U$24*$B38),IF(U$23="kg/t DM",((U$24*($B$24/100))*$B38),IF(U$23="mg/kg SAR",((U$24*0.001)*$B38),IF(U$23="mg/kg DM",(((U$24*0.001)*($B$24/100))*$B38),0)))))) -> 0 | V38: =IF($V$24="",0,IF($V$24>5000,"NOT OK","OK")) -> 0 | W38: =IF($W$24="",0,IF($W$24>4,"Not OK","OK")) -> 0
A39: =O8 -> 26 | B39: 117 | C39: =IF(C$23="%w/w SAR",((C$24*10)*$B39),IF(C$23="%w/w DM",(((C$24*10)*($B$24/100))*$B39),IF(C$23="kg/t SAR",(C$24*$B39),IF(C$23="kg/t DM",((C$24*($B$24/100))*$B39),IF(C$23="mg/kg SAR",((C$24*0.001)*$B39),IF(C$23="mg/kg DM",(((C$24*0.001)*($B$24/100))*$B39),0)))))) -> 134.2224 | D39: =(IF(D$23="%w/w SAR",((D$24*10)*$B39),IF(D$23="%w/w DM",(((D$24*10)*($B$24/100))*$B39),IF(D$23="kg/t SAR",(D$24*$B39),IF(D$23="kg/t DM",((D$24*($B$24/100))*$B39),IF(D$23="mg/kg SAR",((D$24*0.001)*$B39),IF(D$23="mg/kg DM",(((D$24*0.001)*($B$24/100))*$B39),"0")))))))*2.291 -> 78.797777 | E39: =(IF(E$23="%w/w SAR",((E$24*10)*$B39),IF(E$23="%w/w DM",(((E$24*10)*($B$24/100))*$B39),IF(E$23="kg/t SAR",(E$24*$B39),IF(E$23="kg/t DM",((E$24*($B$24/100))*$B39),IF(E$23="mg/kg SAR",((E$24*0.001)*$B39),IF(E$23="mg/kg DM",(((E$24*0.001)*($B$24/100))*$B39),"0")))))))*1.205 -> 9.0640666 | F39: =(IF(F$23="%w/w SAR",((F$24*10)*$B39),IF(F$23="%w/w DM",(((F$24*10)*($B$24/100))*$B39),IF(F$23="kg/t SAR",(F$24*$B39),IF(F$23="kg/t DM",((F$24*($B$24/100))*$B39),IF(F$23="mg/kg SAR",((F$24*0.001)*$B39),IF(F$23="mg/kg DM",(((F$24*0.001)*($B$24/100))*$B39),"0")))))))*1.658 -> 86.234536 | G39: =IF(G$23="%w/w SAR",((G$24*10)*$B39),IF(G$23="%w/w DM",(((G$24*10)*($B$24/100))*$B39),IF(G$23="kg/t SAR",(G$24*$B39),IF(G$23="kg/t DM",((G$24*($B$24/100))*$B39),IF(G$23="mg/kg SAR",((G$24*0.001)*$B39),IF(G$23="mg/kg DM",(((G$24*0.001)*($B$24/100))*$B39),0)))))) -> 1.0178532 | H39: =IF(H$23="%w/w SAR",((H$24*10)*$B39),IF(H$23="%w/w DM",(((H$24*10)*($B$24/100))*$B39),IF(H$23="kg/t SAR",(H$24*$B39),IF(H$23="kg/t DM",((H$24*($B$24/100))*$B39),IF(H$23="mg/kg SAR",((H$24*0.001)*$B39),IF(H$23="mg/kg DM",(((H$24*0.001)*($B$24/100))*$B39),0)))))) -> 6.375564 | I39: =IF(I$23="%w/w SAR",((I$24*10)*$B39),IF(I$23="%w/w DM",(((I$24*10)*($B$24/100))*$B39),IF(I$23="kg/t SAR",(I$24*$B39),IF(I$23="kg/t DM",((I$24*($B$24/100))*$B39),IF(I$23="mg/kg SAR",((I$24*0.001)*$B39),IF(I$23="mg/kg DM",(((I$24*0.001)*($B$24/100))*$B39),0)))))) -> 0.8612604 | J39: =IF(J$23="%w/w SAR",((J$24*10)*$B39),IF(J$23="%w/w DM",(((J$24*10)*($B$24/100))*$B39),IF(J$23="kg/t SAR",(J$24*$B39),IF(J$23="kg/t DM",((J$24*($B$24/100))*$B39),IF(J$23="mg/kg SAR",((J$24*0.001)*$B39),IF(J$23="mg/kg DM",(((J$24*0.001)*($B$24/100))*$B39),0)))))) -> 0.03299634 | K39: =IF(K$23="%w/w SAR",((K$24*10)*$B39),IF(K$23="%w/w DM",(((K$24*10)*($B$24/100))*$B39),IF(K$23="kg/t SAR",(K$24*$B39),IF(K$23="kg/t DM",((K$24*($B$24/100))*$B39),IF(K$23="mg/kg SAR",((K$24*0.001)*$B39),IF(K$23="mg/kg DM",(((K$24*0.001)*($B$24/100))*$B39),0)))))) -> 0.00587223 | L39: =IF(L$23="%w/w SAR",((L$24*10)*$B39),IF(L$23="%w/w DM",(((L$24*10)*($B$24/100))*$B39),IF(L$23="kg/t SAR",(L$24*$B39),IF(L$23="kg/t DM",((L$24*($B$24/100))*$B39),IF(L$23="mg/kg SAR",((L$24*0.001)*$B39),IF(L$23="mg/kg DM",(((L$24*0.001)*($B$24/100))*$B39),0)))))) -> 0.5368896 | M39: =IF(M$23="%w/w SAR",((M$24*10)*$B39),IF(M$23="%w/w DM",(((M$24*10)*($B$24/100))*$B39),IF(M$23="kg/t SAR",(M$24*$B39),IF(M$23="kg/t DM",((M$24*($B$24/100))*$B39),IF(M$23="mg/kg SAR",((M$24*0.001)*$B39),IF(M$23="mg/kg DM",(((M$24*0.001)*($B$24/100))*$B39),0)))))) -> 0.3327597 | N39: =IF(N$23="%w/w SAR",((N$24*10)*$B39),IF(N$23="%w/w DM",(((N$24*10)*($B$24/100))*$B39),IF(N$23="kg/t SAR",(N$24*$B39),IF(N$23="kg/t DM",((N$24*($B$24/100))*$B39),IF(N$23="mg/kg SAR",((N$24*0.001)*$B39),IF(N$23="mg/kg DM",(((N$24*0.001)*($B$24/100))*$B39),0)))))) -> 2908.152 | ... P39: =IF(P$23="%w/w SAR",((P$24*10)*$B39),IF(P$23="%w/w DM",(((P$24*10)*($B$24/100))*$B39),IF(P$23="kg/t SAR",(P$24*$B39),IF(P$23="kg/t DM",((P$24*($B$24/100))*$B39),IF(P$23="mg/kg SAR",((P$24*0.001)*$B39),IF(P$23="mg/kg DM",(((P$24*0.001)*($B$24/100))*$B39),0)))))) -> 0 | Q39: =(IF(Q$23="%w/w SAR",((Q$24*10)*$B39),IF(Q$23="%w/w DM",(((Q$24*10)*($B$24/100))*$B39),IF(Q$23="kg/t SAR",(Q$24*$B39),IF(Q$23="kg/t DM",((Q$24*($B$24/100))*$B39),IF(Q$23="mg/kg SAR",((Q$24*0.001)*$B39),IF(Q$23="mg/kg DM",(((Q$24*0.001)*($B$24/100))*$B39),0)))))))*2.5 -> 328.56525 | R39: =IF(R$23="%w/w SAR",((R$24*10)*$B39),IF(R$23="%w/w DM",(((R$24*10)*($B$24/100))*$B39),IF(R$23="kg/t SAR",(R$24*$B39),IF(R$23="kg/t DM",((R$24*($B$24/100))*$B39),IF(R$23="mg/kg SAR",((R$24*0.001)*$B39),IF(R$23="mg/kg DM",(((R$24*0.001)*($B$24/100))*$B39),0)))))) -> 0 | S39: =IF(S$23="%w/w SAR",((S$24*10)*$B39),IF(S$23="%w/w DM",(((S$24*10)*($B$24/100))*$B39),IF(S$23="kg/t SAR",(S$24*$B39),IF(S$23="kg/t DM",((S$24*($B$24/100))*$B39),IF(S$23="mg/kg SAR",((S$24*0.001)*$B39),IF(S$23="mg/kg DM",(((S$24*0.001)*($B$24/100))*$B39),0)))))) -> 0.6934824 | T39: =IF(T$23="%w/w SAR",((T$24*10)*$B39),IF(T$23="%w/w DM",(((T$24*10)*($B$24/100))*$B39),IF(T$23="kg/t SAR",(T$24*$B39),IF(T$23="kg/t DM",((T$24*($B$24/100))*$B39),IF(T$23="mg/kg SAR",((T$24*0.001)*$B39),IF(T$23="mg/kg DM",(((T$24*0.001)*($B$24/100))*$B39),0)))))) -> 0 | U39: =IF(U$23="%w/w SAR",((U$24*10)*$B39),IF(U$23="%w/w DM",(((U$24*10)*($B$24/100))*$B39),IF(U$23="kg/t SAR",(U$24*$B39),IF(U$23="kg/t DM",((U$24*($B$24/100))*$B39),IF(U$23="mg/kg SAR",((U$24*0.001)*$B39),IF(U$23="mg/kg DM",(((U$24*0.001)*($B$24/100))*$B39),0)))))) -> 0 | V39: =IF($V$24="",0,IF($V$24>5000,"NOT OK","OK")) -> 0 | W39: =IF($W$24="",0,IF($W$24>4,"Not OK","OK")) -> 0
A40: =P8 -> 27 | B40: 117 | C40: =IF(C$23="%w/w SAR",((C$24*10)*$B40),IF(C$23="%w/w DM",(((C$24*10)*($B$24/100))*$B40),IF(C$23="kg/t SAR",(C$24*$B40),IF(C$23="kg/t DM",((C$24*($B$24/100))*$B40),IF(C$23="mg/kg SAR",((C$24*0.001)*$B40),IF(C$23="mg/kg DM",(((C$24*0.001)*($B$24/100))*$B40),0)))))) -> 134.2224 | D40: =(IF(D$23="%w/w SAR",((D$24*10)*$B40),IF(D$23="%w/w DM",(((D$24*10)*($B$24/100))*$B40),IF(D$23="kg/t SAR",(D$24*$B40),IF(D$23="kg/t DM",((D$24*($B$24/100))*$B40),IF(D$23="mg/kg SAR",((D$24*0.001)*$B40),IF(D$23="mg/kg DM",(((D$24*0.001)*($B$24/100))*$B40),"0")))))))*2.291 -> 78.797777 | E40: =(IF(E$23="%w/w SAR",((E$24*10)*$B40),IF(E$23="%w/w DM",(((E$24*10)*($B$24/100))*$B40),IF(E$23="kg/t SAR",(E$24*$B40),IF(E$23="kg/t DM",((E$24*($B$24/100))*$B40),IF(E$23="mg/kg SAR",((E$24*0.001)*$B40),IF(E$23="mg/kg DM",(((E$24*0.001)*($B$24/100))*$B40),"0")))))))*1.205 -> 9.0640666 | F40: =(IF(F$23="%w/w SAR",((F$24*10)*$B40),IF(F$23="%w/w DM",(((F$24*10)*($B$24/100))*$B40),IF(F$23="kg/t SAR",(F$24*$B40),IF(F$23="kg/t DM",((F$24*($B$24/100))*$B40),IF(F$23="mg/kg SAR",((F$24*0.001)*$B40),IF(F$23="mg/kg DM",(((F$24*0.001)*($B$24/100))*$B40),"0")))))))*1.658 -> 86.234536 | G40: =IF(G$23="%w/w SAR",((G$24*10)*$B40),IF(G$23="%w/w DM",(((G$24*10)*($B$24/100))*$B40),IF(G$23="kg/t SAR",(G$24*$B40),IF(G$23="kg/t DM",((G$24*($B$24/100))*$B40),IF(G$23="mg/kg SAR",((G$24*0.001)*$B40),IF(G$23="mg/kg DM",(((G$24*0.001)*($B$24/100))*$B40),0)))))) -> 1.0178532 | H40: =IF(H$23="%w/w SAR",((H$24*10)*$B40),IF(H$23="%w/w DM",(((H$24*10)*($B$24/100))*$B40),IF(H$23="kg/t SAR",(H$24*$B40),IF(H$23="kg/t DM",((H$24*($B$24/100))*$B40),IF(H$23="mg/kg SAR",((H$24*0.001)*$B40),IF(H$23="mg/kg DM",(((H$24*0.001)*($B$24/100))*$B40),0)))))) -> 6.375564 | I40: =IF(I$23="%w/w SAR",((I$24*10)*$B40),IF(I$23="%w/w DM",(((I$24*10)*($B$24/100))*$B40),IF(I$23="kg/t SAR",(I$24*$B40),IF(I$23="kg/t DM",((I$24*($B$24/100))*$B40),IF(I$23="mg/kg SAR",((I$24*0.001)*$B40),IF(I$23="mg/kg DM",(((I$24*0.001)*($B$24/100))*$B40),0)))))) -> 0.8612604 | J40: =IF(J$23="%w/w SAR",((J$24*10)*$B40),IF(J$23="%w/w DM",(((J$24*10)*($B$24/100))*$B40),IF(J$23="kg/t SAR",(J$24*$B40),IF(J$23="kg/t DM",((J$24*($B$24/100))*$B40),IF(J$23="mg/kg SAR",((J$24*0.001)*$B40),IF(J$23="mg/kg DM",(((J$24*0.001)*($B$24/100))*$B40),0)))))) -> 0.03299634 | K40: =IF(K$23="%w/w SAR",((K$24*10)*$B40),IF(K$23="%w/w DM",(((K$24*10)*($B$24/100))*$B40),IF(K$23="kg/t SAR",(K$24*$B40),IF(K$23="kg/t DM",((K$24*($B$24/100))*$B40),IF(K$23="mg/kg SAR",((K$24*0.001)*$B40),IF(K$23="mg/kg DM",(((K$24*0.001)*($B$24/100))*$B40),0)))))) -> 0.00587223 | L40: =IF(L$23="%w/w SAR",((L$24*10)*$B40),IF(L$23="%w/w DM",(((L$24*10)*($B$24/100))*$B40),IF(L$23="kg/t SAR",(L$24*$B40),IF(L$23="kg/t DM",((L$24*($B$24/100))*$B40),IF(L$23="mg/kg SAR",((L$24*0.001)*$B40),IF(L$23="mg/kg DM",(((L$24*0.001)*($B$24/100))*$B40),0)))))) -> 0.5368896 | M40: =IF(M$23="%w/w SAR",((M$24*10)*$B40),IF(M$23="%w/w DM",(((M$24*10)*($B$24/100))*$B40),IF(M$23="kg/t SAR",(M$24*$B40),IF(M$23="kg/t DM",((M$24*($B$24/100))*$B40),IF(M$23="mg/kg SAR",((M$24*0.001)*$B40),IF(M$23="mg/kg DM",(((M$24*0.001)*($B$24/100))*$B40),0)))))) -> 0.3327597 | N40: =IF(N$23="%w/w SAR",((N$24*10)*$B40),IF(N$23="%w/w DM",(((N$24*10)*($B$24/100))*$B40),IF(N$23="kg/t SAR",(N$24*$B40),IF(N$23="kg/t DM",((N$24*($B$24/100))*$B40),IF(N$23="mg/kg SAR",((N$24*0.001)*$B40),IF(N$23="mg/kg DM",(((N$24*0.001)*($B$24/100))*$B40),0)))))) -> 2908.152 | ... P40: =IF(P$23="%w/w SAR",((P$24*10)*$B40),IF(P$23="%w/w DM",(((P$24*10)*($B$24/100))*$B40),IF(P$23="kg/t SAR",(P$24*$B40),IF(P$23="kg/t DM",((P$24*($B$24/100))*$B40),IF(P$23="mg/kg SAR",((P$24*0.001)*$B40),IF(P$23="mg/kg DM",(((P$24*0.001)*($B$24/100))*$B40),0)))))) -> 0 | Q40: =(IF(Q$23="%w/w SAR",((Q$24*10)*$B40),IF(Q$23="%w/w DM",(((Q$24*10)*($B$24/100))*$B40),IF(Q$23="kg/t SAR",(Q$24*$B40),IF(Q$23="kg/t DM",((Q$24*($B$24/100))*$B40),IF(Q$23="mg/kg SAR",((Q$24*0.001)*$B40),IF(Q$23="mg/kg DM",(((Q$24*0.001)*($B$24/100))*$B40),0)))))))*2.5 -> 328.56525 | R40: =IF(R$23="%w/w SAR",((R$24*10)*$B40),IF(R$23="%w/w DM",(((R$24*10)*($B$24/100))*$B40),IF(R$23="kg/t SAR",(R$24*$B40),IF(R$23="kg/t DM",((R$24*($B$24/100))*$B40),IF(R$23="mg/kg SAR",((R$24*0.001)*$B40),IF(R$23="mg/kg DM",(((R$24*0.001)*($B$24/100))*$B40),0)))))) -> 0 | S40: =IF(S$23="%w/w SAR",((S$24*10)*$B40),IF(S$23="%w/w DM",(((S$24*10)*($B$24/100))*$B40),IF(S$23="kg/t SAR",(S$24*$B40),IF(S$23="kg/t DM",((S$24*($B$24/100))*$B40),IF(S$23="mg/kg SAR",((S$24*0.001)*$B40),IF(S$23="mg/kg DM",(((S$24*0.001)*($B$24/100))*$B40),0)))))) -> 0.6934824 | T40: =IF(T$23="%w/w SAR",((T$24*10)*$B40),IF(T$23="%w/w DM",(((T$24*10)*($B$24/100))*$B40),IF(T$23="kg/t SAR",(T$24*$B40),IF(T$23="kg/t DM",((T$24*($B$24/100))*$B40),IF(T$23="mg/kg SAR",((T$24*0.001)*$B40),IF(T$23="mg/kg DM",(((T$24*0.001)*($B$24/100))*$B40),0)))))) -> 0 | U40: =IF(U$23="%w/w SAR",((U$24*10)*$B40),IF(U$23="%w/w DM",(((U$24*10)*($B$24/100))*$B40),IF(U$23="kg/t SAR",(U$24*$B40),IF(U$23="kg/t DM",((U$24*($B$24/100))*$B40),IF(U$23="mg/kg SAR",((U$24*0.001)*$B40),IF(U$23="mg/kg DM",(((U$24*0.001)*($B$24/100))*$B40),0)))))) -> 0 | V40: =IF($V$24="",0,IF($V$24>5000,"NOT OK","OK")) -> 0 | W40: =IF($W$24="",0,IF($W$24>4,"Not OK","OK")) -> 0
