Workbook

Sheet A
A1: RADNOR HILLS MINERAL WATER COMPANY LTD, RADNOR HILLS, HEARTSEASE
A2: ABSTRACTION VOLUMES FROM 'POINT A' BETWEEN 2011 - 2017
A5: point A - RHC (all uses) | E5: Water Bottling | I5: Domestic (Commercial) | O5: Domestic Residential | U5: General Agricultural Use
A6: Date | B6: Total Daily Abstraction (m3) | C6: Total Annual Abstraction (m3) | E6: Date | F6: Daily Abstraction (m3/day) | G6: Annual Abstraction (m3) | I6: Year | J6: Number of Office Employees | K6: Standard Daily Usage (l/person) | L6: Daily Usage (m3) | M6: Annual Usage (m3) | O6: Year | P6: Number of Residents | Q6: Standard Daily Usage (l/person) | R6: Daily Usage (m3) | S6: Annual Usage (m3) | U6: Year | V6: Number of Chicken Houses | W6: Number of Crops per Year | X6: Use by Chicken House (m3/year) | Y6: Daily Usage (m3) | Z6: Annual Usage (m3)
A7: 2011 | B7: =F7+L7+R7+Y7 -> 40.271233 | C7: =G7+M7+S7+Z7 -> 14699 | E7: 2011 | F7: 5.1705479 | G7: 1887.25 | I7: 2011 | J7: 206 | K7: 100 | L7: =K7*J7/1000 -> 20.6 | M7: =L7*365 -> 7519 | O7: 2011 | P7: 9 | Q7: 150 | R7: =Q7*P7/1000 -> 1.35 | S7: =R7*365 -> 492.75 | U7: 2011 | V7: 2 | W7: 8 | X7: 300 | Y7: =Z7/365 -> 13.150685 | Z7: =V7*W7*X7 -> 4800
A8: 2012 | B8: =F8+L8+R8+Y8 -> 40.271233 | C8: =G8+M8+S8+Z8 -> 14699 | E8: 2012 | F8: 5.1705479 | G8: 1887.25 | I8: 2012 | J8: 206 | K8: 100 | L8: =K8*J8/1000 -> 20.6 | M8: =L8*365 -> 7519 | O8: 2012 | P8: 9 | Q8: 150 | R8: =Q8*P8/1000 -> 1.35 | S8: =R8*365 -> 492.75 | U8: 2012 | V8: 2 | W8: 8 | X8: 300 | Y8: =Z8/365 -> 13.150685 | Z8: =V8*W8*X8 -> 4800
A9: 2013 | B9: =F9+L9+R9+Y9 -> 40.271233 | C9: =G9+M9+S9+Z9 -> 14699 | E9: 2013 | F9: 5.1705479 | G9: 1887.25 | I9: 2013 | J9: 206 | K9: 100 | L9: =K9*J9/1000 -> 20.6 | M9: =L9*365 -> 7519 | O9: 2013 | P9: 9 | Q9: 150 | R9: =Q9*P9/1000 -> 1.35 | S9: =R9*365 -> 492.75 | U9: 2013 | V9: 2 | W9: 8 | X9: 300 | Y9: =Z9/365 -> 13.150685 | Z9: =V9*W9*X9 -> 4800
A10: 2014 | B10: =F10+L10+R10+Y10 -> 40.271233 | C10: =G10+M10+S10+Z10 -> 14699 | E10: 2014 | F10: 5.1705479 | G10: 1887.25 | I10: 2014 | J10: 206 | K10: 100 | L10: =K10*J10/1000 -> 20.6 | M10: =L10*365 -> 7519 | O10: 2014 | P10: 9 | Q10: 150 | R10: =Q10*P10/1000 -> 1.35 | S10: =R10*365 -> 492.75 | U10: 2014 | V10: 2 | W10: 8 | X10: 300 | Y10: =Z10/365 -> 13.150685 | Z10: =V10*W10*X10 -> 4800
A11: 2015 | B11: =F11+L11+R11+Y11 -> 29.971233 | C11: =G11+M11+S11+Z11 -> 10939.5 | E11: 2015 | F11: 4.4205479 | G11: 1613.5 | I11: 2015 | J11: 103 | K11: 100 | L11: =K11*J11/1000 -> 10.3 | M11: =L11*365 -> 3759.5 | O11: 2015 | P11: 14 | Q11: 150 | R11: =Q11*P11/1000 -> 2.1 | S11: =R11*365 -> 766.5 | U11: 2015 | V11: 2 | W11: 8 | X11: 300 | Y11: =Z11/365 -> 13.150685 | Z11: =V11*W11*X11 -> 4800
A12: 2016 | B12: =F12+L12+R12+Y12 -> 29.971233 | C12: =G12+M12+S12+Z12 -> 10939.5 | E12: 2016 | F12: 4.4205479 | G12: 1613.5 | I12: 2016 | J12: 103 | K12: 100 | L12: =K12*J12/1000 -> 10.3 | M12: =L12*365 -> 3759.5 | O12: 2016 | P12: 14 | Q12: 150 | R12: =Q12*P12/1000 -> 2.1 | S12: =R12*365 -> 766.5 | U12: 2016 | V12: 2 | W12: 8 | X12: 300 | Y12: =Z12/365 -> 13.150685 | Z12: =V12*W12*X12 -> 4800
A13: 2017 | B13: =F13+L13+R13+Y13 -> 29.971233 | C13: =G13+M13+S13+Z13 -> 10939.5 | E13: 2017 | F13: 4.4205479 | G13: 1613.5 | I13: 2017 | J13: 103 | K13: 100 | L13: =K13*J13/1000 -> 10.3 | M13: =L13*365 -> 3759.5 | O13: 2017 | P13: 14 | Q13: 150 | R13: =Q13*P13/1000 -> 2.1 | S13: =R13*365 -> 766.5 | U13: 2017 | V13: 2 | W13: 8 | X13: 300 | Y13: =Z13/365 -> 13.150685 | Z13: =V13*W13*X13 -> 4800

Sheet B
A1: RADNOR HILLS MINERAL WATER COMPANY LTD, RADNOR HILLS, HEARTSEASE
A2: ABSTRACTION VOLUMES FROM 'POINT B' BETWEEN 2011 - 2017
A5: point B - RHP (all uses) | E5: Water Bottling | I5: Domestic Residential | O5: General Agricultural Use - Poultry | V5: General Agricultural Use - Watkins Farm Sheep | AJ5: General Agricultural Use - Watkins Farm Agrochemical Spraying | AP5: Total Annual Use Watkins Farm (m3)
A6: Date | B6: Total Daily Abstraction (m3) | C6: Total Annual Abstraction (m3) | E6: Date | F6: Daily Abstraction (m3/day) | G6: Annual Abstraction (m3) | I6: Year | J6: Number of Residents | K6: Standard Daily Usage (l/person) | L6: Daily Usage (m3) | M6: Annual Usage (m3) | O6: Year | P6: Number of Chicken Houses | Q6: Number of Crops per Year | R6: Use by Chicken House (m3/year) | S6: Poultry Daily Usage (m3) | T6: Poultry Annual Usage (m3) | V6: Year | W6: Number of Sheep | X6: Standard Daily Usage Drinking (l/animal/day) | Y6: Sheep Daily Drinking Usage (m3) | Z6: Number of Lambs (6 months) | AA6: Standard Daily Usage Drinking (l/animal/day) | AB6: Lambs Daily Drinking Usage (m3) | AC6: Yearly Drinking Usage (m3) | AD6: Standard Daily Usage Dipping (l/animal/dip) | AE6: Usage per Dip (m3) | AF6: Dips per year | AG6: Dip usage (m3) | AH6: Yearly Dipping Usage (m3) | AI6: Sheep Annual Usage (m3) | AJ6: Crop Area (ha) | AK6: Water Usage (l/ha) | AL6: Usage per spray (m3) | AM6: Number of sprays | AN6: Daily Usage (m3) | AO6: Annual Usage (m3)
A7: 2011 | B7: =F7+L7+R7+Y7 -> 331.71863 | C7: =G7+M7+T7+AP7 -> 22978.22 | E7: 2011 | F7: =G7/365 -> 19.94863 | G7: =23250-(M7+T7+5000) -> 7281.25 | I7: 2011 | J7: 25 | K7: 150 | L7: =K7*J7/1000 -> 3.75 | M7: =L7*365 -> 1368.75 | O7: 2011 | P7: 4 | Q7: 8 | R7: 300 | S7: =T7/365 -> 26.30137 | T7: =P7*Q7*R7 -> 9600 | V7: 2011 | W7: 1604 | X7: 5 | Y7: =(X7*W7)/1000 -> 8.02 | Z7: 1637 | AA7: 5 | AB7: =(AA7*Z7)/1000 -> 8.185 | AC7: =(Y7*365)+(AB7*183) -> 4425.155 | AD7: 2.5 | AE7: =(AD7*W7)/1000 -> 4.01 | AF7: 3 | AG7: =AE7 -> 4.01 | AH7: =AE7*AD7 -> 10.025 | AI7: =AH7+AC7 -> 4435.18 | AJ7: 296 | AK7: 165 | AL7: =(AK7*AJ7)/1000 -> 48.84 | AM7: 6 | AN7: =AL7 -> 48.84 | AO7: =AM7*AL7 -> 293.04 | AP7: =AO7+AI7 -> 4728.22
A8: 2012 | B8: =F8+L8+R8+Y8 -> 331.71863 | C8: =G8+M8+T8+AP8 -> 22978.22 | E8: 2012 | F8: =G8/365 -> 19.94863 | G8: =23250-(M8+T8+5000) -> 7281.25 | I8: 2012 | J8: 25 | K8: 150 | L8: =K8*J8/1000 -> 3.75 | M8: =L8*365 -> 1368.75 | O8: 2012 | P8: 4 | Q8: 8 | R8: 300 | S8: =T8/365 -> 26.30137 | T8: =P8*Q8*R8 -> 9600 | V8: 2012 | W8: 1604 | X8: 5 | Y8: =(X8*W8)/1000 -> 8.02 | Z8: 1637 | AA8: 5 | AB8: =(AA8*Z8)/1000 -> 8.185 | AC8: =(Y8*365)+(AB8*183) -> 4425.155 | AD8: 2.5 | AE8: =(AD8*W8)/1000 -> 4.01 | AF8: 3 | AG8: =AE8 -> 4.01 | AH8: =AE8*AD8 -> 10.025 | AI8: =AH8+AC8 -> 4435.18 | AJ8: 296 | AK8: 165 | AL8: =(AK8*AJ8)/1000 -> 48.84 | AM8: 6 | AN8: =AL8 -> 48.84 | AO8: =AM8*AL8 -> 293.04 | AP8: =AO8+AI8 -> 4728.22
A9: 2013 | B9: =F9+L9+R9+Y9 -> 331.71863 | C9: =G9+M9+T9+AP9 -> 22978.22 | E9: 2013 | F9: =G9/365 -> 19.94863 | G9: =23250-(M9+T9+5000) -> 7281.25 | I9: 2013 | J9: 25 | K9: 150 | L9: =K9*J9/1000 -> 3.75 | M9: =L9*365 -> 1368.75 | O9: 2013 | P9: 4 | Q9: 8 | R9: 300 | S9: =T9/365 -> 26.30137 | T9: =P9*Q9*R9 -> 9600 | V9: 2013 | W9: 1604 | X9: 5 | Y9: =(X9*W9)/1000 -> 8.02 | Z9: 1637 | AA9: 5 | AB9: =(AA9*Z9)/1000 -> 8.185 | AC9: =(Y9*365)+(AB9*183) -> 4425.155 | AD9: 2.5 | AE9: =(AD9*W9)/1000 -> 4.01 | AF9: 3 | AG9: =AE9 -> 4.01 | AH9: =AE9*AD9 -> 10.025 | AI9: =AH9+AC9 -> 4435.18 | AJ9: 296 | AK9: 165 | AL9: =(AK9*AJ9)/1000 -> 48.84 | AM9: 6 | AN9: =AL9 -> 48.84 | AO9: =AM9*AL9 -> 293.04 | AP9: =AO9+AI9 -> 4728.22
A10: 2014 | B10: =F10+L10+R10+Y10 -> 331.71863 | C10: =G10+M10+T10+AP10 -> 22978.22 | E10: 2014 | F10: =G10/365 -> 19.94863 | G10: =23250-(M10+T10+5000) -> 7281.25 | I10: 2014 | J10: 25 | K10: 150 | L10: =K10*J10/1000 -> 3.75 | M10: =L10*365 -> 1368.75 | O10: 2014 | P10: 4 | Q10: 8 | R10: 300 | S10: =T10/365 -> 26.30137 | T10: =P10*Q10*R10 -> 9600 | V10: 2014 | W10: 1604 | X10: 5 | Y10: =(X10*W10)/1000 -> 8.02 | Z10: 1637 | AA10: 5 | AB10: =(AA10*Z10)/1000 -> 8.185 | AC10: =(Y10*365)+(AB10*183) -> 4425.155 | AD10: 2.5 | AE10: =(AD10*W10)/1000 -> 4.01 | AF10: 3 | AG10: =AE10 -> 4.01 | AH10: =AE10*AD10 -> 10.025 | AI10: =AH10+AC10 -> 4435.18 | AJ10: 296 | AK10: 165 | AL10: =(AK10*AJ10)/1000 -> 48.84 | AM10: 6 | AN10: =AL10 -> 48.84 | AO10: =AM10*AL10 -> 293.04 | AP10: =AO10+AI10 -> 4728.22
A11: 2015 | B11: =F11+L11+R11+Y11 -> 347.70863 | C11: =G11+M11+T11+AP11 -> 23113.653 | E11: 2015 | F11: =G11/365 -> 41.44863 | G11: =23250-(M11+T11+2500) -> 15128.75 | I11: 2015 | J11: 15 | K11: 150 | L11: =K11*J11/1000 -> 2.25 | M11: =L11*365 -> 821.25 | O11: 2015 | P11: 2 | Q11: 8 | R11: 300 | S11: =T11/365 -> 13.150685 | T11: =P11*Q11*R11 -> 4800 | V11: 2015 | W11: 802 | X11: 5 | Y11: =(X11*W11)/1000 -> 4.01 | Z11: 818 | AA11: 5 | AB11: =(AA11*Z11)/1000 -> 4.09 | AC11: =(Y11*365)+(AB11*183) -> 2212.12 | AD11: 2.5 | AE11: =(AD11*W11)/1000 -> 2.005 | AF11: 3 | AG11: =AE11 -> 2.005 | AH11: =AE11*AD11 -> 5.0125 | AI11: =AH11+AC11 -> 2217.1325 | AJ11: 148 | AK11: 165 | AL11: =(AK11*AJ11)/1000 -> 24.42 | AM11: 6 | AN11: =AL11 -> 24.42 | AO11: =AM11*AL11 -> 146.52 | AP11: =AO11+AI11 -> 2363.6525
A12: 2016 | B12: =F12+L12+R12+Y12 -> 344.89767 | C12: =G12+M12+T12+AP12 -> 22087.653 | E12: 2016 | F12: =G12/365 -> 38.637671 | G12: =22224-(M12+T12+2500) -> 14102.75 | I12: 2016 | J12: 15 | K12: 150 | L12: =K12*J12/1000 -> 2.25 | M12: =L12*365 -> 821.25 | O12: 2016 | P12: 2 | Q12: 8 | R12: 300 | S12: =T12/365 -> 13.150685 | T12: =P12*Q12*R12 -> 4800 | V12: 2016 | W12: 802 | X12: 5 | Y12: =(X12*W12)/1000 -> 4.01 | Z12: 818 | AA12: 5 | AB12: =(AA12*Z12)/1000 -> 4.09 | AC12: =(Y12*365)+(AB12*183) -> 2212.12 | AD12: 2.5 | AE12: =(AD12*W12)/1000 -> 2.005 | AF12: 3 | AG12: =AE12 -> 2.005 | AH12: =AE12*AD12 -> 5.0125 | AI12: =AH12+AC12 -> 2217.1325 | AJ12: 148 | AK12: 165 | AL12: =(AK12*AJ12)/1000 -> 24.42 | AM12: 6 | AN12: =AL12 -> 24.42 | AO12: =AM12*AL12 -> 146.52 | AP12: =AO12+AI12 -> 2363.6525
A13: 2017 | B13: =F13+L13+R13+Y13 -> 350.84014 | C13: =G13+M13+T13+AP13 -> 24256.653 | E13: 2017 | F13: =G13/365 -> 44.580137 | G13: =24393-(M13+T13+2500) -> 16271.75 | I13: 2017 | J13: 15 | K13: 150 | L13: =K13*J13/1000 -> 2.25 | M13: =L13*365 -> 821.25 | O13: 2017 | P13: 2 | Q13: 8 | R13: 300 | S13: =T13/365 -> 13.150685 | T13: =P13*Q13*R13 -> 4800 | V13: 2017 | W13: 802 | X13: 5 | Y13: =(X13*W13)/1000 -> 4.01 | Z13: 818 | AA13: 5 | AB13: =(AA13*Z13)/1000 -> 4.09 | AC13: =(Y13*365)+(AB13*183) -> 2212.12 | AD13: 2.5 | AE13: =(AD13*W13)/1000 -> 2.005 | AF13: 3 | AG13: =AE13 -> 2.005 | AH13: =AE13*AD13 -> 5.0125 | AI13: =AH13+AC13 -> 2217.1325 | AJ13: 148 | AK13: 165 | AL13: =(AK13*AJ13)/1000 -> 24.42 | AM13: 6 | AN13: =AL13 -> 24.42 | AO13: =AM13*AL13 -> 146.52 | AP13: =AO13+AI13 -> 2363.6525

Sheet C
A1: RADNOR HILLS MINERAL WATER COMPANY LTD, RADNOR HILLS, HEARTSEASE
A2: ABSTRACTION VOLUMES FROM 'POINT C' BETWEEN 2014 - 2017
A5: point C - RHW
B6: Water Bottling Monthly Abstracted Volume (m3) | C6: Days in Month | D6: Daily Abstraction (m3/day) | E6: Annual Abstraction (m3) | F6: Max Daily Abstraction (m3/day) | G6: Average Daily Abstraction (m3/day)
A7: 40544
A8: 40575
A9: 40603
A10: 40634
A11: 40664
A12: 40695
A13: 40725
A14: 40756
A15: 40787
A16: 40817
A17: 40848
A18: 40878
... A51: 41883
A52: 41913 | B52: 687 | C52: 31 | D52: =B52/C52 -> 22.16129 | E52: =B52+E51 -> 687
A53: 41944 | B53: 703 | C53: 30 | D53: =B53/C53 -> 23.433333 | E53: =B53+E52 -> 1390
A54: 41974 | B54: 328 | C54: 31 | D54: =B54/C54 -> 10.580645 | E54: =B54+E53 -> 1718 | F54: =MAX(D43:D54) -> 23.433333 | G54: =AVERAGE(D52:D54) -> 18.72509
A55: 42005 | B55: 1351.25 | C55: 31 | D55: =B55/C55 -> 43.58871 | E55: =B55 -> 1351.25
A56: 42036 | B56: 959.1 | C56: 28 | D56: =B56/C56 -> 34.253571 | E56: =B56+E55 -> 2310.35
A57: 42064 | B57: 882.05 | C57: 31 | D57: =B57/C57 -> 28.453226 | E57: =B57+E56 -> 3192.4
A58: 42095 | B58: 1628.4 | C58: 30 | D58: =B58/C58 -> 54.28 | E58: =B58+E57 -> 4820.8
A59: 42125 | B59: 1777.9 | C59: 31 | D59: =B59/C59 -> 57.351613 | E59: =B59+E58 -> 6598.7
A60: 42156 | B60: 1335.15 | C60: 30 | D60: =B60/C60 -> 44.505 | E60: =B60+E59 -> 7933.85
A61: 42186 | B61: 1201.75 | C61: 31 | D61: =B61/C61 -> 38.766129 | E61: =B61+E60 -> 9135.6
A62: 42217 | B62: 1593.9 | C62: 31 | D62: =B62/C62 -> 51.416129 | E62: =B62+E61 -> 10729.5
A63: 42248 | B63: 1077.55 | C63: 30 | D63: =B63/C63 -> 35.918333 | E63: =B63+E62 -> 11807.05
A64: 42278 | B64: 1078.7 | C64: 31 | D64: =B64/C64 -> 34.796774 | E64: =B64+E63 -> 12885.75
A65: 42309 | B65: 1338.6 | C65: 30 | D65: =B65/C65 -> 44.62 | E65: =B65+E64 -> 14224.35
A66: 42339 | B66: 1077.55 | C66: 31 | D66: =B66/C66 -> 34.759677 | E66: =B66+E65 -> 15301.9 | F66: =MAX(D55:D66) -> 57.351613 | G66: =AVERAGE(D55:D66) -> 41.89243
A67: 42370 | B67: 662.4 | C67: 31 | D67: =B67/C67 -> 21.367742 | E67: =B67 -> 662.4
A68: 42401 | B68: 1332.85 | C68: 29 | D68: =B68/C68 -> 45.960345 | E68: =B68+E67 -> 1995.25
A69: 42430 | B69: 719.9 | C69: 31 | D69: =B69/C69 -> 23.222581 | E69: =B69+E68 -> 2715.15
A70: 42461 | B70: 719.9 | C70: 30 | D70: =B70/C70 -> 23.996667 | E70: =B70+E69 -> 3435.05
A71: 42491 | B71: 1058 | C71: 31 | D71: =B71/C71 -> 34.129032 | E71: =B71+E70 -> 4493.05
A72: 42522 | B72: 1492.7 | C72: 30 | D72: =B72/C72 -> 49.756667 | E72: =B72+E71 -> 5985.75
A73: 42552 | B73: 1492.7 | C73: 31 | D73: =B73/C73 -> 48.151613 | E73: =B73+E72 -> 7478.45
A74: 42583 | B74: 1991.8 | C74: 31 | D74: =B74/C74 -> 64.251613 | E74: =B74+E73 -> 9470.25
...

Sheet D
A1: RADNOR HILLS MINERAL WATER COMPANY LTD, RADNOR HILLS, HEARTSEASE
A2: ABSTRACTION VOLUMES FROM 'POINT D' BETWEEN 2011 - 2017
A5: point D - RHO (all uses) | E5: Water Bottling | I5: Domestic Residential
A6: Date | B6: Total Average Daily Abstraction (m3) | C6: Total Annual Abstraction (m3) | E6: Date | F6: Daily Abstraction (m3/day) | G6: Annual Abstraction (m3) | I6: Year | J6: Number of Residents | K6: Standard Daily Usage (l/person) | L6: Daily Usage (m3) | M6: Annual Usage (m3)
A7: 2011 | B7: =F7+L7+R7+Y7 -> 29.19726 | C7: =G7+M7+S7+Z7 -> 10657 | E7: 2011 | F7: =G7/365 -> 24.99726 | G7: =10657-M7 -> 9124 | I7: 2011 | J7: 28 | K7: 150 | L7: =K7*J7/1000 -> 4.2 | M7: =L7*365 -> 1533
A8: 2012 | B8: =F8+L8+R8+Y8 -> 27.410959 | C8: =G8+M8+S8+Z8 -> 10005 | E8: 2012 | F8: =G8/365 -> 23.210959 | G8: =10005-M8 -> 8472 | I8: 2012 | J8: 28 | K8: 150 | L8: =K8*J8/1000 -> 4.2 | M8: =L8*365 -> 1533
A9: 2013 | B9: =F9+L9+R9+Y9 -> 31.975342 | C9: =G9+M9+S9+Z9 -> 11671 | E9: 2013 | F9: =G9/365 -> 27.775342 | G9: =11671-M9 -> 10138 | I9: 2013 | J9: 28 | K9: 150 | L9: =K9*J9/1000 -> 4.2 | M9: =L9*365 -> 1533
A10: 2014 | B10: =F10+L10+R10+Y10 -> 30.531507 | C10: =G10+M10+S10+Z10 -> 11144 | E10: 2014 | F10: =G10/365 -> 26.331507 | G10: =11144-M10 -> 9611 | I10: 2014 | J10: 28 | K10: 150 | L10: =K10*J10/1000 -> 4.2 | M10: =L10*365 -> 1533
A11: 2015 | B11: =F11+L11+R11+Y11 -> 25.832877 | C11: =G11+M11+S11+Z11 -> 9429 | E11: 2015 | F11: =G11/365 -> 23.582877 | G11: =9429-M11 -> 8607.75 | I11: 2015 | J11: 15 | K11: 150 | L11: =K11*J11/1000 -> 2.25 | M11: =L11*365 -> 821.25
A12: 2016 | B12: =F12+L12+R12+Y12 -> 30.273973 | C12: =G12+M12+S12+Z12 -> 11050 | E12: 2016 | F12: =G12/365 -> 28.023973 | G12: =11050-M12 -> 10228.75 | I12: 2016 | J12: 15 | K12: 150 | L12: =K12*J12/1000 -> 2.25 | M12: =L12*365 -> 821.25
A13: 2017 | B13: =F13+L13+R13+Y13 -> 29.791781 | C13: =G13+M13+S13+Z13 -> 10874 | E13: 2017 | F13: =G13/365 -> 27.541781 | G13: =10874-M13 -> 10052.75 | I13: 2017 | J13: 15 | K13: 150 | L13: =K13*J13/1000 -> 2.25 | M13: =L13*365 -> 821.25

Sheet E
A1: RADNOR HILLS MINERAL WATER COMPANY LTD, RADNOR HILLS, HEARTSEASE
A2: ABSTRACTION VOLUMES FROM 'POINT E' BETWEEN 2011 - 2017
A5: point E - RHE
B6: Water Bottling Monthly Abstracted Volume (m3) | C6: Days in Month | D6: Daily Abstraction (m3/day) | E6: Annual Abstraction (m3) | F6: Max Daily Abstraction (m3/day) | G6: Average Daily Abstraction (m3/day)
A7: 40544 | C7: 31 | D7: =B7/C7 -> 0 | E7: =B7 -> 0
A8: 40575 | C8: 28 | D8: =B8/C8 -> 0 | E8: =B8+E7 -> 0
A9: 40603 | B9: 929 | C9: 31 | D9: =B9/C9 -> 29.967742 | E9: =B9+E8 -> 929
A10: 40634 | B10: 982 | C10: 30 | D10: =B10/C10 -> 32.733333 | E10: =B10+E9 -> 1911
A11: 40664 | B11: 766 | C11: 31 | D11: =B11/C11 -> 24.709677 | E11: =B11+E10 -> 2677
A12: 40695 | B12: 993 | C12: 30 | D12: =B12/C12 -> 33.1 | E12: =B12+E11 -> 3670
A13: 40725 | B13: 1003 | C13: 31 | D13: =B13/C13 -> 32.354839 | E13: =B13+E12 -> 4673
A14: 40756 | B14: 842 | C14: 31 | D14: =B14/C14 -> 27.16129 | E14: =B14+E13 -> 5515
A15: 40787 | B15: 842 | C15: 30 | D15: =B15/C15 -> 28.066667 | E15: =B15+E14 -> 6357
A16: 40817 | B16: 711 | C16: 31 | D16: =B16/C16 -> 22.935484 | E16: =B16+E15 -> 7068
A17: 40848 | B17: 820 | C17: 30 | D17: =B17/C17 -> 27.333333 | E17: =B17+E16 -> 7888
A18: 40878 | B18: 848 | C18: 31 | D18: =B18/C18 -> 27.354839 | E18: =B18+E17 -> 8736 | F18: =MAX(D7:D18) -> 33.1 | G18: =AVERAGE(D7:D18) -> 23.809767
A19: 40909 | B19: 848 | C19: 31 | D19: =B19/C19 -> 27.354839 | E19: =B19 -> 848
A20: 40940 | B20: 766 | C20: 29 | D20: =B20/C20 -> 26.413793 | E20: =B20+E19 -> 1614
A21: 40969 | B21: 848 | C21: 31 | D21: =B21/C21 -> 27.354839 | E21: =B21+E20 -> 2462
A22: 41000 | B22: 774 | C22: 30 | D22: =B22/C22 -> 25.8 | E22: =B22+E21 -> 3236
A23: 41030 | B23: 610 | C23: 31 | D23: =B23/C23 -> 19.677419 | E23: =B23+E22 -> 3846
A24: 41061 | B24: 1283 | C24: 30 | D24: =B24/C24 -> 42.766667 | E24: =B24+E23 -> 5129
A25: 41091 | B25: 188 | C25: 31 | D25: =B25/C25 -> 6.0645161 | E25: =B25+E24 -> 5317
A26: 41122 | B26: 1134 | C26: 31 | D26: =B26/C26 -> 36.580645 | E26: =B26+E25 -> 6451
A27: 41153 | B27: 1026 | C27: 30 | D27: =B27/C27 -> 34.2 | E27: =B27+E26 -> 7477
A28: 41183 | B28: 477 | C28: 31 | D28: =B28/C28 -> 15.387097 | E28: =B28+E27 -> 7954
A29: 41214 | B29: 905 | C29: 30 | D29: =B29/C29 -> 30.166667 | E29: =B29+E28 -> 8859
A30: 41244 | B30: 936 | C30: 31 | D30: =B30/C30 -> 30.193548 | E30: =B30+E29 -> 9795 | F30: =MAX(D19:D30) -> 42.766667 | G30: =AVERAGE(D19:D30) -> 26.830002
A31: 41275 | B31: 936 | C31: 31 | D31: =B31/C31 -> 30.193548 | E31: =B31 -> 936
A32: 41306 | B32: 845 | C32: 28 | D32: =B32/C32 -> 30.178571 | E32: =B32+E31 -> 1781
A33: 41334 | B33: 936 | C33: 31 | D33: =B33/C33 -> 30.193548 | E33: =B33+E32 -> 2717
A34: 41365 | B34: 905 | C34: 30 | D34: =B34/C34 -> 30.166667 | E34: =B34+E33 -> 3622
A35: 41395 | B35: 936 | C35: 31 | D35: =B35/C35 -> 30.193548 | E35: =B35+E34 -> 4558
A36: 41426 | B36: 815 | C36: 30 | D36: =B36/C36 -> 27.166667 | E36: =B36+E35 -> 5373
A37: 41456 | C37: 31 | D37: =B37/C37 -> 0 | E37: =B37+E36 -> 5373
A38: 41487 | C38: 31 | D38: =B38/C38 -> 0 | E38: =B38+E37 -> 5373
A39: 41518 | C39: 30 | D39: =B39/C39 -> 0 | E39: =B39+E38 -> 5373
A40: 41548 | C40: 31 | D40: =B40/C40 -> 0 | E40: =B40+E39 -> 5373
A41: 41579 | C41: 30 | D41: =B41/C41 -> 0 | E41: =B41+E40 -> 5373
A42: 41609 | C42: 31 | D42: =B42/C42 -> 0 | E42: =B42+E41 -> 5373 | F42: =MAX(D31:D42) -> 30.193548 | G42: =AVERAGE(D31:D42) -> 14.841046
...

Sheet F
A1: RADNOR HILLS MINERAL WATER COMPANY LTD, RADNOR HILLS, HEARTSEASE
A2: ABSTRACTION VOLUMES FROM 'POINT F' BETWEEN 2014 - 2017
A5: point F - RHUR
B6: Water Bottling Monthly Abstracted Volume (m3) | C6: Days in Month | D6: Daily Abstraction (m3/day) | E6: Annual Abstraction (m3) | F6: Max Daily Abstraction (m3/day) | G6: Average Daily Abstraction (m3/day)
A7: 40544 | C7: 31 | D7: =B7/C7 -> 0 | E7: =B7 -> 0
A8: 40575 | C8: 28 | D8: =B8/C8 -> 0 | E8: =B8+E7 -> 0
A9: 40603 | C9: 31 | D9: =B9/C9 -> 0 | E9: =B9+E8 -> 0
A10: 40634 | C10: 30 | D10: =B10/C10 -> 0 | E10: =B10+E9 -> 0
A11: 40664 | B11: 838 | C11: 31 | D11: =B11/C11 -> 27.032258 | E11: =B11+E10 -> 838
A12: 40695 | B12: 486 | C12: 30 | D12: =B12/C12 -> 16.2 | E12: =B12+E11 -> 1324
A13: 40725 | B13: 782 | C13: 31 | D13: =B13/C13 -> 25.225806 | E13: =B13+E12 -> 2106
A14: 40756 | B14: 215 | C14: 31 | D14: =B14/C14 -> 6.9354839 | E14: =B14+E13 -> 2321
A15: 40787 | B15: 219 | C15: 30 | D15: =B15/C15 -> 7.3 | E15: =B15+E14 -> 2540
A16: 40817 | B16: 219 | C16: 31 | D16: =B16/C16 -> 7.0645161 | E16: =B16+E15 -> 2759
A17: 40848 | B17: 219 | C17: 30 | D17: =B17/C17 -> 7.3 | E17: =B17+E16 -> 2978
A18: 40878 | B18: 219 | C18: 31 | D18: =B18/C18 -> 7.0645161 | E18: =B18+E17 -> 3197 | F18: =MAX(D7:D18) -> 27.032258 | G18: =AVERAGE(D7:D18) -> 8.6768817
A19: 40909 | B19: 219 | C19: 31 | D19: =B19/C19 -> 7.0645161 | E19: =B19 -> 219
A20: 40940 | B20: 219 | C20: 29 | D20: =B20/C20 -> 7.5517241 | E20: =B20+E19 -> 438
A21: 40969 | B21: 219 | C21: 31 | D21: =B21/C21 -> 7.0645161 | E21: =B21+E20 -> 657
A22: 41000 | B22: 219 | C22: 30 | D22: =B22/C22 -> 7.3 | E22: =B22+E21 -> 876
A23: 41030 | B23: 332 | C23: 31 | D23: =B23/C23 -> 10.709677 | E23: =B23+E22 -> 1208
A24: 41061 | B24: 431 | C24: 30 | D24: =B24/C24 -> 14.366667 | E24: =B24+E23 -> 1639
A25: 41091 | B25: 431 | C25: 31 | D25: =B25/C25 -> 13.903226 | E25: =B25+E24 -> 2070
A26: 41122 | B26: 43 | C26: 31 | D26: =B26/C26 -> 1.3870968 | E26: =B26+E25 -> 2113
A27: 41153 | B27: 431 | C27: 30 | D27: =B27/C27 -> 14.366667 | E27: =B27+E26 -> 2544
A28: 41183 | B28: 423 | C28: 31 | D28: =B28/C28 -> 13.645161 | E28: =B28+E27 -> 2967
A29: 41214 | B29: 416 | C29: 30 | D29: =B29/C29 -> 13.866667 | E29: =B29+E28 -> 3383
A30: 41244 | B30: 416 | C30: 31 | D30: =B30/C30 -> 13.419355 | E30: =B30+E29 -> 3799 | F30: =MAX(D19:D30) -> 14.366667 | G30: =AVERAGE(D19:D30) -> 10.387106
A31: 41275 | B31: 416 | C31: 31 | D31: =B31/C31 -> 13.419355 | E31: =B31 -> 416
A32: 41306 | B32: 416 | C32: 28 | D32: =B32/C32 -> 14.857143 | E32: =B32+E31 -> 832
A33: 41334 | B33: 416 | C33: 31 | D33: =B33/C33 -> 13.419355 | E33: =B33+E32 -> 1248
A34: 41365 | B34: 416 | C34: 30 | D34: =B34/C34 -> 13.866667 | E34: =B34+E33 -> 1664
A35: 41395 | B35: 416 | C35: 31 | D35: =B35/C35 -> 13.419355 | E35: =B35+E34 -> 2080
A36: 41426 | B36: 416 | C36: 30 | D36: =B36/C36 -> 13.866667 | E36: =B36+E35 -> 2496
A37: 41456 | C37: 31 | D37: =B37/C37 -> 0 | E37: =B37+E36 -> 2496
A38: 41487 | C38: 31 | D38: =B38/C38 -> 0 | E38: =B38+E37 -> 2496
A39: 41518 | C39: 30 | D39: =B39/C39 -> 0 | E39: =B39+E38 -> 2496
A40: 41548 | C40: 31 | D40: =B40/C40 -> 0 | E40: =B40+E39 -> 2496
A41: 41579 | C41: 30 | D41: =B41/C41 -> 0 | E41: =B41+E40 -> 2496
A42: 41609 | C42: 31 | D42: =B42/C42 -> 0 | E42: =B42+E41 -> 2496 | F42: =MAX(D31:D42) -> 14.857143 | G42: =AVERAGE(D31:D42) -> 6.9040451
...

Sheet  

Sheet G
A1: RADNOR HILLS MINERAL WATER COMPANY LTD, RADNOR HILLS, HEARTSEASE
A2: ABSTRACTION VOLUMES FROM 'POINT G' BETWEEN 2011 - 2017
A5: point G - RHD
A6: Date | B6: Water Bottling Monthly Abstracted Volume (m3) | C6: Days in Month | D6: Daily Abstraction (m3/day) | E6: Annual Abstraction (m3) | F6: Max Daily Abstraction (m3/day) | G6: Average Daily Abstraction (m3/day)
A7: 40544 | B7: 1053 | C7: 31 | D7: =B7/C7 -> 33.967742 | E7: =B7 -> 1053
A8: 40575 | B8: 3194 | C8: 28 | D8: =B8/C8 -> 114.07143 | E8: =B8+E7 -> 4247
A9: 40603 | B9: 2334 | C9: 31 | D9: =B9/C9 -> 75.290323 | E9: =B9+E8 -> 6581
A10: 40634 | B10: 2559 | C10: 30 | D10: =B10/C10 -> 85.3 | E10: =B10+E9 -> 9140
A11: 40664 | B11: 2973 | C11: 31 | D11: =B11/C11 -> 95.903226 | E11: =B11+E10 -> 12113
A12: 40695 | B12: 4031 | C12: 30 | D12: =B12/C12 -> 134.36667 | E12: =B12+E11 -> 16144
A13: 40725 | B13: 3080 | C13: 31 | D13: =B13/C13 -> 99.354839 | E13: =B13+E12 -> 19224
A14: 40756 | B14: 2209 | C14: 31 | D14: =B14/C14 -> 71.258065 | E14: =B14+E13 -> 21433
A15: 40787 | B15: 3109 | C15: 30 | D15: =B15/C15 -> 103.63333 | E15: =B15+E14 -> 24542
A16: 40817 | B16: 4453 | C16: 31 | D16: =B16/C16 -> 143.64516 | E16: =B16+E15 -> 28995
A17: 40848 | B17: 2603 | C17: 30 | D17: =B17/C17 -> 86.766667 | E17: =B17+E16 -> 31598
A18: 40878 | B18: 2988 | C18: 31 | D18: =B18/C18 -> 96.387097 | E18: =B18+E17 -> 34586 | F18: =MAX(D7:D18) -> 143.64516 | G18: =AVERAGE(D7:D18) -> 94.995379
A19: 40909 | B19: 3448 | C19: 31 | D19: =B19/C19 -> 111.22581 | E19: =B19 -> 3448
A20: 40940 | B20: 4089 | C20: 29 | D20: =B20/C20 -> 141 | E20: =B20+E19 -> 7537
A21: 40969 | B21: 2779 | C21: 31 | D21: =B21/C21 -> 89.645161 | E21: =B21+E20 -> 10316
A22: 41000 | B22: 2617 | C22: 30 | D22: =B22/C22 -> 87.233333 | E22: =B22+E21 -> 12933
A23: 41030 | B23: 3459 | C23: 31 | D23: =B23/C23 -> 111.58065 | E23: =B23+E22 -> 16392
A24: 41061 | B24: 4129 | C24: 30 | D24: =B24/C24 -> 137.63333 | E24: =B24+E23 -> 20521
A25: 41091 | B25: 2674 | C25: 31 | D25: =B25/C25 -> 86.258065 | E25: =B25+E24 -> 23195
A26: 41122 | B26: 3429 | C26: 31 | D26: =B26/C26 -> 110.6129 | E26: =B26+E25 -> 26624
A27: 41153 | B27: 2774 | C27: 30 | D27: =B27/C27 -> 92.466667 | E27: =B27+E26 -> 29398
A28: 41183 | B28: 2938 | C28: 31 | D28: =B28/C28 -> 94.774194 | E28: =B28+E27 -> 32336
A29: 41214 | B29: 2475 | C29: 30 | D29: =B29/C29 -> 82.5 | E29: =B29+E28 -> 34811
A30: 41244 | B30: 1906 | C30: 31 | D30: =B30/C30 -> 61.483871 | E30: =B30+E29 -> 36717 | F30: =MAX(D19:D30) -> 141 | G30: =AVERAGE(D19:D30) -> 100.5345
A31: 41275 | B31: 2720 | C31: 31 | D31: =B31/C31 -> 87.741935 | E31: =B31 -> 2720
A32: 41306 | B32: 3100 | C32: 28 | D32: =B32/C32 -> 110.71429 | E32: =B32+E31 -> 5820
A33: 41334 | B33: 3368 | C33: 31 | D33: =B33/C33 -> 108.64516 | E33: =B33+E32 -> 9188
A34: 41365 | B34: 3815 | C34: 30 | D34: =B34/C34 -> 127.16667 | E34: =B34+E33 -> 13003
A35: 41395 | B35: 3297 | C35: 31 | D35: =B35/C35 -> 106.35484 | E35: =B35+E34 -> 16300
A36: 41426 | B36: 3615 | C36: 30 | D36: =B36/C36 -> 120.5 | E36: =B36+E35 -> 19915
A37: 41456 | B37: 3118 | C37: 31 | D37: =B37/C37 -> 100.58065 | E37: =B37+E36 -> 23033
A38: 41487 | B38: 2217 | C38: 31 | D38: =B38/C38 -> 71.516129 | E38: =B38+E37 -> 25250
A39: 41518 | B39: 3352 | C39: 30 | D39: =B39/C39 -> 111.73333 | E39: =B39+E38 -> 28602
A40: 41548 | B40: 3782 | C40: 31 | D40: =B40/C40 -> 122 | E40: =B40+E39 -> 32384
A41: 41579 | B41: 2395 | C41: 30 | D41: =B41/C41 -> 79.833333 | E41: =B41+E40 -> 34779
A42: 41609 | B42: 2005 | C42: 31 | D42: =B42/C42 -> 64.677419 | E42: =B42+E41 -> 36784 | F42: =MAX(D31:D42) -> 127.16667 | G42: =AVERAGE(D31:D42) -> 100.95531
...

Sheet H
A1: RADNOR HILLS MINERAL WATER COMPANY LTD, RADNOR HILLS, HEARTSEASE
A2: ABSTRACTION VOLUMES FROM 'POINT H' BETWEEN 2011 - 2017
A5: point H - RHD2
A6: Date | B6: Water Bottling Monthly Abstracted Volume (m3) | C6: Days in Month | D6: Daily Abstraction (m3/day) | E6: Annual Abstraction (m3) | F6: Max Daily Abstraction (m3/day) | G6: Average Daily Abstraction (m3/day)
A7: 40544 | C7: 31 | D7: =B7/C7 -> 0 | E7: =B7 -> 0
A8: 40575 | C8: 28 | D8: =B8/C8 -> 0 | E8: =B8+E7 -> 0
A9: 40603 | C9: 31 | D9: =B9/C9 -> 0 | E9: =B9+E8 -> 0
A10: 40634 | C10: 30 | D10: =B10/C10 -> 0 | E10: =B10+E9 -> 0
A11: 40664 | C11: 31 | D11: =B11/C11 -> 0 | E11: =B11+E10 -> 0
A12: 40695 | C12: 30 | D12: =B12/C12 -> 0 | E12: =B12+E11 -> 0
A13: 40725 | C13: 31 | D13: =B13/C13 -> 0 | E13: =B13+E12 -> 0
A14: 40756 | C14: 31 | D14: =B14/C14 -> 0 | E14: =B14+E13 -> 0
A15: 40787 | B15: 116 | C15: 30 | D15: =B15/C15 -> 3.8666667 | E15: =B15+E14 -> 116
A16: 40817 | B16: 849 | C16: 31 | D16: =B16/C16 -> 27.387097 | E16: =B16+E15 -> 965
A17: 40848 | B17: 1534 | C17: 30 | D17: =B17/C17 -> 51.133333 | E17: =B17+E16 -> 2499
A18: 40878 | B18: 675 | C18: 31 | D18: =B18/C18 -> 21.774194 | E18: =B18+E17 -> 3174 | F18: =MAX(D7:D18) -> 51.133333 | G18: =AVERAGE(D7:D18) -> 8.6801075
A19: 40909 | B19: 693 | C19: 31 | D19: =B19/C19 -> 22.354839 | E19: =B19 -> 693
A20: 40940 | B20: 972 | C20: 29 | D20: =B20/C20 -> 33.517241 | E20: =B20+E19 -> 1665
A21: 40969 | B21: 388 | C21: 31 | D21: =B21/C21 -> 12.516129 | E21: =B21+E20 -> 2053
A22: 41000 | B22: 979 | C22: 30 | D22: =B22/C22 -> 32.633333 | E22: =B22+E21 -> 3032
A23: 41030 | B23: 1048 | C23: 31 | D23: =B23/C23 -> 33.806452 | E23: =B23+E22 -> 4080
A24: 41061 | B24: 1461 | C24: 30 | D24: =B24/C24 -> 48.7 | E24: =B24+E23 -> 5541
A25: 41091 | B25: 1169 | C25: 31 | D25: =B25/C25 -> 37.709677 | E25: =B25+E24 -> 6710
A26: 41122 | B26: 1891 | C26: 31 | D26: =B26/C26 -> 61 | E26: =B26+E25 -> 8601
A27: 41153 | B27: 1319 | C27: 30 | D27: =B27/C27 -> 43.966667 | E27: =B27+E26 -> 9920
A28: 41183 | B28: 1534 | C28: 31 | D28: =B28/C28 -> 49.483871 | E28: =B28+E27 -> 11454
A29: 41214 | B29: 1524 | C29: 30 | D29: =B29/C29 -> 50.8 | E29: =B29+E28 -> 12978
A30: 41244 | B30: 915 | C30: 31 | D30: =B30/C30 -> 29.516129 | E30: =B30+E29 -> 13893 | F30: =MAX(D19:D30) -> 61 | G30: =AVERAGE(D19:D30) -> 38.000362
A31: 41275 | B31: 1645 | C31: 31 | D31: =B31/C31 -> 53.064516 | E31: =B31 -> 1645
A32: 41306 | B32: 1623 | C32: 28 | D32: =B32/C32 -> 57.964286 | E32: =B32+E31 -> 3268
A33: 41334 | B33: 1573 | C33: 31 | D33: =B33/C33 -> 50.741935 | E33: =B33+E32 -> 4841
A34: 41365 | B34: 1459 | C34: 30 | D34: =B34/C34 -> 48.633333 | E34: =B34+E33 -> 6300
A35: 41395 | B35: 2567 | C35: 31 | D35: =B35/C35 -> 82.806452 | E35: =B35+E34 -> 8867
A36: 41426 | B36: 2772 | C36: 30 | D36: =B36/C36 -> 92.4 | E36: =B36+E35 -> 11639
A37: 41456 | B37: 2911 | C37: 31 | D37: =B37/C37 -> 93.903226 | E37: =B37+E36 -> 14550
A38: 41487 | B38: 2213 | C38: 31 | D38: =B38/C38 -> 71.387097 | E38: =B38+E37 -> 16763
A39: 41518 | B39: 2995 | C39: 30 | D39: =B39/C39 -> 99.833333 | E39: =B39+E38 -> 19758
A40: 41548 | B40: 3871 | C40: 31 | D40: =B40/C40 -> 124.87097 | E40: =B40+E39 -> 23629
A41: 41579 | B41: 2387 | C41: 30 | D41: =B41/C41 -> 79.566667 | E41: =B41+E40 -> 26016
A42: 41609 | B42: 2541 | C42: 31 | D42: =B42/C42 -> 81.967742 | E42: =B42+E41 -> 28557 | F42: =MAX(D31:D42) -> 124.87097 | G42: =AVERAGE(D31:D42) -> 78.094963
...

Sheet I
A1: RADNOR HILLS MINERAL WATER COMPANY LTD, RADNOR HILLS, HEARTSEASE
A2: ABSTRACTION VOLUMES FROM 'POINT I' BETWEEN 2015 - 2017
A5: point I - RHF (all uses) | E5: Water Bottling | I5: Domestic (Commercial) | O5: Domestic Residential | U5: General Agricultural Use - Poultry | AB5: General Agricultural Use - Watkins Farm Sheep | AP5: General Agricultural Use - Watkins Farm Agrochemical Spraying | AV5: Total Annual Use Watkins Farm (m3)
A6: Date | B6: Total Daily Abstraction (m3) | C6: Total Annual Abstraction (m3) | E6: Date | F6: Daily Abstraction (m3/day) | G6: Annual Abstraction (m3) | I6: Year | J6: Number of Office Employees | K6: Standard Daily Usage (l/person) | L6: Daily Usage (m3) | M6: Annual Usage (m3) | O6: Year | P6: Number of Residents | Q6: Standard Daily Usage (l/person) | R6: Daily Usage (m3) | S6: Annual Usage (m3) | U6: Year | V6: Number of Chicken Houses | W6: Number of Crops per Year | X6: Use by Chicken House (m3/year) | Y6: Daily Usage (m3) | Z6: Annual Usage (m3) | AB6: Year | AC6: Number of Sheep | AD6: Standard Daily Usage Drinking (l/animal/day) | AE6: Sheep Daily Drinking Usage (m3) | AF6: Number of Lambs (6 months) | AG6: Standard Daily Usage Drinking (l/animal/day) | AH6: Lambs Daily Drinking Usage (m3) | AI6: Yearly Drinking Usage (m3) | AJ6: Standard Daily Usage Dipping (l/animal/dip) | AK6: Usage per Dip (m3) | AL6: Dips per year | AM6: Dip usage (m3) | AN6: Yearly Dipping Usage (m3) | AO6: Sheep Annual Usage (m3) | AP6: Crop Area (ha) | AQ6: Water Usage (l/ha) | AR6: Usage per spray (m3) | AS6: Number of sprays | AT6: Daily Usage (m3) | AU6: Annual Usage (m3)
A7: 2011 | E7: 2011 | I7: 2011 | O7: 2011 | U7: 2011 | Z7: =V7*W7*X7 -> 0 | AB7: 2011
A8: 2012 | E8: 2012 | I8: 2012 | O8: 2012 | U8: 2012 | Z8: =V8*W8*X8 -> 0 | AB8: 2012
A9: 2013 | E9: 2013 | I9: 2013 | O9: 2013 | U9: 2013 | Z9: =V9*W9*X9 -> 0 | AB9: 2013
A10: 2014 | E10: 2014 | I10: 2014 | O10: 2014 | U10: 2014 | Z10: =V10*W10*X10 -> 0 | AB10: 2014
A11: 2015 | B11: =F11+L11+R11+Y11 -> 28.082192 | C11: =G11+M11+S11+Z11+AV11 -> 12614.567 | E11: 2015 | F11: =G11/365 -> 1.9315068 | G11: 705 | I11: 2015 | J11: 103 | K11: 100 | L11: =K11*J11/1000 -> 10.3 | M11: =L11*365 -> 3759.5 | O11: 2015 | P11: 18 | Q11: 150 | R11: =Q11*P11/1000 -> 2.7 | S11: =R11*365 -> 985.5 | U11: 2015 | V11: 2 | W11: 8 | X11: 300 | Y11: =Z11/365 -> 13.150685 | Z11: =V11*W11*X11 -> 4800 | AB11: 2015 | AC11: 802 | AD11: 5 | AE11: =(AD11*AC11)/1000 -> 4.01 | AF11: 819 | AG11: 5 | AH11: =(AG11*AF11)/1000 -> 4.095 | AI11: =(AE11*365)+(AH11*183) -> 2213.035 | AJ11: 2.5 | AK11: =(AJ11*AC11)/1000 -> 2.005 | AL11: 3 | AM11: =AK11 -> 2.005 | AN11: =AK11*AJ11 -> 5.0125 | AO11: =AN11+AI11 -> 2218.0475 | AP11: 148 | AQ11: 165 | AR11: =(AQ11*AP11)/1000 -> 24.42 | AS11: 6 | AT11: =AR11 -> 24.42 | AU11: =AS11*AR11 -> 146.52 | AV11: =AU11+AO11 -> 2364.5675
A12: 2016 | B12: =F12+L12+R12+Y12 -> 34.783562 | C12: =G12+M12+S12+Z12+AV12 -> 15060.567 | E12: 2016 | F12: =G12/365 -> 8.6328767 | G12: 3151 | I12: 2016 | J12: 103 | K12: 100 | L12: =K12*J12/1000 -> 10.3 | M12: =L12*365 -> 3759.5 | O12: 2016 | P12: 18 | Q12: 150 | R12: =Q12*P12/1000 -> 2.7 | S12: =R12*365 -> 985.5 | U12: 2016 | V12: 2 | W12: 8 | X12: 300 | Y12: =Z12/365 -> 13.150685 | Z12: =V12*W12*X12 -> 4800 | AB12: 2016 | AC12: 802 | AD12: 5 | AE12: =(AD12*AC12)/1000 -> 4.01 | AF12: 819 | AG12: 5 | AH12: =(AG12*AF12)/1000 -> 4.095 | AI12: =(AE12*365)+(AH12*183) -> 2213.035 | AJ12: 2.5 | AK12: =(AJ12*AC12)/1000 -> 2.005 | AL12: 3 | AM12: =AK12 -> 2.005 | AN12: =AK12*AJ12 -> 5.0125 | AO12: =AN12+AI12 -> 2218.0475 | AP12: 148 | AQ12: 165 | AR12: =(AQ12*AP12)/1000 -> 24.42 | AS12: 6 | AT12: =AR12 -> 24.42 | AU12: =AS12*AR12 -> 146.52 | AV12: =AU12+AO12 -> 2364.5675
A13: 2017 | B13: =F13+L13+R13+Y13 -> 33.241096 | C13: =G13+M13+S13+Z13+AV13 -> 14497.567 | E13: 2017 | F13: =G13/365 -> 7.090411 | G13: 2588 | I13: 2017 | J13: 103 | K13: 100 | L13: =K13*J13/1000 -> 10.3 | M13: =L13*365 -> 3759.5 | O13: 2017 | P13: 18 | Q13: 150 | R13: =Q13*P13/1000 -> 2.7 | S13: =R13*365 -> 985.5 | U13: 2017 | V13: 2 | W13: 8 | X13: 300 | Y13: =Z13/365 -> 13.150685 | Z13: =V13*W13*X13 -> 4800 | AB13: 2017 | AC13: 802 | AD13: 5 | AE13: =(AD13*AC13)/1000 -> 4.01 | AF13: 819 | AG13: 5 | AH13: =(AG13*AF13)/1000 -> 4.095 | AI13: =(AE13*365)+(AH13*183) -> 2213.035 | AJ13: 2.5 | AK13: =(AJ13*AC13)/1000 -> 2.005 | AL13: 3 | AM13: =AK13 -> 2.005 | AN13: =AK13*AJ13 -> 5.0125 | AO13: =AN13+AI13 -> 2218.0475 | AP13: 148 | AQ13: 165 | AR13: =(AQ13*AP13)/1000 -> 24.42 | AS13: 6 | AT13: =AR13 -> 24.42 | AU13: =AS13*AR13 -> 146.52 | AV13: =AU13+AO13 -> 2364.5675

Sheet J
A1: RADNOR HILLS MINERAL WATER COMPANY LTD, RADNOR HILLS, HEARTSEASE
A2: ABSTRACTION VOLUMES FROM 'POINT J' BETWEEN 2016 - 2017
A5: point J - RHG3
B6: Water Bottling Monthly Abstracted Volume (m3) | C6: Days in Month | D6: Daily Abstraction (m3/day) | E6: Annual Abstraction (m3) | F6: Max Daily Abstraction (m3/day) | G6: Average Daily Abstraction (m3/day)
A7: 40544 | B7: No abstraction until 2016
A8: 40575
A9: 40603
A10: 40634
A11: 40664
A12: 40695
A13: 40725
A14: 40756
A15: 40787
A16: 40817
A17: 40848
A18: 40878
A19: 40909
... A75: 42614
A76: 42644 | B76: 254.15 | C76: 31 | D76: =B76/C76 -> 8.1983871 | E76: =B76+E75 -> 254.15
A77: 42675 | B77: 499.1 | C77: 30 | D77: =B77/C77 -> 16.636667 | E77: =B77+E76 -> 753.25
A78: 42705 | B78: 271.4 | C78: 31 | D78: =B78/C78 -> 8.7548387 | E78: =B78+E77 -> 1024.65 | F78: =MAX(D67:D78) -> 16.636667 | G78: =AVERAGE(D67:D78) -> 11.196631
A79: 42736 | B79: 272.55 | C79: 31 | D79: =B79/C79 -> 8.7919355 | E79: =B79 -> 272.55
A80: 42767 | B80: 225.4 | C80: 28 | D80: =B80/C80 -> 8.05 | E80: =B80+E79 -> 497.95
A81: 42795 | B81: 311.65 | C81: 31 | D81: =B81/C81 -> 10.053226 | E81: =B81+E80 -> 809.6
A82: 42826 | B82: 311.65 | C82: 30 | D82: =B82/C82 -> 10.388333 | E82: =B82+E81 -> 1121.25
A83: 42856 | B83: 585.35 | C83: 31 | D83: =B83/C83 -> 18.882258 | E83: =B83+E82 -> 1706.6
A84: 42887 | B84: 596.85 | C84: 30 | D84: =B84/C84 -> 19.895 | E84: =B84+E83 -> 2303.45
A85: 42917 | B85: 394.45 | C85: 31 | D85: =B85/C85 -> 12.724194 | E85: =B85+E84 -> 2697.9
A86: 42948 | B86: 174.8 | C86: 31 | D86: =B86/C86 -> 5.6387097 | E86: =B86+E85 -> 2872.7
A87: 42979 | B87: 592.25 | C87: 30 | D87: =B87/C87 -> 19.741667 | E87: =B87+E86 -> 3464.95
A88: 43009 | B88: 692.3 | C88: 31 | D88: =B88/C88 -> 22.332258 | E88: =B88+E87 -> 4157.25
A89: 43040 | B89: 721.05 | C89: 30 | D89: =B89/C89 -> 24.035 | E89: =B89+E88 -> 4878.3
A90: 43070 | B90: 804 | C90: 31 | D90: =B90/C90 -> 25.935484 | E90: =B90+E89 -> 5682.3 | F90: =MAX(D79:D90) -> 25.935484 | G90: =AVERAGE(D79:D90) -> 15.539005
A91: Max | E91: =MAX(E18:E90) -> 5682.3 | F91: =MAX(F18:F90) -> 25.935484 | G91: =MAX(G18:G90) -> 15.539005

Sheet K
A1: RADNOR HILLS MINERAL WATER COMPANY LTD, RADNOR HILLS, HEARTSEASE
A2: ABSTRACTION VOLUMES FROM 'POINT K' BETWEEN 2016 - 2017
A5: point K - RHG2
B6: Water Bottling Monthly Abstracted Volume (m3) | C6: Days in Month | D6: Daily Abstraction (m3/day) | E6: Annual Abstraction (m3) | F6: Max Daily Abstraction (m3/day) | G6: Average Daily Abstraction (m3/day)
A7: 40544 | B7: No abstraction until 2016
A8: 40575
A9: 40603
A10: 40634
A11: 40664
A12: 40695
A13: 40725
A14: 40756
A15: 40787
A16: 40817
A17: 40848
A18: 40878
A19: 40909
... A77: 42675
A78: 42705 | B78: 125 | C78: 31 | D78: =B78/C78 -> 4.0322581 | E78: =B78+E77 -> 125 | F78: =MAX(D67:D78) -> 4.0322581 | G78: =AVERAGE(D67:D78) -> 4.0322581
A79: 42736 | C79: 31 | D79: =B79/C79 -> 0 | E79: =B79 -> 0
A80: 42767 | C80: 28 | D80: =B80/C80 -> 0 | E80: =B80+E79 -> 0
A81: 42795 | C81: 31 | D81: =B81/C81 -> 0 | E81: =B81+E80 -> 0
A82: 42826 | C82: 30 | D82: =B82/C82 -> 0 | E82: =B82+E81 -> 0
A83: 42856 | C83: 31 | D83: =B83/C83 -> 0 | E83: =B83+E82 -> 0
A84: 42887 | C84: 30 | D84: =B84/C84 -> 0 | E84: =B84+E83 -> 0
A85: 42917 | C85: 31 | D85: =B85/C85 -> 0 | E85: =B85+E84 -> 0
A86: 42948 | C86: 31 | D86: =B86/C86 -> 0 | E86: =B86+E85 -> 0
A87: 42979 | B87: 1422 | C87: 30 | D87: =B87/C87 -> 47.4 | E87: =B87+E86 -> 1422
A88: 43009 | B88: 1864 | C88: 31 | D88: =B88/C88 -> 60.129032 | E88: =B88+E87 -> 3286
A89: 43040 | B89: 1919 | C89: 30 | D89: =B89/C89 -> 63.966667 | E89: =B89+E88 -> 5205
A90: 43070 | B90: 1988 | C90: 31 | D90: =B90/C90 -> 64.129032 | E90: =B90+E89 -> 7193 | F90: =MAX(D79:D90) -> 64.129032 | G90: =AVERAGE(D79:D90) -> 19.635394
A91: Max | E91: =MAX(E18:E90) -> 7193 | F91: =MAX(F18:F90) -> 64.129032 | G91: =MAX(G18:G90) -> 19.635394

Sheet L
A1: RADNOR HILLS MINERAL WATER COMPANY LTD, RADNOR HILLS, HEARTSEASE
A2: ABSTRACTION VOLUMES FROM 'POINT L' BETWEEN 2014 - 2017
A5: point L - RHG
B6: Water Bottling Monthly Abstracted Volume (m3) | C6: Days in Month | D6: Daily Abstraction (m3/day) | E6: Annual Abstraction (m3) | F6: Max Daily Abstraction (m3/day) | G6: Average Daily Abstraction (m3/day)
A7: 40544 | B7: No abstraction until 2014
A8: 40575
A9: 40603
A10: 40634
A11: 40664
A12: 40695
A13: 40725
A14: 40756
A15: 40787
A16: 40817
A17: 40848
A18: 40878
A19: 40909
... A47: 41760
A48: 41791 | B48: 602 | C48: 30 | D48: =B48/C48 -> 20.066667 | E48: =B48+E47 -> 602
A49: 41821 | B49: 911 | C49: 31 | D49: =B49/C49 -> 29.387097 | E49: =B49+E48 -> 1513
A50: 41852 | B50: 855 | C50: 31 | D50: =B50/C50 -> 27.580645 | E50: =B50+E49 -> 2368
A51: 41883 | B51: 966 | C51: 30 | D51: =B51/C51 -> 32.2 | E51: =B51+E50 -> 3334
A52: 41913 | B52: 1357 | C52: 31 | D52: =B52/C52 -> 43.774194 | E52: =B52+E51 -> 4691
A53: 41944 | B53: 1667 | C53: 30 | D53: =B53/C53 -> 55.566667 | E53: =B53+E52 -> 6358
A54: 41974 | B54: 985 | C54: 31 | D54: =B54/C54 -> 31.774194 | E54: =B54+E53 -> 7343 | F54: =MAX(D43:D54) -> 55.566667 | G54: =AVERAGE(D43:D54) -> 34.335637
A55: 42005 | B55: 1350.1 | C55: 31 | D55: =B55/C55 -> 43.551613 | E55: =B55 -> 1350.1
A56: 42036 | B56: 1233.95 | C56: 28 | D56: =B56/C56 -> 44.069643 | E56: =B56+E55 -> 2584.05
A57: 42064 | B57: 2640.4 | C57: 31 | D57: =B57/C57 -> 85.174194 | E57: =B57+E56 -> 5224.45
A58: 42095 | B58: 2126.35 | C58: 30 | D58: =B58/C58 -> 70.878333 | E58: =B58+E57 -> 7350.8
A59: 42125 | B59: 1937.75 | C59: 31 | D59: =B59/C59 -> 62.508065 | E59: =B59+E58 -> 9288.55
A60: 42156 | B60: 1723.85 | C60: 30 | D60: =B60/C60 -> 57.461667 | E60: =B60+E59 -> 11012.4
A61: 42186 | B61: 3190.1 | C61: 31 | D61: =B61/C61 -> 102.90645 | E61: =B61+E60 -> 14202.5
A62: 42217 | B62: 1006.25 | C62: 31 | D62: =B62/C62 -> 32.459677 | E62: =B62+E61 -> 15208.75
A63: 42248 | B63: 1529.5 | C63: 30 | D63: =B63/C63 -> 50.983333 | E63: =B63+E62 -> 16738.25
A64: 42278 | B64: 1357 | C64: 31 | D64: =B64/C64 -> 43.774194 | E64: =B64+E63 -> 18095.25
A65: 42309 | B65: 1444.4 | C65: 30 | D65: =B65/C65 -> 48.146667 | E65: =B65+E64 -> 19539.65
A66: 42339 | B66: 1638.75 | C66: 31 | D66: =B66/C66 -> 52.862903 | E66: =B66+E65 -> 21178.4 | F66: =MAX(D55:D66) -> 102.90645 | G66: =AVERAGE(D55:D66) -> 57.898062
A67: 42370 | B67: 2112.55 | C67: 31 | D67: =B67/C67 -> 68.146774 | E67: =B67 -> 2112.55
A68: 42401 | B68: 3616.75 | C68: 29 | D68: =B68/C68 -> 124.71552 | E68: =B68+E67 -> 5729.3
A69: 42430 | B69: 2720.9 | C69: 31 | D69: =B69/C69 -> 87.770968 | E69: =B69+E68 -> 8450.2
...

Sheet   

Sheet M
A1: RADNOR HILLS MINERAL WATER COMPANY LTD, RADNOR HILLS, HEARTSEASE
A2: ABSTRACTION VOLUMES FROM 'POINT M' BETWEEN 2014 - 2017
A5: point M - RHM
A6: Date | B6: Water Bottling Monthly Abstracted Volume (m3) | C6: Days in Month | D6: Daily Abstraction (m3/day) | E6: Annual Abstraction (m3) | F6: Average Daily Abstraction (m3/day) | G6: Max Daily Abstraction (m3/day)
A7: 40544
A8: 40575
A9: 40603
A10: 40634
A11: 40664
A12: 40695
A13: 40725
A14: 40756
A15: 40787
A16: 40817
A17: 40848
A18: 40878
... A48: 41791
A49: 41821 | B49: 442 | C49: 31 | D49: =B49/C49 -> 14.258065 | E49: =B49+E48 -> 442
A50: 41852 | B50: 1103 | C50: 31 | D50: =B50/C50 -> 35.580645 | E50: =B50+E49 -> 1545
A51: 41883 | B51: 1305 | C51: 30 | D51: =B51/C51 -> 43.5 | E51: =B51+E50 -> 2850
A52: 41913 | B52: 2419 | C52: 31 | D52: =B52/C52 -> 78.032258 | E52: =B52+E51 -> 5269
A53: 41944 | B53: 1136 | C53: 30 | D53: =B53/C53 -> 37.866667 | E53: =B53+E52 -> 6405
A54: 41974 | B54: 951 | C54: 31 | D54: =B54/C54 -> 30.677419 | E54: =B54+E53 -> 7356 | F54: =AVERAGE(D43:D54) -> 39.985842 | G54: =MAX(D43:D54) -> 78.032258
A55: 42005 | B55: 1025.8 | C55: 31 | D55: =B55/C55 -> 33.090323 | E55: =B55 -> 1025.8
A56: 42036 | B56: 841.8 | C56: 28 | D56: =B56/C56 -> 30.064286 | E56: =B56+E55 -> 1867.6
A57: 42064 | B57: 1896.35 | C57: 31 | D57: =B57/C57 -> 61.172581 | E57: =B57+E56 -> 3763.95
A58: 42095 | B58: 4211.3 | C58: 30 | D58: =B58/C58 -> 140.37667 | E58: =B58+E57 -> 7975.25
A59: 42125 | B59: 1750.3 | C59: 31 | D59: =B59/C59 -> 56.46129 | E59: =B59+E58 -> 9725.55
A60: 42156 | B60: 1848.05 | C60: 30 | D60: =B60/C60 -> 61.601667 | E60: =B60+E59 -> 11573.6
A61: 42186 | B61: 1665.2 | C61: 31 | D61: =B61/C61 -> 53.716129 | E61: =B61+E60 -> 13238.8
A62: 42217 | B62: 1062.6 | C62: 31 | D62: =B62/C62 -> 34.277419 | E62: =B62+E61 -> 14301.4
A63: 42248 | B63: 2089.55 | C63: 30 | D63: =B63/C63 -> 69.651667 | E63: =B63+E62 -> 16390.95
A64: 42278 | B64: 2765.75 | C64: 31 | D64: =B64/C64 -> 89.217742 | E64: =B64+E63 -> 19156.7
A65: 42309 | B65: 2080.35 | C65: 30 | D65: =B65/C65 -> 69.345 | E65: =B65+E64 -> 21237.05
A66: 42339 | B66: 4052.6 | C66: 31 | D66: =B66/C66 -> 130.72903 | E66: =B66+E65 -> 25289.65 | F66: =AVERAGE(D55:D66) -> 69.141983 | G66: =MAX(D55:D66) -> 140.37667
A67: 42370 | B67: 1662.9 | C67: 31 | D67: =B67/C67 -> 53.641935 | E67: =B67 -> 1662.9
A68: 42401 | B68: 3286.7 | C68: 29 | D68: =B68/C68 -> 113.33448 | E68: =B68+E67 -> 4949.6
A69: 42430 | B69: 2396.6 | C69: 31 | D69: =B69/C69 -> 77.309677 | E69: =B69+E68 -> 7346.2
A70: 42461 | B70: 2528.85 | C70: 30 | D70: =B70/C70 -> 84.295 | E70: =B70+E69 -> 9875.05
A71: 42491 | B71: 3989.35 | C71: 31 | D71: =B71/C71 -> 128.68871 | E71: =B71+E70 -> 13864.4
...

Sheet N
A1: RADNOR HILLS MINERAL WATER COMPANY LTD, RADNOR HILLS, HEARTSEASE
A2: ABSTRACTION VOLUMES FROM 'POINT N' BETWEEN 2011 - 2017
A5: point D - RHO (all uses) | E5: Water Bottling | I5: Domestic Residential
A6: Date | B6: Total Average Daily Abstraction (m3) | C6: Total Annual Abstraction (m3) | E6: Date | F6: Daily Abstraction (m3/day) | G6: Annual Abstraction (m3) | I6: Year | J6: Number of Residents | K6: Standard Daily Usage (l/person) | L6: Daily Usage (m3) | M6: Annual Usage (m3)
A7: 2011 | B7: =F7+L7+Q7+X7 -> 40.178082 | C7: =G7+M7+R7+Y7 -> 14665 | E7: 2011 | F7: =G7/365 -> 38.678082 | G7: =14665-M7 -> 14117.5 | I7: 2011 | J7: 10 | K7: 150 | L7: =K7*J7/1000 -> 1.5 | M7: =L7*365 -> 547.5
A8: 2012 | B8: =F8+L8+Q8+X8 -> 40.989041 | C8: =G8+M8+R8+Y8 -> 14961 | E8: 2012 | F8: =G8/365 -> 39.489041 | G8: =14961-M8 -> 14413.5 | I8: 2012 | J8: 10 | K8: 150 | L8: =K8*J8/1000 -> 1.5 | M8: =L8*365 -> 547.5
A9: 2013 | B9: =F9+L9+Q9+X9 -> 29 | C9: =G9+M9+R9+Y9 -> 10585 | E9: 2013 | F9: =G9/365 -> 27.5 | G9: =10585-M9 -> 10037.5 | I9: 2013 | J9: 10 | K9: 150 | L9: =K9*J9/1000 -> 1.5 | M9: =L9*365 -> 547.5
A10: 2014 | B10: =F10+L10+Q10+X10 -> 16.720548 | C10: =G10+M10+R10+Y10 -> 6103 | E10: 2014 | F10: =G10/365 -> 15.220548 | G10: =6103-M10 -> 5555.5 | I10: 2014 | J10: 10 | K10: 150 | L10: =K10*J10/1000 -> 1.5 | M10: =L10*365 -> 547.5
A11: 2015 | B11: =F11+L11+Q11+X11 -> 25.071233 | C11: =G11+M11+R11+Y11 -> 9151 | E11: 2015 | F11: =G11/365 -> 23.571233 | G11: =9151-M11 -> 8603.5 | I11: 2015 | J11: 10 | K11: 150 | L11: =K11*J11/1000 -> 1.5 | M11: =L11*365 -> 547.5
A12: 2016 | B12: =F12+L12+Q12+X12 -> 22.553425 | C12: =G12+M12+R12+Y12 -> 8232 | E12: 2016 | F12: =G12/365 -> 21.053425 | G12: =8232-M12 -> 7684.5 | I12: 2016 | J12: 10 | K12: 150 | L12: =K12*J12/1000 -> 1.5 | M12: =L12*365 -> 547.5
A13: 2017 | B13: =F13+L13+Q13+X13 -> 25.183562 | C13: =G13+M13+R13+Y13 -> 9192 | E13: 2017 | F13: =G13/365 -> 23.683562 | G13: =9192-M13 -> 8644.5 | I13: 2017 | J13: 10 | K13: 150 | L13: =K13*J13/1000 -> 1.5 | M13: =L13*365 -> 547.5

Sheet O
A1: RADNOR HILLS MINERAL WATER COMPANY LTD, RADNOR HILLS, HEARTSEASE
A2: ABSTRACTION VOLUMES FROM 'POINT O' BETWEEN 2011 - 2017
A5: point O - RHLRO
B6: Water Bottling Monthly Abstracted Volume (m3) | C6: Days in Month | D6: Daily Abstraction (m3/day) | E6: Annual Abstraction (m3) | F6: Average Daily Abstraction (m3/day) | G6: Max Daily Abstraction (m3/day)
A7: 40544 | B7: 71 | C7: 31 | D7: =B7/C7 -> 2.2903226 | E7: =B7 -> 71
A8: 40575 | B8: 109 | C8: 28 | D8: =B8/C8 -> 3.8928571 | E8: =B8+E7 -> 180
A9: 40603 | B9: 127 | C9: 31 | D9: =B9/C9 -> 4.0967742 | E9: =B9+E8 -> 307
A10: 40634 | B10: 133 | C10: 30 | D10: =B10/C10 -> 4.4333333 | E10: =B10+E9 -> 440
A11: 40664 | B11: 166 | C11: 31 | D11: =B11/C11 -> 5.3548387 | E11: =B11+E10 -> 606
A12: 40695 | B12: 145 | C12: 30 | D12: =B12/C12 -> 4.8333333 | E12: =B12+E11 -> 751
A13: 40725 | B13: 127 | C13: 31 | D13: =B13/C13 -> 4.0967742 | E13: =B13+E12 -> 878
A14: 40756 | B14: 99 | C14: 31 | D14: =B14/C14 -> 3.1935484 | E14: =B14+E13 -> 977
A15: 40787 | B15: 84 | C15: 30 | D15: =B15/C15 -> 2.8 | E15: =B15+E14 -> 1061
A16: 40817 | B16: 86 | C16: 31 | D16: =B16/C16 -> 2.7741935 | E16: =B16+E15 -> 1147
A17: 40848 | B17: 87 | C17: 30 | D17: =B17/C17 -> 2.9 | E17: =B17+E16 -> 1234
A18: 40878 | B18: 69 | C18: 31 | D18: =B18/C18 -> 2.2258065 | E18: =B18+E17 -> 1303 | F18: =AVERAGE(D7:D18) -> 3.5743152 | G18: =MAX(D7:D18) -> 5.3548387
A19: 40909 | B19: 49 | C19: 31 | D19: =B19/C19 -> 1.5806452 | E19: =B19 -> 49
A20: 40940 | B20: 187 | C20: 29 | D20: =B20/C20 -> 6.4482759 | E20: =B20+E19 -> 236
A21: 40969 | B21: 141 | C21: 31 | D21: =B21/C21 -> 4.5483871 | E21: =B21+E20 -> 377
A22: 41000 | B22: 139 | C22: 30 | D22: =B22/C22 -> 4.6333333 | E22: =B22+E21 -> 516
A23: 41030 | B23: 171 | C23: 31 | D23: =B23/C23 -> 5.516129 | E23: =B23+E22 -> 687
A24: 41061 | B24: 220 | C24: 30 | D24: =B24/C24 -> 7.3333333 | E24: =B24+E23 -> 907
A25: 41091 | B25: 205 | C25: 31 | D25: =B25/C25 -> 6.6129032 | E25: =B25+E24 -> 1112
A26: 41122 | B26: 189 | C26: 31 | D26: =B26/C26 -> 6.0967742 | E26: =B26+E25 -> 1301
A27: 41153 | B27: 215 | C27: 30 | D27: =B27/C27 -> 7.1666667 | E27: =B27+E26 -> 1516
A28: 41183 | B28: 184 | C28: 31 | D28: =B28/C28 -> 5.9354839 | E28: =B28+E27 -> 1700
A29: 41214 | B29: 212 | C29: 30 | D29: =B29/C29 -> 7.0666667 | E29: =B29+E28 -> 1912
A30: 41244 | B30: 295 | C30: 31 | D30: =B30/C30 -> 9.516129 | E30: =B30+E29 -> 2207 | F30: =AVERAGE(D19:D30) -> 6.037894 | G30: =MAX(D19:D30) -> 9.516129
A31: 41275 | B31: 223 | C31: 31 | D31: =B31/C31 -> 7.1935484 | E31: =B31 -> 223
A32: 41306 | B32: 180 | C32: 28 | D32: =B32/C32 -> 6.4285714 | E32: =B32+E31 -> 403
A33: 41334 | B33: 158 | C33: 31 | D33: =B33/C33 -> 5.0967742 | E33: =B33+E32 -> 561
A34: 41365 | B34: 212 | C34: 30 | D34: =B34/C34 -> 7.0666667 | E34: =B34+E33 -> 773
A35: 41395 | B35: 191 | C35: 31 | D35: =B35/C35 -> 6.1612903 | E35: =B35+E34 -> 964
A36: 41426 | B36: 201 | C36: 30 | D36: =B36/C36 -> 6.7 | E36: =B36+E35 -> 1165
A37: 41456 | B37: 15 | C37: 31 | D37: =B37/C37 -> 0.48387097 | E37: =B37+E36 -> 1180
A38: 41487 | B38: 27 | C38: 31 | D38: =B38/C38 -> 0.87096774 | E38: =B38+E37 -> 1207
A39: 41518 | B39: 35 | C39: 30 | D39: =B39/C39 -> 1.1666667 | E39: =B39+E38 -> 1242
A40: 41548 | B40: 39 | C40: 31 | D40: =B40/C40 -> 1.2580645 | E40: =B40+E39 -> 1281
A41: 41579 | B41: 31 | C41: 30 | D41: =B41/C41 -> 1.0333333 | E41: =B41+E40 -> 1312
A42: 41609 | B42: 42 | C42: 31 | D42: =B42/C42 -> 1.3548387 | E42: =B42+E41 -> 1354 | F42: =AVERAGE(D31:D42) -> 3.7345494 | G42: =MAX(D31:D42) -> 7.1935484
...

Sheet    

Sheet Summary WB
A1: RADNOR HILLS MINERAL WATER COMPANY LTD, RADNOR HILLS, HEARTSEASE
A2: ABSTRACTION VOLUMES FROM WELSH BEDROCK BETWEEN 2011 - 2017
A5: Welsh Bedrock Abstraction (A, B, C, D, E, F)
A6: Year | B6: Water Bottling (m3/yr) | C6: Domestic (Residential) (m3/yr) | D6: Domestic (Commercial) (m3/yr) | E6: General Agriculture (m3/yr) | F6: Annual (m3/yr) | G6: Average Daily (m3/day)
A7: 2011 | B7: =A!G7+B!G7+'C'!E18+D!G7+E!E18+F!E18 -> 30225.5 | C7: =A!S7+B!M7 -> 1861.5 | D7: =A!M7+D!M7 -> 9052 | E7: =A!Z7+B!T7+B!AP7 -> 19128.22 | F7: =E7+D7+C7+B7 -> 60267.22 | G7: =F7/365 -> 165.11567
A8: 2012 | B8: =A!G8+B!G8+'C'!E30+D!G8+E!E30+F!E30 -> 31234.5 | C8: =A!S8+B!M8 -> 1861.5 | D8: =A!M8+D!M8 -> 9052 | E8: =A!Z8+B!T8+B!AP8 -> 19128.22 | F8: =E8+D8+C8+B8 -> 61276.22 | G8: =F8/365 -> 167.88005
A9: 2013 | B9: =A!G9+B!G9+'C'!E42+D!G9+E!E42+F!E42 -> 27175.5 | C9: =A!S9+B!M9 -> 1861.5 | D9: =A!M9+D!M9 -> 9052 | E9: =A!Z9+B!T9+B!AP9 -> 19128.22 | F9: =E9+D9+C9+B9 -> 57217.22 | G9: =F9/365 -> 156.75951
A10: 2014 | B10: =A!G10+B!G10+'C'!E54+D!G10+E!E54+F!E54 -> 20660.5 | C10: =A!S10+B!M10 -> 1861.5 | D10: =A!M10+D!M10 -> 9052 | E10: =A!Z10+B!T10+B!AP10 -> 19128.22 | F10: =E10+D10+C10+B10 -> 50702.22 | G10: =F10/365 -> 138.91019
A11: 2015 | B11: =A!G11+B!G11+'C'!E66+D!G11+E!E66+F!E66 -> 53274.3 | C11: =A!S11+B!M11 -> 1587.75 | D11: =A!M11+D!M11 -> 4580.75 | E11: =A!Z11+B!T11+B!AP11 -> 11963.653 | F11: =E11+D11+C11+B11 -> 71406.452 | G11: =F11/365 -> 195.63412
A12: 2016 | B12: =A!G12+B!G12+'C'!E78+D!G12+E!E78+F!E78 -> 53545.75 | C12: =A!S12+B!M12 -> 1587.75 | D12: =A!M12+D!M12 -> 4580.75 | E12: =A!Z12+B!T12+B!AP12 -> 11963.653 | F12: =E12+D12+C12+B12 -> 71677.902 | G12: =F12/365 -> 196.37782
A13: 2017 | B13: =A!G13+B!G13+'C'!E90+D!G13+E!E90+F!E90 -> 62247.3 | C13: =A!S13+B!M13 -> 1587.75 | D13: =A!M13+D!M13 -> 4580.75 | E13: =A!Z13+B!T13+B!AP13 -> 11963.653 | F13: =E13+D13+C13+B13 -> 80379.452 | G13: =F13/365 -> 220.21768
A14: Max | B14: =MAX(B7:B13) -> 62247.3 | C14: =MAX(C7:C13) -> 1861.5 | D14: =MAX(D7:D13) -> 9052 | E14: =MAX(E7:E13) -> 19128.22 | F14: =MAX(F7:F13) -> 80379.452 | G14: =MAX(G7:G13) -> 220.21768

Sheet Summary WS
A1: RADNOR HILLS MINERAL WATER COMPANY LTD, RADNOR HILLS, HEARTSEASE
A2: ABSTRACTION VOLUMES FROM WELSH SUPERFICIALS BETWEEN 2011 - 2017
A5: Welsh Superficial Abstraction (G, H, I, J, K, L)
A6: Year | B6: Water Bottling (m3/yr) | C6: Domestic (Residential) (m3/yr) | D6: Domestic (Commercial) (m3/yr) | E6: General Agriculture (m3/yr) | F6: Annual (m3/yr) | G6: Average Daily (m3/day)
A7: 2011 | B7: =G!E18+H!E18+I!G7+J!E18+K!E18+L!E18 -> 37760 | C7: =I!S7 -> 0 | D7: =I!M7 -> 0 | E7: =I!S7+I!AV7 -> 0 | F7: =SUM(B7:E7) -> 37760 | G7: =F7/365 -> 103.45205
A8: 2012 | B8: =G!E30+H!E30+I!G8+J!E30+K!E30+L!E30 -> 50610 | C8: =I!S8 -> 0 | D8: =I!M8 -> 0 | E8: =I!S8+I!AV8 -> 0 | F8: =SUM(B8:E8) -> 50610 | G8: =F8/365 -> 138.65753
A9: 2013 | B9: =G!E42+H!E42+I!G9+J!E42+K!E42+L!E42 -> 65341 | C9: =I!S9 -> 0 | D9: =I!M9 -> 0 | E9: =I!S9+I!AV9 -> 0 | F9: =SUM(B9:E9) -> 65341 | G9: =F9/365 -> 179.01644
A10: 2014 | B10: =G!E54+H!E54+I!G10+J!E54+K!E54+L!E54 -> 78056 | C10: =I!S10 -> 0 | D10: =I!M10 -> 0 | E10: =I!S10+I!AV10 -> 0 | F10: =SUM(B10:E10) -> 78056 | G10: =F10/365 -> 213.85205
A11: 2015 | B11: =G!E66+H!E66+I!G11+J!E66+K!E66+L!E66 -> 95012.4 | C11: =I!S11 -> 985.5 | D11: =I!M11 -> 3759.5 | E11: =I!S11+I!AV11 -> 3350.0675 | F11: =SUM(B11:E11) -> 103107.47 | G11: =F11/365 -> 282.48621
A12: 2016 | B12: =G!E78+H!E78+I!G12+J!E78+K!E78+L!E78 -> 119283.4 | C12: =I!S12 -> 985.5 | D12: =I!M12 -> 3759.5 | E12: =I!S12+I!AV12 -> 3350.0675 | F12: =SUM(B12:E12) -> 127378.47 | G12: =F12/365 -> 348.9821
A13: 2017 | B13: =G!E90+H!E90+I!G13+J!E90+K!E90+L!E90 -> 147117.1 | C13: =I!S13 -> 985.5 | D13: =I!M13 -> 3759.5 | E13: =I!S13+I!AV13 -> 3350.0675 | F13: =SUM(B13:E13) -> 155212.17 | G13: =F13/365 -> 425.23882
A14: Max | B14: =MAX(B7:B13) -> 147117.1 | C14: =MAX(C7:C13) -> 985.5 | D14: =MAX(D7:D13) -> 3759.5 | E14: =MAX(E7:E13) -> 3350.0675 | F14: =MAX(F7:F13) -> 155212.17 | G14: =MAX(G7:G13) -> 425.23882

Sheet Summary ES
A1: RADNOR HILLS MINERAL WATER COMPANY LTD, RADNOR HILLS, HEARTSEASE
A2: ABSTRACTION VOLUMES FROM 'POINT M', 'POINT N' & 'POINT O' BETWEEN 2011 - 2017
A4: English Superficial Abstraction (M, N, O)
A5: Year | B5: Water Bottling (m3/yr) | C5: Domestic (Residential) (m3/yr) | D5: Annual (m3/yr) | E5: Average Daily (m3/day)
A6: 2011 | B6: =M!E18+N!G7+O!E18 -> 15420.5 | C6: =N!M7 -> 547.5 | D6: =B6+C6 -> 15968 | E6: =D6/365 -> 43.747945
A7: 2012 | B7: =M!E30+N!G8+O!E30 -> 16620.5 | C7: =N!M8 -> 547.5 | D7: =B7+C7 -> 17168 | E7: =D7/365 -> 47.035616
A8: 2013 | B8: =M!E42+N!G9+O!E42 -> 11391.5 | C8: =N!M9 -> 547.5 | D8: =B8+C8 -> 11939 | E8: =D8/365 -> 32.709589
A9: 2014 | B9: =M!E54+N!G10+O!E54 -> 13261.5 | C9: =N!M10 -> 547.5 | D9: =B9+C9 -> 13809 | E9: =D9/365 -> 37.832877
A10: 2015 | B10: =M!E66+N!G11+O!E66 -> 37048.3 | C10: =N!M11 -> 547.5 | D10: =B10+C10 -> 37595.8 | E10: =D10/365 -> 103.00219
A11: 2016 | B11: =M!E78+N!G12+O!E78 -> 60285.95 | C11: =N!M12 -> 547.5 | D11: =B11+C11 -> 60833.45 | E11: =D11/365 -> 166.66699
A12: 2017 | B12: =M!E90+N!G13+O!E90 -> 58278.5 | C12: =N!M13 -> 547.5 | D12: =B12+C12 -> 58826 | E12: =D12/365 -> 161.16712
A13: Max | B13: =MAX(B6:B12) -> 60285.95 | C13: =MAX(C6:C12) -> 547.5 | D13: =MAX(D6:D12) -> 60833.45 | E13: =MAX(E6:E12) -> 166.66699
