Workbook

Sheet Dunbia DAF Liquid
A1: PAN reference | C1: PAN-014886 | E1: Total spread area | F1: 50 ha | G1: Waste pH | I1: 7.42 | J1: Ammonium Nitrogen (mg/kg) | L1: 304 | AD1: Choose | AI1: Crop | AJ1: P Offtake | AK1: K Offtake | AL1: Order | AM1: Lime pH requirement | AN1: Column1
A2: Permit reference | C2: EPR/GP3792SK | E2: Waste type EWC | F2: 02 02 01 | G2: Conductivity µS/cm (limit 5000 µS/cm) | I2: 1320 | J2: Total Nitrogen (mg/kg) | L2: 600 | AB2: %w/w SAR | AD2: Sandy | AG2: Solid | AI2: Choose | AJ2: 0 | AK2: 0 | AL2: 0 | AM2: 0 | AN2: 0
A3: Operator | C3: ByProduct Recovery Limited | E3: Waste physical form | F3: Liquid | G3: Fats & Oils (%) (limit 4%) | J3: Readily available nitrogen content % | L3: =(L1/L2)*100 -> 50.666667 | AB3: %w/w DM | AD3: Sandy Loam | AG3: Liquid | AI3: Grass Silage (25% DM) | AJ3: 1.7 | AK3: 6 | AL3: 1 | AM3: 6.2 | AN3: Grass
A4: Farm Address | C4: Bwlchmawr Farm 1 | E4: Waste Ref/Name | F4: Dunbia DAF Liquid | AB4: kg/t SAR | AD4: Medium/Clay | AG4: Sludge | AI4: Winter wheat- grain & straw | AJ4: 7 | AK4: 10.5 | AL4: 2 | AM4: 6.7 | AN4: Arable
A5: Assessed By | C5: Rhiannon Smith | AB5: kg/t DM | AD5: Organic | AG5: Sludge Cake | AI5: Winter wheat- grain only | AJ5: 6.5 | AK5: 5.5 | AL5: 3 | AM5: 6.7 | AN5: Arable
AB6: mg/kg SAR | AD6: Peat | AI6: Spring wheat/barley | AJ6: 8.5 | AK6: 12 | AL6: 4 | AM6: 6.7 | AN6: Arable
A7: Field number | C7: 1 | D7: 2 | E7: 3 | F7: 4 | G7: 5 | H7: 6 | I7: 7 | J7: 8 | K7: 9 | L7: 10 | M7: 11 | N7: 12 | O7: 13 | P7: 14 | Q7: 15 | R7: 16 | S7: 17 | T7: 18 | U7: 19 | V7: 20 | AB7: mg/kg DM | AI7: Winter barley/triticale/rye | AJ7: 8.5 | AK7: 10.5 | AL7: 5 | AM7: 6.7 | AN7: Arable
A8: Field Ref | C8: 2 | D8: 4 | E8: 6 | F8: 7 | G8: 8 | H8: 9 | I8: 10 | J8: 12 | K8: 13 | L8: 3327 | M8: 9784/0273 | N8: 1976 | O8: 0566/0656 | P8: 2149 | Q8: 8690 | AE8: lime pH | AI8: Maize- Silage (30% DM) | AJ8: 1.4 | AK8: 4.4 | AL8: 6 | AM8: 6.7 | AN8: Arable
A9: SNS Index | C9: M | D9: M | E9: M | F9: M | G9: M | H9: M | I9: M | J9: M | K9: M | L9: M | M9: M | N9: M | O9: M | P9: M | Q9: M | AD9: Sandy I Grass | AE9: 4.5 | AI9: Fodder beet (roots only) | AJ9: 0.7 | AK9: 4 | AL9: 7 | AM9: 6.7 | AN9: Arable
A10: Field pH | C10: 6 | D10: 5.8 | E10: 6.4 | F10: 6.3 | G10: 6.1 | H10: 5.8 | I10: 6.1 | J10: 6.9 | K10: 5.9 | L10: 5 | M10: 5.4 | N10: 5.6 | O10: 5.8 | P10: 6.1 | Q10: 5.8 | AD10: Sandy Loam I Grass | AE10: 5 | AI10: Oats | AJ10: 9 | AK10: 16.5 | AL10: 8 | AM10: 6.7 | AN10: Arable
A11: Phosphorus Index | C11: 0 | D11: 0 | E11: 3 | F11: 0 | G11: 0 | H11: 0 | I11: 0 | J11: 0 | K11: 0 | L11: 2 | M11: 2 | N11: 4 | O11: 3 | P11: 2 | Q11: 3 | AD11: Medium/Clay I Grass | AE11: 6 | AI11: Oilseed rape- seed & straw | AJ11: 15 | AK11: 17.5 | AL11: 9 | AM11: 7 | AN11: Arable
A12: Potassium Index | C12: 0 | D12: 2 | E12: 4 | F12: 2 | G12: 2 | H12: 1 | I12: 1 | J12: 2 | K12: 2 | L12: 2 | M12: 1 | N12: 2 | O12: 2 | P12: 1 | Q12: 1 | AD12: Organic I Grass | AE12: 7.5 | AI12: Oilseed rape- seed only | AJ12: 14 | AK12: 11 | AL12: 10 | AM12: 7 | AN12: Arable
A13: Magnesium Index | C13: 3 | D13: 3 | E13: 4 | F13: 3 | G13: 3 | H13: 2 | I13: 2 | J13: 3 | K13: 3 | L13: 3 | M13: 2 | N13: 2 | O13: 2 | P13: 2 | Q13: 2 | AD13: Peat I Grass | AE13: 12 | AI13: Sugar beet- roots & tops | AJ13: 1.9 | AK13: 7.5 | AL13: 11 | AM13: 6.7 | AN13: Arable
A14: Benefiting Crop | C14: Grass Silage (25% DM) | D14: Grass Silage (25% DM) | E14: Grass Silage (25% DM) | F14: Grass Silage (25% DM) | G14: Grass Silage (25% DM) | H14: Grass Silage (25% DM) | I14: Grass Silage (25% DM) | J14: Grass Silage (25% DM) | K14: Grass Silage (25% DM) | L14: Grass Silage (25% DM) | M14: Grass Silage (25% DM) | N14: Grass Silage (25% DM) | O14: Grass Silage (25% DM) | P14: Grass Silage (25% DM) | Q14: Grass Silage (25% DM) | AD14: Sandy I Arable | AE14: 6 | AI14: Sugar beet- roots only | AJ14: 0.8 | AK14: 1.7 | AL14: 12 | AM14: 6.7 | AN14: Arable
A15: Expected Yield | C15: 38 | D15: 38 | E15: 38 | F15: 38 | G15: 38 | H15: 38 | I15: 38 | J15: 38 | K15: 38 | L15: 38 | M15: 38 | N15: 38 | O15: 38 | P15: 38 | Q15: 38 | AD15: Sandy Loam I Arable | AE15: 7 | AI15: Wholecrop cereals | AJ15: 1.8 | AK15: 5.4 | AL15: 13 | AM15: 6.7 | AN15: Arable
A16: Soil Type | C16: Medium/Clay | D16: Medium/Clay | E16: Medium/Clay | F16: Medium/Clay | G16: Medium/Clay | H16: Medium/Clay | I16: Medium/Clay | J16: Medium/Clay | K16: Medium/Clay | L16: Medium/Clay | M16: Medium/Clay | N16: Medium/Clay | O16: Medium/Clay | P16: Medium/Clay | Q16: Medium/Clay | AD16: Medium/Clay I Arable | AE16: 8 | AI16: All other cereals- grain only | AJ16: 8 | AK16: 5.5 | AL16: 14 | AM16: 6.7 | AN16: Arable
A17: Phosphate Offtake | C17: =(VLOOKUP(C$14,$AI2:$AK26,2,FALSE))*C$15 -> 64.6 | D17: =(VLOOKUP(D$14,$AI2:$AK26,2,FALSE))*D$15 -> 64.6 | E17: =(VLOOKUP(E$14,$AI2:$AK26,2,FALSE))*E$15 -> 64.6 | F17: =(VLOOKUP(F$14,$AI2:$AK26,2,FALSE))*F$15 -> 64.6 | G17: =(VLOOKUP(G$14,$AI2:$AK26,2,FALSE))*G$15 -> 64.6 | H17: =(VLOOKUP(H$14,$AI2:$AK26,2,FALSE))*H$15 -> 64.6 | I17: =(VLOOKUP(I$14,$AI2:$AK26,2,FALSE))*I$15 -> 64.6 | J17: =(VLOOKUP(J$14,$AI2:$AK26,2,FALSE))*J$15 -> 64.6 | ... V17: =(VLOOKUP(V$14,$AI2:$AK26,2,FALSE))*V$15 -> #N/A | AD17: Organic I Arable | AE17: 10 | AI17: Fresh grass (15-20% DM) | AJ17: 1.4 | AK17: 4.8 | AL17: 15 | AM17: 6.2 | AN17: Grass
A18: Phosphate Addition | C18: =$D31 -> 74.4575 | D18: =$D32 -> 74.4575 | E18: =$D33 -> 74.4575 | F18: =$D34 -> 74.4575 | G18: =$D35 -> 74.4575 | H18: =$D36 -> 74.4575 | I18: =$D37 -> 74.4575 | J18: =$D38 -> 74.4575 | K18: =$D39 -> 74.4575 | L18: =$D40 -> 74.4575 | M18: =$D41 -> 74.4575 | N18: =$D42 -> 74.4575 | O18: =$D43 -> 74.4575 | P18: =$D44 -> 74.4575 | Q18: =$D45 -> 74.4575 | R18: =$D46 -> 0 | S18: =$D47 -> 0 | T18: =$D48 -> 0 | U18: =$D49 -> 0 | V18: =$D50 -> 0 | AD18: Peat I Arable | AE18: 16 | AI18: Hay (86% DM) | AJ18: 5.9 | AK18: 18 | AL18: 16 | AM18: 6.2 | AN18: Grass
A19: Phosphate Difference | C19: =C18-C17 -> 9.8575 | D19: =D18-D17 -> 9.8575 | E19: =E18-E17 -> 9.8575 | F19: =F18-F17 -> 9.8575 | G19: =G18-G17 -> 9.8575 | H19: =H18-H17 -> 9.8575 | I19: =I18-I17 -> 9.8575 | J19: =J18-J17 -> 9.8575 | ... V19: =V18-V17 -> #N/A | AI19: Haylage (45% DM) | AJ19: 3.2 | AK19: 10.5 | AL19: 17 | AM19: 6.2 | AN19: Grass
A20: Phosphate Increase/decrease | C20: =IF($B31="","",IF(C$19>=0,"INCREASE","DECREASE")) -> INCREASE | D20: =IF($B32="","",IF(D$19>=0,"INCREASE","DECREASE")) -> INCREASE | E20: =IF($B33="","",IF(E$19>=0,"INCREASE","DECREASE")) -> INCREASE | F20: =IF($B34="","",IF(F$19>=0,"INCREASE","DECREASE")) -> INCREASE | G20: =IF($B35="","",IF(G$19>=0,"INCREASE","DECREASE")) -> INCREASE | H20: =IF($B36="","",IF(H$19>=0,"INCREASE","DECREASE")) -> INCREASE | I20: =IF($B37="","",IF(I$19>=0,"INCREASE","DECREASE")) -> INCREASE | J20: =IF($B38="","",IF(J$19>=0,"INCREASE","DECREASE")) -> INCREASE | K20: =IF($B39="","",IF(K$19>=0,"INCREASE","DECREASE")) -> INCREASE | L20: =IF($B40="","",IF(L$19>=0,"INCREASE","DECREASE")) -> INCREASE | M20: =IF($B41="","",IF(M$19>=0,"INCREASE","DECREASE")) -> INCREASE | N20: =IF($B42="","",IF(N$19>=0,"INCREASE","DECREASE")) -> INCREASE | O20: =IF($B43="","",IF(O$19>=0,"INCREASE","DECREASE")) -> INCREASE | P20: =IF($B44="","",IF(P$19>=0,"INCREASE","DECREASE")) -> INCREASE | Q20: =IF($B45="","",IF(Q$19>=0,"INCREASE","DECREASE")) -> INCREASE | R20: =IF($B46="","",IF(R$19>=0,"INCREASE","DECREASE")) | S20: =IF($B47="","",IF(S$19>=0,"INCREASE","DECREASE")) | T20: =IF($B48="","",IF(T$19>=0,"INCREASE","DECREASE")) | U20: =IF($B49="","",IF(U$19>=0,"INCREASE","DECREASE")) | V20: =IF($B50="","",IF(V$19>=0,"INCREASE","DECREASE")) | AI20: Grass Silage (30% DM) | AJ20: 2.1 | AK20: 7.2 | AL20: 18 | AM20: 6.2 | AN20: Grass
A21: Potash Offtake | C21: =(VLOOKUP(C$14,$AI2:$AK26,3,FALSE))*C$15 -> 228 | D21: =(VLOOKUP(D$14,$AI2:$AK26,3,FALSE))*D$15 -> 228 | E21: =(VLOOKUP(E$14,$AI2:$AK26,3,FALSE))*E$15 -> 228 | F21: =(VLOOKUP(F$14,$AI2:$AK26,3,FALSE))*F$15 -> 228 | G21: =(VLOOKUP(G$14,$AI2:$AK26,3,FALSE))*G$15 -> 228 | H21: =(VLOOKUP(H$14,$AI2:$AK26,3,FALSE))*H$15 -> 228 | I21: =(VLOOKUP(I$14,$AI2:$AK26,3,FALSE))*I$15 -> 228 | J21: =(VLOOKUP(J$14,$AI2:$AK26,3,FALSE))*J$15 -> 228 | ... V21: =(VLOOKUP(V$14,$AI2:$AK26,3,FALSE))*V$15 -> #N/A | AI21: Field beans | AJ21: 11 | AK21: 12 | AL21: 19 | AM21: 6.7 | AN21: Arable
A22: Potash Addition | C22: =$E31 -> 57.2375 | D22: =$E32 -> 57.2375 | E22: =$E33 -> 57.2375 | F22: =$E34 -> 57.2375 | G22: =$E35 -> 57.2375 | H22: =$E36 -> 57.2375 | I22: =$E37 -> 57.2375 | J22: =$E38 -> 57.2375 | K22: =$E39 -> 57.2375 | L22: =$E40 -> 57.2375 | M22: =$E41 -> 57.2375 | N22: =$E42 -> 57.2375 | O22: =$E43 -> 57.2375 | P22: =$E44 -> 57.2375 | Q22: =$E45 -> 57.2375 | R22: =$E46 -> 0 | S22: =$E47 -> 0 | T22: =$E48 -> 0 | U22: =$E49 -> 0 | V22: =$E50 -> 0 | AI22: Kale | AJ22: 1.2 | AK22: 5 | AL22: 20 | AM22: 6.7 | AN22: Arable
A23: Potash Difference | C23: =C22-C21 -> -170.7625 | D23: =D22-D21 -> -170.7625 | E23: =E22-E21 -> -170.7625 | F23: =F22-F21 -> -170.7625 | G23: =G22-G21 -> -170.7625 | H23: =H22-H21 -> -170.7625 | I23: =I22-I21 -> -170.7625 | J23: =J22-J21 -> -170.7625 | ... V23: =V22-V21 -> #N/A | AI23: Peas- Dried | AJ23: 9 | AK23: 10 | AL23: 21 | AM23: 6.7 | AN23: Arable
A24: Potash Increase/decrease | C24: =IF($B31="","",IF(C$23>=0,"INCREASE","DECREASE")) -> DECREASE | D24: =IF($B31="","",IF(D$23>=0,"INCREASE","DECREASE")) -> DECREASE | E24: =IF($B31="","",IF(E$23>=0,"INCREASE","DECREASE")) -> DECREASE | F24: =IF($B31="","",IF(F$23>=0,"INCREASE","DECREASE")) -> DECREASE | G24: =IF($B31="","",IF(G$23>=0,"INCREASE","DECREASE")) -> DECREASE | H24: =IF($B31="","",IF(H$23>=0,"INCREASE","DECREASE")) -> DECREASE | I24: =IF($B31="","",IF(I$23>=0,"INCREASE","DECREASE")) -> DECREASE | J24: =IF($B31="","",IF(J$23>=0,"INCREASE","DECREASE")) -> DECREASE | ... V24: =IF($B31="","",IF(V$23>=0,"INCREASE","DECREASE")) -> #N/A | AI24: Peas- Vining | AJ24: 1.5 | AK24: 3 | AL24: 22 | AM24: 6.7 | AN24: Arable
AI25: Potatoes- tubers only | AJ25: 1 | AK25: 5.8 | AL25: 23 | AM25: 6.7 | AN25: Arable
B26: Dry Matter | C26: Total Nitrogen | D26: Total Phosphorus (P) | E26: Total Potassium (K) | F26: Total Magnesium (Mg) | G26: Total Copper | H26: Total Zinc | I26: Total Lead | J26: Total Cadmium | K26: Total Mercury | L26: Total Nickel | M26: Total Chromium | N26: Total Aluminium | O26: Total Iron | P26: Total Na (Sodium) | Q26: Total Sulphur (S) | R26: Total Selenium | S26: Total Arsenic | T26: Total Mo | U26: Total Fluoride | AI26: Swedes- roots only | AJ26: 0.7 | AK26: 2.4 | AL26: 24 | AM26: 6.7 | AN26: Arable
B27: % | C27: %w/w SAR | D27: %w/w SAR | E27: %w/w SAR | F27: %w/w SAR | G27: mg/kg SAR | H27: mg/kg SAR | I27: mg/kg SAR | J27: mg/kg SAR | K27: mg/kg SAR | L27: mg/kg SAR | M27: mg/kg SAR | P27: %w/w SAR | Q27: %w/w SAR | R27: mg/kg SAR | S27: mg/kg SAR | T27: mg/kg SAR | U27: mg/kg SAR
B28: 0.69 | C28: 0.06 | D28: 0.013 | E28: 0.019 | F28: 0.001 | G28: 0.418 | H28: 2.13 | I28: 0.5 | J28: 0.01 | K28: 0.05 | L28: 0.2 | M28: 0.2 | P28: 0.11 | Q28: 0.004 | R28: 0.2 | S28: 0.5 | T28: 0.05 | U28: 10
A29: Field Ref | B29: Application Rate | C29: Nitrogen Addition | D29: Phosphate Addition | E29: Potash Addition | F29: Mg Oxide Addition | G29: Copper Addition | H29: Zinc Addition | I29: Lead Addition | J29: Cadmium Addition | K29: Mercury Addition | L29: Nickel Addition | M29: Chromium Addition | N29: Aluminium Addition | O29: Iron Addition | P29: Sodium Addition | Q29: SO3 Addition kg/ha | R29: Selenium Addition | S29: Arsenic Addition | T29: Molybdenum Addition | U29: Fluoride Addition
B30: tonnes/ha | C30: kg/ha | D30: P2O5 kg/ha | E30: K2O kg/ha | F30: MgO kg/ha | G30: kg/ha | H30: kg/ha | I30: kg/ha | J30: kg/ha | K30: kg/ha | L30: kg/ha | M30: kg/ha | N30: kg/ha | O30: kg/ha | P30: kg/ha | Q30: kg/ha | R30: kg/ha | S30: kg/ha | T30: kg/ha | U30: kg/ha
A31: =C8 -> 2 | B31: 250 | C31: =IF(C$27="%w/w SAR",((C$28*10)*$B31),IF(C$27="%w/w DM",(((C$28*10)*($B$28/100))*$B31),IF(C$27="kg/t SAR",(C$28*$B31),IF(C$27="kg/t DM",((C$28*($B$28/100))*$B31),IF(C$27="mg/kg SAR",((C$28*0.001)*$B31),IF(C$27="mg/kg DM",(((C$28*0.001)*($B$28/100))*$B31),0)))))) -> 150 | D31: =(IF(D$27="%w/w SAR",((D$28*10)*$B31),IF(D$27="%w/w DM",(((D$28*10)*($B$28/100))*$B31),IF(D$27="kg/t SAR",(D$28*$B31),IF(D$27="kg/t DM",((D$28*($B$28/100))*$B31),IF(D$27="mg/kg SAR",((D$28*0.001)*$B31),IF(D$27="mg/kg DM",(((D$28*0.001)*($B$28/100))*$B31),"0")))))))*2.291 -> 74.4575 | E31: =(IF(E$27="%w/w SAR",((E$28*10)*$B31),IF(E$27="%w/w DM",(((E$28*10)*($B$28/100))*$B31),IF(E$27="kg/t SAR",(E$28*$B31),IF(E$27="kg/t DM",((E$28*($B$28/100))*$B31),IF(E$27="mg/kg SAR",((E$28*0.001)*$B31),IF(E$27="mg/kg DM",(((E$28*0.001)*($B$28/100))*$B31),"0")))))))*1.205 -> 57.2375 | F31: =(IF(F$27="%w/w SAR",((F$28*10)*$B31),IF(F$27="%w/w DM",(((F$28*10)*($B$28/100))*$B31),IF(F$27="kg/t SAR",(F$28*$B31),IF(F$27="kg/t DM",((F$28*($B$28/100))*$B31),IF(F$27="mg/kg SAR",((F$28*0.001)*$B31),IF(F$27="mg/kg DM",(((F$28*0.001)*($B$28/100))*$B31),"0")))))))*1.658 -> 4.145 | G31: =IF(G$27="%w/w SAR",((G$28*10)*$B31),IF(G$27="%w/w DM",(((G$28*10)*($B$28/100))*$B31),IF(G$27="kg/t SAR",(G$28*$B31),IF(G$27="kg/t DM",((G$28*($B$28/100))*$B31),IF(G$27="mg/kg SAR",((G$28*0.001)*$B31),IF(G$27="mg/kg DM",(((G$28*0.001)*($B$28/100))*$B31),0)))))) -> 0.1045 | H31: =IF(H$27="%w/w SAR",((H$28*10)*$B31),IF(H$27="%w/w DM",(((H$28*10)*($B$28/100))*$B31),IF(H$27="kg/t SAR",(H$28*$B31),IF(H$27="kg/t DM",((H$28*($B$28/100))*$B31),IF(H$27="mg/kg SAR",((H$28*0.001)*$B31),IF(H$27="mg/kg DM",(((H$28*0.001)*($B$28/100))*$B31),0)))))) -> 0.5325 | I31: =IF(I$27="%w/w SAR",((I$28*10)*$B31),IF(I$27="%w/w DM",(((I$28*10)*($B$28/100))*$B31),IF(I$27="kg/t SAR",(I$28*$B31),IF(I$27="kg/t DM",((I$28*($B$28/100))*$B31),IF(I$27="mg/kg SAR",((I$28*0.001)*$B31),IF(I$27="mg/kg DM",(((I$28*0.001)*($B$28/100))*$B31),0)))))) -> 0.125 | J31: =IF(J$27="%w/w SAR",((J$28*10)*$B31),IF(J$27="%w/w DM",(((J$28*10)*($B$28/100))*$B31),IF(J$27="kg/t SAR",(J$28*$B31),IF(J$27="kg/t DM",((J$28*($B$28/100))*$B31),IF(J$27="mg/kg SAR",((J$28*0.001)*$B31),IF(J$27="mg/kg DM",(((J$28*0.001)*($B$28/100))*$B31),0)))))) -> 0.0025 | K31: =IF(K$27="%w/w SAR",((K$28*10)*$B31),IF(K$27="%w/w DM",(((K$28*10)*($B$28/100))*$B31),IF(K$27="kg/t SAR",(K$28*$B31),IF(K$27="kg/t DM",((K$28*($B$28/100))*$B31),IF(K$27="mg/kg SAR",((K$28*0.001)*$B31),IF(K$27="mg/kg DM",(((K$28*0.001)*($B$28/100))*$B31),0)))))) -> 0.0125 | L31: =IF(L$27="%w/w SAR",((L$28*10)*$B31),IF(L$27="%w/w DM",(((L$28*10)*($B$28/100))*$B31),IF(L$27="kg/t SAR",(L$28*$B31),IF(L$27="kg/t DM",((L$28*($B$28/100))*$B31),IF(L$27="mg/kg SAR",((L$28*0.001)*$B31),IF(L$27="mg/kg DM",(((L$28*0.001)*($B$28/100))*$B31),0)))))) -> 0.05 | M31: =IF(M$27="%w/w SAR",((M$28*10)*$B31),IF(M$27="%w/w DM",(((M$28*10)*($B$28/100))*$B31),IF(M$27="kg/t SAR",(M$28*$B31),IF(M$27="kg/t DM",((M$28*($B$28/100))*$B31),IF(M$27="mg/kg SAR",((M$28*0.001)*$B31),IF(M$27="mg/kg DM",(((M$28*0.001)*($B$28/100))*$B31),0)))))) -> 0.05 | N31: =IF(N$27="%w/w SAR",((N$28*10)*$B31),IF(N$27="%w/w DM",(((N$28*10)*($B$28/100))*$B31),IF(N$27="kg/t SAR",(N$28*$B31),IF(N$27="kg/t DM",((N$28*($B$28/100))*$B31),IF(N$27="mg/kg SAR",((N$28*0.001)*$B31),IF(N$27="mg/kg DM",(((N$28*0.001)*($B$28/100))*$B31),0)))))) -> 0 | ... P31: =IF(P$27="%w/w SAR",((P$28*10)*$B31),IF(P$27="%w/w DM",(((P$28*10)*($B$28/100))*$B31),IF(P$27="kg/t SAR",(P$28*$B31),IF(P$27="kg/t DM",((P$28*($B$28/100))*$B31),IF(P$27="mg/kg SAR",((P$28*0.001)*$B31),IF(P$27="mg/kg DM",(((P$28*0.001)*($B$28/100))*$B31),0)))))) -> 275 | Q31: =(IF(Q$27="%w/w SAR",((Q$28*10)*$B31),IF(Q$27="%w/w DM",(((Q$28*10)*($B$28/100))*$B31),IF(Q$27="kg/t SAR",(Q$28*$B31),IF(Q$27="kg/t DM",((Q$28*($B$28/100))*$B31),IF(Q$27="mg/kg SAR",((Q$28*0.001)*$B31),IF(Q$27="mg/kg DM",(((Q$28*0.001)*($B$28/100))*$B31),0)))))))*2.5 -> 25 | R31: =IF(R$27="%w/w SAR",((R$28*10)*$B31),IF(R$27="%w/w DM",(((R$28*10)*($B$28/100))*$B31),IF(R$27="kg/t SAR",(R$28*$B31),IF(R$27="kg/t DM",((R$28*($B$28/100))*$B31),IF(R$27="mg/kg SAR",((R$28*0.001)*$B31),IF(R$27="mg/kg DM",(((R$28*0.001)*($B$28/100))*$B31),0)))))) -> 0.05 | S31: =IF(S$27="%w/w SAR",((S$28*10)*$B31),IF(S$27="%w/w DM",(((S$28*10)*($B$28/100))*$B31),IF(S$27="kg/t SAR",(S$28*$B31),IF(S$27="kg/t DM",((S$28*($B$28/100))*$B31),IF(S$27="mg/kg SAR",((S$28*0.001)*$B31),IF(S$27="mg/kg DM",(((S$28*0.001)*($B$28/100))*$B31),0)))))) -> 0.125 | T31: =IF(T$27="%w/w SAR",((T$28*10)*$B31),IF(T$27="%w/w DM",(((T$28*10)*($B$28/100))*$B31),IF(T$27="kg/t SAR",(T$28*$B31),IF(T$27="kg/t DM",((T$28*($B$28/100))*$B31),IF(T$27="mg/kg SAR",((T$28*0.001)*$B31),IF(T$27="mg/kg DM",(((T$28*0.001)*($B$28/100))*$B31),0)))))) -> 0.0125 | U31: =IF(U$27="%w/w SAR",((U$28*10)*$B31),IF(U$27="%w/w DM",(((U$28*10)*($B$28/100))*$B31),IF(U$27="kg/t SAR",(U$28*$B31),IF(U$27="kg/t DM",((U$28*($B$28/100))*$B31),IF(U$27="mg/kg SAR",((U$28*0.001)*$B31),IF(U$27="mg/kg DM",(((U$28*0.001)*($B$28/100))*$B31),0)))))) -> 2.5
A32: =D8 -> 4 | B32: 250 | C32: =IF(C$27="%w/w SAR",((C$28*10)*$B32),IF(C$27="%w/w DM",(((C$28*10)*($B$28/100))*$B32),IF(C$27="kg/t SAR",(C$28*$B32),IF(C$27="kg/t DM",((C$28*($B$28/100))*$B32),IF(C$27="mg/kg SAR",((C$28*0.001)*$B32),IF(C$27="mg/kg DM",(((C$28*0.001)*($B$28/100))*$B32),0)))))) -> 150 | D32: =(IF(D$27="%w/w SAR",((D$28*10)*$B32),IF(D$27="%w/w DM",(((D$28*10)*($B$28/100))*$B32),IF(D$27="kg/t SAR",(D$28*$B32),IF(D$27="kg/t DM",((D$28*($B$28/100))*$B32),IF(D$27="mg/kg SAR",((D$28*0.001)*$B32),IF(D$27="mg/kg DM",(((D$28*0.001)*($B$28/100))*$B32),"0")))))))*2.291 -> 74.4575 | E32: =(IF(E$27="%w/w SAR",((E$28*10)*$B32),IF(E$27="%w/w DM",(((E$28*10)*($B$28/100))*$B32),IF(E$27="kg/t SAR",(E$28*$B32),IF(E$27="kg/t DM",((E$28*($B$28/100))*$B32),IF(E$27="mg/kg SAR",((E$28*0.001)*$B32),IF(E$27="mg/kg DM",(((E$28*0.001)*($B$28/100))*$B32),"0")))))))*1.205 -> 57.2375 | F32: =(IF(F$27="%w/w SAR",((F$28*10)*$B32),IF(F$27="%w/w DM",(((F$28*10)*($B$28/100))*$B32),IF(F$27="kg/t SAR",(F$28*$B32),IF(F$27="kg/t DM",((F$28*($B$28/100))*$B32),IF(F$27="mg/kg SAR",((F$28*0.001)*$B32),IF(F$27="mg/kg DM",(((F$28*0.001)*($B$28/100))*$B32),"0")))))))*1.658 -> 4.145 | G32: =IF(G$27="%w/w SAR",((G$28*10)*$B32),IF(G$27="%w/w DM",(((G$28*10)*($B$28/100))*$B32),IF(G$27="kg/t SAR",(G$28*$B32),IF(G$27="kg/t DM",((G$28*($B$28/100))*$B32),IF(G$27="mg/kg SAR",((G$28*0.001)*$B32),IF(G$27="mg/kg DM",(((G$28*0.001)*($B$28/100))*$B32),0)))))) -> 0.1045 | H32: =IF(H$27="%w/w SAR",((H$28*10)*$B32),IF(H$27="%w/w DM",(((H$28*10)*($B$28/100))*$B32),IF(H$27="kg/t SAR",(H$28*$B32),IF(H$27="kg/t DM",((H$28*($B$28/100))*$B32),IF(H$27="mg/kg SAR",((H$28*0.001)*$B32),IF(H$27="mg/kg DM",(((H$28*0.001)*($B$28/100))*$B32),0)))))) -> 0.5325 | I32: =IF(I$27="%w/w SAR",((I$28*10)*$B32),IF(I$27="%w/w DM",(((I$28*10)*($B$28/100))*$B32),IF(I$27="kg/t SAR",(I$28*$B32),IF(I$27="kg/t DM",((I$28*($B$28/100))*$B32),IF(I$27="mg/kg SAR",((I$28*0.001)*$B32),IF(I$27="mg/kg DM",(((I$28*0.001)*($B$28/100))*$B32),0)))))) -> 0.125 | J32: =IF(J$27="%w/w SAR",((J$28*10)*$B32),IF(J$27="%w/w DM",(((J$28*10)*($B$28/100))*$B32),IF(J$27="kg/t SAR",(J$28*$B32),IF(J$27="kg/t DM",((J$28*($B$28/100))*$B32),IF(J$27="mg/kg SAR",((J$28*0.001)*$B32),IF(J$27="mg/kg DM",(((J$28*0.001)*($B$28/100))*$B32),0)))))) -> 0.0025 | K32: =IF(K$27="%w/w SAR",((K$28*10)*$B32),IF(K$27="%w/w DM",(((K$28*10)*($B$28/100))*$B32),IF(K$27="kg/t SAR",(K$28*$B32),IF(K$27="kg/t DM",((K$28*($B$28/100))*$B32),IF(K$27="mg/kg SAR",((K$28*0.001)*$B32),IF(K$27="mg/kg DM",(((K$28*0.001)*($B$28/100))*$B32),0)))))) -> 0.0125 | L32: =IF(L$27="%w/w SAR",((L$28*10)*$B32),IF(L$27="%w/w DM",(((L$28*10)*($B$28/100))*$B32),IF(L$27="kg/t SAR",(L$28*$B32),IF(L$27="kg/t DM",((L$28*($B$28/100))*$B32),IF(L$27="mg/kg SAR",((L$28*0.001)*$B32),IF(L$27="mg/kg DM",(((L$28*0.001)*($B$28/100))*$B32),0)))))) -> 0.05 | M32: =IF(M$27="%w/w SAR",((M$28*10)*$B32),IF(M$27="%w/w DM",(((M$28*10)*($B$28/100))*$B32),IF(M$27="kg/t SAR",(M$28*$B32),IF(M$27="kg/t DM",((M$28*($B$28/100))*$B32),IF(M$27="mg/kg SAR",((M$28*0.001)*$B32),IF(M$27="mg/kg DM",(((M$28*0.001)*($B$28/100))*$B32),0)))))) -> 0.05 | N32: =IF(N$27="%w/w SAR",((N$28*10)*$B32),IF(N$27="%w/w DM",(((N$28*10)*($B$28/100))*$B32),IF(N$27="kg/t SAR",(N$28*$B32),IF(N$27="kg/t DM",((N$28*($B$28/100))*$B32),IF(N$27="mg/kg SAR",((N$28*0.001)*$B32),IF(N$27="mg/kg DM",(((N$28*0.001)*($B$28/100))*$B32),0)))))) -> 0 | ... P32: =IF(P$27="%w/w SAR",((P$28*10)*$B32),IF(P$27="%w/w DM",(((P$28*10)*($B$28/100))*$B32),IF(P$27="kg/t SAR",(P$28*$B32),IF(P$27="kg/t DM",((P$28*($B$28/100))*$B32),IF(P$27="mg/kg SAR",((P$28*0.001)*$B32),IF(P$27="mg/kg DM",(((P$28*0.001)*($B$28/100))*$B32),0)))))) -> 275 | Q32: =(IF(Q$27="%w/w SAR",((Q$28*10)*$B32),IF(Q$27="%w/w DM",(((Q$28*10)*($B$28/100))*$B32),IF(Q$27="kg/t SAR",(Q$28*$B32),IF(Q$27="kg/t DM",((Q$28*($B$28/100))*$B32),IF(Q$27="mg/kg SAR",((Q$28*0.001)*$B32),IF(Q$27="mg/kg DM",(((Q$28*0.001)*($B$28/100))*$B32),0)))))))*2.5 -> 25 | R32: =IF(R$27="%w/w SAR",((R$28*10)*$B32),IF(R$27="%w/w DM",(((R$28*10)*($B$28/100))*$B32),IF(R$27="kg/t SAR",(R$28*$B32),IF(R$27="kg/t DM",((R$28*($B$28/100))*$B32),IF(R$27="mg/kg SAR",((R$28*0.001)*$B32),IF(R$27="mg/kg DM",(((R$28*0.001)*($B$28/100))*$B32),0)))))) -> 0.05 | S32: =IF(S$27="%w/w SAR",((S$28*10)*$B32),IF(S$27="%w/w DM",(((S$28*10)*($B$28/100))*$B32),IF(S$27="kg/t SAR",(S$28*$B32),IF(S$27="kg/t DM",((S$28*($B$28/100))*$B32),IF(S$27="mg/kg SAR",((S$28*0.001)*$B32),IF(S$27="mg/kg DM",(((S$28*0.001)*($B$28/100))*$B32),0)))))) -> 0.125 | T32: =IF(T$27="%w/w SAR",((T$28*10)*$B32),IF(T$27="%w/w DM",(((T$28*10)*($B$28/100))*$B32),IF(T$27="kg/t SAR",(T$28*$B32),IF(T$27="kg/t DM",((T$28*($B$28/100))*$B32),IF(T$27="mg/kg SAR",((T$28*0.001)*$B32),IF(T$27="mg/kg DM",(((T$28*0.001)*($B$28/100))*$B32),0)))))) -> 0.0125 | U32: =IF(U$27="%w/w SAR",((U$28*10)*$B32),IF(U$27="%w/w DM",(((U$28*10)*($B$28/100))*$B32),IF(U$27="kg/t SAR",(U$28*$B32),IF(U$27="kg/t DM",((U$28*($B$28/100))*$B32),IF(U$27="mg/kg SAR",((U$28*0.001)*$B32),IF(U$27="mg/kg DM",(((U$28*0.001)*($B$28/100))*$B32),0)))))) -> 2.5
A33: =E8 -> 6 | B33: 250 | C33: =IF(C$27="%w/w SAR",((C$28*10)*$B33),IF(C$27="%w/w DM",(((C$28*10)*($B$28/100))*$B33),IF(C$27="kg/t SAR",(C$28*$B33),IF(C$27="kg/t DM",((C$28*($B$28/100))*$B33),IF(C$27="mg/kg SAR",((C$28*0.001)*$B33),IF(C$27="mg/kg DM",(((C$28*0.001)*($B$28/100))*$B33),0)))))) -> 150 | D33: =(IF(D$27="%w/w SAR",((D$28*10)*$B33),IF(D$27="%w/w DM",(((D$28*10)*($B$28/100))*$B33),IF(D$27="kg/t SAR",(D$28*$B33),IF(D$27="kg/t DM",((D$28*($B$28/100))*$B33),IF(D$27="mg/kg SAR",((D$28*0.001)*$B33),IF(D$27="mg/kg DM",(((D$28*0.001)*($B$28/100))*$B33),"0")))))))*2.291 -> 74.4575 | E33: =(IF(E$27="%w/w SAR",((E$28*10)*$B33),IF(E$27="%w/w DM",(((E$28*10)*($B$28/100))*$B33),IF(E$27="kg/t SAR",(E$28*$B33),IF(E$27="kg/t DM",((E$28*($B$28/100))*$B33),IF(E$27="mg/kg SAR",((E$28*0.001)*$B33),IF(E$27="mg/kg DM",(((E$28*0.001)*($B$28/100))*$B33),"0")))))))*1.205 -> 57.2375 | F33: =(IF(F$27="%w/w SAR",((F$28*10)*$B33),IF(F$27="%w/w DM",(((F$28*10)*($B$28/100))*$B33),IF(F$27="kg/t SAR",(F$28*$B33),IF(F$27="kg/t DM",((F$28*($B$28/100))*$B33),IF(F$27="mg/kg SAR",((F$28*0.001)*$B33),IF(F$27="mg/kg DM",(((F$28*0.001)*($B$28/100))*$B33),"0")))))))*1.658 -> 4.145 | G33: =IF(G$27="%w/w SAR",((G$28*10)*$B33),IF(G$27="%w/w DM",(((G$28*10)*($B$28/100))*$B33),IF(G$27="kg/t SAR",(G$28*$B33),IF(G$27="kg/t DM",((G$28*($B$28/100))*$B33),IF(G$27="mg/kg SAR",((G$28*0.001)*$B33),IF(G$27="mg/kg DM",(((G$28*0.001)*($B$28/100))*$B33),0)))))) -> 0.1045 | H33: =IF(H$27="%w/w SAR",((H$28*10)*$B33),IF(H$27="%w/w DM",(((H$28*10)*($B$28/100))*$B33),IF(H$27="kg/t SAR",(H$28*$B33),IF(H$27="kg/t DM",((H$28*($B$28/100))*$B33),IF(H$27="mg/kg SAR",((H$28*0.001)*$B33),IF(H$27="mg/kg DM",(((H$28*0.001)*($B$28/100))*$B33),0)))))) -> 0.5325 | I33: =IF(I$27="%w/w SAR",((I$28*10)*$B33),IF(I$27="%w/w DM",(((I$28*10)*($B$28/100))*$B33),IF(I$27="kg/t SAR",(I$28*$B33),IF(I$27="kg/t DM",((I$28*($B$28/100))*$B33),IF(I$27="mg/kg SAR",((I$28*0.001)*$B33),IF(I$27="mg/kg DM",(((I$28*0.001)*($B$28/100))*$B33),0)))))) -> 0.125 | J33: =IF(J$27="%w/w SAR",((J$28*10)*$B33),IF(J$27="%w/w DM",(((J$28*10)*($B$28/100))*$B33),IF(J$27="kg/t SAR",(J$28*$B33),IF(J$27="kg/t DM",((J$28*($B$28/100))*$B33),IF(J$27="mg/kg SAR",((J$28*0.001)*$B33),IF(J$27="mg/kg DM",(((J$28*0.001)*($B$28/100))*$B33),0)))))) -> 0.0025 | K33: =IF(K$27="%w/w SAR",((K$28*10)*$B33),IF(K$27="%w/w DM",(((K$28*10)*($B$28/100))*$B33),IF(K$27="kg/t SAR",(K$28*$B33),IF(K$27="kg/t DM",((K$28*($B$28/100))*$B33),IF(K$27="mg/kg SAR",((K$28*0.001)*$B33),IF(K$27="mg/kg DM",(((K$28*0.001)*($B$28/100))*$B33),0)))))) -> 0.0125 | L33: =IF(L$27="%w/w SAR",((L$28*10)*$B33),IF(L$27="%w/w DM",(((L$28*10)*($B$28/100))*$B33),IF(L$27="kg/t SAR",(L$28*$B33),IF(L$27="kg/t DM",((L$28*($B$28/100))*$B33),IF(L$27="mg/kg SAR",((L$28*0.001)*$B33),IF(L$27="mg/kg DM",(((L$28*0.001)*($B$28/100))*$B33),0)))))) -> 0.05 | M33: =IF(M$27="%w/w SAR",((M$28*10)*$B33),IF(M$27="%w/w DM",(((M$28*10)*($B$28/100))*$B33),IF(M$27="kg/t SAR",(M$28*$B33),IF(M$27="kg/t DM",((M$28*($B$28/100))*$B33),IF(M$27="mg/kg SAR",((M$28*0.001)*$B33),IF(M$27="mg/kg DM",(((M$28*0.001)*($B$28/100))*$B33),0)))))) -> 0.05 | N33: =IF(N$27="%w/w SAR",((N$28*10)*$B33),IF(N$27="%w/w DM",(((N$28*10)*($B$28/100))*$B33),IF(N$27="kg/t SAR",(N$28*$B33),IF(N$27="kg/t DM",((N$28*($B$28/100))*$B33),IF(N$27="mg/kg SAR",((N$28*0.001)*$B33),IF(N$27="mg/kg DM",(((N$28*0.001)*($B$28/100))*$B33),0)))))) -> 0 | ... P33: =IF(P$27="%w/w SAR",((P$28*10)*$B33),IF(P$27="%w/w DM",(((P$28*10)*($B$28/100))*$B33),IF(P$27="kg/t SAR",(P$28*$B33),IF(P$27="kg/t DM",((P$28*($B$28/100))*$B33),IF(P$27="mg/kg SAR",((P$28*0.001)*$B33),IF(P$27="mg/kg DM",(((P$28*0.001)*($B$28/100))*$B33),0)))))) -> 275 | Q33: =(IF(Q$27="%w/w SAR",((Q$28*10)*$B33),IF(Q$27="%w/w DM",(((Q$28*10)*($B$28/100))*$B33),IF(Q$27="kg/t SAR",(Q$28*$B33),IF(Q$27="kg/t DM",((Q$28*($B$28/100))*$B33),IF(Q$27="mg/kg SAR",((Q$28*0.001)*$B33),IF(Q$27="mg/kg DM",(((Q$28*0.001)*($B$28/100))*$B33),0)))))))*2.5 -> 25 | R33: =IF(R$27="%w/w SAR",((R$28*10)*$B33),IF(R$27="%w/w DM",(((R$28*10)*($B$28/100))*$B33),IF(R$27="kg/t SAR",(R$28*$B33),IF(R$27="kg/t DM",((R$28*($B$28/100))*$B33),IF(R$27="mg/kg SAR",((R$28*0.001)*$B33),IF(R$27="mg/kg DM",(((R$28*0.001)*($B$28/100))*$B33),0)))))) -> 0.05 | S33: =IF(S$27="%w/w SAR",((S$28*10)*$B33),IF(S$27="%w/w DM",(((S$28*10)*($B$28/100))*$B33),IF(S$27="kg/t SAR",(S$28*$B33),IF(S$27="kg/t DM",((S$28*($B$28/100))*$B33),IF(S$27="mg/kg SAR",((S$28*0.001)*$B33),IF(S$27="mg/kg DM",(((S$28*0.001)*($B$28/100))*$B33),0)))))) -> 0.125 | T33: =IF(T$27="%w/w SAR",((T$28*10)*$B33),IF(T$27="%w/w DM",(((T$28*10)*($B$28/100))*$B33),IF(T$27="kg/t SAR",(T$28*$B33),IF(T$27="kg/t DM",((T$28*($B$28/100))*$B33),IF(T$27="mg/kg SAR",((T$28*0.001)*$B33),IF(T$27="mg/kg DM",(((T$28*0.001)*($B$28/100))*$B33),0)))))) -> 0.0125 | U33: =IF(U$27="%w/w SAR",((U$28*10)*$B33),IF(U$27="%w/w DM",(((U$28*10)*($B$28/100))*$B33),IF(U$27="kg/t SAR",(U$28*$B33),IF(U$27="kg/t DM",((U$28*($B$28/100))*$B33),IF(U$27="mg/kg SAR",((U$28*0.001)*$B33),IF(U$27="mg/kg DM",(((U$28*0.001)*($B$28/100))*$B33),0)))))) -> 2.5
A34: =F8 -> 7 | B34: 250 | C34: =IF(C$27="%w/w SAR",((C$28*10)*$B34),IF(C$27="%w/w DM",(((C$28*10)*($B$28/100))*$B34),IF(C$27="kg/t SAR",(C$28*$B34),IF(C$27="kg/t DM",((C$28*($B$28/100))*$B34),IF(C$27="mg/kg SAR",((C$28*0.001)*$B34),IF(C$27="mg/kg DM",(((C$28*0.001)*($B$28/100))*$B34),0)))))) -> 150 | D34: =(IF(D$27="%w/w SAR",((D$28*10)*$B34),IF(D$27="%w/w DM",(((D$28*10)*($B$28/100))*$B34),IF(D$27="kg/t SAR",(D$28*$B34),IF(D$27="kg/t DM",((D$28*($B$28/100))*$B34),IF(D$27="mg/kg SAR",((D$28*0.001)*$B34),IF(D$27="mg/kg DM",(((D$28*0.001)*($B$28/100))*$B34),"0")))))))*2.291 -> 74.4575 | E34: =(IF(E$27="%w/w SAR",((E$28*10)*$B34),IF(E$27="%w/w DM",(((E$28*10)*($B$28/100))*$B34),IF(E$27="kg/t SAR",(E$28*$B34),IF(E$27="kg/t DM",((E$28*($B$28/100))*$B34),IF(E$27="mg/kg SAR",((E$28*0.001)*$B34),IF(E$27="mg/kg DM",(((E$28*0.001)*($B$28/100))*$B34),"0")))))))*1.205 -> 57.2375 | F34: =(IF(F$27="%w/w SAR",((F$28*10)*$B34),IF(F$27="%w/w DM",(((F$28*10)*($B$28/100))*$B34),IF(F$27="kg/t SAR",(F$28*$B34),IF(F$27="kg/t DM",((F$28*($B$28/100))*$B34),IF(F$27="mg/kg SAR",((F$28*0.001)*$B34),IF(F$27="mg/kg DM",(((F$28*0.001)*($B$28/100))*$B34),"0")))))))*1.658 -> 4.145 | G34: =IF(G$27="%w/w SAR",((G$28*10)*$B34),IF(G$27="%w/w DM",(((G$28*10)*($B$28/100))*$B34),IF(G$27="kg/t SAR",(G$28*$B34),IF(G$27="kg/t DM",((G$28*($B$28/100))*$B34),IF(G$27="mg/kg SAR",((G$28*0.001)*$B34),IF(G$27="mg/kg DM",(((G$28*0.001)*($B$28/100))*$B34),0)))))) -> 0.1045 | H34: =IF(H$27="%w/w SAR",((H$28*10)*$B34),IF(H$27="%w/w DM",(((H$28*10)*($B$28/100))*$B34),IF(H$27="kg/t SAR",(H$28*$B34),IF(H$27="kg/t DM",((H$28*($B$28/100))*$B34),IF(H$27="mg/kg SAR",((H$28*0.001)*$B34),IF(H$27="mg/kg DM",(((H$28*0.001)*($B$28/100))*$B34),0)))))) -> 0.5325 | I34: =IF(I$27="%w/w SAR",((I$28*10)*$B34),IF(I$27="%w/w DM",(((I$28*10)*($B$28/100))*$B34),IF(I$27="kg/t SAR",(I$28*$B34),IF(I$27="kg/t DM",((I$28*($B$28/100))*$B34),IF(I$27="mg/kg SAR",((I$28*0.001)*$B34),IF(I$27="mg/kg DM",(((I$28*0.001)*($B$28/100))*$B34),0)))))) -> 0.125 | J34: =IF(J$27="%w/w SAR",((J$28*10)*$B34),IF(J$27="%w/w DM",(((J$28*10)*($B$28/100))*$B34),IF(J$27="kg/t SAR",(J$28*$B34),IF(J$27="kg/t DM",((J$28*($B$28/100))*$B34),IF(J$27="mg/kg SAR",((J$28*0.001)*$B34),IF(J$27="mg/kg DM",(((J$28*0.001)*($B$28/100))*$B34),0)))))) -> 0.0025 | K34: =IF(K$27="%w/w SAR",((K$28*10)*$B34),IF(K$27="%w/w DM",(((K$28*10)*($B$28/100))*$B34),IF(K$27="kg/t SAR",(K$28*$B34),IF(K$27="kg/t DM",((K$28*($B$28/100))*$B34),IF(K$27="mg/kg SAR",((K$28*0.001)*$B34),IF(K$27="mg/kg DM",(((K$28*0.001)*($B$28/100))*$B34),0)))))) -> 0.0125 | L34: =IF(L$27="%w/w SAR",((L$28*10)*$B34),IF(L$27="%w/w DM",(((L$28*10)*($B$28/100))*$B34),IF(L$27="kg/t SAR",(L$28*$B34),IF(L$27="kg/t DM",((L$28*($B$28/100))*$B34),IF(L$27="mg/kg SAR",((L$28*0.001)*$B34),IF(L$27="mg/kg DM",(((L$28*0.001)*($B$28/100))*$B34),0)))))) -> 0.05 | M34: =IF(M$27="%w/w SAR",((M$28*10)*$B34),IF(M$27="%w/w DM",(((M$28*10)*($B$28/100))*$B34),IF(M$27="kg/t SAR",(M$28*$B34),IF(M$27="kg/t DM",((M$28*($B$28/100))*$B34),IF(M$27="mg/kg SAR",((M$28*0.001)*$B34),IF(M$27="mg/kg DM",(((M$28*0.001)*($B$28/100))*$B34),0)))))) -> 0.05 | N34: =IF(N$27="%w/w SAR",((N$28*10)*$B34),IF(N$27="%w/w DM",(((N$28*10)*($B$28/100))*$B34),IF(N$27="kg/t SAR",(N$28*$B34),IF(N$27="kg/t DM",((N$28*($B$28/100))*$B34),IF(N$27="mg/kg SAR",((N$28*0.001)*$B34),IF(N$27="mg/kg DM",(((N$28*0.001)*($B$28/100))*$B34),0)))))) -> 0 | ... P34: =IF(P$27="%w/w SAR",((P$28*10)*$B34),IF(P$27="%w/w DM",(((P$28*10)*($B$28/100))*$B34),IF(P$27="kg/t SAR",(P$28*$B34),IF(P$27="kg/t DM",((P$28*($B$28/100))*$B34),IF(P$27="mg/kg SAR",((P$28*0.001)*$B34),IF(P$27="mg/kg DM",(((P$28*0.001)*($B$28/100))*$B34),0)))))) -> 275 | Q34: =(IF(Q$27="%w/w SAR",((Q$28*10)*$B34),IF(Q$27="%w/w DM",(((Q$28*10)*($B$28/100))*$B34),IF(Q$27="kg/t SAR",(Q$28*$B34),IF(Q$27="kg/t DM",((Q$28*($B$28/100))*$B34),IF(Q$27="mg/kg SAR",((Q$28*0.001)*$B34),IF(Q$27="mg/kg DM",(((Q$28*0.001)*($B$28/100))*$B34),0)))))))*2.5 -> 25 | R34: =IF(R$27="%w/w SAR",((R$28*10)*$B34),IF(R$27="%w/w DM",(((R$28*10)*($B$28/100))*$B34),IF(R$27="kg/t SAR",(R$28*$B34),IF(R$27="kg/t DM",((R$28*($B$28/100))*$B34),IF(R$27="mg/kg SAR",((R$28*0.001)*$B34),IF(R$27="mg/kg DM",(((R$28*0.001)*($B$28/100))*$B34),0)))))) -> 0.05 | S34: =IF(S$27="%w/w SAR",((S$28*10)*$B34),IF(S$27="%w/w DM",(((S$28*10)*($B$28/100))*$B34),IF(S$27="kg/t SAR",(S$28*$B34),IF(S$27="kg/t DM",((S$28*($B$28/100))*$B34),IF(S$27="mg/kg SAR",((S$28*0.001)*$B34),IF(S$27="mg/kg DM",(((S$28*0.001)*($B$28/100))*$B34),0)))))) -> 0.125 | T34: =IF(T$27="%w/w SAR",((T$28*10)*$B34),IF(T$27="%w/w DM",(((T$28*10)*($B$28/100))*$B34),IF(T$27="kg/t SAR",(T$28*$B34),IF(T$27="kg/t DM",((T$28*($B$28/100))*$B34),IF(T$27="mg/kg SAR",((T$28*0.001)*$B34),IF(T$27="mg/kg DM",(((T$28*0.001)*($B$28/100))*$B34),0)))))) -> 0.0125 | U34: =IF(U$27="%w/w SAR",((U$28*10)*$B34),IF(U$27="%w/w DM",(((U$28*10)*($B$28/100))*$B34),IF(U$27="kg/t SAR",(U$28*$B34),IF(U$27="kg/t DM",((U$28*($B$28/100))*$B34),IF(U$27="mg/kg SAR",((U$28*0.001)*$B34),IF(U$27="mg/kg DM",(((U$28*0.001)*($B$28/100))*$B34),0)))))) -> 2.5
A35: =G8 -> 8 | B35: 250 | C35: =IF(C$27="%w/w SAR",((C$28*10)*$B35),IF(C$27="%w/w DM",(((C$28*10)*($B$28/100))*$B35),IF(C$27="kg/t SAR",(C$28*$B35),IF(C$27="kg/t DM",((C$28*($B$28/100))*$B35),IF(C$27="mg/kg SAR",((C$28*0.001)*$B35),IF(C$27="mg/kg DM",(((C$28*0.001)*($B$28/100))*$B35),0)))))) -> 150 | D35: =(IF(D$27="%w/w SAR",((D$28*10)*$B35),IF(D$27="%w/w DM",(((D$28*10)*($B$28/100))*$B35),IF(D$27="kg/t SAR",(D$28*$B35),IF(D$27="kg/t DM",((D$28*($B$28/100))*$B35),IF(D$27="mg/kg SAR",((D$28*0.001)*$B35),IF(D$27="mg/kg DM",(((D$28*0.001)*($B$28/100))*$B35),"0")))))))*2.291 -> 74.4575 | E35: =(IF(E$27="%w/w SAR",((E$28*10)*$B35),IF(E$27="%w/w DM",(((E$28*10)*($B$28/100))*$B35),IF(E$27="kg/t SAR",(E$28*$B35),IF(E$27="kg/t DM",((E$28*($B$28/100))*$B35),IF(E$27="mg/kg SAR",((E$28*0.001)*$B35),IF(E$27="mg/kg DM",(((E$28*0.001)*($B$28/100))*$B35),"0")))))))*1.205 -> 57.2375 | F35: =(IF(F$27="%w/w SAR",((F$28*10)*$B35),IF(F$27="%w/w DM",(((F$28*10)*($B$28/100))*$B35),IF(F$27="kg/t SAR",(F$28*$B35),IF(F$27="kg/t DM",((F$28*($B$28/100))*$B35),IF(F$27="mg/kg SAR",((F$28*0.001)*$B35),IF(F$27="mg/kg DM",(((F$28*0.001)*($B$28/100))*$B35),"0")))))))*1.658 -> 4.145 | G35: =IF(G$27="%w/w SAR",((G$28*10)*$B35),IF(G$27="%w/w DM",(((G$28*10)*($B$28/100))*$B35),IF(G$27="kg/t SAR",(G$28*$B35),IF(G$27="kg/t DM",((G$28*($B$28/100))*$B35),IF(G$27="mg/kg SAR",((G$28*0.001)*$B35),IF(G$27="mg/kg DM",(((G$28*0.001)*($B$28/100))*$B35),0)))))) -> 0.1045 | H35: =IF(H$27="%w/w SAR",((H$28*10)*$B35),IF(H$27="%w/w DM",(((H$28*10)*($B$28/100))*$B35),IF(H$27="kg/t SAR",(H$28*$B35),IF(H$27="kg/t DM",((H$28*($B$28/100))*$B35),IF(H$27="mg/kg SAR",((H$28*0.001)*$B35),IF(H$27="mg/kg DM",(((H$28*0.001)*($B$28/100))*$B35),0)))))) -> 0.5325 | I35: =IF(I$27="%w/w SAR",((I$28*10)*$B35),IF(I$27="%w/w DM",(((I$28*10)*($B$28/100))*$B35),IF(I$27="kg/t SAR",(I$28*$B35),IF(I$27="kg/t DM",((I$28*($B$28/100))*$B35),IF(I$27="mg/kg SAR",((I$28*0.001)*$B35),IF(I$27="mg/kg DM",(((I$28*0.001)*($B$28/100))*$B35),0)))))) -> 0.125 | J35: =IF(J$27="%w/w SAR",((J$28*10)*$B35),IF(J$27="%w/w DM",(((J$28*10)*($B$28/100))*$B35),IF(J$27="kg/t SAR",(J$28*$B35),IF(J$27="kg/t DM",((J$28*($B$28/100))*$B35),IF(J$27="mg/kg SAR",((J$28*0.001)*$B35),IF(J$27="mg/kg DM",(((J$28*0.001)*($B$28/100))*$B35),0)))))) -> 0.0025 | K35: =IF(K$27="%w/w SAR",((K$28*10)*$B35),IF(K$27="%w/w DM",(((K$28*10)*($B$28/100))*$B35),IF(K$27="kg/t SAR",(K$28*$B35),IF(K$27="kg/t DM",((K$28*($B$28/100))*$B35),IF(K$27="mg/kg SAR",((K$28*0.001)*$B35),IF(K$27="mg/kg DM",(((K$28*0.001)*($B$28/100))*$B35),0)))))) -> 0.0125 | L35: =IF(L$27="%w/w SAR",((L$28*10)*$B35),IF(L$27="%w/w DM",(((L$28*10)*($B$28/100))*$B35),IF(L$27="kg/t SAR",(L$28*$B35),IF(L$27="kg/t DM",((L$28*($B$28/100))*$B35),IF(L$27="mg/kg SAR",((L$28*0.001)*$B35),IF(L$27="mg/kg DM",(((L$28*0.001)*($B$28/100))*$B35),0)))))) -> 0.05 | M35: =IF(M$27="%w/w SAR",((M$28*10)*$B35),IF(M$27="%w/w DM",(((M$28*10)*($B$28/100))*$B35),IF(M$27="kg/t SAR",(M$28*$B35),IF(M$27="kg/t DM",((M$28*($B$28/100))*$B35),IF(M$27="mg/kg SAR",((M$28*0.001)*$B35),IF(M$27="mg/kg DM",(((M$28*0.001)*($B$28/100))*$B35),0)))))) -> 0.05 | N35: =IF(N$27="%w/w SAR",((N$28*10)*$B35),IF(N$27="%w/w DM",(((N$28*10)*($B$28/100))*$B35),IF(N$27="kg/t SAR",(N$28*$B35),IF(N$27="kg/t DM",((N$28*($B$28/100))*$B35),IF(N$27="mg/kg SAR",((N$28*0.001)*$B35),IF(N$27="mg/kg DM",(((N$28*0.001)*($B$28/100))*$B35),0)))))) -> 0 | ... P35: =IF(P$27="%w/w SAR",((P$28*10)*$B35),IF(P$27="%w/w DM",(((P$28*10)*($B$28/100))*$B35),IF(P$27="kg/t SAR",(P$28*$B35),IF(P$27="kg/t DM",((P$28*($B$28/100))*$B35),IF(P$27="mg/kg SAR",((P$28*0.001)*$B35),IF(P$27="mg/kg DM",(((P$28*0.001)*($B$28/100))*$B35),0)))))) -> 275 | Q35: =(IF(Q$27="%w/w SAR",((Q$28*10)*$B35),IF(Q$27="%w/w DM",(((Q$28*10)*($B$28/100))*$B35),IF(Q$27="kg/t SAR",(Q$28*$B35),IF(Q$27="kg/t DM",((Q$28*($B$28/100))*$B35),IF(Q$27="mg/kg SAR",((Q$28*0.001)*$B35),IF(Q$27="mg/kg DM",(((Q$28*0.001)*($B$28/100))*$B35),0)))))))*2.5 -> 25 | R35: =IF(R$27="%w/w SAR",((R$28*10)*$B35),IF(R$27="%w/w DM",(((R$28*10)*($B$28/100))*$B35),IF(R$27="kg/t SAR",(R$28*$B35),IF(R$27="kg/t DM",((R$28*($B$28/100))*$B35),IF(R$27="mg/kg SAR",((R$28*0.001)*$B35),IF(R$27="mg/kg DM",(((R$28*0.001)*($B$28/100))*$B35),0)))))) -> 0.05 | S35: =IF(S$27="%w/w SAR",((S$28*10)*$B35),IF(S$27="%w/w DM",(((S$28*10)*($B$28/100))*$B35),IF(S$27="kg/t SAR",(S$28*$B35),IF(S$27="kg/t DM",((S$28*($B$28/100))*$B35),IF(S$27="mg/kg SAR",((S$28*0.001)*$B35),IF(S$27="mg/kg DM",(((S$28*0.001)*($B$28/100))*$B35),0)))))) -> 0.125 | T35: =IF(T$27="%w/w SAR",((T$28*10)*$B35),IF(T$27="%w/w DM",(((T$28*10)*($B$28/100))*$B35),IF(T$27="kg/t SAR",(T$28*$B35),IF(T$27="kg/t DM",((T$28*($B$28/100))*$B35),IF(T$27="mg/kg SAR",((T$28*0.001)*$B35),IF(T$27="mg/kg DM",(((T$28*0.001)*($B$28/100))*$B35),0)))))) -> 0.0125 | U35: =IF(U$27="%w/w SAR",((U$28*10)*$B35),IF(U$27="%w/w DM",(((U$28*10)*($B$28/100))*$B35),IF(U$27="kg/t SAR",(U$28*$B35),IF(U$27="kg/t DM",((U$28*($B$28/100))*$B35),IF(U$27="mg/kg SAR",((U$28*0.001)*$B35),IF(U$27="mg/kg DM",(((U$28*0.001)*($B$28/100))*$B35),0)))))) -> 2.5
A36: =H8 -> 9 | B36: 250 | C36: =IF(C$27="%w/w SAR",((C$28*10)*$B36),IF(C$27="%w/w DM",(((C$28*10)*($B$28/100))*$B36),IF(C$27="kg/t SAR",(C$28*$B36),IF(C$27="kg/t DM",((C$28*($B$28/100))*$B36),IF(C$27="mg/kg SAR",((C$28*0.001)*$B36),IF(C$27="mg/kg DM",(((C$28*0.001)*($B$28/100))*$B36),0)))))) -> 150 | D36: =(IF(D$27="%w/w SAR",((D$28*10)*$B36),IF(D$27="%w/w DM",(((D$28*10)*($B$28/100))*$B36),IF(D$27="kg/t SAR",(D$28*$B36),IF(D$27="kg/t DM",((D$28*($B$28/100))*$B36),IF(D$27="mg/kg SAR",((D$28*0.001)*$B36),IF(D$27="mg/kg DM",(((D$28*0.001)*($B$28/100))*$B36),"0")))))))*2.291 -> 74.4575 | E36: =(IF(E$27="%w/w SAR",((E$28*10)*$B36),IF(E$27="%w/w DM",(((E$28*10)*($B$28/100))*$B36),IF(E$27="kg/t SAR",(E$28*$B36),IF(E$27="kg/t DM",((E$28*($B$28/100))*$B36),IF(E$27="mg/kg SAR",((E$28*0.001)*$B36),IF(E$27="mg/kg DM",(((E$28*0.001)*($B$28/100))*$B36),"0")))))))*1.205 -> 57.2375 | F36: =(IF(F$27="%w/w SAR",((F$28*10)*$B36),IF(F$27="%w/w DM",(((F$28*10)*($B$28/100))*$B36),IF(F$27="kg/t SAR",(F$28*$B36),IF(F$27="kg/t DM",((F$28*($B$28/100))*$B36),IF(F$27="mg/kg SAR",((F$28*0.001)*$B36),IF(F$27="mg/kg DM",(((F$28*0.001)*($B$28/100))*$B36),"0")))))))*1.658 -> 4.145 | G36: =IF(G$27="%w/w SAR",((G$28*10)*$B36),IF(G$27="%w/w DM",(((G$28*10)*($B$28/100))*$B36),IF(G$27="kg/t SAR",(G$28*$B36),IF(G$27="kg/t DM",((G$28*($B$28/100))*$B36),IF(G$27="mg/kg SAR",((G$28*0.001)*$B36),IF(G$27="mg/kg DM",(((G$28*0.001)*($B$28/100))*$B36),0)))))) -> 0.1045 | H36: =IF(H$27="%w/w SAR",((H$28*10)*$B36),IF(H$27="%w/w DM",(((H$28*10)*($B$28/100))*$B36),IF(H$27="kg/t SAR",(H$28*$B36),IF(H$27="kg/t DM",((H$28*($B$28/100))*$B36),IF(H$27="mg/kg SAR",((H$28*0.001)*$B36),IF(H$27="mg/kg DM",(((H$28*0.001)*($B$28/100))*$B36),0)))))) -> 0.5325 | I36: =IF(I$27="%w/w SAR",((I$28*10)*$B36),IF(I$27="%w/w DM",(((I$28*10)*($B$28/100))*$B36),IF(I$27="kg/t SAR",(I$28*$B36),IF(I$27="kg/t DM",((I$28*($B$28/100))*$B36),IF(I$27="mg/kg SAR",((I$28*0.001)*$B36),IF(I$27="mg/kg DM",(((I$28*0.001)*($B$28/100))*$B36),0)))))) -> 0.125 | J36: =IF(J$27="%w/w SAR",((J$28*10)*$B36),IF(J$27="%w/w DM",(((J$28*10)*($B$28/100))*$B36),IF(J$27="kg/t SAR",(J$28*$B36),IF(J$27="kg/t DM",((J$28*($B$28/100))*$B36),IF(J$27="mg/kg SAR",((J$28*0.001)*$B36),IF(J$27="mg/kg DM",(((J$28*0.001)*($B$28/100))*$B36),0)))))) -> 0.0025 | K36: =IF(K$27="%w/w SAR",((K$28*10)*$B36),IF(K$27="%w/w DM",(((K$28*10)*($B$28/100))*$B36),IF(K$27="kg/t SAR",(K$28*$B36),IF(K$27="kg/t DM",((K$28*($B$28/100))*$B36),IF(K$27="mg/kg SAR",((K$28*0.001)*$B36),IF(K$27="mg/kg DM",(((K$28*0.001)*($B$28/100))*$B36),0)))))) -> 0.0125 | L36: =IF(L$27="%w/w SAR",((L$28*10)*$B36),IF(L$27="%w/w DM",(((L$28*10)*($B$28/100))*$B36),IF(L$27="kg/t SAR",(L$28*$B36),IF(L$27="kg/t DM",((L$28*($B$28/100))*$B36),IF(L$27="mg/kg SAR",((L$28*0.001)*$B36),IF(L$27="mg/kg DM",(((L$28*0.001)*($B$28/100))*$B36),0)))))) -> 0.05 | M36: =IF(M$27="%w/w SAR",((M$28*10)*$B36),IF(M$27="%w/w DM",(((M$28*10)*($B$28/100))*$B36),IF(M$27="kg/t SAR",(M$28*$B36),IF(M$27="kg/t DM",((M$28*($B$28/100))*$B36),IF(M$27="mg/kg SAR",((M$28*0.001)*$B36),IF(M$27="mg/kg DM",(((M$28*0.001)*($B$28/100))*$B36),0)))))) -> 0.05 | N36: =IF(N$27="%w/w SAR",((N$28*10)*$B36),IF(N$27="%w/w DM",(((N$28*10)*($B$28/100))*$B36),IF(N$27="kg/t SAR",(N$28*$B36),IF(N$27="kg/t DM",((N$28*($B$28/100))*$B36),IF(N$27="mg/kg SAR",((N$28*0.001)*$B36),IF(N$27="mg/kg DM",(((N$28*0.001)*($B$28/100))*$B36),0)))))) -> 0 | ... P36: =IF(P$27="%w/w SAR",((P$28*10)*$B36),IF(P$27="%w/w DM",(((P$28*10)*($B$28/100))*$B36),IF(P$27="kg/t SAR",(P$28*$B36),IF(P$27="kg/t DM",((P$28*($B$28/100))*$B36),IF(P$27="mg/kg SAR",((P$28*0.001)*$B36),IF(P$27="mg/kg DM",(((P$28*0.001)*($B$28/100))*$B36),0)))))) -> 275 | Q36: =(IF(Q$27="%w/w SAR",((Q$28*10)*$B36),IF(Q$27="%w/w DM",(((Q$28*10)*($B$28/100))*$B36),IF(Q$27="kg/t SAR",(Q$28*$B36),IF(Q$27="kg/t DM",((Q$28*($B$28/100))*$B36),IF(Q$27="mg/kg SAR",((Q$28*0.001)*$B36),IF(Q$27="mg/kg DM",(((Q$28*0.001)*($B$28/100))*$B36),0)))))))*2.5 -> 25 | R36: =IF(R$27="%w/w SAR",((R$28*10)*$B36),IF(R$27="%w/w DM",(((R$28*10)*($B$28/100))*$B36),IF(R$27="kg/t SAR",(R$28*$B36),IF(R$27="kg/t DM",((R$28*($B$28/100))*$B36),IF(R$27="mg/kg SAR",((R$28*0.001)*$B36),IF(R$27="mg/kg DM",(((R$28*0.001)*($B$28/100))*$B36),0)))))) -> 0.05 | S36: =IF(S$27="%w/w SAR",((S$28*10)*$B36),IF(S$27="%w/w DM",(((S$28*10)*($B$28/100))*$B36),IF(S$27="kg/t SAR",(S$28*$B36),IF(S$27="kg/t DM",((S$28*($B$28/100))*$B36),IF(S$27="mg/kg SAR",((S$28*0.001)*$B36),IF(S$27="mg/kg DM",(((S$28*0.001)*($B$28/100))*$B36),0)))))) -> 0.125 | T36: =IF(T$27="%w/w SAR",((T$28*10)*$B36),IF(T$27="%w/w DM",(((T$28*10)*($B$28/100))*$B36),IF(T$27="kg/t SAR",(T$28*$B36),IF(T$27="kg/t DM",((T$28*($B$28/100))*$B36),IF(T$27="mg/kg SAR",((T$28*0.001)*$B36),IF(T$27="mg/kg DM",(((T$28*0.001)*($B$28/100))*$B36),0)))))) -> 0.0125 | U36: =IF(U$27="%w/w SAR",((U$28*10)*$B36),IF(U$27="%w/w DM",(((U$28*10)*($B$28/100))*$B36),IF(U$27="kg/t SAR",(U$28*$B36),IF(U$27="kg/t DM",((U$28*($B$28/100))*$B36),IF(U$27="mg/kg SAR",((U$28*0.001)*$B36),IF(U$27="mg/kg DM",(((U$28*0.001)*($B$28/100))*$B36),0)))))) -> 2.5
A37: =I8 -> 10 | B37: 250 | C37: =IF(C$27="%w/w SAR",((C$28*10)*$B37),IF(C$27="%w/w DM",(((C$28*10)*($B$28/100))*$B37),IF(C$27="kg/t SAR",(C$28*$B37),IF(C$27="kg/t DM",((C$28*($B$28/100))*$B37),IF(C$27="mg/kg SAR",((C$28*0.001)*$B37),IF(C$27="mg/kg DM",(((C$28*0.001)*($B$28/100))*$B37),0)))))) -> 150 | D37: =(IF(D$27="%w/w SAR",((D$28*10)*$B37),IF(D$27="%w/w DM",(((D$28*10)*($B$28/100))*$B37),IF(D$27="kg/t SAR",(D$28*$B37),IF(D$27="kg/t DM",((D$28*($B$28/100))*$B37),IF(D$27="mg/kg SAR",((D$28*0.001)*$B37),IF(D$27="mg/kg DM",(((D$28*0.001)*($B$28/100))*$B37),"0")))))))*2.291 -> 74.4575 | E37: =(IF(E$27="%w/w SAR",((E$28*10)*$B37),IF(E$27="%w/w DM",(((E$28*10)*($B$28/100))*$B37),IF(E$27="kg/t SAR",(E$28*$B37),IF(E$27="kg/t DM",((E$28*($B$28/100))*$B37),IF(E$27="mg/kg SAR",((E$28*0.001)*$B37),IF(E$27="mg/kg DM",(((E$28*0.001)*($B$28/100))*$B37),"0")))))))*1.205 -> 57.2375 | F37: =(IF(F$27="%w/w SAR",((F$28*10)*$B37),IF(F$27="%w/w DM",(((F$28*10)*($B$28/100))*$B37),IF(F$27="kg/t SAR",(F$28*$B37),IF(F$27="kg/t DM",((F$28*($B$28/100))*$B37),IF(F$27="mg/kg SAR",((F$28*0.001)*$B37),IF(F$27="mg/kg DM",(((F$28*0.001)*($B$28/100))*$B37),"0")))))))*1.658 -> 4.145 | G37: =IF(G$27="%w/w SAR",((G$28*10)*$B37),IF(G$27="%w/w DM",(((G$28*10)*($B$28/100))*$B37),IF(G$27="kg/t SAR",(G$28*$B37),IF(G$27="kg/t DM",((G$28*($B$28/100))*$B37),IF(G$27="mg/kg SAR",((G$28*0.001)*$B37),IF(G$27="mg/kg DM",(((G$28*0.001)*($B$28/100))*$B37),0)))))) -> 0.1045 | H37: =IF(H$27="%w/w SAR",((H$28*10)*$B37),IF(H$27="%w/w DM",(((H$28*10)*($B$28/100))*$B37),IF(H$27="kg/t SAR",(H$28*$B37),IF(H$27="kg/t DM",((H$28*($B$28/100))*$B37),IF(H$27="mg/kg SAR",((H$28*0.001)*$B37),IF(H$27="mg/kg DM",(((H$28*0.001)*($B$28/100))*$B37),0)))))) -> 0.5325 | I37: =IF(I$27="%w/w SAR",((I$28*10)*$B37),IF(I$27="%w/w DM",(((I$28*10)*($B$28/100))*$B37),IF(I$27="kg/t SAR",(I$28*$B37),IF(I$27="kg/t DM",((I$28*($B$28/100))*$B37),IF(I$27="mg/kg SAR",((I$28*0.001)*$B37),IF(I$27="mg/kg DM",(((I$28*0.001)*($B$28/100))*$B37),0)))))) -> 0.125 | J37: =IF(J$27="%w/w SAR",((J$28*10)*$B37),IF(J$27="%w/w DM",(((J$28*10)*($B$28/100))*$B37),IF(J$27="kg/t SAR",(J$28*$B37),IF(J$27="kg/t DM",((J$28*($B$28/100))*$B37),IF(J$27="mg/kg SAR",((J$28*0.001)*$B37),IF(J$27="mg/kg DM",(((J$28*0.001)*($B$28/100))*$B37),0)))))) -> 0.0025 | K37: =IF(K$27="%w/w SAR",((K$28*10)*$B37),IF(K$27="%w/w DM",(((K$28*10)*($B$28/100))*$B37),IF(K$27="kg/t SAR",(K$28*$B37),IF(K$27="kg/t DM",((K$28*($B$28/100))*$B37),IF(K$27="mg/kg SAR",((K$28*0.001)*$B37),IF(K$27="mg/kg DM",(((K$28*0.001)*($B$28/100))*$B37),0)))))) -> 0.0125 | L37: =IF(L$27="%w/w SAR",((L$28*10)*$B37),IF(L$27="%w/w DM",(((L$28*10)*($B$28/100))*$B37),IF(L$27="kg/t SAR",(L$28*$B37),IF(L$27="kg/t DM",((L$28*($B$28/100))*$B37),IF(L$27="mg/kg SAR",((L$28*0.001)*$B37),IF(L$27="mg/kg DM",(((L$28*0.001)*($B$28/100))*$B37),0)))))) -> 0.05 | M37: =IF(M$27="%w/w SAR",((M$28*10)*$B37),IF(M$27="%w/w DM",(((M$28*10)*($B$28/100))*$B37),IF(M$27="kg/t SAR",(M$28*$B37),IF(M$27="kg/t DM",((M$28*($B$28/100))*$B37),IF(M$27="mg/kg SAR",((M$28*0.001)*$B37),IF(M$27="mg/kg DM",(((M$28*0.001)*($B$28/100))*$B37),0)))))) -> 0.05 | N37: =IF(N$27="%w/w SAR",((N$28*10)*$B37),IF(N$27="%w/w DM",(((N$28*10)*($B$28/100))*$B37),IF(N$27="kg/t SAR",(N$28*$B37),IF(N$27="kg/t DM",((N$28*($B$28/100))*$B37),IF(N$27="mg/kg SAR",((N$28*0.001)*$B37),IF(N$27="mg/kg DM",(((N$28*0.001)*($B$28/100))*$B37),0)))))) -> 0 | ... P37: =IF(P$27="%w/w SAR",((P$28*10)*$B37),IF(P$27="%w/w DM",(((P$28*10)*($B$28/100))*$B37),IF(P$27="kg/t SAR",(P$28*$B37),IF(P$27="kg/t DM",((P$28*($B$28/100))*$B37),IF(P$27="mg/kg SAR",((P$28*0.001)*$B37),IF(P$27="mg/kg DM",(((P$28*0.001)*($B$28/100))*$B37),0)))))) -> 275 | Q37: =(IF(Q$27="%w/w SAR",((Q$28*10)*$B37),IF(Q$27="%w/w DM",(((Q$28*10)*($B$28/100))*$B37),IF(Q$27="kg/t SAR",(Q$28*$B37),IF(Q$27="kg/t DM",((Q$28*($B$28/100))*$B37),IF(Q$27="mg/kg SAR",((Q$28*0.001)*$B37),IF(Q$27="mg/kg DM",(((Q$28*0.001)*($B$28/100))*$B37),0)))))))*2.5 -> 25 | R37: =IF(R$27="%w/w SAR",((R$28*10)*$B37),IF(R$27="%w/w DM",(((R$28*10)*($B$28/100))*$B37),IF(R$27="kg/t SAR",(R$28*$B37),IF(R$27="kg/t DM",((R$28*($B$28/100))*$B37),IF(R$27="mg/kg SAR",((R$28*0.001)*$B37),IF(R$27="mg/kg DM",(((R$28*0.001)*($B$28/100))*$B37),0)))))) -> 0.05 | S37: =IF(S$27="%w/w SAR",((S$28*10)*$B37),IF(S$27="%w/w DM",(((S$28*10)*($B$28/100))*$B37),IF(S$27="kg/t SAR",(S$28*$B37),IF(S$27="kg/t DM",((S$28*($B$28/100))*$B37),IF(S$27="mg/kg SAR",((S$28*0.001)*$B37),IF(S$27="mg/kg DM",(((S$28*0.001)*($B$28/100))*$B37),0)))))) -> 0.125 | T37: =IF(T$27="%w/w SAR",((T$28*10)*$B37),IF(T$27="%w/w DM",(((T$28*10)*($B$28/100))*$B37),IF(T$27="kg/t SAR",(T$28*$B37),IF(T$27="kg/t DM",((T$28*($B$28/100))*$B37),IF(T$27="mg/kg SAR",((T$28*0.001)*$B37),IF(T$27="mg/kg DM",(((T$28*0.001)*($B$28/100))*$B37),0)))))) -> 0.0125 | U37: =IF(U$27="%w/w SAR",((U$28*10)*$B37),IF(U$27="%w/w DM",(((U$28*10)*($B$28/100))*$B37),IF(U$27="kg/t SAR",(U$28*$B37),IF(U$27="kg/t DM",((U$28*($B$28/100))*$B37),IF(U$27="mg/kg SAR",((U$28*0.001)*$B37),IF(U$27="mg/kg DM",(((U$28*0.001)*($B$28/100))*$B37),0)))))) -> 2.5
A38: =J8 -> 12 | B38: 250 | C38: =IF(C$27="%w/w SAR",((C$28*10)*$B38),IF(C$27="%w/w DM",(((C$28*10)*($B$28/100))*$B38),IF(C$27="kg/t SAR",(C$28*$B38),IF(C$27="kg/t DM",((C$28*($B$28/100))*$B38),IF(C$27="mg/kg SAR",((C$28*0.001)*$B38),IF(C$27="mg/kg DM",(((C$28*0.001)*($B$28/100))*$B38),0)))))) -> 150 | D38: =(IF(D$27="%w/w SAR",((D$28*10)*$B38),IF(D$27="%w/w DM",(((D$28*10)*($B$28/100))*$B38),IF(D$27="kg/t SAR",(D$28*$B38),IF(D$27="kg/t DM",((D$28*($B$28/100))*$B38),IF(D$27="mg/kg SAR",((D$28*0.001)*$B38),IF(D$27="mg/kg DM",(((D$28*0.001)*($B$28/100))*$B38),"0")))))))*2.291 -> 74.4575 | E38: =(IF(E$27="%w/w SAR",((E$28*10)*$B38),IF(E$27="%w/w DM",(((E$28*10)*($B$28/100))*$B38),IF(E$27="kg/t SAR",(E$28*$B38),IF(E$27="kg/t DM",((E$28*($B$28/100))*$B38),IF(E$27="mg/kg SAR",((E$28*0.001)*$B38),IF(E$27="mg/kg DM",(((E$28*0.001)*($B$28/100))*$B38),"0")))))))*1.205 -> 57.2375 | F38: =(IF(F$27="%w/w SAR",((F$28*10)*$B38),IF(F$27="%w/w DM",(((F$28*10)*($B$28/100))*$B38),IF(F$27="kg/t SAR",(F$28*$B38),IF(F$27="kg/t DM",((F$28*($B$28/100))*$B38),IF(F$27="mg/kg SAR",((F$28*0.001)*$B38),IF(F$27="mg/kg DM",(((F$28*0.001)*($B$28/100))*$B38),"0")))))))*1.658 -> 4.145 | G38: =IF(G$27="%w/w SAR",((G$28*10)*$B38),IF(G$27="%w/w DM",(((G$28*10)*($B$28/100))*$B38),IF(G$27="kg/t SAR",(G$28*$B38),IF(G$27="kg/t DM",((G$28*($B$28/100))*$B38),IF(G$27="mg/kg SAR",((G$28*0.001)*$B38),IF(G$27="mg/kg DM",(((G$28*0.001)*($B$28/100))*$B38),0)))))) -> 0.1045 | H38: =IF(H$27="%w/w SAR",((H$28*10)*$B38),IF(H$27="%w/w DM",(((H$28*10)*($B$28/100))*$B38),IF(H$27="kg/t SAR",(H$28*$B38),IF(H$27="kg/t DM",((H$28*($B$28/100))*$B38),IF(H$27="mg/kg SAR",((H$28*0.001)*$B38),IF(H$27="mg/kg DM",(((H$28*0.001)*($B$28/100))*$B38),0)))))) -> 0.5325 | I38: =IF(I$27="%w/w SAR",((I$28*10)*$B38),IF(I$27="%w/w DM",(((I$28*10)*($B$28/100))*$B38),IF(I$27="kg/t SAR",(I$28*$B38),IF(I$27="kg/t DM",((I$28*($B$28/100))*$B38),IF(I$27="mg/kg SAR",((I$28*0.001)*$B38),IF(I$27="mg/kg DM",(((I$28*0.001)*($B$28/100))*$B38),0)))))) -> 0.125 | J38: =IF(J$27="%w/w SAR",((J$28*10)*$B38),IF(J$27="%w/w DM",(((J$28*10)*($B$28/100))*$B38),IF(J$27="kg/t SAR",(J$28*$B38),IF(J$27="kg/t DM",((J$28*($B$28/100))*$B38),IF(J$27="mg/kg SAR",((J$28*0.001)*$B38),IF(J$27="mg/kg DM",(((J$28*0.001)*($B$28/100))*$B38),0)))))) -> 0.0025 | K38: =IF(K$27="%w/w SAR",((K$28*10)*$B38),IF(K$27="%w/w DM",(((K$28*10)*($B$28/100))*$B38),IF(K$27="kg/t SAR",(K$28*$B38),IF(K$27="kg/t DM",((K$28*($B$28/100))*$B38),IF(K$27="mg/kg SAR",((K$28*0.001)*$B38),IF(K$27="mg/kg DM",(((K$28*0.001)*($B$28/100))*$B38),0)))))) -> 0.0125 | L38: =IF(L$27="%w/w SAR",((L$28*10)*$B38),IF(L$27="%w/w DM",(((L$28*10)*($B$28/100))*$B38),IF(L$27="kg/t SAR",(L$28*$B38),IF(L$27="kg/t DM",((L$28*($B$28/100))*$B38),IF(L$27="mg/kg SAR",((L$28*0.001)*$B38),IF(L$27="mg/kg DM",(((L$28*0.001)*($B$28/100))*$B38),0)))))) -> 0.05 | M38: =IF(M$27="%w/w SAR",((M$28*10)*$B38),IF(M$27="%w/w DM",(((M$28*10)*($B$28/100))*$B38),IF(M$27="kg/t SAR",(M$28*$B38),IF(M$27="kg/t DM",((M$28*($B$28/100))*$B38),IF(M$27="mg/kg SAR",((M$28*0.001)*$B38),IF(M$27="mg/kg DM",(((M$28*0.001)*($B$28/100))*$B38),0)))))) -> 0.05 | N38: =IF(N$27="%w/w SAR",((N$28*10)*$B38),IF(N$27="%w/w DM",(((N$28*10)*($B$28/100))*$B38),IF(N$27="kg/t SAR",(N$28*$B38),IF(N$27="kg/t DM",((N$28*($B$28/100))*$B38),IF(N$27="mg/kg SAR",((N$28*0.001)*$B38),IF(N$27="mg/kg DM",(((N$28*0.001)*($B$28/100))*$B38),0)))))) -> 0 | ... P38: =IF(P$27="%w/w SAR",((P$28*10)*$B38),IF(P$27="%w/w DM",(((P$28*10)*($B$28/100))*$B38),IF(P$27="kg/t SAR",(P$28*$B38),IF(P$27="kg/t DM",((P$28*($B$28/100))*$B38),IF(P$27="mg/kg SAR",((P$28*0.001)*$B38),IF(P$27="mg/kg DM",(((P$28*0.001)*($B$28/100))*$B38),0)))))) -> 275 | Q38: =(IF(Q$27="%w/w SAR",((Q$28*10)*$B38),IF(Q$27="%w/w DM",(((Q$28*10)*($B$28/100))*$B38),IF(Q$27="kg/t SAR",(Q$28*$B38),IF(Q$27="kg/t DM",((Q$28*($B$28/100))*$B38),IF(Q$27="mg/kg SAR",((Q$28*0.001)*$B38),IF(Q$27="mg/kg DM",(((Q$28*0.001)*($B$28/100))*$B38),0)))))))*2.5 -> 25 | R38: =IF(R$27="%w/w SAR",((R$28*10)*$B38),IF(R$27="%w/w DM",(((R$28*10)*($B$28/100))*$B38),IF(R$27="kg/t SAR",(R$28*$B38),IF(R$27="kg/t DM",((R$28*($B$28/100))*$B38),IF(R$27="mg/kg SAR",((R$28*0.001)*$B38),IF(R$27="mg/kg DM",(((R$28*0.001)*($B$28/100))*$B38),0)))))) -> 0.05 | S38: =IF(S$27="%w/w SAR",((S$28*10)*$B38),IF(S$27="%w/w DM",(((S$28*10)*($B$28/100))*$B38),IF(S$27="kg/t SAR",(S$28*$B38),IF(S$27="kg/t DM",((S$28*($B$28/100))*$B38),IF(S$27="mg/kg SAR",((S$28*0.001)*$B38),IF(S$27="mg/kg DM",(((S$28*0.001)*($B$28/100))*$B38),0)))))) -> 0.125 | T38: =IF(T$27="%w/w SAR",((T$28*10)*$B38),IF(T$27="%w/w DM",(((T$28*10)*($B$28/100))*$B38),IF(T$27="kg/t SAR",(T$28*$B38),IF(T$27="kg/t DM",((T$28*($B$28/100))*$B38),IF(T$27="mg/kg SAR",((T$28*0.001)*$B38),IF(T$27="mg/kg DM",(((T$28*0.001)*($B$28/100))*$B38),0)))))) -> 0.0125 | U38: =IF(U$27="%w/w SAR",((U$28*10)*$B38),IF(U$27="%w/w DM",(((U$28*10)*($B$28/100))*$B38),IF(U$27="kg/t SAR",(U$28*$B38),IF(U$27="kg/t DM",((U$28*($B$28/100))*$B38),IF(U$27="mg/kg SAR",((U$28*0.001)*$B38),IF(U$27="mg/kg DM",(((U$28*0.001)*($B$28/100))*$B38),0)))))) -> 2.5
A39: =K8 -> 13 | B39: 250 | C39: =IF(C$27="%w/w SAR",((C$28*10)*$B39),IF(C$27="%w/w DM",(((C$28*10)*($B$28/100))*$B39),IF(C$27="kg/t SAR",(C$28*$B39),IF(C$27="kg/t DM",((C$28*($B$28/100))*$B39),IF(C$27="mg/kg SAR",((C$28*0.001)*$B39),IF(C$27="mg/kg DM",(((C$28*0.001)*($B$28/100))*$B39),0)))))) -> 150 | D39: =(IF(D$27="%w/w SAR",((D$28*10)*$B39),IF(D$27="%w/w DM",(((D$28*10)*($B$28/100))*$B39),IF(D$27="kg/t SAR",(D$28*$B39),IF(D$27="kg/t DM",((D$28*($B$28/100))*$B39),IF(D$27="mg/kg SAR",((D$28*0.001)*$B39),IF(D$27="mg/kg DM",(((D$28*0.001)*($B$28/100))*$B39),"0")))))))*2.291 -> 74.4575 | E39: =(IF(E$27="%w/w SAR",((E$28*10)*$B39),IF(E$27="%w/w DM",(((E$28*10)*($B$28/100))*$B39),IF(E$27="kg/t SAR",(E$28*$B39),IF(E$27="kg/t DM",((E$28*($B$28/100))*$B39),IF(E$27="mg/kg SAR",((E$28*0.001)*$B39),IF(E$27="mg/kg DM",(((E$28*0.001)*($B$28/100))*$B39),"0")))))))*1.205 -> 57.2375 | F39: =(IF(F$27="%w/w SAR",((F$28*10)*$B39),IF(F$27="%w/w DM",(((F$28*10)*($B$28/100))*$B39),IF(F$27="kg/t SAR",(F$28*$B39),IF(F$27="kg/t DM",((F$28*($B$28/100))*$B39),IF(F$27="mg/kg SAR",((F$28*0.001)*$B39),IF(F$27="mg/kg DM",(((F$28*0.001)*($B$28/100))*$B39),"0")))))))*1.658 -> 4.145 | G39: =IF(G$27="%w/w SAR",((G$28*10)*$B39),IF(G$27="%w/w DM",(((G$28*10)*($B$28/100))*$B39),IF(G$27="kg/t SAR",(G$28*$B39),IF(G$27="kg/t DM",((G$28*($B$28/100))*$B39),IF(G$27="mg/kg SAR",((G$28*0.001)*$B39),IF(G$27="mg/kg DM",(((G$28*0.001)*($B$28/100))*$B39),0)))))) -> 0.1045 | H39: =IF(H$27="%w/w SAR",((H$28*10)*$B39),IF(H$27="%w/w DM",(((H$28*10)*($B$28/100))*$B39),IF(H$27="kg/t SAR",(H$28*$B39),IF(H$27="kg/t DM",((H$28*($B$28/100))*$B39),IF(H$27="mg/kg SAR",((H$28*0.001)*$B39),IF(H$27="mg/kg DM",(((H$28*0.001)*($B$28/100))*$B39),0)))))) -> 0.5325 | I39: =IF(I$27="%w/w SAR",((I$28*10)*$B39),IF(I$27="%w/w DM",(((I$28*10)*($B$28/100))*$B39),IF(I$27="kg/t SAR",(I$28*$B39),IF(I$27="kg/t DM",((I$28*($B$28/100))*$B39),IF(I$27="mg/kg SAR",((I$28*0.001)*$B39),IF(I$27="mg/kg DM",(((I$28*0.001)*($B$28/100))*$B39),0)))))) -> 0.125 | J39: =IF(J$27="%w/w SAR",((J$28*10)*$B39),IF(J$27="%w/w DM",(((J$28*10)*($B$28/100))*$B39),IF(J$27="kg/t SAR",(J$28*$B39),IF(J$27="kg/t DM",((J$28*($B$28/100))*$B39),IF(J$27="mg/kg SAR",((J$28*0.001)*$B39),IF(J$27="mg/kg DM",(((J$28*0.001)*($B$28/100))*$B39),0)))))) -> 0.0025 | K39: =IF(K$27="%w/w SAR",((K$28*10)*$B39),IF(K$27="%w/w DM",(((K$28*10)*($B$28/100))*$B39),IF(K$27="kg/t SAR",(K$28*$B39),IF(K$27="kg/t DM",((K$28*($B$28/100))*$B39),IF(K$27="mg/kg SAR",((K$28*0.001)*$B39),IF(K$27="mg/kg DM",(((K$28*0.001)*($B$28/100))*$B39),0)))))) -> 0.0125 | L39: =IF(L$27="%w/w SAR",((L$28*10)*$B39),IF(L$27="%w/w DM",(((L$28*10)*($B$28/100))*$B39),IF(L$27="kg/t SAR",(L$28*$B39),IF(L$27="kg/t DM",((L$28*($B$28/100))*$B39),IF(L$27="mg/kg SAR",((L$28*0.001)*$B39),IF(L$27="mg/kg DM",(((L$28*0.001)*($B$28/100))*$B39),0)))))) -> 0.05 | M39: =IF(M$27="%w/w SAR",((M$28*10)*$B39),IF(M$27="%w/w DM",(((M$28*10)*($B$28/100))*$B39),IF(M$27="kg/t SAR",(M$28*$B39),IF(M$27="kg/t DM",((M$28*($B$28/100))*$B39),IF(M$27="mg/kg SAR",((M$28*0.001)*$B39),IF(M$27="mg/kg DM",(((M$28*0.001)*($B$28/100))*$B39),0)))))) -> 0.05 | N39: =IF(N$27="%w/w SAR",((N$28*10)*$B39),IF(N$27="%w/w DM",(((N$28*10)*($B$28/100))*$B39),IF(N$27="kg/t SAR",(N$28*$B39),IF(N$27="kg/t DM",((N$28*($B$28/100))*$B39),IF(N$27="mg/kg SAR",((N$28*0.001)*$B39),IF(N$27="mg/kg DM",(((N$28*0.001)*($B$28/100))*$B39),0)))))) -> 0 | ... P39: =IF(P$27="%w/w SAR",((P$28*10)*$B39),IF(P$27="%w/w DM",(((P$28*10)*($B$28/100))*$B39),IF(P$27="kg/t SAR",(P$28*$B39),IF(P$27="kg/t DM",((P$28*($B$28/100))*$B39),IF(P$27="mg/kg SAR",((P$28*0.001)*$B39),IF(P$27="mg/kg DM",(((P$28*0.001)*($B$28/100))*$B39),0)))))) -> 275 | Q39: =(IF(Q$27="%w/w SAR",((Q$28*10)*$B39),IF(Q$27="%w/w DM",(((Q$28*10)*($B$28/100))*$B39),IF(Q$27="kg/t SAR",(Q$28*$B39),IF(Q$27="kg/t DM",((Q$28*($B$28/100))*$B39),IF(Q$27="mg/kg SAR",((Q$28*0.001)*$B39),IF(Q$27="mg/kg DM",(((Q$28*0.001)*($B$28/100))*$B39),0)))))))*2.5 -> 25 | R39: =IF(R$27="%w/w SAR",((R$28*10)*$B39),IF(R$27="%w/w DM",(((R$28*10)*($B$28/100))*$B39),IF(R$27="kg/t SAR",(R$28*$B39),IF(R$27="kg/t DM",((R$28*($B$28/100))*$B39),IF(R$27="mg/kg SAR",((R$28*0.001)*$B39),IF(R$27="mg/kg DM",(((R$28*0.001)*($B$28/100))*$B39),0)))))) -> 0.05 | S39: =IF(S$27="%w/w SAR",((S$28*10)*$B39),IF(S$27="%w/w DM",(((S$28*10)*($B$28/100))*$B39),IF(S$27="kg/t SAR",(S$28*$B39),IF(S$27="kg/t DM",((S$28*($B$28/100))*$B39),IF(S$27="mg/kg SAR",((S$28*0.001)*$B39),IF(S$27="mg/kg DM",(((S$28*0.001)*($B$28/100))*$B39),0)))))) -> 0.125 | T39: =IF(T$27="%w/w SAR",((T$28*10)*$B39),IF(T$27="%w/w DM",(((T$28*10)*($B$28/100))*$B39),IF(T$27="kg/t SAR",(T$28*$B39),IF(T$27="kg/t DM",((T$28*($B$28/100))*$B39),IF(T$27="mg/kg SAR",((T$28*0.001)*$B39),IF(T$27="mg/kg DM",(((T$28*0.001)*($B$28/100))*$B39),0)))))) -> 0.0125 | U39: =IF(U$27="%w/w SAR",((U$28*10)*$B39),IF(U$27="%w/w DM",(((U$28*10)*($B$28/100))*$B39),IF(U$27="kg/t SAR",(U$28*$B39),IF(U$27="kg/t DM",((U$28*($B$28/100))*$B39),IF(U$27="mg/kg SAR",((U$28*0.001)*$B39),IF(U$27="mg/kg DM",(((U$28*0.001)*($B$28/100))*$B39),0)))))) -> 2.5
A40: =L8 -> 3327 | B40: 250 | C40: =IF(C$27="%w/w SAR",((C$28*10)*$B40),IF(C$27="%w/w DM",(((C$28*10)*($B$28/100))*$B40),IF(C$27="kg/t SAR",(C$28*$B40),IF(C$27="kg/t DM",((C$28*($B$28/100))*$B40),IF(C$27="mg/kg SAR",((C$28*0.001)*$B40),IF(C$27="mg/kg DM",(((C$28*0.001)*($B$28/100))*$B40),0)))))) -> 150 | D40: =(IF(D$27="%w/w SAR",((D$28*10)*$B40),IF(D$27="%w/w DM",(((D$28*10)*($B$28/100))*$B40),IF(D$27="kg/t SAR",(D$28*$B40),IF(D$27="kg/t DM",((D$28*($B$28/100))*$B40),IF(D$27="mg/kg SAR",((D$28*0.001)*$B40),IF(D$27="mg/kg DM",(((D$28*0.001)*($B$28/100))*$B40),"0")))))))*2.291 -> 74.4575 | E40: =(IF(E$27="%w/w SAR",((E$28*10)*$B40),IF(E$27="%w/w DM",(((E$28*10)*($B$28/100))*$B40),IF(E$27="kg/t SAR",(E$28*$B40),IF(E$27="kg/t DM",((E$28*($B$28/100))*$B40),IF(E$27="mg/kg SAR",((E$28*0.001)*$B40),IF(E$27="mg/kg DM",(((E$28*0.001)*($B$28/100))*$B40),"0")))))))*1.205 -> 57.2375 | F40: =(IF(F$27="%w/w SAR",((F$28*10)*$B40),IF(F$27="%w/w DM",(((F$28*10)*($B$28/100))*$B40),IF(F$27="kg/t SAR",(F$28*$B40),IF(F$27="kg/t DM",((F$28*($B$28/100))*$B40),IF(F$27="mg/kg SAR",((F$28*0.001)*$B40),IF(F$27="mg/kg DM",(((F$28*0.001)*($B$28/100))*$B40),"0")))))))*1.658 -> 4.145 | G40: =IF(G$27="%w/w SAR",((G$28*10)*$B40),IF(G$27="%w/w DM",(((G$28*10)*($B$28/100))*$B40),IF(G$27="kg/t SAR",(G$28*$B40),IF(G$27="kg/t DM",((G$28*($B$28/100))*$B40),IF(G$27="mg/kg SAR",((G$28*0.001)*$B40),IF(G$27="mg/kg DM",(((G$28*0.001)*($B$28/100))*$B40),0)))))) -> 0.1045 | H40: =IF(H$27="%w/w SAR",((H$28*10)*$B40),IF(H$27="%w/w DM",(((H$28*10)*($B$28/100))*$B40),IF(H$27="kg/t SAR",(H$28*$B40),IF(H$27="kg/t DM",((H$28*($B$28/100))*$B40),IF(H$27="mg/kg SAR",((H$28*0.001)*$B40),IF(H$27="mg/kg DM",(((H$28*0.001)*($B$28/100))*$B40),0)))))) -> 0.5325 | I40: =IF(I$27="%w/w SAR",((I$28*10)*$B40),IF(I$27="%w/w DM",(((I$28*10)*($B$28/100))*$B40),IF(I$27="kg/t SAR",(I$28*$B40),IF(I$27="kg/t DM",((I$28*($B$28/100))*$B40),IF(I$27="mg/kg SAR",((I$28*0.001)*$B40),IF(I$27="mg/kg DM",(((I$28*0.001)*($B$28/100))*$B40),0)))))) -> 0.125 | J40: =IF(J$27="%w/w SAR",((J$28*10)*$B40),IF(J$27="%w/w DM",(((J$28*10)*($B$28/100))*$B40),IF(J$27="kg/t SAR",(J$28*$B40),IF(J$27="kg/t DM",((J$28*($B$28/100))*$B40),IF(J$27="mg/kg SAR",((J$28*0.001)*$B40),IF(J$27="mg/kg DM",(((J$28*0.001)*($B$28/100))*$B40),0)))))) -> 0.0025 | K40: =IF(K$27="%w/w SAR",((K$28*10)*$B40),IF(K$27="%w/w DM",(((K$28*10)*($B$28/100))*$B40),IF(K$27="kg/t SAR",(K$28*$B40),IF(K$27="kg/t DM",((K$28*($B$28/100))*$B40),IF(K$27="mg/kg SAR",((K$28*0.001)*$B40),IF(K$27="mg/kg DM",(((K$28*0.001)*($B$28/100))*$B40),0)))))) -> 0.0125 | L40: =IF(L$27="%w/w SAR",((L$28*10)*$B40),IF(L$27="%w/w DM",(((L$28*10)*($B$28/100))*$B40),IF(L$27="kg/t SAR",(L$28*$B40),IF(L$27="kg/t DM",((L$28*($B$28/100))*$B40),IF(L$27="mg/kg SAR",((L$28*0.001)*$B40),IF(L$27="mg/kg DM",(((L$28*0.001)*($B$28/100))*$B40),0)))))) -> 0.05 | M40: =IF(M$27="%w/w SAR",((M$28*10)*$B40),IF(M$27="%w/w DM",(((M$28*10)*($B$28/100))*$B40),IF(M$27="kg/t SAR",(M$28*$B40),IF(M$27="kg/t DM",((M$28*($B$28/100))*$B40),IF(M$27="mg/kg SAR",((M$28*0.001)*$B40),IF(M$27="mg/kg DM",(((M$28*0.001)*($B$28/100))*$B40),0)))))) -> 0.05 | N40: =IF(N$27="%w/w SAR",((N$28*10)*$B40),IF(N$27="%w/w DM",(((N$28*10)*($B$28/100))*$B40),IF(N$27="kg/t SAR",(N$28*$B40),IF(N$27="kg/t DM",((N$28*($B$28/100))*$B40),IF(N$27="mg/kg SAR",((N$28*0.001)*$B40),IF(N$27="mg/kg DM",(((N$28*0.001)*($B$28/100))*$B40),0)))))) -> 0 | ... P40: =IF(P$27="%w/w SAR",((P$28*10)*$B40),IF(P$27="%w/w DM",(((P$28*10)*($B$28/100))*$B40),IF(P$27="kg/t SAR",(P$28*$B40),IF(P$27="kg/t DM",((P$28*($B$28/100))*$B40),IF(P$27="mg/kg SAR",((P$28*0.001)*$B40),IF(P$27="mg/kg DM",(((P$28*0.001)*($B$28/100))*$B40),0)))))) -> 275 | Q40: =(IF(Q$27="%w/w SAR",((Q$28*10)*$B40),IF(Q$27="%w/w DM",(((Q$28*10)*($B$28/100))*$B40),IF(Q$27="kg/t SAR",(Q$28*$B40),IF(Q$27="kg/t DM",((Q$28*($B$28/100))*$B40),IF(Q$27="mg/kg SAR",((Q$28*0.001)*$B40),IF(Q$27="mg/kg DM",(((Q$28*0.001)*($B$28/100))*$B40),0)))))))*2.5 -> 25 | R40: =IF(R$27="%w/w SAR",((R$28*10)*$B40),IF(R$27="%w/w DM",(((R$28*10)*($B$28/100))*$B40),IF(R$27="kg/t SAR",(R$28*$B40),IF(R$27="kg/t DM",((R$28*($B$28/100))*$B40),IF(R$27="mg/kg SAR",((R$28*0.001)*$B40),IF(R$27="mg/kg DM",(((R$28*0.001)*($B$28/100))*$B40),0)))))) -> 0.05 | S40: =IF(S$27="%w/w SAR",((S$28*10)*$B40),IF(S$27="%w/w DM",(((S$28*10)*($B$28/100))*$B40),IF(S$27="kg/t SAR",(S$28*$B40),IF(S$27="kg/t DM",((S$28*($B$28/100))*$B40),IF(S$27="mg/kg SAR",((S$28*0.001)*$B40),IF(S$27="mg/kg DM",(((S$28*0.001)*($B$28/100))*$B40),0)))))) -> 0.125 | T40: =IF(T$27="%w/w SAR",((T$28*10)*$B40),IF(T$27="%w/w DM",(((T$28*10)*($B$28/100))*$B40),IF(T$27="kg/t SAR",(T$28*$B40),IF(T$27="kg/t DM",((T$28*($B$28/100))*$B40),IF(T$27="mg/kg SAR",((T$28*0.001)*$B40),IF(T$27="mg/kg DM",(((T$28*0.001)*($B$28/100))*$B40),0)))))) -> 0.0125 | U40: =IF(U$27="%w/w SAR",((U$28*10)*$B40),IF(U$27="%w/w DM",(((U$28*10)*($B$28/100))*$B40),IF(U$27="kg/t SAR",(U$28*$B40),IF(U$27="kg/t DM",((U$28*($B$28/100))*$B40),IF(U$27="mg/kg SAR",((U$28*0.001)*$B40),IF(U$27="mg/kg DM",(((U$28*0.001)*($B$28/100))*$B40),0)))))) -> 2.5
A41: =M8 -> 9784/0273 | B41: 250 | C41: =IF(C$27="%w/w SAR",((C$28*10)*$B41),IF(C$27="%w/w DM",(((C$28*10)*($B$28/100))*$B41),IF(C$27="kg/t SAR",(C$28*$B41),IF(C$27="kg/t DM",((C$28*($B$28/100))*$B41),IF(C$27="mg/kg SAR",((C$28*0.001)*$B41),IF(C$27="mg/kg DM",(((C$28*0.001)*($B$28/100))*$B41),0)))))) -> 150 | D41: =(IF(D$27="%w/w SAR",((D$28*10)*$B41),IF(D$27="%w/w DM",(((D$28*10)*($B$28/100))*$B41),IF(D$27="kg/t SAR",(D$28*$B41),IF(D$27="kg/t DM",((D$28*($B$28/100))*$B41),IF(D$27="mg/kg SAR",((D$28*0.001)*$B41),IF(D$27="mg/kg DM",(((D$28*0.001)*($B$28/100))*$B41),"0")))))))*2.291 -> 74.4575 | E41: =(IF(E$27="%w/w SAR",((E$28*10)*$B41),IF(E$27="%w/w DM",(((E$28*10)*($B$28/100))*$B41),IF(E$27="kg/t SAR",(E$28*$B41),IF(E$27="kg/t DM",((E$28*($B$28/100))*$B41),IF(E$27="mg/kg SAR",((E$28*0.001)*$B41),IF(E$27="mg/kg DM",(((E$28*0.001)*($B$28/100))*$B41),"0")))))))*1.205 -> 57.2375 | F41: =(IF(F$27="%w/w SAR",((F$28*10)*$B41),IF(F$27="%w/w DM",(((F$28*10)*($B$28/100))*$B41),IF(F$27="kg/t SAR",(F$28*$B41),IF(F$27="kg/t DM",((F$28*($B$28/100))*$B41),IF(F$27="mg/kg SAR",((F$28*0.001)*$B41),IF(F$27="mg/kg DM",(((F$28*0.001)*($B$28/100))*$B41),"0")))))))*1.658 -> 4.145 | G41: =IF(G$27="%w/w SAR",((G$28*10)*$B41),IF(G$27="%w/w DM",(((G$28*10)*($B$28/100))*$B41),IF(G$27="kg/t SAR",(G$28*$B41),IF(G$27="kg/t DM",((G$28*($B$28/100))*$B41),IF(G$27="mg/kg SAR",((G$28*0.001)*$B41),IF(G$27="mg/kg DM",(((G$28*0.001)*($B$28/100))*$B41),0)))))) -> 0.1045 | H41: =IF(H$27="%w/w SAR",((H$28*10)*$B41),IF(H$27="%w/w DM",(((H$28*10)*($B$28/100))*$B41),IF(H$27="kg/t SAR",(H$28*$B41),IF(H$27="kg/t DM",((H$28*($B$28/100))*$B41),IF(H$27="mg/kg SAR",((H$28*0.001)*$B41),IF(H$27="mg/kg DM",(((H$28*0.001)*($B$28/100))*$B41),0)))))) -> 0.5325 | I41: =IF(I$27="%w/w SAR",((I$28*10)*$B41),IF(I$27="%w/w DM",(((I$28*10)*($B$28/100))*$B41),IF(I$27="kg/t SAR",(I$28*$B41),IF(I$27="kg/t DM",((I$28*($B$28/100))*$B41),IF(I$27="mg/kg SAR",((I$28*0.001)*$B41),IF(I$27="mg/kg DM",(((I$28*0.001)*($B$28/100))*$B41),0)))))) -> 0.125 | J41: =IF(J$27="%w/w SAR",((J$28*10)*$B41),IF(J$27="%w/w DM",(((J$28*10)*($B$28/100))*$B41),IF(J$27="kg/t SAR",(J$28*$B41),IF(J$27="kg/t DM",((J$28*($B$28/100))*$B41),IF(J$27="mg/kg SAR",((J$28*0.001)*$B41),IF(J$27="mg/kg DM",(((J$28*0.001)*($B$28/100))*$B41),0)))))) -> 0.0025 | K41: =IF(K$27="%w/w SAR",((K$28*10)*$B41),IF(K$27="%w/w DM",(((K$28*10)*($B$28/100))*$B41),IF(K$27="kg/t SAR",(K$28*$B41),IF(K$27="kg/t DM",((K$28*($B$28/100))*$B41),IF(K$27="mg/kg SAR",((K$28*0.001)*$B41),IF(K$27="mg/kg DM",(((K$28*0.001)*($B$28/100))*$B41),0)))))) -> 0.0125 | L41: =IF(L$27="%w/w SAR",((L$28*10)*$B41),IF(L$27="%w/w DM",(((L$28*10)*($B$28/100))*$B41),IF(L$27="kg/t SAR",(L$28*$B41),IF(L$27="kg/t DM",((L$28*($B$28/100))*$B41),IF(L$27="mg/kg SAR",((L$28*0.001)*$B41),IF(L$27="mg/kg DM",(((L$28*0.001)*($B$28/100))*$B41),0)))))) -> 0.05 | M41: =IF(M$27="%w/w SAR",((M$28*10)*$B41),IF(M$27="%w/w DM",(((M$28*10)*($B$28/100))*$B41),IF(M$27="kg/t SAR",(M$28*$B41),IF(M$27="kg/t DM",((M$28*($B$28/100))*$B41),IF(M$27="mg/kg SAR",((M$28*0.001)*$B41),IF(M$27="mg/kg DM",(((M$28*0.001)*($B$28/100))*$B41),0)))))) -> 0.05 | N41: =IF(N$27="%w/w SAR",((N$28*10)*$B41),IF(N$27="%w/w DM",(((N$28*10)*($B$28/100))*$B41),IF(N$27="kg/t SAR",(N$28*$B41),IF(N$27="kg/t DM",((N$28*($B$28/100))*$B41),IF(N$27="mg/kg SAR",((N$28*0.001)*$B41),IF(N$27="mg/kg DM",(((N$28*0.001)*($B$28/100))*$B41),0)))))) -> 0 | ... P41: =IF(P$27="%w/w SAR",((P$28*10)*$B41),IF(P$27="%w/w DM",(((P$28*10)*($B$28/100))*$B41),IF(P$27="kg/t SAR",(P$28*$B41),IF(P$27="kg/t DM",((P$28*($B$28/100))*$B41),IF(P$27="mg/kg SAR",((P$28*0.001)*$B41),IF(P$27="mg/kg DM",(((P$28*0.001)*($B$28/100))*$B41),0)))))) -> 275 | Q41: =(IF(Q$27="%w/w SAR",((Q$28*10)*$B41),IF(Q$27="%w/w DM",(((Q$28*10)*($B$28/100))*$B41),IF(Q$27="kg/t SAR",(Q$28*$B41),IF(Q$27="kg/t DM",((Q$28*($B$28/100))*$B41),IF(Q$27="mg/kg SAR",((Q$28*0.001)*$B41),IF(Q$27="mg/kg DM",(((Q$28*0.001)*($B$28/100))*$B41),0)))))))*2.5 -> 25 | R41: =IF(R$27="%w/w SAR",((R$28*10)*$B41),IF(R$27="%w/w DM",(((R$28*10)*($B$28/100))*$B41),IF(R$27="kg/t SAR",(R$28*$B41),IF(R$27="kg/t DM",((R$28*($B$28/100))*$B41),IF(R$27="mg/kg SAR",((R$28*0.001)*$B41),IF(R$27="mg/kg DM",(((R$28*0.001)*($B$28/100))*$B41),0)))))) -> 0.05 | S41: =IF(S$27="%w/w SAR",((S$28*10)*$B41),IF(S$27="%w/w DM",(((S$28*10)*($B$28/100))*$B41),IF(S$27="kg/t SAR",(S$28*$B41),IF(S$27="kg/t DM",((S$28*($B$28/100))*$B41),IF(S$27="mg/kg SAR",((S$28*0.001)*$B41),IF(S$27="mg/kg DM",(((S$28*0.001)*($B$28/100))*$B41),0)))))) -> 0.125 | T41: =IF(T$27="%w/w SAR",((T$28*10)*$B41),IF(T$27="%w/w DM",(((T$28*10)*($B$28/100))*$B41),IF(T$27="kg/t SAR",(T$28*$B41),IF(T$27="kg/t DM",((T$28*($B$28/100))*$B41),IF(T$27="mg/kg SAR",((T$28*0.001)*$B41),IF(T$27="mg/kg DM",(((T$28*0.001)*($B$28/100))*$B41),0)))))) -> 0.0125 | U41: =IF(U$27="%w/w SAR",((U$28*10)*$B41),IF(U$27="%w/w DM",(((U$28*10)*($B$28/100))*$B41),IF(U$27="kg/t SAR",(U$28*$B41),IF(U$27="kg/t DM",((U$28*($B$28/100))*$B41),IF(U$27="mg/kg SAR",((U$28*0.001)*$B41),IF(U$27="mg/kg DM",(((U$28*0.001)*($B$28/100))*$B41),0)))))) -> 2.5
A42: =N8 -> 1976 | B42: 250 | C42: =IF(C$27="%w/w SAR",((C$28*10)*$B42),IF(C$27="%w/w DM",(((C$28*10)*($B$28/100))*$B42),IF(C$27="kg/t SAR",(C$28*$B42),IF(C$27="kg/t DM",((C$28*($B$28/100))*$B42),IF(C$27="mg/kg SAR",((C$28*0.001)*$B42),IF(C$27="mg/kg DM",(((C$28*0.001)*($B$28/100))*$B42),0)))))) -> 150 | D42: =(IF(D$27="%w/w SAR",((D$28*10)*$B42),IF(D$27="%w/w DM",(((D$28*10)*($B$28/100))*$B42),IF(D$27="kg/t SAR",(D$28*$B42),IF(D$27="kg/t DM",((D$28*($B$28/100))*$B42),IF(D$27="mg/kg SAR",((D$28*0.001)*$B42),IF(D$27="mg/kg DM",(((D$28*0.001)*($B$28/100))*$B42),"0")))))))*2.291 -> 74.4575 | E42: =(IF(E$27="%w/w SAR",((E$28*10)*$B42),IF(E$27="%w/w DM",(((E$28*10)*($B$28/100))*$B42),IF(E$27="kg/t SAR",(E$28*$B42),IF(E$27="kg/t DM",((E$28*($B$28/100))*$B42),IF(E$27="mg/kg SAR",((E$28*0.001)*$B42),IF(E$27="mg/kg DM",(((E$28*0.001)*($B$28/100))*$B42),"0")))))))*1.205 -> 57.2375 | F42: =(IF(F$27="%w/w SAR",((F$28*10)*$B42),IF(F$27="%w/w DM",(((F$28*10)*($B$28/100))*$B42),IF(F$27="kg/t SAR",(F$28*$B42),IF(F$27="kg/t DM",((F$28*($B$28/100))*$B42),IF(F$27="mg/kg SAR",((F$28*0.001)*$B42),IF(F$27="mg/kg DM",(((F$28*0.001)*($B$28/100))*$B42),"0")))))))*1.658 -> 4.145 | G42: =IF(G$27="%w/w SAR",((G$28*10)*$B42),IF(G$27="%w/w DM",(((G$28*10)*($B$28/100))*$B42),IF(G$27="kg/t SAR",(G$28*$B42),IF(G$27="kg/t DM",((G$28*($B$28/100))*$B42),IF(G$27="mg/kg SAR",((G$28*0.001)*$B42),IF(G$27="mg/kg DM",(((G$28*0.001)*($B$28/100))*$B42),0)))))) -> 0.1045 | H42: =IF(H$27="%w/w SAR",((H$28*10)*$B42),IF(H$27="%w/w DM",(((H$28*10)*($B$28/100))*$B42),IF(H$27="kg/t SAR",(H$28*$B42),IF(H$27="kg/t DM",((H$28*($B$28/100))*$B42),IF(H$27="mg/kg SAR",((H$28*0.001)*$B42),IF(H$27="mg/kg DM",(((H$28*0.001)*($B$28/100))*$B42),0)))))) -> 0.5325 | I42: =IF(I$27="%w/w SAR",((I$28*10)*$B42),IF(I$27="%w/w DM",(((I$28*10)*($B$28/100))*$B42),IF(I$27="kg/t SAR",(I$28*$B42),IF(I$27="kg/t DM",((I$28*($B$28/100))*$B42),IF(I$27="mg/kg SAR",((I$28*0.001)*$B42),IF(I$27="mg/kg DM",(((I$28*0.001)*($B$28/100))*$B42),0)))))) -> 0.125 | J42: =IF(J$27="%w/w SAR",((J$28*10)*$B42),IF(J$27="%w/w DM",(((J$28*10)*($B$28/100))*$B42),IF(J$27="kg/t SAR",(J$28*$B42),IF(J$27="kg/t DM",((J$28*($B$28/100))*$B42),IF(J$27="mg/kg SAR",((J$28*0.001)*$B42),IF(J$27="mg/kg DM",(((J$28*0.001)*($B$28/100))*$B42),0)))))) -> 0.0025 | K42: =IF(K$27="%w/w SAR",((K$28*10)*$B42),IF(K$27="%w/w DM",(((K$28*10)*($B$28/100))*$B42),IF(K$27="kg/t SAR",(K$28*$B42),IF(K$27="kg/t DM",((K$28*($B$28/100))*$B42),IF(K$27="mg/kg SAR",((K$28*0.001)*$B42),IF(K$27="mg/kg DM",(((K$28*0.001)*($B$28/100))*$B42),0)))))) -> 0.0125 | L42: =IF(L$27="%w/w SAR",((L$28*10)*$B42),IF(L$27="%w/w DM",(((L$28*10)*($B$28/100))*$B42),IF(L$27="kg/t SAR",(L$28*$B42),IF(L$27="kg/t DM",((L$28*($B$28/100))*$B42),IF(L$27="mg/kg SAR",((L$28*0.001)*$B42),IF(L$27="mg/kg DM",(((L$28*0.001)*($B$28/100))*$B42),0)))))) -> 0.05 | M42: =IF(M$27="%w/w SAR",((M$28*10)*$B42),IF(M$27="%w/w DM",(((M$28*10)*($B$28/100))*$B42),IF(M$27="kg/t SAR",(M$28*$B42),IF(M$27="kg/t DM",((M$28*($B$28/100))*$B42),IF(M$27="mg/kg SAR",((M$28*0.001)*$B42),IF(M$27="mg/kg DM",(((M$28*0.001)*($B$28/100))*$B42),0)))))) -> 0.05 | N42: =IF(N$27="%w/w SAR",((N$28*10)*$B42),IF(N$27="%w/w DM",(((N$28*10)*($B$28/100))*$B42),IF(N$27="kg/t SAR",(N$28*$B42),IF(N$27="kg/t DM",((N$28*($B$28/100))*$B42),IF(N$27="mg/kg SAR",((N$28*0.001)*$B42),IF(N$27="mg/kg DM",(((N$28*0.001)*($B$28/100))*$B42),0)))))) -> 0 | ... P42: =IF(P$27="%w/w SAR",((P$28*10)*$B42),IF(P$27="%w/w DM",(((P$28*10)*($B$28/100))*$B42),IF(P$27="kg/t SAR",(P$28*$B42),IF(P$27="kg/t DM",((P$28*($B$28/100))*$B42),IF(P$27="mg/kg SAR",((P$28*0.001)*$B42),IF(P$27="mg/kg DM",(((P$28*0.001)*($B$28/100))*$B42),0)))))) -> 275 | Q42: =(IF(Q$27="%w/w SAR",((Q$28*10)*$B42),IF(Q$27="%w/w DM",(((Q$28*10)*($B$28/100))*$B42),IF(Q$27="kg/t SAR",(Q$28*$B42),IF(Q$27="kg/t DM",((Q$28*($B$28/100))*$B42),IF(Q$27="mg/kg SAR",((Q$28*0.001)*$B42),IF(Q$27="mg/kg DM",(((Q$28*0.001)*($B$28/100))*$B42),0)))))))*2.5 -> 25 | R42: =IF(R$27="%w/w SAR",((R$28*10)*$B42),IF(R$27="%w/w DM",(((R$28*10)*($B$28/100))*$B42),IF(R$27="kg/t SAR",(R$28*$B42),IF(R$27="kg/t DM",((R$28*($B$28/100))*$B42),IF(R$27="mg/kg SAR",((R$28*0.001)*$B42),IF(R$27="mg/kg DM",(((R$28*0.001)*($B$28/100))*$B42),0)))))) -> 0.05 | S42: =IF(S$27="%w/w SAR",((S$28*10)*$B42),IF(S$27="%w/w DM",(((S$28*10)*($B$28/100))*$B42),IF(S$27="kg/t SAR",(S$28*$B42),IF(S$27="kg/t DM",((S$28*($B$28/100))*$B42),IF(S$27="mg/kg SAR",((S$28*0.001)*$B42),IF(S$27="mg/kg DM",(((S$28*0.001)*($B$28/100))*$B42),0)))))) -> 0.125 | T42: =IF(T$27="%w/w SAR",((T$28*10)*$B42),IF(T$27="%w/w DM",(((T$28*10)*($B$28/100))*$B42),IF(T$27="kg/t SAR",(T$28*$B42),IF(T$27="kg/t DM",((T$28*($B$28/100))*$B42),IF(T$27="mg/kg SAR",((T$28*0.001)*$B42),IF(T$27="mg/kg DM",(((T$28*0.001)*($B$28/100))*$B42),0)))))) -> 0.0125 | U42: =IF(U$27="%w/w SAR",((U$28*10)*$B42),IF(U$27="%w/w DM",(((U$28*10)*($B$28/100))*$B42),IF(U$27="kg/t SAR",(U$28*$B42),IF(U$27="kg/t DM",((U$28*($B$28/100))*$B42),IF(U$27="mg/kg SAR",((U$28*0.001)*$B42),IF(U$27="mg/kg DM",(((U$28*0.001)*($B$28/100))*$B42),0)))))) -> 2.5
A43: =O8 -> 0566/0656 | B43: 250 | C43: =IF(C$27="%w/w SAR",((C$28*10)*$B43),IF(C$27="%w/w DM",(((C$28*10)*($B$28/100))*$B43),IF(C$27="kg/t SAR",(C$28*$B43),IF(C$27="kg/t DM",((C$28*($B$28/100))*$B43),IF(C$27="mg/kg SAR",((C$28*0.001)*$B43),IF(C$27="mg/kg DM",(((C$28*0.001)*($B$28/100))*$B43),0)))))) -> 150 | D43: =(IF(D$27="%w/w SAR",((D$28*10)*$B43),IF(D$27="%w/w DM",(((D$28*10)*($B$28/100))*$B43),IF(D$27="kg/t SAR",(D$28*$B43),IF(D$27="kg/t DM",((D$28*($B$28/100))*$B43),IF(D$27="mg/kg SAR",((D$28*0.001)*$B43),IF(D$27="mg/kg DM",(((D$28*0.001)*($B$28/100))*$B43),"0")))))))*2.291 -> 74.4575 | E43: =(IF(E$27="%w/w SAR",((E$28*10)*$B43),IF(E$27="%w/w DM",(((E$28*10)*($B$28/100))*$B43),IF(E$27="kg/t SAR",(E$28*$B43),IF(E$27="kg/t DM",((E$28*($B$28/100))*$B43),IF(E$27="mg/kg SAR",((E$28*0.001)*$B43),IF(E$27="mg/kg DM",(((E$28*0.001)*($B$28/100))*$B43),"0")))))))*1.205 -> 57.2375 | F43: =(IF(F$27="%w/w SAR",((F$28*10)*$B43),IF(F$27="%w/w DM",(((F$28*10)*($B$28/100))*$B43),IF(F$27="kg/t SAR",(F$28*$B43),IF(F$27="kg/t DM",((F$28*($B$28/100))*$B43),IF(F$27="mg/kg SAR",((F$28*0.001)*$B43),IF(F$27="mg/kg DM",(((F$28*0.001)*($B$28/100))*$B43),"0")))))))*1.658 -> 4.145 | G43: =IF(G$27="%w/w SAR",((G$28*10)*$B43),IF(G$27="%w/w DM",(((G$28*10)*($B$28/100))*$B43),IF(G$27="kg/t SAR",(G$28*$B43),IF(G$27="kg/t DM",((G$28*($B$28/100))*$B43),IF(G$27="mg/kg SAR",((G$28*0.001)*$B43),IF(G$27="mg/kg DM",(((G$28*0.001)*($B$28/100))*$B43),0)))))) -> 0.1045 | H43: =IF(H$27="%w/w SAR",((H$28*10)*$B43),IF(H$27="%w/w DM",(((H$28*10)*($B$28/100))*$B43),IF(H$27="kg/t SAR",(H$28*$B43),IF(H$27="kg/t DM",((H$28*($B$28/100))*$B43),IF(H$27="mg/kg SAR",((H$28*0.001)*$B43),IF(H$27="mg/kg DM",(((H$28*0.001)*($B$28/100))*$B43),0)))))) -> 0.5325 | I43: =IF(I$27="%w/w SAR",((I$28*10)*$B43),IF(I$27="%w/w DM",(((I$28*10)*($B$28/100))*$B43),IF(I$27="kg/t SAR",(I$28*$B43),IF(I$27="kg/t DM",((I$28*($B$28/100))*$B43),IF(I$27="mg/kg SAR",((I$28*0.001)*$B43),IF(I$27="mg/kg DM",(((I$28*0.001)*($B$28/100))*$B43),0)))))) -> 0.125 | J43: =IF(J$27="%w/w SAR",((J$28*10)*$B43),IF(J$27="%w/w DM",(((J$28*10)*($B$28/100))*$B43),IF(J$27="kg/t SAR",(J$28*$B43),IF(J$27="kg/t DM",((J$28*($B$28/100))*$B43),IF(J$27="mg/kg SAR",((J$28*0.001)*$B43),IF(J$27="mg/kg DM",(((J$28*0.001)*($B$28/100))*$B43),0)))))) -> 0.0025 | K43: =IF(K$27="%w/w SAR",((K$28*10)*$B43),IF(K$27="%w/w DM",(((K$28*10)*($B$28/100))*$B43),IF(K$27="kg/t SAR",(K$28*$B43),IF(K$27="kg/t DM",((K$28*($B$28/100))*$B43),IF(K$27="mg/kg SAR",((K$28*0.001)*$B43),IF(K$27="mg/kg DM",(((K$28*0.001)*($B$28/100))*$B43),0)))))) -> 0.0125 | L43: =IF(L$27="%w/w SAR",((L$28*10)*$B43),IF(L$27="%w/w DM",(((L$28*10)*($B$28/100))*$B43),IF(L$27="kg/t SAR",(L$28*$B43),IF(L$27="kg/t DM",((L$28*($B$28/100))*$B43),IF(L$27="mg/kg SAR",((L$28*0.001)*$B43),IF(L$27="mg/kg DM",(((L$28*0.001)*($B$28/100))*$B43),0)))))) -> 0.05 | M43: =IF(M$27="%w/w SAR",((M$28*10)*$B43),IF(M$27="%w/w DM",(((M$28*10)*($B$28/100))*$B43),IF(M$27="kg/t SAR",(M$28*$B43),IF(M$27="kg/t DM",((M$28*($B$28/100))*$B43),IF(M$27="mg/kg SAR",((M$28*0.001)*$B43),IF(M$27="mg/kg DM",(((M$28*0.001)*($B$28/100))*$B43),0)))))) -> 0.05 | N43: =IF(N$27="%w/w SAR",((N$28*10)*$B43),IF(N$27="%w/w DM",(((N$28*10)*($B$28/100))*$B43),IF(N$27="kg/t SAR",(N$28*$B43),IF(N$27="kg/t DM",((N$28*($B$28/100))*$B43),IF(N$27="mg/kg SAR",((N$28*0.001)*$B43),IF(N$27="mg/kg DM",(((N$28*0.001)*($B$28/100))*$B43),0)))))) -> 0 | ... P43: =IF(P$27="%w/w SAR",((P$28*10)*$B43),IF(P$27="%w/w DM",(((P$28*10)*($B$28/100))*$B43),IF(P$27="kg/t SAR",(P$28*$B43),IF(P$27="kg/t DM",((P$28*($B$28/100))*$B43),IF(P$27="mg/kg SAR",((P$28*0.001)*$B43),IF(P$27="mg/kg DM",(((P$28*0.001)*($B$28/100))*$B43),0)))))) -> 275 | Q43: =(IF(Q$27="%w/w SAR",((Q$28*10)*$B43),IF(Q$27="%w/w DM",(((Q$28*10)*($B$28/100))*$B43),IF(Q$27="kg/t SAR",(Q$28*$B43),IF(Q$27="kg/t DM",((Q$28*($B$28/100))*$B43),IF(Q$27="mg/kg SAR",((Q$28*0.001)*$B43),IF(Q$27="mg/kg DM",(((Q$28*0.001)*($B$28/100))*$B43),0)))))))*2.5 -> 25 | R43: =IF(R$27="%w/w SAR",((R$28*10)*$B43),IF(R$27="%w/w DM",(((R$28*10)*($B$28/100))*$B43),IF(R$27="kg/t SAR",(R$28*$B43),IF(R$27="kg/t DM",((R$28*($B$28/100))*$B43),IF(R$27="mg/kg SAR",((R$28*0.001)*$B43),IF(R$27="mg/kg DM",(((R$28*0.001)*($B$28/100))*$B43),0)))))) -> 0.05 | S43: =IF(S$27="%w/w SAR",((S$28*10)*$B43),IF(S$27="%w/w DM",(((S$28*10)*($B$28/100))*$B43),IF(S$27="kg/t SAR",(S$28*$B43),IF(S$27="kg/t DM",((S$28*($B$28/100))*$B43),IF(S$27="mg/kg SAR",((S$28*0.001)*$B43),IF(S$27="mg/kg DM",(((S$28*0.001)*($B$28/100))*$B43),0)))))) -> 0.125 | T43: =IF(T$27="%w/w SAR",((T$28*10)*$B43),IF(T$27="%w/w DM",(((T$28*10)*($B$28/100))*$B43),IF(T$27="kg/t SAR",(T$28*$B43),IF(T$27="kg/t DM",((T$28*($B$28/100))*$B43),IF(T$27="mg/kg SAR",((T$28*0.001)*$B43),IF(T$27="mg/kg DM",(((T$28*0.001)*($B$28/100))*$B43),0)))))) -> 0.0125 | U43: =IF(U$27="%w/w SAR",((U$28*10)*$B43),IF(U$27="%w/w DM",(((U$28*10)*($B$28/100))*$B43),IF(U$27="kg/t SAR",(U$28*$B43),IF(U$27="kg/t DM",((U$28*($B$28/100))*$B43),IF(U$27="mg/kg SAR",((U$28*0.001)*$B43),IF(U$27="mg/kg DM",(((U$28*0.001)*($B$28/100))*$B43),0)))))) -> 2.5
A44: =P8 -> 2149 | B44: 250 | C44: =IF(C$27="%w/w SAR",((C$28*10)*$B44),IF(C$27="%w/w DM",(((C$28*10)*($B$28/100))*$B44),IF(C$27="kg/t SAR",(C$28*$B44),IF(C$27="kg/t DM",((C$28*($B$28/100))*$B44),IF(C$27="mg/kg SAR",((C$28*0.001)*$B44),IF(C$27="mg/kg DM",(((C$28*0.001)*($B$28/100))*$B44),0)))))) -> 150 | D44: =(IF(D$27="%w/w SAR",((D$28*10)*$B44),IF(D$27="%w/w DM",(((D$28*10)*($B$28/100))*$B44),IF(D$27="kg/t SAR",(D$28*$B44),IF(D$27="kg/t DM",((D$28*($B$28/100))*$B44),IF(D$27="mg/kg SAR",((D$28*0.001)*$B44),IF(D$27="mg/kg DM",(((D$28*0.001)*($B$28/100))*$B44),"0")))))))*2.291 -> 74.4575 | E44: =(IF(E$27="%w/w SAR",((E$28*10)*$B44),IF(E$27="%w/w DM",(((E$28*10)*($B$28/100))*$B44),IF(E$27="kg/t SAR",(E$28*$B44),IF(E$27="kg/t DM",((E$28*($B$28/100))*$B44),IF(E$27="mg/kg SAR",((E$28*0.001)*$B44),IF(E$27="mg/kg DM",(((E$28*0.001)*($B$28/100))*$B44),"0")))))))*1.205 -> 57.2375 | F44: =(IF(F$27="%w/w SAR",((F$28*10)*$B44),IF(F$27="%w/w DM",(((F$28*10)*($B$28/100))*$B44),IF(F$27="kg/t SAR",(F$28*$B44),IF(F$27="kg/t DM",((F$28*($B$28/100))*$B44),IF(F$27="mg/kg SAR",((F$28*0.001)*$B44),IF(F$27="mg/kg DM",(((F$28*0.001)*($B$28/100))*$B44),"0")))))))*1.658 -> 4.145 | G44: =IF(G$27="%w/w SAR",((G$28*10)*$B44),IF(G$27="%w/w DM",(((G$28*10)*($B$28/100))*$B44),IF(G$27="kg/t SAR",(G$28*$B44),IF(G$27="kg/t DM",((G$28*($B$28/100))*$B44),IF(G$27="mg/kg SAR",((G$28*0.001)*$B44),IF(G$27="mg/kg DM",(((G$28*0.001)*($B$28/100))*$B44),0)))))) -> 0.1045 | H44: =IF(H$27="%w/w SAR",((H$28*10)*$B44),IF(H$27="%w/w DM",(((H$28*10)*($B$28/100))*$B44),IF(H$27="kg/t SAR",(H$28*$B44),IF(H$27="kg/t DM",((H$28*($B$28/100))*$B44),IF(H$27="mg/kg SAR",((H$28*0.001)*$B44),IF(H$27="mg/kg DM",(((H$28*0.001)*($B$28/100))*$B44),0)))))) -> 0.5325 | I44: =IF(I$27="%w/w SAR",((I$28*10)*$B44),IF(I$27="%w/w DM",(((I$28*10)*($B$28/100))*$B44),IF(I$27="kg/t SAR",(I$28*$B44),IF(I$27="kg/t DM",((I$28*($B$28/100))*$B44),IF(I$27="mg/kg SAR",((I$28*0.001)*$B44),IF(I$27="mg/kg DM",(((I$28*0.001)*($B$28/100))*$B44),0)))))) -> 0.125 | J44: =IF(J$27="%w/w SAR",((J$28*10)*$B44),IF(J$27="%w/w DM",(((J$28*10)*($B$28/100))*$B44),IF(J$27="kg/t SAR",(J$28*$B44),IF(J$27="kg/t DM",((J$28*($B$28/100))*$B44),IF(J$27="mg/kg SAR",((J$28*0.001)*$B44),IF(J$27="mg/kg DM",(((J$28*0.001)*($B$28/100))*$B44),0)))))) -> 0.0025 | K44: =IF(K$27="%w/w SAR",((K$28*10)*$B44),IF(K$27="%w/w DM",(((K$28*10)*($B$28/100))*$B44),IF(K$27="kg/t SAR",(K$28*$B44),IF(K$27="kg/t DM",((K$28*($B$28/100))*$B44),IF(K$27="mg/kg SAR",((K$28*0.001)*$B44),IF(K$27="mg/kg DM",(((K$28*0.001)*($B$28/100))*$B44),0)))))) -> 0.0125 | L44: =IF(L$27="%w/w SAR",((L$28*10)*$B44),IF(L$27="%w/w DM",(((L$28*10)*($B$28/100))*$B44),IF(L$27="kg/t SAR",(L$28*$B44),IF(L$27="kg/t DM",((L$28*($B$28/100))*$B44),IF(L$27="mg/kg SAR",((L$28*0.001)*$B44),IF(L$27="mg/kg DM",(((L$28*0.001)*($B$28/100))*$B44),0)))))) -> 0.05 | M44: =IF(M$27="%w/w SAR",((M$28*10)*$B44),IF(M$27="%w/w DM",(((M$28*10)*($B$28/100))*$B44),IF(M$27="kg/t SAR",(M$28*$B44),IF(M$27="kg/t DM",((M$28*($B$28/100))*$B44),IF(M$27="mg/kg SAR",((M$28*0.001)*$B44),IF(M$27="mg/kg DM",(((M$28*0.001)*($B$28/100))*$B44),0)))))) -> 0.05 | N44: =IF(N$27="%w/w SAR",((N$28*10)*$B44),IF(N$27="%w/w DM",(((N$28*10)*($B$28/100))*$B44),IF(N$27="kg/t SAR",(N$28*$B44),IF(N$27="kg/t DM",((N$28*($B$28/100))*$B44),IF(N$27="mg/kg SAR",((N$28*0.001)*$B44),IF(N$27="mg/kg DM",(((N$28*0.001)*($B$28/100))*$B44),0)))))) -> 0 | ... P44: =IF(P$27="%w/w SAR",((P$28*10)*$B44),IF(P$27="%w/w DM",(((P$28*10)*($B$28/100))*$B44),IF(P$27="kg/t SAR",(P$28*$B44),IF(P$27="kg/t DM",((P$28*($B$28/100))*$B44),IF(P$27="mg/kg SAR",((P$28*0.001)*$B44),IF(P$27="mg/kg DM",(((P$28*0.001)*($B$28/100))*$B44),0)))))) -> 275 | Q44: =(IF(Q$27="%w/w SAR",((Q$28*10)*$B44),IF(Q$27="%w/w DM",(((Q$28*10)*($B$28/100))*$B44),IF(Q$27="kg/t SAR",(Q$28*$B44),IF(Q$27="kg/t DM",((Q$28*($B$28/100))*$B44),IF(Q$27="mg/kg SAR",((Q$28*0.001)*$B44),IF(Q$27="mg/kg DM",(((Q$28*0.001)*($B$28/100))*$B44),0)))))))*2.5 -> 25 | R44: =IF(R$27="%w/w SAR",((R$28*10)*$B44),IF(R$27="%w/w DM",(((R$28*10)*($B$28/100))*$B44),IF(R$27="kg/t SAR",(R$28*$B44),IF(R$27="kg/t DM",((R$28*($B$28/100))*$B44),IF(R$27="mg/kg SAR",((R$28*0.001)*$B44),IF(R$27="mg/kg DM",(((R$28*0.001)*($B$28/100))*$B44),0)))))) -> 0.05 | S44: =IF(S$27="%w/w SAR",((S$28*10)*$B44),IF(S$27="%w/w DM",(((S$28*10)*($B$28/100))*$B44),IF(S$27="kg/t SAR",(S$28*$B44),IF(S$27="kg/t DM",((S$28*($B$28/100))*$B44),IF(S$27="mg/kg SAR",((S$28*0.001)*$B44),IF(S$27="mg/kg DM",(((S$28*0.001)*($B$28/100))*$B44),0)))))) -> 0.125 | T44: =IF(T$27="%w/w SAR",((T$28*10)*$B44),IF(T$27="%w/w DM",(((T$28*10)*($B$28/100))*$B44),IF(T$27="kg/t SAR",(T$28*$B44),IF(T$27="kg/t DM",((T$28*($B$28/100))*$B44),IF(T$27="mg/kg SAR",((T$28*0.001)*$B44),IF(T$27="mg/kg DM",(((T$28*0.001)*($B$28/100))*$B44),0)))))) -> 0.0125 | U44: =IF(U$27="%w/w SAR",((U$28*10)*$B44),IF(U$27="%w/w DM",(((U$28*10)*($B$28/100))*$B44),IF(U$27="kg/t SAR",(U$28*$B44),IF(U$27="kg/t DM",((U$28*($B$28/100))*$B44),IF(U$27="mg/kg SAR",((U$28*0.001)*$B44),IF(U$27="mg/kg DM",(((U$28*0.001)*($B$28/100))*$B44),0)))))) -> 2.5
A45: =Q8 -> 8690 | B45: 250 | C45: =IF(C$27="%w/w SAR",((C$28*10)*$B45),IF(C$27="%w/w DM",(((C$28*10)*($B$28/100))*$B45),IF(C$27="kg/t SAR",(C$28*$B45),IF(C$27="kg/t DM",((C$28*($B$28/100))*$B45),IF(C$27="mg/kg SAR",((C$28*0.001)*$B45),IF(C$27="mg/kg DM",(((C$28*0.001)*($B$28/100))*$B45),0)))))) -> 150 | D45: =(IF(D$27="%w/w SAR",((D$28*10)*$B45),IF(D$27="%w/w DM",(((D$28*10)*($B$28/100))*$B45),IF(D$27="kg/t SAR",(D$28*$B45),IF(D$27="kg/t DM",((D$28*($B$28/100))*$B45),IF(D$27="mg/kg SAR",((D$28*0.001)*$B45),IF(D$27="mg/kg DM",(((D$28*0.001)*($B$28/100))*$B45),"0")))))))*2.291 -> 74.4575 | E45: =(IF(E$27="%w/w SAR",((E$28*10)*$B45),IF(E$27="%w/w DM",(((E$28*10)*($B$28/100))*$B45),IF(E$27="kg/t SAR",(E$28*$B45),IF(E$27="kg/t DM",((E$28*($B$28/100))*$B45),IF(E$27="mg/kg SAR",((E$28*0.001)*$B45),IF(E$27="mg/kg DM",(((E$28*0.001)*($B$28/100))*$B45),"0")))))))*1.205 -> 57.2375 | F45: =(IF(F$27="%w/w SAR",((F$28*10)*$B45),IF(F$27="%w/w DM",(((F$28*10)*($B$28/100))*$B45),IF(F$27="kg/t SAR",(F$28*$B45),IF(F$27="kg/t DM",((F$28*($B$28/100))*$B45),IF(F$27="mg/kg SAR",((F$28*0.001)*$B45),IF(F$27="mg/kg DM",(((F$28*0.001)*($B$28/100))*$B45),"0")))))))*1.658 -> 4.145 | G45: =IF(G$27="%w/w SAR",((G$28*10)*$B45),IF(G$27="%w/w DM",(((G$28*10)*($B$28/100))*$B45),IF(G$27="kg/t SAR",(G$28*$B45),IF(G$27="kg/t DM",((G$28*($B$28/100))*$B45),IF(G$27="mg/kg SAR",((G$28*0.001)*$B45),IF(G$27="mg/kg DM",(((G$28*0.001)*($B$28/100))*$B45),0)))))) -> 0.1045 | H45: =IF(H$27="%w/w SAR",((H$28*10)*$B45),IF(H$27="%w/w DM",(((H$28*10)*($B$28/100))*$B45),IF(H$27="kg/t SAR",(H$28*$B45),IF(H$27="kg/t DM",((H$28*($B$28/100))*$B45),IF(H$27="mg/kg SAR",((H$28*0.001)*$B45),IF(H$27="mg/kg DM",(((H$28*0.001)*($B$28/100))*$B45),0)))))) -> 0.5325 | I45: =IF(I$27="%w/w SAR",((I$28*10)*$B45),IF(I$27="%w/w DM",(((I$28*10)*($B$28/100))*$B45),IF(I$27="kg/t SAR",(I$28*$B45),IF(I$27="kg/t DM",((I$28*($B$28/100))*$B45),IF(I$27="mg/kg SAR",((I$28*0.001)*$B45),IF(I$27="mg/kg DM",(((I$28*0.001)*($B$28/100))*$B45),0)))))) -> 0.125 | J45: =IF(J$27="%w/w SAR",((J$28*10)*$B45),IF(J$27="%w/w DM",(((J$28*10)*($B$28/100))*$B45),IF(J$27="kg/t SAR",(J$28*$B45),IF(J$27="kg/t DM",((J$28*($B$28/100))*$B45),IF(J$27="mg/kg SAR",((J$28*0.001)*$B45),IF(J$27="mg/kg DM",(((J$28*0.001)*($B$28/100))*$B45),0)))))) -> 0.0025 | K45: =IF(K$27="%w/w SAR",((K$28*10)*$B45),IF(K$27="%w/w DM",(((K$28*10)*($B$28/100))*$B45),IF(K$27="kg/t SAR",(K$28*$B45),IF(K$27="kg/t DM",((K$28*($B$28/100))*$B45),IF(K$27="mg/kg SAR",((K$28*0.001)*$B45),IF(K$27="mg/kg DM",(((K$28*0.001)*($B$28/100))*$B45),0)))))) -> 0.0125 | L45: =IF(L$27="%w/w SAR",((L$28*10)*$B45),IF(L$27="%w/w DM",(((L$28*10)*($B$28/100))*$B45),IF(L$27="kg/t SAR",(L$28*$B45),IF(L$27="kg/t DM",((L$28*($B$28/100))*$B45),IF(L$27="mg/kg SAR",((L$28*0.001)*$B45),IF(L$27="mg/kg DM",(((L$28*0.001)*($B$28/100))*$B45),0)))))) -> 0.05 | M45: =IF(M$27="%w/w SAR",((M$28*10)*$B45),IF(M$27="%w/w DM",(((M$28*10)*($B$28/100))*$B45),IF(M$27="kg/t SAR",(M$28*$B45),IF(M$27="kg/t DM",((M$28*($B$28/100))*$B45),IF(M$27="mg/kg SAR",((M$28*0.001)*$B45),IF(M$27="mg/kg DM",(((M$28*0.001)*($B$28/100))*$B45),0)))))) -> 0.05 | N45: =IF(N$27="%w/w SAR",((N$28*10)*$B45),IF(N$27="%w/w DM",(((N$28*10)*($B$28/100))*$B45),IF(N$27="kg/t SAR",(N$28*$B45),IF(N$27="kg/t DM",((N$28*($B$28/100))*$B45),IF(N$27="mg/kg SAR",((N$28*0.001)*$B45),IF(N$27="mg/kg DM",(((N$28*0.001)*($B$28/100))*$B45),0)))))) -> 0 | ... P45: =IF(P$27="%w/w SAR",((P$28*10)*$B45),IF(P$27="%w/w DM",(((P$28*10)*($B$28/100))*$B45),IF(P$27="kg/t SAR",(P$28*$B45),IF(P$27="kg/t DM",((P$28*($B$28/100))*$B45),IF(P$27="mg/kg SAR",((P$28*0.001)*$B45),IF(P$27="mg/kg DM",(((P$28*0.001)*($B$28/100))*$B45),0)))))) -> 275 | Q45: =(IF(Q$27="%w/w SAR",((Q$28*10)*$B45),IF(Q$27="%w/w DM",(((Q$28*10)*($B$28/100))*$B45),IF(Q$27="kg/t SAR",(Q$28*$B45),IF(Q$27="kg/t DM",((Q$28*($B$28/100))*$B45),IF(Q$27="mg/kg SAR",((Q$28*0.001)*$B45),IF(Q$27="mg/kg DM",(((Q$28*0.001)*($B$28/100))*$B45),0)))))))*2.5 -> 25 | R45: =IF(R$27="%w/w SAR",((R$28*10)*$B45),IF(R$27="%w/w DM",(((R$28*10)*($B$28/100))*$B45),IF(R$27="kg/t SAR",(R$28*$B45),IF(R$27="kg/t DM",((R$28*($B$28/100))*$B45),IF(R$27="mg/kg SAR",((R$28*0.001)*$B45),IF(R$27="mg/kg DM",(((R$28*0.001)*($B$28/100))*$B45),0)))))) -> 0.05 | S45: =IF(S$27="%w/w SAR",((S$28*10)*$B45),IF(S$27="%w/w DM",(((S$28*10)*($B$28/100))*$B45),IF(S$27="kg/t SAR",(S$28*$B45),IF(S$27="kg/t DM",((S$28*($B$28/100))*$B45),IF(S$27="mg/kg SAR",((S$28*0.001)*$B45),IF(S$27="mg/kg DM",(((S$28*0.001)*($B$28/100))*$B45),0)))))) -> 0.125 | T45: =IF(T$27="%w/w SAR",((T$28*10)*$B45),IF(T$27="%w/w DM",(((T$28*10)*($B$28/100))*$B45),IF(T$27="kg/t SAR",(T$28*$B45),IF(T$27="kg/t DM",((T$28*($B$28/100))*$B45),IF(T$27="mg/kg SAR",((T$28*0.001)*$B45),IF(T$27="mg/kg DM",(((T$28*0.001)*($B$28/100))*$B45),0)))))) -> 0.0125 | U45: =IF(U$27="%w/w SAR",((U$28*10)*$B45),IF(U$27="%w/w DM",(((U$28*10)*($B$28/100))*$B45),IF(U$27="kg/t SAR",(U$28*$B45),IF(U$27="kg/t DM",((U$28*($B$28/100))*$B45),IF(U$27="mg/kg SAR",((U$28*0.001)*$B45),IF(U$27="mg/kg DM",(((U$28*0.001)*($B$28/100))*$B45),0)))))) -> 2.5
A46: =R8 -> 0 | C46: =IF(C$27="%w/w SAR",((C$28*10)*$B46),IF(C$27="%w/w DM",(((C$28*10)*($B$28/100))*$B46),IF(C$27="kg/t SAR",(C$28*$B46),IF(C$27="kg/t DM",((C$28*($B$28/100))*$B46),IF(C$27="mg/kg SAR",((C$28*0.001)*$B46),IF(C$27="mg/kg DM",(((C$28*0.001)*($B$28/100))*$B46),0)))))) -> 0 | D46: =(IF(D$27="%w/w SAR",((D$28*10)*$B46),IF(D$27="%w/w DM",(((D$28*10)*($B$28/100))*$B46),IF(D$27="kg/t SAR",(D$28*$B46),IF(D$27="kg/t DM",((D$28*($B$28/100))*$B46),IF(D$27="mg/kg SAR",((D$28*0.001)*$B46),IF(D$27="mg/kg DM",(((D$28*0.001)*($B$28/100))*$B46),"0")))))))*2.291 -> 0 | E46: =(IF(E$27="%w/w SAR",((E$28*10)*$B46),IF(E$27="%w/w DM",(((E$28*10)*($B$28/100))*$B46),IF(E$27="kg/t SAR",(E$28*$B46),IF(E$27="kg/t DM",((E$28*($B$28/100))*$B46),IF(E$27="mg/kg SAR",((E$28*0.001)*$B46),IF(E$27="mg/kg DM",(((E$28*0.001)*($B$28/100))*$B46),"0")))))))*1.205 -> 0 | F46: =(IF(F$27="%w/w SAR",((F$28*10)*$B46),IF(F$27="%w/w DM",(((F$28*10)*($B$28/100))*$B46),IF(F$27="kg/t SAR",(F$28*$B46),IF(F$27="kg/t DM",((F$28*($B$28/100))*$B46),IF(F$27="mg/kg SAR",((F$28*0.001)*$B46),IF(F$27="mg/kg DM",(((F$28*0.001)*($B$28/100))*$B46),"0")))))))*1.658 -> 0 | G46: =IF(G$27="%w/w SAR",((G$28*10)*$B46),IF(G$27="%w/w DM",(((G$28*10)*($B$28/100))*$B46),IF(G$27="kg/t SAR",(G$28*$B46),IF(G$27="kg/t DM",((G$28*($B$28/100))*$B46),IF(G$27="mg/kg SAR",((G$28*0.001)*$B46),IF(G$27="mg/kg DM",(((G$28*0.001)*($B$28/100))*$B46),0)))))) -> 0 | H46: =IF(H$27="%w/w SAR",((H$28*10)*$B46),IF(H$27="%w/w DM",(((H$28*10)*($B$28/100))*$B46),IF(H$27="kg/t SAR",(H$28*$B46),IF(H$27="kg/t DM",((H$28*($B$28/100))*$B46),IF(H$27="mg/kg SAR",((H$28*0.001)*$B46),IF(H$27="mg/kg DM",(((H$28*0.001)*($B$28/100))*$B46),0)))))) -> 0 | I46: =IF(I$27="%w/w SAR",((I$28*10)*$B46),IF(I$27="%w/w DM",(((I$28*10)*($B$28/100))*$B46),IF(I$27="kg/t SAR",(I$28*$B46),IF(I$27="kg/t DM",((I$28*($B$28/100))*$B46),IF(I$27="mg/kg SAR",((I$28*0.001)*$B46),IF(I$27="mg/kg DM",(((I$28*0.001)*($B$28/100))*$B46),0)))))) -> 0 | J46: =IF(J$27="%w/w SAR",((J$28*10)*$B46),IF(J$27="%w/w DM",(((J$28*10)*($B$28/100))*$B46),IF(J$27="kg/t SAR",(J$28*$B46),IF(J$27="kg/t DM",((J$28*($B$28/100))*$B46),IF(J$27="mg/kg SAR",((J$28*0.001)*$B46),IF(J$27="mg/kg DM",(((J$28*0.001)*($B$28/100))*$B46),0)))))) -> 0 | K46: =IF(K$27="%w/w SAR",((K$28*10)*$B46),IF(K$27="%w/w DM",(((K$28*10)*($B$28/100))*$B46),IF(K$27="kg/t SAR",(K$28*$B46),IF(K$27="kg/t DM",((K$28*($B$28/100))*$B46),IF(K$27="mg/kg SAR",((K$28*0.001)*$B46),IF(K$27="mg/kg DM",(((K$28*0.001)*($B$28/100))*$B46),0)))))) -> 0 | L46: =IF(L$27="%w/w SAR",((L$28*10)*$B46),IF(L$27="%w/w DM",(((L$28*10)*($B$28/100))*$B46),IF(L$27="kg/t SAR",(L$28*$B46),IF(L$27="kg/t DM",((L$28*($B$28/100))*$B46),IF(L$27="mg/kg SAR",((L$28*0.001)*$B46),IF(L$27="mg/kg DM",(((L$28*0.001)*($B$28/100))*$B46),0)))))) -> 0 | M46: =IF(M$27="%w/w SAR",((M$28*10)*$B46),IF(M$27="%w/w DM",(((M$28*10)*($B$28/100))*$B46),IF(M$27="kg/t SAR",(M$28*$B46),IF(M$27="kg/t DM",((M$28*($B$28/100))*$B46),IF(M$27="mg/kg SAR",((M$28*0.001)*$B46),IF(M$27="mg/kg DM",(((M$28*0.001)*($B$28/100))*$B46),0)))))) -> 0 | N46: =IF(N$27="%w/w SAR",((N$28*10)*$B46),IF(N$27="%w/w DM",(((N$28*10)*($B$28/100))*$B46),IF(N$27="kg/t SAR",(N$28*$B46),IF(N$27="kg/t DM",((N$28*($B$28/100))*$B46),IF(N$27="mg/kg SAR",((N$28*0.001)*$B46),IF(N$27="mg/kg DM",(((N$28*0.001)*($B$28/100))*$B46),0)))))) -> 0 | ... P46: =IF(P$27="%w/w SAR",((P$28*10)*$B46),IF(P$27="%w/w DM",(((P$28*10)*($B$28/100))*$B46),IF(P$27="kg/t SAR",(P$28*$B46),IF(P$27="kg/t DM",((P$28*($B$28/100))*$B46),IF(P$27="mg/kg SAR",((P$28*0.001)*$B46),IF(P$27="mg/kg DM",(((P$28*0.001)*($B$28/100))*$B46),0)))))) -> 0 | Q46: =(IF(Q$27="%w/w SAR",((Q$28*10)*$B46),IF(Q$27="%w/w DM",(((Q$28*10)*($B$28/100))*$B46),IF(Q$27="kg/t SAR",(Q$28*$B46),IF(Q$27="kg/t DM",((Q$28*($B$28/100))*$B46),IF(Q$27="mg/kg SAR",((Q$28*0.001)*$B46),IF(Q$27="mg/kg DM",(((Q$28*0.001)*($B$28/100))*$B46),0)))))))*2.5 -> 0 | R46: =IF(R$27="%w/w SAR",((R$28*10)*$B46),IF(R$27="%w/w DM",(((R$28*10)*($B$28/100))*$B46),IF(R$27="kg/t SAR",(R$28*$B46),IF(R$27="kg/t DM",((R$28*($B$28/100))*$B46),IF(R$27="mg/kg SAR",((R$28*0.001)*$B46),IF(R$27="mg/kg DM",(((R$28*0.001)*($B$28/100))*$B46),0)))))) -> 0 | S46: =IF(S$27="%w/w SAR",((S$28*10)*$B46),IF(S$27="%w/w DM",(((S$28*10)*($B$28/100))*$B46),IF(S$27="kg/t SAR",(S$28*$B46),IF(S$27="kg/t DM",((S$28*($B$28/100))*$B46),IF(S$27="mg/kg SAR",((S$28*0.001)*$B46),IF(S$27="mg/kg DM",(((S$28*0.001)*($B$28/100))*$B46),0)))))) -> 0 | T46: =IF(T$27="%w/w SAR",((T$28*10)*$B46),IF(T$27="%w/w DM",(((T$28*10)*($B$28/100))*$B46),IF(T$27="kg/t SAR",(T$28*$B46),IF(T$27="kg/t DM",((T$28*($B$28/100))*$B46),IF(T$27="mg/kg SAR",((T$28*0.001)*$B46),IF(T$27="mg/kg DM",(((T$28*0.001)*($B$28/100))*$B46),0)))))) -> 0 | U46: =IF(U$27="%w/w SAR",((U$28*10)*$B46),IF(U$27="%w/w DM",(((U$28*10)*($B$28/100))*$B46),IF(U$27="kg/t SAR",(U$28*$B46),IF(U$27="kg/t DM",((U$28*($B$28/100))*$B46),IF(U$27="mg/kg SAR",((U$28*0.001)*$B46),IF(U$27="mg/kg DM",(((U$28*0.001)*($B$28/100))*$B46),0)))))) -> 0
A47: =S8 -> 0 | C47: =IF(C$27="%w/w SAR",((C$28*10)*$B47),IF(C$27="%w/w DM",(((C$28*10)*($B$28/100))*$B47),IF(C$27="kg/t SAR",(C$28*$B47),IF(C$27="kg/t DM",((C$28*($B$28/100))*$B47),IF(C$27="mg/kg SAR",((C$28*0.001)*$B47),IF(C$27="mg/kg DM",(((C$28*0.001)*($B$28/100))*$B47),0)))))) -> 0 | D47: =(IF(D$27="%w/w SAR",((D$28*10)*$B47),IF(D$27="%w/w DM",(((D$28*10)*($B$28/100))*$B47),IF(D$27="kg/t SAR",(D$28*$B47),IF(D$27="kg/t DM",((D$28*($B$28/100))*$B47),IF(D$27="mg/kg SAR",((D$28*0.001)*$B47),IF(D$27="mg/kg DM",(((D$28*0.001)*($B$28/100))*$B47),"0")))))))*2.291 -> 0 | E47: =(IF(E$27="%w/w SAR",((E$28*10)*$B47),IF(E$27="%w/w DM",(((E$28*10)*($B$28/100))*$B47),IF(E$27="kg/t SAR",(E$28*$B47),IF(E$27="kg/t DM",((E$28*($B$28/100))*$B47),IF(E$27="mg/kg SAR",((E$28*0.001)*$B47),IF(E$27="mg/kg DM",(((E$28*0.001)*($B$28/100))*$B47),"0")))))))*1.205 -> 0 | F47: =(IF(F$27="%w/w SAR",((F$28*10)*$B47),IF(F$27="%w/w DM",(((F$28*10)*($B$28/100))*$B47),IF(F$27="kg/t SAR",(F$28*$B47),IF(F$27="kg/t DM",((F$28*($B$28/100))*$B47),IF(F$27="mg/kg SAR",((F$28*0.001)*$B47),IF(F$27="mg/kg DM",(((F$28*0.001)*($B$28/100))*$B47),"0")))))))*1.658 -> 0 | G47: =IF(G$27="%w/w SAR",((G$28*10)*$B47),IF(G$27="%w/w DM",(((G$28*10)*($B$28/100))*$B47),IF(G$27="kg/t SAR",(G$28*$B47),IF(G$27="kg/t DM",((G$28*($B$28/100))*$B47),IF(G$27="mg/kg SAR",((G$28*0.001)*$B47),IF(G$27="mg/kg DM",(((G$28*0.001)*($B$28/100))*$B47),0)))))) -> 0 | H47: =IF(H$27="%w/w SAR",((H$28*10)*$B47),IF(H$27="%w/w DM",(((H$28*10)*($B$28/100))*$B47),IF(H$27="kg/t SAR",(H$28*$B47),IF(H$27="kg/t DM",((H$28*($B$28/100))*$B47),IF(H$27="mg/kg SAR",((H$28*0.001)*$B47),IF(H$27="mg/kg DM",(((H$28*0.001)*($B$28/100))*$B47),0)))))) -> 0 | I47: =IF(I$27="%w/w SAR",((I$28*10)*$B47),IF(I$27="%w/w DM",(((I$28*10)*($B$28/100))*$B47),IF(I$27="kg/t SAR",(I$28*$B47),IF(I$27="kg/t DM",((I$28*($B$28/100))*$B47),IF(I$27="mg/kg SAR",((I$28*0.001)*$B47),IF(I$27="mg/kg DM",(((I$28*0.001)*($B$28/100))*$B47),0)))))) -> 0 | J47: =IF(J$27="%w/w SAR",((J$28*10)*$B47),IF(J$27="%w/w DM",(((J$28*10)*($B$28/100))*$B47),IF(J$27="kg/t SAR",(J$28*$B47),IF(J$27="kg/t DM",((J$28*($B$28/100))*$B47),IF(J$27="mg/kg SAR",((J$28*0.001)*$B47),IF(J$27="mg/kg DM",(((J$28*0.001)*($B$28/100))*$B47),0)))))) -> 0 | K47: =IF(K$27="%w/w SAR",((K$28*10)*$B47),IF(K$27="%w/w DM",(((K$28*10)*($B$28/100))*$B47),IF(K$27="kg/t SAR",(K$28*$B47),IF(K$27="kg/t DM",((K$28*($B$28/100))*$B47),IF(K$27="mg/kg SAR",((K$28*0.001)*$B47),IF(K$27="mg/kg DM",(((K$28*0.001)*($B$28/100))*$B47),0)))))) -> 0 | L47: =IF(L$27="%w/w SAR",((L$28*10)*$B47),IF(L$27="%w/w DM",(((L$28*10)*($B$28/100))*$B47),IF(L$27="kg/t SAR",(L$28*$B47),IF(L$27="kg/t DM",((L$28*($B$28/100))*$B47),IF(L$27="mg/kg SAR",((L$28*0.001)*$B47),IF(L$27="mg/kg DM",(((L$28*0.001)*($B$28/100))*$B47),0)))))) -> 0 | M47: =IF(M$27="%w/w SAR",((M$28*10)*$B47),IF(M$27="%w/w DM",(((M$28*10)*($B$28/100))*$B47),IF(M$27="kg/t SAR",(M$28*$B47),IF(M$27="kg/t DM",((M$28*($B$28/100))*$B47),IF(M$27="mg/kg SAR",((M$28*0.001)*$B47),IF(M$27="mg/kg DM",(((M$28*0.001)*($B$28/100))*$B47),0)))))) -> 0 | N47: =IF(N$27="%w/w SAR",((N$28*10)*$B47),IF(N$27="%w/w DM",(((N$28*10)*($B$28/100))*$B47),IF(N$27="kg/t SAR",(N$28*$B47),IF(N$27="kg/t DM",((N$28*($B$28/100))*$B47),IF(N$27="mg/kg SAR",((N$28*0.001)*$B47),IF(N$27="mg/kg DM",(((N$28*0.001)*($B$28/100))*$B47),0)))))) -> 0 | ... P47: =IF(P$27="%w/w SAR",((P$28*10)*$B47),IF(P$27="%w/w DM",(((P$28*10)*($B$28/100))*$B47),IF(P$27="kg/t SAR",(P$28*$B47),IF(P$27="kg/t DM",((P$28*($B$28/100))*$B47),IF(P$27="mg/kg SAR",((P$28*0.001)*$B47),IF(P$27="mg/kg DM",(((P$28*0.001)*($B$28/100))*$B47),0)))))) -> 0 | Q47: =(IF(Q$27="%w/w SAR",((Q$28*10)*$B47),IF(Q$27="%w/w DM",(((Q$28*10)*($B$28/100))*$B47),IF(Q$27="kg/t SAR",(Q$28*$B47),IF(Q$27="kg/t DM",((Q$28*($B$28/100))*$B47),IF(Q$27="mg/kg SAR",((Q$28*0.001)*$B47),IF(Q$27="mg/kg DM",(((Q$28*0.001)*($B$28/100))*$B47),0)))))))*2.5 -> 0 | R47: =IF(R$27="%w/w SAR",((R$28*10)*$B47),IF(R$27="%w/w DM",(((R$28*10)*($B$28/100))*$B47),IF(R$27="kg/t SAR",(R$28*$B47),IF(R$27="kg/t DM",((R$28*($B$28/100))*$B47),IF(R$27="mg/kg SAR",((R$28*0.001)*$B47),IF(R$27="mg/kg DM",(((R$28*0.001)*($B$28/100))*$B47),0)))))) -> 0 | S47: =IF(S$27="%w/w SAR",((S$28*10)*$B47),IF(S$27="%w/w DM",(((S$28*10)*($B$28/100))*$B47),IF(S$27="kg/t SAR",(S$28*$B47),IF(S$27="kg/t DM",((S$28*($B$28/100))*$B47),IF(S$27="mg/kg SAR",((S$28*0.001)*$B47),IF(S$27="mg/kg DM",(((S$28*0.001)*($B$28/100))*$B47),0)))))) -> 0 | T47: =IF(T$27="%w/w SAR",((T$28*10)*$B47),IF(T$27="%w/w DM",(((T$28*10)*($B$28/100))*$B47),IF(T$27="kg/t SAR",(T$28*$B47),IF(T$27="kg/t DM",((T$28*($B$28/100))*$B47),IF(T$27="mg/kg SAR",((T$28*0.001)*$B47),IF(T$27="mg/kg DM",(((T$28*0.001)*($B$28/100))*$B47),0)))))) -> 0 | U47: =IF(U$27="%w/w SAR",((U$28*10)*$B47),IF(U$27="%w/w DM",(((U$28*10)*($B$28/100))*$B47),IF(U$27="kg/t SAR",(U$28*$B47),IF(U$27="kg/t DM",((U$28*($B$28/100))*$B47),IF(U$27="mg/kg SAR",((U$28*0.001)*$B47),IF(U$27="mg/kg DM",(((U$28*0.001)*($B$28/100))*$B47),0)))))) -> 0
A48: =T8 -> 0 | C48: =IF(C$27="%w/w SAR",((C$28*10)*$B48),IF(C$27="%w/w DM",(((C$28*10)*($B$28/100))*$B48),IF(C$27="kg/t SAR",(C$28*$B48),IF(C$27="kg/t DM",((C$28*($B$28/100))*$B48),IF(C$27="mg/kg SAR",((C$28*0.001)*$B48),IF(C$27="mg/kg DM",(((C$28*0.001)*($B$28/100))*$B48),0)))))) -> 0 | D48: =(IF(D$27="%w/w SAR",((D$28*10)*$B48),IF(D$27="%w/w DM",(((D$28*10)*($B$28/100))*$B48),IF(D$27="kg/t SAR",(D$28*$B48),IF(D$27="kg/t DM",((D$28*($B$28/100))*$B48),IF(D$27="mg/kg SAR",((D$28*0.001)*$B48),IF(D$27="mg/kg DM",(((D$28*0.001)*($B$28/100))*$B48),"0")))))))*2.291 -> 0 | E48: =(IF(E$27="%w/w SAR",((E$28*10)*$B48),IF(E$27="%w/w DM",(((E$28*10)*($B$28/100))*$B48),IF(E$27="kg/t SAR",(E$28*$B48),IF(E$27="kg/t DM",((E$28*($B$28/100))*$B48),IF(E$27="mg/kg SAR",((E$28*0.001)*$B48),IF(E$27="mg/kg DM",(((E$28*0.001)*($B$28/100))*$B48),"0")))))))*1.205 -> 0 | F48: =(IF(F$27="%w/w SAR",((F$28*10)*$B48),IF(F$27="%w/w DM",(((F$28*10)*($B$28/100))*$B48),IF(F$27="kg/t SAR",(F$28*$B48),IF(F$27="kg/t DM",((F$28*($B$28/100))*$B48),IF(F$27="mg/kg SAR",((F$28*0.001)*$B48),IF(F$27="mg/kg DM",(((F$28*0.001)*($B$28/100))*$B48),"0")))))))*1.658 -> 0 | G48: =IF(G$27="%w/w SAR",((G$28*10)*$B48),IF(G$27="%w/w DM",(((G$28*10)*($B$28/100))*$B48),IF(G$27="kg/t SAR",(G$28*$B48),IF(G$27="kg/t DM",((G$28*($B$28/100))*$B48),IF(G$27="mg/kg SAR",((G$28*0.001)*$B48),IF(G$27="mg/kg DM",(((G$28*0.001)*($B$28/100))*$B48),0)))))) -> 0 | H48: =IF(H$27="%w/w SAR",((H$28*10)*$B48),IF(H$27="%w/w DM",(((H$28*10)*($B$28/100))*$B48),IF(H$27="kg/t SAR",(H$28*$B48),IF(H$27="kg/t DM",((H$28*($B$28/100))*$B48),IF(H$27="mg/kg SAR",((H$28*0.001)*$B48),IF(H$27="mg/kg DM",(((H$28*0.001)*($B$28/100))*$B48),0)))))) -> 0 | I48: =IF(I$27="%w/w SAR",((I$28*10)*$B48),IF(I$27="%w/w DM",(((I$28*10)*($B$28/100))*$B48),IF(I$27="kg/t SAR",(I$28*$B48),IF(I$27="kg/t DM",((I$28*($B$28/100))*$B48),IF(I$27="mg/kg SAR",((I$28*0.001)*$B48),IF(I$27="mg/kg DM",(((I$28*0.001)*($B$28/100))*$B48),0)))))) -> 0 | J48: =IF(J$27="%w/w SAR",((J$28*10)*$B48),IF(J$27="%w/w DM",(((J$28*10)*($B$28/100))*$B48),IF(J$27="kg/t SAR",(J$28*$B48),IF(J$27="kg/t DM",((J$28*($B$28/100))*$B48),IF(J$27="mg/kg SAR",((J$28*0.001)*$B48),IF(J$27="mg/kg DM",(((J$28*0.001)*($B$28/100))*$B48),0)))))) -> 0 | K48: =IF(K$27="%w/w SAR",((K$28*10)*$B48),IF(K$27="%w/w DM",(((K$28*10)*($B$28/100))*$B48),IF(K$27="kg/t SAR",(K$28*$B48),IF(K$27="kg/t DM",((K$28*($B$28/100))*$B48),IF(K$27="mg/kg SAR",((K$28*0.001)*$B48),IF(K$27="mg/kg DM",(((K$28*0.001)*($B$28/100))*$B48),0)))))) -> 0 | L48: =IF(L$27="%w/w SAR",((L$28*10)*$B48),IF(L$27="%w/w DM",(((L$28*10)*($B$28/100))*$B48),IF(L$27="kg/t SAR",(L$28*$B48),IF(L$27="kg/t DM",((L$28*($B$28/100))*$B48),IF(L$27="mg/kg SAR",((L$28*0.001)*$B48),IF(L$27="mg/kg DM",(((L$28*0.001)*($B$28/100))*$B48),0)))))) -> 0 | M48: =IF(M$27="%w/w SAR",((M$28*10)*$B48),IF(M$27="%w/w DM",(((M$28*10)*($B$28/100))*$B48),IF(M$27="kg/t SAR",(M$28*$B48),IF(M$27="kg/t DM",((M$28*($B$28/100))*$B48),IF(M$27="mg/kg SAR",((M$28*0.001)*$B48),IF(M$27="mg/kg DM",(((M$28*0.001)*($B$28/100))*$B48),0)))))) -> 0 | N48: =IF(N$27="%w/w SAR",((N$28*10)*$B48),IF(N$27="%w/w DM",(((N$28*10)*($B$28/100))*$B48),IF(N$27="kg/t SAR",(N$28*$B48),IF(N$27="kg/t DM",((N$28*($B$28/100))*$B48),IF(N$27="mg/kg SAR",((N$28*0.001)*$B48),IF(N$27="mg/kg DM",(((N$28*0.001)*($B$28/100))*$B48),0)))))) -> 0 | ... P48: =IF(P$27="%w/w SAR",((P$28*10)*$B48),IF(P$27="%w/w DM",(((P$28*10)*($B$28/100))*$B48),IF(P$27="kg/t SAR",(P$28*$B48),IF(P$27="kg/t DM",((P$28*($B$28/100))*$B48),IF(P$27="mg/kg SAR",((P$28*0.001)*$B48),IF(P$27="mg/kg DM",(((P$28*0.001)*($B$28/100))*$B48),0)))))) -> 0 | Q48: =(IF(Q$27="%w/w SAR",((Q$28*10)*$B48),IF(Q$27="%w/w DM",(((Q$28*10)*($B$28/100))*$B48),IF(Q$27="kg/t SAR",(Q$28*$B48),IF(Q$27="kg/t DM",((Q$28*($B$28/100))*$B48),IF(Q$27="mg/kg SAR",((Q$28*0.001)*$B48),IF(Q$27="mg/kg DM",(((Q$28*0.001)*($B$28/100))*$B48),0)))))))*2.5 -> 0 | R48: =IF(R$27="%w/w SAR",((R$28*10)*$B48),IF(R$27="%w/w DM",(((R$28*10)*($B$28/100))*$B48),IF(R$27="kg/t SAR",(R$28*$B48),IF(R$27="kg/t DM",((R$28*($B$28/100))*$B48),IF(R$27="mg/kg SAR",((R$28*0.001)*$B48),IF(R$27="mg/kg DM",(((R$28*0.001)*($B$28/100))*$B48),0)))))) -> 0 | S48: =IF(S$27="%w/w SAR",((S$28*10)*$B48),IF(S$27="%w/w DM",(((S$28*10)*($B$28/100))*$B48),IF(S$27="kg/t SAR",(S$28*$B48),IF(S$27="kg/t DM",((S$28*($B$28/100))*$B48),IF(S$27="mg/kg SAR",((S$28*0.001)*$B48),IF(S$27="mg/kg DM",(((S$28*0.001)*($B$28/100))*$B48),0)))))) -> 0 | T48: =IF(T$27="%w/w SAR",((T$28*10)*$B48),IF(T$27="%w/w DM",(((T$28*10)*($B$28/100))*$B48),IF(T$27="kg/t SAR",(T$28*$B48),IF(T$27="kg/t DM",((T$28*($B$28/100))*$B48),IF(T$27="mg/kg SAR",((T$28*0.001)*$B48),IF(T$27="mg/kg DM",(((T$28*0.001)*($B$28/100))*$B48),0)))))) -> 0 | U48: =IF(U$27="%w/w SAR",((U$28*10)*$B48),IF(U$27="%w/w DM",(((U$28*10)*($B$28/100))*$B48),IF(U$27="kg/t SAR",(U$28*$B48),IF(U$27="kg/t DM",((U$28*($B$28/100))*$B48),IF(U$27="mg/kg SAR",((U$28*0.001)*$B48),IF(U$27="mg/kg DM",(((U$28*0.001)*($B$28/100))*$B48),0)))))) -> 0
A49: =U8 -> 0 | C49: =IF(C$27="%w/w SAR",((C$28*10)*$B49),IF(C$27="%w/w DM",(((C$28*10)*($B$28/100))*$B49),IF(C$27="kg/t SAR",(C$28*$B49),IF(C$27="kg/t DM",((C$28*($B$28/100))*$B49),IF(C$27="mg/kg SAR",((C$28*0.001)*$B49),IF(C$27="mg/kg DM",(((C$28*0.001)*($B$28/100))*$B49),0)))))) -> 0 | D49: =(IF(D$27="%w/w SAR",((D$28*10)*$B49),IF(D$27="%w/w DM",(((D$28*10)*($B$28/100))*$B49),IF(D$27="kg/t SAR",(D$28*$B49),IF(D$27="kg/t DM",((D$28*($B$28/100))*$B49),IF(D$27="mg/kg SAR",((D$28*0.001)*$B49),IF(D$27="mg/kg DM",(((D$28*0.001)*($B$28/100))*$B49),"0")))))))*2.291 -> 0 | E49: =(IF(E$27="%w/w SAR",((E$28*10)*$B49),IF(E$27="%w/w DM",(((E$28*10)*($B$28/100))*$B49),IF(E$27="kg/t SAR",(E$28*$B49),IF(E$27="kg/t DM",((E$28*($B$28/100))*$B49),IF(E$27="mg/kg SAR",((E$28*0.001)*$B49),IF(E$27="mg/kg DM",(((E$28*0.001)*($B$28/100))*$B49),"0")))))))*1.205 -> 0 | F49: =(IF(F$27="%w/w SAR",((F$28*10)*$B49),IF(F$27="%w/w DM",(((F$28*10)*($B$28/100))*$B49),IF(F$27="kg/t SAR",(F$28*$B49),IF(F$27="kg/t DM",((F$28*($B$28/100))*$B49),IF(F$27="mg/kg SAR",((F$28*0.001)*$B49),IF(F$27="mg/kg DM",(((F$28*0.001)*($B$28/100))*$B49),"0")))))))*1.658 -> 0 | G49: =IF(G$27="%w/w SAR",((G$28*10)*$B49),IF(G$27="%w/w DM",(((G$28*10)*($B$28/100))*$B49),IF(G$27="kg/t SAR",(G$28*$B49),IF(G$27="kg/t DM",((G$28*($B$28/100))*$B49),IF(G$27="mg/kg SAR",((G$28*0.001)*$B49),IF(G$27="mg/kg DM",(((G$28*0.001)*($B$28/100))*$B49),0)))))) -> 0 | H49: =IF(H$27="%w/w SAR",((H$28*10)*$B49),IF(H$27="%w/w DM",(((H$28*10)*($B$28/100))*$B49),IF(H$27="kg/t SAR",(H$28*$B49),IF(H$27="kg/t DM",((H$28*($B$28/100))*$B49),IF(H$27="mg/kg SAR",((H$28*0.001)*$B49),IF(H$27="mg/kg DM",(((H$28*0.001)*($B$28/100))*$B49),0)))))) -> 0 | I49: =IF(I$27="%w/w SAR",((I$28*10)*$B49),IF(I$27="%w/w DM",(((I$28*10)*($B$28/100))*$B49),IF(I$27="kg/t SAR",(I$28*$B49),IF(I$27="kg/t DM",((I$28*($B$28/100))*$B49),IF(I$27="mg/kg SAR",((I$28*0.001)*$B49),IF(I$27="mg/kg DM",(((I$28*0.001)*($B$28/100))*$B49),0)))))) -> 0 | J49: =IF(J$27="%w/w SAR",((J$28*10)*$B49),IF(J$27="%w/w DM",(((J$28*10)*($B$28/100))*$B49),IF(J$27="kg/t SAR",(J$28*$B49),IF(J$27="kg/t DM",((J$28*($B$28/100))*$B49),IF(J$27="mg/kg SAR",((J$28*0.001)*$B49),IF(J$27="mg/kg DM",(((J$28*0.001)*($B$28/100))*$B49),0)))))) -> 0 | K49: =IF(K$27="%w/w SAR",((K$28*10)*$B49),IF(K$27="%w/w DM",(((K$28*10)*($B$28/100))*$B49),IF(K$27="kg/t SAR",(K$28*$B49),IF(K$27="kg/t DM",((K$28*($B$28/100))*$B49),IF(K$27="mg/kg SAR",((K$28*0.001)*$B49),IF(K$27="mg/kg DM",(((K$28*0.001)*($B$28/100))*$B49),0)))))) -> 0 | L49: =IF(L$27="%w/w SAR",((L$28*10)*$B49),IF(L$27="%w/w DM",(((L$28*10)*($B$28/100))*$B49),IF(L$27="kg/t SAR",(L$28*$B49),IF(L$27="kg/t DM",((L$28*($B$28/100))*$B49),IF(L$27="mg/kg SAR",((L$28*0.001)*$B49),IF(L$27="mg/kg DM",(((L$28*0.001)*($B$28/100))*$B49),0)))))) -> 0 | M49: =IF(M$27="%w/w SAR",((M$28*10)*$B49),IF(M$27="%w/w DM",(((M$28*10)*($B$28/100))*$B49),IF(M$27="kg/t SAR",(M$28*$B49),IF(M$27="kg/t DM",((M$28*($B$28/100))*$B49),IF(M$27="mg/kg SAR",((M$28*0.001)*$B49),IF(M$27="mg/kg DM",(((M$28*0.001)*($B$28/100))*$B49),0)))))) -> 0 | N49: =IF(N$27="%w/w SAR",((N$28*10)*$B49),IF(N$27="%w/w DM",(((N$28*10)*($B$28/100))*$B49),IF(N$27="kg/t SAR",(N$28*$B49),IF(N$27="kg/t DM",((N$28*($B$28/100))*$B49),IF(N$27="mg/kg SAR",((N$28*0.001)*$B49),IF(N$27="mg/kg DM",(((N$28*0.001)*($B$28/100))*$B49),0)))))) -> 0 | ... P49: =IF(P$27="%w/w SAR",((P$28*10)*$B49),IF(P$27="%w/w DM",(((P$28*10)*($B$28/100))*$B49),IF(P$27="kg/t SAR",(P$28*$B49),IF(P$27="kg/t DM",((P$28*($B$28/100))*$B49),IF(P$27="mg/kg SAR",((P$28*0.001)*$B49),IF(P$27="mg/kg DM",(((P$28*0.001)*($B$28/100))*$B49),0)))))) -> 0 | Q49: =(IF(Q$27="%w/w SAR",((Q$28*10)*$B49),IF(Q$27="%w/w DM",(((Q$28*10)*($B$28/100))*$B49),IF(Q$27="kg/t SAR",(Q$28*$B49),IF(Q$27="kg/t DM",((Q$28*($B$28/100))*$B49),IF(Q$27="mg/kg SAR",((Q$28*0.001)*$B49),IF(Q$27="mg/kg DM",(((Q$28*0.001)*($B$28/100))*$B49),0)))))))*2.5 -> 0 | R49: =IF(R$27="%w/w SAR",((R$28*10)*$B49),IF(R$27="%w/w DM",(((R$28*10)*($B$28/100))*$B49),IF(R$27="kg/t SAR",(R$28*$B49),IF(R$27="kg/t DM",((R$28*($B$28/100))*$B49),IF(R$27="mg/kg SAR",((R$28*0.001)*$B49),IF(R$27="mg/kg DM",(((R$28*0.001)*($B$28/100))*$B49),0)))))) -> 0 | S49: =IF(S$27="%w/w SAR",((S$28*10)*$B49),IF(S$27="%w/w DM",(((S$28*10)*($B$28/100))*$B49),IF(S$27="kg/t SAR",(S$28*$B49),IF(S$27="kg/t DM",((S$28*($B$28/100))*$B49),IF(S$27="mg/kg SAR",((S$28*0.001)*$B49),IF(S$27="mg/kg DM",(((S$28*0.001)*($B$28/100))*$B49),0)))))) -> 0 | T49: =IF(T$27="%w/w SAR",((T$28*10)*$B49),IF(T$27="%w/w DM",(((T$28*10)*($B$28/100))*$B49),IF(T$27="kg/t SAR",(T$28*$B49),IF(T$27="kg/t DM",((T$28*($B$28/100))*$B49),IF(T$27="mg/kg SAR",((T$28*0.001)*$B49),IF(T$27="mg/kg DM",(((T$28*0.001)*($B$28/100))*$B49),0)))))) -> 0 | U49: =IF(U$27="%w/w SAR",((U$28*10)*$B49),IF(U$27="%w/w DM",(((U$28*10)*($B$28/100))*$B49),IF(U$27="kg/t SAR",(U$28*$B49),IF(U$27="kg/t DM",((U$28*($B$28/100))*$B49),IF(U$27="mg/kg SAR",((U$28*0.001)*$B49),IF(U$27="mg/kg DM",(((U$28*0.001)*($B$28/100))*$B49),0)))))) -> 0
A50: =V8 -> 0 | C50: =IF(C$27="%w/w SAR",((C$28*10)*$B50),IF(C$27="%w/w DM",(((C$28*10)*($B$28/100))*$B50),IF(C$27="kg/t SAR",(C$28*$B50),IF(C$27="kg/t DM",((C$28*($B$28/100))*$B50),IF(C$27="mg/kg SAR",((C$28*0.001)*$B50),IF(C$27="mg/kg DM",(((C$28*0.001)*($B$28/100))*$B50),0)))))) -> 0 | D50: =(IF(D$27="%w/w SAR",((D$28*10)*$B50),IF(D$27="%w/w DM",(((D$28*10)*($B$28/100))*$B50),IF(D$27="kg/t SAR",(D$28*$B50),IF(D$27="kg/t DM",((D$28*($B$28/100))*$B50),IF(D$27="mg/kg SAR",((D$28*0.001)*$B50),IF(D$27="mg/kg DM",(((D$28*0.001)*($B$28/100))*$B50),"0")))))))*2.291 -> 0 | E50: =(IF(E$27="%w/w SAR",((E$28*10)*$B50),IF(E$27="%w/w DM",(((E$28*10)*($B$28/100))*$B50),IF(E$27="kg/t SAR",(E$28*$B50),IF(E$27="kg/t DM",((E$28*($B$28/100))*$B50),IF(E$27="mg/kg SAR",((E$28*0.001)*$B50),IF(E$27="mg/kg DM",(((E$28*0.001)*($B$28/100))*$B50),"0")))))))*1.205 -> 0 | F50: =(IF(F$27="%w/w SAR",((F$28*10)*$B50),IF(F$27="%w/w DM",(((F$28*10)*($B$28/100))*$B50),IF(F$27="kg/t SAR",(F$28*$B50),IF(F$27="kg/t DM",((F$28*($B$28/100))*$B50),IF(F$27="mg/kg SAR",((F$28*0.001)*$B50),IF(F$27="mg/kg DM",(((F$28*0.001)*($B$28/100))*$B50),"0")))))))*1.658 -> 0 | G50: =IF(G$27="%w/w SAR",((G$28*10)*$B50),IF(G$27="%w/w DM",(((G$28*10)*($B$28/100))*$B50),IF(G$27="kg/t SAR",(G$28*$B50),IF(G$27="kg/t DM",((G$28*($B$28/100))*$B50),IF(G$27="mg/kg SAR",((G$28*0.001)*$B50),IF(G$27="mg/kg DM",(((G$28*0.001)*($B$28/100))*$B50),0)))))) -> 0 | H50: =IF(H$27="%w/w SAR",((H$28*10)*$B50),IF(H$27="%w/w DM",(((H$28*10)*($B$28/100))*$B50),IF(H$27="kg/t SAR",(H$28*$B50),IF(H$27="kg/t DM",((H$28*($B$28/100))*$B50),IF(H$27="mg/kg SAR",((H$28*0.001)*$B50),IF(H$27="mg/kg DM",(((H$28*0.001)*($B$28/100))*$B50),0)))))) -> 0 | I50: =IF(I$27="%w/w SAR",((I$28*10)*$B50),IF(I$27="%w/w DM",(((I$28*10)*($B$28/100))*$B50),IF(I$27="kg/t SAR",(I$28*$B50),IF(I$27="kg/t DM",((I$28*($B$28/100))*$B50),IF(I$27="mg/kg SAR",((I$28*0.001)*$B50),IF(I$27="mg/kg DM",(((I$28*0.001)*($B$28/100))*$B50),0)))))) -> 0 | J50: =IF(J$27="%w/w SAR",((J$28*10)*$B50),IF(J$27="%w/w DM",(((J$28*10)*($B$28/100))*$B50),IF(J$27="kg/t SAR",(J$28*$B50),IF(J$27="kg/t DM",((J$28*($B$28/100))*$B50),IF(J$27="mg/kg SAR",((J$28*0.001)*$B50),IF(J$27="mg/kg DM",(((J$28*0.001)*($B$28/100))*$B50),0)))))) -> 0 | K50: =IF(K$27="%w/w SAR",((K$28*10)*$B50),IF(K$27="%w/w DM",(((K$28*10)*($B$28/100))*$B50),IF(K$27="kg/t SAR",(K$28*$B50),IF(K$27="kg/t DM",((K$28*($B$28/100))*$B50),IF(K$27="mg/kg SAR",((K$28*0.001)*$B50),IF(K$27="mg/kg DM",(((K$28*0.001)*($B$28/100))*$B50),0)))))) -> 0 | L50: =IF(L$27="%w/w SAR",((L$28*10)*$B50),IF(L$27="%w/w DM",(((L$28*10)*($B$28/100))*$B50),IF(L$27="kg/t SAR",(L$28*$B50),IF(L$27="kg/t DM",((L$28*($B$28/100))*$B50),IF(L$27="mg/kg SAR",((L$28*0.001)*$B50),IF(L$27="mg/kg DM",(((L$28*0.001)*($B$28/100))*$B50),0)))))) -> 0 | M50: =IF(M$27="%w/w SAR",((M$28*10)*$B50),IF(M$27="%w/w DM",(((M$28*10)*($B$28/100))*$B50),IF(M$27="kg/t SAR",(M$28*$B50),IF(M$27="kg/t DM",((M$28*($B$28/100))*$B50),IF(M$27="mg/kg SAR",((M$28*0.001)*$B50),IF(M$27="mg/kg DM",(((M$28*0.001)*($B$28/100))*$B50),0)))))) -> 0 | N50: =IF(N$27="%w/w SAR",((N$28*10)*$B50),IF(N$27="%w/w DM",(((N$28*10)*($B$28/100))*$B50),IF(N$27="kg/t SAR",(N$28*$B50),IF(N$27="kg/t DM",((N$28*($B$28/100))*$B50),IF(N$27="mg/kg SAR",((N$28*0.001)*$B50),IF(N$27="mg/kg DM",(((N$28*0.001)*($B$28/100))*$B50),0)))))) -> 0 | ... P50: =IF(P$27="%w/w SAR",((P$28*10)*$B50),IF(P$27="%w/w DM",(((P$28*10)*($B$28/100))*$B50),IF(P$27="kg/t SAR",(P$28*$B50),IF(P$27="kg/t DM",((P$28*($B$28/100))*$B50),IF(P$27="mg/kg SAR",((P$28*0.001)*$B50),IF(P$27="mg/kg DM",(((P$28*0.001)*($B$28/100))*$B50),0)))))) -> 0 | Q50: =(IF(Q$27="%w/w SAR",((Q$28*10)*$B50),IF(Q$27="%w/w DM",(((Q$28*10)*($B$28/100))*$B50),IF(Q$27="kg/t SAR",(Q$28*$B50),IF(Q$27="kg/t DM",((Q$28*($B$28/100))*$B50),IF(Q$27="mg/kg SAR",((Q$28*0.001)*$B50),IF(Q$27="mg/kg DM",(((Q$28*0.001)*($B$28/100))*$B50),0)))))))*2.5 -> 0 | R50: =IF(R$27="%w/w SAR",((R$28*10)*$B50),IF(R$27="%w/w DM",(((R$28*10)*($B$28/100))*$B50),IF(R$27="kg/t SAR",(R$28*$B50),IF(R$27="kg/t DM",((R$28*($B$28/100))*$B50),IF(R$27="mg/kg SAR",((R$28*0.001)*$B50),IF(R$27="mg/kg DM",(((R$28*0.001)*($B$28/100))*$B50),0)))))) -> 0 | S50: =IF(S$27="%w/w SAR",((S$28*10)*$B50),IF(S$27="%w/w DM",(((S$28*10)*($B$28/100))*$B50),IF(S$27="kg/t SAR",(S$28*$B50),IF(S$27="kg/t DM",((S$28*($B$28/100))*$B50),IF(S$27="mg/kg SAR",((S$28*0.001)*$B50),IF(S$27="mg/kg DM",(((S$28*0.001)*($B$28/100))*$B50),0)))))) -> 0 | T50: =IF(T$27="%w/w SAR",((T$28*10)*$B50),IF(T$27="%w/w DM",(((T$28*10)*($B$28/100))*$B50),IF(T$27="kg/t SAR",(T$28*$B50),IF(T$27="kg/t DM",((T$28*($B$28/100))*$B50),IF(T$27="mg/kg SAR",((T$28*0.001)*$B50),IF(T$27="mg/kg DM",(((T$28*0.001)*($B$28/100))*$B50),0)))))) -> 0 | U50: =IF(U$27="%w/w SAR",((U$28*10)*$B50),IF(U$27="%w/w DM",(((U$28*10)*($B$28/100))*$B50),IF(U$27="kg/t SAR",(U$28*$B50),IF(U$27="kg/t DM",((U$28*($B$28/100))*$B50),IF(U$27="mg/kg SAR",((U$28*0.001)*$B50),IF(U$27="mg/kg DM",(((U$28*0.001)*($B$28/100))*$B50),0)))))) -> 0
A51: LIMIT | B51: 250 | C51: 250 | D51: Crop Requirement | E51: Crop Requirement | F51: Crop Requirement | G51: 7.5 | H51: 15 | I51: 15 | J51: 0.15 | K51: 0.1 | L51: 3 | M51: 15 | N51: TBC | O51: TBC | P51: 360 | Q51: Crop requirement x10 | R51: 0.15 | S51: 0.7 | T51: 0.2 | U51: 20
A53: Lime Calculation
B54: Dry Matter (if SAR use 100%) | C54: TNV of Waste as CaO (%) | D54: CaO Calculation | E54: CaO Conversion to CaCO3 | F54: TNV of Waste as CaCo3 (%) | G54: CaCo3 Calculation
B55: 100 | C55: 1 | D55: =(B55/100)*C55 -> 1 | E55: =G55 -> 2 | F55: 2 | G55: =(B55/100)*F55 -> 2
A56: Field number | B56: 1 | C56: 2 | D56: 3 | E56: 4 | F56: 5 | G56: 6 | H56: 7 | I56: 8 | J56: 9 | K56: 10 | L56: 11 | M56: 12 | N56: 13 | O56: 14 | P56: 15 | Q56: 16 | R56: 17 | S56: 18 | T56: 19 | U56: 20
A57: Field Ref | B57: =C8 -> 2 | C57: =D8 -> 4 | D57: =E8 -> 6 | E57: =F8 -> 7 | F57: =G8 -> 8 | G57: =H8 -> 9 | H57: =I8 -> 10 | I57: =J8 -> 12 | ... U57: =V8 -> 0
A58: Soil Crop Type | B58: =C16&" I "&(VLOOKUP(C14,Table24[],6,FALSE)) -> Medium/Clay I Grass | C58: =D16&" I "&(VLOOKUP(D14,Table24[],6,FALSE)) -> Medium/Clay I Grass | D58: =E16&" I "&(VLOOKUP(E14,Table24[],6,FALSE)) -> Medium/Clay I Grass | E58: =F16&" I "&(VLOOKUP(F14,Table24[],6,FALSE)) -> Medium/Clay I Grass | F58: =G16&" I "&(VLOOKUP(G14,Table24[],6,FALSE)) -> Medium/Clay I Grass | G58: =H16&" I "&(VLOOKUP(H14,Table24[],6,FALSE)) -> Medium/Clay I Grass | H58: =I16&" I "&(VLOOKUP(I14,Table24[],6,FALSE)) -> Medium/Clay I Grass | I58: =J16&" I "&(VLOOKUP(J14,Table24[],6,FALSE)) -> Medium/Clay I Grass | ... U58: =V16&" I "&(VLOOKUP(V14,Table24[],6,FALSE)) -> #N/A
A59: Cropping pH | B59: =VLOOKUP(C$14,Table24[],5,FALSE) -> 6.2 | C59: =VLOOKUP(D$14,Table24[],5,FALSE) -> 6.2 | D59: =VLOOKUP(E$14,Table24[],5,FALSE) -> 6.2 | E59: =VLOOKUP(F$14,Table24[],5,FALSE) -> 6.2 | F59: =VLOOKUP(G$14,Table24[],5,FALSE) -> 6.2 | G59: =VLOOKUP(H$14,Table24[],5,FALSE) -> 6.2 | H59: =VLOOKUP(I$14,Table24[],5,FALSE) -> 6.2 | I59: =VLOOKUP(J$14,Table24[],5,FALSE) -> 6.2 | ... U59: =VLOOKUP(V$14,Table24[],5,FALSE) -> #N/A
A60: Field pH | B60: =C10 -> 6 | C60: =D10 -> 5.8 | D60: =E10 -> 6.4 | E60: =F10 -> 6.3 | F60: =G10 -> 6.1 | G60: =H10 -> 5.8 | H60: =I10 -> 6.1 | I60: =J10 -> 6.9 | ... U60: =V10 -> 0
A61: Soil pH | B61: =VLOOKUP(B58,$AD9:$AE18,2,FALSE) -> 6 | C61: =VLOOKUP(C58,$AD9:$AE18,2,FALSE) -> 6 | D61: =VLOOKUP(D58,$AD9:$AE18,2,FALSE) -> 6 | E61: =VLOOKUP(E58,$AD9:$AE18,2,FALSE) -> 6 | F61: =VLOOKUP(F58,$AD9:$AE18,2,FALSE) -> 6 | G61: =VLOOKUP(G58,$AD9:$AE18,2,FALSE) -> 6 | H61: =VLOOKUP(H58,$AD9:$AE18,2,FALSE) -> 6 | I61: =VLOOKUP(I58,$AD9:$AE18,2,FALSE) -> 6 | ... U61: =VLOOKUP(U58,$AD9:$AE18,2,FALSE) -> #N/A
A62: App rate | B62: =B31 -> 250 | C62: =B32 -> 250 | D62: =B33 -> 250 | E62: =B34 -> 250 | F62: =B35 -> 250 | G62: =B36 -> 250 | H62: =B37 -> 250 | I62: =B38 -> 250 | J62: =B39 -> 250 | K62: =B40 -> 250 | L62: =B41 -> 250 | M62: =B42 -> 250 | N62: =B43 -> 250 | O62: =B44 -> 250 | P62: =B45 -> 250 | Q62: =B46 -> 0 | R62: =B47 -> 0 | S62: =B48 -> 0 | T62: =B49 -> 0 | U62: =B50 -> 0
A63: Lime applied in waste t/ha | B63: =$E55*(B62/100) -> 5 | C63: =$E55*(C62/100) -> 5 | D63: =$E55*(D62/100) -> 5 | E63: =$E55*(E62/100) -> 5 | F63: =$E55*(F62/100) -> 5 | G63: =$E55*(G62/100) -> 5 | H63: =$E55*(H62/100) -> 5 | I63: =$E55*(I62/100) -> 5 | ... U63: =$E55*(U62/100) -> 0
A64: Lime required to bring pH to target level t/a CaCo3 | B64: =(B59-B60)*B61 -> 1.2 | C64: =(C59-C60)*C61 -> 2.4 | D64: =(D59-D60)*D61 -> -1.2 | E64: =(E59-E60)*E61 -> -0.6 | F64: =(F59-F60)*F61 -> 0.6 | G64: =(G59-G60)*G61 -> 2.4 | H64: =(H59-H60)*H61 -> 0.6 | I64: =(I59-I60)*I61 -> -4.2 | ... U64: =(U59-U60)*U61 -> #N/A
A65: Difference between applied and required | B65: =B63-B64 -> 3.8 | C65: =C63-C64 -> 2.6 | D65: =D63-D64 -> 6.2 | E65: =E63-E64 -> 5.6 | F65: =F63-F64 -> 4.4 | G65: =G63-G64 -> 2.6 | H65: =H63-H64 -> 4.4 | I65: =I63-I64 -> 9.2 | ... U65: =U63-U64 -> #N/A
A66: Over or Under Applying? | B66: =IF(B64<=B63,"OVER","UNDER") -> OVER | C66: =IF(C64<=C63,"OVER","UNDER") -> OVER | D66: =IF(D64<=D63,"OVER","UNDER") -> OVER | E66: =IF(E64<=E63,"OVER","UNDER") -> OVER | F66: =IF(F64<=F63,"OVER","UNDER") -> OVER | G66: =IF(G64<=G63,"OVER","UNDER") -> OVER | H66: =IF(H64<=H63,"OVER","UNDER") -> OVER | I66: =IF(I64<=I63,"OVER","UNDER") -> OVER | ... U66: =IF(U64<=U63,"OVER","UNDER") -> #N/A

Sheet Dunbia DAF Cake
A1: PAN reference | C1: ='Dunbia DAF Liquid'!C1:D1 -> PAN-014886 | E1: Total spread area | F1: ='Dunbia DAF Liquid'!F1 -> 50 ha | G1: Waste pH | I1: 8 | J1: Ammonium Nitrogen (mg/kg) | L1: 14439 | AD1: Choose | AI1: Crop | AJ1: P Offtake | AK1: K Offtake | AL1: Order | AM1: Lime pH requirement | AN1: Column1
A2: Permit reference | C2: ='Dunbia DAF Liquid'!C2:D2 -> EPR/GP3792SK | E2: Waste type EWC | F2: 02 02 04 | G2: Conductivity µS/cm (limit 5000 µS/cm) | I2: 3403 | J2: Total Nitrogen (mg/kg) | L2: 57500 | AB2: %w/w SAR | AD2: Sandy | AG2: Solid | AI2: Choose | AJ2: 0 | AK2: 0 | AL2: 0 | AM2: 0 | AN2: 0
A3: Operator | C3: ='Dunbia DAF Liquid'!C3:D3 -> ByProduct Recovery Limited | E3: Waste physical form | F3: Sludge Cake | G3: Fats & Oils (%) (limit 4%) | J3: Readily available nitrogen content % | L3: =(L1/L2)*100 -> 25.111304 | AB3: %w/w DM | AD3: Sandy Loam | AG3: Liquid | AI3: Grass Silage (25% DM) | AJ3: 1.7 | AK3: 6 | AL3: 1 | AM3: 6.2 | AN3: Grass
A4: Farm Address | C4: ='Dunbia DAF Liquid'!C4:D4 -> Bwlchmawr Farm 1 | E4: Waste Ref/Name | F4: Dunbia DAF Cake | AB4: kg/t SAR | AD4: Medium/Clay | AG4: Sludge | AI4: Winter wheat- grain & straw | AJ4: 7 | AK4: 10.5 | AL4: 2 | AM4: 6.7 | AN4: Arable
A5: Assessed By | C5: ='Dunbia DAF Liquid'!C5:D5 -> Rhiannon Smith | AB5: kg/t DM | AD5: Organic | AG5: Sludge Cake | AI5: Winter wheat- grain only | AJ5: 6.5 | AK5: 5.5 | AL5: 3 | AM5: 6.7 | AN5: Arable
AB6: mg/kg SAR | AD6: Peat | AI6: Spring wheat/barley | AJ6: 8.5 | AK6: 12 | AL6: 4 | AM6: 6.7 | AN6: Arable
A7: Field number | C7: 1 | D7: 2 | E7: 3 | F7: 4 | G7: 5 | H7: 6 | I7: 7 | J7: 8 | K7: 9 | L7: 10 | M7: 11 | N7: 12 | O7: 13 | P7: 14 | Q7: 15 | R7: 16 | S7: 17 | T7: 18 | U7: 19 | V7: 20 | AB7: mg/kg DM | AI7: Winter barley/triticale/rye | AJ7: 8.5 | AK7: 10.5 | AL7: 5 | AM7: 6.7 | AN7: Arable
A8: Field Ref | C8: ='Dunbia DAF Liquid'!C8 -> 2 | D8: ='Dunbia DAF Liquid'!D8 -> 4 | E8: ='Dunbia DAF Liquid'!E8 -> 6 | F8: ='Dunbia DAF Liquid'!F8 -> 7 | G8: ='Dunbia DAF Liquid'!G8 -> 8 | H8: ='Dunbia DAF Liquid'!H8 -> 9 | I8: ='Dunbia DAF Liquid'!I8 -> 10 | J8: ='Dunbia DAF Liquid'!J8 -> 12 | ... V8: ='Dunbia DAF Liquid'!V8 -> 0 | AE8: lime pH | AI8: Maize- Silage (30% DM) | AJ8: 1.4 | AK8: 4.4 | AL8: 6 | AM8: 6.7 | AN8: Arable
A9: SNS Index | C9: ='Dunbia DAF Liquid'!C9 -> M | D9: ='Dunbia DAF Liquid'!D9 -> M | E9: ='Dunbia DAF Liquid'!E9 -> M | F9: ='Dunbia DAF Liquid'!F9 -> M | G9: ='Dunbia DAF Liquid'!G9 -> M | H9: ='Dunbia DAF Liquid'!H9 -> M | I9: ='Dunbia DAF Liquid'!I9 -> M | J9: ='Dunbia DAF Liquid'!J9 -> M | ... V9: ='Dunbia DAF Liquid'!V9 -> 0 | AD9: Sandy I Grass | AE9: 4.5 | AI9: Fodder beet (roots only) | AJ9: 0.7 | AK9: 4 | AL9: 7 | AM9: 6.7 | AN9: Arable
A10: Field pH | C10: ='Dunbia DAF Liquid'!C10 -> 6 | D10: ='Dunbia DAF Liquid'!D10 -> 5.8 | E10: ='Dunbia DAF Liquid'!E10 -> 6.4 | F10: ='Dunbia DAF Liquid'!F10 -> 6.3 | G10: ='Dunbia DAF Liquid'!G10 -> 6.1 | H10: ='Dunbia DAF Liquid'!H10 -> 5.8 | I10: ='Dunbia DAF Liquid'!I10 -> 6.1 | J10: ='Dunbia DAF Liquid'!J10 -> 6.9 | ... V10: ='Dunbia DAF Liquid'!V10 -> 0 | AD10: Sandy Loam I Grass | AE10: 5 | AI10: Oats | AJ10: 9 | AK10: 16.5 | AL10: 8 | AM10: 6.7 | AN10: Arable
A11: Phosphorus Index | C11: ='Dunbia DAF Liquid'!C11 -> 0 | D11: ='Dunbia DAF Liquid'!D11 -> 0 | E11: ='Dunbia DAF Liquid'!E11 -> 3 | F11: ='Dunbia DAF Liquid'!F11 -> 0 | G11: ='Dunbia DAF Liquid'!G11 -> 0 | H11: ='Dunbia DAF Liquid'!H11 -> 0 | I11: ='Dunbia DAF Liquid'!I11 -> 0 | J11: ='Dunbia DAF Liquid'!J11 -> 0 | ... V11: ='Dunbia DAF Liquid'!V11 -> 0 | AD11: Medium/Clay I Grass | AE11: 6 | AI11: Oilseed rape- seed & straw | AJ11: 15 | AK11: 17.5 | AL11: 9 | AM11: 7 | AN11: Arable
A12: Potassium Index | C12: ='Dunbia DAF Liquid'!C12 -> 0 | D12: ='Dunbia DAF Liquid'!D12 -> 2 | E12: ='Dunbia DAF Liquid'!E12 -> 4 | F12: ='Dunbia DAF Liquid'!F12 -> 2 | G12: ='Dunbia DAF Liquid'!G12 -> 2 | H12: ='Dunbia DAF Liquid'!H12 -> 1 | I12: ='Dunbia DAF Liquid'!I12 -> 1 | J12: ='Dunbia DAF Liquid'!J12 -> 2 | ... V12: ='Dunbia DAF Liquid'!V12 -> 0 | AD12: Organic I Grass | AE12: 7.5 | AI12: Oilseed rape- seed only | AJ12: 14 | AK12: 11 | AL12: 10 | AM12: 7 | AN12: Arable
A13: Magnesium Index | C13: ='Dunbia DAF Liquid'!C13 -> 3 | D13: ='Dunbia DAF Liquid'!D13 -> 3 | E13: ='Dunbia DAF Liquid'!E13 -> 4 | F13: ='Dunbia DAF Liquid'!F13 -> 3 | G13: ='Dunbia DAF Liquid'!G13 -> 3 | H13: ='Dunbia DAF Liquid'!H13 -> 2 | I13: ='Dunbia DAF Liquid'!I13 -> 2 | J13: ='Dunbia DAF Liquid'!J13 -> 3 | ... V13: ='Dunbia DAF Liquid'!V13 -> 0 | AD13: Peat I Grass | AE13: 12 | AI13: Sugar beet- roots & tops | AJ13: 1.9 | AK13: 7.5 | AL13: 11 | AM13: 6.7 | AN13: Arable
A14: Benefiting Crop | C14: ='Dunbia DAF Liquid'!C14 -> Grass Silage (25% DM) | D14: ='Dunbia DAF Liquid'!D14 -> Grass Silage (25% DM) | E14: ='Dunbia DAF Liquid'!E14 -> Grass Silage (25% DM) | F14: ='Dunbia DAF Liquid'!F14 -> Grass Silage (25% DM) | G14: ='Dunbia DAF Liquid'!G14 -> Grass Silage (25% DM) | H14: ='Dunbia DAF Liquid'!H14 -> Grass Silage (25% DM) | I14: ='Dunbia DAF Liquid'!I14 -> Grass Silage (25% DM) | J14: ='Dunbia DAF Liquid'!J14 -> Grass Silage (25% DM) | ... V14: ='Dunbia DAF Liquid'!V14 -> 0 | AD14: Sandy I Arable | AE14: 6 | AI14: Sugar beet- roots only | AJ14: 0.8 | AK14: 1.7 | AL14: 12 | AM14: 6.7 | AN14: Arable
A15: Expected Yield | C15: ='Dunbia DAF Liquid'!C15 -> 38 | D15: ='Dunbia DAF Liquid'!D15 -> 38 | E15: ='Dunbia DAF Liquid'!E15 -> 38 | F15: ='Dunbia DAF Liquid'!F15 -> 38 | G15: ='Dunbia DAF Liquid'!G15 -> 38 | H15: ='Dunbia DAF Liquid'!H15 -> 38 | I15: ='Dunbia DAF Liquid'!I15 -> 38 | J15: ='Dunbia DAF Liquid'!J15 -> 38 | ... V15: ='Dunbia DAF Liquid'!V15 -> 0 | AD15: Sandy Loam I Arable | AE15: 7 | AI15: Wholecrop cereals | AJ15: 1.8 | AK15: 5.4 | AL15: 13 | AM15: 6.7 | AN15: Arable
A16: Soil Type | C16: ='Dunbia DAF Liquid'!C16 -> Medium/Clay | D16: ='Dunbia DAF Liquid'!D16 -> Medium/Clay | E16: ='Dunbia DAF Liquid'!E16 -> Medium/Clay | F16: ='Dunbia DAF Liquid'!F16 -> Medium/Clay | G16: ='Dunbia DAF Liquid'!G16 -> Medium/Clay | H16: ='Dunbia DAF Liquid'!H16 -> Medium/Clay | I16: ='Dunbia DAF Liquid'!I16 -> Medium/Clay | J16: ='Dunbia DAF Liquid'!J16 -> Medium/Clay | ... V16: ='Dunbia DAF Liquid'!V16 -> 0 | AD16: Medium/Clay I Arable | AE16: 8 | AI16: All other cereals- grain only | AJ16: 8 | AK16: 5.5 | AL16: 14 | AM16: 6.7 | AN16: Arable
A17: Phosphate Offtake | C17: =(VLOOKUP(C$14,$AI2:$AK26,2,FALSE))*C$15 -> 64.6 | D17: =(VLOOKUP(D$14,$AI2:$AK26,2,FALSE))*D$15 -> 64.6 | E17: =(VLOOKUP(E$14,$AI2:$AK26,2,FALSE))*E$15 -> 64.6 | F17: =(VLOOKUP(F$14,$AI2:$AK26,2,FALSE))*F$15 -> 64.6 | G17: =(VLOOKUP(G$14,$AI2:$AK26,2,FALSE))*G$15 -> 64.6 | H17: =(VLOOKUP(H$14,$AI2:$AK26,2,FALSE))*H$15 -> 64.6 | I17: =(VLOOKUP(I$14,$AI2:$AK26,2,FALSE))*I$15 -> 64.6 | J17: =(VLOOKUP(J$14,$AI2:$AK26,2,FALSE))*J$15 -> 64.6 | ... V17: =(VLOOKUP(V$14,$AI2:$AK26,2,FALSE))*V$15 -> #N/A | AD17: Organic I Arable | AE17: 10 | AI17: Fresh grass (15-20% DM) | AJ17: 1.4 | AK17: 4.8 | AL17: 15 | AM17: 6.2 | AN17: Grass
A18: Phosphate Addition | C18: =$D31 -> 201.55072 | D18: =$D32 -> 201.55072 | E18: =$D33 -> 71.13555 | F18: =$D34 -> 201.55072 | G18: =$D35 -> 201.55072 | H18: =$D36 -> 201.55072 | I18: =$D37 -> 201.55072 | J18: =$D38 -> 201.55072 | K18: =$D39 -> 201.55072 | L18: =$D40 -> 71.13555 | M18: =$D41 -> 71.13555 | N18: =$D42 -> 71.13555 | O18: =$D43 -> 71.13555 | P18: =$D44 -> 71.13555 | Q18: =$D45 -> 71.13555 | R18: =$D46 -> 0 | S18: =$D47 -> 0 | T18: =$D48 -> 0 | U18: =$D49 -> 0 | V18: =$D50 -> 0 | AD18: Peat I Arable | AE18: 16 | AI18: Hay (86% DM) | AJ18: 5.9 | AK18: 18 | AL18: 16 | AM18: 6.2 | AN18: Grass
A19: Phosphate Difference | C19: =C18-C17 -> 136.95072 | D19: =D18-D17 -> 136.95072 | E19: =E18-E17 -> 6.53555 | F19: =F18-F17 -> 136.95072 | G19: =G18-G17 -> 136.95072 | H19: =H18-H17 -> 136.95072 | I19: =I18-I17 -> 136.95072 | J19: =J18-J17 -> 136.95072 | ... V19: =V18-V17 -> #N/A | AI19: Haylage (45% DM) | AJ19: 3.2 | AK19: 10.5 | AL19: 17 | AM19: 6.2 | AN19: Grass
A20: Phosphate Increase/decrease | C20: =IF($B31="","",IF(C$19>=0,"INCREASE","DECREASE")) -> INCREASE | D20: =IF($B32="","",IF(D$19>=0,"INCREASE","DECREASE")) -> INCREASE | E20: =IF($B33="","",IF(E$19>=0,"INCREASE","DECREASE")) -> INCREASE | F20: =IF($B34="","",IF(F$19>=0,"INCREASE","DECREASE")) -> INCREASE | G20: =IF($B35="","",IF(G$19>=0,"INCREASE","DECREASE")) -> INCREASE | H20: =IF($B36="","",IF(H$19>=0,"INCREASE","DECREASE")) -> INCREASE | I20: =IF($B37="","",IF(I$19>=0,"INCREASE","DECREASE")) -> INCREASE | J20: =IF($B38="","",IF(J$19>=0,"INCREASE","DECREASE")) -> INCREASE | K20: =IF($B39="","",IF(K$19>=0,"INCREASE","DECREASE")) -> INCREASE | L20: =IF($B40="","",IF(L$19>=0,"INCREASE","DECREASE")) -> INCREASE | M20: =IF($B41="","",IF(M$19>=0,"INCREASE","DECREASE")) -> INCREASE | N20: =IF($B42="","",IF(N$19>=0,"INCREASE","DECREASE")) -> INCREASE | O20: =IF($B43="","",IF(O$19>=0,"INCREASE","DECREASE")) -> INCREASE | P20: =IF($B44="","",IF(P$19>=0,"INCREASE","DECREASE")) -> INCREASE | Q20: =IF($B45="","",IF(Q$19>=0,"INCREASE","DECREASE")) -> INCREASE | R20: =IF($B46="","",IF(R$19>=0,"INCREASE","DECREASE")) | S20: =IF($B47="","",IF(S$19>=0,"INCREASE","DECREASE")) | T20: =IF($B48="","",IF(T$19>=0,"INCREASE","DECREASE")) | U20: =IF($B49="","",IF(U$19>=0,"INCREASE","DECREASE")) | V20: =IF($B50="","",IF(V$19>=0,"INCREASE","DECREASE")) | AI20: Grass Silage (30% DM) | AJ20: 2.1 | AK20: 7.2 | AL20: 18 | AM20: 6.2 | AN20: Grass
A21: Potash Offtake | C21: =(VLOOKUP(C$14,$AI2:$AK26,3,FALSE))*C$15 -> 228 | D21: =(VLOOKUP(D$14,$AI2:$AK26,3,FALSE))*D$15 -> 228 | E21: =(VLOOKUP(E$14,$AI2:$AK26,3,FALSE))*E$15 -> 228 | F21: =(VLOOKUP(F$14,$AI2:$AK26,3,FALSE))*F$15 -> 228 | G21: =(VLOOKUP(G$14,$AI2:$AK26,3,FALSE))*G$15 -> 228 | H21: =(VLOOKUP(H$14,$AI2:$AK26,3,FALSE))*H$15 -> 228 | I21: =(VLOOKUP(I$14,$AI2:$AK26,3,FALSE))*I$15 -> 228 | J21: =(VLOOKUP(J$14,$AI2:$AK26,3,FALSE))*J$15 -> 228 | ... V21: =(VLOOKUP(V$14,$AI2:$AK26,3,FALSE))*V$15 -> #N/A | AI21: Field beans | AJ21: 11 | AK21: 12 | AL21: 19 | AM21: 6.7 | AN21: Arable
A22: Potash Addition | C22: =$E31 -> 14.888498 | D22: =$E32 -> 14.888498 | E22: =$E33 -> 5.254764 | F22: =$E34 -> 14.888498 | G22: =$E35 -> 14.888498 | H22: =$E36 -> 14.888498 | I22: =$E37 -> 14.888498 | J22: =$E38 -> 14.888498 | K22: =$E39 -> 14.888498 | L22: =$E40 -> 5.254764 | M22: =$E41 -> 5.254764 | N22: =$E42 -> 5.254764 | O22: =$E43 -> 5.254764 | P22: =$E44 -> 5.254764 | Q22: =$E45 -> 5.254764 | R22: =$E46 -> 0 | S22: =$E47 -> 0 | T22: =$E48 -> 0 | U22: =$E49 -> 0 | V22: =$E50 -> 0 | AI22: Kale | AJ22: 1.2 | AK22: 5 | AL22: 20 | AM22: 6.7 | AN22: Arable
A23: Potash Difference | C23: =C22-C21 -> -213.1115 | D23: =D22-D21 -> -213.1115 | E23: =E22-E21 -> -222.74524 | F23: =F22-F21 -> -213.1115 | G23: =G22-G21 -> -213.1115 | H23: =H22-H21 -> -213.1115 | I23: =I22-I21 -> -213.1115 | J23: =J22-J21 -> -213.1115 | ... V23: =V22-V21 -> #N/A | AI23: Peas- Dried | AJ23: 9 | AK23: 10 | AL23: 21 | AM23: 6.7 | AN23: Arable
A24: Potash Increase/decrease | C24: =IF($B31="","",IF(C$23>=0,"INCREASE","DECREASE")) -> DECREASE | D24: =IF($B31="","",IF(D$23>=0,"INCREASE","DECREASE")) -> DECREASE | E24: =IF($B31="","",IF(E$23>=0,"INCREASE","DECREASE")) -> DECREASE | F24: =IF($B31="","",IF(F$23>=0,"INCREASE","DECREASE")) -> DECREASE | G24: =IF($B31="","",IF(G$23>=0,"INCREASE","DECREASE")) -> DECREASE | H24: =IF($B31="","",IF(H$23>=0,"INCREASE","DECREASE")) -> DECREASE | I24: =IF($B31="","",IF(I$23>=0,"INCREASE","DECREASE")) -> DECREASE | J24: =IF($B31="","",IF(J$23>=0,"INCREASE","DECREASE")) -> DECREASE | ... V24: =IF($B31="","",IF(V$23>=0,"INCREASE","DECREASE")) -> #N/A | AI24: Peas- Vining | AJ24: 1.5 | AK24: 3 | AL24: 22 | AM24: 6.7 | AN24: Arable
AI25: Potatoes- tubers only | AJ25: 1 | AK25: 5.8 | AL25: 23 | AM25: 6.7 | AN25: Arable
B26: Dry Matter | C26: Total Nitrogen | D26: Total Phosphorus (P) | E26: Total Potassium (K) | F26: Total Magnesium (Mg) | G26: Total Copper | H26: Total Zinc | I26: Total Lead | J26: Total Cadmium | K26: Total Mercury | L26: Total Nickel | M26: Total Chromium | N26: Total Aluminium | O26: Total Iron | P26: Total Na (Sodium) | Q26: Total Sulphur (S) | R26: Total Selenium | S26: Total Arsenic | T26: Total Mo | U26: Total Fluoride | AI26: Swedes- roots only | AJ26: 0.7 | AK26: 2.4 | AL26: 24 | AM26: 6.7 | AN26: Arable
B27: % | C27: %w/w DM | D27: %w/w DM | E27: %w/w DM | F27: %w/w DM | G27: mg/kg DM | H27: mg/kg DM | I27: mg/kg DM | J27: mg/kg DM | K27: mg/kg DM | L27: mg/kg DM | M27: mg/kg DM | P27: %w/w DM | Q27: %w/w DM | R27: mg/kg DM | S27: mg/kg DM | T27: mg/kg DM | U27: mg/kg DM
B28: 23 | C28: 5.75 | D28: 2.25 | E28: 0.316 | F28: 0.175 | G28: 60.4 | H28: 202 | I28: 4.28 | J28: 0.112 | K28: 0.1 | L28: 5.53 | M28: 9.87 | P28: 0.623 | Q28: 0.38 | R28: 0.791 | S28: 0.862 | T28: 2.04 | U28: 15.8
A29: Field Ref | B29: Application Rate | C29: Nitrogen Addition | D29: Phosphate Addition | E29: Potash Addition | F29: Mg Oxide Addition | G29: Copper Addition | H29: Zinc Addition | I29: Lead Addition | J29: Cadmium Addition | K29: Mercury Addition | L29: Nickel Addition | M29: Chromium Addition | N29: Aluminium Addition | O29: Iron Addition | P29: Sodium Addition | Q29: SO3 Addition kg/ha | R29: Selenium Addition | S29: Arsenic Addition | T29: Molybdenum Addition | U29: Fluoride Addition
B30: tonnes/ha | C30: kg/ha | D30: P2O5 kg/ha | E30: K2O kg/ha | F30: MgO kg/ha | G30: kg/ha | H30: kg/ha | I30: kg/ha | J30: kg/ha | K30: kg/ha | L30: kg/ha | M30: kg/ha | N30: kg/ha | O30: kg/ha | P30: kg/ha | Q30: kg/ha | R30: kg/ha | S30: kg/ha | T30: kg/ha | U30: kg/ha
A31: =C8 -> 2 | B31: 17 | C31: =IF(C$27="%w/w SAR",((C$28*10)*$B31),IF(C$27="%w/w DM",(((C$28*10)*($B$28/100))*$B31),IF(C$27="kg/t SAR",(C$28*$B31),IF(C$27="kg/t DM",((C$28*($B$28/100))*$B31),IF(C$27="mg/kg SAR",((C$28*0.001)*$B31),IF(C$27="mg/kg DM",(((C$28*0.001)*($B$28/100))*$B31),0)))))) -> 224.825 | D31: =(IF(D$27="%w/w SAR",((D$28*10)*$B31),IF(D$27="%w/w DM",(((D$28*10)*($B$28/100))*$B31),IF(D$27="kg/t SAR",(D$28*$B31),IF(D$27="kg/t DM",((D$28*($B$28/100))*$B31),IF(D$27="mg/kg SAR",((D$28*0.001)*$B31),IF(D$27="mg/kg DM",(((D$28*0.001)*($B$28/100))*$B31),"0")))))))*2.291 -> 201.55072 | E31: =(IF(E$27="%w/w SAR",((E$28*10)*$B31),IF(E$27="%w/w DM",(((E$28*10)*($B$28/100))*$B31),IF(E$27="kg/t SAR",(E$28*$B31),IF(E$27="kg/t DM",((E$28*($B$28/100))*$B31),IF(E$27="mg/kg SAR",((E$28*0.001)*$B31),IF(E$27="mg/kg DM",(((E$28*0.001)*($B$28/100))*$B31),"0")))))))*1.205 -> 14.888498 | F31: =(IF(F$27="%w/w SAR",((F$28*10)*$B31),IF(F$27="%w/w DM",(((F$28*10)*($B$28/100))*$B31),IF(F$27="kg/t SAR",(F$28*$B31),IF(F$27="kg/t DM",((F$28*($B$28/100))*$B31),IF(F$27="mg/kg SAR",((F$28*0.001)*$B31),IF(F$27="mg/kg DM",(((F$28*0.001)*($B$28/100))*$B31),"0")))))))*1.658 -> 11.344865 | G31: =IF(G$27="%w/w SAR",((G$28*10)*$B31),IF(G$27="%w/w DM",(((G$28*10)*($B$28/100))*$B31),IF(G$27="kg/t SAR",(G$28*$B31),IF(G$27="kg/t DM",((G$28*($B$28/100))*$B31),IF(G$27="mg/kg SAR",((G$28*0.001)*$B31),IF(G$27="mg/kg DM",(((G$28*0.001)*($B$28/100))*$B31),0)))))) -> 0.236164 | H31: =IF(H$27="%w/w SAR",((H$28*10)*$B31),IF(H$27="%w/w DM",(((H$28*10)*($B$28/100))*$B31),IF(H$27="kg/t SAR",(H$28*$B31),IF(H$27="kg/t DM",((H$28*($B$28/100))*$B31),IF(H$27="mg/kg SAR",((H$28*0.001)*$B31),IF(H$27="mg/kg DM",(((H$28*0.001)*($B$28/100))*$B31),0)))))) -> 0.78982 | I31: =IF(I$27="%w/w SAR",((I$28*10)*$B31),IF(I$27="%w/w DM",(((I$28*10)*($B$28/100))*$B31),IF(I$27="kg/t SAR",(I$28*$B31),IF(I$27="kg/t DM",((I$28*($B$28/100))*$B31),IF(I$27="mg/kg SAR",((I$28*0.001)*$B31),IF(I$27="mg/kg DM",(((I$28*0.001)*($B$28/100))*$B31),0)))))) -> 0.0167348 | J31: =IF(J$27="%w/w SAR",((J$28*10)*$B31),IF(J$27="%w/w DM",(((J$28*10)*($B$28/100))*$B31),IF(J$27="kg/t SAR",(J$28*$B31),IF(J$27="kg/t DM",((J$28*($B$28/100))*$B31),IF(J$27="mg/kg SAR",((J$28*0.001)*$B31),IF(J$27="mg/kg DM",(((J$28*0.001)*($B$28/100))*$B31),0)))))) -> 0.00043792 | K31: =IF(K$27="%w/w SAR",((K$28*10)*$B31),IF(K$27="%w/w DM",(((K$28*10)*($B$28/100))*$B31),IF(K$27="kg/t SAR",(K$28*$B31),IF(K$27="kg/t DM",((K$28*($B$28/100))*$B31),IF(K$27="mg/kg SAR",((K$28*0.001)*$B31),IF(K$27="mg/kg DM",(((K$28*0.001)*($B$28/100))*$B31),0)))))) -> 0.000391 | L31: =IF(L$27="%w/w SAR",((L$28*10)*$B31),IF(L$27="%w/w DM",(((L$28*10)*($B$28/100))*$B31),IF(L$27="kg/t SAR",(L$28*$B31),IF(L$27="kg/t DM",((L$28*($B$28/100))*$B31),IF(L$27="mg/kg SAR",((L$28*0.001)*$B31),IF(L$27="mg/kg DM",(((L$28*0.001)*($B$28/100))*$B31),0)))))) -> 0.0216223 | M31: =IF(M$27="%w/w SAR",((M$28*10)*$B31),IF(M$27="%w/w DM",(((M$28*10)*($B$28/100))*$B31),IF(M$27="kg/t SAR",(M$28*$B31),IF(M$27="kg/t DM",((M$28*($B$28/100))*$B31),IF(M$27="mg/kg SAR",((M$28*0.001)*$B31),IF(M$27="mg/kg DM",(((M$28*0.001)*($B$28/100))*$B31),0)))))) -> 0.0385917 | N31: =IF(N$27="%w/w SAR",((N$28*10)*$B31),IF(N$27="%w/w DM",(((N$28*10)*($B$28/100))*$B31),IF(N$27="kg/t SAR",(N$28*$B31),IF(N$27="kg/t DM",((N$28*($B$28/100))*$B31),IF(N$27="mg/kg SAR",((N$28*0.001)*$B31),IF(N$27="mg/kg DM",(((N$28*0.001)*($B$28/100))*$B31),0)))))) -> 0 | ... P31: =IF(P$27="%w/w SAR",((P$28*10)*$B31),IF(P$27="%w/w DM",(((P$28*10)*($B$28/100))*$B31),IF(P$27="kg/t SAR",(P$28*$B31),IF(P$27="kg/t DM",((P$28*($B$28/100))*$B31),IF(P$27="mg/kg SAR",((P$28*0.001)*$B31),IF(P$27="mg/kg DM",(((P$28*0.001)*($B$28/100))*$B31),0)))))) -> 24.3593 | Q31: =(IF(Q$27="%w/w SAR",((Q$28*10)*$B31),IF(Q$27="%w/w DM",(((Q$28*10)*($B$28/100))*$B31),IF(Q$27="kg/t SAR",(Q$28*$B31),IF(Q$27="kg/t DM",((Q$28*($B$28/100))*$B31),IF(Q$27="mg/kg SAR",((Q$28*0.001)*$B31),IF(Q$27="mg/kg DM",(((Q$28*0.001)*($B$28/100))*$B31),0)))))))*2.5 -> 37.145 | R31: =IF(R$27="%w/w SAR",((R$28*10)*$B31),IF(R$27="%w/w DM",(((R$28*10)*($B$28/100))*$B31),IF(R$27="kg/t SAR",(R$28*$B31),IF(R$27="kg/t DM",((R$28*($B$28/100))*$B31),IF(R$27="mg/kg SAR",((R$28*0.001)*$B31),IF(R$27="mg/kg DM",(((R$28*0.001)*($B$28/100))*$B31),0)))))) -> 0.00309281 | S31: =IF(S$27="%w/w SAR",((S$28*10)*$B31),IF(S$27="%w/w DM",(((S$28*10)*($B$28/100))*$B31),IF(S$27="kg/t SAR",(S$28*$B31),IF(S$27="kg/t DM",((S$28*($B$28/100))*$B31),IF(S$27="mg/kg SAR",((S$28*0.001)*$B31),IF(S$27="mg/kg DM",(((S$28*0.001)*($B$28/100))*$B31),0)))))) -> 0.00337042 | T31: =IF(T$27="%w/w SAR",((T$28*10)*$B31),IF(T$27="%w/w DM",(((T$28*10)*($B$28/100))*$B31),IF(T$27="kg/t SAR",(T$28*$B31),IF(T$27="kg/t DM",((T$28*($B$28/100))*$B31),IF(T$27="mg/kg SAR",((T$28*0.001)*$B31),IF(T$27="mg/kg DM",(((T$28*0.001)*($B$28/100))*$B31),0)))))) -> 0.0079764 | U31: =IF(U$27="%w/w SAR",((U$28*10)*$B31),IF(U$27="%w/w DM",(((U$28*10)*($B$28/100))*$B31),IF(U$27="kg/t SAR",(U$28*$B31),IF(U$27="kg/t DM",((U$28*($B$28/100))*$B31),IF(U$27="mg/kg SAR",((U$28*0.001)*$B31),IF(U$27="mg/kg DM",(((U$28*0.001)*($B$28/100))*$B31),0)))))) -> 0.061778
A32: =D8 -> 4 | B32: 17 | C32: =IF(C$27="%w/w SAR",((C$28*10)*$B32),IF(C$27="%w/w DM",(((C$28*10)*($B$28/100))*$B32),IF(C$27="kg/t SAR",(C$28*$B32),IF(C$27="kg/t DM",((C$28*($B$28/100))*$B32),IF(C$27="mg/kg SAR",((C$28*0.001)*$B32),IF(C$27="mg/kg DM",(((C$28*0.001)*($B$28/100))*$B32),0)))))) -> 224.825 | D32: =(IF(D$27="%w/w SAR",((D$28*10)*$B32),IF(D$27="%w/w DM",(((D$28*10)*($B$28/100))*$B32),IF(D$27="kg/t SAR",(D$28*$B32),IF(D$27="kg/t DM",((D$28*($B$28/100))*$B32),IF(D$27="mg/kg SAR",((D$28*0.001)*$B32),IF(D$27="mg/kg DM",(((D$28*0.001)*($B$28/100))*$B32),"0")))))))*2.291 -> 201.55072 | E32: =(IF(E$27="%w/w SAR",((E$28*10)*$B32),IF(E$27="%w/w DM",(((E$28*10)*($B$28/100))*$B32),IF(E$27="kg/t SAR",(E$28*$B32),IF(E$27="kg/t DM",((E$28*($B$28/100))*$B32),IF(E$27="mg/kg SAR",((E$28*0.001)*$B32),IF(E$27="mg/kg DM",(((E$28*0.001)*($B$28/100))*$B32),"0")))))))*1.205 -> 14.888498 | F32: =(IF(F$27="%w/w SAR",((F$28*10)*$B32),IF(F$27="%w/w DM",(((F$28*10)*($B$28/100))*$B32),IF(F$27="kg/t SAR",(F$28*$B32),IF(F$27="kg/t DM",((F$28*($B$28/100))*$B32),IF(F$27="mg/kg SAR",((F$28*0.001)*$B32),IF(F$27="mg/kg DM",(((F$28*0.001)*($B$28/100))*$B32),"0")))))))*1.658 -> 11.344865 | G32: =IF(G$27="%w/w SAR",((G$28*10)*$B32),IF(G$27="%w/w DM",(((G$28*10)*($B$28/100))*$B32),IF(G$27="kg/t SAR",(G$28*$B32),IF(G$27="kg/t DM",((G$28*($B$28/100))*$B32),IF(G$27="mg/kg SAR",((G$28*0.001)*$B32),IF(G$27="mg/kg DM",(((G$28*0.001)*($B$28/100))*$B32),0)))))) -> 0.236164 | H32: =IF(H$27="%w/w SAR",((H$28*10)*$B32),IF(H$27="%w/w DM",(((H$28*10)*($B$28/100))*$B32),IF(H$27="kg/t SAR",(H$28*$B32),IF(H$27="kg/t DM",((H$28*($B$28/100))*$B32),IF(H$27="mg/kg SAR",((H$28*0.001)*$B32),IF(H$27="mg/kg DM",(((H$28*0.001)*($B$28/100))*$B32),0)))))) -> 0.78982 | I32: =IF(I$27="%w/w SAR",((I$28*10)*$B32),IF(I$27="%w/w DM",(((I$28*10)*($B$28/100))*$B32),IF(I$27="kg/t SAR",(I$28*$B32),IF(I$27="kg/t DM",((I$28*($B$28/100))*$B32),IF(I$27="mg/kg SAR",((I$28*0.001)*$B32),IF(I$27="mg/kg DM",(((I$28*0.001)*($B$28/100))*$B32),0)))))) -> 0.0167348 | J32: =IF(J$27="%w/w SAR",((J$28*10)*$B32),IF(J$27="%w/w DM",(((J$28*10)*($B$28/100))*$B32),IF(J$27="kg/t SAR",(J$28*$B32),IF(J$27="kg/t DM",((J$28*($B$28/100))*$B32),IF(J$27="mg/kg SAR",((J$28*0.001)*$B32),IF(J$27="mg/kg DM",(((J$28*0.001)*($B$28/100))*$B32),0)))))) -> 0.00043792 | K32: =IF(K$27="%w/w SAR",((K$28*10)*$B32),IF(K$27="%w/w DM",(((K$28*10)*($B$28/100))*$B32),IF(K$27="kg/t SAR",(K$28*$B32),IF(K$27="kg/t DM",((K$28*($B$28/100))*$B32),IF(K$27="mg/kg SAR",((K$28*0.001)*$B32),IF(K$27="mg/kg DM",(((K$28*0.001)*($B$28/100))*$B32),0)))))) -> 0.000391 | L32: =IF(L$27="%w/w SAR",((L$28*10)*$B32),IF(L$27="%w/w DM",(((L$28*10)*($B$28/100))*$B32),IF(L$27="kg/t SAR",(L$28*$B32),IF(L$27="kg/t DM",((L$28*($B$28/100))*$B32),IF(L$27="mg/kg SAR",((L$28*0.001)*$B32),IF(L$27="mg/kg DM",(((L$28*0.001)*($B$28/100))*$B32),0)))))) -> 0.0216223 | M32: =IF(M$27="%w/w SAR",((M$28*10)*$B32),IF(M$27="%w/w DM",(((M$28*10)*($B$28/100))*$B32),IF(M$27="kg/t SAR",(M$28*$B32),IF(M$27="kg/t DM",((M$28*($B$28/100))*$B32),IF(M$27="mg/kg SAR",((M$28*0.001)*$B32),IF(M$27="mg/kg DM",(((M$28*0.001)*($B$28/100))*$B32),0)))))) -> 0.0385917 | N32: =IF(N$27="%w/w SAR",((N$28*10)*$B32),IF(N$27="%w/w DM",(((N$28*10)*($B$28/100))*$B32),IF(N$27="kg/t SAR",(N$28*$B32),IF(N$27="kg/t DM",((N$28*($B$28/100))*$B32),IF(N$27="mg/kg SAR",((N$28*0.001)*$B32),IF(N$27="mg/kg DM",(((N$28*0.001)*($B$28/100))*$B32),0)))))) -> 0 | ... P32: =IF(P$27="%w/w SAR",((P$28*10)*$B32),IF(P$27="%w/w DM",(((P$28*10)*($B$28/100))*$B32),IF(P$27="kg/t SAR",(P$28*$B32),IF(P$27="kg/t DM",((P$28*($B$28/100))*$B32),IF(P$27="mg/kg SAR",((P$28*0.001)*$B32),IF(P$27="mg/kg DM",(((P$28*0.001)*($B$28/100))*$B32),0)))))) -> 24.3593 | Q32: =(IF(Q$27="%w/w SAR",((Q$28*10)*$B32),IF(Q$27="%w/w DM",(((Q$28*10)*($B$28/100))*$B32),IF(Q$27="kg/t SAR",(Q$28*$B32),IF(Q$27="kg/t DM",((Q$28*($B$28/100))*$B32),IF(Q$27="mg/kg SAR",((Q$28*0.001)*$B32),IF(Q$27="mg/kg DM",(((Q$28*0.001)*($B$28/100))*$B32),0)))))))*2.5 -> 37.145 | R32: =IF(R$27="%w/w SAR",((R$28*10)*$B32),IF(R$27="%w/w DM",(((R$28*10)*($B$28/100))*$B32),IF(R$27="kg/t SAR",(R$28*$B32),IF(R$27="kg/t DM",((R$28*($B$28/100))*$B32),IF(R$27="mg/kg SAR",((R$28*0.001)*$B32),IF(R$27="mg/kg DM",(((R$28*0.001)*($B$28/100))*$B32),0)))))) -> 0.00309281 | S32: =IF(S$27="%w/w SAR",((S$28*10)*$B32),IF(S$27="%w/w DM",(((S$28*10)*($B$28/100))*$B32),IF(S$27="kg/t SAR",(S$28*$B32),IF(S$27="kg/t DM",((S$28*($B$28/100))*$B32),IF(S$27="mg/kg SAR",((S$28*0.001)*$B32),IF(S$27="mg/kg DM",(((S$28*0.001)*($B$28/100))*$B32),0)))))) -> 0.00337042 | T32: =IF(T$27="%w/w SAR",((T$28*10)*$B32),IF(T$27="%w/w DM",(((T$28*10)*($B$28/100))*$B32),IF(T$27="kg/t SAR",(T$28*$B32),IF(T$27="kg/t DM",((T$28*($B$28/100))*$B32),IF(T$27="mg/kg SAR",((T$28*0.001)*$B32),IF(T$27="mg/kg DM",(((T$28*0.001)*($B$28/100))*$B32),0)))))) -> 0.0079764 | U32: =IF(U$27="%w/w SAR",((U$28*10)*$B32),IF(U$27="%w/w DM",(((U$28*10)*($B$28/100))*$B32),IF(U$27="kg/t SAR",(U$28*$B32),IF(U$27="kg/t DM",((U$28*($B$28/100))*$B32),IF(U$27="mg/kg SAR",((U$28*0.001)*$B32),IF(U$27="mg/kg DM",(((U$28*0.001)*($B$28/100))*$B32),0)))))) -> 0.061778
A33: =E8 -> 6 | B33: 6 | C33: =IF(C$27="%w/w SAR",((C$28*10)*$B33),IF(C$27="%w/w DM",(((C$28*10)*($B$28/100))*$B33),IF(C$27="kg/t SAR",(C$28*$B33),IF(C$27="kg/t DM",((C$28*($B$28/100))*$B33),IF(C$27="mg/kg SAR",((C$28*0.001)*$B33),IF(C$27="mg/kg DM",(((C$28*0.001)*($B$28/100))*$B33),0)))))) -> 79.35 | D33: =(IF(D$27="%w/w SAR",((D$28*10)*$B33),IF(D$27="%w/w DM",(((D$28*10)*($B$28/100))*$B33),IF(D$27="kg/t SAR",(D$28*$B33),IF(D$27="kg/t DM",((D$28*($B$28/100))*$B33),IF(D$27="mg/kg SAR",((D$28*0.001)*$B33),IF(D$27="mg/kg DM",(((D$28*0.001)*($B$28/100))*$B33),"0")))))))*2.291 -> 71.13555 | E33: =(IF(E$27="%w/w SAR",((E$28*10)*$B33),IF(E$27="%w/w DM",(((E$28*10)*($B$28/100))*$B33),IF(E$27="kg/t SAR",(E$28*$B33),IF(E$27="kg/t DM",((E$28*($B$28/100))*$B33),IF(E$27="mg/kg SAR",((E$28*0.001)*$B33),IF(E$27="mg/kg DM",(((E$28*0.001)*($B$28/100))*$B33),"0")))))))*1.205 -> 5.254764 | F33: =(IF(F$27="%w/w SAR",((F$28*10)*$B33),IF(F$27="%w/w DM",(((F$28*10)*($B$28/100))*$B33),IF(F$27="kg/t SAR",(F$28*$B33),IF(F$27="kg/t DM",((F$28*($B$28/100))*$B33),IF(F$27="mg/kg SAR",((F$28*0.001)*$B33),IF(F$27="mg/kg DM",(((F$28*0.001)*($B$28/100))*$B33),"0")))))))*1.658 -> 4.00407 | G33: =IF(G$27="%w/w SAR",((G$28*10)*$B33),IF(G$27="%w/w DM",(((G$28*10)*($B$28/100))*$B33),IF(G$27="kg/t SAR",(G$28*$B33),IF(G$27="kg/t DM",((G$28*($B$28/100))*$B33),IF(G$27="mg/kg SAR",((G$28*0.001)*$B33),IF(G$27="mg/kg DM",(((G$28*0.001)*($B$28/100))*$B33),0)))))) -> 0.083352 | H33: =IF(H$27="%w/w SAR",((H$28*10)*$B33),IF(H$27="%w/w DM",(((H$28*10)*($B$28/100))*$B33),IF(H$27="kg/t SAR",(H$28*$B33),IF(H$27="kg/t DM",((H$28*($B$28/100))*$B33),IF(H$27="mg/kg SAR",((H$28*0.001)*$B33),IF(H$27="mg/kg DM",(((H$28*0.001)*($B$28/100))*$B33),0)))))) -> 0.27876 | I33: =IF(I$27="%w/w SAR",((I$28*10)*$B33),IF(I$27="%w/w DM",(((I$28*10)*($B$28/100))*$B33),IF(I$27="kg/t SAR",(I$28*$B33),IF(I$27="kg/t DM",((I$28*($B$28/100))*$B33),IF(I$27="mg/kg SAR",((I$28*0.001)*$B33),IF(I$27="mg/kg DM",(((I$28*0.001)*($B$28/100))*$B33),0)))))) -> 0.0059064 | J33: =IF(J$27="%w/w SAR",((J$28*10)*$B33),IF(J$27="%w/w DM",(((J$28*10)*($B$28/100))*$B33),IF(J$27="kg/t SAR",(J$28*$B33),IF(J$27="kg/t DM",((J$28*($B$28/100))*$B33),IF(J$27="mg/kg SAR",((J$28*0.001)*$B33),IF(J$27="mg/kg DM",(((J$28*0.001)*($B$28/100))*$B33),0)))))) -> 0.00015456 | K33: =IF(K$27="%w/w SAR",((K$28*10)*$B33),IF(K$27="%w/w DM",(((K$28*10)*($B$28/100))*$B33),IF(K$27="kg/t SAR",(K$28*$B33),IF(K$27="kg/t DM",((K$28*($B$28/100))*$B33),IF(K$27="mg/kg SAR",((K$28*0.001)*$B33),IF(K$27="mg/kg DM",(((K$28*0.001)*($B$28/100))*$B33),0)))))) -> 0.000138 | L33: =IF(L$27="%w/w SAR",((L$28*10)*$B33),IF(L$27="%w/w DM",(((L$28*10)*($B$28/100))*$B33),IF(L$27="kg/t SAR",(L$28*$B33),IF(L$27="kg/t DM",((L$28*($B$28/100))*$B33),IF(L$27="mg/kg SAR",((L$28*0.001)*$B33),IF(L$27="mg/kg DM",(((L$28*0.001)*($B$28/100))*$B33),0)))))) -> 0.0076314 | M33: =IF(M$27="%w/w SAR",((M$28*10)*$B33),IF(M$27="%w/w DM",(((M$28*10)*($B$28/100))*$B33),IF(M$27="kg/t SAR",(M$28*$B33),IF(M$27="kg/t DM",((M$28*($B$28/100))*$B33),IF(M$27="mg/kg SAR",((M$28*0.001)*$B33),IF(M$27="mg/kg DM",(((M$28*0.001)*($B$28/100))*$B33),0)))))) -> 0.0136206 | N33: =IF(N$27="%w/w SAR",((N$28*10)*$B33),IF(N$27="%w/w DM",(((N$28*10)*($B$28/100))*$B33),IF(N$27="kg/t SAR",(N$28*$B33),IF(N$27="kg/t DM",((N$28*($B$28/100))*$B33),IF(N$27="mg/kg SAR",((N$28*0.001)*$B33),IF(N$27="mg/kg DM",(((N$28*0.001)*($B$28/100))*$B33),0)))))) -> 0 | ... P33: =IF(P$27="%w/w SAR",((P$28*10)*$B33),IF(P$27="%w/w DM",(((P$28*10)*($B$28/100))*$B33),IF(P$27="kg/t SAR",(P$28*$B33),IF(P$27="kg/t DM",((P$28*($B$28/100))*$B33),IF(P$27="mg/kg SAR",((P$28*0.001)*$B33),IF(P$27="mg/kg DM",(((P$28*0.001)*($B$28/100))*$B33),0)))))) -> 8.5974 | Q33: =(IF(Q$27="%w/w SAR",((Q$28*10)*$B33),IF(Q$27="%w/w DM",(((Q$28*10)*($B$28/100))*$B33),IF(Q$27="kg/t SAR",(Q$28*$B33),IF(Q$27="kg/t DM",((Q$28*($B$28/100))*$B33),IF(Q$27="mg/kg SAR",((Q$28*0.001)*$B33),IF(Q$27="mg/kg DM",(((Q$28*0.001)*($B$28/100))*$B33),0)))))))*2.5 -> 13.11 | R33: =IF(R$27="%w/w SAR",((R$28*10)*$B33),IF(R$27="%w/w DM",(((R$28*10)*($B$28/100))*$B33),IF(R$27="kg/t SAR",(R$28*$B33),IF(R$27="kg/t DM",((R$28*($B$28/100))*$B33),IF(R$27="mg/kg SAR",((R$28*0.001)*$B33),IF(R$27="mg/kg DM",(((R$28*0.001)*($B$28/100))*$B33),0)))))) -> 0.00109158 | S33: =IF(S$27="%w/w SAR",((S$28*10)*$B33),IF(S$27="%w/w DM",(((S$28*10)*($B$28/100))*$B33),IF(S$27="kg/t SAR",(S$28*$B33),IF(S$27="kg/t DM",((S$28*($B$28/100))*$B33),IF(S$27="mg/kg SAR",((S$28*0.001)*$B33),IF(S$27="mg/kg DM",(((S$28*0.001)*($B$28/100))*$B33),0)))))) -> 0.00118956 | T33: =IF(T$27="%w/w SAR",((T$28*10)*$B33),IF(T$27="%w/w DM",(((T$28*10)*($B$28/100))*$B33),IF(T$27="kg/t SAR",(T$28*$B33),IF(T$27="kg/t DM",((T$28*($B$28/100))*$B33),IF(T$27="mg/kg SAR",((T$28*0.001)*$B33),IF(T$27="mg/kg DM",(((T$28*0.001)*($B$28/100))*$B33),0)))))) -> 0.0028152 | U33: =IF(U$27="%w/w SAR",((U$28*10)*$B33),IF(U$27="%w/w DM",(((U$28*10)*($B$28/100))*$B33),IF(U$27="kg/t SAR",(U$28*$B33),IF(U$27="kg/t DM",((U$28*($B$28/100))*$B33),IF(U$27="mg/kg SAR",((U$28*0.001)*$B33),IF(U$27="mg/kg DM",(((U$28*0.001)*($B$28/100))*$B33),0)))))) -> 0.021804
A34: =F8 -> 7 | B34: 17 | C34: =IF(C$27="%w/w SAR",((C$28*10)*$B34),IF(C$27="%w/w DM",(((C$28*10)*($B$28/100))*$B34),IF(C$27="kg/t SAR",(C$28*$B34),IF(C$27="kg/t DM",((C$28*($B$28/100))*$B34),IF(C$27="mg/kg SAR",((C$28*0.001)*$B34),IF(C$27="mg/kg DM",(((C$28*0.001)*($B$28/100))*$B34),0)))))) -> 224.825 | D34: =(IF(D$27="%w/w SAR",((D$28*10)*$B34),IF(D$27="%w/w DM",(((D$28*10)*($B$28/100))*$B34),IF(D$27="kg/t SAR",(D$28*$B34),IF(D$27="kg/t DM",((D$28*($B$28/100))*$B34),IF(D$27="mg/kg SAR",((D$28*0.001)*$B34),IF(D$27="mg/kg DM",(((D$28*0.001)*($B$28/100))*$B34),"0")))))))*2.291 -> 201.55072 | E34: =(IF(E$27="%w/w SAR",((E$28*10)*$B34),IF(E$27="%w/w DM",(((E$28*10)*($B$28/100))*$B34),IF(E$27="kg/t SAR",(E$28*$B34),IF(E$27="kg/t DM",((E$28*($B$28/100))*$B34),IF(E$27="mg/kg SAR",((E$28*0.001)*$B34),IF(E$27="mg/kg DM",(((E$28*0.001)*($B$28/100))*$B34),"0")))))))*1.205 -> 14.888498 | F34: =(IF(F$27="%w/w SAR",((F$28*10)*$B34),IF(F$27="%w/w DM",(((F$28*10)*($B$28/100))*$B34),IF(F$27="kg/t SAR",(F$28*$B34),IF(F$27="kg/t DM",((F$28*($B$28/100))*$B34),IF(F$27="mg/kg SAR",((F$28*0.001)*$B34),IF(F$27="mg/kg DM",(((F$28*0.001)*($B$28/100))*$B34),"0")))))))*1.658 -> 11.344865 | G34: =IF(G$27="%w/w SAR",((G$28*10)*$B34),IF(G$27="%w/w DM",(((G$28*10)*($B$28/100))*$B34),IF(G$27="kg/t SAR",(G$28*$B34),IF(G$27="kg/t DM",((G$28*($B$28/100))*$B34),IF(G$27="mg/kg SAR",((G$28*0.001)*$B34),IF(G$27="mg/kg DM",(((G$28*0.001)*($B$28/100))*$B34),0)))))) -> 0.236164 | H34: =IF(H$27="%w/w SAR",((H$28*10)*$B34),IF(H$27="%w/w DM",(((H$28*10)*($B$28/100))*$B34),IF(H$27="kg/t SAR",(H$28*$B34),IF(H$27="kg/t DM",((H$28*($B$28/100))*$B34),IF(H$27="mg/kg SAR",((H$28*0.001)*$B34),IF(H$27="mg/kg DM",(((H$28*0.001)*($B$28/100))*$B34),0)))))) -> 0.78982 | I34: =IF(I$27="%w/w SAR",((I$28*10)*$B34),IF(I$27="%w/w DM",(((I$28*10)*($B$28/100))*$B34),IF(I$27="kg/t SAR",(I$28*$B34),IF(I$27="kg/t DM",((I$28*($B$28/100))*$B34),IF(I$27="mg/kg SAR",((I$28*0.001)*$B34),IF(I$27="mg/kg DM",(((I$28*0.001)*($B$28/100))*$B34),0)))))) -> 0.0167348 | J34: =IF(J$27="%w/w SAR",((J$28*10)*$B34),IF(J$27="%w/w DM",(((J$28*10)*($B$28/100))*$B34),IF(J$27="kg/t SAR",(J$28*$B34),IF(J$27="kg/t DM",((J$28*($B$28/100))*$B34),IF(J$27="mg/kg SAR",((J$28*0.001)*$B34),IF(J$27="mg/kg DM",(((J$28*0.001)*($B$28/100))*$B34),0)))))) -> 0.00043792 | K34: =IF(K$27="%w/w SAR",((K$28*10)*$B34),IF(K$27="%w/w DM",(((K$28*10)*($B$28/100))*$B34),IF(K$27="kg/t SAR",(K$28*$B34),IF(K$27="kg/t DM",((K$28*($B$28/100))*$B34),IF(K$27="mg/kg SAR",((K$28*0.001)*$B34),IF(K$27="mg/kg DM",(((K$28*0.001)*($B$28/100))*$B34),0)))))) -> 0.000391 | L34: =IF(L$27="%w/w SAR",((L$28*10)*$B34),IF(L$27="%w/w DM",(((L$28*10)*($B$28/100))*$B34),IF(L$27="kg/t SAR",(L$28*$B34),IF(L$27="kg/t DM",((L$28*($B$28/100))*$B34),IF(L$27="mg/kg SAR",((L$28*0.001)*$B34),IF(L$27="mg/kg DM",(((L$28*0.001)*($B$28/100))*$B34),0)))))) -> 0.0216223 | M34: =IF(M$27="%w/w SAR",((M$28*10)*$B34),IF(M$27="%w/w DM",(((M$28*10)*($B$28/100))*$B34),IF(M$27="kg/t SAR",(M$28*$B34),IF(M$27="kg/t DM",((M$28*($B$28/100))*$B34),IF(M$27="mg/kg SAR",((M$28*0.001)*$B34),IF(M$27="mg/kg DM",(((M$28*0.001)*($B$28/100))*$B34),0)))))) -> 0.0385917 | N34: =IF(N$27="%w/w SAR",((N$28*10)*$B34),IF(N$27="%w/w DM",(((N$28*10)*($B$28/100))*$B34),IF(N$27="kg/t SAR",(N$28*$B34),IF(N$27="kg/t DM",((N$28*($B$28/100))*$B34),IF(N$27="mg/kg SAR",((N$28*0.001)*$B34),IF(N$27="mg/kg DM",(((N$28*0.001)*($B$28/100))*$B34),0)))))) -> 0 | ... P34: =IF(P$27="%w/w SAR",((P$28*10)*$B34),IF(P$27="%w/w DM",(((P$28*10)*($B$28/100))*$B34),IF(P$27="kg/t SAR",(P$28*$B34),IF(P$27="kg/t DM",((P$28*($B$28/100))*$B34),IF(P$27="mg/kg SAR",((P$28*0.001)*$B34),IF(P$27="mg/kg DM",(((P$28*0.001)*($B$28/100))*$B34),0)))))) -> 24.3593 | Q34: =(IF(Q$27="%w/w SAR",((Q$28*10)*$B34),IF(Q$27="%w/w DM",(((Q$28*10)*($B$28/100))*$B34),IF(Q$27="kg/t SAR",(Q$28*$B34),IF(Q$27="kg/t DM",((Q$28*($B$28/100))*$B34),IF(Q$27="mg/kg SAR",((Q$28*0.001)*$B34),IF(Q$27="mg/kg DM",(((Q$28*0.001)*($B$28/100))*$B34),0)))))))*2.5 -> 37.145 | R34: =IF(R$27="%w/w SAR",((R$28*10)*$B34),IF(R$27="%w/w DM",(((R$28*10)*($B$28/100))*$B34),IF(R$27="kg/t SAR",(R$28*$B34),IF(R$27="kg/t DM",((R$28*($B$28/100))*$B34),IF(R$27="mg/kg SAR",((R$28*0.001)*$B34),IF(R$27="mg/kg DM",(((R$28*0.001)*($B$28/100))*$B34),0)))))) -> 0.00309281 | S34: =IF(S$27="%w/w SAR",((S$28*10)*$B34),IF(S$27="%w/w DM",(((S$28*10)*($B$28/100))*$B34),IF(S$27="kg/t SAR",(S$28*$B34),IF(S$27="kg/t DM",((S$28*($B$28/100))*$B34),IF(S$27="mg/kg SAR",((S$28*0.001)*$B34),IF(S$27="mg/kg DM",(((S$28*0.001)*($B$28/100))*$B34),0)))))) -> 0.00337042 | T34: =IF(T$27="%w/w SAR",((T$28*10)*$B34),IF(T$27="%w/w DM",(((T$28*10)*($B$28/100))*$B34),IF(T$27="kg/t SAR",(T$28*$B34),IF(T$27="kg/t DM",((T$28*($B$28/100))*$B34),IF(T$27="mg/kg SAR",((T$28*0.001)*$B34),IF(T$27="mg/kg DM",(((T$28*0.001)*($B$28/100))*$B34),0)))))) -> 0.0079764 | U34: =IF(U$27="%w/w SAR",((U$28*10)*$B34),IF(U$27="%w/w DM",(((U$28*10)*($B$28/100))*$B34),IF(U$27="kg/t SAR",(U$28*$B34),IF(U$27="kg/t DM",((U$28*($B$28/100))*$B34),IF(U$27="mg/kg SAR",((U$28*0.001)*$B34),IF(U$27="mg/kg DM",(((U$28*0.001)*($B$28/100))*$B34),0)))))) -> 0.061778
A35: =G8 -> 8 | B35: 17 | C35: =IF(C$27="%w/w SAR",((C$28*10)*$B35),IF(C$27="%w/w DM",(((C$28*10)*($B$28/100))*$B35),IF(C$27="kg/t SAR",(C$28*$B35),IF(C$27="kg/t DM",((C$28*($B$28/100))*$B35),IF(C$27="mg/kg SAR",((C$28*0.001)*$B35),IF(C$27="mg/kg DM",(((C$28*0.001)*($B$28/100))*$B35),0)))))) -> 224.825 | D35: =(IF(D$27="%w/w SAR",((D$28*10)*$B35),IF(D$27="%w/w DM",(((D$28*10)*($B$28/100))*$B35),IF(D$27="kg/t SAR",(D$28*$B35),IF(D$27="kg/t DM",((D$28*($B$28/100))*$B35),IF(D$27="mg/kg SAR",((D$28*0.001)*$B35),IF(D$27="mg/kg DM",(((D$28*0.001)*($B$28/100))*$B35),"0")))))))*2.291 -> 201.55072 | E35: =(IF(E$27="%w/w SAR",((E$28*10)*$B35),IF(E$27="%w/w DM",(((E$28*10)*($B$28/100))*$B35),IF(E$27="kg/t SAR",(E$28*$B35),IF(E$27="kg/t DM",((E$28*($B$28/100))*$B35),IF(E$27="mg/kg SAR",((E$28*0.001)*$B35),IF(E$27="mg/kg DM",(((E$28*0.001)*($B$28/100))*$B35),"0")))))))*1.205 -> 14.888498 | F35: =(IF(F$27="%w/w SAR",((F$28*10)*$B35),IF(F$27="%w/w DM",(((F$28*10)*($B$28/100))*$B35),IF(F$27="kg/t SAR",(F$28*$B35),IF(F$27="kg/t DM",((F$28*($B$28/100))*$B35),IF(F$27="mg/kg SAR",((F$28*0.001)*$B35),IF(F$27="mg/kg DM",(((F$28*0.001)*($B$28/100))*$B35),"0")))))))*1.658 -> 11.344865 | G35: =IF(G$27="%w/w SAR",((G$28*10)*$B35),IF(G$27="%w/w DM",(((G$28*10)*($B$28/100))*$B35),IF(G$27="kg/t SAR",(G$28*$B35),IF(G$27="kg/t DM",((G$28*($B$28/100))*$B35),IF(G$27="mg/kg SAR",((G$28*0.001)*$B35),IF(G$27="mg/kg DM",(((G$28*0.001)*($B$28/100))*$B35),0)))))) -> 0.236164 | H35: =IF(H$27="%w/w SAR",((H$28*10)*$B35),IF(H$27="%w/w DM",(((H$28*10)*($B$28/100))*$B35),IF(H$27="kg/t SAR",(H$28*$B35),IF(H$27="kg/t DM",((H$28*($B$28/100))*$B35),IF(H$27="mg/kg SAR",((H$28*0.001)*$B35),IF(H$27="mg/kg DM",(((H$28*0.001)*($B$28/100))*$B35),0)))))) -> 0.78982 | I35: =IF(I$27="%w/w SAR",((I$28*10)*$B35),IF(I$27="%w/w DM",(((I$28*10)*($B$28/100))*$B35),IF(I$27="kg/t SAR",(I$28*$B35),IF(I$27="kg/t DM",((I$28*($B$28/100))*$B35),IF(I$27="mg/kg SAR",((I$28*0.001)*$B35),IF(I$27="mg/kg DM",(((I$28*0.001)*($B$28/100))*$B35),0)))))) -> 0.0167348 | J35: =IF(J$27="%w/w SAR",((J$28*10)*$B35),IF(J$27="%w/w DM",(((J$28*10)*($B$28/100))*$B35),IF(J$27="kg/t SAR",(J$28*$B35),IF(J$27="kg/t DM",((J$28*($B$28/100))*$B35),IF(J$27="mg/kg SAR",((J$28*0.001)*$B35),IF(J$27="mg/kg DM",(((J$28*0.001)*($B$28/100))*$B35),0)))))) -> 0.00043792 | K35: =IF(K$27="%w/w SAR",((K$28*10)*$B35),IF(K$27="%w/w DM",(((K$28*10)*($B$28/100))*$B35),IF(K$27="kg/t SAR",(K$28*$B35),IF(K$27="kg/t DM",((K$28*($B$28/100))*$B35),IF(K$27="mg/kg SAR",((K$28*0.001)*$B35),IF(K$27="mg/kg DM",(((K$28*0.001)*($B$28/100))*$B35),0)))))) -> 0.000391 | L35: =IF(L$27="%w/w SAR",((L$28*10)*$B35),IF(L$27="%w/w DM",(((L$28*10)*($B$28/100))*$B35),IF(L$27="kg/t SAR",(L$28*$B35),IF(L$27="kg/t DM",((L$28*($B$28/100))*$B35),IF(L$27="mg/kg SAR",((L$28*0.001)*$B35),IF(L$27="mg/kg DM",(((L$28*0.001)*($B$28/100))*$B35),0)))))) -> 0.0216223 | M35: =IF(M$27="%w/w SAR",((M$28*10)*$B35),IF(M$27="%w/w DM",(((M$28*10)*($B$28/100))*$B35),IF(M$27="kg/t SAR",(M$28*$B35),IF(M$27="kg/t DM",((M$28*($B$28/100))*$B35),IF(M$27="mg/kg SAR",((M$28*0.001)*$B35),IF(M$27="mg/kg DM",(((M$28*0.001)*($B$28/100))*$B35),0)))))) -> 0.0385917 | N35: =IF(N$27="%w/w SAR",((N$28*10)*$B35),IF(N$27="%w/w DM",(((N$28*10)*($B$28/100))*$B35),IF(N$27="kg/t SAR",(N$28*$B35),IF(N$27="kg/t DM",((N$28*($B$28/100))*$B35),IF(N$27="mg/kg SAR",((N$28*0.001)*$B35),IF(N$27="mg/kg DM",(((N$28*0.001)*($B$28/100))*$B35),0)))))) -> 0 | ... P35: =IF(P$27="%w/w SAR",((P$28*10)*$B35),IF(P$27="%w/w DM",(((P$28*10)*($B$28/100))*$B35),IF(P$27="kg/t SAR",(P$28*$B35),IF(P$27="kg/t DM",((P$28*($B$28/100))*$B35),IF(P$27="mg/kg SAR",((P$28*0.001)*$B35),IF(P$27="mg/kg DM",(((P$28*0.001)*($B$28/100))*$B35),0)))))) -> 24.3593 | Q35: =(IF(Q$27="%w/w SAR",((Q$28*10)*$B35),IF(Q$27="%w/w DM",(((Q$28*10)*($B$28/100))*$B35),IF(Q$27="kg/t SAR",(Q$28*$B35),IF(Q$27="kg/t DM",((Q$28*($B$28/100))*$B35),IF(Q$27="mg/kg SAR",((Q$28*0.001)*$B35),IF(Q$27="mg/kg DM",(((Q$28*0.001)*($B$28/100))*$B35),0)))))))*2.5 -> 37.145 | R35: =IF(R$27="%w/w SAR",((R$28*10)*$B35),IF(R$27="%w/w DM",(((R$28*10)*($B$28/100))*$B35),IF(R$27="kg/t SAR",(R$28*$B35),IF(R$27="kg/t DM",((R$28*($B$28/100))*$B35),IF(R$27="mg/kg SAR",((R$28*0.001)*$B35),IF(R$27="mg/kg DM",(((R$28*0.001)*($B$28/100))*$B35),0)))))) -> 0.00309281 | S35: =IF(S$27="%w/w SAR",((S$28*10)*$B35),IF(S$27="%w/w DM",(((S$28*10)*($B$28/100))*$B35),IF(S$27="kg/t SAR",(S$28*$B35),IF(S$27="kg/t DM",((S$28*($B$28/100))*$B35),IF(S$27="mg/kg SAR",((S$28*0.001)*$B35),IF(S$27="mg/kg DM",(((S$28*0.001)*($B$28/100))*$B35),0)))))) -> 0.00337042 | T35: =IF(T$27="%w/w SAR",((T$28*10)*$B35),IF(T$27="%w/w DM",(((T$28*10)*($B$28/100))*$B35),IF(T$27="kg/t SAR",(T$28*$B35),IF(T$27="kg/t DM",((T$28*($B$28/100))*$B35),IF(T$27="mg/kg SAR",((T$28*0.001)*$B35),IF(T$27="mg/kg DM",(((T$28*0.001)*($B$28/100))*$B35),0)))))) -> 0.0079764 | U35: =IF(U$27="%w/w SAR",((U$28*10)*$B35),IF(U$27="%w/w DM",(((U$28*10)*($B$28/100))*$B35),IF(U$27="kg/t SAR",(U$28*$B35),IF(U$27="kg/t DM",((U$28*($B$28/100))*$B35),IF(U$27="mg/kg SAR",((U$28*0.001)*$B35),IF(U$27="mg/kg DM",(((U$28*0.001)*($B$28/100))*$B35),0)))))) -> 0.061778
A36: =H8 -> 9 | B36: 17 | C36: =IF(C$27="%w/w SAR",((C$28*10)*$B36),IF(C$27="%w/w DM",(((C$28*10)*($B$28/100))*$B36),IF(C$27="kg/t SAR",(C$28*$B36),IF(C$27="kg/t DM",((C$28*($B$28/100))*$B36),IF(C$27="mg/kg SAR",((C$28*0.001)*$B36),IF(C$27="mg/kg DM",(((C$28*0.001)*($B$28/100))*$B36),0)))))) -> 224.825 | D36: =(IF(D$27="%w/w SAR",((D$28*10)*$B36),IF(D$27="%w/w DM",(((D$28*10)*($B$28/100))*$B36),IF(D$27="kg/t SAR",(D$28*$B36),IF(D$27="kg/t DM",((D$28*($B$28/100))*$B36),IF(D$27="mg/kg SAR",((D$28*0.001)*$B36),IF(D$27="mg/kg DM",(((D$28*0.001)*($B$28/100))*$B36),"0")))))))*2.291 -> 201.55072 | E36: =(IF(E$27="%w/w SAR",((E$28*10)*$B36),IF(E$27="%w/w DM",(((E$28*10)*($B$28/100))*$B36),IF(E$27="kg/t SAR",(E$28*$B36),IF(E$27="kg/t DM",((E$28*($B$28/100))*$B36),IF(E$27="mg/kg SAR",((E$28*0.001)*$B36),IF(E$27="mg/kg DM",(((E$28*0.001)*($B$28/100))*$B36),"0")))))))*1.205 -> 14.888498 | F36: =(IF(F$27="%w/w SAR",((F$28*10)*$B36),IF(F$27="%w/w DM",(((F$28*10)*($B$28/100))*$B36),IF(F$27="kg/t SAR",(F$28*$B36),IF(F$27="kg/t DM",((F$28*($B$28/100))*$B36),IF(F$27="mg/kg SAR",((F$28*0.001)*$B36),IF(F$27="mg/kg DM",(((F$28*0.001)*($B$28/100))*$B36),"0")))))))*1.658 -> 11.344865 | G36: =IF(G$27="%w/w SAR",((G$28*10)*$B36),IF(G$27="%w/w DM",(((G$28*10)*($B$28/100))*$B36),IF(G$27="kg/t SAR",(G$28*$B36),IF(G$27="kg/t DM",((G$28*($B$28/100))*$B36),IF(G$27="mg/kg SAR",((G$28*0.001)*$B36),IF(G$27="mg/kg DM",(((G$28*0.001)*($B$28/100))*$B36),0)))))) -> 0.236164 | H36: =IF(H$27="%w/w SAR",((H$28*10)*$B36),IF(H$27="%w/w DM",(((H$28*10)*($B$28/100))*$B36),IF(H$27="kg/t SAR",(H$28*$B36),IF(H$27="kg/t DM",((H$28*($B$28/100))*$B36),IF(H$27="mg/kg SAR",((H$28*0.001)*$B36),IF(H$27="mg/kg DM",(((H$28*0.001)*($B$28/100))*$B36),0)))))) -> 0.78982 | I36: =IF(I$27="%w/w SAR",((I$28*10)*$B36),IF(I$27="%w/w DM",(((I$28*10)*($B$28/100))*$B36),IF(I$27="kg/t SAR",(I$28*$B36),IF(I$27="kg/t DM",((I$28*($B$28/100))*$B36),IF(I$27="mg/kg SAR",((I$28*0.001)*$B36),IF(I$27="mg/kg DM",(((I$28*0.001)*($B$28/100))*$B36),0)))))) -> 0.0167348 | J36: =IF(J$27="%w/w SAR",((J$28*10)*$B36),IF(J$27="%w/w DM",(((J$28*10)*($B$28/100))*$B36),IF(J$27="kg/t SAR",(J$28*$B36),IF(J$27="kg/t DM",((J$28*($B$28/100))*$B36),IF(J$27="mg/kg SAR",((J$28*0.001)*$B36),IF(J$27="mg/kg DM",(((J$28*0.001)*($B$28/100))*$B36),0)))))) -> 0.00043792 | K36: =IF(K$27="%w/w SAR",((K$28*10)*$B36),IF(K$27="%w/w DM",(((K$28*10)*($B$28/100))*$B36),IF(K$27="kg/t SAR",(K$28*$B36),IF(K$27="kg/t DM",((K$28*($B$28/100))*$B36),IF(K$27="mg/kg SAR",((K$28*0.001)*$B36),IF(K$27="mg/kg DM",(((K$28*0.001)*($B$28/100))*$B36),0)))))) -> 0.000391 | L36: =IF(L$27="%w/w SAR",((L$28*10)*$B36),IF(L$27="%w/w DM",(((L$28*10)*($B$28/100))*$B36),IF(L$27="kg/t SAR",(L$28*$B36),IF(L$27="kg/t DM",((L$28*($B$28/100))*$B36),IF(L$27="mg/kg SAR",((L$28*0.001)*$B36),IF(L$27="mg/kg DM",(((L$28*0.001)*($B$28/100))*$B36),0)))))) -> 0.0216223 | M36: =IF(M$27="%w/w SAR",((M$28*10)*$B36),IF(M$27="%w/w DM",(((M$28*10)*($B$28/100))*$B36),IF(M$27="kg/t SAR",(M$28*$B36),IF(M$27="kg/t DM",((M$28*($B$28/100))*$B36),IF(M$27="mg/kg SAR",((M$28*0.001)*$B36),IF(M$27="mg/kg DM",(((M$28*0.001)*($B$28/100))*$B36),0)))))) -> 0.0385917 | N36: =IF(N$27="%w/w SAR",((N$28*10)*$B36),IF(N$27="%w/w DM",(((N$28*10)*($B$28/100))*$B36),IF(N$27="kg/t SAR",(N$28*$B36),IF(N$27="kg/t DM",((N$28*($B$28/100))*$B36),IF(N$27="mg/kg SAR",((N$28*0.001)*$B36),IF(N$27="mg/kg DM",(((N$28*0.001)*($B$28/100))*$B36),0)))))) -> 0 | ... P36: =IF(P$27="%w/w SAR",((P$28*10)*$B36),IF(P$27="%w/w DM",(((P$28*10)*($B$28/100))*$B36),IF(P$27="kg/t SAR",(P$28*$B36),IF(P$27="kg/t DM",((P$28*($B$28/100))*$B36),IF(P$27="mg/kg SAR",((P$28*0.001)*$B36),IF(P$27="mg/kg DM",(((P$28*0.001)*($B$28/100))*$B36),0)))))) -> 24.3593 | Q36: =(IF(Q$27="%w/w SAR",((Q$28*10)*$B36),IF(Q$27="%w/w DM",(((Q$28*10)*($B$28/100))*$B36),IF(Q$27="kg/t SAR",(Q$28*$B36),IF(Q$27="kg/t DM",((Q$28*($B$28/100))*$B36),IF(Q$27="mg/kg SAR",((Q$28*0.001)*$B36),IF(Q$27="mg/kg DM",(((Q$28*0.001)*($B$28/100))*$B36),0)))))))*2.5 -> 37.145 | R36: =IF(R$27="%w/w SAR",((R$28*10)*$B36),IF(R$27="%w/w DM",(((R$28*10)*($B$28/100))*$B36),IF(R$27="kg/t SAR",(R$28*$B36),IF(R$27="kg/t DM",((R$28*($B$28/100))*$B36),IF(R$27="mg/kg SAR",((R$28*0.001)*$B36),IF(R$27="mg/kg DM",(((R$28*0.001)*($B$28/100))*$B36),0)))))) -> 0.00309281 | S36: =IF(S$27="%w/w SAR",((S$28*10)*$B36),IF(S$27="%w/w DM",(((S$28*10)*($B$28/100))*$B36),IF(S$27="kg/t SAR",(S$28*$B36),IF(S$27="kg/t DM",((S$28*($B$28/100))*$B36),IF(S$27="mg/kg SAR",((S$28*0.001)*$B36),IF(S$27="mg/kg DM",(((S$28*0.001)*($B$28/100))*$B36),0)))))) -> 0.00337042 | T36: =IF(T$27="%w/w SAR",((T$28*10)*$B36),IF(T$27="%w/w DM",(((T$28*10)*($B$28/100))*$B36),IF(T$27="kg/t SAR",(T$28*$B36),IF(T$27="kg/t DM",((T$28*($B$28/100))*$B36),IF(T$27="mg/kg SAR",((T$28*0.001)*$B36),IF(T$27="mg/kg DM",(((T$28*0.001)*($B$28/100))*$B36),0)))))) -> 0.0079764 | U36: =IF(U$27="%w/w SAR",((U$28*10)*$B36),IF(U$27="%w/w DM",(((U$28*10)*($B$28/100))*$B36),IF(U$27="kg/t SAR",(U$28*$B36),IF(U$27="kg/t DM",((U$28*($B$28/100))*$B36),IF(U$27="mg/kg SAR",((U$28*0.001)*$B36),IF(U$27="mg/kg DM",(((U$28*0.001)*($B$28/100))*$B36),0)))))) -> 0.061778
A37: =I8 -> 10 | B37: 17 | C37: =IF(C$27="%w/w SAR",((C$28*10)*$B37),IF(C$27="%w/w DM",(((C$28*10)*($B$28/100))*$B37),IF(C$27="kg/t SAR",(C$28*$B37),IF(C$27="kg/t DM",((C$28*($B$28/100))*$B37),IF(C$27="mg/kg SAR",((C$28*0.001)*$B37),IF(C$27="mg/kg DM",(((C$28*0.001)*($B$28/100))*$B37),0)))))) -> 224.825 | D37: =(IF(D$27="%w/w SAR",((D$28*10)*$B37),IF(D$27="%w/w DM",(((D$28*10)*($B$28/100))*$B37),IF(D$27="kg/t SAR",(D$28*$B37),IF(D$27="kg/t DM",((D$28*($B$28/100))*$B37),IF(D$27="mg/kg SAR",((D$28*0.001)*$B37),IF(D$27="mg/kg DM",(((D$28*0.001)*($B$28/100))*$B37),"0")))))))*2.291 -> 201.55072 | E37: =(IF(E$27="%w/w SAR",((E$28*10)*$B37),IF(E$27="%w/w DM",(((E$28*10)*($B$28/100))*$B37),IF(E$27="kg/t SAR",(E$28*$B37),IF(E$27="kg/t DM",((E$28*($B$28/100))*$B37),IF(E$27="mg/kg SAR",((E$28*0.001)*$B37),IF(E$27="mg/kg DM",(((E$28*0.001)*($B$28/100))*$B37),"0")))))))*1.205 -> 14.888498 | F37: =(IF(F$27="%w/w SAR",((F$28*10)*$B37),IF(F$27="%w/w DM",(((F$28*10)*($B$28/100))*$B37),IF(F$27="kg/t SAR",(F$28*$B37),IF(F$27="kg/t DM",((F$28*($B$28/100))*$B37),IF(F$27="mg/kg SAR",((F$28*0.001)*$B37),IF(F$27="mg/kg DM",(((F$28*0.001)*($B$28/100))*$B37),"0")))))))*1.658 -> 11.344865 | G37: =IF(G$27="%w/w SAR",((G$28*10)*$B37),IF(G$27="%w/w DM",(((G$28*10)*($B$28/100))*$B37),IF(G$27="kg/t SAR",(G$28*$B37),IF(G$27="kg/t DM",((G$28*($B$28/100))*$B37),IF(G$27="mg/kg SAR",((G$28*0.001)*$B37),IF(G$27="mg/kg DM",(((G$28*0.001)*($B$28/100))*$B37),0)))))) -> 0.236164 | H37: =IF(H$27="%w/w SAR",((H$28*10)*$B37),IF(H$27="%w/w DM",(((H$28*10)*($B$28/100))*$B37),IF(H$27="kg/t SAR",(H$28*$B37),IF(H$27="kg/t DM",((H$28*($B$28/100))*$B37),IF(H$27="mg/kg SAR",((H$28*0.001)*$B37),IF(H$27="mg/kg DM",(((H$28*0.001)*($B$28/100))*$B37),0)))))) -> 0.78982 | I37: =IF(I$27="%w/w SAR",((I$28*10)*$B37),IF(I$27="%w/w DM",(((I$28*10)*($B$28/100))*$B37),IF(I$27="kg/t SAR",(I$28*$B37),IF(I$27="kg/t DM",((I$28*($B$28/100))*$B37),IF(I$27="mg/kg SAR",((I$28*0.001)*$B37),IF(I$27="mg/kg DM",(((I$28*0.001)*($B$28/100))*$B37),0)))))) -> 0.0167348 | J37: =IF(J$27="%w/w SAR",((J$28*10)*$B37),IF(J$27="%w/w DM",(((J$28*10)*($B$28/100))*$B37),IF(J$27="kg/t SAR",(J$28*$B37),IF(J$27="kg/t DM",((J$28*($B$28/100))*$B37),IF(J$27="mg/kg SAR",((J$28*0.001)*$B37),IF(J$27="mg/kg DM",(((J$28*0.001)*($B$28/100))*$B37),0)))))) -> 0.00043792 | K37: =IF(K$27="%w/w SAR",((K$28*10)*$B37),IF(K$27="%w/w DM",(((K$28*10)*($B$28/100))*$B37),IF(K$27="kg/t SAR",(K$28*$B37),IF(K$27="kg/t DM",((K$28*($B$28/100))*$B37),IF(K$27="mg/kg SAR",((K$28*0.001)*$B37),IF(K$27="mg/kg DM",(((K$28*0.001)*($B$28/100))*$B37),0)))))) -> 0.000391 | L37: =IF(L$27="%w/w SAR",((L$28*10)*$B37),IF(L$27="%w/w DM",(((L$28*10)*($B$28/100))*$B37),IF(L$27="kg/t SAR",(L$28*$B37),IF(L$27="kg/t DM",((L$28*($B$28/100))*$B37),IF(L$27="mg/kg SAR",((L$28*0.001)*$B37),IF(L$27="mg/kg DM",(((L$28*0.001)*($B$28/100))*$B37),0)))))) -> 0.0216223 | M37: =IF(M$27="%w/w SAR",((M$28*10)*$B37),IF(M$27="%w/w DM",(((M$28*10)*($B$28/100))*$B37),IF(M$27="kg/t SAR",(M$28*$B37),IF(M$27="kg/t DM",((M$28*($B$28/100))*$B37),IF(M$27="mg/kg SAR",((M$28*0.001)*$B37),IF(M$27="mg/kg DM",(((M$28*0.001)*($B$28/100))*$B37),0)))))) -> 0.0385917 | N37: =IF(N$27="%w/w SAR",((N$28*10)*$B37),IF(N$27="%w/w DM",(((N$28*10)*($B$28/100))*$B37),IF(N$27="kg/t SAR",(N$28*$B37),IF(N$27="kg/t DM",((N$28*($B$28/100))*$B37),IF(N$27="mg/kg SAR",((N$28*0.001)*$B37),IF(N$27="mg/kg DM",(((N$28*0.001)*($B$28/100))*$B37),0)))))) -> 0 | ... P37: =IF(P$27="%w/w SAR",((P$28*10)*$B37),IF(P$27="%w/w DM",(((P$28*10)*($B$28/100))*$B37),IF(P$27="kg/t SAR",(P$28*$B37),IF(P$27="kg/t DM",((P$28*($B$28/100))*$B37),IF(P$27="mg/kg SAR",((P$28*0.001)*$B37),IF(P$27="mg/kg DM",(((P$28*0.001)*($B$28/100))*$B37),0)))))) -> 24.3593 | Q37: =(IF(Q$27="%w/w SAR",((Q$28*10)*$B37),IF(Q$27="%w/w DM",(((Q$28*10)*($B$28/100))*$B37),IF(Q$27="kg/t SAR",(Q$28*$B37),IF(Q$27="kg/t DM",((Q$28*($B$28/100))*$B37),IF(Q$27="mg/kg SAR",((Q$28*0.001)*$B37),IF(Q$27="mg/kg DM",(((Q$28*0.001)*($B$28/100))*$B37),0)))))))*2.5 -> 37.145 | R37: =IF(R$27="%w/w SAR",((R$28*10)*$B37),IF(R$27="%w/w DM",(((R$28*10)*($B$28/100))*$B37),IF(R$27="kg/t SAR",(R$28*$B37),IF(R$27="kg/t DM",((R$28*($B$28/100))*$B37),IF(R$27="mg/kg SAR",((R$28*0.001)*$B37),IF(R$27="mg/kg DM",(((R$28*0.001)*($B$28/100))*$B37),0)))))) -> 0.00309281 | S37: =IF(S$27="%w/w SAR",((S$28*10)*$B37),IF(S$27="%w/w DM",(((S$28*10)*($B$28/100))*$B37),IF(S$27="kg/t SAR",(S$28*$B37),IF(S$27="kg/t DM",((S$28*($B$28/100))*$B37),IF(S$27="mg/kg SAR",((S$28*0.001)*$B37),IF(S$27="mg/kg DM",(((S$28*0.001)*($B$28/100))*$B37),0)))))) -> 0.00337042 | T37: =IF(T$27="%w/w SAR",((T$28*10)*$B37),IF(T$27="%w/w DM",(((T$28*10)*($B$28/100))*$B37),IF(T$27="kg/t SAR",(T$28*$B37),IF(T$27="kg/t DM",((T$28*($B$28/100))*$B37),IF(T$27="mg/kg SAR",((T$28*0.001)*$B37),IF(T$27="mg/kg DM",(((T$28*0.001)*($B$28/100))*$B37),0)))))) -> 0.0079764 | U37: =IF(U$27="%w/w SAR",((U$28*10)*$B37),IF(U$27="%w/w DM",(((U$28*10)*($B$28/100))*$B37),IF(U$27="kg/t SAR",(U$28*$B37),IF(U$27="kg/t DM",((U$28*($B$28/100))*$B37),IF(U$27="mg/kg SAR",((U$28*0.001)*$B37),IF(U$27="mg/kg DM",(((U$28*0.001)*($B$28/100))*$B37),0)))))) -> 0.061778
A38: =J8 -> 12 | B38: 17 | C38: =IF(C$27="%w/w SAR",((C$28*10)*$B38),IF(C$27="%w/w DM",(((C$28*10)*($B$28/100))*$B38),IF(C$27="kg/t SAR",(C$28*$B38),IF(C$27="kg/t DM",((C$28*($B$28/100))*$B38),IF(C$27="mg/kg SAR",((C$28*0.001)*$B38),IF(C$27="mg/kg DM",(((C$28*0.001)*($B$28/100))*$B38),0)))))) -> 224.825 | D38: =(IF(D$27="%w/w SAR",((D$28*10)*$B38),IF(D$27="%w/w DM",(((D$28*10)*($B$28/100))*$B38),IF(D$27="kg/t SAR",(D$28*$B38),IF(D$27="kg/t DM",((D$28*($B$28/100))*$B38),IF(D$27="mg/kg SAR",((D$28*0.001)*$B38),IF(D$27="mg/kg DM",(((D$28*0.001)*($B$28/100))*$B38),"0")))))))*2.291 -> 201.55072 | E38: =(IF(E$27="%w/w SAR",((E$28*10)*$B38),IF(E$27="%w/w DM",(((E$28*10)*($B$28/100))*$B38),IF(E$27="kg/t SAR",(E$28*$B38),IF(E$27="kg/t DM",((E$28*($B$28/100))*$B38),IF(E$27="mg/kg SAR",((E$28*0.001)*$B38),IF(E$27="mg/kg DM",(((E$28*0.001)*($B$28/100))*$B38),"0")))))))*1.205 -> 14.888498 | F38: =(IF(F$27="%w/w SAR",((F$28*10)*$B38),IF(F$27="%w/w DM",(((F$28*10)*($B$28/100))*$B38),IF(F$27="kg/t SAR",(F$28*$B38),IF(F$27="kg/t DM",((F$28*($B$28/100))*$B38),IF(F$27="mg/kg SAR",((F$28*0.001)*$B38),IF(F$27="mg/kg DM",(((F$28*0.001)*($B$28/100))*$B38),"0")))))))*1.658 -> 11.344865 | G38: =IF(G$27="%w/w SAR",((G$28*10)*$B38),IF(G$27="%w/w DM",(((G$28*10)*($B$28/100))*$B38),IF(G$27="kg/t SAR",(G$28*$B38),IF(G$27="kg/t DM",((G$28*($B$28/100))*$B38),IF(G$27="mg/kg SAR",((G$28*0.001)*$B38),IF(G$27="mg/kg DM",(((G$28*0.001)*($B$28/100))*$B38),0)))))) -> 0.236164 | H38: =IF(H$27="%w/w SAR",((H$28*10)*$B38),IF(H$27="%w/w DM",(((H$28*10)*($B$28/100))*$B38),IF(H$27="kg/t SAR",(H$28*$B38),IF(H$27="kg/t DM",((H$28*($B$28/100))*$B38),IF(H$27="mg/kg SAR",((H$28*0.001)*$B38),IF(H$27="mg/kg DM",(((H$28*0.001)*($B$28/100))*$B38),0)))))) -> 0.78982 | I38: =IF(I$27="%w/w SAR",((I$28*10)*$B38),IF(I$27="%w/w DM",(((I$28*10)*($B$28/100))*$B38),IF(I$27="kg/t SAR",(I$28*$B38),IF(I$27="kg/t DM",((I$28*($B$28/100))*$B38),IF(I$27="mg/kg SAR",((I$28*0.001)*$B38),IF(I$27="mg/kg DM",(((I$28*0.001)*($B$28/100))*$B38),0)))))) -> 0.0167348 | J38: =IF(J$27="%w/w SAR",((J$28*10)*$B38),IF(J$27="%w/w DM",(((J$28*10)*($B$28/100))*$B38),IF(J$27="kg/t SAR",(J$28*$B38),IF(J$27="kg/t DM",((J$28*($B$28/100))*$B38),IF(J$27="mg/kg SAR",((J$28*0.001)*$B38),IF(J$27="mg/kg DM",(((J$28*0.001)*($B$28/100))*$B38),0)))))) -> 0.00043792 | K38: =IF(K$27="%w/w SAR",((K$28*10)*$B38),IF(K$27="%w/w DM",(((K$28*10)*($B$28/100))*$B38),IF(K$27="kg/t SAR",(K$28*$B38),IF(K$27="kg/t DM",((K$28*($B$28/100))*$B38),IF(K$27="mg/kg SAR",((K$28*0.001)*$B38),IF(K$27="mg/kg DM",(((K$28*0.001)*($B$28/100))*$B38),0)))))) -> 0.000391 | L38: =IF(L$27="%w/w SAR",((L$28*10)*$B38),IF(L$27="%w/w DM",(((L$28*10)*($B$28/100))*$B38),IF(L$27="kg/t SAR",(L$28*$B38),IF(L$27="kg/t DM",((L$28*($B$28/100))*$B38),IF(L$27="mg/kg SAR",((L$28*0.001)*$B38),IF(L$27="mg/kg DM",(((L$28*0.001)*($B$28/100))*$B38),0)))))) -> 0.0216223 | M38: =IF(M$27="%w/w SAR",((M$28*10)*$B38),IF(M$27="%w/w DM",(((M$28*10)*($B$28/100))*$B38),IF(M$27="kg/t SAR",(M$28*$B38),IF(M$27="kg/t DM",((M$28*($B$28/100))*$B38),IF(M$27="mg/kg SAR",((M$28*0.001)*$B38),IF(M$27="mg/kg DM",(((M$28*0.001)*($B$28/100))*$B38),0)))))) -> 0.0385917 | N38: =IF(N$27="%w/w SAR",((N$28*10)*$B38),IF(N$27="%w/w DM",(((N$28*10)*($B$28/100))*$B38),IF(N$27="kg/t SAR",(N$28*$B38),IF(N$27="kg/t DM",((N$28*($B$28/100))*$B38),IF(N$27="mg/kg SAR",((N$28*0.001)*$B38),IF(N$27="mg/kg DM",(((N$28*0.001)*($B$28/100))*$B38),0)))))) -> 0 | ... P38: =IF(P$27="%w/w SAR",((P$28*10)*$B38),IF(P$27="%w/w DM",(((P$28*10)*($B$28/100))*$B38),IF(P$27="kg/t SAR",(P$28*$B38),IF(P$27="kg/t DM",((P$28*($B$28/100))*$B38),IF(P$27="mg/kg SAR",((P$28*0.001)*$B38),IF(P$27="mg/kg DM",(((P$28*0.001)*($B$28/100))*$B38),0)))))) -> 24.3593 | Q38: =(IF(Q$27="%w/w SAR",((Q$28*10)*$B38),IF(Q$27="%w/w DM",(((Q$28*10)*($B$28/100))*$B38),IF(Q$27="kg/t SAR",(Q$28*$B38),IF(Q$27="kg/t DM",((Q$28*($B$28/100))*$B38),IF(Q$27="mg/kg SAR",((Q$28*0.001)*$B38),IF(Q$27="mg/kg DM",(((Q$28*0.001)*($B$28/100))*$B38),0)))))))*2.5 -> 37.145 | R38: =IF(R$27="%w/w SAR",((R$28*10)*$B38),IF(R$27="%w/w DM",(((R$28*10)*($B$28/100))*$B38),IF(R$27="kg/t SAR",(R$28*$B38),IF(R$27="kg/t DM",((R$28*($B$28/100))*$B38),IF(R$27="mg/kg SAR",((R$28*0.001)*$B38),IF(R$27="mg/kg DM",(((R$28*0.001)*($B$28/100))*$B38),0)))))) -> 0.00309281 | S38: =IF(S$27="%w/w SAR",((S$28*10)*$B38),IF(S$27="%w/w DM",(((S$28*10)*($B$28/100))*$B38),IF(S$27="kg/t SAR",(S$28*$B38),IF(S$27="kg/t DM",((S$28*($B$28/100))*$B38),IF(S$27="mg/kg SAR",((S$28*0.001)*$B38),IF(S$27="mg/kg DM",(((S$28*0.001)*($B$28/100))*$B38),0)))))) -> 0.00337042 | T38: =IF(T$27="%w/w SAR",((T$28*10)*$B38),IF(T$27="%w/w DM",(((T$28*10)*($B$28/100))*$B38),IF(T$27="kg/t SAR",(T$28*$B38),IF(T$27="kg/t DM",((T$28*($B$28/100))*$B38),IF(T$27="mg/kg SAR",((T$28*0.001)*$B38),IF(T$27="mg/kg DM",(((T$28*0.001)*($B$28/100))*$B38),0)))))) -> 0.0079764 | U38: =IF(U$27="%w/w SAR",((U$28*10)*$B38),IF(U$27="%w/w DM",(((U$28*10)*($B$28/100))*$B38),IF(U$27="kg/t SAR",(U$28*$B38),IF(U$27="kg/t DM",((U$28*($B$28/100))*$B38),IF(U$27="mg/kg SAR",((U$28*0.001)*$B38),IF(U$27="mg/kg DM",(((U$28*0.001)*($B$28/100))*$B38),0)))))) -> 0.061778
A39: =K8 -> 13 | B39: 17 | C39: =IF(C$27="%w/w SAR",((C$28*10)*$B39),IF(C$27="%w/w DM",(((C$28*10)*($B$28/100))*$B39),IF(C$27="kg/t SAR",(C$28*$B39),IF(C$27="kg/t DM",((C$28*($B$28/100))*$B39),IF(C$27="mg/kg SAR",((C$28*0.001)*$B39),IF(C$27="mg/kg DM",(((C$28*0.001)*($B$28/100))*$B39),0)))))) -> 224.825 | D39: =(IF(D$27="%w/w SAR",((D$28*10)*$B39),IF(D$27="%w/w DM",(((D$28*10)*($B$28/100))*$B39),IF(D$27="kg/t SAR",(D$28*$B39),IF(D$27="kg/t DM",((D$28*($B$28/100))*$B39),IF(D$27="mg/kg SAR",((D$28*0.001)*$B39),IF(D$27="mg/kg DM",(((D$28*0.001)*($B$28/100))*$B39),"0")))))))*2.291 -> 201.55072 | E39: =(IF(E$27="%w/w SAR",((E$28*10)*$B39),IF(E$27="%w/w DM",(((E$28*10)*($B$28/100))*$B39),IF(E$27="kg/t SAR",(E$28*$B39),IF(E$27="kg/t DM",((E$28*($B$28/100))*$B39),IF(E$27="mg/kg SAR",((E$28*0.001)*$B39),IF(E$27="mg/kg DM",(((E$28*0.001)*($B$28/100))*$B39),"0")))))))*1.205 -> 14.888498 | F39: =(IF(F$27="%w/w SAR",((F$28*10)*$B39),IF(F$27="%w/w DM",(((F$28*10)*($B$28/100))*$B39),IF(F$27="kg/t SAR",(F$28*$B39),IF(F$27="kg/t DM",((F$28*($B$28/100))*$B39),IF(F$27="mg/kg SAR",((F$28*0.001)*$B39),IF(F$27="mg/kg DM",(((F$28*0.001)*($B$28/100))*$B39),"0")))))))*1.658 -> 11.344865 | G39: =IF(G$27="%w/w SAR",((G$28*10)*$B39),IF(G$27="%w/w DM",(((G$28*10)*($B$28/100))*$B39),IF(G$27="kg/t SAR",(G$28*$B39),IF(G$27="kg/t DM",((G$28*($B$28/100))*$B39),IF(G$27="mg/kg SAR",((G$28*0.001)*$B39),IF(G$27="mg/kg DM",(((G$28*0.001)*($B$28/100))*$B39),0)))))) -> 0.236164 | H39: =IF(H$27="%w/w SAR",((H$28*10)*$B39),IF(H$27="%w/w DM",(((H$28*10)*($B$28/100))*$B39),IF(H$27="kg/t SAR",(H$28*$B39),IF(H$27="kg/t DM",((H$28*($B$28/100))*$B39),IF(H$27="mg/kg SAR",((H$28*0.001)*$B39),IF(H$27="mg/kg DM",(((H$28*0.001)*($B$28/100))*$B39),0)))))) -> 0.78982 | I39: =IF(I$27="%w/w SAR",((I$28*10)*$B39),IF(I$27="%w/w DM",(((I$28*10)*($B$28/100))*$B39),IF(I$27="kg/t SAR",(I$28*$B39),IF(I$27="kg/t DM",((I$28*($B$28/100))*$B39),IF(I$27="mg/kg SAR",((I$28*0.001)*$B39),IF(I$27="mg/kg DM",(((I$28*0.001)*($B$28/100))*$B39),0)))))) -> 0.0167348 | J39: =IF(J$27="%w/w SAR",((J$28*10)*$B39),IF(J$27="%w/w DM",(((J$28*10)*($B$28/100))*$B39),IF(J$27="kg/t SAR",(J$28*$B39),IF(J$27="kg/t DM",((J$28*($B$28/100))*$B39),IF(J$27="mg/kg SAR",((J$28*0.001)*$B39),IF(J$27="mg/kg DM",(((J$28*0.001)*($B$28/100))*$B39),0)))))) -> 0.00043792 | K39: =IF(K$27="%w/w SAR",((K$28*10)*$B39),IF(K$27="%w/w DM",(((K$28*10)*($B$28/100))*$B39),IF(K$27="kg/t SAR",(K$28*$B39),IF(K$27="kg/t DM",((K$28*($B$28/100))*$B39),IF(K$27="mg/kg SAR",((K$28*0.001)*$B39),IF(K$27="mg/kg DM",(((K$28*0.001)*($B$28/100))*$B39),0)))))) -> 0.000391 | L39: =IF(L$27="%w/w SAR",((L$28*10)*$B39),IF(L$27="%w/w DM",(((L$28*10)*($B$28/100))*$B39),IF(L$27="kg/t SAR",(L$28*$B39),IF(L$27="kg/t DM",((L$28*($B$28/100))*$B39),IF(L$27="mg/kg SAR",((L$28*0.001)*$B39),IF(L$27="mg/kg DM",(((L$28*0.001)*($B$28/100))*$B39),0)))))) -> 0.0216223 | M39: =IF(M$27="%w/w SAR",((M$28*10)*$B39),IF(M$27="%w/w DM",(((M$28*10)*($B$28/100))*$B39),IF(M$27="kg/t SAR",(M$28*$B39),IF(M$27="kg/t DM",((M$28*($B$28/100))*$B39),IF(M$27="mg/kg SAR",((M$28*0.001)*$B39),IF(M$27="mg/kg DM",(((M$28*0.001)*($B$28/100))*$B39),0)))))) -> 0.0385917 | N39: =IF(N$27="%w/w SAR",((N$28*10)*$B39),IF(N$27="%w/w DM",(((N$28*10)*($B$28/100))*$B39),IF(N$27="kg/t SAR",(N$28*$B39),IF(N$27="kg/t DM",((N$28*($B$28/100))*$B39),IF(N$27="mg/kg SAR",((N$28*0.001)*$B39),IF(N$27="mg/kg DM",(((N$28*0.001)*($B$28/100))*$B39),0)))))) -> 0 | ... P39: =IF(P$27="%w/w SAR",((P$28*10)*$B39),IF(P$27="%w/w DM",(((P$28*10)*($B$28/100))*$B39),IF(P$27="kg/t SAR",(P$28*$B39),IF(P$27="kg/t DM",((P$28*($B$28/100))*$B39),IF(P$27="mg/kg SAR",((P$28*0.001)*$B39),IF(P$27="mg/kg DM",(((P$28*0.001)*($B$28/100))*$B39),0)))))) -> 24.3593 | Q39: =(IF(Q$27="%w/w SAR",((Q$28*10)*$B39),IF(Q$27="%w/w DM",(((Q$28*10)*($B$28/100))*$B39),IF(Q$27="kg/t SAR",(Q$28*$B39),IF(Q$27="kg/t DM",((Q$28*($B$28/100))*$B39),IF(Q$27="mg/kg SAR",((Q$28*0.001)*$B39),IF(Q$27="mg/kg DM",(((Q$28*0.001)*($B$28/100))*$B39),0)))))))*2.5 -> 37.145 | R39: =IF(R$27="%w/w SAR",((R$28*10)*$B39),IF(R$27="%w/w DM",(((R$28*10)*($B$28/100))*$B39),IF(R$27="kg/t SAR",(R$28*$B39),IF(R$27="kg/t DM",((R$28*($B$28/100))*$B39),IF(R$27="mg/kg SAR",((R$28*0.001)*$B39),IF(R$27="mg/kg DM",(((R$28*0.001)*($B$28/100))*$B39),0)))))) -> 0.00309281 | S39: =IF(S$27="%w/w SAR",((S$28*10)*$B39),IF(S$27="%w/w DM",(((S$28*10)*($B$28/100))*$B39),IF(S$27="kg/t SAR",(S$28*$B39),IF(S$27="kg/t DM",((S$28*($B$28/100))*$B39),IF(S$27="mg/kg SAR",((S$28*0.001)*$B39),IF(S$27="mg/kg DM",(((S$28*0.001)*($B$28/100))*$B39),0)))))) -> 0.00337042 | T39: =IF(T$27="%w/w SAR",((T$28*10)*$B39),IF(T$27="%w/w DM",(((T$28*10)*($B$28/100))*$B39),IF(T$27="kg/t SAR",(T$28*$B39),IF(T$27="kg/t DM",((T$28*($B$28/100))*$B39),IF(T$27="mg/kg SAR",((T$28*0.001)*$B39),IF(T$27="mg/kg DM",(((T$28*0.001)*($B$28/100))*$B39),0)))))) -> 0.0079764 | U39: =IF(U$27="%w/w SAR",((U$28*10)*$B39),IF(U$27="%w/w DM",(((U$28*10)*($B$28/100))*$B39),IF(U$27="kg/t SAR",(U$28*$B39),IF(U$27="kg/t DM",((U$28*($B$28/100))*$B39),IF(U$27="mg/kg SAR",((U$28*0.001)*$B39),IF(U$27="mg/kg DM",(((U$28*0.001)*($B$28/100))*$B39),0)))))) -> 0.061778
A40: =L8 -> 3327 | B40: 6 | C40: =IF(C$27="%w/w SAR",((C$28*10)*$B40),IF(C$27="%w/w DM",(((C$28*10)*($B$28/100))*$B40),IF(C$27="kg/t SAR",(C$28*$B40),IF(C$27="kg/t DM",((C$28*($B$28/100))*$B40),IF(C$27="mg/kg SAR",((C$28*0.001)*$B40),IF(C$27="mg/kg DM",(((C$28*0.001)*($B$28/100))*$B40),0)))))) -> 79.35 | D40: =(IF(D$27="%w/w SAR",((D$28*10)*$B40),IF(D$27="%w/w DM",(((D$28*10)*($B$28/100))*$B40),IF(D$27="kg/t SAR",(D$28*$B40),IF(D$27="kg/t DM",((D$28*($B$28/100))*$B40),IF(D$27="mg/kg SAR",((D$28*0.001)*$B40),IF(D$27="mg/kg DM",(((D$28*0.001)*($B$28/100))*$B40),"0")))))))*2.291 -> 71.13555 | E40: =(IF(E$27="%w/w SAR",((E$28*10)*$B40),IF(E$27="%w/w DM",(((E$28*10)*($B$28/100))*$B40),IF(E$27="kg/t SAR",(E$28*$B40),IF(E$27="kg/t DM",((E$28*($B$28/100))*$B40),IF(E$27="mg/kg SAR",((E$28*0.001)*$B40),IF(E$27="mg/kg DM",(((E$28*0.001)*($B$28/100))*$B40),"0")))))))*1.205 -> 5.254764 | F40: =(IF(F$27="%w/w SAR",((F$28*10)*$B40),IF(F$27="%w/w DM",(((F$28*10)*($B$28/100))*$B40),IF(F$27="kg/t SAR",(F$28*$B40),IF(F$27="kg/t DM",((F$28*($B$28/100))*$B40),IF(F$27="mg/kg SAR",((F$28*0.001)*$B40),IF(F$27="mg/kg DM",(((F$28*0.001)*($B$28/100))*$B40),"0")))))))*1.658 -> 4.00407 | G40: =IF(G$27="%w/w SAR",((G$28*10)*$B40),IF(G$27="%w/w DM",(((G$28*10)*($B$28/100))*$B40),IF(G$27="kg/t SAR",(G$28*$B40),IF(G$27="kg/t DM",((G$28*($B$28/100))*$B40),IF(G$27="mg/kg SAR",((G$28*0.001)*$B40),IF(G$27="mg/kg DM",(((G$28*0.001)*($B$28/100))*$B40),0)))))) -> 0.083352 | H40: =IF(H$27="%w/w SAR",((H$28*10)*$B40),IF(H$27="%w/w DM",(((H$28*10)*($B$28/100))*$B40),IF(H$27="kg/t SAR",(H$28*$B40),IF(H$27="kg/t DM",((H$28*($B$28/100))*$B40),IF(H$27="mg/kg SAR",((H$28*0.001)*$B40),IF(H$27="mg/kg DM",(((H$28*0.001)*($B$28/100))*$B40),0)))))) -> 0.27876 | I40: =IF(I$27="%w/w SAR",((I$28*10)*$B40),IF(I$27="%w/w DM",(((I$28*10)*($B$28/100))*$B40),IF(I$27="kg/t SAR",(I$28*$B40),IF(I$27="kg/t DM",((I$28*($B$28/100))*$B40),IF(I$27="mg/kg SAR",((I$28*0.001)*$B40),IF(I$27="mg/kg DM",(((I$28*0.001)*($B$28/100))*$B40),0)))))) -> 0.0059064 | J40: =IF(J$27="%w/w SAR",((J$28*10)*$B40),IF(J$27="%w/w DM",(((J$28*10)*($B$28/100))*$B40),IF(J$27="kg/t SAR",(J$28*$B40),IF(J$27="kg/t DM",((J$28*($B$28/100))*$B40),IF(J$27="mg/kg SAR",((J$28*0.001)*$B40),IF(J$27="mg/kg DM",(((J$28*0.001)*($B$28/100))*$B40),0)))))) -> 0.00015456 | K40: =IF(K$27="%w/w SAR",((K$28*10)*$B40),IF(K$27="%w/w DM",(((K$28*10)*($B$28/100))*$B40),IF(K$27="kg/t SAR",(K$28*$B40),IF(K$27="kg/t DM",((K$28*($B$28/100))*$B40),IF(K$27="mg/kg SAR",((K$28*0.001)*$B40),IF(K$27="mg/kg DM",(((K$28*0.001)*($B$28/100))*$B40),0)))))) -> 0.000138 | L40: =IF(L$27="%w/w SAR",((L$28*10)*$B40),IF(L$27="%w/w DM",(((L$28*10)*($B$28/100))*$B40),IF(L$27="kg/t SAR",(L$28*$B40),IF(L$27="kg/t DM",((L$28*($B$28/100))*$B40),IF(L$27="mg/kg SAR",((L$28*0.001)*$B40),IF(L$27="mg/kg DM",(((L$28*0.001)*($B$28/100))*$B40),0)))))) -> 0.0076314 | M40: =IF(M$27="%w/w SAR",((M$28*10)*$B40),IF(M$27="%w/w DM",(((M$28*10)*($B$28/100))*$B40),IF(M$27="kg/t SAR",(M$28*$B40),IF(M$27="kg/t DM",((M$28*($B$28/100))*$B40),IF(M$27="mg/kg SAR",((M$28*0.001)*$B40),IF(M$27="mg/kg DM",(((M$28*0.001)*($B$28/100))*$B40),0)))))) -> 0.0136206 | N40: =IF(N$27="%w/w SAR",((N$28*10)*$B40),IF(N$27="%w/w DM",(((N$28*10)*($B$28/100))*$B40),IF(N$27="kg/t SAR",(N$28*$B40),IF(N$27="kg/t DM",((N$28*($B$28/100))*$B40),IF(N$27="mg/kg SAR",((N$28*0.001)*$B40),IF(N$27="mg/kg DM",(((N$28*0.001)*($B$28/100))*$B40),0)))))) -> 0 | ... P40: =IF(P$27="%w/w SAR",((P$28*10)*$B40),IF(P$27="%w/w DM",(((P$28*10)*($B$28/100))*$B40),IF(P$27="kg/t SAR",(P$28*$B40),IF(P$27="kg/t DM",((P$28*($B$28/100))*$B40),IF(P$27="mg/kg SAR",((P$28*0.001)*$B40),IF(P$27="mg/kg DM",(((P$28*0.001)*($B$28/100))*$B40),0)))))) -> 8.5974 | Q40: =(IF(Q$27="%w/w SAR",((Q$28*10)*$B40),IF(Q$27="%w/w DM",(((Q$28*10)*($B$28/100))*$B40),IF(Q$27="kg/t SAR",(Q$28*$B40),IF(Q$27="kg/t DM",((Q$28*($B$28/100))*$B40),IF(Q$27="mg/kg SAR",((Q$28*0.001)*$B40),IF(Q$27="mg/kg DM",(((Q$28*0.001)*($B$28/100))*$B40),0)))))))*2.5 -> 13.11 | R40: =IF(R$27="%w/w SAR",((R$28*10)*$B40),IF(R$27="%w/w DM",(((R$28*10)*($B$28/100))*$B40),IF(R$27="kg/t SAR",(R$28*$B40),IF(R$27="kg/t DM",((R$28*($B$28/100))*$B40),IF(R$27="mg/kg SAR",((R$28*0.001)*$B40),IF(R$27="mg/kg DM",(((R$28*0.001)*($B$28/100))*$B40),0)))))) -> 0.00109158 | S40: =IF(S$27="%w/w SAR",((S$28*10)*$B40),IF(S$27="%w/w DM",(((S$28*10)*($B$28/100))*$B40),IF(S$27="kg/t SAR",(S$28*$B40),IF(S$27="kg/t DM",((S$28*($B$28/100))*$B40),IF(S$27="mg/kg SAR",((S$28*0.001)*$B40),IF(S$27="mg/kg DM",(((S$28*0.001)*($B$28/100))*$B40),0)))))) -> 0.00118956 | T40: =IF(T$27="%w/w SAR",((T$28*10)*$B40),IF(T$27="%w/w DM",(((T$28*10)*($B$28/100))*$B40),IF(T$27="kg/t SAR",(T$28*$B40),IF(T$27="kg/t DM",((T$28*($B$28/100))*$B40),IF(T$27="mg/kg SAR",((T$28*0.001)*$B40),IF(T$27="mg/kg DM",(((T$28*0.001)*($B$28/100))*$B40),0)))))) -> 0.0028152 | U40: =IF(U$27="%w/w SAR",((U$28*10)*$B40),IF(U$27="%w/w DM",(((U$28*10)*($B$28/100))*$B40),IF(U$27="kg/t SAR",(U$28*$B40),IF(U$27="kg/t DM",((U$28*($B$28/100))*$B40),IF(U$27="mg/kg SAR",((U$28*0.001)*$B40),IF(U$27="mg/kg DM",(((U$28*0.001)*($B$28/100))*$B40),0)))))) -> 0.021804
A41: =M8 -> 9784/0273 | B41: 6 | C41: =IF(C$27="%w/w SAR",((C$28*10)*$B41),IF(C$27="%w/w DM",(((C$28*10)*($B$28/100))*$B41),IF(C$27="kg/t SAR",(C$28*$B41),IF(C$27="kg/t DM",((C$28*($B$28/100))*$B41),IF(C$27="mg/kg SAR",((C$28*0.001)*$B41),IF(C$27="mg/kg DM",(((C$28*0.001)*($B$28/100))*$B41),0)))))) -> 79.35 | D41: =(IF(D$27="%w/w SAR",((D$28*10)*$B41),IF(D$27="%w/w DM",(((D$28*10)*($B$28/100))*$B41),IF(D$27="kg/t SAR",(D$28*$B41),IF(D$27="kg/t DM",((D$28*($B$28/100))*$B41),IF(D$27="mg/kg SAR",((D$28*0.001)*$B41),IF(D$27="mg/kg DM",(((D$28*0.001)*($B$28/100))*$B41),"0")))))))*2.291 -> 71.13555 | E41: =(IF(E$27="%w/w SAR",((E$28*10)*$B41),IF(E$27="%w/w DM",(((E$28*10)*($B$28/100))*$B41),IF(E$27="kg/t SAR",(E$28*$B41),IF(E$27="kg/t DM",((E$28*($B$28/100))*$B41),IF(E$27="mg/kg SAR",((E$28*0.001)*$B41),IF(E$27="mg/kg DM",(((E$28*0.001)*($B$28/100))*$B41),"0")))))))*1.205 -> 5.254764 | F41: =(IF(F$27="%w/w SAR",((F$28*10)*$B41),IF(F$27="%w/w DM",(((F$28*10)*($B$28/100))*$B41),IF(F$27="kg/t SAR",(F$28*$B41),IF(F$27="kg/t DM",((F$28*($B$28/100))*$B41),IF(F$27="mg/kg SAR",((F$28*0.001)*$B41),IF(F$27="mg/kg DM",(((F$28*0.001)*($B$28/100))*$B41),"0")))))))*1.658 -> 4.00407 | G41: =IF(G$27="%w/w SAR",((G$28*10)*$B41),IF(G$27="%w/w DM",(((G$28*10)*($B$28/100))*$B41),IF(G$27="kg/t SAR",(G$28*$B41),IF(G$27="kg/t DM",((G$28*($B$28/100))*$B41),IF(G$27="mg/kg SAR",((G$28*0.001)*$B41),IF(G$27="mg/kg DM",(((G$28*0.001)*($B$28/100))*$B41),0)))))) -> 0.083352 | H41: =IF(H$27="%w/w SAR",((H$28*10)*$B41),IF(H$27="%w/w DM",(((H$28*10)*($B$28/100))*$B41),IF(H$27="kg/t SAR",(H$28*$B41),IF(H$27="kg/t DM",((H$28*($B$28/100))*$B41),IF(H$27="mg/kg SAR",((H$28*0.001)*$B41),IF(H$27="mg/kg DM",(((H$28*0.001)*($B$28/100))*$B41),0)))))) -> 0.27876 | I41: =IF(I$27="%w/w SAR",((I$28*10)*$B41),IF(I$27="%w/w DM",(((I$28*10)*($B$28/100))*$B41),IF(I$27="kg/t SAR",(I$28*$B41),IF(I$27="kg/t DM",((I$28*($B$28/100))*$B41),IF(I$27="mg/kg SAR",((I$28*0.001)*$B41),IF(I$27="mg/kg DM",(((I$28*0.001)*($B$28/100))*$B41),0)))))) -> 0.0059064 | J41: =IF(J$27="%w/w SAR",((J$28*10)*$B41),IF(J$27="%w/w DM",(((J$28*10)*($B$28/100))*$B41),IF(J$27="kg/t SAR",(J$28*$B41),IF(J$27="kg/t DM",((J$28*($B$28/100))*$B41),IF(J$27="mg/kg SAR",((J$28*0.001)*$B41),IF(J$27="mg/kg DM",(((J$28*0.001)*($B$28/100))*$B41),0)))))) -> 0.00015456 | K41: =IF(K$27="%w/w SAR",((K$28*10)*$B41),IF(K$27="%w/w DM",(((K$28*10)*($B$28/100))*$B41),IF(K$27="kg/t SAR",(K$28*$B41),IF(K$27="kg/t DM",((K$28*($B$28/100))*$B41),IF(K$27="mg/kg SAR",((K$28*0.001)*$B41),IF(K$27="mg/kg DM",(((K$28*0.001)*($B$28/100))*$B41),0)))))) -> 0.000138 | L41: =IF(L$27="%w/w SAR",((L$28*10)*$B41),IF(L$27="%w/w DM",(((L$28*10)*($B$28/100))*$B41),IF(L$27="kg/t SAR",(L$28*$B41),IF(L$27="kg/t DM",((L$28*($B$28/100))*$B41),IF(L$27="mg/kg SAR",((L$28*0.001)*$B41),IF(L$27="mg/kg DM",(((L$28*0.001)*($B$28/100))*$B41),0)))))) -> 0.0076314 | M41: =IF(M$27="%w/w SAR",((M$28*10)*$B41),IF(M$27="%w/w DM",(((M$28*10)*($B$28/100))*$B41),IF(M$27="kg/t SAR",(M$28*$B41),IF(M$27="kg/t DM",((M$28*($B$28/100))*$B41),IF(M$27="mg/kg SAR",((M$28*0.001)*$B41),IF(M$27="mg/kg DM",(((M$28*0.001)*($B$28/100))*$B41),0)))))) -> 0.0136206 | N41: =IF(N$27="%w/w SAR",((N$28*10)*$B41),IF(N$27="%w/w DM",(((N$28*10)*($B$28/100))*$B41),IF(N$27="kg/t SAR",(N$28*$B41),IF(N$27="kg/t DM",((N$28*($B$28/100))*$B41),IF(N$27="mg/kg SAR",((N$28*0.001)*$B41),IF(N$27="mg/kg DM",(((N$28*0.001)*($B$28/100))*$B41),0)))))) -> 0 | ... P41: =IF(P$27="%w/w SAR",((P$28*10)*$B41),IF(P$27="%w/w DM",(((P$28*10)*($B$28/100))*$B41),IF(P$27="kg/t SAR",(P$28*$B41),IF(P$27="kg/t DM",((P$28*($B$28/100))*$B41),IF(P$27="mg/kg SAR",((P$28*0.001)*$B41),IF(P$27="mg/kg DM",(((P$28*0.001)*($B$28/100))*$B41),0)))))) -> 8.5974 | Q41: =(IF(Q$27="%w/w SAR",((Q$28*10)*$B41),IF(Q$27="%w/w DM",(((Q$28*10)*($B$28/100))*$B41),IF(Q$27="kg/t SAR",(Q$28*$B41),IF(Q$27="kg/t DM",((Q$28*($B$28/100))*$B41),IF(Q$27="mg/kg SAR",((Q$28*0.001)*$B41),IF(Q$27="mg/kg DM",(((Q$28*0.001)*($B$28/100))*$B41),0)))))))*2.5 -> 13.11 | R41: =IF(R$27="%w/w SAR",((R$28*10)*$B41),IF(R$27="%w/w DM",(((R$28*10)*($B$28/100))*$B41),IF(R$27="kg/t SAR",(R$28*$B41),IF(R$27="kg/t DM",((R$28*($B$28/100))*$B41),IF(R$27="mg/kg SAR",((R$28*0.001)*$B41),IF(R$27="mg/kg DM",(((R$28*0.001)*($B$28/100))*$B41),0)))))) -> 0.00109158 | S41: =IF(S$27="%w/w SAR",((S$28*10)*$B41),IF(S$27="%w/w DM",(((S$28*10)*($B$28/100))*$B41),IF(S$27="kg/t SAR",(S$28*$B41),IF(S$27="kg/t DM",((S$28*($B$28/100))*$B41),IF(S$27="mg/kg SAR",((S$28*0.001)*$B41),IF(S$27="mg/kg DM",(((S$28*0.001)*($B$28/100))*$B41),0)))))) -> 0.00118956 | T41: =IF(T$27="%w/w SAR",((T$28*10)*$B41),IF(T$27="%w/w DM",(((T$28*10)*($B$28/100))*$B41),IF(T$27="kg/t SAR",(T$28*$B41),IF(T$27="kg/t DM",((T$28*($B$28/100))*$B41),IF(T$27="mg/kg SAR",((T$28*0.001)*$B41),IF(T$27="mg/kg DM",(((T$28*0.001)*($B$28/100))*$B41),0)))))) -> 0.0028152 | U41: =IF(U$27="%w/w SAR",((U$28*10)*$B41),IF(U$27="%w/w DM",(((U$28*10)*($B$28/100))*$B41),IF(U$27="kg/t SAR",(U$28*$B41),IF(U$27="kg/t DM",((U$28*($B$28/100))*$B41),IF(U$27="mg/kg SAR",((U$28*0.001)*$B41),IF(U$27="mg/kg DM",(((U$28*0.001)*($B$28/100))*$B41),0)))))) -> 0.021804
A42: =N8 -> 1976 | B42: 6 | C42: =IF(C$27="%w/w SAR",((C$28*10)*$B42),IF(C$27="%w/w DM",(((C$28*10)*($B$28/100))*$B42),IF(C$27="kg/t SAR",(C$28*$B42),IF(C$27="kg/t DM",((C$28*($B$28/100))*$B42),IF(C$27="mg/kg SAR",((C$28*0.001)*$B42),IF(C$27="mg/kg DM",(((C$28*0.001)*($B$28/100))*$B42),0)))))) -> 79.35 | D42: =(IF(D$27="%w/w SAR",((D$28*10)*$B42),IF(D$27="%w/w DM",(((D$28*10)*($B$28/100))*$B42),IF(D$27="kg/t SAR",(D$28*$B42),IF(D$27="kg/t DM",((D$28*($B$28/100))*$B42),IF(D$27="mg/kg SAR",((D$28*0.001)*$B42),IF(D$27="mg/kg DM",(((D$28*0.001)*($B$28/100))*$B42),"0")))))))*2.291 -> 71.13555 | E42: =(IF(E$27="%w/w SAR",((E$28*10)*$B42),IF(E$27="%w/w DM",(((E$28*10)*($B$28/100))*$B42),IF(E$27="kg/t SAR",(E$28*$B42),IF(E$27="kg/t DM",((E$28*($B$28/100))*$B42),IF(E$27="mg/kg SAR",((E$28*0.001)*$B42),IF(E$27="mg/kg DM",(((E$28*0.001)*($B$28/100))*$B42),"0")))))))*1.205 -> 5.254764 | F42: =(IF(F$27="%w/w SAR",((F$28*10)*$B42),IF(F$27="%w/w DM",(((F$28*10)*($B$28/100))*$B42),IF(F$27="kg/t SAR",(F$28*$B42),IF(F$27="kg/t DM",((F$28*($B$28/100))*$B42),IF(F$27="mg/kg SAR",((F$28*0.001)*$B42),IF(F$27="mg/kg DM",(((F$28*0.001)*($B$28/100))*$B42),"0")))))))*1.658 -> 4.00407 | G42: =IF(G$27="%w/w SAR",((G$28*10)*$B42),IF(G$27="%w/w DM",(((G$28*10)*($B$28/100))*$B42),IF(G$27="kg/t SAR",(G$28*$B42),IF(G$27="kg/t DM",((G$28*($B$28/100))*$B42),IF(G$27="mg/kg SAR",((G$28*0.001)*$B42),IF(G$27="mg/kg DM",(((G$28*0.001)*($B$28/100))*$B42),0)))))) -> 0.083352 | H42: =IF(H$27="%w/w SAR",((H$28*10)*$B42),IF(H$27="%w/w DM",(((H$28*10)*($B$28/100))*$B42),IF(H$27="kg/t SAR",(H$28*$B42),IF(H$27="kg/t DM",((H$28*($B$28/100))*$B42),IF(H$27="mg/kg SAR",((H$28*0.001)*$B42),IF(H$27="mg/kg DM",(((H$28*0.001)*($B$28/100))*$B42),0)))))) -> 0.27876 | I42: =IF(I$27="%w/w SAR",((I$28*10)*$B42),IF(I$27="%w/w DM",(((I$28*10)*($B$28/100))*$B42),IF(I$27="kg/t SAR",(I$28*$B42),IF(I$27="kg/t DM",((I$28*($B$28/100))*$B42),IF(I$27="mg/kg SAR",((I$28*0.001)*$B42),IF(I$27="mg/kg DM",(((I$28*0.001)*($B$28/100))*$B42),0)))))) -> 0.0059064 | J42: =IF(J$27="%w/w SAR",((J$28*10)*$B42),IF(J$27="%w/w DM",(((J$28*10)*($B$28/100))*$B42),IF(J$27="kg/t SAR",(J$28*$B42),IF(J$27="kg/t DM",((J$28*($B$28/100))*$B42),IF(J$27="mg/kg SAR",((J$28*0.001)*$B42),IF(J$27="mg/kg DM",(((J$28*0.001)*($B$28/100))*$B42),0)))))) -> 0.00015456 | K42: =IF(K$27="%w/w SAR",((K$28*10)*$B42),IF(K$27="%w/w DM",(((K$28*10)*($B$28/100))*$B42),IF(K$27="kg/t SAR",(K$28*$B42),IF(K$27="kg/t DM",((K$28*($B$28/100))*$B42),IF(K$27="mg/kg SAR",((K$28*0.001)*$B42),IF(K$27="mg/kg DM",(((K$28*0.001)*($B$28/100))*$B42),0)))))) -> 0.000138 | L42: =IF(L$27="%w/w SAR",((L$28*10)*$B42),IF(L$27="%w/w DM",(((L$28*10)*($B$28/100))*$B42),IF(L$27="kg/t SAR",(L$28*$B42),IF(L$27="kg/t DM",((L$28*($B$28/100))*$B42),IF(L$27="mg/kg SAR",((L$28*0.001)*$B42),IF(L$27="mg/kg DM",(((L$28*0.001)*($B$28/100))*$B42),0)))))) -> 0.0076314 | M42: =IF(M$27="%w/w SAR",((M$28*10)*$B42),IF(M$27="%w/w DM",(((M$28*10)*($B$28/100))*$B42),IF(M$27="kg/t SAR",(M$28*$B42),IF(M$27="kg/t DM",((M$28*($B$28/100))*$B42),IF(M$27="mg/kg SAR",((M$28*0.001)*$B42),IF(M$27="mg/kg DM",(((M$28*0.001)*($B$28/100))*$B42),0)))))) -> 0.0136206 | N42: =IF(N$27="%w/w SAR",((N$28*10)*$B42),IF(N$27="%w/w DM",(((N$28*10)*($B$28/100))*$B42),IF(N$27="kg/t SAR",(N$28*$B42),IF(N$27="kg/t DM",((N$28*($B$28/100))*$B42),IF(N$27="mg/kg SAR",((N$28*0.001)*$B42),IF(N$27="mg/kg DM",(((N$28*0.001)*($B$28/100))*$B42),0)))))) -> 0 | ... P42: =IF(P$27="%w/w SAR",((P$28*10)*$B42),IF(P$27="%w/w DM",(((P$28*10)*($B$28/100))*$B42),IF(P$27="kg/t SAR",(P$28*$B42),IF(P$27="kg/t DM",((P$28*($B$28/100))*$B42),IF(P$27="mg/kg SAR",((P$28*0.001)*$B42),IF(P$27="mg/kg DM",(((P$28*0.001)*($B$28/100))*$B42),0)))))) -> 8.5974 | Q42: =(IF(Q$27="%w/w SAR",((Q$28*10)*$B42),IF(Q$27="%w/w DM",(((Q$28*10)*($B$28/100))*$B42),IF(Q$27="kg/t SAR",(Q$28*$B42),IF(Q$27="kg/t DM",((Q$28*($B$28/100))*$B42),IF(Q$27="mg/kg SAR",((Q$28*0.001)*$B42),IF(Q$27="mg/kg DM",(((Q$28*0.001)*($B$28/100))*$B42),0)))))))*2.5 -> 13.11 | R42: =IF(R$27="%w/w SAR",((R$28*10)*$B42),IF(R$27="%w/w DM",(((R$28*10)*($B$28/100))*$B42),IF(R$27="kg/t SAR",(R$28*$B42),IF(R$27="kg/t DM",((R$28*($B$28/100))*$B42),IF(R$27="mg/kg SAR",((R$28*0.001)*$B42),IF(R$27="mg/kg DM",(((R$28*0.001)*($B$28/100))*$B42),0)))))) -> 0.00109158 | S42: =IF(S$27="%w/w SAR",((S$28*10)*$B42),IF(S$27="%w/w DM",(((S$28*10)*($B$28/100))*$B42),IF(S$27="kg/t SAR",(S$28*$B42),IF(S$27="kg/t DM",((S$28*($B$28/100))*$B42),IF(S$27="mg/kg SAR",((S$28*0.001)*$B42),IF(S$27="mg/kg DM",(((S$28*0.001)*($B$28/100))*$B42),0)))))) -> 0.00118956 | T42: =IF(T$27="%w/w SAR",((T$28*10)*$B42),IF(T$27="%w/w DM",(((T$28*10)*($B$28/100))*$B42),IF(T$27="kg/t SAR",(T$28*$B42),IF(T$27="kg/t DM",((T$28*($B$28/100))*$B42),IF(T$27="mg/kg SAR",((T$28*0.001)*$B42),IF(T$27="mg/kg DM",(((T$28*0.001)*($B$28/100))*$B42),0)))))) -> 0.0028152 | U42: =IF(U$27="%w/w SAR",((U$28*10)*$B42),IF(U$27="%w/w DM",(((U$28*10)*($B$28/100))*$B42),IF(U$27="kg/t SAR",(U$28*$B42),IF(U$27="kg/t DM",((U$28*($B$28/100))*$B42),IF(U$27="mg/kg SAR",((U$28*0.001)*$B42),IF(U$27="mg/kg DM",(((U$28*0.001)*($B$28/100))*$B42),0)))))) -> 0.021804
A43: =O8 -> 0566/0656 | B43: 6 | C43: =IF(C$27="%w/w SAR",((C$28*10)*$B43),IF(C$27="%w/w DM",(((C$28*10)*($B$28/100))*$B43),IF(C$27="kg/t SAR",(C$28*$B43),IF(C$27="kg/t DM",((C$28*($B$28/100))*$B43),IF(C$27="mg/kg SAR",((C$28*0.001)*$B43),IF(C$27="mg/kg DM",(((C$28*0.001)*($B$28/100))*$B43),0)))))) -> 79.35 | D43: =(IF(D$27="%w/w SAR",((D$28*10)*$B43),IF(D$27="%w/w DM",(((D$28*10)*($B$28/100))*$B43),IF(D$27="kg/t SAR",(D$28*$B43),IF(D$27="kg/t DM",((D$28*($B$28/100))*$B43),IF(D$27="mg/kg SAR",((D$28*0.001)*$B43),IF(D$27="mg/kg DM",(((D$28*0.001)*($B$28/100))*$B43),"0")))))))*2.291 -> 71.13555 | E43: =(IF(E$27="%w/w SAR",((E$28*10)*$B43),IF(E$27="%w/w DM",(((E$28*10)*($B$28/100))*$B43),IF(E$27="kg/t SAR",(E$28*$B43),IF(E$27="kg/t DM",((E$28*($B$28/100))*$B43),IF(E$27="mg/kg SAR",((E$28*0.001)*$B43),IF(E$27="mg/kg DM",(((E$28*0.001)*($B$28/100))*$B43),"0")))))))*1.205 -> 5.254764 | F43: =(IF(F$27="%w/w SAR",((F$28*10)*$B43),IF(F$27="%w/w DM",(((F$28*10)*($B$28/100))*$B43),IF(F$27="kg/t SAR",(F$28*$B43),IF(F$27="kg/t DM",((F$28*($B$28/100))*$B43),IF(F$27="mg/kg SAR",((F$28*0.001)*$B43),IF(F$27="mg/kg DM",(((F$28*0.001)*($B$28/100))*$B43),"0")))))))*1.658 -> 4.00407 | G43: =IF(G$27="%w/w SAR",((G$28*10)*$B43),IF(G$27="%w/w DM",(((G$28*10)*($B$28/100))*$B43),IF(G$27="kg/t SAR",(G$28*$B43),IF(G$27="kg/t DM",((G$28*($B$28/100))*$B43),IF(G$27="mg/kg SAR",((G$28*0.001)*$B43),IF(G$27="mg/kg DM",(((G$28*0.001)*($B$28/100))*$B43),0)))))) -> 0.083352 | H43: =IF(H$27="%w/w SAR",((H$28*10)*$B43),IF(H$27="%w/w DM",(((H$28*10)*($B$28/100))*$B43),IF(H$27="kg/t SAR",(H$28*$B43),IF(H$27="kg/t DM",((H$28*($B$28/100))*$B43),IF(H$27="mg/kg SAR",((H$28*0.001)*$B43),IF(H$27="mg/kg DM",(((H$28*0.001)*($B$28/100))*$B43),0)))))) -> 0.27876 | I43: =IF(I$27="%w/w SAR",((I$28*10)*$B43),IF(I$27="%w/w DM",(((I$28*10)*($B$28/100))*$B43),IF(I$27="kg/t SAR",(I$28*$B43),IF(I$27="kg/t DM",((I$28*($B$28/100))*$B43),IF(I$27="mg/kg SAR",((I$28*0.001)*$B43),IF(I$27="mg/kg DM",(((I$28*0.001)*($B$28/100))*$B43),0)))))) -> 0.0059064 | J43: =IF(J$27="%w/w SAR",((J$28*10)*$B43),IF(J$27="%w/w DM",(((J$28*10)*($B$28/100))*$B43),IF(J$27="kg/t SAR",(J$28*$B43),IF(J$27="kg/t DM",((J$28*($B$28/100))*$B43),IF(J$27="mg/kg SAR",((J$28*0.001)*$B43),IF(J$27="mg/kg DM",(((J$28*0.001)*($B$28/100))*$B43),0)))))) -> 0.00015456 | K43: =IF(K$27="%w/w SAR",((K$28*10)*$B43),IF(K$27="%w/w DM",(((K$28*10)*($B$28/100))*$B43),IF(K$27="kg/t SAR",(K$28*$B43),IF(K$27="kg/t DM",((K$28*($B$28/100))*$B43),IF(K$27="mg/kg SAR",((K$28*0.001)*$B43),IF(K$27="mg/kg DM",(((K$28*0.001)*($B$28/100))*$B43),0)))))) -> 0.000138 | L43: =IF(L$27="%w/w SAR",((L$28*10)*$B43),IF(L$27="%w/w DM",(((L$28*10)*($B$28/100))*$B43),IF(L$27="kg/t SAR",(L$28*$B43),IF(L$27="kg/t DM",((L$28*($B$28/100))*$B43),IF(L$27="mg/kg SAR",((L$28*0.001)*$B43),IF(L$27="mg/kg DM",(((L$28*0.001)*($B$28/100))*$B43),0)))))) -> 0.0076314 | M43: =IF(M$27="%w/w SAR",((M$28*10)*$B43),IF(M$27="%w/w DM",(((M$28*10)*($B$28/100))*$B43),IF(M$27="kg/t SAR",(M$28*$B43),IF(M$27="kg/t DM",((M$28*($B$28/100))*$B43),IF(M$27="mg/kg SAR",((M$28*0.001)*$B43),IF(M$27="mg/kg DM",(((M$28*0.001)*($B$28/100))*$B43),0)))))) -> 0.0136206 | N43: =IF(N$27="%w/w SAR",((N$28*10)*$B43),IF(N$27="%w/w DM",(((N$28*10)*($B$28/100))*$B43),IF(N$27="kg/t SAR",(N$28*$B43),IF(N$27="kg/t DM",((N$28*($B$28/100))*$B43),IF(N$27="mg/kg SAR",((N$28*0.001)*$B43),IF(N$27="mg/kg DM",(((N$28*0.001)*($B$28/100))*$B43),0)))))) -> 0 | ... P43: =IF(P$27="%w/w SAR",((P$28*10)*$B43),IF(P$27="%w/w DM",(((P$28*10)*($B$28/100))*$B43),IF(P$27="kg/t SAR",(P$28*$B43),IF(P$27="kg/t DM",((P$28*($B$28/100))*$B43),IF(P$27="mg/kg SAR",((P$28*0.001)*$B43),IF(P$27="mg/kg DM",(((P$28*0.001)*($B$28/100))*$B43),0)))))) -> 8.5974 | Q43: =(IF(Q$27="%w/w SAR",((Q$28*10)*$B43),IF(Q$27="%w/w DM",(((Q$28*10)*($B$28/100))*$B43),IF(Q$27="kg/t SAR",(Q$28*$B43),IF(Q$27="kg/t DM",((Q$28*($B$28/100))*$B43),IF(Q$27="mg/kg SAR",((Q$28*0.001)*$B43),IF(Q$27="mg/kg DM",(((Q$28*0.001)*($B$28/100))*$B43),0)))))))*2.5 -> 13.11 | R43: =IF(R$27="%w/w SAR",((R$28*10)*$B43),IF(R$27="%w/w DM",(((R$28*10)*($B$28/100))*$B43),IF(R$27="kg/t SAR",(R$28*$B43),IF(R$27="kg/t DM",((R$28*($B$28/100))*$B43),IF(R$27="mg/kg SAR",((R$28*0.001)*$B43),IF(R$27="mg/kg DM",(((R$28*0.001)*($B$28/100))*$B43),0)))))) -> 0.00109158 | S43: =IF(S$27="%w/w SAR",((S$28*10)*$B43),IF(S$27="%w/w DM",(((S$28*10)*($B$28/100))*$B43),IF(S$27="kg/t SAR",(S$28*$B43),IF(S$27="kg/t DM",((S$28*($B$28/100))*$B43),IF(S$27="mg/kg SAR",((S$28*0.001)*$B43),IF(S$27="mg/kg DM",(((S$28*0.001)*($B$28/100))*$B43),0)))))) -> 0.00118956 | T43: =IF(T$27="%w/w SAR",((T$28*10)*$B43),IF(T$27="%w/w DM",(((T$28*10)*($B$28/100))*$B43),IF(T$27="kg/t SAR",(T$28*$B43),IF(T$27="kg/t DM",((T$28*($B$28/100))*$B43),IF(T$27="mg/kg SAR",((T$28*0.001)*$B43),IF(T$27="mg/kg DM",(((T$28*0.001)*($B$28/100))*$B43),0)))))) -> 0.0028152 | U43: =IF(U$27="%w/w SAR",((U$28*10)*$B43),IF(U$27="%w/w DM",(((U$28*10)*($B$28/100))*$B43),IF(U$27="kg/t SAR",(U$28*$B43),IF(U$27="kg/t DM",((U$28*($B$28/100))*$B43),IF(U$27="mg/kg SAR",((U$28*0.001)*$B43),IF(U$27="mg/kg DM",(((U$28*0.001)*($B$28/100))*$B43),0)))))) -> 0.021804
