Workbook

Sheet DCWW Bolton Hill
A1: PAN reference | C1: PAN-015166 | E1: Total spread area | F1: 39.8 | G1: Waste pH | I1: 6.4 | J1: Ammonium Nitrogen (mg/kg) | L1: 52 | AD1: Choose | AI1: Crop | AJ1: P Offtake | AK1: K Offtake | AL1: Order | AM1: Lime pH requirement | AN1: Column1
A2: Permit reference | C2: EPR-GP3792SK | E2: Waste type EWC | F2: 190902 | G2: Conductivity µS/cm (limit 5000 µS/cm) | J2: Total Nitrogen (mg/kg) | L2: 13200 | AB2: %w/w SAR | AD2: Sandy | AG2: Solid | AI2: Choose | AJ2: 0 | AK2: 0 | AL2: 0 | AM2: 0 | AN2: 0
A3: Operator | C3: ByProduct Recovery Ltd | E3: Waste physical form | F3: Sludge | G3: Fats & Oils (%) (limit 4%) | J3: Readily available nitrogen content % | L3: =(L1/L2)*100 -> 0.39393939 | AB3: %w/w DM | AD3: Sandy Loam | AG3: Liquid | AI3: Grass Silage (25% DM) | AJ3: 1.7 | AK3: 6 | AL3: 1 | AM3: 6.2 | AN3: Grass
A4: Farm Address | C4: Tyncwym, Llansawel, Llandeilo, Carmarthenshire, SA19 7PQ | E4: Waste Ref/Name | F4: DCWW Bolton Hill | AB4: kg/t SAR | AD4: Medium/Clay | AG4: Sludge | AI4: Winter wheat- grain & straw | AJ4: 7 | AK4: 10.5 | AL4: 2 | AM4: 6.7 | AN4: Arable
A5: Assessed By | C5: Louise Bailey | AB5: kg/t DM | AD5: Organic | AG5: Sludge Cake | AI5: Winter wheat- grain only | AJ5: 6.5 | AK5: 5.5 | AL5: 3 | AM5: 6.7 | AN5: Arable
AB6: mg/kg SAR | AD6: Peat | AI6: Spring wheat/barley | AJ6: 8.5 | AK6: 12 | AL6: 4 | AM6: 6.7 | AN6: Arable
A7: Field number | C7: 1 | D7: 2 | E7: 3 | F7: 4 | G7: 5 | H7: 6 | I7: 7 | J7: 8 | K7: 9 | L7: 10 | M7: 11 | N7: 12 | O7: 13 | P7: 14 | Q7: 15 | R7: 16 | S7: 17 | T7: 18 | U7: 19 | V7: 20 | AB7: mg/kg DM | AI7: Winter barley/triticale/rye | AJ7: 8.5 | AK7: 10.5 | AL7: 5 | AM7: 6.7 | AN7: Arable
A8: Field Ref | D8: 2 | E8: 3 | F8: 4 | G8: 5a | H8: 5b | I8: 6 | J8: 7 | K8: 9 | L8: 10 | M8: 11 | N8: 12 | AE8: lime pH | AI8: Maize- Silage (30% DM) | AJ8: 1.4 | AK8: 4.4 | AL8: 6 | AM8: 6.7 | AN8: Arable
A9: SNS Index | D9: Mod | E9: Mod | F9: Mod | G9: Mod | H9: Mod | I9: Mod | J9: Mod | K9: Mod | L9: Mod | M9: Mod | N9: Mod | AD9: Sandy I Grass | AE9: 4.5 | AI9: Fodder beet (roots only) | AJ9: 0.7 | AK9: 4 | AL9: 7 | AM9: 6.7 | AN9: Arable
A10: Field pH | D10: 6.8 | E10: 6.8 | F10: 7 | G10: 6..9 | H10: 6.7 | I10: 6.9 | J10: 6.9 | K10: 6.7 | L10: 5.5 | M10: 6 | N10: 6 | AD10: Sandy Loam I Grass | AE10: 5 | AI10: Oats | AJ10: 9 | AK10: 16.5 | AL10: 8 | AM10: 6.7 | AN10: Arable
A11: Phosphorus Index | D11: 3 | E11: 2 | F11: 3 | G11: 2 | H11: 3 | I11: 3 | J11: 2 | K11: 1 | L11: 2 | M11: 1 | N11: 2 | AD11: Medium/Clay I Grass | AE11: 6 | AI11: Oilseed rape- seed & straw | AJ11: 15 | AK11: 17.5 | AL11: 9 | AM11: 7 | AN11: Arable
A12: Potassium Index | D12: 2 | E12: 0 | F12: 3 | G12: 0 | H12: 0 | I12: 1 | J12: 1 | K12: 1 | L12: 0 | M12: 1 | N12: 3 | AD12: Organic I Grass | AE12: 7.5 | AI12: Oilseed rape- seed only | AJ12: 14 | AK12: 11 | AL12: 10 | AM12: 7 | AN12: Arable
A13: Magnesium Index | D13: 2 | E13: 5 | F13: 3 | G13: 2 | H13: 2 | I13: 3 | J13: 2 | K13: 2 | L13: 0 | M13: 2 | N13: 3 | AD13: Peat I Grass | AE13: 12 | AI13: Sugar beet- roots & tops | AJ13: 1.9 | AK13: 7.5 | AL13: 11 | AM13: 6.7 | AN13: Arable
A14: Benefiting Crop | D14: Grass Silage (25% DM) | E14: Grass Silage (25% DM) | F14: Grass Silage (25% DM) | G14: Grass Silage (25% DM) | H14: Grass Silage (25% DM) | I14: Grass Silage (25% DM) | J14: Grass Silage (25% DM) | K14: Grass Silage (25% DM) | L14: Grass Silage (25% DM) | M14: Grass Silage (25% DM) | N14: Grass Silage (25% DM) | AD14: Sandy I Arable | AE14: 6 | AI14: Sugar beet- roots only | AJ14: 0.8 | AK14: 1.7 | AL14: 12 | AM14: 6.7 | AN14: Arable
A15: Expected Yield | D15: 45 | E15: 45 | F15: 45 | G15: 45 | H15: 45 | I15: 45 | J15: 45 | K15: 45 | L15: 45 | M15: 45 | N15: 45 | AD15: Sandy Loam I Arable | AE15: 7 | AI15: Wholecrop cereals | AJ15: 1.8 | AK15: 5.4 | AL15: 13 | AM15: 6.7 | AN15: Arable
A16: Soil Type | D16: Medium/Clay | E16: Medium/Clay | F16: Medium/Clay | G16: Medium/Clay | H16: Medium/Clay | I16: Medium/Clay | J16: Medium/Clay | K16: Medium/Clay | L16: Medium/Clay | M16: Medium/Clay | N16: Medium/Clay | AD16: Medium/Clay I Arable | AE16: 8 | AI16: All other cereals- grain only | AJ16: 8 | AK16: 5.5 | AL16: 14 | AM16: 6.7 | AN16: Arable
A17: Phosphate Offtake | C17: =(VLOOKUP(C$14,$AI2:$AK26,2,FALSE))*C$15 -> #N/A | D17: =(VLOOKUP(D$14,$AI2:$AK26,2,FALSE))*D$15 -> 76.5 | E17: =(VLOOKUP(E$14,$AI2:$AK26,2,FALSE))*E$15 -> 76.5 | F17: =(VLOOKUP(F$14,$AI2:$AK26,2,FALSE))*F$15 -> 76.5 | G17: =(VLOOKUP(G$14,$AI2:$AK26,2,FALSE))*G$15 -> 76.5 | H17: =(VLOOKUP(H$14,$AI2:$AK26,2,FALSE))*H$15 -> 76.5 | I17: =(VLOOKUP(I$14,$AI2:$AK26,2,FALSE))*I$15 -> 76.5 | J17: =(VLOOKUP(J$14,$AI2:$AK26,2,FALSE))*J$15 -> 76.5 | ... V17: =(VLOOKUP(V$14,$AI2:$AK26,2,FALSE))*V$15 -> #N/A | AD17: Organic I Arable | AE17: 10 | AI17: Fresh grass (15-20% DM) | AJ17: 1.4 | AK17: 4.8 | AL17: 15 | AM17: 6.2 | AN17: Grass
A18: Phosphate Addition | C18: =$D31 -> 0 | D18: =$D32 -> 74.259328 | E18: =$D33 -> 74.259328 | F18: =$D34 -> 74.259328 | G18: =$D35 -> 74.259328 | H18: =$D36 -> 74.259328 | I18: =$D37 -> 74.259328 | J18: =$D38 -> 74.259328 | K18: =$D39 -> 74.259328 | L18: =$D40 -> 0 | M18: =$D41 -> 74.259328 | N18: =$D42 -> 74.259328 | O18: =$D43 -> 0 | P18: =$D44 -> 0 | Q18: =$D45 -> 0 | R18: =$D46 -> 0 | S18: =$D47 -> 0 | T18: =$D48 -> 0 | U18: =$D49 -> 0 | V18: =$D50 -> 0 | AD18: Peat I Arable | AE18: 16 | AI18: Hay (86% DM) | AJ18: 5.9 | AK18: 18 | AL18: 16 | AM18: 6.2 | AN18: Grass
A19: Phosphate Difference | C19: =C18-C17 -> #N/A | D19: =D18-D17 -> -2.2406715 | E19: =E18-E17 -> -2.2406715 | F19: =F18-F17 -> -2.2406715 | G19: =G18-G17 -> -2.2406715 | H19: =H18-H17 -> -2.2406715 | I19: =I18-I17 -> -2.2406715 | J19: =J18-J17 -> -2.2406715 | ... V19: =V18-V17 -> #N/A | AI19: Haylage (45% DM) | AJ19: 3.2 | AK19: 10.5 | AL19: 17 | AM19: 6.2 | AN19: Grass
A20: Phosphate Increase/decrease | C20: =IF($B31="","",IF(C$19>=0,"INCREASE","DECREASE")) | D20: =IF($B32="","",IF(D$19>=0,"INCREASE","DECREASE")) -> DECREASE | E20: =IF($B33="","",IF(E$19>=0,"INCREASE","DECREASE")) -> DECREASE | F20: =IF($B34="","",IF(F$19>=0,"INCREASE","DECREASE")) -> DECREASE | G20: =IF($B35="","",IF(G$19>=0,"INCREASE","DECREASE")) -> DECREASE | H20: =IF($B36="","",IF(H$19>=0,"INCREASE","DECREASE")) -> DECREASE | I20: =IF($B37="","",IF(I$19>=0,"INCREASE","DECREASE")) -> DECREASE | J20: =IF($B38="","",IF(J$19>=0,"INCREASE","DECREASE")) -> DECREASE | K20: =IF($B39="","",IF(K$19>=0,"INCREASE","DECREASE")) -> DECREASE | L20: =IF($B40="","",IF(L$19>=0,"INCREASE","DECREASE")) | M20: =IF($B41="","",IF(M$19>=0,"INCREASE","DECREASE")) -> DECREASE | N20: =IF($B42="","",IF(N$19>=0,"INCREASE","DECREASE")) -> DECREASE | O20: =IF($B43="","",IF(O$19>=0,"INCREASE","DECREASE")) | P20: =IF($B44="","",IF(P$19>=0,"INCREASE","DECREASE")) | Q20: =IF($B45="","",IF(Q$19>=0,"INCREASE","DECREASE")) | R20: =IF($B46="","",IF(R$19>=0,"INCREASE","DECREASE")) | S20: =IF($B47="","",IF(S$19>=0,"INCREASE","DECREASE")) | T20: =IF($B48="","",IF(T$19>=0,"INCREASE","DECREASE")) | U20: =IF($B49="","",IF(U$19>=0,"INCREASE","DECREASE")) | V20: =IF($B50="","",IF(V$19>=0,"INCREASE","DECREASE")) | AI20: Grass Silage (30% DM) | AJ20: 2.1 | AK20: 7.2 | AL20: 18 | AM20: 6.2 | AN20: Grass
A21: Potash Offtake | C21: =(VLOOKUP(C$14,$AI2:$AK26,3,FALSE))*C$15 -> #N/A | D21: =(VLOOKUP(D$14,$AI2:$AK26,3,FALSE))*D$15 -> 270 | E21: =(VLOOKUP(E$14,$AI2:$AK26,3,FALSE))*E$15 -> 270 | F21: =(VLOOKUP(F$14,$AI2:$AK26,3,FALSE))*F$15 -> 270 | G21: =(VLOOKUP(G$14,$AI2:$AK26,3,FALSE))*G$15 -> 270 | H21: =(VLOOKUP(H$14,$AI2:$AK26,3,FALSE))*H$15 -> 270 | I21: =(VLOOKUP(I$14,$AI2:$AK26,3,FALSE))*I$15 -> 270 | J21: =(VLOOKUP(J$14,$AI2:$AK26,3,FALSE))*J$15 -> 270 | ... V21: =(VLOOKUP(V$14,$AI2:$AK26,3,FALSE))*V$15 -> #N/A | AI21: Field beans | AJ21: 11 | AK21: 12 | AL21: 19 | AM21: 6.7 | AN21: Arable
A22: Potash Addition | C22: =$E31 -> 0 | D22: =$E32 -> 6.2617223 | E22: =$E33 -> 6.2617223 | F22: =$E34 -> 6.2617223 | G22: =$E35 -> 6.2617223 | H22: =$E36 -> 6.2617223 | I22: =$E37 -> 6.2617223 | J22: =$E38 -> 6.2617223 | K22: =$E39 -> 6.2617223 | L22: =$E40 -> 0 | M22: =$E41 -> 6.2617223 | N22: =$E42 -> 6.2617223 | O22: =$E43 -> 0 | P22: =$E44 -> 0 | Q22: =$E45 -> 0 | R22: =$E46 -> 0 | S22: =$E47 -> 0 | T22: =$E48 -> 0 | U22: =$E49 -> 0 | V22: =$E50 -> 0 | AI22: Kale | AJ22: 1.2 | AK22: 5 | AL22: 20 | AM22: 6.7 | AN22: Arable
A23: Potash Difference | C23: =C22-C21 -> #N/A | D23: =D22-D21 -> -263.73828 | E23: =E22-E21 -> -263.73828 | F23: =F22-F21 -> -263.73828 | G23: =G22-G21 -> -263.73828 | H23: =H22-H21 -> -263.73828 | I23: =I22-I21 -> -263.73828 | J23: =J22-J21 -> -263.73828 | ... V23: =V22-V21 -> #N/A | AI23: Peas- Dried | AJ23: 9 | AK23: 10 | AL23: 21 | AM23: 6.7 | AN23: Arable
A24: Potash Increase/decrease | C24: =IF($B31="","",IF(C$23>=0,"INCREASE","DECREASE")) | D24: =IF($B31="","",IF(D$23>=0,"INCREASE","DECREASE")) | E24: =IF($B31="","",IF(E$23>=0,"INCREASE","DECREASE")) | F24: =IF($B31="","",IF(F$23>=0,"INCREASE","DECREASE")) | G24: =IF($B31="","",IF(G$23>=0,"INCREASE","DECREASE")) | H24: =IF($B31="","",IF(H$23>=0,"INCREASE","DECREASE")) | I24: =IF($B31="","",IF(I$23>=0,"INCREASE","DECREASE")) | J24: =IF($B31="","",IF(J$23>=0,"INCREASE","DECREASE")) | ... V24: =IF($B31="","",IF(V$23>=0,"INCREASE","DECREASE")) | AI24: Peas- Vining | AJ24: 1.5 | AK24: 3 | AL24: 22 | AM24: 6.7 | AN24: Arable
AI25: Potatoes- tubers only | AJ25: 1 | AK25: 5.8 | AL25: 23 | AM25: 6.7 | AN25: Arable
B26: Dry Matter | C26: Total Nitrogen | D26: Total Phosphorus (P) | E26: Total Potassium (K) | F26: Total Magnesium (Mg) | G26: Total Copper | H26: Total Zinc | I26: Total Lead | J26: Total Cadmium | K26: Total Mercury | L26: Total Nickel | M26: Total Chromium | N26: Total Aluminium | O26: Total Iron | P26: Total Na (Sodium) | Q26: Total Sulphur (S) | R26: Total Selenium | S26: Total Arsenic | T26: Total Mo | U26: Total Fluoride | AI26: Swedes- roots only | AJ26: 0.7 | AK26: 2.4 | AL26: 24 | AM26: 6.7 | AN26: Arable
B27: % | C27: %w/w DM | D27: %w/w DM | E27: %w/w DM | F27: mg/kg DM | G27: mg/kg DM | H27: mg/kg DM | I27: mg/kg DM | J27: mg/kg DM | K27: mg/kg DM | L27: mg/kg DM | M27: mg/kg DM | N27: mg/kg DM | O27: mg/kg DM | Q27: mg/kg DM | S27: mg/kg DM
B28: 14.7 | C28: 1.32 | D28: 0.441 | E28: 0.0707 | F28: 1020 | G28: 67.9 | H28: 119 | I28: 9.3 | J28: 0.39 | K28: 0.34 | L28: 28.8 | M28: 10.8 | N28: 154000 | O28: 23400 | Q28: 5860 | S28: 17.4
A29: Field Ref | B29: Application Rate | C29: Nitrogen Addition | D29: Phosphate Addition | E29: Potash Addition | F29: Mg Oxide Addition | G29: Copper Addition | H29: Zinc Addition | I29: Lead Addition | J29: Cadmium Addition | K29: Mercury Addition | L29: Nickel Addition | M29: Chromium Addition | N29: Aluminium Addition | O29: Iron Addition | P29: Sodium Addition | Q29: SO3 Addition kg/ha | R29: Selenium Addition | S29: Arsenic Addition | T29: Molybdenum Addition | U29: Fluoride Addition
B30: tonnes/ha | C30: kg/ha | D30: P2O5 kg/ha | E30: K2O kg/ha | F30: MgO kg/ha | G30: kg/ha | H30: kg/ha | I30: kg/ha | J30: kg/ha | K30: kg/ha | L30: kg/ha | M30: kg/ha | N30: kg/ha | O30: kg/ha | P30: kg/ha | Q30: kg/ha | R30: kg/ha | S30: kg/ha | T30: kg/ha | U30: kg/ha
A31: =C8 -> 0 | C31: =IF(C$27="%w/w SAR",((C$28*10)*$B31),IF(C$27="%w/w DM",(((C$28*10)*($B$28/100))*$B31),IF(C$27="kg/t SAR",(C$28*$B31),IF(C$27="kg/t DM",((C$28*($B$28/100))*$B31),IF(C$27="mg/kg SAR",((C$28*0.001)*$B31),IF(C$27="mg/kg DM",(((C$28*0.001)*($B$28/100))*$B31),0)))))) -> 0 | D31: =(IF(D$27="%w/w SAR",((D$28*10)*$B31),IF(D$27="%w/w DM",(((D$28*10)*($B$28/100))*$B31),IF(D$27="kg/t SAR",(D$28*$B31),IF(D$27="kg/t DM",((D$28*($B$28/100))*$B31),IF(D$27="mg/kg SAR",((D$28*0.001)*$B31),IF(D$27="mg/kg DM",(((D$28*0.001)*($B$28/100))*$B31),"0")))))))*2.291 -> 0 | E31: =(IF(E$27="%w/w SAR",((E$28*10)*$B31),IF(E$27="%w/w DM",(((E$28*10)*($B$28/100))*$B31),IF(E$27="kg/t SAR",(E$28*$B31),IF(E$27="kg/t DM",((E$28*($B$28/100))*$B31),IF(E$27="mg/kg SAR",((E$28*0.001)*$B31),IF(E$27="mg/kg DM",(((E$28*0.001)*($B$28/100))*$B31),"0")))))))*1.205 -> 0 | F31: =(IF(F$27="%w/w SAR",((F$28*10)*$B31),IF(F$27="%w/w DM",(((F$28*10)*($B$28/100))*$B31),IF(F$27="kg/t SAR",(F$28*$B31),IF(F$27="kg/t DM",((F$28*($B$28/100))*$B31),IF(F$27="mg/kg SAR",((F$28*0.001)*$B31),IF(F$27="mg/kg DM",(((F$28*0.001)*($B$28/100))*$B31),"0")))))))*1.658 -> 0 | G31: =IF(G$27="%w/w SAR",((G$28*10)*$B31),IF(G$27="%w/w DM",(((G$28*10)*($B$28/100))*$B31),IF(G$27="kg/t SAR",(G$28*$B31),IF(G$27="kg/t DM",((G$28*($B$28/100))*$B31),IF(G$27="mg/kg SAR",((G$28*0.001)*$B31),IF(G$27="mg/kg DM",(((G$28*0.001)*($B$28/100))*$B31),0)))))) -> 0 | H31: =IF(H$27="%w/w SAR",((H$28*10)*$B31),IF(H$27="%w/w DM",(((H$28*10)*($B$28/100))*$B31),IF(H$27="kg/t SAR",(H$28*$B31),IF(H$27="kg/t DM",((H$28*($B$28/100))*$B31),IF(H$27="mg/kg SAR",((H$28*0.001)*$B31),IF(H$27="mg/kg DM",(((H$28*0.001)*($B$28/100))*$B31),0)))))) -> 0 | I31: =IF(I$27="%w/w SAR",((I$28*10)*$B31),IF(I$27="%w/w DM",(((I$28*10)*($B$28/100))*$B31),IF(I$27="kg/t SAR",(I$28*$B31),IF(I$27="kg/t DM",((I$28*($B$28/100))*$B31),IF(I$27="mg/kg SAR",((I$28*0.001)*$B31),IF(I$27="mg/kg DM",(((I$28*0.001)*($B$28/100))*$B31),0)))))) -> 0 | J31: =IF(J$27="%w/w SAR",((J$28*10)*$B31),IF(J$27="%w/w DM",(((J$28*10)*($B$28/100))*$B31),IF(J$27="kg/t SAR",(J$28*$B31),IF(J$27="kg/t DM",((J$28*($B$28/100))*$B31),IF(J$27="mg/kg SAR",((J$28*0.001)*$B31),IF(J$27="mg/kg DM",(((J$28*0.001)*($B$28/100))*$B31),0)))))) -> 0 | K31: =IF(K$27="%w/w SAR",((K$28*10)*$B31),IF(K$27="%w/w DM",(((K$28*10)*($B$28/100))*$B31),IF(K$27="kg/t SAR",(K$28*$B31),IF(K$27="kg/t DM",((K$28*($B$28/100))*$B31),IF(K$27="mg/kg SAR",((K$28*0.001)*$B31),IF(K$27="mg/kg DM",(((K$28*0.001)*($B$28/100))*$B31),0)))))) -> 0 | L31: =IF(L$27="%w/w SAR",((L$28*10)*$B31),IF(L$27="%w/w DM",(((L$28*10)*($B$28/100))*$B31),IF(L$27="kg/t SAR",(L$28*$B31),IF(L$27="kg/t DM",((L$28*($B$28/100))*$B31),IF(L$27="mg/kg SAR",((L$28*0.001)*$B31),IF(L$27="mg/kg DM",(((L$28*0.001)*($B$28/100))*$B31),0)))))) -> 0 | M31: =IF(M$27="%w/w SAR",((M$28*10)*$B31),IF(M$27="%w/w DM",(((M$28*10)*($B$28/100))*$B31),IF(M$27="kg/t SAR",(M$28*$B31),IF(M$27="kg/t DM",((M$28*($B$28/100))*$B31),IF(M$27="mg/kg SAR",((M$28*0.001)*$B31),IF(M$27="mg/kg DM",(((M$28*0.001)*($B$28/100))*$B31),0)))))) -> 0 | N31: =IF(N$27="%w/w SAR",((N$28*10)*$B31),IF(N$27="%w/w DM",(((N$28*10)*($B$28/100))*$B31),IF(N$27="kg/t SAR",(N$28*$B31),IF(N$27="kg/t DM",((N$28*($B$28/100))*$B31),IF(N$27="mg/kg SAR",((N$28*0.001)*$B31),IF(N$27="mg/kg DM",(((N$28*0.001)*($B$28/100))*$B31),0)))))) -> 0 | ... P31: =IF(P$27="%w/w SAR",((P$28*10)*$B31),IF(P$27="%w/w DM",(((P$28*10)*($B$28/100))*$B31),IF(P$27="kg/t SAR",(P$28*$B31),IF(P$27="kg/t DM",((P$28*($B$28/100))*$B31),IF(P$27="mg/kg SAR",((P$28*0.001)*$B31),IF(P$27="mg/kg DM",(((P$28*0.001)*($B$28/100))*$B31),0)))))) -> 0 | Q31: =(IF(Q$27="%w/w SAR",((Q$28*10)*$B31),IF(Q$27="%w/w DM",(((Q$28*10)*($B$28/100))*$B31),IF(Q$27="kg/t SAR",(Q$28*$B31),IF(Q$27="kg/t DM",((Q$28*($B$28/100))*$B31),IF(Q$27="mg/kg SAR",((Q$28*0.001)*$B31),IF(Q$27="mg/kg DM",(((Q$28*0.001)*($B$28/100))*$B31),0)))))))*2.5 -> 0 | R31: =IF(R$27="%w/w SAR",((R$28*10)*$B31),IF(R$27="%w/w DM",(((R$28*10)*($B$28/100))*$B31),IF(R$27="kg/t SAR",(R$28*$B31),IF(R$27="kg/t DM",((R$28*($B$28/100))*$B31),IF(R$27="mg/kg SAR",((R$28*0.001)*$B31),IF(R$27="mg/kg DM",(((R$28*0.001)*($B$28/100))*$B31),0)))))) -> 0 | S31: =IF(S$27="%w/w SAR",((S$28*10)*$B31),IF(S$27="%w/w DM",(((S$28*10)*($B$28/100))*$B31),IF(S$27="kg/t SAR",(S$28*$B31),IF(S$27="kg/t DM",((S$28*($B$28/100))*$B31),IF(S$27="mg/kg SAR",((S$28*0.001)*$B31),IF(S$27="mg/kg DM",(((S$28*0.001)*($B$28/100))*$B31),0)))))) -> 0 | T31: =IF(T$27="%w/w SAR",((T$28*10)*$B31),IF(T$27="%w/w DM",(((T$28*10)*($B$28/100))*$B31),IF(T$27="kg/t SAR",(T$28*$B31),IF(T$27="kg/t DM",((T$28*($B$28/100))*$B31),IF(T$27="mg/kg SAR",((T$28*0.001)*$B31),IF(T$27="mg/kg DM",(((T$28*0.001)*($B$28/100))*$B31),0)))))) -> 0 | U31: =IF(U$27="%w/w SAR",((U$28*10)*$B31),IF(U$27="%w/w DM",(((U$28*10)*($B$28/100))*$B31),IF(U$27="kg/t SAR",(U$28*$B31),IF(U$27="kg/t DM",((U$28*($B$28/100))*$B31),IF(U$27="mg/kg SAR",((U$28*0.001)*$B31),IF(U$27="mg/kg DM",(((U$28*0.001)*($B$28/100))*$B31),0)))))) -> 0
A32: =D8 -> 2 | B32: 50 | C32: =IF(C$27="%w/w SAR",((C$28*10)*$B32),IF(C$27="%w/w DM",(((C$28*10)*($B$28/100))*$B32),IF(C$27="kg/t SAR",(C$28*$B32),IF(C$27="kg/t DM",((C$28*($B$28/100))*$B32),IF(C$27="mg/kg SAR",((C$28*0.001)*$B32),IF(C$27="mg/kg DM",(((C$28*0.001)*($B$28/100))*$B32),0)))))) -> 97.02 | D32: =(IF(D$27="%w/w SAR",((D$28*10)*$B32),IF(D$27="%w/w DM",(((D$28*10)*($B$28/100))*$B32),IF(D$27="kg/t SAR",(D$28*$B32),IF(D$27="kg/t DM",((D$28*($B$28/100))*$B32),IF(D$27="mg/kg SAR",((D$28*0.001)*$B32),IF(D$27="mg/kg DM",(((D$28*0.001)*($B$28/100))*$B32),"0")))))))*2.291 -> 74.259328 | E32: =(IF(E$27="%w/w SAR",((E$28*10)*$B32),IF(E$27="%w/w DM",(((E$28*10)*($B$28/100))*$B32),IF(E$27="kg/t SAR",(E$28*$B32),IF(E$27="kg/t DM",((E$28*($B$28/100))*$B32),IF(E$27="mg/kg SAR",((E$28*0.001)*$B32),IF(E$27="mg/kg DM",(((E$28*0.001)*($B$28/100))*$B32),"0")))))))*1.205 -> 6.2617223 | F32: =(IF(F$27="%w/w SAR",((F$28*10)*$B32),IF(F$27="%w/w DM",(((F$28*10)*($B$28/100))*$B32),IF(F$27="kg/t SAR",(F$28*$B32),IF(F$27="kg/t DM",((F$28*($B$28/100))*$B32),IF(F$27="mg/kg SAR",((F$28*0.001)*$B32),IF(F$27="mg/kg DM",(((F$28*0.001)*($B$28/100))*$B32),"0")))))))*1.658 -> 12.430026 | G32: =IF(G$27="%w/w SAR",((G$28*10)*$B32),IF(G$27="%w/w DM",(((G$28*10)*($B$28/100))*$B32),IF(G$27="kg/t SAR",(G$28*$B32),IF(G$27="kg/t DM",((G$28*($B$28/100))*$B32),IF(G$27="mg/kg SAR",((G$28*0.001)*$B32),IF(G$27="mg/kg DM",(((G$28*0.001)*($B$28/100))*$B32),0)))))) -> 0.499065 | H32: =IF(H$27="%w/w SAR",((H$28*10)*$B32),IF(H$27="%w/w DM",(((H$28*10)*($B$28/100))*$B32),IF(H$27="kg/t SAR",(H$28*$B32),IF(H$27="kg/t DM",((H$28*($B$28/100))*$B32),IF(H$27="mg/kg SAR",((H$28*0.001)*$B32),IF(H$27="mg/kg DM",(((H$28*0.001)*($B$28/100))*$B32),0)))))) -> 0.87465 | I32: =IF(I$27="%w/w SAR",((I$28*10)*$B32),IF(I$27="%w/w DM",(((I$28*10)*($B$28/100))*$B32),IF(I$27="kg/t SAR",(I$28*$B32),IF(I$27="kg/t DM",((I$28*($B$28/100))*$B32),IF(I$27="mg/kg SAR",((I$28*0.001)*$B32),IF(I$27="mg/kg DM",(((I$28*0.001)*($B$28/100))*$B32),0)))))) -> 0.068355 | J32: =IF(J$27="%w/w SAR",((J$28*10)*$B32),IF(J$27="%w/w DM",(((J$28*10)*($B$28/100))*$B32),IF(J$27="kg/t SAR",(J$28*$B32),IF(J$27="kg/t DM",((J$28*($B$28/100))*$B32),IF(J$27="mg/kg SAR",((J$28*0.001)*$B32),IF(J$27="mg/kg DM",(((J$28*0.001)*($B$28/100))*$B32),0)))))) -> 0.0028665 | K32: =IF(K$27="%w/w SAR",((K$28*10)*$B32),IF(K$27="%w/w DM",(((K$28*10)*($B$28/100))*$B32),IF(K$27="kg/t SAR",(K$28*$B32),IF(K$27="kg/t DM",((K$28*($B$28/100))*$B32),IF(K$27="mg/kg SAR",((K$28*0.001)*$B32),IF(K$27="mg/kg DM",(((K$28*0.001)*($B$28/100))*$B32),0)))))) -> 0.002499 | L32: =IF(L$27="%w/w SAR",((L$28*10)*$B32),IF(L$27="%w/w DM",(((L$28*10)*($B$28/100))*$B32),IF(L$27="kg/t SAR",(L$28*$B32),IF(L$27="kg/t DM",((L$28*($B$28/100))*$B32),IF(L$27="mg/kg SAR",((L$28*0.001)*$B32),IF(L$27="mg/kg DM",(((L$28*0.001)*($B$28/100))*$B32),0)))))) -> 0.21168 | M32: =IF(M$27="%w/w SAR",((M$28*10)*$B32),IF(M$27="%w/w DM",(((M$28*10)*($B$28/100))*$B32),IF(M$27="kg/t SAR",(M$28*$B32),IF(M$27="kg/t DM",((M$28*($B$28/100))*$B32),IF(M$27="mg/kg SAR",((M$28*0.001)*$B32),IF(M$27="mg/kg DM",(((M$28*0.001)*($B$28/100))*$B32),0)))))) -> 0.07938 | N32: =IF(N$27="%w/w SAR",((N$28*10)*$B32),IF(N$27="%w/w DM",(((N$28*10)*($B$28/100))*$B32),IF(N$27="kg/t SAR",(N$28*$B32),IF(N$27="kg/t DM",((N$28*($B$28/100))*$B32),IF(N$27="mg/kg SAR",((N$28*0.001)*$B32),IF(N$27="mg/kg DM",(((N$28*0.001)*($B$28/100))*$B32),0)))))) -> 1131.9 | ... P32: =IF(P$27="%w/w SAR",((P$28*10)*$B32),IF(P$27="%w/w DM",(((P$28*10)*($B$28/100))*$B32),IF(P$27="kg/t SAR",(P$28*$B32),IF(P$27="kg/t DM",((P$28*($B$28/100))*$B32),IF(P$27="mg/kg SAR",((P$28*0.001)*$B32),IF(P$27="mg/kg DM",(((P$28*0.001)*($B$28/100))*$B32),0)))))) -> 0 | Q32: =(IF(Q$27="%w/w SAR",((Q$28*10)*$B32),IF(Q$27="%w/w DM",(((Q$28*10)*($B$28/100))*$B32),IF(Q$27="kg/t SAR",(Q$28*$B32),IF(Q$27="kg/t DM",((Q$28*($B$28/100))*$B32),IF(Q$27="mg/kg SAR",((Q$28*0.001)*$B32),IF(Q$27="mg/kg DM",(((Q$28*0.001)*($B$28/100))*$B32),0)))))))*2.5 -> 107.6775 | R32: =IF(R$27="%w/w SAR",((R$28*10)*$B32),IF(R$27="%w/w DM",(((R$28*10)*($B$28/100))*$B32),IF(R$27="kg/t SAR",(R$28*$B32),IF(R$27="kg/t DM",((R$28*($B$28/100))*$B32),IF(R$27="mg/kg SAR",((R$28*0.001)*$B32),IF(R$27="mg/kg DM",(((R$28*0.001)*($B$28/100))*$B32),0)))))) -> 0 | S32: =IF(S$27="%w/w SAR",((S$28*10)*$B32),IF(S$27="%w/w DM",(((S$28*10)*($B$28/100))*$B32),IF(S$27="kg/t SAR",(S$28*$B32),IF(S$27="kg/t DM",((S$28*($B$28/100))*$B32),IF(S$27="mg/kg SAR",((S$28*0.001)*$B32),IF(S$27="mg/kg DM",(((S$28*0.001)*($B$28/100))*$B32),0)))))) -> 0.12789 | T32: =IF(T$27="%w/w SAR",((T$28*10)*$B32),IF(T$27="%w/w DM",(((T$28*10)*($B$28/100))*$B32),IF(T$27="kg/t SAR",(T$28*$B32),IF(T$27="kg/t DM",((T$28*($B$28/100))*$B32),IF(T$27="mg/kg SAR",((T$28*0.001)*$B32),IF(T$27="mg/kg DM",(((T$28*0.001)*($B$28/100))*$B32),0)))))) -> 0 | U32: =IF(U$27="%w/w SAR",((U$28*10)*$B32),IF(U$27="%w/w DM",(((U$28*10)*($B$28/100))*$B32),IF(U$27="kg/t SAR",(U$28*$B32),IF(U$27="kg/t DM",((U$28*($B$28/100))*$B32),IF(U$27="mg/kg SAR",((U$28*0.001)*$B32),IF(U$27="mg/kg DM",(((U$28*0.001)*($B$28/100))*$B32),0)))))) -> 0
A33: =E8 -> 3 | B33: 50 | C33: =IF(C$27="%w/w SAR",((C$28*10)*$B33),IF(C$27="%w/w DM",(((C$28*10)*($B$28/100))*$B33),IF(C$27="kg/t SAR",(C$28*$B33),IF(C$27="kg/t DM",((C$28*($B$28/100))*$B33),IF(C$27="mg/kg SAR",((C$28*0.001)*$B33),IF(C$27="mg/kg DM",(((C$28*0.001)*($B$28/100))*$B33),0)))))) -> 97.02 | D33: =(IF(D$27="%w/w SAR",((D$28*10)*$B33),IF(D$27="%w/w DM",(((D$28*10)*($B$28/100))*$B33),IF(D$27="kg/t SAR",(D$28*$B33),IF(D$27="kg/t DM",((D$28*($B$28/100))*$B33),IF(D$27="mg/kg SAR",((D$28*0.001)*$B33),IF(D$27="mg/kg DM",(((D$28*0.001)*($B$28/100))*$B33),"0")))))))*2.291 -> 74.259328 | E33: =(IF(E$27="%w/w SAR",((E$28*10)*$B33),IF(E$27="%w/w DM",(((E$28*10)*($B$28/100))*$B33),IF(E$27="kg/t SAR",(E$28*$B33),IF(E$27="kg/t DM",((E$28*($B$28/100))*$B33),IF(E$27="mg/kg SAR",((E$28*0.001)*$B33),IF(E$27="mg/kg DM",(((E$28*0.001)*($B$28/100))*$B33),"0")))))))*1.205 -> 6.2617223 | F33: =(IF(F$27="%w/w SAR",((F$28*10)*$B33),IF(F$27="%w/w DM",(((F$28*10)*($B$28/100))*$B33),IF(F$27="kg/t SAR",(F$28*$B33),IF(F$27="kg/t DM",((F$28*($B$28/100))*$B33),IF(F$27="mg/kg SAR",((F$28*0.001)*$B33),IF(F$27="mg/kg DM",(((F$28*0.001)*($B$28/100))*$B33),"0")))))))*1.658 -> 12.430026 | G33: =IF(G$27="%w/w SAR",((G$28*10)*$B33),IF(G$27="%w/w DM",(((G$28*10)*($B$28/100))*$B33),IF(G$27="kg/t SAR",(G$28*$B33),IF(G$27="kg/t DM",((G$28*($B$28/100))*$B33),IF(G$27="mg/kg SAR",((G$28*0.001)*$B33),IF(G$27="mg/kg DM",(((G$28*0.001)*($B$28/100))*$B33),0)))))) -> 0.499065 | H33: =IF(H$27="%w/w SAR",((H$28*10)*$B33),IF(H$27="%w/w DM",(((H$28*10)*($B$28/100))*$B33),IF(H$27="kg/t SAR",(H$28*$B33),IF(H$27="kg/t DM",((H$28*($B$28/100))*$B33),IF(H$27="mg/kg SAR",((H$28*0.001)*$B33),IF(H$27="mg/kg DM",(((H$28*0.001)*($B$28/100))*$B33),0)))))) -> 0.87465 | I33: =IF(I$27="%w/w SAR",((I$28*10)*$B33),IF(I$27="%w/w DM",(((I$28*10)*($B$28/100))*$B33),IF(I$27="kg/t SAR",(I$28*$B33),IF(I$27="kg/t DM",((I$28*($B$28/100))*$B33),IF(I$27="mg/kg SAR",((I$28*0.001)*$B33),IF(I$27="mg/kg DM",(((I$28*0.001)*($B$28/100))*$B33),0)))))) -> 0.068355 | J33: =IF(J$27="%w/w SAR",((J$28*10)*$B33),IF(J$27="%w/w DM",(((J$28*10)*($B$28/100))*$B33),IF(J$27="kg/t SAR",(J$28*$B33),IF(J$27="kg/t DM",((J$28*($B$28/100))*$B33),IF(J$27="mg/kg SAR",((J$28*0.001)*$B33),IF(J$27="mg/kg DM",(((J$28*0.001)*($B$28/100))*$B33),0)))))) -> 0.0028665 | K33: =IF(K$27="%w/w SAR",((K$28*10)*$B33),IF(K$27="%w/w DM",(((K$28*10)*($B$28/100))*$B33),IF(K$27="kg/t SAR",(K$28*$B33),IF(K$27="kg/t DM",((K$28*($B$28/100))*$B33),IF(K$27="mg/kg SAR",((K$28*0.001)*$B33),IF(K$27="mg/kg DM",(((K$28*0.001)*($B$28/100))*$B33),0)))))) -> 0.002499 | L33: =IF(L$27="%w/w SAR",((L$28*10)*$B33),IF(L$27="%w/w DM",(((L$28*10)*($B$28/100))*$B33),IF(L$27="kg/t SAR",(L$28*$B33),IF(L$27="kg/t DM",((L$28*($B$28/100))*$B33),IF(L$27="mg/kg SAR",((L$28*0.001)*$B33),IF(L$27="mg/kg DM",(((L$28*0.001)*($B$28/100))*$B33),0)))))) -> 0.21168 | M33: =IF(M$27="%w/w SAR",((M$28*10)*$B33),IF(M$27="%w/w DM",(((M$28*10)*($B$28/100))*$B33),IF(M$27="kg/t SAR",(M$28*$B33),IF(M$27="kg/t DM",((M$28*($B$28/100))*$B33),IF(M$27="mg/kg SAR",((M$28*0.001)*$B33),IF(M$27="mg/kg DM",(((M$28*0.001)*($B$28/100))*$B33),0)))))) -> 0.07938 | N33: =IF(N$27="%w/w SAR",((N$28*10)*$B33),IF(N$27="%w/w DM",(((N$28*10)*($B$28/100))*$B33),IF(N$27="kg/t SAR",(N$28*$B33),IF(N$27="kg/t DM",((N$28*($B$28/100))*$B33),IF(N$27="mg/kg SAR",((N$28*0.001)*$B33),IF(N$27="mg/kg DM",(((N$28*0.001)*($B$28/100))*$B33),0)))))) -> 1131.9 | ... P33: =IF(P$27="%w/w SAR",((P$28*10)*$B33),IF(P$27="%w/w DM",(((P$28*10)*($B$28/100))*$B33),IF(P$27="kg/t SAR",(P$28*$B33),IF(P$27="kg/t DM",((P$28*($B$28/100))*$B33),IF(P$27="mg/kg SAR",((P$28*0.001)*$B33),IF(P$27="mg/kg DM",(((P$28*0.001)*($B$28/100))*$B33),0)))))) -> 0 | Q33: =(IF(Q$27="%w/w SAR",((Q$28*10)*$B33),IF(Q$27="%w/w DM",(((Q$28*10)*($B$28/100))*$B33),IF(Q$27="kg/t SAR",(Q$28*$B33),IF(Q$27="kg/t DM",((Q$28*($B$28/100))*$B33),IF(Q$27="mg/kg SAR",((Q$28*0.001)*$B33),IF(Q$27="mg/kg DM",(((Q$28*0.001)*($B$28/100))*$B33),0)))))))*2.5 -> 107.6775 | R33: =IF(R$27="%w/w SAR",((R$28*10)*$B33),IF(R$27="%w/w DM",(((R$28*10)*($B$28/100))*$B33),IF(R$27="kg/t SAR",(R$28*$B33),IF(R$27="kg/t DM",((R$28*($B$28/100))*$B33),IF(R$27="mg/kg SAR",((R$28*0.001)*$B33),IF(R$27="mg/kg DM",(((R$28*0.001)*($B$28/100))*$B33),0)))))) -> 0 | S33: =IF(S$27="%w/w SAR",((S$28*10)*$B33),IF(S$27="%w/w DM",(((S$28*10)*($B$28/100))*$B33),IF(S$27="kg/t SAR",(S$28*$B33),IF(S$27="kg/t DM",((S$28*($B$28/100))*$B33),IF(S$27="mg/kg SAR",((S$28*0.001)*$B33),IF(S$27="mg/kg DM",(((S$28*0.001)*($B$28/100))*$B33),0)))))) -> 0.12789 | T33: =IF(T$27="%w/w SAR",((T$28*10)*$B33),IF(T$27="%w/w DM",(((T$28*10)*($B$28/100))*$B33),IF(T$27="kg/t SAR",(T$28*$B33),IF(T$27="kg/t DM",((T$28*($B$28/100))*$B33),IF(T$27="mg/kg SAR",((T$28*0.001)*$B33),IF(T$27="mg/kg DM",(((T$28*0.001)*($B$28/100))*$B33),0)))))) -> 0 | U33: =IF(U$27="%w/w SAR",((U$28*10)*$B33),IF(U$27="%w/w DM",(((U$28*10)*($B$28/100))*$B33),IF(U$27="kg/t SAR",(U$28*$B33),IF(U$27="kg/t DM",((U$28*($B$28/100))*$B33),IF(U$27="mg/kg SAR",((U$28*0.001)*$B33),IF(U$27="mg/kg DM",(((U$28*0.001)*($B$28/100))*$B33),0)))))) -> 0
A34: =F8 -> 4 | B34: 50 | C34: =IF(C$27="%w/w SAR",((C$28*10)*$B34),IF(C$27="%w/w DM",(((C$28*10)*($B$28/100))*$B34),IF(C$27="kg/t SAR",(C$28*$B34),IF(C$27="kg/t DM",((C$28*($B$28/100))*$B34),IF(C$27="mg/kg SAR",((C$28*0.001)*$B34),IF(C$27="mg/kg DM",(((C$28*0.001)*($B$28/100))*$B34),0)))))) -> 97.02 | D34: =(IF(D$27="%w/w SAR",((D$28*10)*$B34),IF(D$27="%w/w DM",(((D$28*10)*($B$28/100))*$B34),IF(D$27="kg/t SAR",(D$28*$B34),IF(D$27="kg/t DM",((D$28*($B$28/100))*$B34),IF(D$27="mg/kg SAR",((D$28*0.001)*$B34),IF(D$27="mg/kg DM",(((D$28*0.001)*($B$28/100))*$B34),"0")))))))*2.291 -> 74.259328 | E34: =(IF(E$27="%w/w SAR",((E$28*10)*$B34),IF(E$27="%w/w DM",(((E$28*10)*($B$28/100))*$B34),IF(E$27="kg/t SAR",(E$28*$B34),IF(E$27="kg/t DM",((E$28*($B$28/100))*$B34),IF(E$27="mg/kg SAR",((E$28*0.001)*$B34),IF(E$27="mg/kg DM",(((E$28*0.001)*($B$28/100))*$B34),"0")))))))*1.205 -> 6.2617223 | F34: =(IF(F$27="%w/w SAR",((F$28*10)*$B34),IF(F$27="%w/w DM",(((F$28*10)*($B$28/100))*$B34),IF(F$27="kg/t SAR",(F$28*$B34),IF(F$27="kg/t DM",((F$28*($B$28/100))*$B34),IF(F$27="mg/kg SAR",((F$28*0.001)*$B34),IF(F$27="mg/kg DM",(((F$28*0.001)*($B$28/100))*$B34),"0")))))))*1.658 -> 12.430026 | G34: =IF(G$27="%w/w SAR",((G$28*10)*$B34),IF(G$27="%w/w DM",(((G$28*10)*($B$28/100))*$B34),IF(G$27="kg/t SAR",(G$28*$B34),IF(G$27="kg/t DM",((G$28*($B$28/100))*$B34),IF(G$27="mg/kg SAR",((G$28*0.001)*$B34),IF(G$27="mg/kg DM",(((G$28*0.001)*($B$28/100))*$B34),0)))))) -> 0.499065 | H34: =IF(H$27="%w/w SAR",((H$28*10)*$B34),IF(H$27="%w/w DM",(((H$28*10)*($B$28/100))*$B34),IF(H$27="kg/t SAR",(H$28*$B34),IF(H$27="kg/t DM",((H$28*($B$28/100))*$B34),IF(H$27="mg/kg SAR",((H$28*0.001)*$B34),IF(H$27="mg/kg DM",(((H$28*0.001)*($B$28/100))*$B34),0)))))) -> 0.87465 | I34: =IF(I$27="%w/w SAR",((I$28*10)*$B34),IF(I$27="%w/w DM",(((I$28*10)*($B$28/100))*$B34),IF(I$27="kg/t SAR",(I$28*$B34),IF(I$27="kg/t DM",((I$28*($B$28/100))*$B34),IF(I$27="mg/kg SAR",((I$28*0.001)*$B34),IF(I$27="mg/kg DM",(((I$28*0.001)*($B$28/100))*$B34),0)))))) -> 0.068355 | J34: =IF(J$27="%w/w SAR",((J$28*10)*$B34),IF(J$27="%w/w DM",(((J$28*10)*($B$28/100))*$B34),IF(J$27="kg/t SAR",(J$28*$B34),IF(J$27="kg/t DM",((J$28*($B$28/100))*$B34),IF(J$27="mg/kg SAR",((J$28*0.001)*$B34),IF(J$27="mg/kg DM",(((J$28*0.001)*($B$28/100))*$B34),0)))))) -> 0.0028665 | K34: =IF(K$27="%w/w SAR",((K$28*10)*$B34),IF(K$27="%w/w DM",(((K$28*10)*($B$28/100))*$B34),IF(K$27="kg/t SAR",(K$28*$B34),IF(K$27="kg/t DM",((K$28*($B$28/100))*$B34),IF(K$27="mg/kg SAR",((K$28*0.001)*$B34),IF(K$27="mg/kg DM",(((K$28*0.001)*($B$28/100))*$B34),0)))))) -> 0.002499 | L34: =IF(L$27="%w/w SAR",((L$28*10)*$B34),IF(L$27="%w/w DM",(((L$28*10)*($B$28/100))*$B34),IF(L$27="kg/t SAR",(L$28*$B34),IF(L$27="kg/t DM",((L$28*($B$28/100))*$B34),IF(L$27="mg/kg SAR",((L$28*0.001)*$B34),IF(L$27="mg/kg DM",(((L$28*0.001)*($B$28/100))*$B34),0)))))) -> 0.21168 | M34: =IF(M$27="%w/w SAR",((M$28*10)*$B34),IF(M$27="%w/w DM",(((M$28*10)*($B$28/100))*$B34),IF(M$27="kg/t SAR",(M$28*$B34),IF(M$27="kg/t DM",((M$28*($B$28/100))*$B34),IF(M$27="mg/kg SAR",((M$28*0.001)*$B34),IF(M$27="mg/kg DM",(((M$28*0.001)*($B$28/100))*$B34),0)))))) -> 0.07938 | N34: =IF(N$27="%w/w SAR",((N$28*10)*$B34),IF(N$27="%w/w DM",(((N$28*10)*($B$28/100))*$B34),IF(N$27="kg/t SAR",(N$28*$B34),IF(N$27="kg/t DM",((N$28*($B$28/100))*$B34),IF(N$27="mg/kg SAR",((N$28*0.001)*$B34),IF(N$27="mg/kg DM",(((N$28*0.001)*($B$28/100))*$B34),0)))))) -> 1131.9 | ... P34: =IF(P$27="%w/w SAR",((P$28*10)*$B34),IF(P$27="%w/w DM",(((P$28*10)*($B$28/100))*$B34),IF(P$27="kg/t SAR",(P$28*$B34),IF(P$27="kg/t DM",((P$28*($B$28/100))*$B34),IF(P$27="mg/kg SAR",((P$28*0.001)*$B34),IF(P$27="mg/kg DM",(((P$28*0.001)*($B$28/100))*$B34),0)))))) -> 0 | Q34: =(IF(Q$27="%w/w SAR",((Q$28*10)*$B34),IF(Q$27="%w/w DM",(((Q$28*10)*($B$28/100))*$B34),IF(Q$27="kg/t SAR",(Q$28*$B34),IF(Q$27="kg/t DM",((Q$28*($B$28/100))*$B34),IF(Q$27="mg/kg SAR",((Q$28*0.001)*$B34),IF(Q$27="mg/kg DM",(((Q$28*0.001)*($B$28/100))*$B34),0)))))))*2.5 -> 107.6775 | R34: =IF(R$27="%w/w SAR",((R$28*10)*$B34),IF(R$27="%w/w DM",(((R$28*10)*($B$28/100))*$B34),IF(R$27="kg/t SAR",(R$28*$B34),IF(R$27="kg/t DM",((R$28*($B$28/100))*$B34),IF(R$27="mg/kg SAR",((R$28*0.001)*$B34),IF(R$27="mg/kg DM",(((R$28*0.001)*($B$28/100))*$B34),0)))))) -> 0 | S34: =IF(S$27="%w/w SAR",((S$28*10)*$B34),IF(S$27="%w/w DM",(((S$28*10)*($B$28/100))*$B34),IF(S$27="kg/t SAR",(S$28*$B34),IF(S$27="kg/t DM",((S$28*($B$28/100))*$B34),IF(S$27="mg/kg SAR",((S$28*0.001)*$B34),IF(S$27="mg/kg DM",(((S$28*0.001)*($B$28/100))*$B34),0)))))) -> 0.12789 | T34: =IF(T$27="%w/w SAR",((T$28*10)*$B34),IF(T$27="%w/w DM",(((T$28*10)*($B$28/100))*$B34),IF(T$27="kg/t SAR",(T$28*$B34),IF(T$27="kg/t DM",((T$28*($B$28/100))*$B34),IF(T$27="mg/kg SAR",((T$28*0.001)*$B34),IF(T$27="mg/kg DM",(((T$28*0.001)*($B$28/100))*$B34),0)))))) -> 0 | U34: =IF(U$27="%w/w SAR",((U$28*10)*$B34),IF(U$27="%w/w DM",(((U$28*10)*($B$28/100))*$B34),IF(U$27="kg/t SAR",(U$28*$B34),IF(U$27="kg/t DM",((U$28*($B$28/100))*$B34),IF(U$27="mg/kg SAR",((U$28*0.001)*$B34),IF(U$27="mg/kg DM",(((U$28*0.001)*($B$28/100))*$B34),0)))))) -> 0
A35: =G8 -> 5a | B35: 50 | C35: =IF(C$27="%w/w SAR",((C$28*10)*$B35),IF(C$27="%w/w DM",(((C$28*10)*($B$28/100))*$B35),IF(C$27="kg/t SAR",(C$28*$B35),IF(C$27="kg/t DM",((C$28*($B$28/100))*$B35),IF(C$27="mg/kg SAR",((C$28*0.001)*$B35),IF(C$27="mg/kg DM",(((C$28*0.001)*($B$28/100))*$B35),0)))))) -> 97.02 | D35: =(IF(D$27="%w/w SAR",((D$28*10)*$B35),IF(D$27="%w/w DM",(((D$28*10)*($B$28/100))*$B35),IF(D$27="kg/t SAR",(D$28*$B35),IF(D$27="kg/t DM",((D$28*($B$28/100))*$B35),IF(D$27="mg/kg SAR",((D$28*0.001)*$B35),IF(D$27="mg/kg DM",(((D$28*0.001)*($B$28/100))*$B35),"0")))))))*2.291 -> 74.259328 | E35: =(IF(E$27="%w/w SAR",((E$28*10)*$B35),IF(E$27="%w/w DM",(((E$28*10)*($B$28/100))*$B35),IF(E$27="kg/t SAR",(E$28*$B35),IF(E$27="kg/t DM",((E$28*($B$28/100))*$B35),IF(E$27="mg/kg SAR",((E$28*0.001)*$B35),IF(E$27="mg/kg DM",(((E$28*0.001)*($B$28/100))*$B35),"0")))))))*1.205 -> 6.2617223 | F35: =(IF(F$27="%w/w SAR",((F$28*10)*$B35),IF(F$27="%w/w DM",(((F$28*10)*($B$28/100))*$B35),IF(F$27="kg/t SAR",(F$28*$B35),IF(F$27="kg/t DM",((F$28*($B$28/100))*$B35),IF(F$27="mg/kg SAR",((F$28*0.001)*$B35),IF(F$27="mg/kg DM",(((F$28*0.001)*($B$28/100))*$B35),"0")))))))*1.658 -> 12.430026 | G35: =IF(G$27="%w/w SAR",((G$28*10)*$B35),IF(G$27="%w/w DM",(((G$28*10)*($B$28/100))*$B35),IF(G$27="kg/t SAR",(G$28*$B35),IF(G$27="kg/t DM",((G$28*($B$28/100))*$B35),IF(G$27="mg/kg SAR",((G$28*0.001)*$B35),IF(G$27="mg/kg DM",(((G$28*0.001)*($B$28/100))*$B35),0)))))) -> 0.499065 | H35: =IF(H$27="%w/w SAR",((H$28*10)*$B35),IF(H$27="%w/w DM",(((H$28*10)*($B$28/100))*$B35),IF(H$27="kg/t SAR",(H$28*$B35),IF(H$27="kg/t DM",((H$28*($B$28/100))*$B35),IF(H$27="mg/kg SAR",((H$28*0.001)*$B35),IF(H$27="mg/kg DM",(((H$28*0.001)*($B$28/100))*$B35),0)))))) -> 0.87465 | I35: =IF(I$27="%w/w SAR",((I$28*10)*$B35),IF(I$27="%w/w DM",(((I$28*10)*($B$28/100))*$B35),IF(I$27="kg/t SAR",(I$28*$B35),IF(I$27="kg/t DM",((I$28*($B$28/100))*$B35),IF(I$27="mg/kg SAR",((I$28*0.001)*$B35),IF(I$27="mg/kg DM",(((I$28*0.001)*($B$28/100))*$B35),0)))))) -> 0.068355 | J35: =IF(J$27="%w/w SAR",((J$28*10)*$B35),IF(J$27="%w/w DM",(((J$28*10)*($B$28/100))*$B35),IF(J$27="kg/t SAR",(J$28*$B35),IF(J$27="kg/t DM",((J$28*($B$28/100))*$B35),IF(J$27="mg/kg SAR",((J$28*0.001)*$B35),IF(J$27="mg/kg DM",(((J$28*0.001)*($B$28/100))*$B35),0)))))) -> 0.0028665 | K35: =IF(K$27="%w/w SAR",((K$28*10)*$B35),IF(K$27="%w/w DM",(((K$28*10)*($B$28/100))*$B35),IF(K$27="kg/t SAR",(K$28*$B35),IF(K$27="kg/t DM",((K$28*($B$28/100))*$B35),IF(K$27="mg/kg SAR",((K$28*0.001)*$B35),IF(K$27="mg/kg DM",(((K$28*0.001)*($B$28/100))*$B35),0)))))) -> 0.002499 | L35: =IF(L$27="%w/w SAR",((L$28*10)*$B35),IF(L$27="%w/w DM",(((L$28*10)*($B$28/100))*$B35),IF(L$27="kg/t SAR",(L$28*$B35),IF(L$27="kg/t DM",((L$28*($B$28/100))*$B35),IF(L$27="mg/kg SAR",((L$28*0.001)*$B35),IF(L$27="mg/kg DM",(((L$28*0.001)*($B$28/100))*$B35),0)))))) -> 0.21168 | M35: =IF(M$27="%w/w SAR",((M$28*10)*$B35),IF(M$27="%w/w DM",(((M$28*10)*($B$28/100))*$B35),IF(M$27="kg/t SAR",(M$28*$B35),IF(M$27="kg/t DM",((M$28*($B$28/100))*$B35),IF(M$27="mg/kg SAR",((M$28*0.001)*$B35),IF(M$27="mg/kg DM",(((M$28*0.001)*($B$28/100))*$B35),0)))))) -> 0.07938 | N35: =IF(N$27="%w/w SAR",((N$28*10)*$B35),IF(N$27="%w/w DM",(((N$28*10)*($B$28/100))*$B35),IF(N$27="kg/t SAR",(N$28*$B35),IF(N$27="kg/t DM",((N$28*($B$28/100))*$B35),IF(N$27="mg/kg SAR",((N$28*0.001)*$B35),IF(N$27="mg/kg DM",(((N$28*0.001)*($B$28/100))*$B35),0)))))) -> 1131.9 | ... P35: =IF(P$27="%w/w SAR",((P$28*10)*$B35),IF(P$27="%w/w DM",(((P$28*10)*($B$28/100))*$B35),IF(P$27="kg/t SAR",(P$28*$B35),IF(P$27="kg/t DM",((P$28*($B$28/100))*$B35),IF(P$27="mg/kg SAR",((P$28*0.001)*$B35),IF(P$27="mg/kg DM",(((P$28*0.001)*($B$28/100))*$B35),0)))))) -> 0 | Q35: =(IF(Q$27="%w/w SAR",((Q$28*10)*$B35),IF(Q$27="%w/w DM",(((Q$28*10)*($B$28/100))*$B35),IF(Q$27="kg/t SAR",(Q$28*$B35),IF(Q$27="kg/t DM",((Q$28*($B$28/100))*$B35),IF(Q$27="mg/kg SAR",((Q$28*0.001)*$B35),IF(Q$27="mg/kg DM",(((Q$28*0.001)*($B$28/100))*$B35),0)))))))*2.5 -> 107.6775 | R35: =IF(R$27="%w/w SAR",((R$28*10)*$B35),IF(R$27="%w/w DM",(((R$28*10)*($B$28/100))*$B35),IF(R$27="kg/t SAR",(R$28*$B35),IF(R$27="kg/t DM",((R$28*($B$28/100))*$B35),IF(R$27="mg/kg SAR",((R$28*0.001)*$B35),IF(R$27="mg/kg DM",(((R$28*0.001)*($B$28/100))*$B35),0)))))) -> 0 | S35: =IF(S$27="%w/w SAR",((S$28*10)*$B35),IF(S$27="%w/w DM",(((S$28*10)*($B$28/100))*$B35),IF(S$27="kg/t SAR",(S$28*$B35),IF(S$27="kg/t DM",((S$28*($B$28/100))*$B35),IF(S$27="mg/kg SAR",((S$28*0.001)*$B35),IF(S$27="mg/kg DM",(((S$28*0.001)*($B$28/100))*$B35),0)))))) -> 0.12789 | T35: =IF(T$27="%w/w SAR",((T$28*10)*$B35),IF(T$27="%w/w DM",(((T$28*10)*($B$28/100))*$B35),IF(T$27="kg/t SAR",(T$28*$B35),IF(T$27="kg/t DM",((T$28*($B$28/100))*$B35),IF(T$27="mg/kg SAR",((T$28*0.001)*$B35),IF(T$27="mg/kg DM",(((T$28*0.001)*($B$28/100))*$B35),0)))))) -> 0 | U35: =IF(U$27="%w/w SAR",((U$28*10)*$B35),IF(U$27="%w/w DM",(((U$28*10)*($B$28/100))*$B35),IF(U$27="kg/t SAR",(U$28*$B35),IF(U$27="kg/t DM",((U$28*($B$28/100))*$B35),IF(U$27="mg/kg SAR",((U$28*0.001)*$B35),IF(U$27="mg/kg DM",(((U$28*0.001)*($B$28/100))*$B35),0)))))) -> 0
A36: =H8 -> 5b | B36: 50 | C36: =IF(C$27="%w/w SAR",((C$28*10)*$B36),IF(C$27="%w/w DM",(((C$28*10)*($B$28/100))*$B36),IF(C$27="kg/t SAR",(C$28*$B36),IF(C$27="kg/t DM",((C$28*($B$28/100))*$B36),IF(C$27="mg/kg SAR",((C$28*0.001)*$B36),IF(C$27="mg/kg DM",(((C$28*0.001)*($B$28/100))*$B36),0)))))) -> 97.02 | D36: =(IF(D$27="%w/w SAR",((D$28*10)*$B36),IF(D$27="%w/w DM",(((D$28*10)*($B$28/100))*$B36),IF(D$27="kg/t SAR",(D$28*$B36),IF(D$27="kg/t DM",((D$28*($B$28/100))*$B36),IF(D$27="mg/kg SAR",((D$28*0.001)*$B36),IF(D$27="mg/kg DM",(((D$28*0.001)*($B$28/100))*$B36),"0")))))))*2.291 -> 74.259328 | E36: =(IF(E$27="%w/w SAR",((E$28*10)*$B36),IF(E$27="%w/w DM",(((E$28*10)*($B$28/100))*$B36),IF(E$27="kg/t SAR",(E$28*$B36),IF(E$27="kg/t DM",((E$28*($B$28/100))*$B36),IF(E$27="mg/kg SAR",((E$28*0.001)*$B36),IF(E$27="mg/kg DM",(((E$28*0.001)*($B$28/100))*$B36),"0")))))))*1.205 -> 6.2617223 | F36: =(IF(F$27="%w/w SAR",((F$28*10)*$B36),IF(F$27="%w/w DM",(((F$28*10)*($B$28/100))*$B36),IF(F$27="kg/t SAR",(F$28*$B36),IF(F$27="kg/t DM",((F$28*($B$28/100))*$B36),IF(F$27="mg/kg SAR",((F$28*0.001)*$B36),IF(F$27="mg/kg DM",(((F$28*0.001)*($B$28/100))*$B36),"0")))))))*1.658 -> 12.430026 | G36: =IF(G$27="%w/w SAR",((G$28*10)*$B36),IF(G$27="%w/w DM",(((G$28*10)*($B$28/100))*$B36),IF(G$27="kg/t SAR",(G$28*$B36),IF(G$27="kg/t DM",((G$28*($B$28/100))*$B36),IF(G$27="mg/kg SAR",((G$28*0.001)*$B36),IF(G$27="mg/kg DM",(((G$28*0.001)*($B$28/100))*$B36),0)))))) -> 0.499065 | H36: =IF(H$27="%w/w SAR",((H$28*10)*$B36),IF(H$27="%w/w DM",(((H$28*10)*($B$28/100))*$B36),IF(H$27="kg/t SAR",(H$28*$B36),IF(H$27="kg/t DM",((H$28*($B$28/100))*$B36),IF(H$27="mg/kg SAR",((H$28*0.001)*$B36),IF(H$27="mg/kg DM",(((H$28*0.001)*($B$28/100))*$B36),0)))))) -> 0.87465 | I36: =IF(I$27="%w/w SAR",((I$28*10)*$B36),IF(I$27="%w/w DM",(((I$28*10)*($B$28/100))*$B36),IF(I$27="kg/t SAR",(I$28*$B36),IF(I$27="kg/t DM",((I$28*($B$28/100))*$B36),IF(I$27="mg/kg SAR",((I$28*0.001)*$B36),IF(I$27="mg/kg DM",(((I$28*0.001)*($B$28/100))*$B36),0)))))) -> 0.068355 | J36: =IF(J$27="%w/w SAR",((J$28*10)*$B36),IF(J$27="%w/w DM",(((J$28*10)*($B$28/100))*$B36),IF(J$27="kg/t SAR",(J$28*$B36),IF(J$27="kg/t DM",((J$28*($B$28/100))*$B36),IF(J$27="mg/kg SAR",((J$28*0.001)*$B36),IF(J$27="mg/kg DM",(((J$28*0.001)*($B$28/100))*$B36),0)))))) -> 0.0028665 | K36: =IF(K$27="%w/w SAR",((K$28*10)*$B36),IF(K$27="%w/w DM",(((K$28*10)*($B$28/100))*$B36),IF(K$27="kg/t SAR",(K$28*$B36),IF(K$27="kg/t DM",((K$28*($B$28/100))*$B36),IF(K$27="mg/kg SAR",((K$28*0.001)*$B36),IF(K$27="mg/kg DM",(((K$28*0.001)*($B$28/100))*$B36),0)))))) -> 0.002499 | L36: =IF(L$27="%w/w SAR",((L$28*10)*$B36),IF(L$27="%w/w DM",(((L$28*10)*($B$28/100))*$B36),IF(L$27="kg/t SAR",(L$28*$B36),IF(L$27="kg/t DM",((L$28*($B$28/100))*$B36),IF(L$27="mg/kg SAR",((L$28*0.001)*$B36),IF(L$27="mg/kg DM",(((L$28*0.001)*($B$28/100))*$B36),0)))))) -> 0.21168 | M36: =IF(M$27="%w/w SAR",((M$28*10)*$B36),IF(M$27="%w/w DM",(((M$28*10)*($B$28/100))*$B36),IF(M$27="kg/t SAR",(M$28*$B36),IF(M$27="kg/t DM",((M$28*($B$28/100))*$B36),IF(M$27="mg/kg SAR",((M$28*0.001)*$B36),IF(M$27="mg/kg DM",(((M$28*0.001)*($B$28/100))*$B36),0)))))) -> 0.07938 | N36: =IF(N$27="%w/w SAR",((N$28*10)*$B36),IF(N$27="%w/w DM",(((N$28*10)*($B$28/100))*$B36),IF(N$27="kg/t SAR",(N$28*$B36),IF(N$27="kg/t DM",((N$28*($B$28/100))*$B36),IF(N$27="mg/kg SAR",((N$28*0.001)*$B36),IF(N$27="mg/kg DM",(((N$28*0.001)*($B$28/100))*$B36),0)))))) -> 1131.9 | ... P36: =IF(P$27="%w/w SAR",((P$28*10)*$B36),IF(P$27="%w/w DM",(((P$28*10)*($B$28/100))*$B36),IF(P$27="kg/t SAR",(P$28*$B36),IF(P$27="kg/t DM",((P$28*($B$28/100))*$B36),IF(P$27="mg/kg SAR",((P$28*0.001)*$B36),IF(P$27="mg/kg DM",(((P$28*0.001)*($B$28/100))*$B36),0)))))) -> 0 | Q36: =(IF(Q$27="%w/w SAR",((Q$28*10)*$B36),IF(Q$27="%w/w DM",(((Q$28*10)*($B$28/100))*$B36),IF(Q$27="kg/t SAR",(Q$28*$B36),IF(Q$27="kg/t DM",((Q$28*($B$28/100))*$B36),IF(Q$27="mg/kg SAR",((Q$28*0.001)*$B36),IF(Q$27="mg/kg DM",(((Q$28*0.001)*($B$28/100))*$B36),0)))))))*2.5 -> 107.6775 | R36: =IF(R$27="%w/w SAR",((R$28*10)*$B36),IF(R$27="%w/w DM",(((R$28*10)*($B$28/100))*$B36),IF(R$27="kg/t SAR",(R$28*$B36),IF(R$27="kg/t DM",((R$28*($B$28/100))*$B36),IF(R$27="mg/kg SAR",((R$28*0.001)*$B36),IF(R$27="mg/kg DM",(((R$28*0.001)*($B$28/100))*$B36),0)))))) -> 0 | S36: =IF(S$27="%w/w SAR",((S$28*10)*$B36),IF(S$27="%w/w DM",(((S$28*10)*($B$28/100))*$B36),IF(S$27="kg/t SAR",(S$28*$B36),IF(S$27="kg/t DM",((S$28*($B$28/100))*$B36),IF(S$27="mg/kg SAR",((S$28*0.001)*$B36),IF(S$27="mg/kg DM",(((S$28*0.001)*($B$28/100))*$B36),0)))))) -> 0.12789 | T36: =IF(T$27="%w/w SAR",((T$28*10)*$B36),IF(T$27="%w/w DM",(((T$28*10)*($B$28/100))*$B36),IF(T$27="kg/t SAR",(T$28*$B36),IF(T$27="kg/t DM",((T$28*($B$28/100))*$B36),IF(T$27="mg/kg SAR",((T$28*0.001)*$B36),IF(T$27="mg/kg DM",(((T$28*0.001)*($B$28/100))*$B36),0)))))) -> 0 | U36: =IF(U$27="%w/w SAR",((U$28*10)*$B36),IF(U$27="%w/w DM",(((U$28*10)*($B$28/100))*$B36),IF(U$27="kg/t SAR",(U$28*$B36),IF(U$27="kg/t DM",((U$28*($B$28/100))*$B36),IF(U$27="mg/kg SAR",((U$28*0.001)*$B36),IF(U$27="mg/kg DM",(((U$28*0.001)*($B$28/100))*$B36),0)))))) -> 0
A37: =I8 -> 6 | B37: 50 | C37: =IF(C$27="%w/w SAR",((C$28*10)*$B37),IF(C$27="%w/w DM",(((C$28*10)*($B$28/100))*$B37),IF(C$27="kg/t SAR",(C$28*$B37),IF(C$27="kg/t DM",((C$28*($B$28/100))*$B37),IF(C$27="mg/kg SAR",((C$28*0.001)*$B37),IF(C$27="mg/kg DM",(((C$28*0.001)*($B$28/100))*$B37),0)))))) -> 97.02 | D37: =(IF(D$27="%w/w SAR",((D$28*10)*$B37),IF(D$27="%w/w DM",(((D$28*10)*($B$28/100))*$B37),IF(D$27="kg/t SAR",(D$28*$B37),IF(D$27="kg/t DM",((D$28*($B$28/100))*$B37),IF(D$27="mg/kg SAR",((D$28*0.001)*$B37),IF(D$27="mg/kg DM",(((D$28*0.001)*($B$28/100))*$B37),"0")))))))*2.291 -> 74.259328 | E37: =(IF(E$27="%w/w SAR",((E$28*10)*$B37),IF(E$27="%w/w DM",(((E$28*10)*($B$28/100))*$B37),IF(E$27="kg/t SAR",(E$28*$B37),IF(E$27="kg/t DM",((E$28*($B$28/100))*$B37),IF(E$27="mg/kg SAR",((E$28*0.001)*$B37),IF(E$27="mg/kg DM",(((E$28*0.001)*($B$28/100))*$B37),"0")))))))*1.205 -> 6.2617223 | F37: =(IF(F$27="%w/w SAR",((F$28*10)*$B37),IF(F$27="%w/w DM",(((F$28*10)*($B$28/100))*$B37),IF(F$27="kg/t SAR",(F$28*$B37),IF(F$27="kg/t DM",((F$28*($B$28/100))*$B37),IF(F$27="mg/kg SAR",((F$28*0.001)*$B37),IF(F$27="mg/kg DM",(((F$28*0.001)*($B$28/100))*$B37),"0")))))))*1.658 -> 12.430026 | G37: =IF(G$27="%w/w SAR",((G$28*10)*$B37),IF(G$27="%w/w DM",(((G$28*10)*($B$28/100))*$B37),IF(G$27="kg/t SAR",(G$28*$B37),IF(G$27="kg/t DM",((G$28*($B$28/100))*$B37),IF(G$27="mg/kg SAR",((G$28*0.001)*$B37),IF(G$27="mg/kg DM",(((G$28*0.001)*($B$28/100))*$B37),0)))))) -> 0.499065 | H37: =IF(H$27="%w/w SAR",((H$28*10)*$B37),IF(H$27="%w/w DM",(((H$28*10)*($B$28/100))*$B37),IF(H$27="kg/t SAR",(H$28*$B37),IF(H$27="kg/t DM",((H$28*($B$28/100))*$B37),IF(H$27="mg/kg SAR",((H$28*0.001)*$B37),IF(H$27="mg/kg DM",(((H$28*0.001)*($B$28/100))*$B37),0)))))) -> 0.87465 | I37: =IF(I$27="%w/w SAR",((I$28*10)*$B37),IF(I$27="%w/w DM",(((I$28*10)*($B$28/100))*$B37),IF(I$27="kg/t SAR",(I$28*$B37),IF(I$27="kg/t DM",((I$28*($B$28/100))*$B37),IF(I$27="mg/kg SAR",((I$28*0.001)*$B37),IF(I$27="mg/kg DM",(((I$28*0.001)*($B$28/100))*$B37),0)))))) -> 0.068355 | J37: =IF(J$27="%w/w SAR",((J$28*10)*$B37),IF(J$27="%w/w DM",(((J$28*10)*($B$28/100))*$B37),IF(J$27="kg/t SAR",(J$28*$B37),IF(J$27="kg/t DM",((J$28*($B$28/100))*$B37),IF(J$27="mg/kg SAR",((J$28*0.001)*$B37),IF(J$27="mg/kg DM",(((J$28*0.001)*($B$28/100))*$B37),0)))))) -> 0.0028665 | K37: =IF(K$27="%w/w SAR",((K$28*10)*$B37),IF(K$27="%w/w DM",(((K$28*10)*($B$28/100))*$B37),IF(K$27="kg/t SAR",(K$28*$B37),IF(K$27="kg/t DM",((K$28*($B$28/100))*$B37),IF(K$27="mg/kg SAR",((K$28*0.001)*$B37),IF(K$27="mg/kg DM",(((K$28*0.001)*($B$28/100))*$B37),0)))))) -> 0.002499 | L37: =IF(L$27="%w/w SAR",((L$28*10)*$B37),IF(L$27="%w/w DM",(((L$28*10)*($B$28/100))*$B37),IF(L$27="kg/t SAR",(L$28*$B37),IF(L$27="kg/t DM",((L$28*($B$28/100))*$B37),IF(L$27="mg/kg SAR",((L$28*0.001)*$B37),IF(L$27="mg/kg DM",(((L$28*0.001)*($B$28/100))*$B37),0)))))) -> 0.21168 | M37: =IF(M$27="%w/w SAR",((M$28*10)*$B37),IF(M$27="%w/w DM",(((M$28*10)*($B$28/100))*$B37),IF(M$27="kg/t SAR",(M$28*$B37),IF(M$27="kg/t DM",((M$28*($B$28/100))*$B37),IF(M$27="mg/kg SAR",((M$28*0.001)*$B37),IF(M$27="mg/kg DM",(((M$28*0.001)*($B$28/100))*$B37),0)))))) -> 0.07938 | N37: =IF(N$27="%w/w SAR",((N$28*10)*$B37),IF(N$27="%w/w DM",(((N$28*10)*($B$28/100))*$B37),IF(N$27="kg/t SAR",(N$28*$B37),IF(N$27="kg/t DM",((N$28*($B$28/100))*$B37),IF(N$27="mg/kg SAR",((N$28*0.001)*$B37),IF(N$27="mg/kg DM",(((N$28*0.001)*($B$28/100))*$B37),0)))))) -> 1131.9 | ... P37: =IF(P$27="%w/w SAR",((P$28*10)*$B37),IF(P$27="%w/w DM",(((P$28*10)*($B$28/100))*$B37),IF(P$27="kg/t SAR",(P$28*$B37),IF(P$27="kg/t DM",((P$28*($B$28/100))*$B37),IF(P$27="mg/kg SAR",((P$28*0.001)*$B37),IF(P$27="mg/kg DM",(((P$28*0.001)*($B$28/100))*$B37),0)))))) -> 0 | Q37: =(IF(Q$27="%w/w SAR",((Q$28*10)*$B37),IF(Q$27="%w/w DM",(((Q$28*10)*($B$28/100))*$B37),IF(Q$27="kg/t SAR",(Q$28*$B37),IF(Q$27="kg/t DM",((Q$28*($B$28/100))*$B37),IF(Q$27="mg/kg SAR",((Q$28*0.001)*$B37),IF(Q$27="mg/kg DM",(((Q$28*0.001)*($B$28/100))*$B37),0)))))))*2.5 -> 107.6775 | R37: =IF(R$27="%w/w SAR",((R$28*10)*$B37),IF(R$27="%w/w DM",(((R$28*10)*($B$28/100))*$B37),IF(R$27="kg/t SAR",(R$28*$B37),IF(R$27="kg/t DM",((R$28*($B$28/100))*$B37),IF(R$27="mg/kg SAR",((R$28*0.001)*$B37),IF(R$27="mg/kg DM",(((R$28*0.001)*($B$28/100))*$B37),0)))))) -> 0 | S37: =IF(S$27="%w/w SAR",((S$28*10)*$B37),IF(S$27="%w/w DM",(((S$28*10)*($B$28/100))*$B37),IF(S$27="kg/t SAR",(S$28*$B37),IF(S$27="kg/t DM",((S$28*($B$28/100))*$B37),IF(S$27="mg/kg SAR",((S$28*0.001)*$B37),IF(S$27="mg/kg DM",(((S$28*0.001)*($B$28/100))*$B37),0)))))) -> 0.12789 | T37: =IF(T$27="%w/w SAR",((T$28*10)*$B37),IF(T$27="%w/w DM",(((T$28*10)*($B$28/100))*$B37),IF(T$27="kg/t SAR",(T$28*$B37),IF(T$27="kg/t DM",((T$28*($B$28/100))*$B37),IF(T$27="mg/kg SAR",((T$28*0.001)*$B37),IF(T$27="mg/kg DM",(((T$28*0.001)*($B$28/100))*$B37),0)))))) -> 0 | U37: =IF(U$27="%w/w SAR",((U$28*10)*$B37),IF(U$27="%w/w DM",(((U$28*10)*($B$28/100))*$B37),IF(U$27="kg/t SAR",(U$28*$B37),IF(U$27="kg/t DM",((U$28*($B$28/100))*$B37),IF(U$27="mg/kg SAR",((U$28*0.001)*$B37),IF(U$27="mg/kg DM",(((U$28*0.001)*($B$28/100))*$B37),0)))))) -> 0
A38: =J8 -> 7 | B38: 50 | C38: =IF(C$27="%w/w SAR",((C$28*10)*$B38),IF(C$27="%w/w DM",(((C$28*10)*($B$28/100))*$B38),IF(C$27="kg/t SAR",(C$28*$B38),IF(C$27="kg/t DM",((C$28*($B$28/100))*$B38),IF(C$27="mg/kg SAR",((C$28*0.001)*$B38),IF(C$27="mg/kg DM",(((C$28*0.001)*($B$28/100))*$B38),0)))))) -> 97.02 | D38: =(IF(D$27="%w/w SAR",((D$28*10)*$B38),IF(D$27="%w/w DM",(((D$28*10)*($B$28/100))*$B38),IF(D$27="kg/t SAR",(D$28*$B38),IF(D$27="kg/t DM",((D$28*($B$28/100))*$B38),IF(D$27="mg/kg SAR",((D$28*0.001)*$B38),IF(D$27="mg/kg DM",(((D$28*0.001)*($B$28/100))*$B38),"0")))))))*2.291 -> 74.259328 | E38: =(IF(E$27="%w/w SAR",((E$28*10)*$B38),IF(E$27="%w/w DM",(((E$28*10)*($B$28/100))*$B38),IF(E$27="kg/t SAR",(E$28*$B38),IF(E$27="kg/t DM",((E$28*($B$28/100))*$B38),IF(E$27="mg/kg SAR",((E$28*0.001)*$B38),IF(E$27="mg/kg DM",(((E$28*0.001)*($B$28/100))*$B38),"0")))))))*1.205 -> 6.2617223 | F38: =(IF(F$27="%w/w SAR",((F$28*10)*$B38),IF(F$27="%w/w DM",(((F$28*10)*($B$28/100))*$B38),IF(F$27="kg/t SAR",(F$28*$B38),IF(F$27="kg/t DM",((F$28*($B$28/100))*$B38),IF(F$27="mg/kg SAR",((F$28*0.001)*$B38),IF(F$27="mg/kg DM",(((F$28*0.001)*($B$28/100))*$B38),"0")))))))*1.658 -> 12.430026 | G38: =IF(G$27="%w/w SAR",((G$28*10)*$B38),IF(G$27="%w/w DM",(((G$28*10)*($B$28/100))*$B38),IF(G$27="kg/t SAR",(G$28*$B38),IF(G$27="kg/t DM",((G$28*($B$28/100))*$B38),IF(G$27="mg/kg SAR",((G$28*0.001)*$B38),IF(G$27="mg/kg DM",(((G$28*0.001)*($B$28/100))*$B38),0)))))) -> 0.499065 | H38: =IF(H$27="%w/w SAR",((H$28*10)*$B38),IF(H$27="%w/w DM",(((H$28*10)*($B$28/100))*$B38),IF(H$27="kg/t SAR",(H$28*$B38),IF(H$27="kg/t DM",((H$28*($B$28/100))*$B38),IF(H$27="mg/kg SAR",((H$28*0.001)*$B38),IF(H$27="mg/kg DM",(((H$28*0.001)*($B$28/100))*$B38),0)))))) -> 0.87465 | I38: =IF(I$27="%w/w SAR",((I$28*10)*$B38),IF(I$27="%w/w DM",(((I$28*10)*($B$28/100))*$B38),IF(I$27="kg/t SAR",(I$28*$B38),IF(I$27="kg/t DM",((I$28*($B$28/100))*$B38),IF(I$27="mg/kg SAR",((I$28*0.001)*$B38),IF(I$27="mg/kg DM",(((I$28*0.001)*($B$28/100))*$B38),0)))))) -> 0.068355 | J38: =IF(J$27="%w/w SAR",((J$28*10)*$B38),IF(J$27="%w/w DM",(((J$28*10)*($B$28/100))*$B38),IF(J$27="kg/t SAR",(J$28*$B38),IF(J$27="kg/t DM",((J$28*($B$28/100))*$B38),IF(J$27="mg/kg SAR",((J$28*0.001)*$B38),IF(J$27="mg/kg DM",(((J$28*0.001)*($B$28/100))*$B38),0)))))) -> 0.0028665 | K38: =IF(K$27="%w/w SAR",((K$28*10)*$B38),IF(K$27="%w/w DM",(((K$28*10)*($B$28/100))*$B38),IF(K$27="kg/t SAR",(K$28*$B38),IF(K$27="kg/t DM",((K$28*($B$28/100))*$B38),IF(K$27="mg/kg SAR",((K$28*0.001)*$B38),IF(K$27="mg/kg DM",(((K$28*0.001)*($B$28/100))*$B38),0)))))) -> 0.002499 | L38: =IF(L$27="%w/w SAR",((L$28*10)*$B38),IF(L$27="%w/w DM",(((L$28*10)*($B$28/100))*$B38),IF(L$27="kg/t SAR",(L$28*$B38),IF(L$27="kg/t DM",((L$28*($B$28/100))*$B38),IF(L$27="mg/kg SAR",((L$28*0.001)*$B38),IF(L$27="mg/kg DM",(((L$28*0.001)*($B$28/100))*$B38),0)))))) -> 0.21168 | M38: =IF(M$27="%w/w SAR",((M$28*10)*$B38),IF(M$27="%w/w DM",(((M$28*10)*($B$28/100))*$B38),IF(M$27="kg/t SAR",(M$28*$B38),IF(M$27="kg/t DM",((M$28*($B$28/100))*$B38),IF(M$27="mg/kg SAR",((M$28*0.001)*$B38),IF(M$27="mg/kg DM",(((M$28*0.001)*($B$28/100))*$B38),0)))))) -> 0.07938 | N38: =IF(N$27="%w/w SAR",((N$28*10)*$B38),IF(N$27="%w/w DM",(((N$28*10)*($B$28/100))*$B38),IF(N$27="kg/t SAR",(N$28*$B38),IF(N$27="kg/t DM",((N$28*($B$28/100))*$B38),IF(N$27="mg/kg SAR",((N$28*0.001)*$B38),IF(N$27="mg/kg DM",(((N$28*0.001)*($B$28/100))*$B38),0)))))) -> 1131.9 | ... P38: =IF(P$27="%w/w SAR",((P$28*10)*$B38),IF(P$27="%w/w DM",(((P$28*10)*($B$28/100))*$B38),IF(P$27="kg/t SAR",(P$28*$B38),IF(P$27="kg/t DM",((P$28*($B$28/100))*$B38),IF(P$27="mg/kg SAR",((P$28*0.001)*$B38),IF(P$27="mg/kg DM",(((P$28*0.001)*($B$28/100))*$B38),0)))))) -> 0 | Q38: =(IF(Q$27="%w/w SAR",((Q$28*10)*$B38),IF(Q$27="%w/w DM",(((Q$28*10)*($B$28/100))*$B38),IF(Q$27="kg/t SAR",(Q$28*$B38),IF(Q$27="kg/t DM",((Q$28*($B$28/100))*$B38),IF(Q$27="mg/kg SAR",((Q$28*0.001)*$B38),IF(Q$27="mg/kg DM",(((Q$28*0.001)*($B$28/100))*$B38),0)))))))*2.5 -> 107.6775 | R38: =IF(R$27="%w/w SAR",((R$28*10)*$B38),IF(R$27="%w/w DM",(((R$28*10)*($B$28/100))*$B38),IF(R$27="kg/t SAR",(R$28*$B38),IF(R$27="kg/t DM",((R$28*($B$28/100))*$B38),IF(R$27="mg/kg SAR",((R$28*0.001)*$B38),IF(R$27="mg/kg DM",(((R$28*0.001)*($B$28/100))*$B38),0)))))) -> 0 | S38: =IF(S$27="%w/w SAR",((S$28*10)*$B38),IF(S$27="%w/w DM",(((S$28*10)*($B$28/100))*$B38),IF(S$27="kg/t SAR",(S$28*$B38),IF(S$27="kg/t DM",((S$28*($B$28/100))*$B38),IF(S$27="mg/kg SAR",((S$28*0.001)*$B38),IF(S$27="mg/kg DM",(((S$28*0.001)*($B$28/100))*$B38),0)))))) -> 0.12789 | T38: =IF(T$27="%w/w SAR",((T$28*10)*$B38),IF(T$27="%w/w DM",(((T$28*10)*($B$28/100))*$B38),IF(T$27="kg/t SAR",(T$28*$B38),IF(T$27="kg/t DM",((T$28*($B$28/100))*$B38),IF(T$27="mg/kg SAR",((T$28*0.001)*$B38),IF(T$27="mg/kg DM",(((T$28*0.001)*($B$28/100))*$B38),0)))))) -> 0 | U38: =IF(U$27="%w/w SAR",((U$28*10)*$B38),IF(U$27="%w/w DM",(((U$28*10)*($B$28/100))*$B38),IF(U$27="kg/t SAR",(U$28*$B38),IF(U$27="kg/t DM",((U$28*($B$28/100))*$B38),IF(U$27="mg/kg SAR",((U$28*0.001)*$B38),IF(U$27="mg/kg DM",(((U$28*0.001)*($B$28/100))*$B38),0)))))) -> 0
A39: =K8 -> 9 | B39: 50 | C39: =IF(C$27="%w/w SAR",((C$28*10)*$B39),IF(C$27="%w/w DM",(((C$28*10)*($B$28/100))*$B39),IF(C$27="kg/t SAR",(C$28*$B39),IF(C$27="kg/t DM",((C$28*($B$28/100))*$B39),IF(C$27="mg/kg SAR",((C$28*0.001)*$B39),IF(C$27="mg/kg DM",(((C$28*0.001)*($B$28/100))*$B39),0)))))) -> 97.02 | D39: =(IF(D$27="%w/w SAR",((D$28*10)*$B39),IF(D$27="%w/w DM",(((D$28*10)*($B$28/100))*$B39),IF(D$27="kg/t SAR",(D$28*$B39),IF(D$27="kg/t DM",((D$28*($B$28/100))*$B39),IF(D$27="mg/kg SAR",((D$28*0.001)*$B39),IF(D$27="mg/kg DM",(((D$28*0.001)*($B$28/100))*$B39),"0")))))))*2.291 -> 74.259328 | E39: =(IF(E$27="%w/w SAR",((E$28*10)*$B39),IF(E$27="%w/w DM",(((E$28*10)*($B$28/100))*$B39),IF(E$27="kg/t SAR",(E$28*$B39),IF(E$27="kg/t DM",((E$28*($B$28/100))*$B39),IF(E$27="mg/kg SAR",((E$28*0.001)*$B39),IF(E$27="mg/kg DM",(((E$28*0.001)*($B$28/100))*$B39),"0")))))))*1.205 -> 6.2617223 | F39: =(IF(F$27="%w/w SAR",((F$28*10)*$B39),IF(F$27="%w/w DM",(((F$28*10)*($B$28/100))*$B39),IF(F$27="kg/t SAR",(F$28*$B39),IF(F$27="kg/t DM",((F$28*($B$28/100))*$B39),IF(F$27="mg/kg SAR",((F$28*0.001)*$B39),IF(F$27="mg/kg DM",(((F$28*0.001)*($B$28/100))*$B39),"0")))))))*1.658 -> 12.430026 | G39: =IF(G$27="%w/w SAR",((G$28*10)*$B39),IF(G$27="%w/w DM",(((G$28*10)*($B$28/100))*$B39),IF(G$27="kg/t SAR",(G$28*$B39),IF(G$27="kg/t DM",((G$28*($B$28/100))*$B39),IF(G$27="mg/kg SAR",((G$28*0.001)*$B39),IF(G$27="mg/kg DM",(((G$28*0.001)*($B$28/100))*$B39),0)))))) -> 0.499065 | H39: =IF(H$27="%w/w SAR",((H$28*10)*$B39),IF(H$27="%w/w DM",(((H$28*10)*($B$28/100))*$B39),IF(H$27="kg/t SAR",(H$28*$B39),IF(H$27="kg/t DM",((H$28*($B$28/100))*$B39),IF(H$27="mg/kg SAR",((H$28*0.001)*$B39),IF(H$27="mg/kg DM",(((H$28*0.001)*($B$28/100))*$B39),0)))))) -> 0.87465 | I39: =IF(I$27="%w/w SAR",((I$28*10)*$B39),IF(I$27="%w/w DM",(((I$28*10)*($B$28/100))*$B39),IF(I$27="kg/t SAR",(I$28*$B39),IF(I$27="kg/t DM",((I$28*($B$28/100))*$B39),IF(I$27="mg/kg SAR",((I$28*0.001)*$B39),IF(I$27="mg/kg DM",(((I$28*0.001)*($B$28/100))*$B39),0)))))) -> 0.068355 | J39: =IF(J$27="%w/w SAR",((J$28*10)*$B39),IF(J$27="%w/w DM",(((J$28*10)*($B$28/100))*$B39),IF(J$27="kg/t SAR",(J$28*$B39),IF(J$27="kg/t DM",((J$28*($B$28/100))*$B39),IF(J$27="mg/kg SAR",((J$28*0.001)*$B39),IF(J$27="mg/kg DM",(((J$28*0.001)*($B$28/100))*$B39),0)))))) -> 0.0028665 | K39: =IF(K$27="%w/w SAR",((K$28*10)*$B39),IF(K$27="%w/w DM",(((K$28*10)*($B$28/100))*$B39),IF(K$27="kg/t SAR",(K$28*$B39),IF(K$27="kg/t DM",((K$28*($B$28/100))*$B39),IF(K$27="mg/kg SAR",((K$28*0.001)*$B39),IF(K$27="mg/kg DM",(((K$28*0.001)*($B$28/100))*$B39),0)))))) -> 0.002499 | L39: =IF(L$27="%w/w SAR",((L$28*10)*$B39),IF(L$27="%w/w DM",(((L$28*10)*($B$28/100))*$B39),IF(L$27="kg/t SAR",(L$28*$B39),IF(L$27="kg/t DM",((L$28*($B$28/100))*$B39),IF(L$27="mg/kg SAR",((L$28*0.001)*$B39),IF(L$27="mg/kg DM",(((L$28*0.001)*($B$28/100))*$B39),0)))))) -> 0.21168 | M39: =IF(M$27="%w/w SAR",((M$28*10)*$B39),IF(M$27="%w/w DM",(((M$28*10)*($B$28/100))*$B39),IF(M$27="kg/t SAR",(M$28*$B39),IF(M$27="kg/t DM",((M$28*($B$28/100))*$B39),IF(M$27="mg/kg SAR",((M$28*0.001)*$B39),IF(M$27="mg/kg DM",(((M$28*0.001)*($B$28/100))*$B39),0)))))) -> 0.07938 | N39: =IF(N$27="%w/w SAR",((N$28*10)*$B39),IF(N$27="%w/w DM",(((N$28*10)*($B$28/100))*$B39),IF(N$27="kg/t SAR",(N$28*$B39),IF(N$27="kg/t DM",((N$28*($B$28/100))*$B39),IF(N$27="mg/kg SAR",((N$28*0.001)*$B39),IF(N$27="mg/kg DM",(((N$28*0.001)*($B$28/100))*$B39),0)))))) -> 1131.9 | ... P39: =IF(P$27="%w/w SAR",((P$28*10)*$B39),IF(P$27="%w/w DM",(((P$28*10)*($B$28/100))*$B39),IF(P$27="kg/t SAR",(P$28*$B39),IF(P$27="kg/t DM",((P$28*($B$28/100))*$B39),IF(P$27="mg/kg SAR",((P$28*0.001)*$B39),IF(P$27="mg/kg DM",(((P$28*0.001)*($B$28/100))*$B39),0)))))) -> 0 | Q39: =(IF(Q$27="%w/w SAR",((Q$28*10)*$B39),IF(Q$27="%w/w DM",(((Q$28*10)*($B$28/100))*$B39),IF(Q$27="kg/t SAR",(Q$28*$B39),IF(Q$27="kg/t DM",((Q$28*($B$28/100))*$B39),IF(Q$27="mg/kg SAR",((Q$28*0.001)*$B39),IF(Q$27="mg/kg DM",(((Q$28*0.001)*($B$28/100))*$B39),0)))))))*2.5 -> 107.6775 | R39: =IF(R$27="%w/w SAR",((R$28*10)*$B39),IF(R$27="%w/w DM",(((R$28*10)*($B$28/100))*$B39),IF(R$27="kg/t SAR",(R$28*$B39),IF(R$27="kg/t DM",((R$28*($B$28/100))*$B39),IF(R$27="mg/kg SAR",((R$28*0.001)*$B39),IF(R$27="mg/kg DM",(((R$28*0.001)*($B$28/100))*$B39),0)))))) -> 0 | S39: =IF(S$27="%w/w SAR",((S$28*10)*$B39),IF(S$27="%w/w DM",(((S$28*10)*($B$28/100))*$B39),IF(S$27="kg/t SAR",(S$28*$B39),IF(S$27="kg/t DM",((S$28*($B$28/100))*$B39),IF(S$27="mg/kg SAR",((S$28*0.001)*$B39),IF(S$27="mg/kg DM",(((S$28*0.001)*($B$28/100))*$B39),0)))))) -> 0.12789 | T39: =IF(T$27="%w/w SAR",((T$28*10)*$B39),IF(T$27="%w/w DM",(((T$28*10)*($B$28/100))*$B39),IF(T$27="kg/t SAR",(T$28*$B39),IF(T$27="kg/t DM",((T$28*($B$28/100))*$B39),IF(T$27="mg/kg SAR",((T$28*0.001)*$B39),IF(T$27="mg/kg DM",(((T$28*0.001)*($B$28/100))*$B39),0)))))) -> 0 | U39: =IF(U$27="%w/w SAR",((U$28*10)*$B39),IF(U$27="%w/w DM",(((U$28*10)*($B$28/100))*$B39),IF(U$27="kg/t SAR",(U$28*$B39),IF(U$27="kg/t DM",((U$28*($B$28/100))*$B39),IF(U$27="mg/kg SAR",((U$28*0.001)*$B39),IF(U$27="mg/kg DM",(((U$28*0.001)*($B$28/100))*$B39),0)))))) -> 0
A40: =L8 -> 10 | C40: =IF(C$27="%w/w SAR",((C$28*10)*$B40),IF(C$27="%w/w DM",(((C$28*10)*($B$28/100))*$B40),IF(C$27="kg/t SAR",(C$28*$B40),IF(C$27="kg/t DM",((C$28*($B$28/100))*$B40),IF(C$27="mg/kg SAR",((C$28*0.001)*$B40),IF(C$27="mg/kg DM",(((C$28*0.001)*($B$28/100))*$B40),0)))))) -> 0 | D40: =(IF(D$27="%w/w SAR",((D$28*10)*$B40),IF(D$27="%w/w DM",(((D$28*10)*($B$28/100))*$B40),IF(D$27="kg/t SAR",(D$28*$B40),IF(D$27="kg/t DM",((D$28*($B$28/100))*$B40),IF(D$27="mg/kg SAR",((D$28*0.001)*$B40),IF(D$27="mg/kg DM",(((D$28*0.001)*($B$28/100))*$B40),"0")))))))*2.291 -> 0 | E40: =(IF(E$27="%w/w SAR",((E$28*10)*$B40),IF(E$27="%w/w DM",(((E$28*10)*($B$28/100))*$B40),IF(E$27="kg/t SAR",(E$28*$B40),IF(E$27="kg/t DM",((E$28*($B$28/100))*$B40),IF(E$27="mg/kg SAR",((E$28*0.001)*$B40),IF(E$27="mg/kg DM",(((E$28*0.001)*($B$28/100))*$B40),"0")))))))*1.205 -> 0 | F40: =(IF(F$27="%w/w SAR",((F$28*10)*$B40),IF(F$27="%w/w DM",(((F$28*10)*($B$28/100))*$B40),IF(F$27="kg/t SAR",(F$28*$B40),IF(F$27="kg/t DM",((F$28*($B$28/100))*$B40),IF(F$27="mg/kg SAR",((F$28*0.001)*$B40),IF(F$27="mg/kg DM",(((F$28*0.001)*($B$28/100))*$B40),"0")))))))*1.658 -> 0 | G40: =IF(G$27="%w/w SAR",((G$28*10)*$B40),IF(G$27="%w/w DM",(((G$28*10)*($B$28/100))*$B40),IF(G$27="kg/t SAR",(G$28*$B40),IF(G$27="kg/t DM",((G$28*($B$28/100))*$B40),IF(G$27="mg/kg SAR",((G$28*0.001)*$B40),IF(G$27="mg/kg DM",(((G$28*0.001)*($B$28/100))*$B40),0)))))) -> 0 | H40: =IF(H$27="%w/w SAR",((H$28*10)*$B40),IF(H$27="%w/w DM",(((H$28*10)*($B$28/100))*$B40),IF(H$27="kg/t SAR",(H$28*$B40),IF(H$27="kg/t DM",((H$28*($B$28/100))*$B40),IF(H$27="mg/kg SAR",((H$28*0.001)*$B40),IF(H$27="mg/kg DM",(((H$28*0.001)*($B$28/100))*$B40),0)))))) -> 0 | I40: =IF(I$27="%w/w SAR",((I$28*10)*$B40),IF(I$27="%w/w DM",(((I$28*10)*($B$28/100))*$B40),IF(I$27="kg/t SAR",(I$28*$B40),IF(I$27="kg/t DM",((I$28*($B$28/100))*$B40),IF(I$27="mg/kg SAR",((I$28*0.001)*$B40),IF(I$27="mg/kg DM",(((I$28*0.001)*($B$28/100))*$B40),0)))))) -> 0 | J40: =IF(J$27="%w/w SAR",((J$28*10)*$B40),IF(J$27="%w/w DM",(((J$28*10)*($B$28/100))*$B40),IF(J$27="kg/t SAR",(J$28*$B40),IF(J$27="kg/t DM",((J$28*($B$28/100))*$B40),IF(J$27="mg/kg SAR",((J$28*0.001)*$B40),IF(J$27="mg/kg DM",(((J$28*0.001)*($B$28/100))*$B40),0)))))) -> 0 | K40: =IF(K$27="%w/w SAR",((K$28*10)*$B40),IF(K$27="%w/w DM",(((K$28*10)*($B$28/100))*$B40),IF(K$27="kg/t SAR",(K$28*$B40),IF(K$27="kg/t DM",((K$28*($B$28/100))*$B40),IF(K$27="mg/kg SAR",((K$28*0.001)*$B40),IF(K$27="mg/kg DM",(((K$28*0.001)*($B$28/100))*$B40),0)))))) -> 0 | L40: =IF(L$27="%w/w SAR",((L$28*10)*$B40),IF(L$27="%w/w DM",(((L$28*10)*($B$28/100))*$B40),IF(L$27="kg/t SAR",(L$28*$B40),IF(L$27="kg/t DM",((L$28*($B$28/100))*$B40),IF(L$27="mg/kg SAR",((L$28*0.001)*$B40),IF(L$27="mg/kg DM",(((L$28*0.001)*($B$28/100))*$B40),0)))))) -> 0 | M40: =IF(M$27="%w/w SAR",((M$28*10)*$B40),IF(M$27="%w/w DM",(((M$28*10)*($B$28/100))*$B40),IF(M$27="kg/t SAR",(M$28*$B40),IF(M$27="kg/t DM",((M$28*($B$28/100))*$B40),IF(M$27="mg/kg SAR",((M$28*0.001)*$B40),IF(M$27="mg/kg DM",(((M$28*0.001)*($B$28/100))*$B40),0)))))) -> 0 | N40: =IF(N$27="%w/w SAR",((N$28*10)*$B40),IF(N$27="%w/w DM",(((N$28*10)*($B$28/100))*$B40),IF(N$27="kg/t SAR",(N$28*$B40),IF(N$27="kg/t DM",((N$28*($B$28/100))*$B40),IF(N$27="mg/kg SAR",((N$28*0.001)*$B40),IF(N$27="mg/kg DM",(((N$28*0.001)*($B$28/100))*$B40),0)))))) -> 0 | ... P40: =IF(P$27="%w/w SAR",((P$28*10)*$B40),IF(P$27="%w/w DM",(((P$28*10)*($B$28/100))*$B40),IF(P$27="kg/t SAR",(P$28*$B40),IF(P$27="kg/t DM",((P$28*($B$28/100))*$B40),IF(P$27="mg/kg SAR",((P$28*0.001)*$B40),IF(P$27="mg/kg DM",(((P$28*0.001)*($B$28/100))*$B40),0)))))) -> 0 | Q40: =(IF(Q$27="%w/w SAR",((Q$28*10)*$B40),IF(Q$27="%w/w DM",(((Q$28*10)*($B$28/100))*$B40),IF(Q$27="kg/t SAR",(Q$28*$B40),IF(Q$27="kg/t DM",((Q$28*($B$28/100))*$B40),IF(Q$27="mg/kg SAR",((Q$28*0.001)*$B40),IF(Q$27="mg/kg DM",(((Q$28*0.001)*($B$28/100))*$B40),0)))))))*2.5 -> 0 | R40: =IF(R$27="%w/w SAR",((R$28*10)*$B40),IF(R$27="%w/w DM",(((R$28*10)*($B$28/100))*$B40),IF(R$27="kg/t SAR",(R$28*$B40),IF(R$27="kg/t DM",((R$28*($B$28/100))*$B40),IF(R$27="mg/kg SAR",((R$28*0.001)*$B40),IF(R$27="mg/kg DM",(((R$28*0.001)*($B$28/100))*$B40),0)))))) -> 0 | S40: =IF(S$27="%w/w SAR",((S$28*10)*$B40),IF(S$27="%w/w DM",(((S$28*10)*($B$28/100))*$B40),IF(S$27="kg/t SAR",(S$28*$B40),IF(S$27="kg/t DM",((S$28*($B$28/100))*$B40),IF(S$27="mg/kg SAR",((S$28*0.001)*$B40),IF(S$27="mg/kg DM",(((S$28*0.001)*($B$28/100))*$B40),0)))))) -> 0 | T40: =IF(T$27="%w/w SAR",((T$28*10)*$B40),IF(T$27="%w/w DM",(((T$28*10)*($B$28/100))*$B40),IF(T$27="kg/t SAR",(T$28*$B40),IF(T$27="kg/t DM",((T$28*($B$28/100))*$B40),IF(T$27="mg/kg SAR",((T$28*0.001)*$B40),IF(T$27="mg/kg DM",(((T$28*0.001)*($B$28/100))*$B40),0)))))) -> 0 | U40: =IF(U$27="%w/w SAR",((U$28*10)*$B40),IF(U$27="%w/w DM",(((U$28*10)*($B$28/100))*$B40),IF(U$27="kg/t SAR",(U$28*$B40),IF(U$27="kg/t DM",((U$28*($B$28/100))*$B40),IF(U$27="mg/kg SAR",((U$28*0.001)*$B40),IF(U$27="mg/kg DM",(((U$28*0.001)*($B$28/100))*$B40),0)))))) -> 0
A41: =M8 -> 11 | B41: 50 | C41: =IF(C$27="%w/w SAR",((C$28*10)*$B41),IF(C$27="%w/w DM",(((C$28*10)*($B$28/100))*$B41),IF(C$27="kg/t SAR",(C$28*$B41),IF(C$27="kg/t DM",((C$28*($B$28/100))*$B41),IF(C$27="mg/kg SAR",((C$28*0.001)*$B41),IF(C$27="mg/kg DM",(((C$28*0.001)*($B$28/100))*$B41),0)))))) -> 97.02 | D41: =(IF(D$27="%w/w SAR",((D$28*10)*$B41),IF(D$27="%w/w DM",(((D$28*10)*($B$28/100))*$B41),IF(D$27="kg/t SAR",(D$28*$B41),IF(D$27="kg/t DM",((D$28*($B$28/100))*$B41),IF(D$27="mg/kg SAR",((D$28*0.001)*$B41),IF(D$27="mg/kg DM",(((D$28*0.001)*($B$28/100))*$B41),"0")))))))*2.291 -> 74.259328 | E41: =(IF(E$27="%w/w SAR",((E$28*10)*$B41),IF(E$27="%w/w DM",(((E$28*10)*($B$28/100))*$B41),IF(E$27="kg/t SAR",(E$28*$B41),IF(E$27="kg/t DM",((E$28*($B$28/100))*$B41),IF(E$27="mg/kg SAR",((E$28*0.001)*$B41),IF(E$27="mg/kg DM",(((E$28*0.001)*($B$28/100))*$B41),"0")))))))*1.205 -> 6.2617223 | F41: =(IF(F$27="%w/w SAR",((F$28*10)*$B41),IF(F$27="%w/w DM",(((F$28*10)*($B$28/100))*$B41),IF(F$27="kg/t SAR",(F$28*$B41),IF(F$27="kg/t DM",((F$28*($B$28/100))*$B41),IF(F$27="mg/kg SAR",((F$28*0.001)*$B41),IF(F$27="mg/kg DM",(((F$28*0.001)*($B$28/100))*$B41),"0")))))))*1.658 -> 12.430026 | G41: =IF(G$27="%w/w SAR",((G$28*10)*$B41),IF(G$27="%w/w DM",(((G$28*10)*($B$28/100))*$B41),IF(G$27="kg/t SAR",(G$28*$B41),IF(G$27="kg/t DM",((G$28*($B$28/100))*$B41),IF(G$27="mg/kg SAR",((G$28*0.001)*$B41),IF(G$27="mg/kg DM",(((G$28*0.001)*($B$28/100))*$B41),0)))))) -> 0.499065 | H41: =IF(H$27="%w/w SAR",((H$28*10)*$B41),IF(H$27="%w/w DM",(((H$28*10)*($B$28/100))*$B41),IF(H$27="kg/t SAR",(H$28*$B41),IF(H$27="kg/t DM",((H$28*($B$28/100))*$B41),IF(H$27="mg/kg SAR",((H$28*0.001)*$B41),IF(H$27="mg/kg DM",(((H$28*0.001)*($B$28/100))*$B41),0)))))) -> 0.87465 | I41: =IF(I$27="%w/w SAR",((I$28*10)*$B41),IF(I$27="%w/w DM",(((I$28*10)*($B$28/100))*$B41),IF(I$27="kg/t SAR",(I$28*$B41),IF(I$27="kg/t DM",((I$28*($B$28/100))*$B41),IF(I$27="mg/kg SAR",((I$28*0.001)*$B41),IF(I$27="mg/kg DM",(((I$28*0.001)*($B$28/100))*$B41),0)))))) -> 0.068355 | J41: =IF(J$27="%w/w SAR",((J$28*10)*$B41),IF(J$27="%w/w DM",(((J$28*10)*($B$28/100))*$B41),IF(J$27="kg/t SAR",(J$28*$B41),IF(J$27="kg/t DM",((J$28*($B$28/100))*$B41),IF(J$27="mg/kg SAR",((J$28*0.001)*$B41),IF(J$27="mg/kg DM",(((J$28*0.001)*($B$28/100))*$B41),0)))))) -> 0.0028665 | K41: =IF(K$27="%w/w SAR",((K$28*10)*$B41),IF(K$27="%w/w DM",(((K$28*10)*($B$28/100))*$B41),IF(K$27="kg/t SAR",(K$28*$B41),IF(K$27="kg/t DM",((K$28*($B$28/100))*$B41),IF(K$27="mg/kg SAR",((K$28*0.001)*$B41),IF(K$27="mg/kg DM",(((K$28*0.001)*($B$28/100))*$B41),0)))))) -> 0.002499 | L41: =IF(L$27="%w/w SAR",((L$28*10)*$B41),IF(L$27="%w/w DM",(((L$28*10)*($B$28/100))*$B41),IF(L$27="kg/t SAR",(L$28*$B41),IF(L$27="kg/t DM",((L$28*($B$28/100))*$B41),IF(L$27="mg/kg SAR",((L$28*0.001)*$B41),IF(L$27="mg/kg DM",(((L$28*0.001)*($B$28/100))*$B41),0)))))) -> 0.21168 | M41: =IF(M$27="%w/w SAR",((M$28*10)*$B41),IF(M$27="%w/w DM",(((M$28*10)*($B$28/100))*$B41),IF(M$27="kg/t SAR",(M$28*$B41),IF(M$27="kg/t DM",((M$28*($B$28/100))*$B41),IF(M$27="mg/kg SAR",((M$28*0.001)*$B41),IF(M$27="mg/kg DM",(((M$28*0.001)*($B$28/100))*$B41),0)))))) -> 0.07938 | N41: =IF(N$27="%w/w SAR",((N$28*10)*$B41),IF(N$27="%w/w DM",(((N$28*10)*($B$28/100))*$B41),IF(N$27="kg/t SAR",(N$28*$B41),IF(N$27="kg/t DM",((N$28*($B$28/100))*$B41),IF(N$27="mg/kg SAR",((N$28*0.001)*$B41),IF(N$27="mg/kg DM",(((N$28*0.001)*($B$28/100))*$B41),0)))))) -> 1131.9 | ... P41: =IF(P$27="%w/w SAR",((P$28*10)*$B41),IF(P$27="%w/w DM",(((P$28*10)*($B$28/100))*$B41),IF(P$27="kg/t SAR",(P$28*$B41),IF(P$27="kg/t DM",((P$28*($B$28/100))*$B41),IF(P$27="mg/kg SAR",((P$28*0.001)*$B41),IF(P$27="mg/kg DM",(((P$28*0.001)*($B$28/100))*$B41),0)))))) -> 0 | Q41: =(IF(Q$27="%w/w SAR",((Q$28*10)*$B41),IF(Q$27="%w/w DM",(((Q$28*10)*($B$28/100))*$B41),IF(Q$27="kg/t SAR",(Q$28*$B41),IF(Q$27="kg/t DM",((Q$28*($B$28/100))*$B41),IF(Q$27="mg/kg SAR",((Q$28*0.001)*$B41),IF(Q$27="mg/kg DM",(((Q$28*0.001)*($B$28/100))*$B41),0)))))))*2.5 -> 107.6775 | R41: =IF(R$27="%w/w SAR",((R$28*10)*$B41),IF(R$27="%w/w DM",(((R$28*10)*($B$28/100))*$B41),IF(R$27="kg/t SAR",(R$28*$B41),IF(R$27="kg/t DM",((R$28*($B$28/100))*$B41),IF(R$27="mg/kg SAR",((R$28*0.001)*$B41),IF(R$27="mg/kg DM",(((R$28*0.001)*($B$28/100))*$B41),0)))))) -> 0 | S41: =IF(S$27="%w/w SAR",((S$28*10)*$B41),IF(S$27="%w/w DM",(((S$28*10)*($B$28/100))*$B41),IF(S$27="kg/t SAR",(S$28*$B41),IF(S$27="kg/t DM",((S$28*($B$28/100))*$B41),IF(S$27="mg/kg SAR",((S$28*0.001)*$B41),IF(S$27="mg/kg DM",(((S$28*0.001)*($B$28/100))*$B41),0)))))) -> 0.12789 | T41: =IF(T$27="%w/w SAR",((T$28*10)*$B41),IF(T$27="%w/w DM",(((T$28*10)*($B$28/100))*$B41),IF(T$27="kg/t SAR",(T$28*$B41),IF(T$27="kg/t DM",((T$28*($B$28/100))*$B41),IF(T$27="mg/kg SAR",((T$28*0.001)*$B41),IF(T$27="mg/kg DM",(((T$28*0.001)*($B$28/100))*$B41),0)))))) -> 0 | U41: =IF(U$27="%w/w SAR",((U$28*10)*$B41),IF(U$27="%w/w DM",(((U$28*10)*($B$28/100))*$B41),IF(U$27="kg/t SAR",(U$28*$B41),IF(U$27="kg/t DM",((U$28*($B$28/100))*$B41),IF(U$27="mg/kg SAR",((U$28*0.001)*$B41),IF(U$27="mg/kg DM",(((U$28*0.001)*($B$28/100))*$B41),0)))))) -> 0
A42: =N8 -> 12 | B42: 50 | C42: =IF(C$27="%w/w SAR",((C$28*10)*$B42),IF(C$27="%w/w DM",(((C$28*10)*($B$28/100))*$B42),IF(C$27="kg/t SAR",(C$28*$B42),IF(C$27="kg/t DM",((C$28*($B$28/100))*$B42),IF(C$27="mg/kg SAR",((C$28*0.001)*$B42),IF(C$27="mg/kg DM",(((C$28*0.001)*($B$28/100))*$B42),0)))))) -> 97.02 | D42: =(IF(D$27="%w/w SAR",((D$28*10)*$B42),IF(D$27="%w/w DM",(((D$28*10)*($B$28/100))*$B42),IF(D$27="kg/t SAR",(D$28*$B42),IF(D$27="kg/t DM",((D$28*($B$28/100))*$B42),IF(D$27="mg/kg SAR",((D$28*0.001)*$B42),IF(D$27="mg/kg DM",(((D$28*0.001)*($B$28/100))*$B42),"0")))))))*2.291 -> 74.259328 | E42: =(IF(E$27="%w/w SAR",((E$28*10)*$B42),IF(E$27="%w/w DM",(((E$28*10)*($B$28/100))*$B42),IF(E$27="kg/t SAR",(E$28*$B42),IF(E$27="kg/t DM",((E$28*($B$28/100))*$B42),IF(E$27="mg/kg SAR",((E$28*0.001)*$B42),IF(E$27="mg/kg DM",(((E$28*0.001)*($B$28/100))*$B42),"0")))))))*1.205 -> 6.2617223 | F42: =(IF(F$27="%w/w SAR",((F$28*10)*$B42),IF(F$27="%w/w DM",(((F$28*10)*($B$28/100))*$B42),IF(F$27="kg/t SAR",(F$28*$B42),IF(F$27="kg/t DM",((F$28*($B$28/100))*$B42),IF(F$27="mg/kg SAR",((F$28*0.001)*$B42),IF(F$27="mg/kg DM",(((F$28*0.001)*($B$28/100))*$B42),"0")))))))*1.658 -> 12.430026 | G42: =IF(G$27="%w/w SAR",((G$28*10)*$B42),IF(G$27="%w/w DM",(((G$28*10)*($B$28/100))*$B42),IF(G$27="kg/t SAR",(G$28*$B42),IF(G$27="kg/t DM",((G$28*($B$28/100))*$B42),IF(G$27="mg/kg SAR",((G$28*0.001)*$B42),IF(G$27="mg/kg DM",(((G$28*0.001)*($B$28/100))*$B42),0)))))) -> 0.499065 | H42: =IF(H$27="%w/w SAR",((H$28*10)*$B42),IF(H$27="%w/w DM",(((H$28*10)*($B$28/100))*$B42),IF(H$27="kg/t SAR",(H$28*$B42),IF(H$27="kg/t DM",((H$28*($B$28/100))*$B42),IF(H$27="mg/kg SAR",((H$28*0.001)*$B42),IF(H$27="mg/kg DM",(((H$28*0.001)*($B$28/100))*$B42),0)))))) -> 0.87465 | I42: =IF(I$27="%w/w SAR",((I$28*10)*$B42),IF(I$27="%w/w DM",(((I$28*10)*($B$28/100))*$B42),IF(I$27="kg/t SAR",(I$28*$B42),IF(I$27="kg/t DM",((I$28*($B$28/100))*$B42),IF(I$27="mg/kg SAR",((I$28*0.001)*$B42),IF(I$27="mg/kg DM",(((I$28*0.001)*($B$28/100))*$B42),0)))))) -> 0.068355 | J42: =IF(J$27="%w/w SAR",((J$28*10)*$B42),IF(J$27="%w/w DM",(((J$28*10)*($B$28/100))*$B42),IF(J$27="kg/t SAR",(J$28*$B42),IF(J$27="kg/t DM",((J$28*($B$28/100))*$B42),IF(J$27="mg/kg SAR",((J$28*0.001)*$B42),IF(J$27="mg/kg DM",(((J$28*0.001)*($B$28/100))*$B42),0)))))) -> 0.0028665 | K42: =IF(K$27="%w/w SAR",((K$28*10)*$B42),IF(K$27="%w/w DM",(((K$28*10)*($B$28/100))*$B42),IF(K$27="kg/t SAR",(K$28*$B42),IF(K$27="kg/t DM",((K$28*($B$28/100))*$B42),IF(K$27="mg/kg SAR",((K$28*0.001)*$B42),IF(K$27="mg/kg DM",(((K$28*0.001)*($B$28/100))*$B42),0)))))) -> 0.002499 | L42: =IF(L$27="%w/w SAR",((L$28*10)*$B42),IF(L$27="%w/w DM",(((L$28*10)*($B$28/100))*$B42),IF(L$27="kg/t SAR",(L$28*$B42),IF(L$27="kg/t DM",((L$28*($B$28/100))*$B42),IF(L$27="mg/kg SAR",((L$28*0.001)*$B42),IF(L$27="mg/kg DM",(((L$28*0.001)*($B$28/100))*$B42),0)))))) -> 0.21168 | M42: =IF(M$27="%w/w SAR",((M$28*10)*$B42),IF(M$27="%w/w DM",(((M$28*10)*($B$28/100))*$B42),IF(M$27="kg/t SAR",(M$28*$B42),IF(M$27="kg/t DM",((M$28*($B$28/100))*$B42),IF(M$27="mg/kg SAR",((M$28*0.001)*$B42),IF(M$27="mg/kg DM",(((M$28*0.001)*($B$28/100))*$B42),0)))))) -> 0.07938 | N42: =IF(N$27="%w/w SAR",((N$28*10)*$B42),IF(N$27="%w/w DM",(((N$28*10)*($B$28/100))*$B42),IF(N$27="kg/t SAR",(N$28*$B42),IF(N$27="kg/t DM",((N$28*($B$28/100))*$B42),IF(N$27="mg/kg SAR",((N$28*0.001)*$B42),IF(N$27="mg/kg DM",(((N$28*0.001)*($B$28/100))*$B42),0)))))) -> 1131.9 | ... P42: =IF(P$27="%w/w SAR",((P$28*10)*$B42),IF(P$27="%w/w DM",(((P$28*10)*($B$28/100))*$B42),IF(P$27="kg/t SAR",(P$28*$B42),IF(P$27="kg/t DM",((P$28*($B$28/100))*$B42),IF(P$27="mg/kg SAR",((P$28*0.001)*$B42),IF(P$27="mg/kg DM",(((P$28*0.001)*($B$28/100))*$B42),0)))))) -> 0 | Q42: =(IF(Q$27="%w/w SAR",((Q$28*10)*$B42),IF(Q$27="%w/w DM",(((Q$28*10)*($B$28/100))*$B42),IF(Q$27="kg/t SAR",(Q$28*$B42),IF(Q$27="kg/t DM",((Q$28*($B$28/100))*$B42),IF(Q$27="mg/kg SAR",((Q$28*0.001)*$B42),IF(Q$27="mg/kg DM",(((Q$28*0.001)*($B$28/100))*$B42),0)))))))*2.5 -> 107.6775 | R42: =IF(R$27="%w/w SAR",((R$28*10)*$B42),IF(R$27="%w/w DM",(((R$28*10)*($B$28/100))*$B42),IF(R$27="kg/t SAR",(R$28*$B42),IF(R$27="kg/t DM",((R$28*($B$28/100))*$B42),IF(R$27="mg/kg SAR",((R$28*0.001)*$B42),IF(R$27="mg/kg DM",(((R$28*0.001)*($B$28/100))*$B42),0)))))) -> 0 | S42: =IF(S$27="%w/w SAR",((S$28*10)*$B42),IF(S$27="%w/w DM",(((S$28*10)*($B$28/100))*$B42),IF(S$27="kg/t SAR",(S$28*$B42),IF(S$27="kg/t DM",((S$28*($B$28/100))*$B42),IF(S$27="mg/kg SAR",((S$28*0.001)*$B42),IF(S$27="mg/kg DM",(((S$28*0.001)*($B$28/100))*$B42),0)))))) -> 0.12789 | T42: =IF(T$27="%w/w SAR",((T$28*10)*$B42),IF(T$27="%w/w DM",(((T$28*10)*($B$28/100))*$B42),IF(T$27="kg/t SAR",(T$28*$B42),IF(T$27="kg/t DM",((T$28*($B$28/100))*$B42),IF(T$27="mg/kg SAR",((T$28*0.001)*$B42),IF(T$27="mg/kg DM",(((T$28*0.001)*($B$28/100))*$B42),0)))))) -> 0 | U42: =IF(U$27="%w/w SAR",((U$28*10)*$B42),IF(U$27="%w/w DM",(((U$28*10)*($B$28/100))*$B42),IF(U$27="kg/t SAR",(U$28*$B42),IF(U$27="kg/t DM",((U$28*($B$28/100))*$B42),IF(U$27="mg/kg SAR",((U$28*0.001)*$B42),IF(U$27="mg/kg DM",(((U$28*0.001)*($B$28/100))*$B42),0)))))) -> 0
A43: =O8 -> 0 | C43: =IF(C$27="%w/w SAR",((C$28*10)*$B43),IF(C$27="%w/w DM",(((C$28*10)*($B$28/100))*$B43),IF(C$27="kg/t SAR",(C$28*$B43),IF(C$27="kg/t DM",((C$28*($B$28/100))*$B43),IF(C$27="mg/kg SAR",((C$28*0.001)*$B43),IF(C$27="mg/kg DM",(((C$28*0.001)*($B$28/100))*$B43),0)))))) -> 0 | D43: =(IF(D$27="%w/w SAR",((D$28*10)*$B43),IF(D$27="%w/w DM",(((D$28*10)*($B$28/100))*$B43),IF(D$27="kg/t SAR",(D$28*$B43),IF(D$27="kg/t DM",((D$28*($B$28/100))*$B43),IF(D$27="mg/kg SAR",((D$28*0.001)*$B43),IF(D$27="mg/kg DM",(((D$28*0.001)*($B$28/100))*$B43),"0")))))))*2.291 -> 0 | E43: =(IF(E$27="%w/w SAR",((E$28*10)*$B43),IF(E$27="%w/w DM",(((E$28*10)*($B$28/100))*$B43),IF(E$27="kg/t SAR",(E$28*$B43),IF(E$27="kg/t DM",((E$28*($B$28/100))*$B43),IF(E$27="mg/kg SAR",((E$28*0.001)*$B43),IF(E$27="mg/kg DM",(((E$28*0.001)*($B$28/100))*$B43),"0")))))))*1.205 -> 0 | F43: =(IF(F$27="%w/w SAR",((F$28*10)*$B43),IF(F$27="%w/w DM",(((F$28*10)*($B$28/100))*$B43),IF(F$27="kg/t SAR",(F$28*$B43),IF(F$27="kg/t DM",((F$28*($B$28/100))*$B43),IF(F$27="mg/kg SAR",((F$28*0.001)*$B43),IF(F$27="mg/kg DM",(((F$28*0.001)*($B$28/100))*$B43),"0")))))))*1.658 -> 0 | G43: =IF(G$27="%w/w SAR",((G$28*10)*$B43),IF(G$27="%w/w DM",(((G$28*10)*($B$28/100))*$B43),IF(G$27="kg/t SAR",(G$28*$B43),IF(G$27="kg/t DM",((G$28*($B$28/100))*$B43),IF(G$27="mg/kg SAR",((G$28*0.001)*$B43),IF(G$27="mg/kg DM",(((G$28*0.001)*($B$28/100))*$B43),0)))))) -> 0 | H43: =IF(H$27="%w/w SAR",((H$28*10)*$B43),IF(H$27="%w/w DM",(((H$28*10)*($B$28/100))*$B43),IF(H$27="kg/t SAR",(H$28*$B43),IF(H$27="kg/t DM",((H$28*($B$28/100))*$B43),IF(H$27="mg/kg SAR",((H$28*0.001)*$B43),IF(H$27="mg/kg DM",(((H$28*0.001)*($B$28/100))*$B43),0)))))) -> 0 | I43: =IF(I$27="%w/w SAR",((I$28*10)*$B43),IF(I$27="%w/w DM",(((I$28*10)*($B$28/100))*$B43),IF(I$27="kg/t SAR",(I$28*$B43),IF(I$27="kg/t DM",((I$28*($B$28/100))*$B43),IF(I$27="mg/kg SAR",((I$28*0.001)*$B43),IF(I$27="mg/kg DM",(((I$28*0.001)*($B$28/100))*$B43),0)))))) -> 0 | J43: =IF(J$27="%w/w SAR",((J$28*10)*$B43),IF(J$27="%w/w DM",(((J$28*10)*($B$28/100))*$B43),IF(J$27="kg/t SAR",(J$28*$B43),IF(J$27="kg/t DM",((J$28*($B$28/100))*$B43),IF(J$27="mg/kg SAR",((J$28*0.001)*$B43),IF(J$27="mg/kg DM",(((J$28*0.001)*($B$28/100))*$B43),0)))))) -> 0 | K43: =IF(K$27="%w/w SAR",((K$28*10)*$B43),IF(K$27="%w/w DM",(((K$28*10)*($B$28/100))*$B43),IF(K$27="kg/t SAR",(K$28*$B43),IF(K$27="kg/t DM",((K$28*($B$28/100))*$B43),IF(K$27="mg/kg SAR",((K$28*0.001)*$B43),IF(K$27="mg/kg DM",(((K$28*0.001)*($B$28/100))*$B43),0)))))) -> 0 | L43: =IF(L$27="%w/w SAR",((L$28*10)*$B43),IF(L$27="%w/w DM",(((L$28*10)*($B$28/100))*$B43),IF(L$27="kg/t SAR",(L$28*$B43),IF(L$27="kg/t DM",((L$28*($B$28/100))*$B43),IF(L$27="mg/kg SAR",((L$28*0.001)*$B43),IF(L$27="mg/kg DM",(((L$28*0.001)*($B$28/100))*$B43),0)))))) -> 0 | M43: =IF(M$27="%w/w SAR",((M$28*10)*$B43),IF(M$27="%w/w DM",(((M$28*10)*($B$28/100))*$B43),IF(M$27="kg/t SAR",(M$28*$B43),IF(M$27="kg/t DM",((M$28*($B$28/100))*$B43),IF(M$27="mg/kg SAR",((M$28*0.001)*$B43),IF(M$27="mg/kg DM",(((M$28*0.001)*($B$28/100))*$B43),0)))))) -> 0 | N43: =IF(N$27="%w/w SAR",((N$28*10)*$B43),IF(N$27="%w/w DM",(((N$28*10)*($B$28/100))*$B43),IF(N$27="kg/t SAR",(N$28*$B43),IF(N$27="kg/t DM",((N$28*($B$28/100))*$B43),IF(N$27="mg/kg SAR",((N$28*0.001)*$B43),IF(N$27="mg/kg DM",(((N$28*0.001)*($B$28/100))*$B43),0)))))) -> 0 | ... P43: =IF(P$27="%w/w SAR",((P$28*10)*$B43),IF(P$27="%w/w DM",(((P$28*10)*($B$28/100))*$B43),IF(P$27="kg/t SAR",(P$28*$B43),IF(P$27="kg/t DM",((P$28*($B$28/100))*$B43),IF(P$27="mg/kg SAR",((P$28*0.001)*$B43),IF(P$27="mg/kg DM",(((P$28*0.001)*($B$28/100))*$B43),0)))))) -> 0 | Q43: =(IF(Q$27="%w/w SAR",((Q$28*10)*$B43),IF(Q$27="%w/w DM",(((Q$28*10)*($B$28/100))*$B43),IF(Q$27="kg/t SAR",(Q$28*$B43),IF(Q$27="kg/t DM",((Q$28*($B$28/100))*$B43),IF(Q$27="mg/kg SAR",((Q$28*0.001)*$B43),IF(Q$27="mg/kg DM",(((Q$28*0.001)*($B$28/100))*$B43),0)))))))*2.5 -> 0 | R43: =IF(R$27="%w/w SAR",((R$28*10)*$B43),IF(R$27="%w/w DM",(((R$28*10)*($B$28/100))*$B43),IF(R$27="kg/t SAR",(R$28*$B43),IF(R$27="kg/t DM",((R$28*($B$28/100))*$B43),IF(R$27="mg/kg SAR",((R$28*0.001)*$B43),IF(R$27="mg/kg DM",(((R$28*0.001)*($B$28/100))*$B43),0)))))) -> 0 | S43: =IF(S$27="%w/w SAR",((S$28*10)*$B43),IF(S$27="%w/w DM",(((S$28*10)*($B$28/100))*$B43),IF(S$27="kg/t SAR",(S$28*$B43),IF(S$27="kg/t DM",((S$28*($B$28/100))*$B43),IF(S$27="mg/kg SAR",((S$28*0.001)*$B43),IF(S$27="mg/kg DM",(((S$28*0.001)*($B$28/100))*$B43),0)))))) -> 0 | T43: =IF(T$27="%w/w SAR",((T$28*10)*$B43),IF(T$27="%w/w DM",(((T$28*10)*($B$28/100))*$B43),IF(T$27="kg/t SAR",(T$28*$B43),IF(T$27="kg/t DM",((T$28*($B$28/100))*$B43),IF(T$27="mg/kg SAR",((T$28*0.001)*$B43),IF(T$27="mg/kg DM",(((T$28*0.001)*($B$28/100))*$B43),0)))))) -> 0 | U43: =IF(U$27="%w/w SAR",((U$28*10)*$B43),IF(U$27="%w/w DM",(((U$28*10)*($B$28/100))*$B43),IF(U$27="kg/t SAR",(U$28*$B43),IF(U$27="kg/t DM",((U$28*($B$28/100))*$B43),IF(U$27="mg/kg SAR",((U$28*0.001)*$B43),IF(U$27="mg/kg DM",(((U$28*0.001)*($B$28/100))*$B43),0)))))) -> 0
A44: =P8 -> 0 | C44: =IF(C$27="%w/w SAR",((C$28*10)*$B44),IF(C$27="%w/w DM",(((C$28*10)*($B$28/100))*$B44),IF(C$27="kg/t SAR",(C$28*$B44),IF(C$27="kg/t DM",((C$28*($B$28/100))*$B44),IF(C$27="mg/kg SAR",((C$28*0.001)*$B44),IF(C$27="mg/kg DM",(((C$28*0.001)*($B$28/100))*$B44),0)))))) -> 0 | D44: =(IF(D$27="%w/w SAR",((D$28*10)*$B44),IF(D$27="%w/w DM",(((D$28*10)*($B$28/100))*$B44),IF(D$27="kg/t SAR",(D$28*$B44),IF(D$27="kg/t DM",((D$28*($B$28/100))*$B44),IF(D$27="mg/kg SAR",((D$28*0.001)*$B44),IF(D$27="mg/kg DM",(((D$28*0.001)*($B$28/100))*$B44),"0")))))))*2.291 -> 0 | E44: =(IF(E$27="%w/w SAR",((E$28*10)*$B44),IF(E$27="%w/w DM",(((E$28*10)*($B$28/100))*$B44),IF(E$27="kg/t SAR",(E$28*$B44),IF(E$27="kg/t DM",((E$28*($B$28/100))*$B44),IF(E$27="mg/kg SAR",((E$28*0.001)*$B44),IF(E$27="mg/kg DM",(((E$28*0.001)*($B$28/100))*$B44),"0")))))))*1.205 -> 0 | F44: =(IF(F$27="%w/w SAR",((F$28*10)*$B44),IF(F$27="%w/w DM",(((F$28*10)*($B$28/100))*$B44),IF(F$27="kg/t SAR",(F$28*$B44),IF(F$27="kg/t DM",((F$28*($B$28/100))*$B44),IF(F$27="mg/kg SAR",((F$28*0.001)*$B44),IF(F$27="mg/kg DM",(((F$28*0.001)*($B$28/100))*$B44),"0")))))))*1.658 -> 0 | G44: =IF(G$27="%w/w SAR",((G$28*10)*$B44),IF(G$27="%w/w DM",(((G$28*10)*($B$28/100))*$B44),IF(G$27="kg/t SAR",(G$28*$B44),IF(G$27="kg/t DM",((G$28*($B$28/100))*$B44),IF(G$27="mg/kg SAR",((G$28*0.001)*$B44),IF(G$27="mg/kg DM",(((G$28*0.001)*($B$28/100))*$B44),0)))))) -> 0 | H44: =IF(H$27="%w/w SAR",((H$28*10)*$B44),IF(H$27="%w/w DM",(((H$28*10)*($B$28/100))*$B44),IF(H$27="kg/t SAR",(H$28*$B44),IF(H$27="kg/t DM",((H$28*($B$28/100))*$B44),IF(H$27="mg/kg SAR",((H$28*0.001)*$B44),IF(H$27="mg/kg DM",(((H$28*0.001)*($B$28/100))*$B44),0)))))) -> 0 | I44: =IF(I$27="%w/w SAR",((I$28*10)*$B44),IF(I$27="%w/w DM",(((I$28*10)*($B$28/100))*$B44),IF(I$27="kg/t SAR",(I$28*$B44),IF(I$27="kg/t DM",((I$28*($B$28/100))*$B44),IF(I$27="mg/kg SAR",((I$28*0.001)*$B44),IF(I$27="mg/kg DM",(((I$28*0.001)*($B$28/100))*$B44),0)))))) -> 0 | J44: =IF(J$27="%w/w SAR",((J$28*10)*$B44),IF(J$27="%w/w DM",(((J$28*10)*($B$28/100))*$B44),IF(J$27="kg/t SAR",(J$28*$B44),IF(J$27="kg/t DM",((J$28*($B$28/100))*$B44),IF(J$27="mg/kg SAR",((J$28*0.001)*$B44),IF(J$27="mg/kg DM",(((J$28*0.001)*($B$28/100))*$B44),0)))))) -> 0 | K44: =IF(K$27="%w/w SAR",((K$28*10)*$B44),IF(K$27="%w/w DM",(((K$28*10)*($B$28/100))*$B44),IF(K$27="kg/t SAR",(K$28*$B44),IF(K$27="kg/t DM",((K$28*($B$28/100))*$B44),IF(K$27="mg/kg SAR",((K$28*0.001)*$B44),IF(K$27="mg/kg DM",(((K$28*0.001)*($B$28/100))*$B44),0)))))) -> 0 | L44: =IF(L$27="%w/w SAR",((L$28*10)*$B44),IF(L$27="%w/w DM",(((L$28*10)*($B$28/100))*$B44),IF(L$27="kg/t SAR",(L$28*$B44),IF(L$27="kg/t DM",((L$28*($B$28/100))*$B44),IF(L$27="mg/kg SAR",((L$28*0.001)*$B44),IF(L$27="mg/kg DM",(((L$28*0.001)*($B$28/100))*$B44),0)))))) -> 0 | M44: =IF(M$27="%w/w SAR",((M$28*10)*$B44),IF(M$27="%w/w DM",(((M$28*10)*($B$28/100))*$B44),IF(M$27="kg/t SAR",(M$28*$B44),IF(M$27="kg/t DM",((M$28*($B$28/100))*$B44),IF(M$27="mg/kg SAR",((M$28*0.001)*$B44),IF(M$27="mg/kg DM",(((M$28*0.001)*($B$28/100))*$B44),0)))))) -> 0 | N44: =IF(N$27="%w/w SAR",((N$28*10)*$B44),IF(N$27="%w/w DM",(((N$28*10)*($B$28/100))*$B44),IF(N$27="kg/t SAR",(N$28*$B44),IF(N$27="kg/t DM",((N$28*($B$28/100))*$B44),IF(N$27="mg/kg SAR",((N$28*0.001)*$B44),IF(N$27="mg/kg DM",(((N$28*0.001)*($B$28/100))*$B44),0)))))) -> 0 | ... P44: =IF(P$27="%w/w SAR",((P$28*10)*$B44),IF(P$27="%w/w DM",(((P$28*10)*($B$28/100))*$B44),IF(P$27="kg/t SAR",(P$28*$B44),IF(P$27="kg/t DM",((P$28*($B$28/100))*$B44),IF(P$27="mg/kg SAR",((P$28*0.001)*$B44),IF(P$27="mg/kg DM",(((P$28*0.001)*($B$28/100))*$B44),0)))))) -> 0 | Q44: =(IF(Q$27="%w/w SAR",((Q$28*10)*$B44),IF(Q$27="%w/w DM",(((Q$28*10)*($B$28/100))*$B44),IF(Q$27="kg/t SAR",(Q$28*$B44),IF(Q$27="kg/t DM",((Q$28*($B$28/100))*$B44),IF(Q$27="mg/kg SAR",((Q$28*0.001)*$B44),IF(Q$27="mg/kg DM",(((Q$28*0.001)*($B$28/100))*$B44),0)))))))*2.5 -> 0 | R44: =IF(R$27="%w/w SAR",((R$28*10)*$B44),IF(R$27="%w/w DM",(((R$28*10)*($B$28/100))*$B44),IF(R$27="kg/t SAR",(R$28*$B44),IF(R$27="kg/t DM",((R$28*($B$28/100))*$B44),IF(R$27="mg/kg SAR",((R$28*0.001)*$B44),IF(R$27="mg/kg DM",(((R$28*0.001)*($B$28/100))*$B44),0)))))) -> 0 | S44: =IF(S$27="%w/w SAR",((S$28*10)*$B44),IF(S$27="%w/w DM",(((S$28*10)*($B$28/100))*$B44),IF(S$27="kg/t SAR",(S$28*$B44),IF(S$27="kg/t DM",((S$28*($B$28/100))*$B44),IF(S$27="mg/kg SAR",((S$28*0.001)*$B44),IF(S$27="mg/kg DM",(((S$28*0.001)*($B$28/100))*$B44),0)))))) -> 0 | T44: =IF(T$27="%w/w SAR",((T$28*10)*$B44),IF(T$27="%w/w DM",(((T$28*10)*($B$28/100))*$B44),IF(T$27="kg/t SAR",(T$28*$B44),IF(T$27="kg/t DM",((T$28*($B$28/100))*$B44),IF(T$27="mg/kg SAR",((T$28*0.001)*$B44),IF(T$27="mg/kg DM",(((T$28*0.001)*($B$28/100))*$B44),0)))))) -> 0 | U44: =IF(U$27="%w/w SAR",((U$28*10)*$B44),IF(U$27="%w/w DM",(((U$28*10)*($B$28/100))*$B44),IF(U$27="kg/t SAR",(U$28*$B44),IF(U$27="kg/t DM",((U$28*($B$28/100))*$B44),IF(U$27="mg/kg SAR",((U$28*0.001)*$B44),IF(U$27="mg/kg DM",(((U$28*0.001)*($B$28/100))*$B44),0)))))) -> 0
A45: =Q8 -> 0 | C45: =IF(C$27="%w/w SAR",((C$28*10)*$B45),IF(C$27="%w/w DM",(((C$28*10)*($B$28/100))*$B45),IF(C$27="kg/t SAR",(C$28*$B45),IF(C$27="kg/t DM",((C$28*($B$28/100))*$B45),IF(C$27="mg/kg SAR",((C$28*0.001)*$B45),IF(C$27="mg/kg DM",(((C$28*0.001)*($B$28/100))*$B45),0)))))) -> 0 | D45: =(IF(D$27="%w/w SAR",((D$28*10)*$B45),IF(D$27="%w/w DM",(((D$28*10)*($B$28/100))*$B45),IF(D$27="kg/t SAR",(D$28*$B45),IF(D$27="kg/t DM",((D$28*($B$28/100))*$B45),IF(D$27="mg/kg SAR",((D$28*0.001)*$B45),IF(D$27="mg/kg DM",(((D$28*0.001)*($B$28/100))*$B45),"0")))))))*2.291 -> 0 | E45: =(IF(E$27="%w/w SAR",((E$28*10)*$B45),IF(E$27="%w/w DM",(((E$28*10)*($B$28/100))*$B45),IF(E$27="kg/t SAR",(E$28*$B45),IF(E$27="kg/t DM",((E$28*($B$28/100))*$B45),IF(E$27="mg/kg SAR",((E$28*0.001)*$B45),IF(E$27="mg/kg DM",(((E$28*0.001)*($B$28/100))*$B45),"0")))))))*1.205 -> 0 | F45: =(IF(F$27="%w/w SAR",((F$28*10)*$B45),IF(F$27="%w/w DM",(((F$28*10)*($B$28/100))*$B45),IF(F$27="kg/t SAR",(F$28*$B45),IF(F$27="kg/t DM",((F$28*($B$28/100))*$B45),IF(F$27="mg/kg SAR",((F$28*0.001)*$B45),IF(F$27="mg/kg DM",(((F$28*0.001)*($B$28/100))*$B45),"0")))))))*1.658 -> 0 | G45: =IF(G$27="%w/w SAR",((G$28*10)*$B45),IF(G$27="%w/w DM",(((G$28*10)*($B$28/100))*$B45),IF(G$27="kg/t SAR",(G$28*$B45),IF(G$27="kg/t DM",((G$28*($B$28/100))*$B45),IF(G$27="mg/kg SAR",((G$28*0.001)*$B45),IF(G$27="mg/kg DM",(((G$28*0.001)*($B$28/100))*$B45),0)))))) -> 0 | H45: =IF(H$27="%w/w SAR",((H$28*10)*$B45),IF(H$27="%w/w DM",(((H$28*10)*($B$28/100))*$B45),IF(H$27="kg/t SAR",(H$28*$B45),IF(H$27="kg/t DM",((H$28*($B$28/100))*$B45),IF(H$27="mg/kg SAR",((H$28*0.001)*$B45),IF(H$27="mg/kg DM",(((H$28*0.001)*($B$28/100))*$B45),0)))))) -> 0 | I45: =IF(I$27="%w/w SAR",((I$28*10)*$B45),IF(I$27="%w/w DM",(((I$28*10)*($B$28/100))*$B45),IF(I$27="kg/t SAR",(I$28*$B45),IF(I$27="kg/t DM",((I$28*($B$28/100))*$B45),IF(I$27="mg/kg SAR",((I$28*0.001)*$B45),IF(I$27="mg/kg DM",(((I$28*0.001)*($B$28/100))*$B45),0)))))) -> 0 | J45: =IF(J$27="%w/w SAR",((J$28*10)*$B45),IF(J$27="%w/w DM",(((J$28*10)*($B$28/100))*$B45),IF(J$27="kg/t SAR",(J$28*$B45),IF(J$27="kg/t DM",((J$28*($B$28/100))*$B45),IF(J$27="mg/kg SAR",((J$28*0.001)*$B45),IF(J$27="mg/kg DM",(((J$28*0.001)*($B$28/100))*$B45),0)))))) -> 0 | K45: =IF(K$27="%w/w SAR",((K$28*10)*$B45),IF(K$27="%w/w DM",(((K$28*10)*($B$28/100))*$B45),IF(K$27="kg/t SAR",(K$28*$B45),IF(K$27="kg/t DM",((K$28*($B$28/100))*$B45),IF(K$27="mg/kg SAR",((K$28*0.001)*$B45),IF(K$27="mg/kg DM",(((K$28*0.001)*($B$28/100))*$B45),0)))))) -> 0 | L45: =IF(L$27="%w/w SAR",((L$28*10)*$B45),IF(L$27="%w/w DM",(((L$28*10)*($B$28/100))*$B45),IF(L$27="kg/t SAR",(L$28*$B45),IF(L$27="kg/t DM",((L$28*($B$28/100))*$B45),IF(L$27="mg/kg SAR",((L$28*0.001)*$B45),IF(L$27="mg/kg DM",(((L$28*0.001)*($B$28/100))*$B45),0)))))) -> 0 | M45: =IF(M$27="%w/w SAR",((M$28*10)*$B45),IF(M$27="%w/w DM",(((M$28*10)*($B$28/100))*$B45),IF(M$27="kg/t SAR",(M$28*$B45),IF(M$27="kg/t DM",((M$28*($B$28/100))*$B45),IF(M$27="mg/kg SAR",((M$28*0.001)*$B45),IF(M$27="mg/kg DM",(((M$28*0.001)*($B$28/100))*$B45),0)))))) -> 0 | N45: =IF(N$27="%w/w SAR",((N$28*10)*$B45),IF(N$27="%w/w DM",(((N$28*10)*($B$28/100))*$B45),IF(N$27="kg/t SAR",(N$28*$B45),IF(N$27="kg/t DM",((N$28*($B$28/100))*$B45),IF(N$27="mg/kg SAR",((N$28*0.001)*$B45),IF(N$27="mg/kg DM",(((N$28*0.001)*($B$28/100))*$B45),0)))))) -> 0 | ... P45: =IF(P$27="%w/w SAR",((P$28*10)*$B45),IF(P$27="%w/w DM",(((P$28*10)*($B$28/100))*$B45),IF(P$27="kg/t SAR",(P$28*$B45),IF(P$27="kg/t DM",((P$28*($B$28/100))*$B45),IF(P$27="mg/kg SAR",((P$28*0.001)*$B45),IF(P$27="mg/kg DM",(((P$28*0.001)*($B$28/100))*$B45),0)))))) -> 0 | Q45: =(IF(Q$27="%w/w SAR",((Q$28*10)*$B45),IF(Q$27="%w/w DM",(((Q$28*10)*($B$28/100))*$B45),IF(Q$27="kg/t SAR",(Q$28*$B45),IF(Q$27="kg/t DM",((Q$28*($B$28/100))*$B45),IF(Q$27="mg/kg SAR",((Q$28*0.001)*$B45),IF(Q$27="mg/kg DM",(((Q$28*0.001)*($B$28/100))*$B45),0)))))))*2.5 -> 0 | R45: =IF(R$27="%w/w SAR",((R$28*10)*$B45),IF(R$27="%w/w DM",(((R$28*10)*($B$28/100))*$B45),IF(R$27="kg/t SAR",(R$28*$B45),IF(R$27="kg/t DM",((R$28*($B$28/100))*$B45),IF(R$27="mg/kg SAR",((R$28*0.001)*$B45),IF(R$27="mg/kg DM",(((R$28*0.001)*($B$28/100))*$B45),0)))))) -> 0 | S45: =IF(S$27="%w/w SAR",((S$28*10)*$B45),IF(S$27="%w/w DM",(((S$28*10)*($B$28/100))*$B45),IF(S$27="kg/t SAR",(S$28*$B45),IF(S$27="kg/t DM",((S$28*($B$28/100))*$B45),IF(S$27="mg/kg SAR",((S$28*0.001)*$B45),IF(S$27="mg/kg DM",(((S$28*0.001)*($B$28/100))*$B45),0)))))) -> 0 | T45: =IF(T$27="%w/w SAR",((T$28*10)*$B45),IF(T$27="%w/w DM",(((T$28*10)*($B$28/100))*$B45),IF(T$27="kg/t SAR",(T$28*$B45),IF(T$27="kg/t DM",((T$28*($B$28/100))*$B45),IF(T$27="mg/kg SAR",((T$28*0.001)*$B45),IF(T$27="mg/kg DM",(((T$28*0.001)*($B$28/100))*$B45),0)))))) -> 0 | U45: =IF(U$27="%w/w SAR",((U$28*10)*$B45),IF(U$27="%w/w DM",(((U$28*10)*($B$28/100))*$B45),IF(U$27="kg/t SAR",(U$28*$B45),IF(U$27="kg/t DM",((U$28*($B$28/100))*$B45),IF(U$27="mg/kg SAR",((U$28*0.001)*$B45),IF(U$27="mg/kg DM",(((U$28*0.001)*($B$28/100))*$B45),0)))))) -> 0
A46: =R8 -> 0 | C46: =IF(C$27="%w/w SAR",((C$28*10)*$B46),IF(C$27="%w/w DM",(((C$28*10)*($B$28/100))*$B46),IF(C$27="kg/t SAR",(C$28*$B46),IF(C$27="kg/t DM",((C$28*($B$28/100))*$B46),IF(C$27="mg/kg SAR",((C$28*0.001)*$B46),IF(C$27="mg/kg DM",(((C$28*0.001)*($B$28/100))*$B46),0)))))) -> 0 | D46: =(IF(D$27="%w/w SAR",((D$28*10)*$B46),IF(D$27="%w/w DM",(((D$28*10)*($B$28/100))*$B46),IF(D$27="kg/t SAR",(D$28*$B46),IF(D$27="kg/t DM",((D$28*($B$28/100))*$B46),IF(D$27="mg/kg SAR",((D$28*0.001)*$B46),IF(D$27="mg/kg DM",(((D$28*0.001)*($B$28/100))*$B46),"0")))))))*2.291 -> 0 | E46: =(IF(E$27="%w/w SAR",((E$28*10)*$B46),IF(E$27="%w/w DM",(((E$28*10)*($B$28/100))*$B46),IF(E$27="kg/t SAR",(E$28*$B46),IF(E$27="kg/t DM",((E$28*($B$28/100))*$B46),IF(E$27="mg/kg SAR",((E$28*0.001)*$B46),IF(E$27="mg/kg DM",(((E$28*0.001)*($B$28/100))*$B46),"0")))))))*1.205 -> 0 | F46: =(IF(F$27="%w/w SAR",((F$28*10)*$B46),IF(F$27="%w/w DM",(((F$28*10)*($B$28/100))*$B46),IF(F$27="kg/t SAR",(F$28*$B46),IF(F$27="kg/t DM",((F$28*($B$28/100))*$B46),IF(F$27="mg/kg SAR",((F$28*0.001)*$B46),IF(F$27="mg/kg DM",(((F$28*0.001)*($B$28/100))*$B46),"0")))))))*1.658 -> 0 | G46: =IF(G$27="%w/w SAR",((G$28*10)*$B46),IF(G$27="%w/w DM",(((G$28*10)*($B$28/100))*$B46),IF(G$27="kg/t SAR",(G$28*$B46),IF(G$27="kg/t DM",((G$28*($B$28/100))*$B46),IF(G$27="mg/kg SAR",((G$28*0.001)*$B46),IF(G$27="mg/kg DM",(((G$28*0.001)*($B$28/100))*$B46),0)))))) -> 0 | H46: =IF(H$27="%w/w SAR",((H$28*10)*$B46),IF(H$27="%w/w DM",(((H$28*10)*($B$28/100))*$B46),IF(H$27="kg/t SAR",(H$28*$B46),IF(H$27="kg/t DM",((H$28*($B$28/100))*$B46),IF(H$27="mg/kg SAR",((H$28*0.001)*$B46),IF(H$27="mg/kg DM",(((H$28*0.001)*($B$28/100))*$B46),0)))))) -> 0 | I46: =IF(I$27="%w/w SAR",((I$28*10)*$B46),IF(I$27="%w/w DM",(((I$28*10)*($B$28/100))*$B46),IF(I$27="kg/t SAR",(I$28*$B46),IF(I$27="kg/t DM",((I$28*($B$28/100))*$B46),IF(I$27="mg/kg SAR",((I$28*0.001)*$B46),IF(I$27="mg/kg DM",(((I$28*0.001)*($B$28/100))*$B46),0)))))) -> 0 | J46: =IF(J$27="%w/w SAR",((J$28*10)*$B46),IF(J$27="%w/w DM",(((J$28*10)*($B$28/100))*$B46),IF(J$27="kg/t SAR",(J$28*$B46),IF(J$27="kg/t DM",((J$28*($B$28/100))*$B46),IF(J$27="mg/kg SAR",((J$28*0.001)*$B46),IF(J$27="mg/kg DM",(((J$28*0.001)*($B$28/100))*$B46),0)))))) -> 0 | K46: =IF(K$27="%w/w SAR",((K$28*10)*$B46),IF(K$27="%w/w DM",(((K$28*10)*($B$28/100))*$B46),IF(K$27="kg/t SAR",(K$28*$B46),IF(K$27="kg/t DM",((K$28*($B$28/100))*$B46),IF(K$27="mg/kg SAR",((K$28*0.001)*$B46),IF(K$27="mg/kg DM",(((K$28*0.001)*($B$28/100))*$B46),0)))))) -> 0 | L46: =IF(L$27="%w/w SAR",((L$28*10)*$B46),IF(L$27="%w/w DM",(((L$28*10)*($B$28/100))*$B46),IF(L$27="kg/t SAR",(L$28*$B46),IF(L$27="kg/t DM",((L$28*($B$28/100))*$B46),IF(L$27="mg/kg SAR",((L$28*0.001)*$B46),IF(L$27="mg/kg DM",(((L$28*0.001)*($B$28/100))*$B46),0)))))) -> 0 | M46: =IF(M$27="%w/w SAR",((M$28*10)*$B46),IF(M$27="%w/w DM",(((M$28*10)*($B$28/100))*$B46),IF(M$27="kg/t SAR",(M$28*$B46),IF(M$27="kg/t DM",((M$28*($B$28/100))*$B46),IF(M$27="mg/kg SAR",((M$28*0.001)*$B46),IF(M$27="mg/kg DM",(((M$28*0.001)*($B$28/100))*$B46),0)))))) -> 0 | N46: =IF(N$27="%w/w SAR",((N$28*10)*$B46),IF(N$27="%w/w DM",(((N$28*10)*($B$28/100))*$B46),IF(N$27="kg/t SAR",(N$28*$B46),IF(N$27="kg/t DM",((N$28*($B$28/100))*$B46),IF(N$27="mg/kg SAR",((N$28*0.001)*$B46),IF(N$27="mg/kg DM",(((N$28*0.001)*($B$28/100))*$B46),0)))))) -> 0 | ... P46: =IF(P$27="%w/w SAR",((P$28*10)*$B46),IF(P$27="%w/w DM",(((P$28*10)*($B$28/100))*$B46),IF(P$27="kg/t SAR",(P$28*$B46),IF(P$27="kg/t DM",((P$28*($B$28/100))*$B46),IF(P$27="mg/kg SAR",((P$28*0.001)*$B46),IF(P$27="mg/kg DM",(((P$28*0.001)*($B$28/100))*$B46),0)))))) -> 0 | Q46: =(IF(Q$27="%w/w SAR",((Q$28*10)*$B46),IF(Q$27="%w/w DM",(((Q$28*10)*($B$28/100))*$B46),IF(Q$27="kg/t SAR",(Q$28*$B46),IF(Q$27="kg/t DM",((Q$28*($B$28/100))*$B46),IF(Q$27="mg/kg SAR",((Q$28*0.001)*$B46),IF(Q$27="mg/kg DM",(((Q$28*0.001)*($B$28/100))*$B46),0)))))))*2.5 -> 0 | R46: =IF(R$27="%w/w SAR",((R$28*10)*$B46),IF(R$27="%w/w DM",(((R$28*10)*($B$28/100))*$B46),IF(R$27="kg/t SAR",(R$28*$B46),IF(R$27="kg/t DM",((R$28*($B$28/100))*$B46),IF(R$27="mg/kg SAR",((R$28*0.001)*$B46),IF(R$27="mg/kg DM",(((R$28*0.001)*($B$28/100))*$B46),0)))))) -> 0 | S46: =IF(S$27="%w/w SAR",((S$28*10)*$B46),IF(S$27="%w/w DM",(((S$28*10)*($B$28/100))*$B46),IF(S$27="kg/t SAR",(S$28*$B46),IF(S$27="kg/t DM",((S$28*($B$28/100))*$B46),IF(S$27="mg/kg SAR",((S$28*0.001)*$B46),IF(S$27="mg/kg DM",(((S$28*0.001)*($B$28/100))*$B46),0)))))) -> 0 | T46: =IF(T$27="%w/w SAR",((T$28*10)*$B46),IF(T$27="%w/w DM",(((T$28*10)*($B$28/100))*$B46),IF(T$27="kg/t SAR",(T$28*$B46),IF(T$27="kg/t DM",((T$28*($B$28/100))*$B46),IF(T$27="mg/kg SAR",((T$28*0.001)*$B46),IF(T$27="mg/kg DM",(((T$28*0.001)*($B$28/100))*$B46),0)))))) -> 0 | U46: =IF(U$27="%w/w SAR",((U$28*10)*$B46),IF(U$27="%w/w DM",(((U$28*10)*($B$28/100))*$B46),IF(U$27="kg/t SAR",(U$28*$B46),IF(U$27="kg/t DM",((U$28*($B$28/100))*$B46),IF(U$27="mg/kg SAR",((U$28*0.001)*$B46),IF(U$27="mg/kg DM",(((U$28*0.001)*($B$28/100))*$B46),0)))))) -> 0
A47: =S8 -> 0 | C47: =IF(C$27="%w/w SAR",((C$28*10)*$B47),IF(C$27="%w/w DM",(((C$28*10)*($B$28/100))*$B47),IF(C$27="kg/t SAR",(C$28*$B47),IF(C$27="kg/t DM",((C$28*($B$28/100))*$B47),IF(C$27="mg/kg SAR",((C$28*0.001)*$B47),IF(C$27="mg/kg DM",(((C$28*0.001)*($B$28/100))*$B47),0)))))) -> 0 | D47: =(IF(D$27="%w/w SAR",((D$28*10)*$B47),IF(D$27="%w/w DM",(((D$28*10)*($B$28/100))*$B47),IF(D$27="kg/t SAR",(D$28*$B47),IF(D$27="kg/t DM",((D$28*($B$28/100))*$B47),IF(D$27="mg/kg SAR",((D$28*0.001)*$B47),IF(D$27="mg/kg DM",(((D$28*0.001)*($B$28/100))*$B47),"0")))))))*2.291 -> 0 | E47: =(IF(E$27="%w/w SAR",((E$28*10)*$B47),IF(E$27="%w/w DM",(((E$28*10)*($B$28/100))*$B47),IF(E$27="kg/t SAR",(E$28*$B47),IF(E$27="kg/t DM",((E$28*($B$28/100))*$B47),IF(E$27="mg/kg SAR",((E$28*0.001)*$B47),IF(E$27="mg/kg DM",(((E$28*0.001)*($B$28/100))*$B47),"0")))))))*1.205 -> 0 | F47: =(IF(F$27="%w/w SAR",((F$28*10)*$B47),IF(F$27="%w/w DM",(((F$28*10)*($B$28/100))*$B47),IF(F$27="kg/t SAR",(F$28*$B47),IF(F$27="kg/t DM",((F$28*($B$28/100))*$B47),IF(F$27="mg/kg SAR",((F$28*0.001)*$B47),IF(F$27="mg/kg DM",(((F$28*0.001)*($B$28/100))*$B47),"0")))))))*1.658 -> 0 | G47: =IF(G$27="%w/w SAR",((G$28*10)*$B47),IF(G$27="%w/w DM",(((G$28*10)*($B$28/100))*$B47),IF(G$27="kg/t SAR",(G$28*$B47),IF(G$27="kg/t DM",((G$28*($B$28/100))*$B47),IF(G$27="mg/kg SAR",((G$28*0.001)*$B47),IF(G$27="mg/kg DM",(((G$28*0.001)*($B$28/100))*$B47),0)))))) -> 0 | H47: =IF(H$27="%w/w SAR",((H$28*10)*$B47),IF(H$27="%w/w DM",(((H$28*10)*($B$28/100))*$B47),IF(H$27="kg/t SAR",(H$28*$B47),IF(H$27="kg/t DM",((H$28*($B$28/100))*$B47),IF(H$27="mg/kg SAR",((H$28*0.001)*$B47),IF(H$27="mg/kg DM",(((H$28*0.001)*($B$28/100))*$B47),0)))))) -> 0 | I47: =IF(I$27="%w/w SAR",((I$28*10)*$B47),IF(I$27="%w/w DM",(((I$28*10)*($B$28/100))*$B47),IF(I$27="kg/t SAR",(I$28*$B47),IF(I$27="kg/t DM",((I$28*($B$28/100))*$B47),IF(I$27="mg/kg SAR",((I$28*0.001)*$B47),IF(I$27="mg/kg DM",(((I$28*0.001)*($B$28/100))*$B47),0)))))) -> 0 | J47: =IF(J$27="%w/w SAR",((J$28*10)*$B47),IF(J$27="%w/w DM",(((J$28*10)*($B$28/100))*$B47),IF(J$27="kg/t SAR",(J$28*$B47),IF(J$27="kg/t DM",((J$28*($B$28/100))*$B47),IF(J$27="mg/kg SAR",((J$28*0.001)*$B47),IF(J$27="mg/kg DM",(((J$28*0.001)*($B$28/100))*$B47),0)))))) -> 0 | K47: =IF(K$27="%w/w SAR",((K$28*10)*$B47),IF(K$27="%w/w DM",(((K$28*10)*($B$28/100))*$B47),IF(K$27="kg/t SAR",(K$28*$B47),IF(K$27="kg/t DM",((K$28*($B$28/100))*$B47),IF(K$27="mg/kg SAR",((K$28*0.001)*$B47),IF(K$27="mg/kg DM",(((K$28*0.001)*($B$28/100))*$B47),0)))))) -> 0 | L47: =IF(L$27="%w/w SAR",((L$28*10)*$B47),IF(L$27="%w/w DM",(((L$28*10)*($B$28/100))*$B47),IF(L$27="kg/t SAR",(L$28*$B47),IF(L$27="kg/t DM",((L$28*($B$28/100))*$B47),IF(L$27="mg/kg SAR",((L$28*0.001)*$B47),IF(L$27="mg/kg DM",(((L$28*0.001)*($B$28/100))*$B47),0)))))) -> 0 | M47: =IF(M$27="%w/w SAR",((M$28*10)*$B47),IF(M$27="%w/w DM",(((M$28*10)*($B$28/100))*$B47),IF(M$27="kg/t SAR",(M$28*$B47),IF(M$27="kg/t DM",((M$28*($B$28/100))*$B47),IF(M$27="mg/kg SAR",((M$28*0.001)*$B47),IF(M$27="mg/kg DM",(((M$28*0.001)*($B$28/100))*$B47),0)))))) -> 0 | N47: =IF(N$27="%w/w SAR",((N$28*10)*$B47),IF(N$27="%w/w DM",(((N$28*10)*($B$28/100))*$B47),IF(N$27="kg/t SAR",(N$28*$B47),IF(N$27="kg/t DM",((N$28*($B$28/100))*$B47),IF(N$27="mg/kg SAR",((N$28*0.001)*$B47),IF(N$27="mg/kg DM",(((N$28*0.001)*($B$28/100))*$B47),0)))))) -> 0 | ... P47: =IF(P$27="%w/w SAR",((P$28*10)*$B47),IF(P$27="%w/w DM",(((P$28*10)*($B$28/100))*$B47),IF(P$27="kg/t SAR",(P$28*$B47),IF(P$27="kg/t DM",((P$28*($B$28/100))*$B47),IF(P$27="mg/kg SAR",((P$28*0.001)*$B47),IF(P$27="mg/kg DM",(((P$28*0.001)*($B$28/100))*$B47),0)))))) -> 0 | Q47: =(IF(Q$27="%w/w SAR",((Q$28*10)*$B47),IF(Q$27="%w/w DM",(((Q$28*10)*($B$28/100))*$B47),IF(Q$27="kg/t SAR",(Q$28*$B47),IF(Q$27="kg/t DM",((Q$28*($B$28/100))*$B47),IF(Q$27="mg/kg SAR",((Q$28*0.001)*$B47),IF(Q$27="mg/kg DM",(((Q$28*0.001)*($B$28/100))*$B47),0)))))))*2.5 -> 0 | R47: =IF(R$27="%w/w SAR",((R$28*10)*$B47),IF(R$27="%w/w DM",(((R$28*10)*($B$28/100))*$B47),IF(R$27="kg/t SAR",(R$28*$B47),IF(R$27="kg/t DM",((R$28*($B$28/100))*$B47),IF(R$27="mg/kg SAR",((R$28*0.001)*$B47),IF(R$27="mg/kg DM",(((R$28*0.001)*($B$28/100))*$B47),0)))))) -> 0 | S47: =IF(S$27="%w/w SAR",((S$28*10)*$B47),IF(S$27="%w/w DM",(((S$28*10)*($B$28/100))*$B47),IF(S$27="kg/t SAR",(S$28*$B47),IF(S$27="kg/t DM",((S$28*($B$28/100))*$B47),IF(S$27="mg/kg SAR",((S$28*0.001)*$B47),IF(S$27="mg/kg DM",(((S$28*0.001)*($B$28/100))*$B47),0)))))) -> 0 | T47: =IF(T$27="%w/w SAR",((T$28*10)*$B47),IF(T$27="%w/w DM",(((T$28*10)*($B$28/100))*$B47),IF(T$27="kg/t SAR",(T$28*$B47),IF(T$27="kg/t DM",((T$28*($B$28/100))*$B47),IF(T$27="mg/kg SAR",((T$28*0.001)*$B47),IF(T$27="mg/kg DM",(((T$28*0.001)*($B$28/100))*$B47),0)))))) -> 0 | U47: =IF(U$27="%w/w SAR",((U$28*10)*$B47),IF(U$27="%w/w DM",(((U$28*10)*($B$28/100))*$B47),IF(U$27="kg/t SAR",(U$28*$B47),IF(U$27="kg/t DM",((U$28*($B$28/100))*$B47),IF(U$27="mg/kg SAR",((U$28*0.001)*$B47),IF(U$27="mg/kg DM",(((U$28*0.001)*($B$28/100))*$B47),0)))))) -> 0
A48: =T8 -> 0 | C48: =IF(C$27="%w/w SAR",((C$28*10)*$B48),IF(C$27="%w/w DM",(((C$28*10)*($B$28/100))*$B48),IF(C$27="kg/t SAR",(C$28*$B48),IF(C$27="kg/t DM",((C$28*($B$28/100))*$B48),IF(C$27="mg/kg SAR",((C$28*0.001)*$B48),IF(C$27="mg/kg DM",(((C$28*0.001)*($B$28/100))*$B48),0)))))) -> 0 | D48: =(IF(D$27="%w/w SAR",((D$28*10)*$B48),IF(D$27="%w/w DM",(((D$28*10)*($B$28/100))*$B48),IF(D$27="kg/t SAR",(D$28*$B48),IF(D$27="kg/t DM",((D$28*($B$28/100))*$B48),IF(D$27="mg/kg SAR",((D$28*0.001)*$B48),IF(D$27="mg/kg DM",(((D$28*0.001)*($B$28/100))*$B48),"0")))))))*2.291 -> 0 | E48: =(IF(E$27="%w/w SAR",((E$28*10)*$B48),IF(E$27="%w/w DM",(((E$28*10)*($B$28/100))*$B48),IF(E$27="kg/t SAR",(E$28*$B48),IF(E$27="kg/t DM",((E$28*($B$28/100))*$B48),IF(E$27="mg/kg SAR",((E$28*0.001)*$B48),IF(E$27="mg/kg DM",(((E$28*0.001)*($B$28/100))*$B48),"0")))))))*1.205 -> 0 | F48: =(IF(F$27="%w/w SAR",((F$28*10)*$B48),IF(F$27="%w/w DM",(((F$28*10)*($B$28/100))*$B48),IF(F$27="kg/t SAR",(F$28*$B48),IF(F$27="kg/t DM",((F$28*($B$28/100))*$B48),IF(F$27="mg/kg SAR",((F$28*0.001)*$B48),IF(F$27="mg/kg DM",(((F$28*0.001)*($B$28/100))*$B48),"0")))))))*1.658 -> 0 | G48: =IF(G$27="%w/w SAR",((G$28*10)*$B48),IF(G$27="%w/w DM",(((G$28*10)*($B$28/100))*$B48),IF(G$27="kg/t SAR",(G$28*$B48),IF(G$27="kg/t DM",((G$28*($B$28/100))*$B48),IF(G$27="mg/kg SAR",((G$28*0.001)*$B48),IF(G$27="mg/kg DM",(((G$28*0.001)*($B$28/100))*$B48),0)))))) -> 0 | H48: =IF(H$27="%w/w SAR",((H$28*10)*$B48),IF(H$27="%w/w DM",(((H$28*10)*($B$28/100))*$B48),IF(H$27="kg/t SAR",(H$28*$B48),IF(H$27="kg/t DM",((H$28*($B$28/100))*$B48),IF(H$27="mg/kg SAR",((H$28*0.001)*$B48),IF(H$27="mg/kg DM",(((H$28*0.001)*($B$28/100))*$B48),0)))))) -> 0 | I48: =IF(I$27="%w/w SAR",((I$28*10)*$B48),IF(I$27="%w/w DM",(((I$28*10)*($B$28/100))*$B48),IF(I$27="kg/t SAR",(I$28*$B48),IF(I$27="kg/t DM",((I$28*($B$28/100))*$B48),IF(I$27="mg/kg SAR",((I$28*0.001)*$B48),IF(I$27="mg/kg DM",(((I$28*0.001)*($B$28/100))*$B48),0)))))) -> 0 | J48: =IF(J$27="%w/w SAR",((J$28*10)*$B48),IF(J$27="%w/w DM",(((J$28*10)*($B$28/100))*$B48),IF(J$27="kg/t SAR",(J$28*$B48),IF(J$27="kg/t DM",((J$28*($B$28/100))*$B48),IF(J$27="mg/kg SAR",((J$28*0.001)*$B48),IF(J$27="mg/kg DM",(((J$28*0.001)*($B$28/100))*$B48),0)))))) -> 0 | K48: =IF(K$27="%w/w SAR",((K$28*10)*$B48),IF(K$27="%w/w DM",(((K$28*10)*($B$28/100))*$B48),IF(K$27="kg/t SAR",(K$28*$B48),IF(K$27="kg/t DM",((K$28*($B$28/100))*$B48),IF(K$27="mg/kg SAR",((K$28*0.001)*$B48),IF(K$27="mg/kg DM",(((K$28*0.001)*($B$28/100))*$B48),0)))))) -> 0 | L48: =IF(L$27="%w/w SAR",((L$28*10)*$B48),IF(L$27="%w/w DM",(((L$28*10)*($B$28/100))*$B48),IF(L$27="kg/t SAR",(L$28*$B48),IF(L$27="kg/t DM",((L$28*($B$28/100))*$B48),IF(L$27="mg/kg SAR",((L$28*0.001)*$B48),IF(L$27="mg/kg DM",(((L$28*0.001)*($B$28/100))*$B48),0)))))) -> 0 | M48: =IF(M$27="%w/w SAR",((M$28*10)*$B48),IF(M$27="%w/w DM",(((M$28*10)*($B$28/100))*$B48),IF(M$27="kg/t SAR",(M$28*$B48),IF(M$27="kg/t DM",((M$28*($B$28/100))*$B48),IF(M$27="mg/kg SAR",((M$28*0.001)*$B48),IF(M$27="mg/kg DM",(((M$28*0.001)*($B$28/100))*$B48),0)))))) -> 0 | N48: =IF(N$27="%w/w SAR",((N$28*10)*$B48),IF(N$27="%w/w DM",(((N$28*10)*($B$28/100))*$B48),IF(N$27="kg/t SAR",(N$28*$B48),IF(N$27="kg/t DM",((N$28*($B$28/100))*$B48),IF(N$27="mg/kg SAR",((N$28*0.001)*$B48),IF(N$27="mg/kg DM",(((N$28*0.001)*($B$28/100))*$B48),0)))))) -> 0 | ... P48: =IF(P$27="%w/w SAR",((P$28*10)*$B48),IF(P$27="%w/w DM",(((P$28*10)*($B$28/100))*$B48),IF(P$27="kg/t SAR",(P$28*$B48),IF(P$27="kg/t DM",((P$28*($B$28/100))*$B48),IF(P$27="mg/kg SAR",((P$28*0.001)*$B48),IF(P$27="mg/kg DM",(((P$28*0.001)*($B$28/100))*$B48),0)))))) -> 0 | Q48: =(IF(Q$27="%w/w SAR",((Q$28*10)*$B48),IF(Q$27="%w/w DM",(((Q$28*10)*($B$28/100))*$B48),IF(Q$27="kg/t SAR",(Q$28*$B48),IF(Q$27="kg/t DM",((Q$28*($B$28/100))*$B48),IF(Q$27="mg/kg SAR",((Q$28*0.001)*$B48),IF(Q$27="mg/kg DM",(((Q$28*0.001)*($B$28/100))*$B48),0)))))))*2.5 -> 0 | R48: =IF(R$27="%w/w SAR",((R$28*10)*$B48),IF(R$27="%w/w DM",(((R$28*10)*($B$28/100))*$B48),IF(R$27="kg/t SAR",(R$28*$B48),IF(R$27="kg/t DM",((R$28*($B$28/100))*$B48),IF(R$27="mg/kg SAR",((R$28*0.001)*$B48),IF(R$27="mg/kg DM",(((R$28*0.001)*($B$28/100))*$B48),0)))))) -> 0 | S48: =IF(S$27="%w/w SAR",((S$28*10)*$B48),IF(S$27="%w/w DM",(((S$28*10)*($B$28/100))*$B48),IF(S$27="kg/t SAR",(S$28*$B48),IF(S$27="kg/t DM",((S$28*($B$28/100))*$B48),IF(S$27="mg/kg SAR",((S$28*0.001)*$B48),IF(S$27="mg/kg DM",(((S$28*0.001)*($B$28/100))*$B48),0)))))) -> 0 | T48: =IF(T$27="%w/w SAR",((T$28*10)*$B48),IF(T$27="%w/w DM",(((T$28*10)*($B$28/100))*$B48),IF(T$27="kg/t SAR",(T$28*$B48),IF(T$27="kg/t DM",((T$28*($B$28/100))*$B48),IF(T$27="mg/kg SAR",((T$28*0.001)*$B48),IF(T$27="mg/kg DM",(((T$28*0.001)*($B$28/100))*$B48),0)))))) -> 0 | U48: =IF(U$27="%w/w SAR",((U$28*10)*$B48),IF(U$27="%w/w DM",(((U$28*10)*($B$28/100))*$B48),IF(U$27="kg/t SAR",(U$28*$B48),IF(U$27="kg/t DM",((U$28*($B$28/100))*$B48),IF(U$27="mg/kg SAR",((U$28*0.001)*$B48),IF(U$27="mg/kg DM",(((U$28*0.001)*($B$28/100))*$B48),0)))))) -> 0
A49: =U8 -> 0 | C49: =IF(C$27="%w/w SAR",((C$28*10)*$B49),IF(C$27="%w/w DM",(((C$28*10)*($B$28/100))*$B49),IF(C$27="kg/t SAR",(C$28*$B49),IF(C$27="kg/t DM",((C$28*($B$28/100))*$B49),IF(C$27="mg/kg SAR",((C$28*0.001)*$B49),IF(C$27="mg/kg DM",(((C$28*0.001)*($B$28/100))*$B49),0)))))) -> 0 | D49: =(IF(D$27="%w/w SAR",((D$28*10)*$B49),IF(D$27="%w/w DM",(((D$28*10)*($B$28/100))*$B49),IF(D$27="kg/t SAR",(D$28*$B49),IF(D$27="kg/t DM",((D$28*($B$28/100))*$B49),IF(D$27="mg/kg SAR",((D$28*0.001)*$B49),IF(D$27="mg/kg DM",(((D$28*0.001)*($B$28/100))*$B49),"0")))))))*2.291 -> 0 | E49: =(IF(E$27="%w/w SAR",((E$28*10)*$B49),IF(E$27="%w/w DM",(((E$28*10)*($B$28/100))*$B49),IF(E$27="kg/t SAR",(E$28*$B49),IF(E$27="kg/t DM",((E$28*($B$28/100))*$B49),IF(E$27="mg/kg SAR",((E$28*0.001)*$B49),IF(E$27="mg/kg DM",(((E$28*0.001)*($B$28/100))*$B49),"0")))))))*1.205 -> 0 | F49: =(IF(F$27="%w/w SAR",((F$28*10)*$B49),IF(F$27="%w/w DM",(((F$28*10)*($B$28/100))*$B49),IF(F$27="kg/t SAR",(F$28*$B49),IF(F$27="kg/t DM",((F$28*($B$28/100))*$B49),IF(F$27="mg/kg SAR",((F$28*0.001)*$B49),IF(F$27="mg/kg DM",(((F$28*0.001)*($B$28/100))*$B49),"0")))))))*1.658 -> 0 | G49: =IF(G$27="%w/w SAR",((G$28*10)*$B49),IF(G$27="%w/w DM",(((G$28*10)*($B$28/100))*$B49),IF(G$27="kg/t SAR",(G$28*$B49),IF(G$27="kg/t DM",((G$28*($B$28/100))*$B49),IF(G$27="mg/kg SAR",((G$28*0.001)*$B49),IF(G$27="mg/kg DM",(((G$28*0.001)*($B$28/100))*$B49),0)))))) -> 0 | H49: =IF(H$27="%w/w SAR",((H$28*10)*$B49),IF(H$27="%w/w DM",(((H$28*10)*($B$28/100))*$B49),IF(H$27="kg/t SAR",(H$28*$B49),IF(H$27="kg/t DM",((H$28*($B$28/100))*$B49),IF(H$27="mg/kg SAR",((H$28*0.001)*$B49),IF(H$27="mg/kg DM",(((H$28*0.001)*($B$28/100))*$B49),0)))))) -> 0 | I49: =IF(I$27="%w/w SAR",((I$28*10)*$B49),IF(I$27="%w/w DM",(((I$28*10)*($B$28/100))*$B49),IF(I$27="kg/t SAR",(I$28*$B49),IF(I$27="kg/t DM",((I$28*($B$28/100))*$B49),IF(I$27="mg/kg SAR",((I$28*0.001)*$B49),IF(I$27="mg/kg DM",(((I$28*0.001)*($B$28/100))*$B49),0)))))) -> 0 | J49: =IF(J$27="%w/w SAR",((J$28*10)*$B49),IF(J$27="%w/w DM",(((J$28*10)*($B$28/100))*$B49),IF(J$27="kg/t SAR",(J$28*$B49),IF(J$27="kg/t DM",((J$28*($B$28/100))*$B49),IF(J$27="mg/kg SAR",((J$28*0.001)*$B49),IF(J$27="mg/kg DM",(((J$28*0.001)*($B$28/100))*$B49),0)))))) -> 0 | K49: =IF(K$27="%w/w SAR",((K$28*10)*$B49),IF(K$27="%w/w DM",(((K$28*10)*($B$28/100))*$B49),IF(K$27="kg/t SAR",(K$28*$B49),IF(K$27="kg/t DM",((K$28*($B$28/100))*$B49),IF(K$27="mg/kg SAR",((K$28*0.001)*$B49),IF(K$27="mg/kg DM",(((K$28*0.001)*($B$28/100))*$B49),0)))))) -> 0 | L49: =IF(L$27="%w/w SAR",((L$28*10)*$B49),IF(L$27="%w/w DM",(((L$28*10)*($B$28/100))*$B49),IF(L$27="kg/t SAR",(L$28*$B49),IF(L$27="kg/t DM",((L$28*($B$28/100))*$B49),IF(L$27="mg/kg SAR",((L$28*0.001)*$B49),IF(L$27="mg/kg DM",(((L$28*0.001)*($B$28/100))*$B49),0)))))) -> 0 | M49: =IF(M$27="%w/w SAR",((M$28*10)*$B49),IF(M$27="%w/w DM",(((M$28*10)*($B$28/100))*$B49),IF(M$27="kg/t SAR",(M$28*$B49),IF(M$27="kg/t DM",((M$28*($B$28/100))*$B49),IF(M$27="mg/kg SAR",((M$28*0.001)*$B49),IF(M$27="mg/kg DM",(((M$28*0.001)*($B$28/100))*$B49),0)))))) -> 0 | N49: =IF(N$27="%w/w SAR",((N$28*10)*$B49),IF(N$27="%w/w DM",(((N$28*10)*($B$28/100))*$B49),IF(N$27="kg/t SAR",(N$28*$B49),IF(N$27="kg/t DM",((N$28*($B$28/100))*$B49),IF(N$27="mg/kg SAR",((N$28*0.001)*$B49),IF(N$27="mg/kg DM",(((N$28*0.001)*($B$28/100))*$B49),0)))))) -> 0 | ... P49: =IF(P$27="%w/w SAR",((P$28*10)*$B49),IF(P$27="%w/w DM",(((P$28*10)*($B$28/100))*$B49),IF(P$27="kg/t SAR",(P$28*$B49),IF(P$27="kg/t DM",((P$28*($B$28/100))*$B49),IF(P$27="mg/kg SAR",((P$28*0.001)*$B49),IF(P$27="mg/kg DM",(((P$28*0.001)*($B$28/100))*$B49),0)))))) -> 0 | Q49: =(IF(Q$27="%w/w SAR",((Q$28*10)*$B49),IF(Q$27="%w/w DM",(((Q$28*10)*($B$28/100))*$B49),IF(Q$27="kg/t SAR",(Q$28*$B49),IF(Q$27="kg/t DM",((Q$28*($B$28/100))*$B49),IF(Q$27="mg/kg SAR",((Q$28*0.001)*$B49),IF(Q$27="mg/kg DM",(((Q$28*0.001)*($B$28/100))*$B49),0)))))))*2.5 -> 0 | R49: =IF(R$27="%w/w SAR",((R$28*10)*$B49),IF(R$27="%w/w DM",(((R$28*10)*($B$28/100))*$B49),IF(R$27="kg/t SAR",(R$28*$B49),IF(R$27="kg/t DM",((R$28*($B$28/100))*$B49),IF(R$27="mg/kg SAR",((R$28*0.001)*$B49),IF(R$27="mg/kg DM",(((R$28*0.001)*($B$28/100))*$B49),0)))))) -> 0 | S49: =IF(S$27="%w/w SAR",((S$28*10)*$B49),IF(S$27="%w/w DM",(((S$28*10)*($B$28/100))*$B49),IF(S$27="kg/t SAR",(S$28*$B49),IF(S$27="kg/t DM",((S$28*($B$28/100))*$B49),IF(S$27="mg/kg SAR",((S$28*0.001)*$B49),IF(S$27="mg/kg DM",(((S$28*0.001)*($B$28/100))*$B49),0)))))) -> 0 | T49: =IF(T$27="%w/w SAR",((T$28*10)*$B49),IF(T$27="%w/w DM",(((T$28*10)*($B$28/100))*$B49),IF(T$27="kg/t SAR",(T$28*$B49),IF(T$27="kg/t DM",((T$28*($B$28/100))*$B49),IF(T$27="mg/kg SAR",((T$28*0.001)*$B49),IF(T$27="mg/kg DM",(((T$28*0.001)*($B$28/100))*$B49),0)))))) -> 0 | U49: =IF(U$27="%w/w SAR",((U$28*10)*$B49),IF(U$27="%w/w DM",(((U$28*10)*($B$28/100))*$B49),IF(U$27="kg/t SAR",(U$28*$B49),IF(U$27="kg/t DM",((U$28*($B$28/100))*$B49),IF(U$27="mg/kg SAR",((U$28*0.001)*$B49),IF(U$27="mg/kg DM",(((U$28*0.001)*($B$28/100))*$B49),0)))))) -> 0
A50: =V8 -> 0 | C50: =IF(C$27="%w/w SAR",((C$28*10)*$B50),IF(C$27="%w/w DM",(((C$28*10)*($B$28/100))*$B50),IF(C$27="kg/t SAR",(C$28*$B50),IF(C$27="kg/t DM",((C$28*($B$28/100))*$B50),IF(C$27="mg/kg SAR",((C$28*0.001)*$B50),IF(C$27="mg/kg DM",(((C$28*0.001)*($B$28/100))*$B50),0)))))) -> 0 | D50: =(IF(D$27="%w/w SAR",((D$28*10)*$B50),IF(D$27="%w/w DM",(((D$28*10)*($B$28/100))*$B50),IF(D$27="kg/t SAR",(D$28*$B50),IF(D$27="kg/t DM",((D$28*($B$28/100))*$B50),IF(D$27="mg/kg SAR",((D$28*0.001)*$B50),IF(D$27="mg/kg DM",(((D$28*0.001)*($B$28/100))*$B50),"0")))))))*2.291 -> 0 | E50: =(IF(E$27="%w/w SAR",((E$28*10)*$B50),IF(E$27="%w/w DM",(((E$28*10)*($B$28/100))*$B50),IF(E$27="kg/t SAR",(E$28*$B50),IF(E$27="kg/t DM",((E$28*($B$28/100))*$B50),IF(E$27="mg/kg SAR",((E$28*0.001)*$B50),IF(E$27="mg/kg DM",(((E$28*0.001)*($B$28/100))*$B50),"0")))))))*1.205 -> 0 | F50: =(IF(F$27="%w/w SAR",((F$28*10)*$B50),IF(F$27="%w/w DM",(((F$28*10)*($B$28/100))*$B50),IF(F$27="kg/t SAR",(F$28*$B50),IF(F$27="kg/t DM",((F$28*($B$28/100))*$B50),IF(F$27="mg/kg SAR",((F$28*0.001)*$B50),IF(F$27="mg/kg DM",(((F$28*0.001)*($B$28/100))*$B50),"0")))))))*1.658 -> 0 | G50: =IF(G$27="%w/w SAR",((G$28*10)*$B50),IF(G$27="%w/w DM",(((G$28*10)*($B$28/100))*$B50),IF(G$27="kg/t SAR",(G$28*$B50),IF(G$27="kg/t DM",((G$28*($B$28/100))*$B50),IF(G$27="mg/kg SAR",((G$28*0.001)*$B50),IF(G$27="mg/kg DM",(((G$28*0.001)*($B$28/100))*$B50),0)))))) -> 0 | H50: =IF(H$27="%w/w SAR",((H$28*10)*$B50),IF(H$27="%w/w DM",(((H$28*10)*($B$28/100))*$B50),IF(H$27="kg/t SAR",(H$28*$B50),IF(H$27="kg/t DM",((H$28*($B$28/100))*$B50),IF(H$27="mg/kg SAR",((H$28*0.001)*$B50),IF(H$27="mg/kg DM",(((H$28*0.001)*($B$28/100))*$B50),0)))))) -> 0 | I50: =IF(I$27="%w/w SAR",((I$28*10)*$B50),IF(I$27="%w/w DM",(((I$28*10)*($B$28/100))*$B50),IF(I$27="kg/t SAR",(I$28*$B50),IF(I$27="kg/t DM",((I$28*($B$28/100))*$B50),IF(I$27="mg/kg SAR",((I$28*0.001)*$B50),IF(I$27="mg/kg DM",(((I$28*0.001)*($B$28/100))*$B50),0)))))) -> 0 | J50: =IF(J$27="%w/w SAR",((J$28*10)*$B50),IF(J$27="%w/w DM",(((J$28*10)*($B$28/100))*$B50),IF(J$27="kg/t SAR",(J$28*$B50),IF(J$27="kg/t DM",((J$28*($B$28/100))*$B50),IF(J$27="mg/kg SAR",((J$28*0.001)*$B50),IF(J$27="mg/kg DM",(((J$28*0.001)*($B$28/100))*$B50),0)))))) -> 0 | K50: =IF(K$27="%w/w SAR",((K$28*10)*$B50),IF(K$27="%w/w DM",(((K$28*10)*($B$28/100))*$B50),IF(K$27="kg/t SAR",(K$28*$B50),IF(K$27="kg/t DM",((K$28*($B$28/100))*$B50),IF(K$27="mg/kg SAR",((K$28*0.001)*$B50),IF(K$27="mg/kg DM",(((K$28*0.001)*($B$28/100))*$B50),0)))))) -> 0 | L50: =IF(L$27="%w/w SAR",((L$28*10)*$B50),IF(L$27="%w/w DM",(((L$28*10)*($B$28/100))*$B50),IF(L$27="kg/t SAR",(L$28*$B50),IF(L$27="kg/t DM",((L$28*($B$28/100))*$B50),IF(L$27="mg/kg SAR",((L$28*0.001)*$B50),IF(L$27="mg/kg DM",(((L$28*0.001)*($B$28/100))*$B50),0)))))) -> 0 | M50: =IF(M$27="%w/w SAR",((M$28*10)*$B50),IF(M$27="%w/w DM",(((M$28*10)*($B$28/100))*$B50),IF(M$27="kg/t SAR",(M$28*$B50),IF(M$27="kg/t DM",((M$28*($B$28/100))*$B50),IF(M$27="mg/kg SAR",((M$28*0.001)*$B50),IF(M$27="mg/kg DM",(((M$28*0.001)*($B$28/100))*$B50),0)))))) -> 0 | N50: =IF(N$27="%w/w SAR",((N$28*10)*$B50),IF(N$27="%w/w DM",(((N$28*10)*($B$28/100))*$B50),IF(N$27="kg/t SAR",(N$28*$B50),IF(N$27="kg/t DM",((N$28*($B$28/100))*$B50),IF(N$27="mg/kg SAR",((N$28*0.001)*$B50),IF(N$27="mg/kg DM",(((N$28*0.001)*($B$28/100))*$B50),0)))))) -> 0 | ... P50: =IF(P$27="%w/w SAR",((P$28*10)*$B50),IF(P$27="%w/w DM",(((P$28*10)*($B$28/100))*$B50),IF(P$27="kg/t SAR",(P$28*$B50),IF(P$27="kg/t DM",((P$28*($B$28/100))*$B50),IF(P$27="mg/kg SAR",((P$28*0.001)*$B50),IF(P$27="mg/kg DM",(((P$28*0.001)*($B$28/100))*$B50),0)))))) -> 0 | Q50: =(IF(Q$27="%w/w SAR",((Q$28*10)*$B50),IF(Q$27="%w/w DM",(((Q$28*10)*($B$28/100))*$B50),IF(Q$27="kg/t SAR",(Q$28*$B50),IF(Q$27="kg/t DM",((Q$28*($B$28/100))*$B50),IF(Q$27="mg/kg SAR",((Q$28*0.001)*$B50),IF(Q$27="mg/kg DM",(((Q$28*0.001)*($B$28/100))*$B50),0)))))))*2.5 -> 0 | R50: =IF(R$27="%w/w SAR",((R$28*10)*$B50),IF(R$27="%w/w DM",(((R$28*10)*($B$28/100))*$B50),IF(R$27="kg/t SAR",(R$28*$B50),IF(R$27="kg/t DM",((R$28*($B$28/100))*$B50),IF(R$27="mg/kg SAR",((R$28*0.001)*$B50),IF(R$27="mg/kg DM",(((R$28*0.001)*($B$28/100))*$B50),0)))))) -> 0 | S50: =IF(S$27="%w/w SAR",((S$28*10)*$B50),IF(S$27="%w/w DM",(((S$28*10)*($B$28/100))*$B50),IF(S$27="kg/t SAR",(S$28*$B50),IF(S$27="kg/t DM",((S$28*($B$28/100))*$B50),IF(S$27="mg/kg SAR",((S$28*0.001)*$B50),IF(S$27="mg/kg DM",(((S$28*0.001)*($B$28/100))*$B50),0)))))) -> 0 | T50: =IF(T$27="%w/w SAR",((T$28*10)*$B50),IF(T$27="%w/w DM",(((T$28*10)*($B$28/100))*$B50),IF(T$27="kg/t SAR",(T$28*$B50),IF(T$27="kg/t DM",((T$28*($B$28/100))*$B50),IF(T$27="mg/kg SAR",((T$28*0.001)*$B50),IF(T$27="mg/kg DM",(((T$28*0.001)*($B$28/100))*$B50),0)))))) -> 0 | U50: =IF(U$27="%w/w SAR",((U$28*10)*$B50),IF(U$27="%w/w DM",(((U$28*10)*($B$28/100))*$B50),IF(U$27="kg/t SAR",(U$28*$B50),IF(U$27="kg/t DM",((U$28*($B$28/100))*$B50),IF(U$27="mg/kg SAR",((U$28*0.001)*$B50),IF(U$27="mg/kg DM",(((U$28*0.001)*($B$28/100))*$B50),0)))))) -> 0
A51: LIMIT | B51: 250 | C51: 250 | D51: Crop Requirement | E51: Crop Requirement | F51: Crop Requirement | G51: 7.5 | H51: 15 | I51: 15 | J51: 0.15 | K51: 0.1 | L51: 3 | M51: 15 | N51: TBC | O51: TBC | P51: 360 | Q51: Crop requirement x10 | R51: 0.15 | S51: 0.7 | T51: 0.2 | U51: 20
A53: Lime Calculation
B54: Dry Matter (if SAR use 100%) | C54: TNV of Waste as CaO (%) | D54: CaO Calculation | E54: CaO Conversion to CaCO3 | F54: TNV of Waste as CaCo3 (%) | G54: CaCo3 Calculation
D55: =(B55/100)*C55 -> 0 | E55: =G55 -> 0 | G55: =(B55/100)*F55 -> 0
A56: Field number | B56: 1 | C56: 2 | D56: 3 | E56: 4 | F56: 5 | G56: 6 | H56: 7 | I56: 8 | J56: 9 | K56: 10 | L56: 11 | M56: 12 | N56: 13 | O56: 14 | P56: 15 | Q56: 16 | R56: 17 | S56: 18 | T56: 19 | U56: 20
A57: Field Ref | B57: =C8 -> 0 | C57: =D8 -> 2 | D57: =E8 -> 3 | E57: =F8 -> 4 | F57: =G8 -> 5a | G57: =H8 -> 5b | H57: =I8 -> 6 | I57: =J8 -> 7 | ... U57: =V8 -> 0
A58: Soil Crop Type | B58: =C16&" I "&(VLOOKUP(C14,Table24[],6,FALSE)) -> #N/A | C58: =D16&" I "&(VLOOKUP(D14,Table24[],6,FALSE)) -> Medium/Clay I Grass | D58: =E16&" I "&(VLOOKUP(E14,Table24[],6,FALSE)) -> Medium/Clay I Grass | E58: =F16&" I "&(VLOOKUP(F14,Table24[],6,FALSE)) -> Medium/Clay I Grass | F58: =G16&" I "&(VLOOKUP(G14,Table24[],6,FALSE)) -> Medium/Clay I Grass | G58: =H16&" I "&(VLOOKUP(H14,Table24[],6,FALSE)) -> Medium/Clay I Grass | H58: =I16&" I "&(VLOOKUP(I14,Table24[],6,FALSE)) -> Medium/Clay I Grass | I58: =J16&" I "&(VLOOKUP(J14,Table24[],6,FALSE)) -> Medium/Clay I Grass | ... U58: =V16&" I "&(VLOOKUP(V14,Table24[],6,FALSE)) -> #N/A
A59: Cropping pH | B59: =VLOOKUP(C$14,Table24[],5,FALSE) -> #N/A | C59: =VLOOKUP(D$14,Table24[],5,FALSE) -> 6.2 | D59: =VLOOKUP(E$14,Table24[],5,FALSE) -> 6.2 | E59: =VLOOKUP(F$14,Table24[],5,FALSE) -> 6.2 | F59: =VLOOKUP(G$14,Table24[],5,FALSE) -> 6.2 | G59: =VLOOKUP(H$14,Table24[],5,FALSE) -> 6.2 | H59: =VLOOKUP(I$14,Table24[],5,FALSE) -> 6.2 | I59: =VLOOKUP(J$14,Table24[],5,FALSE) -> 6.2 | ... U59: =VLOOKUP(V$14,Table24[],5,FALSE) -> #N/A
A60: Field pH | B60: =C10 -> 0 | C60: =D10 -> 6.8 | D60: =E10 -> 6.8 | E60: =F10 -> 7 | F60: =G10 -> 6..9 | G60: =H10 -> 6.7 | H60: =I10 -> 6.9 | I60: =J10 -> 6.9 | ... U60: =V10 -> 0
A61: Soil pH | B61: =VLOOKUP(B58,$AD9:$AE18,2,FALSE) -> #N/A | C61: =VLOOKUP(C58,$AD9:$AE18,2,FALSE) -> 6 | D61: =VLOOKUP(D58,$AD9:$AE18,2,FALSE) -> 6 | E61: =VLOOKUP(E58,$AD9:$AE18,2,FALSE) -> 6 | F61: =VLOOKUP(F58,$AD9:$AE18,2,FALSE) -> 6 | G61: =VLOOKUP(G58,$AD9:$AE18,2,FALSE) -> 6 | H61: =VLOOKUP(H58,$AD9:$AE18,2,FALSE) -> 6 | I61: =VLOOKUP(I58,$AD9:$AE18,2,FALSE) -> 6 | ... U61: =VLOOKUP(U58,$AD9:$AE18,2,FALSE) -> #N/A
A62: App rate | B62: =B31 -> 0 | C62: =B32 -> 50 | D62: =B33 -> 50 | E62: =B34 -> 50 | F62: =B35 -> 50 | G62: =B36 -> 50 | H62: =B37 -> 50 | I62: =B38 -> 50 | J62: =B39 -> 50 | K62: =B40 -> 0 | L62: =B41 -> 50 | M62: =B42 -> 50 | N62: =B43 -> 0 | O62: =B44 -> 0 | P62: =B45 -> 0 | Q62: =B46 -> 0 | R62: =B47 -> 0 | S62: =B48 -> 0 | T62: =B49 -> 0 | U62: =B50 -> 0
A63: Lime applied in waste t/ha | B63: =$E55*(B62/100) -> 0 | C63: =$E55*(C62/100) -> 0 | D63: =$E55*(D62/100) -> 0 | E63: =$E55*(E62/100) -> 0 | F63: =$E55*(F62/100) -> 0 | G63: =$E55*(G62/100) -> 0 | H63: =$E55*(H62/100) -> 0 | I63: =$E55*(I62/100) -> 0 | ... U63: =$E55*(U62/100) -> 0
A64: Lime required to bring pH to target level t/a CaCo3 | B64: =(B59-B60)*B61 -> #N/A | C64: =(C59-C60)*C61 -> -3.6 | D64: =(D59-D60)*D61 -> -3.6 | E64: =(E59-E60)*E61 -> -4.8 | F64: =(F59-F60)*F61 -> #VALUE! | G64: =(G59-G60)*G61 -> -3 | H64: =(H59-H60)*H61 -> -4.2 | I64: =(I59-I60)*I61 -> -4.2 | ... U64: =(U59-U60)*U61 -> #N/A
A65: Difference between applied and required | B65: =B63-B64 -> #N/A | C65: =C63-C64 -> 3.6 | D65: =D63-D64 -> 3.6 | E65: =E63-E64 -> 4.8 | F65: =F63-F64 -> #VALUE! | G65: =G63-G64 -> 3 | H65: =H63-H64 -> 4.2 | I65: =I63-I64 -> 4.2 | ... U65: =U63-U64 -> #N/A
A66: Over or Under Applying? | B66: =IF(B64<=B63,"OVER","UNDER") -> #N/A | C66: =IF(C64<=C63,"OVER","UNDER") -> OVER | D66: =IF(D64<=D63,"OVER","UNDER") -> OVER | E66: =IF(E64<=E63,"OVER","UNDER") -> OVER | F66: =IF(F64<=F63,"OVER","UNDER") -> #VALUE! | G66: =IF(G64<=G63,"OVER","UNDER") -> OVER | H66: =IF(H64<=H63,"OVER","UNDER") -> OVER | I66: =IF(I64<=I63,"OVER","UNDER") -> OVER | ... U66: =IF(U64<=U63,"OVER","UNDER") -> #N/A

Sheet DCWW Bontgoch
A1: PAN reference | C1: ='DCWW Bolton Hill'!C1:D1 -> PAN-015166 | E1: Total spread area | F1: ='DCWW Bolton Hill'!F1 -> 39.8 | G1: Waste pH | I1: 6.7 | J1: Ammonium Nitrogen (mg/kg) | L1: 82.599998 | AD1: Choose | AI1: Crop | AJ1: P Offtake | AK1: K Offtake | AL1: Order | AM1: Lime pH requirement | AN1: Column1
A2: Permit reference | C2: ='DCWW Bolton Hill'!C2:D2 -> EPR-GP3792SK | E2: Waste type EWC | F2: 190902 | G2: Conductivity µS/cm (limit 5000 µS/cm) | J2: Total Nitrogen (mg/kg) | L2: 18100 | AB2: %w/w SAR | AD2: Sandy | AG2: Solid | AI2: Choose | AJ2: 0 | AK2: 0 | AL2: 0 | AM2: 0 | AN2: 0
A3: Operator | C3: ='DCWW Bolton Hill'!C3:D3 -> ByProduct Recovery Ltd | E3: Waste physical form | F3: Sludge | G3: Fats & Oils (%) (limit 4%) | J3: Readily available nitrogen content % | L3: =(L1/L2)*100 -> 0.45635358 | AB3: %w/w DM | AD3: Sandy Loam | AG3: Liquid | AI3: Grass Silage (25% DM) | AJ3: 1.7 | AK3: 6 | AL3: 1 | AM3: 6.2 | AN3: Grass
A4: Farm Address | C4: ='DCWW Bolton Hill'!C4:D4 -> Tyncwym, Llansawel, Llandeilo, Carmarthenshire, SA19 7PQ | E4: Waste Ref/Name | F4: DCWW Bontgoch | AB4: kg/t SAR | AD4: Medium/Clay | AG4: Sludge | AI4: Winter wheat- grain & straw | AJ4: 7 | AK4: 10.5 | AL4: 2 | AM4: 6.7 | AN4: Arable
A5: Assessed By | C5: ='DCWW Bolton Hill'!C5:D5 -> Louise Bailey | AB5: kg/t DM | AD5: Organic | AG5: Sludge Cake | AI5: Winter wheat- grain only | AJ5: 6.5 | AK5: 5.5 | AL5: 3 | AM5: 6.7 | AN5: Arable
AB6: mg/kg SAR | AD6: Peat | AI6: Spring wheat/barley | AJ6: 8.5 | AK6: 12 | AL6: 4 | AM6: 6.7 | AN6: Arable
A7: Field number | C7: 1 | D7: 2 | E7: 3 | F7: 4 | G7: 5 | H7: 6 | I7: 7 | J7: 8 | K7: 9 | L7: 10 | M7: 11 | N7: 12 | O7: 13 | P7: 14 | Q7: 15 | R7: 16 | S7: 17 | T7: 18 | U7: 19 | V7: 20 | AB7: mg/kg DM | AI7: Winter barley/triticale/rye | AJ7: 8.5 | AK7: 10.5 | AL7: 5 | AM7: 6.7 | AN7: Arable
A8: Field Ref | C8: ='DCWW Bolton Hill'!C8 -> 0 | D8: ='DCWW Bolton Hill'!D8 -> 2 | E8: ='DCWW Bolton Hill'!E8 -> 3 | F8: ='DCWW Bolton Hill'!F8 -> 4 | G8: ='DCWW Bolton Hill'!G8 -> 5a | H8: ='DCWW Bolton Hill'!H8 -> 5b | I8: ='DCWW Bolton Hill'!I8 -> 6 | J8: ='DCWW Bolton Hill'!J8 -> 7 | ... V8: ='DCWW Bolton Hill'!V8 -> 0 | AE8: lime pH | AI8: Maize- Silage (30% DM) | AJ8: 1.4 | AK8: 4.4 | AL8: 6 | AM8: 6.7 | AN8: Arable
A9: SNS Index | C9: ='DCWW Bolton Hill'!C9 -> 0 | D9: ='DCWW Bolton Hill'!D9 -> Mod | E9: ='DCWW Bolton Hill'!E9 -> Mod | F9: ='DCWW Bolton Hill'!F9 -> Mod | G9: ='DCWW Bolton Hill'!G9 -> Mod | H9: ='DCWW Bolton Hill'!H9 -> Mod | I9: ='DCWW Bolton Hill'!I9 -> Mod | J9: ='DCWW Bolton Hill'!J9 -> Mod | ... V9: ='DCWW Bolton Hill'!V9 -> 0 | AD9: Sandy I Grass | AE9: 4.5 | AI9: Fodder beet (roots only) | AJ9: 0.7 | AK9: 4 | AL9: 7 | AM9: 6.7 | AN9: Arable
A10: Field pH | C10: ='DCWW Bolton Hill'!C10 -> 0 | D10: ='DCWW Bolton Hill'!D10 -> 6.8 | E10: ='DCWW Bolton Hill'!E10 -> 6.8 | F10: ='DCWW Bolton Hill'!F10 -> 7 | G10: ='DCWW Bolton Hill'!G10 -> 6..9 | H10: ='DCWW Bolton Hill'!H10 -> 6.7 | I10: ='DCWW Bolton Hill'!I10 -> 6.9 | J10: ='DCWW Bolton Hill'!J10 -> 6.9 | ... V10: ='DCWW Bolton Hill'!V10 -> 0 | AD10: Sandy Loam I Grass | AE10: 5 | AI10: Oats | AJ10: 9 | AK10: 16.5 | AL10: 8 | AM10: 6.7 | AN10: Arable
A11: Phosphorus Index | C11: ='DCWW Bolton Hill'!C11 -> 0 | D11: ='DCWW Bolton Hill'!D11 -> 3 | E11: ='DCWW Bolton Hill'!E11 -> 2 | F11: ='DCWW Bolton Hill'!F11 -> 3 | G11: ='DCWW Bolton Hill'!G11 -> 2 | H11: ='DCWW Bolton Hill'!H11 -> 3 | I11: ='DCWW Bolton Hill'!I11 -> 3 | J11: ='DCWW Bolton Hill'!J11 -> 2 | ... V11: ='DCWW Bolton Hill'!V11 -> 0 | AD11: Medium/Clay I Grass | AE11: 6 | AI11: Oilseed rape- seed & straw | AJ11: 15 | AK11: 17.5 | AL11: 9 | AM11: 7 | AN11: Arable
A12: Potassium Index | C12: ='DCWW Bolton Hill'!C12 -> 0 | D12: ='DCWW Bolton Hill'!D12 -> 2 | E12: ='DCWW Bolton Hill'!E12 -> 0 | F12: ='DCWW Bolton Hill'!F12 -> 3 | G12: ='DCWW Bolton Hill'!G12 -> 0 | H12: ='DCWW Bolton Hill'!H12 -> 0 | I12: ='DCWW Bolton Hill'!I12 -> 1 | J12: ='DCWW Bolton Hill'!J12 -> 1 | ... V12: ='DCWW Bolton Hill'!V12 -> 0 | AD12: Organic I Grass | AE12: 7.5 | AI12: Oilseed rape- seed only | AJ12: 14 | AK12: 11 | AL12: 10 | AM12: 7 | AN12: Arable
A13: Magnesium Index | C13: ='DCWW Bolton Hill'!C13 -> 0 | D13: ='DCWW Bolton Hill'!D13 -> 2 | E13: ='DCWW Bolton Hill'!E13 -> 5 | F13: ='DCWW Bolton Hill'!F13 -> 3 | G13: ='DCWW Bolton Hill'!G13 -> 2 | H13: ='DCWW Bolton Hill'!H13 -> 2 | I13: ='DCWW Bolton Hill'!I13 -> 3 | J13: ='DCWW Bolton Hill'!J13 -> 2 | ... V13: ='DCWW Bolton Hill'!V13 -> 0 | AD13: Peat I Grass | AE13: 12 | AI13: Sugar beet- roots & tops | AJ13: 1.9 | AK13: 7.5 | AL13: 11 | AM13: 6.7 | AN13: Arable
A14: Benefiting Crop | C14: ='DCWW Bolton Hill'!C14 -> 0 | D14: ='DCWW Bolton Hill'!D14 -> Grass Silage (25% DM) | E14: ='DCWW Bolton Hill'!E14 -> Grass Silage (25% DM) | F14: ='DCWW Bolton Hill'!F14 -> Grass Silage (25% DM) | G14: ='DCWW Bolton Hill'!G14 -> Grass Silage (25% DM) | H14: ='DCWW Bolton Hill'!H14 -> Grass Silage (25% DM) | I14: ='DCWW Bolton Hill'!I14 -> Grass Silage (25% DM) | J14: ='DCWW Bolton Hill'!J14 -> Grass Silage (25% DM) | ... V14: ='DCWW Bolton Hill'!V14 -> 0 | AD14: Sandy I Arable | AE14: 6 | AI14: Sugar beet- roots only | AJ14: 0.8 | AK14: 1.7 | AL14: 12 | AM14: 6.7 | AN14: Arable
A15: Expected Yield | C15: ='DCWW Bolton Hill'!C15 -> 0 | D15: ='DCWW Bolton Hill'!D15 -> 45 | E15: ='DCWW Bolton Hill'!E15 -> 45 | F15: ='DCWW Bolton Hill'!F15 -> 45 | G15: ='DCWW Bolton Hill'!G15 -> 45 | H15: ='DCWW Bolton Hill'!H15 -> 45 | I15: ='DCWW Bolton Hill'!I15 -> 45 | J15: ='DCWW Bolton Hill'!J15 -> 45 | ... V15: ='DCWW Bolton Hill'!V15 -> 0 | AD15: Sandy Loam I Arable | AE15: 7 | AI15: Wholecrop cereals | AJ15: 1.8 | AK15: 5.4 | AL15: 13 | AM15: 6.7 | AN15: Arable
A16: Soil Type | C16: ='DCWW Bolton Hill'!C16 -> 0 | D16: ='DCWW Bolton Hill'!D16 -> Medium/Clay | E16: ='DCWW Bolton Hill'!E16 -> Medium/Clay | F16: ='DCWW Bolton Hill'!F16 -> Medium/Clay | G16: ='DCWW Bolton Hill'!G16 -> Medium/Clay | H16: ='DCWW Bolton Hill'!H16 -> Medium/Clay | I16: ='DCWW Bolton Hill'!I16 -> Medium/Clay | J16: ='DCWW Bolton Hill'!J16 -> Medium/Clay | ... V16: ='DCWW Bolton Hill'!V16 -> 0 | AD16: Medium/Clay I Arable | AE16: 8 | AI16: All other cereals- grain only | AJ16: 8 | AK16: 5.5 | AL16: 14 | AM16: 6.7 | AN16: Arable
A17: Phosphate Offtake | C17: =(VLOOKUP(C$14,$AI2:$AK26,2,FALSE))*C$15 -> #N/A | D17: =(VLOOKUP(D$14,$AI2:$AK26,2,FALSE))*D$15 -> 76.5 | E17: =(VLOOKUP(E$14,$AI2:$AK26,2,FALSE))*E$15 -> 76.5 | F17: =(VLOOKUP(F$14,$AI2:$AK26,2,FALSE))*F$15 -> 76.5 | G17: =(VLOOKUP(G$14,$AI2:$AK26,2,FALSE))*G$15 -> 76.5 | H17: =(VLOOKUP(H$14,$AI2:$AK26,2,FALSE))*H$15 -> 76.5 | I17: =(VLOOKUP(I$14,$AI2:$AK26,2,FALSE))*I$15 -> 76.5 | J17: =(VLOOKUP(J$14,$AI2:$AK26,2,FALSE))*J$15 -> 76.5 | ... V17: =(VLOOKUP(V$14,$AI2:$AK26,2,FALSE))*V$15 -> #N/A | AD17: Organic I Arable | AE17: 10 | AI17: Fresh grass (15-20% DM) | AJ17: 1.4 | AK17: 4.8 | AL17: 15 | AM17: 6.2 | AN17: Grass
A18: Phosphate Addition | C18: =$D31 -> 0 | D18: =$D32 -> 75.509985 | E18: =$D33 -> 75.509985 | F18: =$D34 -> 75.509985 | G18: =$D35 -> 75.509985 | H18: =$D36 -> 75.509985 | I18: =$D37 -> 75.509985 | J18: =$D38 -> 75.509985 | K18: =$D39 -> 75.509985 | L18: =$D40 -> 0 | M18: =$D41 -> 75.509985 | N18: =$D42 -> 75.509985 | O18: =$D43 -> 0 | P18: =$D44 -> 0 | Q18: =$D45 -> 0 | R18: =$D46 -> 0 | S18: =$D47 -> 0 | T18: =$D48 -> 0 | U18: =$D49 -> 0 | V18: =$D50 -> 0 | AD18: Peat I Arable | AE18: 16 | AI18: Hay (86% DM) | AJ18: 5.9 | AK18: 18 | AL18: 16 | AM18: 6.2 | AN18: Grass
A19: Phosphate Difference | C19: =C18-C17 -> #N/A | D19: =D18-D17 -> -0.9900146 | E19: =E18-E17 -> -0.9900146 | F19: =F18-F17 -> -0.9900146 | G19: =G18-G17 -> -0.9900146 | H19: =H18-H17 -> -0.9900146 | I19: =I18-I17 -> -0.9900146 | J19: =J18-J17 -> -0.9900146 | ... V19: =V18-V17 -> #N/A | AI19: Haylage (45% DM) | AJ19: 3.2 | AK19: 10.5 | AL19: 17 | AM19: 6.2 | AN19: Grass
A20: Phosphate Increase/decrease | C20: =IF($B31="","",IF(C$19>=0,"INCREASE","DECREASE")) | D20: =IF($B32="","",IF(D$19>=0,"INCREASE","DECREASE")) -> DECREASE | E20: =IF($B33="","",IF(E$19>=0,"INCREASE","DECREASE")) -> DECREASE | F20: =IF($B34="","",IF(F$19>=0,"INCREASE","DECREASE")) -> DECREASE | G20: =IF($B35="","",IF(G$19>=0,"INCREASE","DECREASE")) -> DECREASE | H20: =IF($B36="","",IF(H$19>=0,"INCREASE","DECREASE")) -> DECREASE | I20: =IF($B37="","",IF(I$19>=0,"INCREASE","DECREASE")) -> DECREASE | J20: =IF($B38="","",IF(J$19>=0,"INCREASE","DECREASE")) -> DECREASE | K20: =IF($B39="","",IF(K$19>=0,"INCREASE","DECREASE")) -> DECREASE | L20: =IF($B40="","",IF(L$19>=0,"INCREASE","DECREASE")) | M20: =IF($B41="","",IF(M$19>=0,"INCREASE","DECREASE")) -> DECREASE | N20: =IF($B42="","",IF(N$19>=0,"INCREASE","DECREASE")) -> DECREASE | O20: =IF($B43="","",IF(O$19>=0,"INCREASE","DECREASE")) | P20: =IF($B44="","",IF(P$19>=0,"INCREASE","DECREASE")) | Q20: =IF($B45="","",IF(Q$19>=0,"INCREASE","DECREASE")) | R20: =IF($B46="","",IF(R$19>=0,"INCREASE","DECREASE")) | S20: =IF($B47="","",IF(S$19>=0,"INCREASE","DECREASE")) | T20: =IF($B48="","",IF(T$19>=0,"INCREASE","DECREASE")) | U20: =IF($B49="","",IF(U$19>=0,"INCREASE","DECREASE")) | V20: =IF($B50="","",IF(V$19>=0,"INCREASE","DECREASE")) | AI20: Grass Silage (30% DM) | AJ20: 2.1 | AK20: 7.2 | AL20: 18 | AM20: 6.2 | AN20: Grass
A21: Potash Offtake | C21: =(VLOOKUP(C$14,$AI2:$AK26,3,FALSE))*C$15 -> #N/A | D21: =(VLOOKUP(D$14,$AI2:$AK26,3,FALSE))*D$15 -> 270 | E21: =(VLOOKUP(E$14,$AI2:$AK26,3,FALSE))*E$15 -> 270 | F21: =(VLOOKUP(F$14,$AI2:$AK26,3,FALSE))*F$15 -> 270 | G21: =(VLOOKUP(G$14,$AI2:$AK26,3,FALSE))*G$15 -> 270 | H21: =(VLOOKUP(H$14,$AI2:$AK26,3,FALSE))*H$15 -> 270 | I21: =(VLOOKUP(I$14,$AI2:$AK26,3,FALSE))*I$15 -> 270 | J21: =(VLOOKUP(J$14,$AI2:$AK26,3,FALSE))*J$15 -> 270 | ... V21: =(VLOOKUP(V$14,$AI2:$AK26,3,FALSE))*V$15 -> #N/A | AI21: Field beans | AJ21: 11 | AK21: 12 | AL21: 19 | AM21: 6.7 | AN21: Arable
A22: Potash Addition | C22: =$E31 -> 0 | D22: =$E32 -> 4.3723305e-05 | E22: =$E33 -> 4.3723305e-05 | F22: =$E34 -> 4.3723305e-05 | G22: =$E35 -> 4.3723305e-05 | H22: =$E36 -> 4.3723305e-05 | I22: =$E37 -> 4.3723305e-05 | J22: =$E38 -> 4.3723305e-05 | K22: =$E39 -> 4.3723305e-05 | L22: =$E40 -> 0 | M22: =$E41 -> 4.3723305e-05 | N22: =$E42 -> 4.3723305e-05 | O22: =$E43 -> 0 | P22: =$E44 -> 0 | Q22: =$E45 -> 0 | R22: =$E46 -> 0 | S22: =$E47 -> 0 | T22: =$E48 -> 0 | U22: =$E49 -> 0 | V22: =$E50 -> 0 | AI22: Kale | AJ22: 1.2 | AK22: 5 | AL22: 20 | AM22: 6.7 | AN22: Arable
A23: Potash Difference | C23: =C22-C21 -> #N/A | D23: =D22-D21 -> -269.99996 | E23: =E22-E21 -> -269.99996 | F23: =F22-F21 -> -269.99996 | G23: =G22-G21 -> -269.99996 | H23: =H22-H21 -> -269.99996 | I23: =I22-I21 -> -269.99996 | J23: =J22-J21 -> -269.99996 | ... V23: =V22-V21 -> #N/A | AI23: Peas- Dried | AJ23: 9 | AK23: 10 | AL23: 21 | AM23: 6.7 | AN23: Arable
A24: Potash Increase/decrease | C24: =IF($B31="","",IF(C$23>=0,"INCREASE","DECREASE")) | D24: =IF($B31="","",IF(D$23>=0,"INCREASE","DECREASE")) | E24: =IF($B31="","",IF(E$23>=0,"INCREASE","DECREASE")) | F24: =IF($B31="","",IF(F$23>=0,"INCREASE","DECREASE")) | G24: =IF($B31="","",IF(G$23>=0,"INCREASE","DECREASE")) | H24: =IF($B31="","",IF(H$23>=0,"INCREASE","DECREASE")) | I24: =IF($B31="","",IF(I$23>=0,"INCREASE","DECREASE")) | J24: =IF($B31="","",IF(J$23>=0,"INCREASE","DECREASE")) | ... V24: =IF($B31="","",IF(V$23>=0,"INCREASE","DECREASE")) | AI24: Peas- Vining | AJ24: 1.5 | AK24: 3 | AL24: 22 | AM24: 6.7 | AN24: Arable
AI25: Potatoes- tubers only | AJ25: 1 | AK25: 5.8 | AL25: 23 | AM25: 6.7 | AN25: Arable
B26: Dry Matter | C26: Total Nitrogen | D26: Total Phosphorus (P) | E26: Total Potassium (K) | F26: Total Magnesium (Mg) | G26: Total Copper | H26: Total Zinc | I26: Total Lead | J26: Total Cadmium | K26: Total Mercury | L26: Total Nickel | M26: Total Chromium | N26: Total Aluminium | O26: Total Iron | P26: Total Na (Sodium) | Q26: Total Sulphur (S) | R26: Total Selenium | S26: Total Arsenic | T26: Total Mo | U26: Total Fluoride | AI26: Swedes- roots only | AJ26: 0.7 | AK26: 2.4 | AL26: 24 | AM26: 6.7 | AN26: Arable
B27: % | C27: %w/w DM | D27: %w/w DM | E27: mg/kg DM | F27: mg/kg DM | G27: mg/kg DM | H27: mg/kg DM | I27: mg/kg DM | J27: mg/kg DM | K27: mg/kg DM | L27: mg/kg DM | M27: mg/kg DM | N27: mg/kg DM | O27: mg/kg DM | Q27: mg/kg DM | S27: mg/kg DM
B28: 7.39 | C28: 1.81 | D28: 0.892 | E28: 0.00982 | F28: 1470 | G28: 19.5 | H28: 424 | I28: 60.400002 | J28: 0.45 | K28: 0.28 | L28: 25.700001 | M28: 20.9 | N28: 133000 | O28: 4700 | Q28: 2690 | S28: 12.9
A29: Field Ref | B29: Application Rate | C29: Nitrogen Addition | D29: Phosphate Addition | E29: Potash Addition | F29: Mg Oxide Addition | G29: Copper Addition | H29: Zinc Addition | I29: Lead Addition | J29: Cadmium Addition | K29: Mercury Addition | L29: Nickel Addition | M29: Chromium Addition | N29: Aluminium Addition | O29: Iron Addition | P29: Sodium Addition | Q29: SO3 Addition kg/ha | R29: Selenium Addition | S29: Arsenic Addition | T29: Molybdenum Addition | U29: Fluoride Addition
B30: tonnes/ha | C30: kg/ha | D30: P2O5 kg/ha | E30: K2O kg/ha | F30: MgO kg/ha | G30: kg/ha | H30: kg/ha | I30: kg/ha | J30: kg/ha | K30: kg/ha | L30: kg/ha | M30: kg/ha | N30: kg/ha | O30: kg/ha | P30: kg/ha | Q30: kg/ha | R30: kg/ha | S30: kg/ha | T30: kg/ha | U30: kg/ha
A31: =C8 -> 0 | C31: =IF(C$27="%w/w SAR",((C$28*10)*$B31),IF(C$27="%w/w DM",(((C$28*10)*($B$28/100))*$B31),IF(C$27="kg/t SAR",(C$28*$B31),IF(C$27="kg/t DM",((C$28*($B$28/100))*$B31),IF(C$27="mg/kg SAR",((C$28*0.001)*$B31),IF(C$27="mg/kg DM",(((C$28*0.001)*($B$28/100))*$B31),0)))))) -> 0 | D31: =(IF(D$27="%w/w SAR",((D$28*10)*$B31),IF(D$27="%w/w DM",(((D$28*10)*($B$28/100))*$B31),IF(D$27="kg/t SAR",(D$28*$B31),IF(D$27="kg/t DM",((D$28*($B$28/100))*$B31),IF(D$27="mg/kg SAR",((D$28*0.001)*$B31),IF(D$27="mg/kg DM",(((D$28*0.001)*($B$28/100))*$B31),"0")))))))*2.291 -> 0 | E31: =(IF(E$27="%w/w SAR",((E$28*10)*$B31),IF(E$27="%w/w DM",(((E$28*10)*($B$28/100))*$B31),IF(E$27="kg/t SAR",(E$28*$B31),IF(E$27="kg/t DM",((E$28*($B$28/100))*$B31),IF(E$27="mg/kg SAR",((E$28*0.001)*$B31),IF(E$27="mg/kg DM",(((E$28*0.001)*($B$28/100))*$B31),"0")))))))*1.205 -> 0 | F31: =(IF(F$27="%w/w SAR",((F$28*10)*$B31),IF(F$27="%w/w DM",(((F$28*10)*($B$28/100))*$B31),IF(F$27="kg/t SAR",(F$28*$B31),IF(F$27="kg/t DM",((F$28*($B$28/100))*$B31),IF(F$27="mg/kg SAR",((F$28*0.001)*$B31),IF(F$27="mg/kg DM",(((F$28*0.001)*($B$28/100))*$B31),"0")))))))*1.658 -> 0 | G31: =IF(G$27="%w/w SAR",((G$28*10)*$B31),IF(G$27="%w/w DM",(((G$28*10)*($B$28/100))*$B31),IF(G$27="kg/t SAR",(G$28*$B31),IF(G$27="kg/t DM",((G$28*($B$28/100))*$B31),IF(G$27="mg/kg SAR",((G$28*0.001)*$B31),IF(G$27="mg/kg DM",(((G$28*0.001)*($B$28/100))*$B31),0)))))) -> 0 | H31: =IF(H$27="%w/w SAR",((H$28*10)*$B31),IF(H$27="%w/w DM",(((H$28*10)*($B$28/100))*$B31),IF(H$27="kg/t SAR",(H$28*$B31),IF(H$27="kg/t DM",((H$28*($B$28/100))*$B31),IF(H$27="mg/kg SAR",((H$28*0.001)*$B31),IF(H$27="mg/kg DM",(((H$28*0.001)*($B$28/100))*$B31),0)))))) -> 0 | I31: =IF(I$27="%w/w SAR",((I$28*10)*$B31),IF(I$27="%w/w DM",(((I$28*10)*($B$28/100))*$B31),IF(I$27="kg/t SAR",(I$28*$B31),IF(I$27="kg/t DM",((I$28*($B$28/100))*$B31),IF(I$27="mg/kg SAR",((I$28*0.001)*$B31),IF(I$27="mg/kg DM",(((I$28*0.001)*($B$28/100))*$B31),0)))))) -> 0 | J31: =IF(J$27="%w/w SAR",((J$28*10)*$B31),IF(J$27="%w/w DM",(((J$28*10)*($B$28/100))*$B31),IF(J$27="kg/t SAR",(J$28*$B31),IF(J$27="kg/t DM",((J$28*($B$28/100))*$B31),IF(J$27="mg/kg SAR",((J$28*0.001)*$B31),IF(J$27="mg/kg DM",(((J$28*0.001)*($B$28/100))*$B31),0)))))) -> 0 | K31: =IF(K$27="%w/w SAR",((K$28*10)*$B31),IF(K$27="%w/w DM",(((K$28*10)*($B$28/100))*$B31),IF(K$27="kg/t SAR",(K$28*$B31),IF(K$27="kg/t DM",((K$28*($B$28/100))*$B31),IF(K$27="mg/kg SAR",((K$28*0.001)*$B31),IF(K$27="mg/kg DM",(((K$28*0.001)*($B$28/100))*$B31),0)))))) -> 0 | L31: =IF(L$27="%w/w SAR",((L$28*10)*$B31),IF(L$27="%w/w DM",(((L$28*10)*($B$28/100))*$B31),IF(L$27="kg/t SAR",(L$28*$B31),IF(L$27="kg/t DM",((L$28*($B$28/100))*$B31),IF(L$27="mg/kg SAR",((L$28*0.001)*$B31),IF(L$27="mg/kg DM",(((L$28*0.001)*($B$28/100))*$B31),0)))))) -> 0 | M31: =IF(M$27="%w/w SAR",((M$28*10)*$B31),IF(M$27="%w/w DM",(((M$28*10)*($B$28/100))*$B31),IF(M$27="kg/t SAR",(M$28*$B31),IF(M$27="kg/t DM",((M$28*($B$28/100))*$B31),IF(M$27="mg/kg SAR",((M$28*0.001)*$B31),IF(M$27="mg/kg DM",(((M$28*0.001)*($B$28/100))*$B31),0)))))) -> 0 | N31: =IF(N$27="%w/w SAR",((N$28*10)*$B31),IF(N$27="%w/w DM",(((N$28*10)*($B$28/100))*$B31),IF(N$27="kg/t SAR",(N$28*$B31),IF(N$27="kg/t DM",((N$28*($B$28/100))*$B31),IF(N$27="mg/kg SAR",((N$28*0.001)*$B31),IF(N$27="mg/kg DM",(((N$28*0.001)*($B$28/100))*$B31),0)))))) -> 0 | ... P31: =IF(P$27="%w/w SAR",((P$28*10)*$B31),IF(P$27="%w/w DM",(((P$28*10)*($B$28/100))*$B31),IF(P$27="kg/t SAR",(P$28*$B31),IF(P$27="kg/t DM",((P$28*($B$28/100))*$B31),IF(P$27="mg/kg SAR",((P$28*0.001)*$B31),IF(P$27="mg/kg DM",(((P$28*0.001)*($B$28/100))*$B31),0)))))) -> 0 | Q31: =(IF(Q$27="%w/w SAR",((Q$28*10)*$B31),IF(Q$27="%w/w DM",(((Q$28*10)*($B$28/100))*$B31),IF(Q$27="kg/t SAR",(Q$28*$B31),IF(Q$27="kg/t DM",((Q$28*($B$28/100))*$B31),IF(Q$27="mg/kg SAR",((Q$28*0.001)*$B31),IF(Q$27="mg/kg DM",(((Q$28*0.001)*($B$28/100))*$B31),0)))))))*2.5 -> 0 | R31: =IF(R$27="%w/w SAR",((R$28*10)*$B31),IF(R$27="%w/w DM",(((R$28*10)*($B$28/100))*$B31),IF(R$27="kg/t SAR",(R$28*$B31),IF(R$27="kg/t DM",((R$28*($B$28/100))*$B31),IF(R$27="mg/kg SAR",((R$28*0.001)*$B31),IF(R$27="mg/kg DM",(((R$28*0.001)*($B$28/100))*$B31),0)))))) -> 0 | S31: =IF(S$27="%w/w SAR",((S$28*10)*$B31),IF(S$27="%w/w DM",(((S$28*10)*($B$28/100))*$B31),IF(S$27="kg/t SAR",(S$28*$B31),IF(S$27="kg/t DM",((S$28*($B$28/100))*$B31),IF(S$27="mg/kg SAR",((S$28*0.001)*$B31),IF(S$27="mg/kg DM",(((S$28*0.001)*($B$28/100))*$B31),0)))))) -> 0 | T31: =IF(T$27="%w/w SAR",((T$28*10)*$B31),IF(T$27="%w/w DM",(((T$28*10)*($B$28/100))*$B31),IF(T$27="kg/t SAR",(T$28*$B31),IF(T$27="kg/t DM",((T$28*($B$28/100))*$B31),IF(T$27="mg/kg SAR",((T$28*0.001)*$B31),IF(T$27="mg/kg DM",(((T$28*0.001)*($B$28/100))*$B31),0)))))) -> 0 | U31: =IF(U$27="%w/w SAR",((U$28*10)*$B31),IF(U$27="%w/w DM",(((U$28*10)*($B$28/100))*$B31),IF(U$27="kg/t SAR",(U$28*$B31),IF(U$27="kg/t DM",((U$28*($B$28/100))*$B31),IF(U$27="mg/kg SAR",((U$28*0.001)*$B31),IF(U$27="mg/kg DM",(((U$28*0.001)*($B$28/100))*$B31),0)))))) -> 0
A32: =D8 -> 2 | B32: 50 | C32: =IF(C$27="%w/w SAR",((C$28*10)*$B32),IF(C$27="%w/w DM",(((C$28*10)*($B$28/100))*$B32),IF(C$27="kg/t SAR",(C$28*$B32),IF(C$27="kg/t DM",((C$28*($B$28/100))*$B32),IF(C$27="mg/kg SAR",((C$28*0.001)*$B32),IF(C$27="mg/kg DM",(((C$28*0.001)*($B$28/100))*$B32),0)))))) -> 66.8795 | D32: =(IF(D$27="%w/w SAR",((D$28*10)*$B32),IF(D$27="%w/w DM",(((D$28*10)*($B$28/100))*$B32),IF(D$27="kg/t SAR",(D$28*$B32),IF(D$27="kg/t DM",((D$28*($B$28/100))*$B32),IF(D$27="mg/kg SAR",((D$28*0.001)*$B32),IF(D$27="mg/kg DM",(((D$28*0.001)*($B$28/100))*$B32),"0")))))))*2.291 -> 75.509985 | E32: =(IF(E$27="%w/w SAR",((E$28*10)*$B32),IF(E$27="%w/w DM",(((E$28*10)*($B$28/100))*$B32),IF(E$27="kg/t SAR",(E$28*$B32),IF(E$27="kg/t DM",((E$28*($B$28/100))*$B32),IF(E$27="mg/kg SAR",((E$28*0.001)*$B32),IF(E$27="mg/kg DM",(((E$28*0.001)*($B$28/100))*$B32),"0")))))))*1.205 -> 4.3723305e-05 | F32: =(IF(F$27="%w/w SAR",((F$28*10)*$B32),IF(F$27="%w/w DM",(((F$28*10)*($B$28/100))*$B32),IF(F$27="kg/t SAR",(F$28*$B32),IF(F$27="kg/t DM",((F$28*($B$28/100))*$B32),IF(F$27="mg/kg SAR",((F$28*0.001)*$B32),IF(F$27="mg/kg DM",(((F$28*0.001)*($B$28/100))*$B32),"0")))))))*1.658 -> 9.0056757 | G32: =IF(G$27="%w/w SAR",((G$28*10)*$B32),IF(G$27="%w/w DM",(((G$28*10)*($B$28/100))*$B32),IF(G$27="kg/t SAR",(G$28*$B32),IF(G$27="kg/t DM",((G$28*($B$28/100))*$B32),IF(G$27="mg/kg SAR",((G$28*0.001)*$B32),IF(G$27="mg/kg DM",(((G$28*0.001)*($B$28/100))*$B32),0)))))) -> 0.0720525 | H32: =IF(H$27="%w/w SAR",((H$28*10)*$B32),IF(H$27="%w/w DM",(((H$28*10)*($B$28/100))*$B32),IF(H$27="kg/t SAR",(H$28*$B32),IF(H$27="kg/t DM",((H$28*($B$28/100))*$B32),IF(H$27="mg/kg SAR",((H$28*0.001)*$B32),IF(H$27="mg/kg DM",(((H$28*0.001)*($B$28/100))*$B32),0)))))) -> 1.56668 | I32: =IF(I$27="%w/w SAR",((I$28*10)*$B32),IF(I$27="%w/w DM",(((I$28*10)*($B$28/100))*$B32),IF(I$27="kg/t SAR",(I$28*$B32),IF(I$27="kg/t DM",((I$28*($B$28/100))*$B32),IF(I$27="mg/kg SAR",((I$28*0.001)*$B32),IF(I$27="mg/kg DM",(((I$28*0.001)*($B$28/100))*$B32),0)))))) -> 0.22317801 | J32: =IF(J$27="%w/w SAR",((J$28*10)*$B32),IF(J$27="%w/w DM",(((J$28*10)*($B$28/100))*$B32),IF(J$27="kg/t SAR",(J$28*$B32),IF(J$27="kg/t DM",((J$28*($B$28/100))*$B32),IF(J$27="mg/kg SAR",((J$28*0.001)*$B32),IF(J$27="mg/kg DM",(((J$28*0.001)*($B$28/100))*$B32),0)))))) -> 0.00166275 | K32: =IF(K$27="%w/w SAR",((K$28*10)*$B32),IF(K$27="%w/w DM",(((K$28*10)*($B$28/100))*$B32),IF(K$27="kg/t SAR",(K$28*$B32),IF(K$27="kg/t DM",((K$28*($B$28/100))*$B32),IF(K$27="mg/kg SAR",((K$28*0.001)*$B32),IF(K$27="mg/kg DM",(((K$28*0.001)*($B$28/100))*$B32),0)))))) -> 0.0010346 | L32: =IF(L$27="%w/w SAR",((L$28*10)*$B32),IF(L$27="%w/w DM",(((L$28*10)*($B$28/100))*$B32),IF(L$27="kg/t SAR",(L$28*$B32),IF(L$27="kg/t DM",((L$28*($B$28/100))*$B32),IF(L$27="mg/kg SAR",((L$28*0.001)*$B32),IF(L$27="mg/kg DM",(((L$28*0.001)*($B$28/100))*$B32),0)))))) -> 0.094961504 | M32: =IF(M$27="%w/w SAR",((M$28*10)*$B32),IF(M$27="%w/w DM",(((M$28*10)*($B$28/100))*$B32),IF(M$27="kg/t SAR",(M$28*$B32),IF(M$27="kg/t DM",((M$28*($B$28/100))*$B32),IF(M$27="mg/kg SAR",((M$28*0.001)*$B32),IF(M$27="mg/kg DM",(((M$28*0.001)*($B$28/100))*$B32),0)))))) -> 0.0772255 | N32: =IF(N$27="%w/w SAR",((N$28*10)*$B32),IF(N$27="%w/w DM",(((N$28*10)*($B$28/100))*$B32),IF(N$27="kg/t SAR",(N$28*$B32),IF(N$27="kg/t DM",((N$28*($B$28/100))*$B32),IF(N$27="mg/kg SAR",((N$28*0.001)*$B32),IF(N$27="mg/kg DM",(((N$28*0.001)*($B$28/100))*$B32),0)))))) -> 491.435 | ... P32: =IF(P$27="%w/w SAR",((P$28*10)*$B32),IF(P$27="%w/w DM",(((P$28*10)*($B$28/100))*$B32),IF(P$27="kg/t SAR",(P$28*$B32),IF(P$27="kg/t DM",((P$28*($B$28/100))*$B32),IF(P$27="mg/kg SAR",((P$28*0.001)*$B32),IF(P$27="mg/kg DM",(((P$28*0.001)*($B$28/100))*$B32),0)))))) -> 0 | Q32: =(IF(Q$27="%w/w SAR",((Q$28*10)*$B32),IF(Q$27="%w/w DM",(((Q$28*10)*($B$28/100))*$B32),IF(Q$27="kg/t SAR",(Q$28*$B32),IF(Q$27="kg/t DM",((Q$28*($B$28/100))*$B32),IF(Q$27="mg/kg SAR",((Q$28*0.001)*$B32),IF(Q$27="mg/kg DM",(((Q$28*0.001)*($B$28/100))*$B32),0)))))))*2.5 -> 24.848875 | R32: =IF(R$27="%w/w SAR",((R$28*10)*$B32),IF(R$27="%w/w DM",(((R$28*10)*($B$28/100))*$B32),IF(R$27="kg/t SAR",(R$28*$B32),IF(R$27="kg/t DM",((R$28*($B$28/100))*$B32),IF(R$27="mg/kg SAR",((R$28*0.001)*$B32),IF(R$27="mg/kg DM",(((R$28*0.001)*($B$28/100))*$B32),0)))))) -> 0 | S32: =IF(S$27="%w/w SAR",((S$28*10)*$B32),IF(S$27="%w/w DM",(((S$28*10)*($B$28/100))*$B32),IF(S$27="kg/t SAR",(S$28*$B32),IF(S$27="kg/t DM",((S$28*($B$28/100))*$B32),IF(S$27="mg/kg SAR",((S$28*0.001)*$B32),IF(S$27="mg/kg DM",(((S$28*0.001)*($B$28/100))*$B32),0)))))) -> 0.0476655 | T32: =IF(T$27="%w/w SAR",((T$28*10)*$B32),IF(T$27="%w/w DM",(((T$28*10)*($B$28/100))*$B32),IF(T$27="kg/t SAR",(T$28*$B32),IF(T$27="kg/t DM",((T$28*($B$28/100))*$B32),IF(T$27="mg/kg SAR",((T$28*0.001)*$B32),IF(T$27="mg/kg DM",(((T$28*0.001)*($B$28/100))*$B32),0)))))) -> 0 | U32: =IF(U$27="%w/w SAR",((U$28*10)*$B32),IF(U$27="%w/w DM",(((U$28*10)*($B$28/100))*$B32),IF(U$27="kg/t SAR",(U$28*$B32),IF(U$27="kg/t DM",((U$28*($B$28/100))*$B32),IF(U$27="mg/kg SAR",((U$28*0.001)*$B32),IF(U$27="mg/kg DM",(((U$28*0.001)*($B$28/100))*$B32),0)))))) -> 0
A33: =E8 -> 3 | B33: 50 | C33: =IF(C$27="%w/w SAR",((C$28*10)*$B33),IF(C$27="%w/w DM",(((C$28*10)*($B$28/100))*$B33),IF(C$27="kg/t SAR",(C$28*$B33),IF(C$27="kg/t DM",((C$28*($B$28/100))*$B33),IF(C$27="mg/kg SAR",((C$28*0.001)*$B33),IF(C$27="mg/kg DM",(((C$28*0.001)*($B$28/100))*$B33),0)))))) -> 66.8795 | D33: =(IF(D$27="%w/w SAR",((D$28*10)*$B33),IF(D$27="%w/w DM",(((D$28*10)*($B$28/100))*$B33),IF(D$27="kg/t SAR",(D$28*$B33),IF(D$27="kg/t DM",((D$28*($B$28/100))*$B33),IF(D$27="mg/kg SAR",((D$28*0.001)*$B33),IF(D$27="mg/kg DM",(((D$28*0.001)*($B$28/100))*$B33),"0")))))))*2.291 -> 75.509985 | E33: =(IF(E$27="%w/w SAR",((E$28*10)*$B33),IF(E$27="%w/w DM",(((E$28*10)*($B$28/100))*$B33),IF(E$27="kg/t SAR",(E$28*$B33),IF(E$27="kg/t DM",((E$28*($B$28/100))*$B33),IF(E$27="mg/kg SAR",((E$28*0.001)*$B33),IF(E$27="mg/kg DM",(((E$28*0.001)*($B$28/100))*$B33),"0")))))))*1.205 -> 4.3723305e-05 | F33: =(IF(F$27="%w/w SAR",((F$28*10)*$B33),IF(F$27="%w/w DM",(((F$28*10)*($B$28/100))*$B33),IF(F$27="kg/t SAR",(F$28*$B33),IF(F$27="kg/t DM",((F$28*($B$28/100))*$B33),IF(F$27="mg/kg SAR",((F$28*0.001)*$B33),IF(F$27="mg/kg DM",(((F$28*0.001)*($B$28/100))*$B33),"0")))))))*1.658 -> 9.0056757 | G33: =IF(G$27="%w/w SAR",((G$28*10)*$B33),IF(G$27="%w/w DM",(((G$28*10)*($B$28/100))*$B33),IF(G$27="kg/t SAR",(G$28*$B33),IF(G$27="kg/t DM",((G$28*($B$28/100))*$B33),IF(G$27="mg/kg SAR",((G$28*0.001)*$B33),IF(G$27="mg/kg DM",(((G$28*0.001)*($B$28/100))*$B33),0)))))) -> 0.0720525 | H33: =IF(H$27="%w/w SAR",((H$28*10)*$B33),IF(H$27="%w/w DM",(((H$28*10)*($B$28/100))*$B33),IF(H$27="kg/t SAR",(H$28*$B33),IF(H$27="kg/t DM",((H$28*($B$28/100))*$B33),IF(H$27="mg/kg SAR",((H$28*0.001)*$B33),IF(H$27="mg/kg DM",(((H$28*0.001)*($B$28/100))*$B33),0)))))) -> 1.56668 | I33: =IF(I$27="%w/w SAR",((I$28*10)*$B33),IF(I$27="%w/w DM",(((I$28*10)*($B$28/100))*$B33),IF(I$27="kg/t SAR",(I$28*$B33),IF(I$27="kg/t DM",((I$28*($B$28/100))*$B33),IF(I$27="mg/kg SAR",((I$28*0.001)*$B33),IF(I$27="mg/kg DM",(((I$28*0.001)*($B$28/100))*$B33),0)))))) -> 0.22317801 | J33: =IF(J$27="%w/w SAR",((J$28*10)*$B33),IF(J$27="%w/w DM",(((J$28*10)*($B$28/100))*$B33),IF(J$27="kg/t SAR",(J$28*$B33),IF(J$27="kg/t DM",((J$28*($B$28/100))*$B33),IF(J$27="mg/kg SAR",((J$28*0.001)*$B33),IF(J$27="mg/kg DM",(((J$28*0.001)*($B$28/100))*$B33),0)))))) -> 0.00166275 | K33: =IF(K$27="%w/w SAR",((K$28*10)*$B33),IF(K$27="%w/w DM",(((K$28*10)*($B$28/100))*$B33),IF(K$27="kg/t SAR",(K$28*$B33),IF(K$27="kg/t DM",((K$28*($B$28/100))*$B33),IF(K$27="mg/kg SAR",((K$28*0.001)*$B33),IF(K$27="mg/kg DM",(((K$28*0.001)*($B$28/100))*$B33),0)))))) -> 0.0010346 | L33: =IF(L$27="%w/w SAR",((L$28*10)*$B33),IF(L$27="%w/w DM",(((L$28*10)*($B$28/100))*$B33),IF(L$27="kg/t SAR",(L$28*$B33),IF(L$27="kg/t DM",((L$28*($B$28/100))*$B33),IF(L$27="mg/kg SAR",((L$28*0.001)*$B33),IF(L$27="mg/kg DM",(((L$28*0.001)*($B$28/100))*$B33),0)))))) -> 0.094961504 | M33: =IF(M$27="%w/w SAR",((M$28*10)*$B33),IF(M$27="%w/w DM",(((M$28*10)*($B$28/100))*$B33),IF(M$27="kg/t SAR",(M$28*$B33),IF(M$27="kg/t DM",((M$28*($B$28/100))*$B33),IF(M$27="mg/kg SAR",((M$28*0.001)*$B33),IF(M$27="mg/kg DM",(((M$28*0.001)*($B$28/100))*$B33),0)))))) -> 0.0772255 | N33: =IF(N$27="%w/w SAR",((N$28*10)*$B33),IF(N$27="%w/w DM",(((N$28*10)*($B$28/100))*$B33),IF(N$27="kg/t SAR",(N$28*$B33),IF(N$27="kg/t DM",((N$28*($B$28/100))*$B33),IF(N$27="mg/kg SAR",((N$28*0.001)*$B33),IF(N$27="mg/kg DM",(((N$28*0.001)*($B$28/100))*$B33),0)))))) -> 491.435 | ... P33: =IF(P$27="%w/w SAR",((P$28*10)*$B33),IF(P$27="%w/w DM",(((P$28*10)*($B$28/100))*$B33),IF(P$27="kg/t SAR",(P$28*$B33),IF(P$27="kg/t DM",((P$28*($B$28/100))*$B33),IF(P$27="mg/kg SAR",((P$28*0.001)*$B33),IF(P$27="mg/kg DM",(((P$28*0.001)*($B$28/100))*$B33),0)))))) -> 0 | Q33: =(IF(Q$27="%w/w SAR",((Q$28*10)*$B33),IF(Q$27="%w/w DM",(((Q$28*10)*($B$28/100))*$B33),IF(Q$27="kg/t SAR",(Q$28*$B33),IF(Q$27="kg/t DM",((Q$28*($B$28/100))*$B33),IF(Q$27="mg/kg SAR",((Q$28*0.001)*$B33),IF(Q$27="mg/kg DM",(((Q$28*0.001)*($B$28/100))*$B33),0)))))))*2.5 -> 24.848875 | R33: =IF(R$27="%w/w SAR",((R$28*10)*$B33),IF(R$27="%w/w DM",(((R$28*10)*($B$28/100))*$B33),IF(R$27="kg/t SAR",(R$28*$B33),IF(R$27="kg/t DM",((R$28*($B$28/100))*$B33),IF(R$27="mg/kg SAR",((R$28*0.001)*$B33),IF(R$27="mg/kg DM",(((R$28*0.001)*($B$28/100))*$B33),0)))))) -> 0 | S33: =IF(S$27="%w/w SAR",((S$28*10)*$B33),IF(S$27="%w/w DM",(((S$28*10)*($B$28/100))*$B33),IF(S$27="kg/t SAR",(S$28*$B33),IF(S$27="kg/t DM",((S$28*($B$28/100))*$B33),IF(S$27="mg/kg SAR",((S$28*0.001)*$B33),IF(S$27="mg/kg DM",(((S$28*0.001)*($B$28/100))*$B33),0)))))) -> 0.0476655 | T33: =IF(T$27="%w/w SAR",((T$28*10)*$B33),IF(T$27="%w/w DM",(((T$28*10)*($B$28/100))*$B33),IF(T$27="kg/t SAR",(T$28*$B33),IF(T$27="kg/t DM",((T$28*($B$28/100))*$B33),IF(T$27="mg/kg SAR",((T$28*0.001)*$B33),IF(T$27="mg/kg DM",(((T$28*0.001)*($B$28/100))*$B33),0)))))) -> 0 | U33: =IF(U$27="%w/w SAR",((U$28*10)*$B33),IF(U$27="%w/w DM",(((U$28*10)*($B$28/100))*$B33),IF(U$27="kg/t SAR",(U$28*$B33),IF(U$27="kg/t DM",((U$28*($B$28/100))*$B33),IF(U$27="mg/kg SAR",((U$28*0.001)*$B33),IF(U$27="mg/kg DM",(((U$28*0.001)*($B$28/100))*$B33),0)))))) -> 0
A34: =F8 -> 4 | B34: 50 | C34: =IF(C$27="%w/w SAR",((C$28*10)*$B34),IF(C$27="%w/w DM",(((C$28*10)*($B$28/100))*$B34),IF(C$27="kg/t SAR",(C$28*$B34),IF(C$27="kg/t DM",((C$28*($B$28/100))*$B34),IF(C$27="mg/kg SAR",((C$28*0.001)*$B34),IF(C$27="mg/kg DM",(((C$28*0.001)*($B$28/100))*$B34),0)))))) -> 66.8795 | D34: =(IF(D$27="%w/w SAR",((D$28*10)*$B34),IF(D$27="%w/w DM",(((D$28*10)*($B$28/100))*$B34),IF(D$27="kg/t SAR",(D$28*$B34),IF(D$27="kg/t DM",((D$28*($B$28/100))*$B34),IF(D$27="mg/kg SAR",((D$28*0.001)*$B34),IF(D$27="mg/kg DM",(((D$28*0.001)*($B$28/100))*$B34),"0")))))))*2.291 -> 75.509985 | E34: =(IF(E$27="%w/w SAR",((E$28*10)*$B34),IF(E$27="%w/w DM",(((E$28*10)*($B$28/100))*$B34),IF(E$27="kg/t SAR",(E$28*$B34),IF(E$27="kg/t DM",((E$28*($B$28/100))*$B34),IF(E$27="mg/kg SAR",((E$28*0.001)*$B34),IF(E$27="mg/kg DM",(((E$28*0.001)*($B$28/100))*$B34),"0")))))))*1.205 -> 4.3723305e-05 | F34: =(IF(F$27="%w/w SAR",((F$28*10)*$B34),IF(F$27="%w/w DM",(((F$28*10)*($B$28/100))*$B34),IF(F$27="kg/t SAR",(F$28*$B34),IF(F$27="kg/t DM",((F$28*($B$28/100))*$B34),IF(F$27="mg/kg SAR",((F$28*0.001)*$B34),IF(F$27="mg/kg DM",(((F$28*0.001)*($B$28/100))*$B34),"0")))))))*1.658 -> 9.0056757 | G34: =IF(G$27="%w/w SAR",((G$28*10)*$B34),IF(G$27="%w/w DM",(((G$28*10)*($B$28/100))*$B34),IF(G$27="kg/t SAR",(G$28*$B34),IF(G$27="kg/t DM",((G$28*($B$28/100))*$B34),IF(G$27="mg/kg SAR",((G$28*0.001)*$B34),IF(G$27="mg/kg DM",(((G$28*0.001)*($B$28/100))*$B34),0)))))) -> 0.0720525 | H34: =IF(H$27="%w/w SAR",((H$28*10)*$B34),IF(H$27="%w/w DM",(((H$28*10)*($B$28/100))*$B34),IF(H$27="kg/t SAR",(H$28*$B34),IF(H$27="kg/t DM",((H$28*($B$28/100))*$B34),IF(H$27="mg/kg SAR",((H$28*0.001)*$B34),IF(H$27="mg/kg DM",(((H$28*0.001)*($B$28/100))*$B34),0)))))) -> 1.56668 | I34: =IF(I$27="%w/w SAR",((I$28*10)*$B34),IF(I$27="%w/w DM",(((I$28*10)*($B$28/100))*$B34),IF(I$27="kg/t SAR",(I$28*$B34),IF(I$27="kg/t DM",((I$28*($B$28/100))*$B34),IF(I$27="mg/kg SAR",((I$28*0.001)*$B34),IF(I$27="mg/kg DM",(((I$28*0.001)*($B$28/100))*$B34),0)))))) -> 0.22317801 | J34: =IF(J$27="%w/w SAR",((J$28*10)*$B34),IF(J$27="%w/w DM",(((J$28*10)*($B$28/100))*$B34),IF(J$27="kg/t SAR",(J$28*$B34),IF(J$27="kg/t DM",((J$28*($B$28/100))*$B34),IF(J$27="mg/kg SAR",((J$28*0.001)*$B34),IF(J$27="mg/kg DM",(((J$28*0.001)*($B$28/100))*$B34),0)))))) -> 0.00166275 | K34: =IF(K$27="%w/w SAR",((K$28*10)*$B34),IF(K$27="%w/w DM",(((K$28*10)*($B$28/100))*$B34),IF(K$27="kg/t SAR",(K$28*$B34),IF(K$27="kg/t DM",((K$28*($B$28/100))*$B34),IF(K$27="mg/kg SAR",((K$28*0.001)*$B34),IF(K$27="mg/kg DM",(((K$28*0.001)*($B$28/100))*$B34),0)))))) -> 0.0010346 | L34: =IF(L$27="%w/w SAR",((L$28*10)*$B34),IF(L$27="%w/w DM",(((L$28*10)*($B$28/100))*$B34),IF(L$27="kg/t SAR",(L$28*$B34),IF(L$27="kg/t DM",((L$28*($B$28/100))*$B34),IF(L$27="mg/kg SAR",((L$28*0.001)*$B34),IF(L$27="mg/kg DM",(((L$28*0.001)*($B$28/100))*$B34),0)))))) -> 0.094961504 | M34: =IF(M$27="%w/w SAR",((M$28*10)*$B34),IF(M$27="%w/w DM",(((M$28*10)*($B$28/100))*$B34),IF(M$27="kg/t SAR",(M$28*$B34),IF(M$27="kg/t DM",((M$28*($B$28/100))*$B34),IF(M$27="mg/kg SAR",((M$28*0.001)*$B34),IF(M$27="mg/kg DM",(((M$28*0.001)*($B$28/100))*$B34),0)))))) -> 0.0772255 | N34: =IF(N$27="%w/w SAR",((N$28*10)*$B34),IF(N$27="%w/w DM",(((N$28*10)*($B$28/100))*$B34),IF(N$27="kg/t SAR",(N$28*$B34),IF(N$27="kg/t DM",((N$28*($B$28/100))*$B34),IF(N$27="mg/kg SAR",((N$28*0.001)*$B34),IF(N$27="mg/kg DM",(((N$28*0.001)*($B$28/100))*$B34),0)))))) -> 491.435 | ... P34: =IF(P$27="%w/w SAR",((P$28*10)*$B34),IF(P$27="%w/w DM",(((P$28*10)*($B$28/100))*$B34),IF(P$27="kg/t SAR",(P$28*$B34),IF(P$27="kg/t DM",((P$28*($B$28/100))*$B34),IF(P$27="mg/kg SAR",((P$28*0.001)*$B34),IF(P$27="mg/kg DM",(((P$28*0.001)*($B$28/100))*$B34),0)))))) -> 0 | Q34: =(IF(Q$27="%w/w SAR",((Q$28*10)*$B34),IF(Q$27="%w/w DM",(((Q$28*10)*($B$28/100))*$B34),IF(Q$27="kg/t SAR",(Q$28*$B34),IF(Q$27="kg/t DM",((Q$28*($B$28/100))*$B34),IF(Q$27="mg/kg SAR",((Q$28*0.001)*$B34),IF(Q$27="mg/kg DM",(((Q$28*0.001)*($B$28/100))*$B34),0)))))))*2.5 -> 24.848875 | R34: =IF(R$27="%w/w SAR",((R$28*10)*$B34),IF(R$27="%w/w DM",(((R$28*10)*($B$28/100))*$B34),IF(R$27="kg/t SAR",(R$28*$B34),IF(R$27="kg/t DM",((R$28*($B$28/100))*$B34),IF(R$27="mg/kg SAR",((R$28*0.001)*$B34),IF(R$27="mg/kg DM",(((R$28*0.001)*($B$28/100))*$B34),0)))))) -> 0 | S34: =IF(S$27="%w/w SAR",((S$28*10)*$B34),IF(S$27="%w/w DM",(((S$28*10)*($B$28/100))*$B34),IF(S$27="kg/t SAR",(S$28*$B34),IF(S$27="kg/t DM",((S$28*($B$28/100))*$B34),IF(S$27="mg/kg SAR",((S$28*0.001)*$B34),IF(S$27="mg/kg DM",(((S$28*0.001)*($B$28/100))*$B34),0)))))) -> 0.0476655 | T34: =IF(T$27="%w/w SAR",((T$28*10)*$B34),IF(T$27="%w/w DM",(((T$28*10)*($B$28/100))*$B34),IF(T$27="kg/t SAR",(T$28*$B34),IF(T$27="kg/t DM",((T$28*($B$28/100))*$B34),IF(T$27="mg/kg SAR",((T$28*0.001)*$B34),IF(T$27="mg/kg DM",(((T$28*0.001)*($B$28/100))*$B34),0)))))) -> 0 | U34: =IF(U$27="%w/w SAR",((U$28*10)*$B34),IF(U$27="%w/w DM",(((U$28*10)*($B$28/100))*$B34),IF(U$27="kg/t SAR",(U$28*$B34),IF(U$27="kg/t DM",((U$28*($B$28/100))*$B34),IF(U$27="mg/kg SAR",((U$28*0.001)*$B34),IF(U$27="mg/kg DM",(((U$28*0.001)*($B$28/100))*$B34),0)))))) -> 0
A35: =G8 -> 5a | B35: 50 | C35: =IF(C$27="%w/w SAR",((C$28*10)*$B35),IF(C$27="%w/w DM",(((C$28*10)*($B$28/100))*$B35),IF(C$27="kg/t SAR",(C$28*$B35),IF(C$27="kg/t DM",((C$28*($B$28/100))*$B35),IF(C$27="mg/kg SAR",((C$28*0.001)*$B35),IF(C$27="mg/kg DM",(((C$28*0.001)*($B$28/100))*$B35),0)))))) -> 66.8795 | D35: =(IF(D$27="%w/w SAR",((D$28*10)*$B35),IF(D$27="%w/w DM",(((D$28*10)*($B$28/100))*$B35),IF(D$27="kg/t SAR",(D$28*$B35),IF(D$27="kg/t DM",((D$28*($B$28/100))*$B35),IF(D$27="mg/kg SAR",((D$28*0.001)*$B35),IF(D$27="mg/kg DM",(((D$28*0.001)*($B$28/100))*$B35),"0")))))))*2.291 -> 75.509985 | E35: =(IF(E$27="%w/w SAR",((E$28*10)*$B35),IF(E$27="%w/w DM",(((E$28*10)*($B$28/100))*$B35),IF(E$27="kg/t SAR",(E$28*$B35),IF(E$27="kg/t DM",((E$28*($B$28/100))*$B35),IF(E$27="mg/kg SAR",((E$28*0.001)*$B35),IF(E$27="mg/kg DM",(((E$28*0.001)*($B$28/100))*$B35),"0")))))))*1.205 -> 4.3723305e-05 | F35: =(IF(F$27="%w/w SAR",((F$28*10)*$B35),IF(F$27="%w/w DM",(((F$28*10)*($B$28/100))*$B35),IF(F$27="kg/t SAR",(F$28*$B35),IF(F$27="kg/t DM",((F$28*($B$28/100))*$B35),IF(F$27="mg/kg SAR",((F$28*0.001)*$B35),IF(F$27="mg/kg DM",(((F$28*0.001)*($B$28/100))*$B35),"0")))))))*1.658 -> 9.0056757 | G35: =IF(G$27="%w/w SAR",((G$28*10)*$B35),IF(G$27="%w/w DM",(((G$28*10)*($B$28/100))*$B35),IF(G$27="kg/t SAR",(G$28*$B35),IF(G$27="kg/t DM",((G$28*($B$28/100))*$B35),IF(G$27="mg/kg SAR",((G$28*0.001)*$B35),IF(G$27="mg/kg DM",(((G$28*0.001)*($B$28/100))*$B35),0)))))) -> 0.0720525 | H35: =IF(H$27="%w/w SAR",((H$28*10)*$B35),IF(H$27="%w/w DM",(((H$28*10)*($B$28/100))*$B35),IF(H$27="kg/t SAR",(H$28*$B35),IF(H$27="kg/t DM",((H$28*($B$28/100))*$B35),IF(H$27="mg/kg SAR",((H$28*0.001)*$B35),IF(H$27="mg/kg DM",(((H$28*0.001)*($B$28/100))*$B35),0)))))) -> 1.56668 | I35: =IF(I$27="%w/w SAR",((I$28*10)*$B35),IF(I$27="%w/w DM",(((I$28*10)*($B$28/100))*$B35),IF(I$27="kg/t SAR",(I$28*$B35),IF(I$27="kg/t DM",((I$28*($B$28/100))*$B35),IF(I$27="mg/kg SAR",((I$28*0.001)*$B35),IF(I$27="mg/kg DM",(((I$28*0.001)*($B$28/100))*$B35),0)))))) -> 0.22317801 | J35: =IF(J$27="%w/w SAR",((J$28*10)*$B35),IF(J$27="%w/w DM",(((J$28*10)*($B$28/100))*$B35),IF(J$27="kg/t SAR",(J$28*$B35),IF(J$27="kg/t DM",((J$28*($B$28/100))*$B35),IF(J$27="mg/kg SAR",((J$28*0.001)*$B35),IF(J$27="mg/kg DM",(((J$28*0.001)*($B$28/100))*$B35),0)))))) -> 0.00166275 | K35: =IF(K$27="%w/w SAR",((K$28*10)*$B35),IF(K$27="%w/w DM",(((K$28*10)*($B$28/100))*$B35),IF(K$27="kg/t SAR",(K$28*$B35),IF(K$27="kg/t DM",((K$28*($B$28/100))*$B35),IF(K$27="mg/kg SAR",((K$28*0.001)*$B35),IF(K$27="mg/kg DM",(((K$28*0.001)*($B$28/100))*$B35),0)))))) -> 0.0010346 | L35: =IF(L$27="%w/w SAR",((L$28*10)*$B35),IF(L$27="%w/w DM",(((L$28*10)*($B$28/100))*$B35),IF(L$27="kg/t SAR",(L$28*$B35),IF(L$27="kg/t DM",((L$28*($B$28/100))*$B35),IF(L$27="mg/kg SAR",((L$28*0.001)*$B35),IF(L$27="mg/kg DM",(((L$28*0.001)*($B$28/100))*$B35),0)))))) -> 0.094961504 | M35: =IF(M$27="%w/w SAR",((M$28*10)*$B35),IF(M$27="%w/w DM",(((M$28*10)*($B$28/100))*$B35),IF(M$27="kg/t SAR",(M$28*$B35),IF(M$27="kg/t DM",((M$28*($B$28/100))*$B35),IF(M$27="mg/kg SAR",((M$28*0.001)*$B35),IF(M$27="mg/kg DM",(((M$28*0.001)*($B$28/100))*$B35),0)))))) -> 0.0772255 | N35: =IF(N$27="%w/w SAR",((N$28*10)*$B35),IF(N$27="%w/w DM",(((N$28*10)*($B$28/100))*$B35),IF(N$27="kg/t SAR",(N$28*$B35),IF(N$27="kg/t DM",((N$28*($B$28/100))*$B35),IF(N$27="mg/kg SAR",((N$28*0.001)*$B35),IF(N$27="mg/kg DM",(((N$28*0.001)*($B$28/100))*$B35),0)))))) -> 491.435 | ... P35: =IF(P$27="%w/w SAR",((P$28*10)*$B35),IF(P$27="%w/w DM",(((P$28*10)*($B$28/100))*$B35),IF(P$27="kg/t SAR",(P$28*$B35),IF(P$27="kg/t DM",((P$28*($B$28/100))*$B35),IF(P$27="mg/kg SAR",((P$28*0.001)*$B35),IF(P$27="mg/kg DM",(((P$28*0.001)*($B$28/100))*$B35),0)))))) -> 0 | Q35: =(IF(Q$27="%w/w SAR",((Q$28*10)*$B35),IF(Q$27="%w/w DM",(((Q$28*10)*($B$28/100))*$B35),IF(Q$27="kg/t SAR",(Q$28*$B35),IF(Q$27="kg/t DM",((Q$28*($B$28/100))*$B35),IF(Q$27="mg/kg SAR",((Q$28*0.001)*$B35),IF(Q$27="mg/kg DM",(((Q$28*0.001)*($B$28/100))*$B35),0)))))))*2.5 -> 24.848875 | R35: =IF(R$27="%w/w SAR",((R$28*10)*$B35),IF(R$27="%w/w DM",(((R$28*10)*($B$28/100))*$B35),IF(R$27="kg/t SAR",(R$28*$B35),IF(R$27="kg/t DM",((R$28*($B$28/100))*$B35),IF(R$27="mg/kg SAR",((R$28*0.001)*$B35),IF(R$27="mg/kg DM",(((R$28*0.001)*($B$28/100))*$B35),0)))))) -> 0 | S35: =IF(S$27="%w/w SAR",((S$28*10)*$B35),IF(S$27="%w/w DM",(((S$28*10)*($B$28/100))*$B35),IF(S$27="kg/t SAR",(S$28*$B35),IF(S$27="kg/t DM",((S$28*($B$28/100))*$B35),IF(S$27="mg/kg SAR",((S$28*0.001)*$B35),IF(S$27="mg/kg DM",(((S$28*0.001)*($B$28/100))*$B35),0)))))) -> 0.0476655 | T35: =IF(T$27="%w/w SAR",((T$28*10)*$B35),IF(T$27="%w/w DM",(((T$28*10)*($B$28/100))*$B35),IF(T$27="kg/t SAR",(T$28*$B35),IF(T$27="kg/t DM",((T$28*($B$28/100))*$B35),IF(T$27="mg/kg SAR",((T$28*0.001)*$B35),IF(T$27="mg/kg DM",(((T$28*0.001)*($B$28/100))*$B35),0)))))) -> 0 | U35: =IF(U$27="%w/w SAR",((U$28*10)*$B35),IF(U$27="%w/w DM",(((U$28*10)*($B$28/100))*$B35),IF(U$27="kg/t SAR",(U$28*$B35),IF(U$27="kg/t DM",((U$28*($B$28/100))*$B35),IF(U$27="mg/kg SAR",((U$28*0.001)*$B35),IF(U$27="mg/kg DM",(((U$28*0.001)*($B$28/100))*$B35),0)))))) -> 0
A36: =H8 -> 5b | B36: 50 | C36: =IF(C$27="%w/w SAR",((C$28*10)*$B36),IF(C$27="%w/w DM",(((C$28*10)*($B$28/100))*$B36),IF(C$27="kg/t SAR",(C$28*$B36),IF(C$27="kg/t DM",((C$28*($B$28/100))*$B36),IF(C$27="mg/kg SAR",((C$28*0.001)*$B36),IF(C$27="mg/kg DM",(((C$28*0.001)*($B$28/100))*$B36),0)))))) -> 66.8795 | D36: =(IF(D$27="%w/w SAR",((D$28*10)*$B36),IF(D$27="%w/w DM",(((D$28*10)*($B$28/100))*$B36),IF(D$27="kg/t SAR",(D$28*$B36),IF(D$27="kg/t DM",((D$28*($B$28/100))*$B36),IF(D$27="mg/kg SAR",((D$28*0.001)*$B36),IF(D$27="mg/kg DM",(((D$28*0.001)*($B$28/100))*$B36),"0")))))))*2.291 -> 75.509985 | E36: =(IF(E$27="%w/w SAR",((E$28*10)*$B36),IF(E$27="%w/w DM",(((E$28*10)*($B$28/100))*$B36),IF(E$27="kg/t SAR",(E$28*$B36),IF(E$27="kg/t DM",((E$28*($B$28/100))*$B36),IF(E$27="mg/kg SAR",((E$28*0.001)*$B36),IF(E$27="mg/kg DM",(((E$28*0.001)*($B$28/100))*$B36),"0")))))))*1.205 -> 4.3723305e-05 | F36: =(IF(F$27="%w/w SAR",((F$28*10)*$B36),IF(F$27="%w/w DM",(((F$28*10)*($B$28/100))*$B36),IF(F$27="kg/t SAR",(F$28*$B36),IF(F$27="kg/t DM",((F$28*($B$28/100))*$B36),IF(F$27="mg/kg SAR",((F$28*0.001)*$B36),IF(F$27="mg/kg DM",(((F$28*0.001)*($B$28/100))*$B36),"0")))))))*1.658 -> 9.0056757 | G36: =IF(G$27="%w/w SAR",((G$28*10)*$B36),IF(G$27="%w/w DM",(((G$28*10)*($B$28/100))*$B36),IF(G$27="kg/t SAR",(G$28*$B36),IF(G$27="kg/t DM",((G$28*($B$28/100))*$B36),IF(G$27="mg/kg SAR",((G$28*0.001)*$B36),IF(G$27="mg/kg DM",(((G$28*0.001)*($B$28/100))*$B36),0)))))) -> 0.0720525 | H36: =IF(H$27="%w/w SAR",((H$28*10)*$B36),IF(H$27="%w/w DM",(((H$28*10)*($B$28/100))*$B36),IF(H$27="kg/t SAR",(H$28*$B36),IF(H$27="kg/t DM",((H$28*($B$28/100))*$B36),IF(H$27="mg/kg SAR",((H$28*0.001)*$B36),IF(H$27="mg/kg DM",(((H$28*0.001)*($B$28/100))*$B36),0)))))) -> 1.56668 | I36: =IF(I$27="%w/w SAR",((I$28*10)*$B36),IF(I$27="%w/w DM",(((I$28*10)*($B$28/100))*$B36),IF(I$27="kg/t SAR",(I$28*$B36),IF(I$27="kg/t DM",((I$28*($B$28/100))*$B36),IF(I$27="mg/kg SAR",((I$28*0.001)*$B36),IF(I$27="mg/kg DM",(((I$28*0.001)*($B$28/100))*$B36),0)))))) -> 0.22317801 | J36: =IF(J$27="%w/w SAR",((J$28*10)*$B36),IF(J$27="%w/w DM",(((J$28*10)*($B$28/100))*$B36),IF(J$27="kg/t SAR",(J$28*$B36),IF(J$27="kg/t DM",((J$28*($B$28/100))*$B36),IF(J$27="mg/kg SAR",((J$28*0.001)*$B36),IF(J$27="mg/kg DM",(((J$28*0.001)*($B$28/100))*$B36),0)))))) -> 0.00166275 | K36: =IF(K$27="%w/w SAR",((K$28*10)*$B36),IF(K$27="%w/w DM",(((K$28*10)*($B$28/100))*$B36),IF(K$27="kg/t SAR",(K$28*$B36),IF(K$27="kg/t DM",((K$28*($B$28/100))*$B36),IF(K$27="mg/kg SAR",((K$28*0.001)*$B36),IF(K$27="mg/kg DM",(((K$28*0.001)*($B$28/100))*$B36),0)))))) -> 0.0010346 | L36: =IF(L$27="%w/w SAR",((L$28*10)*$B36),IF(L$27="%w/w DM",(((L$28*10)*($B$28/100))*$B36),IF(L$27="kg/t SAR",(L$28*$B36),IF(L$27="kg/t DM",((L$28*($B$28/100))*$B36),IF(L$27="mg/kg SAR",((L$28*0.001)*$B36),IF(L$27="mg/kg DM",(((L$28*0.001)*($B$28/100))*$B36),0)))))) -> 0.094961504 | M36: =IF(M$27="%w/w SAR",((M$28*10)*$B36),IF(M$27="%w/w DM",(((M$28*10)*($B$28/100))*$B36),IF(M$27="kg/t SAR",(M$28*$B36),IF(M$27="kg/t DM",((M$28*($B$28/100))*$B36),IF(M$27="mg/kg SAR",((M$28*0.001)*$B36),IF(M$27="mg/kg DM",(((M$28*0.001)*($B$28/100))*$B36),0)))))) -> 0.0772255 | N36: =IF(N$27="%w/w SAR",((N$28*10)*$B36),IF(N$27="%w/w DM",(((N$28*10)*($B$28/100))*$B36),IF(N$27="kg/t SAR",(N$28*$B36),IF(N$27="kg/t DM",((N$28*($B$28/100))*$B36),IF(N$27="mg/kg SAR",((N$28*0.001)*$B36),IF(N$27="mg/kg DM",(((N$28*0.001)*($B$28/100))*$B36),0)))))) -> 491.435 | ... P36: =IF(P$27="%w/w SAR",((P$28*10)*$B36),IF(P$27="%w/w DM",(((P$28*10)*($B$28/100))*$B36),IF(P$27="kg/t SAR",(P$28*$B36),IF(P$27="kg/t DM",((P$28*($B$28/100))*$B36),IF(P$27="mg/kg SAR",((P$28*0.001)*$B36),IF(P$27="mg/kg DM",(((P$28*0.001)*($B$28/100))*$B36),0)))))) -> 0 | Q36: =(IF(Q$27="%w/w SAR",((Q$28*10)*$B36),IF(Q$27="%w/w DM",(((Q$28*10)*($B$28/100))*$B36),IF(Q$27="kg/t SAR",(Q$28*$B36),IF(Q$27="kg/t DM",((Q$28*($B$28/100))*$B36),IF(Q$27="mg/kg SAR",((Q$28*0.001)*$B36),IF(Q$27="mg/kg DM",(((Q$28*0.001)*($B$28/100))*$B36),0)))))))*2.5 -> 24.848875 | R36: =IF(R$27="%w/w SAR",((R$28*10)*$B36),IF(R$27="%w/w DM",(((R$28*10)*($B$28/100))*$B36),IF(R$27="kg/t SAR",(R$28*$B36),IF(R$27="kg/t DM",((R$28*($B$28/100))*$B36),IF(R$27="mg/kg SAR",((R$28*0.001)*$B36),IF(R$27="mg/kg DM",(((R$28*0.001)*($B$28/100))*$B36),0)))))) -> 0 | S36: =IF(S$27="%w/w SAR",((S$28*10)*$B36),IF(S$27="%w/w DM",(((S$28*10)*($B$28/100))*$B36),IF(S$27="kg/t SAR",(S$28*$B36),IF(S$27="kg/t DM",((S$28*($B$28/100))*$B36),IF(S$27="mg/kg SAR",((S$28*0.001)*$B36),IF(S$27="mg/kg DM",(((S$28*0.001)*($B$28/100))*$B36),0)))))) -> 0.0476655 | T36: =IF(T$27="%w/w SAR",((T$28*10)*$B36),IF(T$27="%w/w DM",(((T$28*10)*($B$28/100))*$B36),IF(T$27="kg/t SAR",(T$28*$B36),IF(T$27="kg/t DM",((T$28*($B$28/100))*$B36),IF(T$27="mg/kg SAR",((T$28*0.001)*$B36),IF(T$27="mg/kg DM",(((T$28*0.001)*($B$28/100))*$B36),0)))))) -> 0 | U36: =IF(U$27="%w/w SAR",((U$28*10)*$B36),IF(U$27="%w/w DM",(((U$28*10)*($B$28/100))*$B36),IF(U$27="kg/t SAR",(U$28*$B36),IF(U$27="kg/t DM",((U$28*($B$28/100))*$B36),IF(U$27="mg/kg SAR",((U$28*0.001)*$B36),IF(U$27="mg/kg DM",(((U$28*0.001)*($B$28/100))*$B36),0)))))) -> 0
A37: =I8 -> 6 | B37: 50 | C37: =IF(C$27="%w/w SAR",((C$28*10)*$B37),IF(C$27="%w/w DM",(((C$28*10)*($B$28/100))*$B37),IF(C$27="kg/t SAR",(C$28*$B37),IF(C$27="kg/t DM",((C$28*($B$28/100))*$B37),IF(C$27="mg/kg SAR",((C$28*0.001)*$B37),IF(C$27="mg/kg DM",(((C$28*0.001)*($B$28/100))*$B37),0)))))) -> 66.8795 | D37: =(IF(D$27="%w/w SAR",((D$28*10)*$B37),IF(D$27="%w/w DM",(((D$28*10)*($B$28/100))*$B37),IF(D$27="kg/t SAR",(D$28*$B37),IF(D$27="kg/t DM",((D$28*($B$28/100))*$B37),IF(D$27="mg/kg SAR",((D$28*0.001)*$B37),IF(D$27="mg/kg DM",(((D$28*0.001)*($B$28/100))*$B37),"0")))))))*2.291 -> 75.509985 | E37: =(IF(E$27="%w/w SAR",((E$28*10)*$B37),IF(E$27="%w/w DM",(((E$28*10)*($B$28/100))*$B37),IF(E$27="kg/t SAR",(E$28*$B37),IF(E$27="kg/t DM",((E$28*($B$28/100))*$B37),IF(E$27="mg/kg SAR",((E$28*0.001)*$B37),IF(E$27="mg/kg DM",(((E$28*0.001)*($B$28/100))*$B37),"0")))))))*1.205 -> 4.3723305e-05 | F37: =(IF(F$27="%w/w SAR",((F$28*10)*$B37),IF(F$27="%w/w DM",(((F$28*10)*($B$28/100))*$B37),IF(F$27="kg/t SAR",(F$28*$B37),IF(F$27="kg/t DM",((F$28*($B$28/100))*$B37),IF(F$27="mg/kg SAR",((F$28*0.001)*$B37),IF(F$27="mg/kg DM",(((F$28*0.001)*($B$28/100))*$B37),"0")))))))*1.658 -> 9.0056757 | G37: =IF(G$27="%w/w SAR",((G$28*10)*$B37),IF(G$27="%w/w DM",(((G$28*10)*($B$28/100))*$B37),IF(G$27="kg/t SAR",(G$28*$B37),IF(G$27="kg/t DM",((G$28*($B$28/100))*$B37),IF(G$27="mg/kg SAR",((G$28*0.001)*$B37),IF(G$27="mg/kg DM",(((G$28*0.001)*($B$28/100))*$B37),0)))))) -> 0.0720525 | H37: =IF(H$27="%w/w SAR",((H$28*10)*$B37),IF(H$27="%w/w DM",(((H$28*10)*($B$28/100))*$B37),IF(H$27="kg/t SAR",(H$28*$B37),IF(H$27="kg/t DM",((H$28*($B$28/100))*$B37),IF(H$27="mg/kg SAR",((H$28*0.001)*$B37),IF(H$27="mg/kg DM",(((H$28*0.001)*($B$28/100))*$B37),0)))))) -> 1.56668 | I37: =IF(I$27="%w/w SAR",((I$28*10)*$B37),IF(I$27="%w/w DM",(((I$28*10)*($B$28/100))*$B37),IF(I$27="kg/t SAR",(I$28*$B37),IF(I$27="kg/t DM",((I$28*($B$28/100))*$B37),IF(I$27="mg/kg SAR",((I$28*0.001)*$B37),IF(I$27="mg/kg DM",(((I$28*0.001)*($B$28/100))*$B37),0)))))) -> 0.22317801 | J37: =IF(J$27="%w/w SAR",((J$28*10)*$B37),IF(J$27="%w/w DM",(((J$28*10)*($B$28/100))*$B37),IF(J$27="kg/t SAR",(J$28*$B37),IF(J$27="kg/t DM",((J$28*($B$28/100))*$B37),IF(J$27="mg/kg SAR",((J$28*0.001)*$B37),IF(J$27="mg/kg DM",(((J$28*0.001)*($B$28/100))*$B37),0)))))) -> 0.00166275 | K37: =IF(K$27="%w/w SAR",((K$28*10)*$B37),IF(K$27="%w/w DM",(((K$28*10)*($B$28/100))*$B37),IF(K$27="kg/t SAR",(K$28*$B37),IF(K$27="kg/t DM",((K$28*($B$28/100))*$B37),IF(K$27="mg/kg SAR",((K$28*0.001)*$B37),IF(K$27="mg/kg DM",(((K$28*0.001)*($B$28/100))*$B37),0)))))) -> 0.0010346 | L37: =IF(L$27="%w/w SAR",((L$28*10)*$B37),IF(L$27="%w/w DM",(((L$28*10)*($B$28/100))*$B37),IF(L$27="kg/t SAR",(L$28*$B37),IF(L$27="kg/t DM",((L$28*($B$28/100))*$B37),IF(L$27="mg/kg SAR",((L$28*0.001)*$B37),IF(L$27="mg/kg DM",(((L$28*0.001)*($B$28/100))*$B37),0)))))) -> 0.094961504 | M37: =IF(M$27="%w/w SAR",((M$28*10)*$B37),IF(M$27="%w/w DM",(((M$28*10)*($B$28/100))*$B37),IF(M$27="kg/t SAR",(M$28*$B37),IF(M$27="kg/t DM",((M$28*($B$28/100))*$B37),IF(M$27="mg/kg SAR",((M$28*0.001)*$B37),IF(M$27="mg/kg DM",(((M$28*0.001)*($B$28/100))*$B37),0)))))) -> 0.0772255 | N37: =IF(N$27="%w/w SAR",((N$28*10)*$B37),IF(N$27="%w/w DM",(((N$28*10)*($B$28/100))*$B37),IF(N$27="kg/t SAR",(N$28*$B37),IF(N$27="kg/t DM",((N$28*($B$28/100))*$B37),IF(N$27="mg/kg SAR",((N$28*0.001)*$B37),IF(N$27="mg/kg DM",(((N$28*0.001)*($B$28/100))*$B37),0)))))) -> 491.435 | ... P37: =IF(P$27="%w/w SAR",((P$28*10)*$B37),IF(P$27="%w/w DM",(((P$28*10)*($B$28/100))*$B37),IF(P$27="kg/t SAR",(P$28*$B37),IF(P$27="kg/t DM",((P$28*($B$28/100))*$B37),IF(P$27="mg/kg SAR",((P$28*0.001)*$B37),IF(P$27="mg/kg DM",(((P$28*0.001)*($B$28/100))*$B37),0)))))) -> 0 | Q37: =(IF(Q$27="%w/w SAR",((Q$28*10)*$B37),IF(Q$27="%w/w DM",(((Q$28*10)*($B$28/100))*$B37),IF(Q$27="kg/t SAR",(Q$28*$B37),IF(Q$27="kg/t DM",((Q$28*($B$28/100))*$B37),IF(Q$27="mg/kg SAR",((Q$28*0.001)*$B37),IF(Q$27="mg/kg DM",(((Q$28*0.001)*($B$28/100))*$B37),0)))))))*2.5 -> 24.848875 | R37: =IF(R$27="%w/w SAR",((R$28*10)*$B37),IF(R$27="%w/w DM",(((R$28*10)*($B$28/100))*$B37),IF(R$27="kg/t SAR",(R$28*$B37),IF(R$27="kg/t DM",((R$28*($B$28/100))*$B37),IF(R$27="mg/kg SAR",((R$28*0.001)*$B37),IF(R$27="mg/kg DM",(((R$28*0.001)*($B$28/100))*$B37),0)))))) -> 0 | S37: =IF(S$27="%w/w SAR",((S$28*10)*$B37),IF(S$27="%w/w DM",(((S$28*10)*($B$28/100))*$B37),IF(S$27="kg/t SAR",(S$28*$B37),IF(S$27="kg/t DM",((S$28*($B$28/100))*$B37),IF(S$27="mg/kg SAR",((S$28*0.001)*$B37),IF(S$27="mg/kg DM",(((S$28*0.001)*($B$28/100))*$B37),0)))))) -> 0.0476655 | T37: =IF(T$27="%w/w SAR",((T$28*10)*$B37),IF(T$27="%w/w DM",(((T$28*10)*($B$28/100))*$B37),IF(T$27="kg/t SAR",(T$28*$B37),IF(T$27="kg/t DM",((T$28*($B$28/100))*$B37),IF(T$27="mg/kg SAR",((T$28*0.001)*$B37),IF(T$27="mg/kg DM",(((T$28*0.001)*($B$28/100))*$B37),0)))))) -> 0 | U37: =IF(U$27="%w/w SAR",((U$28*10)*$B37),IF(U$27="%w/w DM",(((U$28*10)*($B$28/100))*$B37),IF(U$27="kg/t SAR",(U$28*$B37),IF(U$27="kg/t DM",((U$28*($B$28/100))*$B37),IF(U$27="mg/kg SAR",((U$28*0.001)*$B37),IF(U$27="mg/kg DM",(((U$28*0.001)*($B$28/100))*$B37),0)))))) -> 0
A38: =J8 -> 7 | B38: 50 | C38: =IF(C$27="%w/w SAR",((C$28*10)*$B38),IF(C$27="%w/w DM",(((C$28*10)*($B$28/100))*$B38),IF(C$27="kg/t SAR",(C$28*$B38),IF(C$27="kg/t DM",((C$28*($B$28/100))*$B38),IF(C$27="mg/kg SAR",((C$28*0.001)*$B38),IF(C$27="mg/kg DM",(((C$28*0.001)*($B$28/100))*$B38),0)))))) -> 66.8795 | D38: =(IF(D$27="%w/w SAR",((D$28*10)*$B38),IF(D$27="%w/w DM",(((D$28*10)*($B$28/100))*$B38),IF(D$27="kg/t SAR",(D$28*$B38),IF(D$27="kg/t DM",((D$28*($B$28/100))*$B38),IF(D$27="mg/kg SAR",((D$28*0.001)*$B38),IF(D$27="mg/kg DM",(((D$28*0.001)*($B$28/100))*$B38),"0")))))))*2.291 -> 75.509985 | E38: =(IF(E$27="%w/w SAR",((E$28*10)*$B38),IF(E$27="%w/w DM",(((E$28*10)*($B$28/100))*$B38),IF(E$27="kg/t SAR",(E$28*$B38),IF(E$27="kg/t DM",((E$28*($B$28/100))*$B38),IF(E$27="mg/kg SAR",((E$28*0.001)*$B38),IF(E$27="mg/kg DM",(((E$28*0.001)*($B$28/100))*$B38),"0")))))))*1.205 -> 4.3723305e-05 | F38: =(IF(F$27="%w/w SAR",((F$28*10)*$B38),IF(F$27="%w/w DM",(((F$28*10)*($B$28/100))*$B38),IF(F$27="kg/t SAR",(F$28*$B38),IF(F$27="kg/t DM",((F$28*($B$28/100))*$B38),IF(F$27="mg/kg SAR",((F$28*0.001)*$B38),IF(F$27="mg/kg DM",(((F$28*0.001)*($B$28/100))*$B38),"0")))))))*1.658 -> 9.0056757 | G38: =IF(G$27="%w/w SAR",((G$28*10)*$B38),IF(G$27="%w/w DM",(((G$28*10)*($B$28/100))*$B38),IF(G$27="kg/t SAR",(G$28*$B38),IF(G$27="kg/t DM",((G$28*($B$28/100))*$B38),IF(G$27="mg/kg SAR",((G$28*0.001)*$B38),IF(G$27="mg/kg DM",(((G$28*0.001)*($B$28/100))*$B38),0)))))) -> 0.0720525 | H38: =IF(H$27="%w/w SAR",((H$28*10)*$B38),IF(H$27="%w/w DM",(((H$28*10)*($B$28/100))*$B38),IF(H$27="kg/t SAR",(H$28*$B38),IF(H$27="kg/t DM",((H$28*($B$28/100))*$B38),IF(H$27="mg/kg SAR",((H$28*0.001)*$B38),IF(H$27="mg/kg DM",(((H$28*0.001)*($B$28/100))*$B38),0)))))) -> 1.56668 | I38: =IF(I$27="%w/w SAR",((I$28*10)*$B38),IF(I$27="%w/w DM",(((I$28*10)*($B$28/100))*$B38),IF(I$27="kg/t SAR",(I$28*$B38),IF(I$27="kg/t DM",((I$28*($B$28/100))*$B38),IF(I$27="mg/kg SAR",((I$28*0.001)*$B38),IF(I$27="mg/kg DM",(((I$28*0.001)*($B$28/100))*$B38),0)))))) -> 0.22317801 | J38: =IF(J$27="%w/w SAR",((J$28*10)*$B38),IF(J$27="%w/w DM",(((J$28*10)*($B$28/100))*$B38),IF(J$27="kg/t SAR",(J$28*$B38),IF(J$27="kg/t DM",((J$28*($B$28/100))*$B38),IF(J$27="mg/kg SAR",((J$28*0.001)*$B38),IF(J$27="mg/kg DM",(((J$28*0.001)*($B$28/100))*$B38),0)))))) -> 0.00166275 | K38: =IF(K$27="%w/w SAR",((K$28*10)*$B38),IF(K$27="%w/w DM",(((K$28*10)*($B$28/100))*$B38),IF(K$27="kg/t SAR",(K$28*$B38),IF(K$27="kg/t DM",((K$28*($B$28/100))*$B38),IF(K$27="mg/kg SAR",((K$28*0.001)*$B38),IF(K$27="mg/kg DM",(((K$28*0.001)*($B$28/100))*$B38),0)))))) -> 0.0010346 | L38: =IF(L$27="%w/w SAR",((L$28*10)*$B38),IF(L$27="%w/w DM",(((L$28*10)*($B$28/100))*$B38),IF(L$27="kg/t SAR",(L$28*$B38),IF(L$27="kg/t DM",((L$28*($B$28/100))*$B38),IF(L$27="mg/kg SAR",((L$28*0.001)*$B38),IF(L$27="mg/kg DM",(((L$28*0.001)*($B$28/100))*$B38),0)))))) -> 0.094961504 | M38: =IF(M$27="%w/w SAR",((M$28*10)*$B38),IF(M$27="%w/w DM",(((M$28*10)*($B$28/100))*$B38),IF(M$27="kg/t SAR",(M$28*$B38),IF(M$27="kg/t DM",((M$28*($B$28/100))*$B38),IF(M$27="mg/kg SAR",((M$28*0.001)*$B38),IF(M$27="mg/kg DM",(((M$28*0.001)*($B$28/100))*$B38),0)))))) -> 0.0772255 | N38: =IF(N$27="%w/w SAR",((N$28*10)*$B38),IF(N$27="%w/w DM",(((N$28*10)*($B$28/100))*$B38),IF(N$27="kg/t SAR",(N$28*$B38),IF(N$27="kg/t DM",((N$28*($B$28/100))*$B38),IF(N$27="mg/kg SAR",((N$28*0.001)*$B38),IF(N$27="mg/kg DM",(((N$28*0.001)*($B$28/100))*$B38),0)))))) -> 491.435 | ... P38: =IF(P$27="%w/w SAR",((P$28*10)*$B38),IF(P$27="%w/w DM",(((P$28*10)*($B$28/100))*$B38),IF(P$27="kg/t SAR",(P$28*$B38),IF(P$27="kg/t DM",((P$28*($B$28/100))*$B38),IF(P$27="mg/kg SAR",((P$28*0.001)*$B38),IF(P$27="mg/kg DM",(((P$28*0.001)*($B$28/100))*$B38),0)))))) -> 0 | Q38: =(IF(Q$27="%w/w SAR",((Q$28*10)*$B38),IF(Q$27="%w/w DM",(((Q$28*10)*($B$28/100))*$B38),IF(Q$27="kg/t SAR",(Q$28*$B38),IF(Q$27="kg/t DM",((Q$28*($B$28/100))*$B38),IF(Q$27="mg/kg SAR",((Q$28*0.001)*$B38),IF(Q$27="mg/kg DM",(((Q$28*0.001)*($B$28/100))*$B38),0)))))))*2.5 -> 24.848875 | R38: =IF(R$27="%w/w SAR",((R$28*10)*$B38),IF(R$27="%w/w DM",(((R$28*10)*($B$28/100))*$B38),IF(R$27="kg/t SAR",(R$28*$B38),IF(R$27="kg/t DM",((R$28*($B$28/100))*$B38),IF(R$27="mg/kg SAR",((R$28*0.001)*$B38),IF(R$27="mg/kg DM",(((R$28*0.001)*($B$28/100))*$B38),0)))))) -> 0 | S38: =IF(S$27="%w/w SAR",((S$28*10)*$B38),IF(S$27="%w/w DM",(((S$28*10)*($B$28/100))*$B38),IF(S$27="kg/t SAR",(S$28*$B38),IF(S$27="kg/t DM",((S$28*($B$28/100))*$B38),IF(S$27="mg/kg SAR",((S$28*0.001)*$B38),IF(S$27="mg/kg DM",(((S$28*0.001)*($B$28/100))*$B38),0)))))) -> 0.0476655 | T38: =IF(T$27="%w/w SAR",((T$28*10)*$B38),IF(T$27="%w/w DM",(((T$28*10)*($B$28/100))*$B38),IF(T$27="kg/t SAR",(T$28*$B38),IF(T$27="kg/t DM",((T$28*($B$28/100))*$B38),IF(T$27="mg/kg SAR",((T$28*0.001)*$B38),IF(T$27="mg/kg DM",(((T$28*0.001)*($B$28/100))*$B38),0)))))) -> 0 | U38: =IF(U$27="%w/w SAR",((U$28*10)*$B38),IF(U$27="%w/w DM",(((U$28*10)*($B$28/100))*$B38),IF(U$27="kg/t SAR",(U$28*$B38),IF(U$27="kg/t DM",((U$28*($B$28/100))*$B38),IF(U$27="mg/kg SAR",((U$28*0.001)*$B38),IF(U$27="mg/kg DM",(((U$28*0.001)*($B$28/100))*$B38),0)))))) -> 0
A39: =K8 -> 9 | B39: 50 | C39: =IF(C$27="%w/w SAR",((C$28*10)*$B39),IF(C$27="%w/w DM",(((C$28*10)*($B$28/100))*$B39),IF(C$27="kg/t SAR",(C$28*$B39),IF(C$27="kg/t DM",((C$28*($B$28/100))*$B39),IF(C$27="mg/kg SAR",((C$28*0.001)*$B39),IF(C$27="mg/kg DM",(((C$28*0.001)*($B$28/100))*$B39),0)))))) -> 66.8795 | D39: =(IF(D$27="%w/w SAR",((D$28*10)*$B39),IF(D$27="%w/w DM",(((D$28*10)*($B$28/100))*$B39),IF(D$27="kg/t SAR",(D$28*$B39),IF(D$27="kg/t DM",((D$28*($B$28/100))*$B39),IF(D$27="mg/kg SAR",((D$28*0.001)*$B39),IF(D$27="mg/kg DM",(((D$28*0.001)*($B$28/100))*$B39),"0")))))))*2.291 -> 75.509985 | E39: =(IF(E$27="%w/w SAR",((E$28*10)*$B39),IF(E$27="%w/w DM",(((E$28*10)*($B$28/100))*$B39),IF(E$27="kg/t SAR",(E$28*$B39),IF(E$27="kg/t DM",((E$28*($B$28/100))*$B39),IF(E$27="mg/kg SAR",((E$28*0.001)*$B39),IF(E$27="mg/kg DM",(((E$28*0.001)*($B$28/100))*$B39),"0")))))))*1.205 -> 4.3723305e-05 | F39: =(IF(F$27="%w/w SAR",((F$28*10)*$B39),IF(F$27="%w/w DM",(((F$28*10)*($B$28/100))*$B39),IF(F$27="kg/t SAR",(F$28*$B39),IF(F$27="kg/t DM",((F$28*($B$28/100))*$B39),IF(F$27="mg/kg SAR",((F$28*0.001)*$B39),IF(F$27="mg/kg DM",(((F$28*0.001)*($B$28/100))*$B39),"0")))))))*1.658 -> 9.0056757 | G39: =IF(G$27="%w/w SAR",((G$28*10)*$B39),IF(G$27="%w/w DM",(((G$28*10)*($B$28/100))*$B39),IF(G$27="kg/t SAR",(G$28*$B39),IF(G$27="kg/t DM",((G$28*($B$28/100))*$B39),IF(G$27="mg/kg SAR",((G$28*0.001)*$B39),IF(G$27="mg/kg DM",(((G$28*0.001)*($B$28/100))*$B39),0)))))) -> 0.0720525 | H39: =IF(H$27="%w/w SAR",((H$28*10)*$B39),IF(H$27="%w/w DM",(((H$28*10)*($B$28/100))*$B39),IF(H$27="kg/t SAR",(H$28*$B39),IF(H$27="kg/t DM",((H$28*($B$28/100))*$B39),IF(H$27="mg/kg SAR",((H$28*0.001)*$B39),IF(H$27="mg/kg DM",(((H$28*0.001)*($B$28/100))*$B39),0)))))) -> 1.56668 | I39: =IF(I$27="%w/w SAR",((I$28*10)*$B39),IF(I$27="%w/w DM",(((I$28*10)*($B$28/100))*$B39),IF(I$27="kg/t SAR",(I$28*$B39),IF(I$27="kg/t DM",((I$28*($B$28/100))*$B39),IF(I$27="mg/kg SAR",((I$28*0.001)*$B39),IF(I$27="mg/kg DM",(((I$28*0.001)*($B$28/100))*$B39),0)))))) -> 0.22317801 | J39: =IF(J$27="%w/w SAR",((J$28*10)*$B39),IF(J$27="%w/w DM",(((J$28*10)*($B$28/100))*$B39),IF(J$27="kg/t SAR",(J$28*$B39),IF(J$27="kg/t DM",((J$28*($B$28/100))*$B39),IF(J$27="mg/kg SAR",((J$28*0.001)*$B39),IF(J$27="mg/kg DM",(((J$28*0.001)*($B$28/100))*$B39),0)))))) -> 0.00166275 | K39: =IF(K$27="%w/w SAR",((K$28*10)*$B39),IF(K$27="%w/w DM",(((K$28*10)*($B$28/100))*$B39),IF(K$27="kg/t SAR",(K$28*$B39),IF(K$27="kg/t DM",((K$28*($B$28/100))*$B39),IF(K$27="mg/kg SAR",((K$28*0.001)*$B39),IF(K$27="mg/kg DM",(((K$28*0.001)*($B$28/100))*$B39),0)))))) -> 0.0010346 | L39: =IF(L$27="%w/w SAR",((L$28*10)*$B39),IF(L$27="%w/w DM",(((L$28*10)*($B$28/100))*$B39),IF(L$27="kg/t SAR",(L$28*$B39),IF(L$27="kg/t DM",((L$28*($B$28/100))*$B39),IF(L$27="mg/kg SAR",((L$28*0.001)*$B39),IF(L$27="mg/kg DM",(((L$28*0.001)*($B$28/100))*$B39),0)))))) -> 0.094961504 | M39: =IF(M$27="%w/w SAR",((M$28*10)*$B39),IF(M$27="%w/w DM",(((M$28*10)*($B$28/100))*$B39),IF(M$27="kg/t SAR",(M$28*$B39),IF(M$27="kg/t DM",((M$28*($B$28/100))*$B39),IF(M$27="mg/kg SAR",((M$28*0.001)*$B39),IF(M$27="mg/kg DM",(((M$28*0.001)*($B$28/100))*$B39),0)))))) -> 0.0772255 | N39: =IF(N$27="%w/w SAR",((N$28*10)*$B39),IF(N$27="%w/w DM",(((N$28*10)*($B$28/100))*$B39),IF(N$27="kg/t SAR",(N$28*$B39),IF(N$27="kg/t DM",((N$28*($B$28/100))*$B39),IF(N$27="mg/kg SAR",((N$28*0.001)*$B39),IF(N$27="mg/kg DM",(((N$28*0.001)*($B$28/100))*$B39),0)))))) -> 491.435 | ... P39: =IF(P$27="%w/w SAR",((P$28*10)*$B39),IF(P$27="%w/w DM",(((P$28*10)*($B$28/100))*$B39),IF(P$27="kg/t SAR",(P$28*$B39),IF(P$27="kg/t DM",((P$28*($B$28/100))*$B39),IF(P$27="mg/kg SAR",((P$28*0.001)*$B39),IF(P$27="mg/kg DM",(((P$28*0.001)*($B$28/100))*$B39),0)))))) -> 0 | Q39: =(IF(Q$27="%w/w SAR",((Q$28*10)*$B39),IF(Q$27="%w/w DM",(((Q$28*10)*($B$28/100))*$B39),IF(Q$27="kg/t SAR",(Q$28*$B39),IF(Q$27="kg/t DM",((Q$28*($B$28/100))*$B39),IF(Q$27="mg/kg SAR",((Q$28*0.001)*$B39),IF(Q$27="mg/kg DM",(((Q$28*0.001)*($B$28/100))*$B39),0)))))))*2.5 -> 24.848875 | R39: =IF(R$27="%w/w SAR",((R$28*10)*$B39),IF(R$27="%w/w DM",(((R$28*10)*($B$28/100))*$B39),IF(R$27="kg/t SAR",(R$28*$B39),IF(R$27="kg/t DM",((R$28*($B$28/100))*$B39),IF(R$27="mg/kg SAR",((R$28*0.001)*$B39),IF(R$27="mg/kg DM",(((R$28*0.001)*($B$28/100))*$B39),0)))))) -> 0 | S39: =IF(S$27="%w/w SAR",((S$28*10)*$B39),IF(S$27="%w/w DM",(((S$28*10)*($B$28/100))*$B39),IF(S$27="kg/t SAR",(S$28*$B39),IF(S$27="kg/t DM",((S$28*($B$28/100))*$B39),IF(S$27="mg/kg SAR",((S$28*0.001)*$B39),IF(S$27="mg/kg DM",(((S$28*0.001)*($B$28/100))*$B39),0)))))) -> 0.0476655 | T39: =IF(T$27="%w/w SAR",((T$28*10)*$B39),IF(T$27="%w/w DM",(((T$28*10)*($B$28/100))*$B39),IF(T$27="kg/t SAR",(T$28*$B39),IF(T$27="kg/t DM",((T$28*($B$28/100))*$B39),IF(T$27="mg/kg SAR",((T$28*0.001)*$B39),IF(T$27="mg/kg DM",(((T$28*0.001)*($B$28/100))*$B39),0)))))) -> 0 | U39: =IF(U$27="%w/w SAR",((U$28*10)*$B39),IF(U$27="%w/w DM",(((U$28*10)*($B$28/100))*$B39),IF(U$27="kg/t SAR",(U$28*$B39),IF(U$27="kg/t DM",((U$28*($B$28/100))*$B39),IF(U$27="mg/kg SAR",((U$28*0.001)*$B39),IF(U$27="mg/kg DM",(((U$28*0.001)*($B$28/100))*$B39),0)))))) -> 0
A40: =L8 -> 10 | C40: =IF(C$27="%w/w SAR",((C$28*10)*$B40),IF(C$27="%w/w DM",(((C$28*10)*($B$28/100))*$B40),IF(C$27="kg/t SAR",(C$28*$B40),IF(C$27="kg/t DM",((C$28*($B$28/100))*$B40),IF(C$27="mg/kg SAR",((C$28*0.001)*$B40),IF(C$27="mg/kg DM",(((C$28*0.001)*($B$28/100))*$B40),0)))))) -> 0 | D40: =(IF(D$27="%w/w SAR",((D$28*10)*$B40),IF(D$27="%w/w DM",(((D$28*10)*($B$28/100))*$B40),IF(D$27="kg/t SAR",(D$28*$B40),IF(D$27="kg/t DM",((D$28*($B$28/100))*$B40),IF(D$27="mg/kg SAR",((D$28*0.001)*$B40),IF(D$27="mg/kg DM",(((D$28*0.001)*($B$28/100))*$B40),"0")))))))*2.291 -> 0 | E40: =(IF(E$27="%w/w SAR",((E$28*10)*$B40),IF(E$27="%w/w DM",(((E$28*10)*($B$28/100))*$B40),IF(E$27="kg/t SAR",(E$28*$B40),IF(E$27="kg/t DM",((E$28*($B$28/100))*$B40),IF(E$27="mg/kg SAR",((E$28*0.001)*$B40),IF(E$27="mg/kg DM",(((E$28*0.001)*($B$28/100))*$B40),"0")))))))*1.205 -> 0 | F40: =(IF(F$27="%w/w SAR",((F$28*10)*$B40),IF(F$27="%w/w DM",(((F$28*10)*($B$28/100))*$B40),IF(F$27="kg/t SAR",(F$28*$B40),IF(F$27="kg/t DM",((F$28*($B$28/100))*$B40),IF(F$27="mg/kg SAR",((F$28*0.001)*$B40),IF(F$27="mg/kg DM",(((F$28*0.001)*($B$28/100))*$B40),"0")))))))*1.658 -> 0 | G40: =IF(G$27="%w/w SAR",((G$28*10)*$B40),IF(G$27="%w/w DM",(((G$28*10)*($B$28/100))*$B40),IF(G$27="kg/t SAR",(G$28*$B40),IF(G$27="kg/t DM",((G$28*($B$28/100))*$B40),IF(G$27="mg/kg SAR",((G$28*0.001)*$B40),IF(G$27="mg/kg DM",(((G$28*0.001)*($B$28/100))*$B40),0)))))) -> 0 | H40: =IF(H$27="%w/w SAR",((H$28*10)*$B40),IF(H$27="%w/w DM",(((H$28*10)*($B$28/100))*$B40),IF(H$27="kg/t SAR",(H$28*$B40),IF(H$27="kg/t DM",((H$28*($B$28/100))*$B40),IF(H$27="mg/kg SAR",((H$28*0.001)*$B40),IF(H$27="mg/kg DM",(((H$28*0.001)*($B$28/100))*$B40),0)))))) -> 0 | I40: =IF(I$27="%w/w SAR",((I$28*10)*$B40),IF(I$27="%w/w DM",(((I$28*10)*($B$28/100))*$B40),IF(I$27="kg/t SAR",(I$28*$B40),IF(I$27="kg/t DM",((I$28*($B$28/100))*$B40),IF(I$27="mg/kg SAR",((I$28*0.001)*$B40),IF(I$27="mg/kg DM",(((I$28*0.001)*($B$28/100))*$B40),0)))))) -> 0 | J40: =IF(J$27="%w/w SAR",((J$28*10)*$B40),IF(J$27="%w/w DM",(((J$28*10)*($B$28/100))*$B40),IF(J$27="kg/t SAR",(J$28*$B40),IF(J$27="kg/t DM",((J$28*($B$28/100))*$B40),IF(J$27="mg/kg SAR",((J$28*0.001)*$B40),IF(J$27="mg/kg DM",(((J$28*0.001)*($B$28/100))*$B40),0)))))) -> 0 | K40: =IF(K$27="%w/w SAR",((K$28*10)*$B40),IF(K$27="%w/w DM",(((K$28*10)*($B$28/100))*$B40),IF(K$27="kg/t SAR",(K$28*$B40),IF(K$27="kg/t DM",((K$28*($B$28/100))*$B40),IF(K$27="mg/kg SAR",((K$28*0.001)*$B40),IF(K$27="mg/kg DM",(((K$28*0.001)*($B$28/100))*$B40),0)))))) -> 0 | L40: =IF(L$27="%w/w SAR",((L$28*10)*$B40),IF(L$27="%w/w DM",(((L$28*10)*($B$28/100))*$B40),IF(L$27="kg/t SAR",(L$28*$B40),IF(L$27="kg/t DM",((L$28*($B$28/100))*$B40),IF(L$27="mg/kg SAR",((L$28*0.001)*$B40),IF(L$27="mg/kg DM",(((L$28*0.001)*($B$28/100))*$B40),0)))))) -> 0 | M40: =IF(M$27="%w/w SAR",((M$28*10)*$B40),IF(M$27="%w/w DM",(((M$28*10)*($B$28/100))*$B40),IF(M$27="kg/t SAR",(M$28*$B40),IF(M$27="kg/t DM",((M$28*($B$28/100))*$B40),IF(M$27="mg/kg SAR",((M$28*0.001)*$B40),IF(M$27="mg/kg DM",(((M$28*0.001)*($B$28/100))*$B40),0)))))) -> 0 | N40: =IF(N$27="%w/w SAR",((N$28*10)*$B40),IF(N$27="%w/w DM",(((N$28*10)*($B$28/100))*$B40),IF(N$27="kg/t SAR",(N$28*$B40),IF(N$27="kg/t DM",((N$28*($B$28/100))*$B40),IF(N$27="mg/kg SAR",((N$28*0.001)*$B40),IF(N$27="mg/kg DM",(((N$28*0.001)*($B$28/100))*$B40),0)))))) -> 0 | ... P40: =IF(P$27="%w/w SAR",((P$28*10)*$B40),IF(P$27="%w/w DM",(((P$28*10)*($B$28/100))*$B40),IF(P$27="kg/t SAR",(P$28*$B40),IF(P$27="kg/t DM",((P$28*($B$28/100))*$B40),IF(P$27="mg/kg SAR",((P$28*0.001)*$B40),IF(P$27="mg/kg DM",(((P$28*0.001)*($B$28/100))*$B40),0)))))) -> 0 | Q40: =(IF(Q$27="%w/w SAR",((Q$28*10)*$B40),IF(Q$27="%w/w DM",(((Q$28*10)*($B$28/100))*$B40),IF(Q$27="kg/t SAR",(Q$28*$B40),IF(Q$27="kg/t DM",((Q$28*($B$28/100))*$B40),IF(Q$27="mg/kg SAR",((Q$28*0.001)*$B40),IF(Q$27="mg/kg DM",(((Q$28*0.001)*($B$28/100))*$B40),0)))))))*2.5 -> 0 | R40: =IF(R$27="%w/w SAR",((R$28*10)*$B40),IF(R$27="%w/w DM",(((R$28*10)*($B$28/100))*$B40),IF(R$27="kg/t SAR",(R$28*$B40),IF(R$27="kg/t DM",((R$28*($B$28/100))*$B40),IF(R$27="mg/kg SAR",((R$28*0.001)*$B40),IF(R$27="mg/kg DM",(((R$28*0.001)*($B$28/100))*$B40),0)))))) -> 0 | S40: =IF(S$27="%w/w SAR",((S$28*10)*$B40),IF(S$27="%w/w DM",(((S$28*10)*($B$28/100))*$B40),IF(S$27="kg/t SAR",(S$28*$B40),IF(S$27="kg/t DM",((S$28*($B$28/100))*$B40),IF(S$27="mg/kg SAR",((S$28*0.001)*$B40),IF(S$27="mg/kg DM",(((S$28*0.001)*($B$28/100))*$B40),0)))))) -> 0 | T40: =IF(T$27="%w/w SAR",((T$28*10)*$B40),IF(T$27="%w/w DM",(((T$28*10)*($B$28/100))*$B40),IF(T$27="kg/t SAR",(T$28*$B40),IF(T$27="kg/t DM",((T$28*($B$28/100))*$B40),IF(T$27="mg/kg SAR",((T$28*0.001)*$B40),IF(T$27="mg/kg DM",(((T$28*0.001)*($B$28/100))*$B40),0)))))) -> 0 | U40: =IF(U$27="%w/w SAR",((U$28*10)*$B40),IF(U$27="%w/w DM",(((U$28*10)*($B$28/100))*$B40),IF(U$27="kg/t SAR",(U$28*$B40),IF(U$27="kg/t DM",((U$28*($B$28/100))*$B40),IF(U$27="mg/kg SAR",((U$28*0.001)*$B40),IF(U$27="mg/kg DM",(((U$28*0.001)*($B$28/100))*$B40),0)))))) -> 0
A41: =M8 -> 11 | B41: 50 | C41: =IF(C$27="%w/w SAR",((C$28*10)*$B41),IF(C$27="%w/w DM",(((C$28*10)*($B$28/100))*$B41),IF(C$27="kg/t SAR",(C$28*$B41),IF(C$27="kg/t DM",((C$28*($B$28/100))*$B41),IF(C$27="mg/kg SAR",((C$28*0.001)*$B41),IF(C$27="mg/kg DM",(((C$28*0.001)*($B$28/100))*$B41),0)))))) -> 66.8795 | D41: =(IF(D$27="%w/w SAR",((D$28*10)*$B41),IF(D$27="%w/w DM",(((D$28*10)*($B$28/100))*$B41),IF(D$27="kg/t SAR",(D$28*$B41),IF(D$27="kg/t DM",((D$28*($B$28/100))*$B41),IF(D$27="mg/kg SAR",((D$28*0.001)*$B41),IF(D$27="mg/kg DM",(((D$28*0.001)*($B$28/100))*$B41),"0")))))))*2.291 -> 75.509985 | E41: =(IF(E$27="%w/w SAR",((E$28*10)*$B41),IF(E$27="%w/w DM",(((E$28*10)*($B$28/100))*$B41),IF(E$27="kg/t SAR",(E$28*$B41),IF(E$27="kg/t DM",((E$28*($B$28/100))*$B41),IF(E$27="mg/kg SAR",((E$28*0.001)*$B41),IF(E$27="mg/kg DM",(((E$28*0.001)*($B$28/100))*$B41),"0")))))))*1.205 -> 4.3723305e-05 | F41: =(IF(F$27="%w/w SAR",((F$28*10)*$B41),IF(F$27="%w/w DM",(((F$28*10)*($B$28/100))*$B41),IF(F$27="kg/t SAR",(F$28*$B41),IF(F$27="kg/t DM",((F$28*($B$28/100))*$B41),IF(F$27="mg/kg SAR",((F$28*0.001)*$B41),IF(F$27="mg/kg DM",(((F$28*0.001)*($B$28/100))*$B41),"0")))))))*1.658 -> 9.0056757 | G41: =IF(G$27="%w/w SAR",((G$28*10)*$B41),IF(G$27="%w/w DM",(((G$28*10)*($B$28/100))*$B41),IF(G$27="kg/t SAR",(G$28*$B41),IF(G$27="kg/t DM",((G$28*($B$28/100))*$B41),IF(G$27="mg/kg SAR",((G$28*0.001)*$B41),IF(G$27="mg/kg DM",(((G$28*0.001)*($B$28/100))*$B41),0)))))) -> 0.0720525 | H41: =IF(H$27="%w/w SAR",((H$28*10)*$B41),IF(H$27="%w/w DM",(((H$28*10)*($B$28/100))*$B41),IF(H$27="kg/t SAR",(H$28*$B41),IF(H$27="kg/t DM",((H$28*($B$28/100))*$B41),IF(H$27="mg/kg SAR",((H$28*0.001)*$B41),IF(H$27="mg/kg DM",(((H$28*0.001)*($B$28/100))*$B41),0)))))) -> 1.56668 | I41: =IF(I$27="%w/w SAR",((I$28*10)*$B41),IF(I$27="%w/w DM",(((I$28*10)*($B$28/100))*$B41),IF(I$27="kg/t SAR",(I$28*$B41),IF(I$27="kg/t DM",((I$28*($B$28/100))*$B41),IF(I$27="mg/kg SAR",((I$28*0.001)*$B41),IF(I$27="mg/kg DM",(((I$28*0.001)*($B$28/100))*$B41),0)))))) -> 0.22317801 | J41: =IF(J$27="%w/w SAR",((J$28*10)*$B41),IF(J$27="%w/w DM",(((J$28*10)*($B$28/100))*$B41),IF(J$27="kg/t SAR",(J$28*$B41),IF(J$27="kg/t DM",((J$28*($B$28/100))*$B41),IF(J$27="mg/kg SAR",((J$28*0.001)*$B41),IF(J$27="mg/kg DM",(((J$28*0.001)*($B$28/100))*$B41),0)))))) -> 0.00166275 | K41: =IF(K$27="%w/w SAR",((K$28*10)*$B41),IF(K$27="%w/w DM",(((K$28*10)*($B$28/100))*$B41),IF(K$27="kg/t SAR",(K$28*$B41),IF(K$27="kg/t DM",((K$28*($B$28/100))*$B41),IF(K$27="mg/kg SAR",((K$28*0.001)*$B41),IF(K$27="mg/kg DM",(((K$28*0.001)*($B$28/100))*$B41),0)))))) -> 0.0010346 | L41: =IF(L$27="%w/w SAR",((L$28*10)*$B41),IF(L$27="%w/w DM",(((L$28*10)*($B$28/100))*$B41),IF(L$27="kg/t SAR",(L$28*$B41),IF(L$27="kg/t DM",((L$28*($B$28/100))*$B41),IF(L$27="mg/kg SAR",((L$28*0.001)*$B41),IF(L$27="mg/kg DM",(((L$28*0.001)*($B$28/100))*$B41),0)))))) -> 0.094961504 | M41: =IF(M$27="%w/w SAR",((M$28*10)*$B41),IF(M$27="%w/w DM",(((M$28*10)*($B$28/100))*$B41),IF(M$27="kg/t SAR",(M$28*$B41),IF(M$27="kg/t DM",((M$28*($B$28/100))*$B41),IF(M$27="mg/kg SAR",((M$28*0.001)*$B41),IF(M$27="mg/kg DM",(((M$28*0.001)*($B$28/100))*$B41),0)))))) -> 0.0772255 | N41: =IF(N$27="%w/w SAR",((N$28*10)*$B41),IF(N$27="%w/w DM",(((N$28*10)*($B$28/100))*$B41),IF(N$27="kg/t SAR",(N$28*$B41),IF(N$27="kg/t DM",((N$28*($B$28/100))*$B41),IF(N$27="mg/kg SAR",((N$28*0.001)*$B41),IF(N$27="mg/kg DM",(((N$28*0.001)*($B$28/100))*$B41),0)))))) -> 491.435 | ... P41: =IF(P$27="%w/w SAR",((P$28*10)*$B41),IF(P$27="%w/w DM",(((P$28*10)*($B$28/100))*$B41),IF(P$27="kg/t SAR",(P$28*$B41),IF(P$27="kg/t DM",((P$28*($B$28/100))*$B41),IF(P$27="mg/kg SAR",((P$28*0.001)*$B41),IF(P$27="mg/kg DM",(((P$28*0.001)*($B$28/100))*$B41),0)))))) -> 0 | Q41: =(IF(Q$27="%w/w SAR",((Q$28*10)*$B41),IF(Q$27="%w/w DM",(((Q$28*10)*($B$28/100))*$B41),IF(Q$27="kg/t SAR",(Q$28*$B41),IF(Q$27="kg/t DM",((Q$28*($B$28/100))*$B41),IF(Q$27="mg/kg SAR",((Q$28*0.001)*$B41),IF(Q$27="mg/kg DM",(((Q$28*0.001)*($B$28/100))*$B41),0)))))))*2.5 -> 24.848875 | R41: =IF(R$27="%w/w SAR",((R$28*10)*$B41),IF(R$27="%w/w DM",(((R$28*10)*($B$28/100))*$B41),IF(R$27="kg/t SAR",(R$28*$B41),IF(R$27="kg/t DM",((R$28*($B$28/100))*$B41),IF(R$27="mg/kg SAR",((R$28*0.001)*$B41),IF(R$27="mg/kg DM",(((R$28*0.001)*($B$28/100))*$B41),0)))))) -> 0 | S41: =IF(S$27="%w/w SAR",((S$28*10)*$B41),IF(S$27="%w/w DM",(((S$28*10)*($B$28/100))*$B41),IF(S$27="kg/t SAR",(S$28*$B41),IF(S$27="kg/t DM",((S$28*($B$28/100))*$B41),IF(S$27="mg/kg SAR",((S$28*0.001)*$B41),IF(S$27="mg/kg DM",(((S$28*0.001)*($B$28/100))*$B41),0)))))) -> 0.0476655 | T41: =IF(T$27="%w/w SAR",((T$28*10)*$B41),IF(T$27="%w/w DM",(((T$28*10)*($B$28/100))*$B41),IF(T$27="kg/t SAR",(T$28*$B41),IF(T$27="kg/t DM",((T$28*($B$28/100))*$B41),IF(T$27="mg/kg SAR",((T$28*0.001)*$B41),IF(T$27="mg/kg DM",(((T$28*0.001)*($B$28/100))*$B41),0)))))) -> 0 | U41: =IF(U$27="%w/w SAR",((U$28*10)*$B41),IF(U$27="%w/w DM",(((U$28*10)*($B$28/100))*$B41),IF(U$27="kg/t SAR",(U$28*$B41),IF(U$27="kg/t DM",((U$28*($B$28/100))*$B41),IF(U$27="mg/kg SAR",((U$28*0.001)*$B41),IF(U$27="mg/kg DM",(((U$28*0.001)*($B$28/100))*$B41),0)))))) -> 0
A42: =N8 -> 12 | B42: 50 | C42: =IF(C$27="%w/w SAR",((C$28*10)*$B42),IF(C$27="%w/w DM",(((C$28*10)*($B$28/100))*$B42),IF(C$27="kg/t SAR",(C$28*$B42),IF(C$27="kg/t DM",((C$28*($B$28/100))*$B42),IF(C$27="mg/kg SAR",((C$28*0.001)*$B42),IF(C$27="mg/kg DM",(((C$28*0.001)*($B$28/100))*$B42),0)))))) -> 66.8795 | D42: =(IF(D$27="%w/w SAR",((D$28*10)*$B42),IF(D$27="%w/w DM",(((D$28*10)*($B$28/100))*$B42),IF(D$27="kg/t SAR",(D$28*$B42),IF(D$27="kg/t DM",((D$28*($B$28/100))*$B42),IF(D$27="mg/kg SAR",((D$28*0.001)*$B42),IF(D$27="mg/kg DM",(((D$28*0.001)*($B$28/100))*$B42),"0")))))))*2.291 -> 75.509985 | E42: =(IF(E$27="%w/w SAR",((E$28*10)*$B42),IF(E$27="%w/w DM",(((E$28*10)*($B$28/100))*$B42),IF(E$27="kg/t SAR",(E$28*$B42),IF(E$27="kg/t DM",((E$28*($B$28/100))*$B42),IF(E$27="mg/kg SAR",((E$28*0.001)*$B42),IF(E$27="mg/kg DM",(((E$28*0.001)*($B$28/100))*$B42),"0")))))))*1.205 -> 4.3723305e-05 | F42: =(IF(F$27="%w/w SAR",((F$28*10)*$B42),IF(F$27="%w/w DM",(((F$28*10)*($B$28/100))*$B42),IF(F$27="kg/t SAR",(F$28*$B42),IF(F$27="kg/t DM",((F$28*($B$28/100))*$B42),IF(F$27="mg/kg SAR",((F$28*0.001)*$B42),IF(F$27="mg/kg DM",(((F$28*0.001)*($B$28/100))*$B42),"0")))))))*1.658 -> 9.0056757 | G42: =IF(G$27="%w/w SAR",((G$28*10)*$B42),IF(G$27="%w/w DM",(((G$28*10)*($B$28/100))*$B42),IF(G$27="kg/t SAR",(G$28*$B42),IF(G$27="kg/t DM",((G$28*($B$28/100))*$B42),IF(G$27="mg/kg SAR",((G$28*0.001)*$B42),IF(G$27="mg/kg DM",(((G$28*0.001)*($B$28/100))*$B42),0)))))) -> 0.0720525 | H42: =IF(H$27="%w/w SAR",((H$28*10)*$B42),IF(H$27="%w/w DM",(((H$28*10)*($B$28/100))*$B42),IF(H$27="kg/t SAR",(H$28*$B42),IF(H$27="kg/t DM",((H$28*($B$28/100))*$B42),IF(H$27="mg/kg SAR",((H$28*0.001)*$B42),IF(H$27="mg/kg DM",(((H$28*0.001)*($B$28/100))*$B42),0)))))) -> 1.56668 | I42: =IF(I$27="%w/w SAR",((I$28*10)*$B42),IF(I$27="%w/w DM",(((I$28*10)*($B$28/100))*$B42),IF(I$27="kg/t SAR",(I$28*$B42),IF(I$27="kg/t DM",((I$28*($B$28/100))*$B42),IF(I$27="mg/kg SAR",((I$28*0.001)*$B42),IF(I$27="mg/kg DM",(((I$28*0.001)*($B$28/100))*$B42),0)))))) -> 0.22317801 | J42: =IF(J$27="%w/w SAR",((J$28*10)*$B42),IF(J$27="%w/w DM",(((J$28*10)*($B$28/100))*$B42),IF(J$27="kg/t SAR",(J$28*$B42),IF(J$27="kg/t DM",((J$28*($B$28/100))*$B42),IF(J$27="mg/kg SAR",((J$28*0.001)*$B42),IF(J$27="mg/kg DM",(((J$28*0.001)*($B$28/100))*$B42),0)))))) -> 0.00166275 | K42: =IF(K$27="%w/w SAR",((K$28*10)*$B42),IF(K$27="%w/w DM",(((K$28*10)*($B$28/100))*$B42),IF(K$27="kg/t SAR",(K$28*$B42),IF(K$27="kg/t DM",((K$28*($B$28/100))*$B42),IF(K$27="mg/kg SAR",((K$28*0.001)*$B42),IF(K$27="mg/kg DM",(((K$28*0.001)*($B$28/100))*$B42),0)))))) -> 0.0010346 | L42: =IF(L$27="%w/w SAR",((L$28*10)*$B42),IF(L$27="%w/w DM",(((L$28*10)*($B$28/100))*$B42),IF(L$27="kg/t SAR",(L$28*$B42),IF(L$27="kg/t DM",((L$28*($B$28/100))*$B42),IF(L$27="mg/kg SAR",((L$28*0.001)*$B42),IF(L$27="mg/kg DM",(((L$28*0.001)*($B$28/100))*$B42),0)))))) -> 0.094961504 | M42: =IF(M$27="%w/w SAR",((M$28*10)*$B42),IF(M$27="%w/w DM",(((M$28*10)*($B$28/100))*$B42),IF(M$27="kg/t SAR",(M$28*$B42),IF(M$27="kg/t DM",((M$28*($B$28/100))*$B42),IF(M$27="mg/kg SAR",((M$28*0.001)*$B42),IF(M$27="mg/kg DM",(((M$28*0.001)*($B$28/100))*$B42),0)))))) -> 0.0772255 | N42: =IF(N$27="%w/w SAR",((N$28*10)*$B42),IF(N$27="%w/w DM",(((N$28*10)*($B$28/100))*$B42),IF(N$27="kg/t SAR",(N$28*$B42),IF(N$27="kg/t DM",((N$28*($B$28/100))*$B42),IF(N$27="mg/kg SAR",((N$28*0.001)*$B42),IF(N$27="mg/kg DM",(((N$28*0.001)*($B$28/100))*$B42),0)))))) -> 491.435 | ... P42: =IF(P$27="%w/w SAR",((P$28*10)*$B42),IF(P$27="%w/w DM",(((P$28*10)*($B$28/100))*$B42),IF(P$27="kg/t SAR",(P$28*$B42),IF(P$27="kg/t DM",((P$28*($B$28/100))*$B42),IF(P$27="mg/kg SAR",((P$28*0.001)*$B42),IF(P$27="mg/kg DM",(((P$28*0.001)*($B$28/100))*$B42),0)))))) -> 0 | Q42: =(IF(Q$27="%w/w SAR",((Q$28*10)*$B42),IF(Q$27="%w/w DM",(((Q$28*10)*($B$28/100))*$B42),IF(Q$27="kg/t SAR",(Q$28*$B42),IF(Q$27="kg/t DM",((Q$28*($B$28/100))*$B42),IF(Q$27="mg/kg SAR",((Q$28*0.001)*$B42),IF(Q$27="mg/kg DM",(((Q$28*0.001)*($B$28/100))*$B42),0)))))))*2.5 -> 24.848875 | R42: =IF(R$27="%w/w SAR",((R$28*10)*$B42),IF(R$27="%w/w DM",(((R$28*10)*($B$28/100))*$B42),IF(R$27="kg/t SAR",(R$28*$B42),IF(R$27="kg/t DM",((R$28*($B$28/100))*$B42),IF(R$27="mg/kg SAR",((R$28*0.001)*$B42),IF(R$27="mg/kg DM",(((R$28*0.001)*($B$28/100))*$B42),0)))))) -> 0 | S42: =IF(S$27="%w/w SAR",((S$28*10)*$B42),IF(S$27="%w/w DM",(((S$28*10)*($B$28/100))*$B42),IF(S$27="kg/t SAR",(S$28*$B42),IF(S$27="kg/t DM",((S$28*($B$28/100))*$B42),IF(S$27="mg/kg SAR",((S$28*0.001)*$B42),IF(S$27="mg/kg DM",(((S$28*0.001)*($B$28/100))*$B42),0)))))) -> 0.0476655 | T42: =IF(T$27="%w/w SAR",((T$28*10)*$B42),IF(T$27="%w/w DM",(((T$28*10)*($B$28/100))*$B42),IF(T$27="kg/t SAR",(T$28*$B42),IF(T$27="kg/t DM",((T$28*($B$28/100))*$B42),IF(T$27="mg/kg SAR",((T$28*0.001)*$B42),IF(T$27="mg/kg DM",(((T$28*0.001)*($B$28/100))*$B42),0)))))) -> 0 | U42: =IF(U$27="%w/w SAR",((U$28*10)*$B42),IF(U$27="%w/w DM",(((U$28*10)*($B$28/100))*$B42),IF(U$27="kg/t SAR",(U$28*$B42),IF(U$27="kg/t DM",((U$28*($B$28/100))*$B42),IF(U$27="mg/kg SAR",((U$28*0.001)*$B42),IF(U$27="mg/kg DM",(((U$28*0.001)*($B$28/100))*$B42),0)))))) -> 0
A43: =O8 -> 0 | C43: =IF(C$27="%w/w SAR",((C$28*10)*$B43),IF(C$27="%w/w DM",(((C$28*10)*($B$28/100))*$B43),IF(C$27="kg/t SAR",(C$28*$B43),IF(C$27="kg/t DM",((C$28*($B$28/100))*$B43),IF(C$27="mg/kg SAR",((C$28*0.001)*$B43),IF(C$27="mg/kg DM",(((C$28*0.001)*($B$28/100))*$B43),0)))))) -> 0 | D43: =(IF(D$27="%w/w SAR",((D$28*10)*$B43),IF(D$27="%w/w DM",(((D$28*10)*($B$28/100))*$B43),IF(D$27="kg/t SAR",(D$28*$B43),IF(D$27="kg/t DM",((D$28*($B$28/100))*$B43),IF(D$27="mg/kg SAR",((D$28*0.001)*$B43),IF(D$27="mg/kg DM",(((D$28*0.001)*($B$28/100))*$B43),"0")))))))*2.291 -> 0 | E43: =(IF(E$27="%w/w SAR",((E$28*10)*$B43),IF(E$27="%w/w DM",(((E$28*10)*($B$28/100))*$B43),IF(E$27="kg/t SAR",(E$28*$B43),IF(E$27="kg/t DM",((E$28*($B$28/100))*$B43),IF(E$27="mg/kg SAR",((E$28*0.001)*$B43),IF(E$27="mg/kg DM",(((E$28*0.001)*($B$28/100))*$B43),"0")))))))*1.205 -> 0 | F43: =(IF(F$27="%w/w SAR",((F$28*10)*$B43),IF(F$27="%w/w DM",(((F$28*10)*($B$28/100))*$B43),IF(F$27="kg/t SAR",(F$28*$B43),IF(F$27="kg/t DM",((F$28*($B$28/100))*$B43),IF(F$27="mg/kg SAR",((F$28*0.001)*$B43),IF(F$27="mg/kg DM",(((F$28*0.001)*($B$28/100))*$B43),"0")))))))*1.658 -> 0 | G43: =IF(G$27="%w/w SAR",((G$28*10)*$B43),IF(G$27="%w/w DM",(((G$28*10)*($B$28/100))*$B43),IF(G$27="kg/t SAR",(G$28*$B43),IF(G$27="kg/t DM",((G$28*($B$28/100))*$B43),IF(G$27="mg/kg SAR",((G$28*0.001)*$B43),IF(G$27="mg/kg DM",(((G$28*0.001)*($B$28/100))*$B43),0)))))) -> 0 | H43: =IF(H$27="%w/w SAR",((H$28*10)*$B43),IF(H$27="%w/w DM",(((H$28*10)*($B$28/100))*$B43),IF(H$27="kg/t SAR",(H$28*$B43),IF(H$27="kg/t DM",((H$28*($B$28/100))*$B43),IF(H$27="mg/kg SAR",((H$28*0.001)*$B43),IF(H$27="mg/kg DM",(((H$28*0.001)*($B$28/100))*$B43),0)))))) -> 0 | I43: =IF(I$27="%w/w SAR",((I$28*10)*$B43),IF(I$27="%w/w DM",(((I$28*10)*($B$28/100))*$B43),IF(I$27="kg/t SAR",(I$28*$B43),IF(I$27="kg/t DM",((I$28*($B$28/100))*$B43),IF(I$27="mg/kg SAR",((I$28*0.001)*$B43),IF(I$27="mg/kg DM",(((I$28*0.001)*($B$28/100))*$B43),0)))))) -> 0 | J43: =IF(J$27="%w/w SAR",((J$28*10)*$B43),IF(J$27="%w/w DM",(((J$28*10)*($B$28/100))*$B43),IF(J$27="kg/t SAR",(J$28*$B43),IF(J$27="kg/t DM",((J$28*($B$28/100))*$B43),IF(J$27="mg/kg SAR",((J$28*0.001)*$B43),IF(J$27="mg/kg DM",(((J$28*0.001)*($B$28/100))*$B43),0)))))) -> 0 | K43: =IF(K$27="%w/w SAR",((K$28*10)*$B43),IF(K$27="%w/w DM",(((K$28*10)*($B$28/100))*$B43),IF(K$27="kg/t SAR",(K$28*$B43),IF(K$27="kg/t DM",((K$28*($B$28/100))*$B43),IF(K$27="mg/kg SAR",((K$28*0.001)*$B43),IF(K$27="mg/kg DM",(((K$28*0.001)*($B$28/100))*$B43),0)))))) -> 0 | L43: =IF(L$27="%w/w SAR",((L$28*10)*$B43),IF(L$27="%w/w DM",(((L$28*10)*($B$28/100))*$B43),IF(L$27="kg/t SAR",(L$28*$B43),IF(L$27="kg/t DM",((L$28*($B$28/100))*$B43),IF(L$27="mg/kg SAR",((L$28*0.001)*$B43),IF(L$27="mg/kg DM",(((L$28*0.001)*($B$28/100))*$B43),0)))))) -> 0 | M43: =IF(M$27="%w/w SAR",((M$28*10)*$B43),IF(M$27="%w/w DM",(((M$28*10)*($B$28/100))*$B43),IF(M$27="kg/t SAR",(M$28*$B43),IF(M$27="kg/t DM",((M$28*($B$28/100))*$B43),IF(M$27="mg/kg SAR",((M$28*0.001)*$B43),IF(M$27="mg/kg DM",(((M$28*0.001)*($B$28/100))*$B43),0)))))) -> 0 | N43: =IF(N$27="%w/w SAR",((N$28*10)*$B43),IF(N$27="%w/w DM",(((N$28*10)*($B$28/100))*$B43),IF(N$27="kg/t SAR",(N$28*$B43),IF(N$27="kg/t DM",((N$28*($B$28/100))*$B43),IF(N$27="mg/kg SAR",((N$28*0.001)*$B43),IF(N$27="mg/kg DM",(((N$28*0.001)*($B$28/100))*$B43),0)))))) -> 0 | ... P43: =IF(P$27="%w/w SAR",((P$28*10)*$B43),IF(P$27="%w/w DM",(((P$28*10)*($B$28/100))*$B43),IF(P$27="kg/t SAR",(P$28*$B43),IF(P$27="kg/t DM",((P$28*($B$28/100))*$B43),IF(P$27="mg/kg SAR",((P$28*0.001)*$B43),IF(P$27="mg/kg DM",(((P$28*0.001)*($B$28/100))*$B43),0)))))) -> 0 | Q43: =(IF(Q$27="%w/w SAR",((Q$28*10)*$B43),IF(Q$27="%w/w DM",(((Q$28*10)*($B$28/100))*$B43),IF(Q$27="kg/t SAR",(Q$28*$B43),IF(Q$27="kg/t DM",((Q$28*($B$28/100))*$B43),IF(Q$27="mg/kg SAR",((Q$28*0.001)*$B43),IF(Q$27="mg/kg DM",(((Q$28*0.001)*($B$28/100))*$B43),0)))))))*2.5 -> 0 | R43: =IF(R$27="%w/w SAR",((R$28*10)*$B43),IF(R$27="%w/w DM",(((R$28*10)*($B$28/100))*$B43),IF(R$27="kg/t SAR",(R$28*$B43),IF(R$27="kg/t DM",((R$28*($B$28/100))*$B43),IF(R$27="mg/kg SAR",((R$28*0.001)*$B43),IF(R$27="mg/kg DM",(((R$28*0.001)*($B$28/100))*$B43),0)))))) -> 0 | S43: =IF(S$27="%w/w SAR",((S$28*10)*$B43),IF(S$27="%w/w DM",(((S$28*10)*($B$28/100))*$B43),IF(S$27="kg/t SAR",(S$28*$B43),IF(S$27="kg/t DM",((S$28*($B$28/100))*$B43),IF(S$27="mg/kg SAR",((S$28*0.001)*$B43),IF(S$27="mg/kg DM",(((S$28*0.001)*($B$28/100))*$B43),0)))))) -> 0 | T43: =IF(T$27="%w/w SAR",((T$28*10)*$B43),IF(T$27="%w/w DM",(((T$28*10)*($B$28/100))*$B43),IF(T$27="kg/t SAR",(T$28*$B43),IF(T$27="kg/t DM",((T$28*($B$28/100))*$B43),IF(T$27="mg/kg SAR",((T$28*0.001)*$B43),IF(T$27="mg/kg DM",(((T$28*0.001)*($B$28/100))*$B43),0)))))) -> 0 | U43: =IF(U$27="%w/w SAR",((U$28*10)*$B43),IF(U$27="%w/w DM",(((U$28*10)*($B$28/100))*$B43),IF(U$27="kg/t SAR",(U$28*$B43),IF(U$27="kg/t DM",((U$28*($B$28/100))*$B43),IF(U$27="mg/kg SAR",((U$28*0.001)*$B43),IF(U$27="mg/kg DM",(((U$28*0.001)*($B$28/100))*$B43),0)))))) -> 0
