Workbook
Name App_factor: References!$F$4
Name Complexity_Attribute: Complexity_Emissions_Location!$C$3
Name Emissions_Attribute: Complexity_Emissions_Location!$I$3
Name EMS_Score_Card: References!$K$53:$M$85
Name Location_Attribute: Complexity_Emissions_Location!$B$14
Name Subs_factor: References!$F$5

Sheet Summary and Calculation
K1: =NOW() -> 43370.693
A2: A
A3: B | B3: Opra Spreadsheet | I3: Version: | J3: NRW v1 | K3: Release Date: | L3: 42095
A4: C | B4: for Waste Facilities
A5: D
A6: E
A7: F | C7: Permit No: | E7: EPR/AB3092FR | G7: Site Name: | I7: Llantrisant Recycling Centre
C9: Date: | E9: 43370 | G9: Operator: | I9: Llantrisant Recycling Centre Ltd
J11: =IF(H18=0,"Complete your profile to display charges","")
C12: Attribute | F12: Bands | H12: Points | J12: Fees and Charges
C13: Complexity(s): | F13: =IF(ISNONTEXT(Complexity_Emissions_Location!F5),"",Complexity_Emissions_Location!F5) -> C | G13: =Complexity_Emissions_Location!F7 -> 0 | H13: =(IF(Complexity_Emissions_Location!F5=0,0,HLOOKUP(F13,References!$H$8:$O$13,2,FALSE)))+(IF(Complexity_Emissions_Location!F7=0,0,HLOOKUP(G13,References!$H$8:$O$13,2,FALSE))) -> 35 | J13: Application Fee | L13: =H17*App_factor -> 9405
C14: Emissions: | F14: =Complexity_Emissions_Location!O10 -> C | H14: =IF(F14="","",HLOOKUP(F14,References!$H$8:$O$13,3,FALSE)) -> 15 | J14: Normal Variation | L14: =H17*References!H4 -> 7645
C15: Location: | F15: =Complexity_Emissions_Location!O22 -> C | H15: =IF(F15="","",HLOOKUP(F15,References!$H$8:$O$13,4,FALSE)) -> 3 | J15: Full Surrender | L15: =H17*References!J4 -> 6875
C16: Operator Performance: | F16: ='Operator Performance'!H62 -> A | H16: =IF(F16="","",HLOOKUP(F16,References!$H$8:$O$13,5,FALSE)) -> 2 | J16: Part Surrender | L16: =H17*References!L4 -> 6875
C17: =IF(H18=0,"Incomplete","") | F17: Total: | H17: =SUM(H13:H16) -> 55 | J17: Subsistence | L17: See Charge Tables
H18: =IF(LEN(F13&F14&F15&F16)<4,0,H17) -> 55
C20: Compliance Rating | F20: A | J20: Subsistence Multiplier | L20: =IF(F20="",1,OFFSET(References!H13,,CODE(F20)-65)) -> 0.95
C22: Reference Sheet

Sheet Complexity_Emissions_Location
C3: Complexity Attribute | I3: Emissions Attribute (Waste Input)
C5: Site Type: | D5: 35 | E5: Complexity Band: | F5: =OFFSET(References!C3,D5-1,0) -> C | J5: Waste Type | K5: Annual Tonnage | L5: Emission Threshold | M5: Emission Index
J6: Inert | K6: 50000 | L6: 1000 | M6: =INT(K6/L6) -> 50
C7: 2nd Site Type: | D7: 1 | E7: 2nd Band: | F7: =OFFSET(References!C3,D7-1,0) -> 0 | J7: Non Hazardous (Non Bio) | K7: 50000 | L7: 750 | M7: =INT(K7/L7) -> 66
C8: Complexity Bands are based on a lookup table (see References tab) | J8: Non Hazardous (Bio) | K8: 100000 | L8: 500 | M8: =INT(K8/L8) -> 200
C9: More than one Complexity (Site Type) is required only in circumstances where the permit in question covers a landfill activity and a treating/keeping activity. In all other circumstances only one site type should be entered. Where more than one site type applies, the one carrying the highest relevant complexity band is used. | J9: Hazardous | L9: 250 | M9: =INT(K9/L9) -> 0
L10: Total: | M10: =SUM(M6:M9) -> 316 | N10: Band: | O10: =IF(D5=37,"B",IF(D5=41,"A",IF(K6 & K7 & K8 & K9="","",IF(M10<10,"A",IF(M10<100,"B",IF(M10<1000,"C",IF(M10<10000,"D","E"))))))) -> C
I12: Emission Bands are based on total index: <10=A, <100=B, <1000=C, <10000=D, >=10000=E
B14: Location Attribute
C15: Question | E15: Answer | F15: Points | I15: Question | K15: Answer | O15: Points
C16: Proximity to Human Occupation: | E16: 1 | F16: =OFFSET(References!E53,E16-1,0) -> 5 | I16: Direct run-offs: | K16: 1 | O16: =OFFSET(References!E67,K16-1,0) -> 1
C18: Assessment under wildlife, countryside or habitats legislation: | E18: 2 | F18: =OFFSET(References!E57,E18-1,0) -> 2 | I18: Air Quality Management Zone: | K18: 4 | O18: =OFFSET(References!E70,K18-1,0) -> 0
C20: Groundwater/Aquifers: | E20: 2 | F20: =OFFSET(References!E60,E20-1,0) -> 1 | I20: Flood Plain: | K20: 2 | O20: =OFFSET(References!E74,K20-1,0) -> 0
C22: Sensitivity of surface water: | E22: 3 | F22: =OFFSET(References!E63,E22-1,0) -> 3 | J22: Total Points: | K22: =SUM(F16:F22,O16:O20) -> 12 | N22: Band: | O22: =IF(Q23=0,"",IF(D5=37,"A",IF(K22<=4,"A",IF(K22<=8,"B",IF(K22<=12,"C",IF(K22<=18,"D","E")))))) -> C
I23: Location Bands are based on total points: 0-4=A, 5-8=B, 9-12=C, 13-18=D, >18=E | Q23: =VALUE('Summary and Calculation'!H13&'Summary and Calculation'!H14&'Summary and Calculation'!H16) -> 35152

Sheet Operator Performance
A2: =(IF(Complexity_Emissions_Location!F5=0,0,HLOOKUP(Complexity_Emissions_Location!F5,References!$H$8:$O$13,2,FALSE))) -> 35 | D2: Complexity Band (Activity) Risk Level: | E2: =IF(A2>=50,"HIGH",IF(A2>=10,"MEDIUM","LOW")) -> MEDIUM
A4: Yes | C4: Operations & Maintenance
A5: No | C5: 1 | D5: Do you have documented operating procedures for operations that may have an adverse impact on the environment? | E5: Yes | F5: =IF(E5="yes",HLOOKUP($E$2,EMS_Score_Card,G5+1,FALSE),0) -> 4 | G5: 1
A6: NA | C6: 2 | D6: Is there a defined procedure for identifying, reviewing and prioritising items of plant for which a preventative maintenance regime is appropriate? | E6: Yes | F6: =IF(E6="yes",HLOOKUP($E$2,EMS_Score_Card,G6+1,FALSE),0) -> 2 | G6: 2
C7: 3 | D7: Are there documented procedures for monitoring emissions or impacts? | F7: =IF(E7="yes",HLOOKUP($E$2,EMS_Score_Card,G7+1,FALSE),0) -> 0 | G7: 3
C8: 4 | D8: Do you have a preventative maintenance programme for items of plant whose failure could lead to impact on the environment? | E8: Yes | F8: =IF(E8="yes",HLOOKUP($E$2,EMS_Score_Card,G8+1,FALSE),0) -> 2 | G8: 4 | H8: Max = 12
C9: 5 | D9: Does the preventative maintenance programme include regular checks and formal inspections of infrastructure items such as tanks, pipework, retaining walls, bunds and ducts? | E9: Yes | F9: =IF(E9="yes",HLOOKUP($E$2,EMS_Score_Card,G9+1,FALSE),0) -> 2 | G9: 5 | H9: Weight = 20%
C10: 6 | D10: Are the reports, results and recommendations arising from your own audits made available to senior management on a regular basis? | E10: Yes | F10: =IF(E10="yes",HLOOKUP($E$2,EMS_Score_Card,G10+1,FALSE),0) -> 2 | G10: 6 | H10: Weighted Score
D11: Operations and Maintenance Total | F11: =SUM(F5:F10) -> 12 | H11: =(F11/12)*2 -> 2
C13: Competence and Training - 20%
C14: 1 | D14: Has a training needs assessment been carried out which: | E14: Yes | F14: =IF(E14="yes",HLOOKUP($E$2,EMS_Score_Card,G14+1,FALSE),0) -> 3 | G14: 7
D15:  Identifies all posts for which specific environmental awareness training is required; and  Identifies the scope and level to which such training is to be given?
C16: 2 | D16: Are training systems in place for all relevant staff that cover the following factors:
D17:  the regulatory requirements associated with the Permit as they affect their roles and responsibilities; | E17: Yes | F17: =IF(E17="yes",HLOOKUP($E$2,EMS_Score_Card,G17+1,FALSE),0) -> 2 | G17: 8
D18:  likely potential environmental impacts which may be caused by plant under their control. This should cover both normal and abnormal circumstances; | E18: Yes | F18: =IF(E18="yes",HLOOKUP($E$2,EMS_Score_Card,G18+1,FALSE),0) -> 2 | G18: 9
D19:  reporting procedures to inform supervisors or managers of deviations from permit conditions; | E19: Yes | F19: =IF(E19="yes",HLOOKUP($E$2,EMS_Score_Card,G19+1,FALSE),0) -> 3 | G19: 10
D20:  procedures to be used by supervisors or managers for the reporting of deviations from permit conditions to the regulator | E20: Yes | F20: =IF(E20="yes",HLOOKUP($E$2,EMS_Score_Card,G20+1,FALSE),0) -> 2 | G20: 11
D21:  prevention of accidental emissions and action to be taken when accidental emissions occur? | E21: Yes | F21: =IF(E21="yes",HLOOKUP($E$2,EMS_Score_Card,G21+1,FALSE),0) -> 2 | G21: 12 | H21: Max = 17
C22: 3 | D22: Do you assess the potential environmental risks posed by the work of contractors and provide instructions to contractors about protecting the environment while working on site? | E22: Yes | F22: =IF(E22="yes",HLOOKUP($E$2,EMS_Score_Card,G22+1,FALSE),0) -> 3 | G22: 13 | H22: Weight = 20%
C23: 4 | D23: If there are industry standards for training in this sector (e.g. WAMITAB) do you apply them? (If no industry standards please leave blank) | E23: Yes | F23: =IF(E23="no",HLOOKUP($E$2,EMS_Score_Card,G23+1,FALSE),0) -> 0 | G23: 14 | H23: Weighted Score
D24: Competence Training Total | F24: =SUM(F14:F23) -> 17 | H24: =(F24/17)*2 -> 2
C26: Emergency planning - 20%
C27: 1 | D27: Is there an accident plan that complies with guidance covering the following aspects of foreseeable scenarios: likelihood, consequences,actions to prevent, action to take in the event it occurs? | E27: Yes | F27: =IF(E27="yes",HLOOKUP($E$2,EMS_Score_Card,G27+1,FALSE),0) -> 6 | G27: 15
C28: 2 | D28: Has the plan identified areas where improvement is needed? | E28: Yes | F28: =IF(E28="yes",HLOOKUP($E$2,EMS_Score_Card,G28+1,FALSE),0) -> 2 | G28: 16
C29: 3 | D29: Where improvement has been identified, does the plan include an implementation programme with acceptable timescales to the regulator? If not, points will be deducted. | E29: Yes | F29: =IF(E29="no",HLOOKUP($E$2,EMS_Score_Card,G29+1,FALSE),0) -> 0 | G29: 17
C30: 4 | D30: Do you have written procedures for handling, investigating, communicating and reporting actual or potential non compliance with operating procedures or emission limits? | E30: Yes | F30: =IF(E30="yes",HLOOKUP($E$2,EMS_Score_Card,G30+1,FALSE),0) -> 4 | G30: 18
C31: 5 | D31: Do you have written procedures for handling, investigating, communicating and reporting environmental complaints? | F31: =IF(E31="yes",HLOOKUP($E$2,EMS_Score_Card,G31+1,FALSE),0) -> 0 | G31: 19 | H31: Max = 12
C32: 6 | D32: Do you have written procedures for investigating incidents, (and near-misses) including identifying suitable corrective action and following up implementation of that action? | F32: =IF(E32="yes",HLOOKUP($E$2,EMS_Score_Card,G32+1,FALSE),0) -> 0 | G32: 20 | H32: Weight = 20%
C33: 7 | D33: Do you keep records of investigations into non compliance, complaints and incidents? Do they cover follow up actions? Do audit reports go to senior managers? | F33: =IF(E33="yes",HLOOKUP($E$2,EMS_Score_Card,G33+1,FALSE),0) -> 0 | G33: 21 | H33: Weighted Score
D34: Emergency planning Total | F34: =SUM(F27:F33) -> 12 | H34: =(F34/12)*2 -> 2
C36: Organisation - 40%
D37: Internal/External Environment Management Systems: Answer either Question 1 or Question 2 NB: If your externally audited system is ISO9001 but you also have an internal environmental management system, you may be able to obtain a better score by providing answers to question 2
C38: 1 | D38: Do you have a certified Environmental Management System, subject to external audit, which covers the activities allowed by this permit? If so which one? | E38: 1 | F38: =OFFSET(References!G16,E38,0) -> 0 | G38: 22
D39: Sub Total | F39: =MAX(F38:F38) -> 0
C40: 2 | D40: If you do not operate an externally audited environmental management system but have an internal one, assess your system against the criteria below:
C41: 2.1 | D41: Has your company adopted an environmental policy and programme which :
D42:  includes a commitment to continual improvement and prevention of pollution? | E42: Yes | F42: =IF(E42="yes",HLOOKUP($E$2,EMS_Score_Card,G42+1,FALSE),0) -> 3 | G42: 26
D43:  includes a commitment to comply with relevant legislation, and with other requirements that the organisation subscribes to? | E43: Yes | F43: =IF(E43="yes",HLOOKUP($E$2,EMS_Score_Card,G43+1,FALSE),0) -> 3 | G43: 27
D44:  identifies, sets, monitors and reviews environmental objectives, independently of the permit? | E44: Yes | F44: =IF(E44="yes",HLOOKUP($E$2,EMS_Score_Card,G44+1,FALSE),0) -> 3 | G44: 28
C45: 2.2 | D45: Do you have an environmental policy and programme which is subject to audit by your company? | E45: Yes | F45: =IF(E45="yes",HLOOKUP($E$2,EMS_Score_Card,G45+1,FALSE),0) -> 2 | G45: 29
C46: 2.3 | D46: Are there annual reports on environmental performance, objectives and targets, future planned improvements and/or do you participate in local community liaison meetings? | E46: Yes | F46: =IF(E46="yes",HLOOKUP($E$2,EMS_Score_Card,G46+1,FALSE),0) -> 1 | G46: 30 | H46: Max = 12
C47: 3 | D47: Does your company produce a public environmental statement? You may score in this box for ISO 14001 and industry systems but not for EMAS as this is a requirement for EMAS. | E47: Yes | F47: =IF(E47="yes",HLOOKUP($E$2,EMS_Score_Card,G47+1,FALSE),0) -> 1 | G47: 31 | H47: Weight = 40%
C48: 4 | D48: Within the past 5 years have you failed to meet an improvement condition set by the regulator in a Permit or Variation by the due date, without prior agreement? (minus 2 for each failure). ADD NUMBER OF FAILURES NOT Y OR N | E48: 0 | F48: =E48*-2 -> 0 | G48: 32 | H48: Weighted Score
D49: Organisational Total: | F49: =IF(F39=20,F39+F48,IF(F39>=12,F39+SUM(F47:F48),IF(SUM(F42:F46)>F39,SUM(F42:F48),F39+SUM(F47:F48)))) -> 13 | H49: =(F49/20)*4 -> 2.6
C51: Enforcement History (0 to -40% weighting)
D53: Please enter the number of times relevant enforcement actions have been pursued in connection with your site. Note: the timescales over which action remains relevant depends on the type of enforcement action and is contained in the questions below
C54: 1 | D54: Number of Enforcement, Improvement, Works, Compliance or Restoration Notices issued in the past year by the Environment Agency under any legislation, by the Health and Safety Executive relevant to the COMAH Regulations or by local authorities under Part I of the Environmental Protection Act 1990 or relevant notice or Abatement Notices issued by local authorities or magistrates courts under Part III of the Environmental Protection Act 1990 (in all cases, other than any overturned on appeal by the Operator) | E54: 0 | F54: =IF(E54=0,"",IF(E54=1,-5,IF(E54=2,-10,-40)))
C55: 2 | D55: Number of Formal Cautions, Enforcement Undertakings or Fixed Monetary Penalties issued by the Environment Agency in respect of offences under relevant legislation in the last 3 years. | E55: 0 | F55: =IF(E55=0,"",IF(E55=1,-5,IF(E55=2,-10,-40)))
C56: 3 | D56: Number of Prohibition, Stop, Suspension or Revocation Notices issued by the Environment Agency under any legislation, by the HSE relevant to the COMAH Regulations or by local authorities under Part I of the Environmental Protection Act 1990, (other than any overturned on appeal by the Operator) in the last 3 years | E56: 0 | F56: =IF(E56=0,"",IF(E56=1,-10,IF(E56=2,-40,-40)))
C57: 4 | D57: Number of Convictions on prosecutions brought by the regulator under any legislation, by the HSE relevant to the COMAH regulations or by local authorities (in respect of offences under Parts I or III of the Environmental Protection Act 1990) in last 5 years (or 10 years where a term of imprisonment was imposed on the Operator) (other than any overturned on appeal). Or number of any Variable Monetary Penalties issued. | E57: 0 | F57: =IF(E57=0,"",IF(E57=1,-15,IF(E57=2,-40,-40))) | H57: Max = -40 Weight = 40% Weighted Score
F58: =SUM(F54:F57) -> 0 | H58: =(F58/40)*4 -> 0
E60: Overall Operator Performance Score: | H60: =H11+H24+H34+H49+H58 -> 8.6
D62: Band E= less than 2 D= 2 to 3.99, C= 4 to 5.99, B= 6 to 7.99 , A= 8 to 11 | F62: BAND= | H62: =IF(H60=0,"",IF(H60<2,"E",IF(H60<4,"D",IF(H60<6,"C",IF(H60<8,"B","A"))))) -> A
E65: Operator Performance Summary
E66: Operations & Maintenance | I66: =H11 -> 2
E67: Competence & Training | I67: =H24 -> 2
E68: Emergency Planning | I68: =H34 -> 2
E69: Organisation | I69: =H49 -> 2.6
E70: Enforcement History | I70: =H58 -> 0
E71: Overall Weighted Score | I71: =H59+H60 -> 8.6

Sheet References
B2: Complexity Bands | E2: 2015/16
B3: … | E3: Charge Multipliers
B4: A01 | C4: EEE | E4: App | F4: 171 | G4: Nor Var | H4: 139 | I4: Full Surr | J4: 125 | K4: Part Surr | L4: 125
B5: A01-Closed | C5: B | E5: Subs | F5: NA
B6: A02 | C6: EE
B7: A02-Closed | C7: B | E7: Converting Bands to Opra Score
B8: A03 | C8: E | E8: Band | H8: A | I8: B | J8: C | K8: D | L8: E | M8: DD | N8: EE | O8: EEE
B9: A03-Closed | C9: B | E9: Complexity | H9: 4 | I9: 10 | J9: 35 | K9: 50 | L9: 65 | M9: 100 | N9: 130 | O9: 195
B10: A04 | C10: DD | E10: Emissions | H10: 3 | I10: 7 | J10: 15 | K10: 30 | L10: 40
B11: A04-Closed | C11: B | E11: Location | H11: 1 | I11: 2 | J11: 3 | K11: 5 | L11: 7
B12: A04-Dredgings | C12: B | E12: Op Perf | H12: 2 | I12: 4 | J12: 7 | K12: 10 | L12: 14
B13: A05 | C13: C | E13: Compliance Rating | H13: 0.95 | I13: 1 | J13: 1.1 | K13: 1.25 | L13: 1.5 | M13: 3
B14: A05-Closed | C14: A | F14: Band | H14: A | I14: B | J14: C | K14: D | L14: E | M14: F
B15: A06 | C15: C
B16: A06-Closed | C16: A | E16: EMS | G16: Points
B17: A07 | C17: C | E17: No | G17: 0
B18: A07-Closed | C18: A | E18: EMAS | G18: 20
B19: A08 | C19: C | E19: ISO14001 | G19: 15
B20: A08-Closed | C20: A | E20: Other Accredited | G20: 12
B21: A09 | C21: D | E21: ISO 9001 | G21: 8
B22: A10 | C22: B
B23: A11 | C23: C
B24: A12 | C24: D
B25: A13 (non-haz) | C25: B
B26: A13 (haz) | C26: C
B27: A14 | C27: B
B28: A15 | C28: A
B29: A16 (non-haz) | C29: A
B30: A16a (haz) | C30: D
B31: A17 | C31: E
B32: A18 | C32: D
B33: A19 | C33: C
... B45: L05-Closed | C45: A
B51: Location Attribute
B52: Qu No | C52: QID | D52: Answer | E52: Score | F52: AnsID
B53: 1 | C53: 2 | D53: <50m | E53: 5 | F53: 1 | H53: Yes | K53: High | L53: Medium | M53: Low | O53: RiskAnswerID
B54: 1 | C54: 2 | D54: 50m-250m | E54: 3 | F54: 2 | H54: No | I54: Ops & Maintenance | J54: 1 | K54: 2 | L54: 4 | M54: 4 | O54: 24
B55: 1 | C55: 2 | D55: 250m -1km | E55: 1 | F55: 3 | H55: NA | J55: 2 | K55: 2 | L55: 2 | M55: 2 | O55: 26
B56: 1 | C56: 2 | D56: >1km | E56: 0 | F56: 4 | J56: 3 | K56: 2 | L56: 0 | M56: 0 | O56: 28
B57: 2 | C57: 3 | D57: Habitats | E57: 3 | F57: 5 | J57: 4 | K57: 2 | L57: 2 | M57: 2 | O57: 30
B58: 2 | C58: 3 | D58: CRoW | E58: 2 | F58: 6 | J58: 5 | K58: 2 | L58: 2 | M58: 2 | O58: 32
B59: 2 | C59: 3 | D59: No | E59: 0 | F59: 7 | J59: 6 | K59: 2 | L59: 2 | M59: 2 | O59: 36
B60: 3 | C60: 4 | D60: Yes - Within GPZ | E60: 2 | F60: 8 | I60: Comp & Training | J60: 7 | K60: 3 | L60: 3 | M60: 3 | O60: 42
B61: 3 | C61: 4 | D61: Yes - Outside GPZ | E61: 1 | F61: 9 | J61: 8 | K61: 2 | L61: 2 | M61: 2 | O61: 44
B62: 3 | C62: 4 | D62: No | E62: 0 | F62: 10 | J62: 9 | K62: 2 | L62: 2 | M62: 2 | O62: 46
B63: 4 | C63: 5 | D63: Grade 5 | E63: 1 | F63: 11 | J63: 10 | K63: 3 | L63: 3 | M63: 3 | O63: 48
B64: 4 | C64: 5 | D64: Grade 3 or 4 | E64: 2 | F64: 12 | J64: 11 | K64: 2 | L64: 2 | M64: 2 | O64: 50
B65: 4 | C65: 5 | D65: Grade 1 or 2 | E65: 3 | F65: 13 | J65: 12 | K65: 2 | L65: 2 | M65: 2 | O65: 52
B66: 4 | C66: 5 | D66: None | E66: 0 | F66: 14 | J66: 13 | K66: 3 | L66: 3 | M66: 3 | O66: 65
B67: 5 | C67: 6 | D67: Yes - With interceptors | E67: 1 | F67: 15 | J67: 14 | K67: -2 | L67: -2 | M67: -2 | O67: 69
B68: 5 | C68: 6 | D68: Yes - No interceptors | E68: 2 | F68: 16 | J68: 15 | K68: 4 | L68: 6 | M68: 10 | O68: 73
B69: 5 | C69: 6 | D69: No | E69: 0 | F69: 17 | J69: 16 | K69: 1 | L69: 2 | M69: 2 | O69: 75
B70: 6 | C70: 7 | D70: Yes - and emits declared pollutant | E70: 3 | F70: 18 | J70: 17 | K70: -2 | L70: -4 | M70: -4 | O70: 77
B71: 6 | C71: 7 | D71: Within 2km and emits declared pollutant | E71: 2 | F71: 19 | J71: 18 | K71: 1 | L71: 4 | M71: 0 | O71: 79
B72: 6 | C72: 7 | D72: Yes - but does not emit declared pollutant | E72: 1 | F72: 20 | J72: 19 | K72: 1 | L72: 0 | M72: 0 | O72: 81
... B75: 7 | C75: 8 | D75: No | E75: 0 | F75: 23 | J75: 22 | K75: 20 | L75: 20 | M75: 20 | O75: 89
J76: 23 | K76: 15 | L76: 15 | M76: 15 | O76: 90
J77: 24 | K77: 12 | L77: 12 | M77: 12 | O77: 91
J78: 25 | K78: 8 | L78: 8 | M78: 8 | O78: 92
J79: 26 | K79: 3 | L79: 3 | M79: 3 | O79: 93
J80: 27 | K80: 3 | L80: 3 | M80: 3 | O80: 95
J81: 28 | K81: 3 | L81: 3 | M81: 3 | O81: 97
J82: 29 | K82: 2 | L82: 2 | M82: 2 | O82: 107
J83: 30 | K83: 1 | L83: 1 | M83: 1 | O83: 111
J84: 31 | K84: 1 | L84: 1 | M84: 1 | O84: 113
J85: 32 | K85: -2 | L85: -2 | M85: -2 | O85: 115

Sheet XML Data
F1: <?xml version="1.0" encoding="utf-8"?>
F2: <CorticonRequest xmlns="urn:Corticon" xmlns:xsi="http://www.w3.org/2001/XMLSchema-instance" decisionServiceName="InsertServiceNameHere">
F3: <WorkDocuments>
F4: <EPOPRA id="EPOPRA_id_1">
F5: <summary>
A6: complexity_1_Band | B6: ="<"&A6&">" -> <complexity_1_Band> | C6: ='Summary and Calculation'!F13 -> C | D6: ="</"&A6&">" -> </complexity_1_Band> | F6: =CONCATENATE(B6,C6,D6) -> <complexity_1_Band>C</complexity_1_Band>
A7: complexity_2_Band | B7: ="<"&A7&">" -> <complexity_2_Band> | C7: ='Summary and Calculation'!G13 -> 0 | D7: ="</"&A7&">" -> </complexity_2_Band> | F7: =CONCATENATE(B7,C7,D7) -> <complexity_2_Band>0</complexity_2_Band>
A8: complexity_Score | B8: ="<"&A8&">" -> <complexity_Score> | C8: ='Summary and Calculation'!H13 -> 35 | D8: ="</"&A8&">" -> </complexity_Score> | F8: =CONCATENATE(B8,C8,D8) -> <complexity_Score>35</complexity_Score>
A9: emissions_Band | B9: ="<"&A9&">" -> <emissions_Band> | C9: ='Summary and Calculation'!F14 -> C | D9: ="</"&A9&">" -> </emissions_Band> | F9: =CONCATENATE(B9,C9,D9) -> <emissions_Band>C</emissions_Band>
A10: emissions_Score | B10: ="<"&A10&">" -> <emissions_Score> | C10: ='Summary and Calculation'!H14 -> 15 | D10: ="</"&A10&">" -> </emissions_Score> | F10: =CONCATENATE(B10,C10,D10) -> <emissions_Score>15</emissions_Score>
A11: location_Band | B11: ="<"&A11&">" -> <location_Band> | C11: ='Summary and Calculation'!F15 -> C | D11: ="</"&A11&">" -> </location_Band> | F11: =CONCATENATE(B11,C11,D11) -> <location_Band>C</location_Band>
A12: location_Score | B12: ="<"&A12&">" -> <location_Score> | C12: ='Summary and Calculation'!H15 -> 3 | D12: ="</"&A12&">" -> </location_Score> | F12: =CONCATENATE(B12,C12,D12) -> <location_Score>3</location_Score>
A13: oP_Perf_Band | B13: ="<"&A13&">" -> <oP_Perf_Band> | C13: ='Summary and Calculation'!F16 -> A | D13: ="</"&A13&">" -> </oP_Perf_Band> | F13: =CONCATENATE(B13,C13,D13) -> <oP_Perf_Band>A</oP_Perf_Band>
A14: oP_Perf_Score | B14: ="<"&A14&">" -> <oP_Perf_Score> | C14: ='Summary and Calculation'!H16 -> 2 | D14: ="</"&A14&">" -> </oP_Perf_Score> | F14: =CONCATENATE(B14,C14,D14) -> <oP_Perf_Score>2</oP_Perf_Score>
A15: totalOPRAScore | B15: ="<"&A15&">" -> <totalOPRAScore> | C15: ='Summary and Calculation'!H17 -> 55 | D15: ="</"&A15&">" -> </totalOPRAScore> | F15: =CONCATENATE(B15,C15,D15) -> <totalOPRAScore>55</totalOPRAScore>
A16: company_Name | B16: ="<"&A16&">" -> <company_Name> | C16: ='Summary and Calculation'!I9 -> Llantrisant Recycling Centre Ltd | D16: ="</"&A16&">" -> </company_Name> | F16: =CONCATENATE(B16,C16,D16) -> <company_Name>Llantrisant Recycling Centre Ltd</company_Name>
A17: case_Number | B17: ="<"&A17&">" -> <case_Number> | C17: ='Summary and Calculation'!E9 -> 43370 | D17: ="</"&A17&">" -> </case_Number> | F17: =CONCATENATE(B17,C17,D17) -> <case_Number>43370</case_Number>
F18: </summary>
F19: <emissions>
A20: wasteInput_Inert_Answer | B20: ="<"&A20&">" -> <wasteInput_Inert_Answer> | C20: =Complexity_Emissions_Location!K6 -> 50000 | D20: ="</"&A20&">" -> </wasteInput_Inert_Answer> | F20: =CONCATENATE(B20,C20,D20) -> <wasteInput_Inert_Answer>50000</wasteInput_Inert_Answer>
A21: wasteInput_NonHazNonBio_Answer | B21: ="<"&A21&">" -> <wasteInput_NonHazNonBio_Answer> | C21: =Complexity_Emissions_Location!K7 -> 50000 | D21: ="</"&A21&">" -> </wasteInput_NonHazNonBio_Answer> | F21: =CONCATENATE(B21,C21,D21) -> <wasteInput_NonHazNonBio_Answer>50000</wasteInput_NonHazNonBio_Answer>
A22: wasteInput_Haz_Answer | B22: ="<"&A22&">" -> <wasteInput_Haz_Answer> | C22: =Complexity_Emissions_Location!K8 -> 100000 | D22: ="</"&A22&">" -> </wasteInput_Haz_Answer> | F22: =CONCATENATE(B22,C22,D22) -> <wasteInput_Haz_Answer>100000</wasteInput_Haz_Answer>
A23: wasteInput_NonHazBio_Answer | B23: ="<"&A23&">" -> <wasteInput_NonHazBio_Answer> | C23: =Complexity_Emissions_Location!K9 -> 0 | D23: ="</"&A23&">" -> </wasteInput_NonHazBio_Answer> | F23: =CONCATENATE(B23,C23,D23) -> <wasteInput_NonHazBio_Answer>0</wasteInput_NonHazBio_Answer>
A24: wasteInput_total | B24: ="<"&A24&">" -> <wasteInput_total> | C24: =Complexity_Emissions_Location!M10 -> 316 | D24: ="</"&A24&">" -> </wasteInput_total> | F24: =CONCATENATE(B24,C24,D24) -> <wasteInput_total>316</wasteInput_total>
A25: wasteInput_Band | B25: ="<"&A25&">" -> <wasteInput_Band> | C25: =Complexity_Emissions_Location!O10 -> C | D25: ="</"&A25&">" -> </wasteInput_Band> | F25: =CONCATENATE(B25,C25,D25) -> <wasteInput_Band>C</wasteInput_Band>
F26: </emissions>
F27: <complexity>
A28: activity_AType_1 | B28: ="<"&A28&">" -> <activity_AType_1> | C28: =Complexity_Emissions_Location!D5 -> 35 | D28: ="</"&A28&">" -> </activity_AType_1> | F28: =CONCATENATE(B28,C28,D28) -> <activity_AType_1>35</activity_AType_1>
A29: complexity_Band_1 | B29: ="<"&A29&">" -> <complexity_Band_1> | C29: =Complexity_Emissions_Location!F5 -> C | D29: ="</"&A29&">" -> </complexity_Band_1> | F29: =CONCATENATE(B29,C29,D29) -> <complexity_Band_1>C</complexity_Band_1>
A30: activity_AType_2 | B30: ="<"&A30&">" -> <activity_AType_2> | C30: =Complexity_Emissions_Location!D7 -> 1 | D30: ="</"&A30&">" -> </activity_AType_2> | F30: =CONCATENATE(B30,C30,D30) -> <activity_AType_2>1</activity_AType_2>
A31: complexity_Band_2 | B31: ="<"&A31&">" -> <complexity_Band_2> | C31: =Complexity_Emissions_Location!F7 -> 0 | D31: ="</"&A31&">" -> </complexity_Band_2> | F31: =CONCATENATE(B31,C31,D31) -> <complexity_Band_2>0</complexity_Band_2>
F32: </complexity>
F33: <location>
A34: loc_Human_Answer | B34: ="<"&A34&">" -> <loc_Human_Answer> | C34: =Complexity_Emissions_Location!E16 -> 1 | D34: ="</"&A34&">" -> </loc_Human_Answer> | F34: =CONCATENATE(B34,C34,D34) -> <loc_Human_Answer>1</loc_Human_Answer>
A35: loc_Human_Score | B35: ="<"&A35&">" -> <loc_Human_Score> | C35: =Complexity_Emissions_Location!F16 -> 5 | D35: ="</"&A35&">" -> </loc_Human_Score> | F35: =CONCATENATE(B35,C35,D35) -> <loc_Human_Score>5</loc_Human_Score>
A36: loc_Habitats_Answer | B36: ="<"&A36&">" -> <loc_Habitats_Answer> | C36: =Complexity_Emissions_Location!E18 -> 2 | D36: ="</"&A36&">" -> </loc_Habitats_Answer> | F36: =CONCATENATE(B36,C36,D36) -> <loc_Habitats_Answer>2</loc_Habitats_Answer>
A37: loc_Habitats_Score | B37: ="<"&A37&">" -> <loc_Habitats_Score> | C37: =Complexity_Emissions_Location!F18 -> 2 | D37: ="</"&A37&">" -> </loc_Habitats_Score> | F37: =CONCATENATE(B37,C37,D37) -> <loc_Habitats_Score>2</loc_Habitats_Score>
A38: loc_AquGPZ_Answer | B38: ="<"&A38&">" -> <loc_AquGPZ_Answer> | C38: =Complexity_Emissions_Location!E20 -> 2 | D38: ="</"&A38&">" -> </loc_AquGPZ_Answer> | F38: =CONCATENATE(B38,C38,D38) -> <loc_AquGPZ_Answer>2</loc_AquGPZ_Answer>
A39: loc_Aqu_Score | B39: ="<"&A39&">" -> <loc_Aqu_Score> | C39: =Complexity_Emissions_Location!F20 -> 1 | D39: ="</"&A39&">" -> </loc_Aqu_Score> | F39: =CONCATENATE(B39,C39,D39) -> <loc_Aqu_Score>1</loc_Aqu_Score>
A40: loc_SW_Answer | B40: ="<"&A40&">" -> <loc_SW_Answer> | C40: =Complexity_Emissions_Location!E22 -> 3 | D40: ="</"&A40&">" -> </loc_SW_Answer> | F40: =CONCATENATE(B40,C40,D40) -> <loc_SW_Answer>3</loc_SW_Answer>
A41: loc_SW_Score | B41: ="<"&A41&">" -> <loc_SW_Score> | C41: =Complexity_Emissions_Location!F22 -> 3 | D41: ="</"&A41&">" -> </loc_SW_Score> | F41: =CONCATENATE(B41,C41,D41) -> <loc_SW_Score>3</loc_SW_Score>
A42: loc_RunOff_Answer | B42: ="<"&A42&">" -> <loc_RunOff_Answer> | C42: =Complexity_Emissions_Location!K16 -> 1 | D42: ="</"&A42&">" -> </loc_RunOff_Answer> | F42: =CONCATENATE(B42,C42,D42) -> <loc_RunOff_Answer>1</loc_RunOff_Answer>
A43: loc_RunOff_Score | B43: ="<"&A43&">" -> <loc_RunOff_Score> | C43: =Complexity_Emissions_Location!O16 -> 1 | D43: ="</"&A43&">" -> </loc_RunOff_Score> | F43: =CONCATENATE(B43,C43,D43) -> <loc_RunOff_Score>1</loc_RunOff_Score>
A44: loc_AQMZ_Answer | B44: ="<"&A44&">" -> <loc_AQMZ_Answer> | C44: =Complexity_Emissions_Location!K18 -> 4 | D44: ="</"&A44&">" -> </loc_AQMZ_Answer> | F44: =CONCATENATE(B44,C44,D44) -> <loc_AQMZ_Answer>4</loc_AQMZ_Answer>
A45: loc_AQMZ_Score | B45: ="<"&A45&">" -> <loc_AQMZ_Score> | C45: =Complexity_Emissions_Location!O18 -> 0 | D45: ="</"&A45&">" -> </loc_AQMZ_Score> | F45: =CONCATENATE(B45,C45,D45) -> <loc_AQMZ_Score>0</loc_AQMZ_Score>
A46: loc_FloodPlain_Answer | B46: ="<"&A46&">" -> <loc_FloodPlain_Answer> | C46: =Complexity_Emissions_Location!K20 -> 2 | D46: ="</"&A46&">" -> </loc_FloodPlain_Answer> | F46: =CONCATENATE(B46,C46,D46) -> <loc_FloodPlain_Answer>2</loc_FloodPlain_Answer>
A47: loc_FloodPlain_Score | B47: ="<"&A47&">" -> <loc_FloodPlain_Score> | C47: =Complexity_Emissions_Location!O20 -> 0 | D47: ="</"&A47&">" -> </loc_FloodPlain_Score> | F47: =CONCATENATE(B47,C47,D47) -> <loc_FloodPlain_Score>0</loc_FloodPlain_Score>
A48: loc_RawScore | B48: ="<"&A48&">" -> <loc_RawScore> | C48: =Complexity_Emissions_Location!K22 -> 12 | D48: ="</"&A48&">" -> </loc_RawScore> | F48: =CONCATENATE(B48,C48,D48) -> <loc_RawScore>12</loc_RawScore>
A49: loc_Band | B49: ="<"&A49&">" -> <loc_Band> | C49: =Complexity_Emissions_Location!O22 -> C | D49: ="</"&A49&">" -> </loc_Band> | F49: =CONCATENATE(B49,C49,D49) -> <loc_Band>C</loc_Band>
F50: </location>
F51: <operatorPerformance>
A52: docOpProcs_question1_answer | B52: ="<"&A52&">" -> <docOpProcs_question1_answer> | C52: ='Operator Performance'!E5 -> Yes | D52: ="</"&A52&">" -> </docOpProcs_question1_answer> | F52: =CONCATENATE(B52,C52,D52) -> <docOpProcs_question1_answer>Yes</docOpProcs_question1_answer>
A53: docOpProcs_question1_score | B53: ="<"&A53&">" -> <docOpProcs_question1_score> | C53: ='Operator Performance'!F5 -> 4 | D53: ="</"&A53&">" -> </docOpProcs_question1_score> | F53: =CONCATENATE(B53,C53,D53) -> <docOpProcs_question1_score>4</docOpProcs_question1_score>
A54: docOpProcs_question2_answer | B54: ="<"&A54&">" -> <docOpProcs_question2_answer> | C54: ='Operator Performance'!E6 -> Yes | D54: ="</"&A54&">" -> </docOpProcs_question2_answer> | F54: =CONCATENATE(B54,C54,D54) -> <docOpProcs_question2_answer>Yes</docOpProcs_question2_answer>
A55: docOpProcs_question2_score | B55: ="<"&A55&">" -> <docOpProcs_question2_score> | C55: ='Operator Performance'!F6 -> 2 | D55: ="</"&A55&">" -> </docOpProcs_question2_score> | F55: =CONCATENATE(B55,C55,D55) -> <docOpProcs_question2_score>2</docOpProcs_question2_score>
A56: docOpProcs_question3_answer | B56: ="<"&A56&">" -> <docOpProcs_question3_answer> | C56: ='Operator Performance'!E7 -> 0 | D56: ="</"&A56&">" -> </docOpProcs_question3_answer> | F56: =CONCATENATE(B56,C56,D56) -> <docOpProcs_question3_answer>0</docOpProcs_question3_answer>
A57: docOpProcs_question3_score | B57: ="<"&A57&">" -> <docOpProcs_question3_score> | C57: ='Operator Performance'!F7 -> 0 | D57: ="</"&A57&">" -> </docOpProcs_question3_score> | F57: =CONCATENATE(B57,C57,D57) -> <docOpProcs_question3_score>0</docOpProcs_question3_score>
A58: docOpProcs_question4_answer | B58: ="<"&A58&">" -> <docOpProcs_question4_answer> | C58: ='Operator Performance'!E8 -> Yes | D58: ="</"&A58&">" -> </docOpProcs_question4_answer> | F58: =CONCATENATE(B58,C58,D58) -> <docOpProcs_question4_answer>Yes</docOpProcs_question4_answer>
A59: docOpProcs_question4_score | B59: ="<"&A59&">" -> <docOpProcs_question4_score> | C59: ='Operator Performance'!F8 -> 2 | D59: ="</"&A59&">" -> </docOpProcs_question4_score> | F59: =CONCATENATE(B59,C59,D59) -> <docOpProcs_question4_score>2</docOpProcs_question4_score>
A60: docOpProcs_question5_answer | B60: ="<"&A60&">" -> <docOpProcs_question5_answer> | C60: ='Operator Performance'!E9 -> Yes | D60: ="</"&A60&">" -> </docOpProcs_question5_answer> | F60: =CONCATENATE(B60,C60,D60) -> <docOpProcs_question5_answer>Yes</docOpProcs_question5_answer>
A61: docOpProcs_question5_score | B61: ="<"&A61&">" -> <docOpProcs_question5_score> | C61: ='Operator Performance'!F9 -> 2 | D61: ="</"&A61&">" -> </docOpProcs_question5_score> | F61: =CONCATENATE(B61,C61,D61) -> <docOpProcs_question5_score>2</docOpProcs_question5_score>
A62: docOpProcs_question7_answer | B62: ="<"&A62&">" -> <docOpProcs_question7_answer> | C62: ='Operator Performance'!E10 -> Yes | D62: ="</"&A62&">" -> </docOpProcs_question7_answer> | F62: =CONCATENATE(B62,C62,D62) -> <docOpProcs_question7_answer>Yes</docOpProcs_question7_answer>
A63: docOpProcs_question7_score | B63: ="<"&A63&">" -> <docOpProcs_question7_score> | C63: ='Operator Performance'!F10 -> 2 | D63: ="</"&A63&">" -> </docOpProcs_question7_score> | F63: =CONCATENATE(B63,C63,D63) -> <docOpProcs_question7_score>2</docOpProcs_question7_score>
A64: trainingAssessment_question1_answer | B64: ="<"&A64&">" -> <trainingAssessment_question1_answer> | C64: ='Operator Performance'!E14 -> Yes | D64: ="</"&A64&">" -> </trainingAssessment_question1_answer> | F64: =CONCATENATE(B64,C64,D64) -> <trainingAssessment_question1_answer>Yes</trainingAssessment_question1_answer>
A65: trainingAssessment_question1_score | B65: ="<"&A65&">" -> <trainingAssessment_question1_score> | C65: ='Operator Performance'!F14 -> 3 | D65: ="</"&A65&">" -> </trainingAssessment_question1_score> | F65: =CONCATENATE(B65,C65,D65) -> <trainingAssessment_question1_score>3</trainingAssessment_question1_score>
A66: trainingAssessment_question2a_answer | B66: ="<"&A66&">" -> <trainingAssessment_question2a_answer> | C66: ='Operator Performance'!E17 -> Yes | D66: ="</"&A66&">" -> </trainingAssessment_question2a_answer> | F66: =CONCATENATE(B66,C66,D66) -> <trainingAssessment_question2a_answer>Yes</trainingAssessment_question2a_answer>
A67: trainingAssessment_question2a_score | B67: ="<"&A67&">" -> <trainingAssessment_question2a_score> | C67: ='Operator Performance'!F17 -> 2 | D67: ="</"&A67&">" -> </trainingAssessment_question2a_score> | F67: =CONCATENATE(B67,C67,D67) -> <trainingAssessment_question2a_score>2</trainingAssessment_question2a_score>
A68: trainingAssessment_question2b_answer | B68: ="<"&A68&">" -> <trainingAssessment_question2b_answer> | C68: ='Operator Performance'!E18 -> Yes | D68: ="</"&A68&">" -> </trainingAssessment_question2b_answer> | F68: =CONCATENATE(B68,C68,D68) -> <trainingAssessment_question2b_answer>Yes</trainingAssessment_question2b_answer>
A69: trainingAssessment_question2b_score | B69: ="<"&A69&">" -> <trainingAssessment_question2b_score> | C69: ='Operator Performance'!F18 -> 2 | D69: ="</"&A69&">" -> </trainingAssessment_question2b_score> | F69: =CONCATENATE(B69,C69,D69) -> <trainingAssessment_question2b_score>2</trainingAssessment_question2b_score>
A70: trainingAssessment_question2c_answer | B70: ="<"&A70&">" -> <trainingAssessment_question2c_answer> | C70: ='Operator Performance'!E19 -> Yes | D70: ="</"&A70&">" -> </trainingAssessment_question2c_answer> | F70: =CONCATENATE(B70,C70,D70) -> <trainingAssessment_question2c_answer>Yes</trainingAssessment_question2c_answer>
A71: trainingAssessment_question2c_score | B71: ="<"&A71&">" -> <trainingAssessment_question2c_score> | C71: ='Operator Performance'!F19 -> 3 | D71: ="</"&A71&">" -> </trainingAssessment_question2c_score> | F71: =CONCATENATE(B71,C71,D71) -> <trainingAssessment_question2c_score>3</trainingAssessment_question2c_score>
A72: trainingAssessment_question2d_answer | B72: ="<"&A72&">" -> <trainingAssessment_question2d_answer> | C72: ='Operator Performance'!E20 -> Yes | D72: ="</"&A72&">" -> </trainingAssessment_question2d_answer> | F72: =CONCATENATE(B72,C72,D72) -> <trainingAssessment_question2d_answer>Yes</trainingAssessment_question2d_answer>
A73: trainingAssessment_question2d_score | B73: ="<"&A73&">" -> <trainingAssessment_question2d_score> | C73: ='Operator Performance'!F20 -> 2 | D73: ="</"&A73&">" -> </trainingAssessment_question2d_score> | F73: =CONCATENATE(B73,C73,D73) -> <trainingAssessment_question2d_score>2</trainingAssessment_question2d_score>
A74: trainingAssessment_question2eanswer | B74: ="<"&A74&">" -> <trainingAssessment_question2eanswer> | C74: ='Operator Performance'!E21 -> Yes | D74: ="</"&A74&">" -> </trainingAssessment_question2eanswer> | F74: =CONCATENATE(B74,C74,D74) -> <trainingAssessment_question2eanswer>Yes</trainingAssessment_question2eanswer>
A75: trainingAssessment_question2escore | B75: ="<"&A75&">" -> <trainingAssessment_question2escore> | C75: ='Operator Performance'!F21 -> 2 | D75: ="</"&A75&">" -> </trainingAssessment_question2escore> | F75: =CONCATENATE(B75,C75,D75) -> <trainingAssessment_question2escore>2</trainingAssessment_question2escore>
A76: trainingAssessment_question5_answer | B76: ="<"&A76&">" -> <trainingAssessment_question5_answer> | C76: ='Operator Performance'!E22 -> Yes | D76: ="</"&A76&">" -> </trainingAssessment_question5_answer> | F76: =CONCATENATE(B76,C76,D76) -> <trainingAssessment_question5_answer>Yes</trainingAssessment_question5_answer>
A77: trainingAssessment_question5_score | B77: ="<"&A77&">" -> <trainingAssessment_question5_score> | C77: ='Operator Performance'!F22 -> 3 | D77: ="</"&A77&">" -> </trainingAssessment_question5_score> | F77: =CONCATENATE(B77,C77,D77) -> <trainingAssessment_question5_score>3</trainingAssessment_question5_score>
A78: trainingAssessment_question7_answer | B78: ="<"&A78&">" -> <trainingAssessment_question7_answer> | C78: ='Operator Performance'!E23 -> Yes | D78: ="</"&A78&">" -> </trainingAssessment_question7_answer> | F78: =CONCATENATE(B78,C78,D78) -> <trainingAssessment_question7_answer>Yes</trainingAssessment_question7_answer>
A79: trainingAssessment_question7_score | B79: ="<"&A79&">" -> <trainingAssessment_question7_score> | C79: ='Operator Performance'!F23 -> 0 | D79: ="</"&A79&">" -> </trainingAssessment_question7_score> | F79: =CONCATENATE(B79,C79,D79) -> <trainingAssessment_question7_score>0</trainingAssessment_question7_score>
A80: accidentPlan_question1_answer | B80: ="<"&A80&">" -> <accidentPlan_question1_answer> | C80: ='Operator Performance'!E27 -> Yes | D80: ="</"&A80&">" -> </accidentPlan_question1_answer> | F80: =CONCATENATE(B80,C80,D80) -> <accidentPlan_question1_answer>Yes</accidentPlan_question1_answer>
A81: accidentPlan_question1_score | B81: ="<"&A81&">" -> <accidentPlan_question1_score> | C81: ='Operator Performance'!F27 -> 6 | D81: ="</"&A81&">" -> </accidentPlan_question1_score> | F81: =CONCATENATE(B81,C81,D81) -> <accidentPlan_question1_score>6</accidentPlan_question1_score>
A82: accidentPlan_question2_answer | B82: ="<"&A82&">" -> <accidentPlan_question2_answer> | C82: ='Operator Performance'!E28 -> Yes | D82: ="</"&A82&">" -> </accidentPlan_question2_answer> | F82: =CONCATENATE(B82,C82,D82) -> <accidentPlan_question2_answer>Yes</accidentPlan_question2_answer>
A83: accidentPlan_question2_score | B83: ="<"&A83&">" -> <accidentPlan_question2_score> | C83: ='Operator Performance'!F28 -> 2 | D83: ="</"&A83&">" -> </accidentPlan_question2_score> | F83: =CONCATENATE(B83,C83,D83) -> <accidentPlan_question2_score>2</accidentPlan_question2_score>
A84: accidentPlan_question3_answer | B84: ="<"&A84&">" -> <accidentPlan_question3_answer> | C84: ='Operator Performance'!E29 -> Yes | D84: ="</"&A84&">" -> </accidentPlan_question3_answer> | F84: =CONCATENATE(B84,C84,D84) -> <accidentPlan_question3_answer>Yes</accidentPlan_question3_answer>
A85: accidentPlan_question3_score | B85: ="<"&A85&">" -> <accidentPlan_question3_score> | C85: ='Operator Performance'!F29 -> 0 | D85: ="</"&A85&">" -> </accidentPlan_question3_score> | F85: =CONCATENATE(B85,C85,D85) -> <accidentPlan_question3_score>0</accidentPlan_question3_score>
A86: accidentPlan_question4_answer | B86: ="<"&A86&">" -> <accidentPlan_question4_answer> | C86: ='Operator Performance'!E30 -> Yes | D86: ="</"&A86&">" -> </accidentPlan_question4_answer> | F86: =CONCATENATE(B86,C86,D86) -> <accidentPlan_question4_answer>Yes</accidentPlan_question4_answer>
A87: accidentPlan_question4_score | B87: ="<"&A87&">" -> <accidentPlan_question4_score> | C87: ='Operator Performance'!F30 -> 4 | D87: ="</"&A87&">" -> </accidentPlan_question4_score> | F87: =CONCATENATE(B87,C87,D87) -> <accidentPlan_question4_score>4</accidentPlan_question4_score>
A88: accidentPlan_question5_answer | B88: ="<"&A88&">" -> <accidentPlan_question5_answer> | C88: ='Operator Performance'!E31 -> 0 | D88: ="</"&A88&">" -> </accidentPlan_question5_answer> | F88: =CONCATENATE(B88,C88,D88) -> <accidentPlan_question5_answer>0</accidentPlan_question5_answer>
A89: accidentPlan_question5_score | B89: ="<"&A89&">" -> <accidentPlan_question5_score> | C89: ='Operator Performance'!F31 -> 0 | D89: ="</"&A89&">" -> </accidentPlan_question5_score> | F89: =CONCATENATE(B89,C89,D89) -> <accidentPlan_question5_score>0</accidentPlan_question5_score>
A90: accidentPlan_question6_answer | B90: ="<"&A90&">" -> <accidentPlan_question6_answer> | C90: ='Operator Performance'!E32 -> 0 | D90: ="</"&A90&">" -> </accidentPlan_question6_answer> | F90: =CONCATENATE(B90,C90,D90) -> <accidentPlan_question6_answer>0</accidentPlan_question6_answer>
A91: accidentPlan_question6_score | B91: ="<"&A91&">" -> <accidentPlan_question6_score> | C91: ='Operator Performance'!F32 -> 0 | D91: ="</"&A91&">" -> </accidentPlan_question6_score> | F91: =CONCATENATE(B91,C91,D91) -> <accidentPlan_question6_score>0</accidentPlan_question6_score>
A92: accidentPlan_question8_answer | B92: ="<"&A92&">" -> <accidentPlan_question8_answer> | C92: ='Operator Performance'!E33 -> 0 | D92: ="</"&A92&">" -> </accidentPlan_question8_answer> | F92: =CONCATENATE(B92,C92,D92) -> <accidentPlan_question8_answer>0</accidentPlan_question8_answer>
A93: accidentPlan_question8_score | B93: ="<"&A93&">" -> <accidentPlan_question8_score> | C93: ='Operator Performance'!F33 -> 0 | D93: ="</"&A93&">" -> </accidentPlan_question8_score> | F93: =CONCATENATE(B93,C93,D93) -> <accidentPlan_question8_score>0</accidentPlan_question8_score>
A94: organisation_question1part1_answer | B94: ="<"&A94&">" -> <organisation_question1part1_answer> | C94: ='Operator Performance'!E38 -> 1 | D94: ="</"&A94&">" -> </organisation_question1part1_answer> | F94: =CONCATENATE(B94,C94,D94) -> <organisation_question1part1_answer>1</organisation_question1part1_answer>
A95: organisation_question1part1_score | B95: ="<"&A95&">" -> <organisation_question1part1_score> | C95: ='Operator Performance'!F38 -> 0 | D95: ="</"&A95&">" -> </organisation_question1part1_score> | F95: =CONCATENATE(B95,C95,D95) -> <organisation_question1part1_score>0</organisation_question1part1_score>
A96: organisation_question1part2_answer | B96: ="<"&A96&">" -> <organisation_question1part2_answer> | C96: ='Operator Performance'!#REF! -> #REF! | D96: ="</"&A96&">" -> </organisation_question1part2_answer> | F96: =CONCATENATE(B96,C96,D96) -> #REF!
A97: organisation_question1part2_score | B97: ="<"&A97&">" -> <organisation_question1part2_score> | C97: ='Operator Performance'!#REF! -> #REF! | D97: ="</"&A97&">" -> </organisation_question1part2_score> | F97: =CONCATENATE(B97,C97,D97) -> #REF!
A98: organisation_question1part3_answer | B98: ="<"&A98&">" -> <organisation_question1part3_answer> | C98: ='Operator Performance'!#REF! -> #REF! | D98: ="</"&A98&">" -> </organisation_question1part3_answer> | F98: =CONCATENATE(B98,C98,D98) -> #REF!
A99: organisation_question1part3_score | B99: ="<"&A99&">" -> <organisation_question1part3_score> | C99: ='Operator Performance'!#REF! -> #REF! | D99: ="</"&A99&">" -> </organisation_question1part3_score> | F99: =CONCATENATE(B99,C99,D99) -> #REF!
A100: organisation_question1part4_answer | B100: ="<"&A100&">" -> <organisation_question1part4_answer> | C100: ='Operator Performance'!#REF! -> #REF! | D100: ="</"&A100&">" -> </organisation_question1part4_answer> | F100: =CONCATENATE(B100,C100,D100) -> #REF!
...

Sheet ProfileHeader
A1: Profile Header
A2: ProfileID | B2: MajVersionNo | C2: CompletionDate | D2: WML | E2: Complexity1 | F2: Complexity2 | G2: LocationScore | H2: EmissionIndex | I2: OPScore | J2: CompBand1 | K2: CompBand2 | L2: LocationBand | M2: EmissionsBand | N2: OPPerfBand | O2: CompRating | P2: EPOPRAScore | Q2: Status
A3: =('Summary and Calculation'!E9*100000)+('Summary and Calculation'!E9 *RAND()) -> 4.3370113e+09 | B3: 3 | C3: =TODAY() -> 43370 | D3: ='Summary and Calculation'!E9 -> 43370 | E3: =OFFSET(References!B2,Complexity_Emissions_Location!D5,0) -> A22 | F3: =OFFSET(References!B2,Complexity_Emissions_Location!D7,0) -> … | G3: =Complexity_Emissions_Location!K22 -> 12 | H3: =Complexity_Emissions_Location!M10 -> 316 | I3: ='Operator Performance'!H60 -> 8.6 | J3: ='Summary and Calculation'!F13 -> C | K3: ='Summary and Calculation'!G13 -> 0 | L3: ='Summary and Calculation'!F15 -> C | M3: ='Summary and Calculation'!F14 -> C | N3: ='Summary and Calculation'!F16 -> A | P3: ='Summary and Calculation'!H17 -> 55

Sheet ProfileDetail
A1: ID | B1: ProfileID | C1: QID | D1: AnsID | E1: AnsText | F1: AnsScore
A2: =FIXED(10000000000*RAND(),0,TRUE) -> 759418457 | B2: =ProfileHeader!$A$3 -> 4.3370113e+09 | C2: 2 | D2: =OFFSET(References!F$53,Complexity_Emissions_Location!E16-1,0) -> 1 | E2: =OFFSET(References!D$53,Complexity_Emissions_Location!E16-1,0) -> <50m | F2: =OFFSET(References!E$53,Complexity_Emissions_Location!E16-1,0) -> 5
A3: =FIXED(10000000000*RAND(),0,TRUE) -> 8345037163 | B3: =ProfileHeader!$A$3 -> 4.3370113e+09 | C3: 3 | D3: =OFFSET(References!F$57,Complexity_Emissions_Location!E18-1,0) -> 6 | E3: =OFFSET(References!D$57,Complexity_Emissions_Location!E18-1,0) -> CRoW | F3: =OFFSET(References!E$57,Complexity_Emissions_Location!E18-1,0) -> 2
A4: =FIXED(10000000000*RAND(),0,TRUE) -> 526499771 | B4: =ProfileHeader!$A$3 -> 4.3370113e+09 | C4: 4 | D4: =OFFSET(References!F$60,Complexity_Emissions_Location!E20-1,0) -> 9 | E4: =OFFSET(References!D$60,Complexity_Emissions_Location!E20-1,0) -> Yes - Outside GPZ | F4: =OFFSET(References!E$60,Complexity_Emissions_Location!E20-1,0) -> 1
A5: =FIXED(10000000000*RAND(),0,TRUE) -> 5520774307 | B5: =ProfileHeader!$A$3 -> 4.3370113e+09 | C5: 5 | D5: =OFFSET(References!F$63,Complexity_Emissions_Location!E22-1,0) -> 13 | E5: =OFFSET(References!D$63,Complexity_Emissions_Location!E22-1,0) -> Grade 1 or 2 | F5: =OFFSET(References!E$63,Complexity_Emissions_Location!E22-1,0) -> 3
A6: =FIXED(10000000000*RAND(),0,TRUE) -> 8821495478 | B6: =ProfileHeader!$A$3 -> 4.3370113e+09 | C6: 6 | D6: =OFFSET(References!F$67,Complexity_Emissions_Location!K16-1,0) -> 15 | E6: =OFFSET(References!D$67,Complexity_Emissions_Location!K16-1,0) -> Yes - With interceptors | F6: =OFFSET(References!E$67,Complexity_Emissions_Location!K16-1,0) -> 1
A7: =FIXED(10000000000*RAND(),0,TRUE) -> 4179158076 | B7: =ProfileHeader!$A$3 -> 4.3370113e+09 | C7: 7 | D7: =OFFSET(References!F$70,Complexity_Emissions_Location!K18-1,0) -> 21 | E7: =OFFSET(References!D$70,Complexity_Emissions_Location!K18-1,0) -> No | F7: =OFFSET(References!E$70,Complexity_Emissions_Location!K18-1,0) -> 0
A8: =FIXED(10000000000*RAND(),0,TRUE) -> 3424557269 | B8: =ProfileHeader!$A$3 -> 4.3370113e+09 | C8: 8 | D8: =OFFSET(References!F$74,Complexity_Emissions_Location!K20-1,0) -> 23 | E8: =OFFSET(References!D$74,Complexity_Emissions_Location!K20-1,0) -> No | F8: =OFFSET(References!E$74,Complexity_Emissions_Location!K20-1,0) -> 0
A9: =FIXED(10000000000*RAND(),0,TRUE) -> 9887287029 | B9: =ProfileHeader!$A$3 -> 4.3370113e+09 | C9: 60 | D9: =OFFSET(References!$O$54,'Operator Performance'!G5-1,0) -> 24 | E9: ='Operator Performance'!E5 -> Yes | F9: ='Operator Performance'!F5 -> 4
A10: =FIXED(10000000000*RAND(),0,TRUE) -> 6214043104 | B10: =ProfileHeader!$A$3 -> 4.3370113e+09 | C10: 61 | D10: =OFFSET(References!$O$54,'Operator Performance'!G6-1,0) -> 26 | E10: ='Operator Performance'!E6 -> Yes | F10: ='Operator Performance'!F6 -> 2
A11: =FIXED(10000000000*RAND(),0,TRUE) -> 3066569963 | B11: =ProfileHeader!$A$3 -> 4.3370113e+09 | C11: 62 | D11: =OFFSET(References!$O$54,'Operator Performance'!G7-1,0) -> 28 | E11: ='Operator Performance'!E7 -> 0 | F11: ='Operator Performance'!F7 -> 0
A12: =FIXED(10000000000*RAND(),0,TRUE) -> 9352139417 | B12: =ProfileHeader!$A$3 -> 4.3370113e+09 | C12: 63 | D12: =OFFSET(References!$O$54,'Operator Performance'!G8-1,0) -> 30 | E12: ='Operator Performance'!E8 -> Yes | F12: ='Operator Performance'!F8 -> 2
A13: =FIXED(10000000000*RAND(),0,TRUE) -> 3556340039 | B13: =ProfileHeader!$A$3 -> 4.3370113e+09 | C13: 64 | D13: =OFFSET(References!$O$54,'Operator Performance'!G9-1,0) -> 32 | E13: ='Operator Performance'!E9 -> Yes | F13: ='Operator Performance'!F9 -> 2
A14: =FIXED(10000000000*RAND(),0,TRUE) -> 8705927296 | B14: =ProfileHeader!$A$3 -> 4.3370113e+09 | C14: 66 | D14: =OFFSET(References!$O$54,'Operator Performance'!G10-1,0) -> 36 | E14: ='Operator Performance'!E10 -> Yes | F14: ='Operator Performance'!F10 -> 2
A15: =FIXED(10000000000*RAND(),0,TRUE) -> 1653181349 | B15: =ProfileHeader!$A$3 -> 4.3370113e+09 | C15: 69 | D15: =OFFSET(References!$O$54,'Operator Performance'!G14-1,0) -> 42 | E15: ='Operator Performance'!E14 -> Yes | F15: ='Operator Performance'!F14 -> 3
A16: =FIXED(10000000000*RAND(),0,TRUE) -> 4852464861 | B16: =ProfileHeader!$A$3 -> 4.3370113e+09 | C16: 70 | D16: =OFFSET(References!$O$54,'Operator Performance'!G17-1,0) -> 44 | E16: ='Operator Performance'!E17 -> Yes | F16: ='Operator Performance'!F17 -> 2
A17: =FIXED(10000000000*RAND(),0,TRUE) -> 8384534213 | B17: =ProfileHeader!$A$3 -> 4.3370113e+09 | C17: 71 | D17: =OFFSET(References!$O$54,'Operator Performance'!G18-1,0) -> 46 | E17: ='Operator Performance'!E18 -> Yes | F17: ='Operator Performance'!F18 -> 2
A18: =FIXED(10000000000*RAND(),0,TRUE) -> 7783357852 | B18: =ProfileHeader!$A$3 -> 4.3370113e+09 | C18: 72 | D18: =OFFSET(References!$O$54,'Operator Performance'!G19-1,0) -> 48 | E18: ='Operator Performance'!E19 -> Yes | F18: ='Operator Performance'!F19 -> 3
A19: =FIXED(10000000000*RAND(),0,TRUE) -> 3248353135 | B19: =ProfileHeader!$A$3 -> 4.3370113e+09 | C19: 73 | D19: =OFFSET(References!$O$54,'Operator Performance'!G20-1,0) -> 50 | E19: ='Operator Performance'!E20 -> Yes | F19: ='Operator Performance'!F20 -> 2
A20: =FIXED(10000000000*RAND(),0,TRUE) -> 4604523661 | B20: =ProfileHeader!$A$3 -> 4.3370113e+09 | C20: 74 | D20: =OFFSET(References!$O$54,'Operator Performance'!G21-1,0) -> 52 | E20: ='Operator Performance'!E21 -> Yes | F20: ='Operator Performance'!F21 -> 2
A21: =FIXED(10000000000*RAND(),0,TRUE) -> 7988909668 | B21: =ProfileHeader!$A$3 -> 4.3370113e+09 | C21: 77 | D21: =OFFSET(References!$O$54,'Operator Performance'!G22-1,0) -> 65 | E21: ='Operator Performance'!E22 -> Yes | F21: ='Operator Performance'!F22 -> 3
A22: =FIXED(10000000000*RAND(),0,TRUE) -> 7141265952 | B22: =ProfileHeader!$A$3 -> 4.3370113e+09 | C22: 79 | D22: =OFFSET(References!$O$54,'Operator Performance'!G23-1,0) -> 69 | E22: ='Operator Performance'!E23 -> Yes | F22: ='Operator Performance'!F23 -> 0
A23: =FIXED(10000000000*RAND(),0,TRUE) -> 6617222041 | B23: =ProfileHeader!$A$3 -> 4.3370113e+09 | C23: 80 | D23: =OFFSET(References!$O$54,'Operator Performance'!G27-1,0) -> 73 | E23: ='Operator Performance'!E27 -> Yes | F23: ='Operator Performance'!F27 -> 6
A24: =FIXED(10000000000*RAND(),0,TRUE) -> 9115549399 | B24: =ProfileHeader!$A$3 -> 4.3370113e+09 | C24: 81 | D24: =OFFSET(References!$O$54,'Operator Performance'!G28-1,0) -> 75 | E24: ='Operator Performance'!E28 -> Yes | F24: ='Operator Performance'!F28 -> 2
A25: =FIXED(10000000000*RAND(),0,TRUE) -> 7513068196 | B25: =ProfileHeader!$A$3 -> 4.3370113e+09 | C25: 82 | D25: =OFFSET(References!$O$54,'Operator Performance'!G29-1,0) -> 77 | E25: ='Operator Performance'!E29 -> Yes | F25: ='Operator Performance'!F29 -> 0
A26: =FIXED(10000000000*RAND(),0,TRUE) -> 7855490627 | B26: =ProfileHeader!$A$3 -> 4.3370113e+09 | C26: 83 | D26: =OFFSET(References!$O$54,'Operator Performance'!G30-1,0) -> 79 | E26: ='Operator Performance'!E30 -> Yes | F26: ='Operator Performance'!F30 -> 4
A27: =FIXED(10000000000*RAND(),0,TRUE) -> 8748759523 | B27: =ProfileHeader!$A$3 -> 4.3370113e+09 | C27: 84 | D27: =OFFSET(References!$O$54,'Operator Performance'!G31-1,0) -> 81 | E27: ='Operator Performance'!E31 -> 0 | F27: ='Operator Performance'!F31 -> 0
A28: =FIXED(10000000000*RAND(),0,TRUE) -> 7113706856 | B28: =ProfileHeader!$A$3 -> 4.3370113e+09 | C28: 85 | D28: =OFFSET(References!$O$54,'Operator Performance'!G32-1,0) -> 83 | E28: ='Operator Performance'!E32 -> 0 | F28: ='Operator Performance'!F32 -> 0
A29: =FIXED(10000000000*RAND(),0,TRUE) -> 434060139 | B29: =ProfileHeader!$A$3 -> 4.3370113e+09 | C29: 86 | D29: =OFFSET(References!$O$54,'Operator Performance'!G33-1,0) -> 87 | E29: ='Operator Performance'!E33 -> 0 | F29: ='Operator Performance'!F33 -> 0
A30: =FIXED(10000000000*RAND(),0,TRUE) -> 3966928092 | B30: =ProfileHeader!$A$3 -> 4.3370113e+09 | C30: 88 | D30: =OFFSET(References!$O$54,'Operator Performance'!G38-1,0) -> 89 | E30: ='Operator Performance'!E38 -> 1 | F30: ='Operator Performance'!F38 -> 0
A31: =FIXED(10000000000*RAND(),0,TRUE) -> 1857291461 | B31: =ProfileHeader!$A$3 -> 4.3370113e+09 | C31: 89 | D31: =OFFSET(References!$O$54,'Operator Performance'!#REF!-1,0) -> #REF! | E31: ='Operator Performance'!#REF! -> #REF! | F31: ='Operator Performance'!#REF! -> #REF!
A32: =FIXED(10000000000*RAND(),0,TRUE) -> 5223295787 | B32: =ProfileHeader!$A$3 -> 4.3370113e+09 | C32: 90 | D32: =OFFSET(References!$O$54,'Operator Performance'!#REF!-1,0) -> #REF! | E32: ='Operator Performance'!#REF! -> #REF! | F32: ='Operator Performance'!#REF! -> #REF!
A33: =FIXED(10000000000*RAND(),0,TRUE) -> 6890432284 | B33: =ProfileHeader!$A$3 -> 4.3370113e+09 | C33: 91 | D33: =OFFSET(References!$O$54,'Operator Performance'!#REF!-1,0) -> #REF! | E33: ='Operator Performance'!#REF! -> #REF! | F33: ='Operator Performance'!#REF! -> #REF!
A34: =FIXED(10000000000*RAND(),0,TRUE) -> 5403488107 | B34: =ProfileHeader!$A$3 -> 4.3370113e+09 | C34: 92 | D34: =OFFSET(References!$O$54,'Operator Performance'!G42-1,0) -> 93 | E34: ='Operator Performance'!E42 -> Yes | F34: ='Operator Performance'!F42 -> 3
A35: =FIXED(10000000000*RAND(),0,TRUE) -> 7640992743 | B35: =ProfileHeader!$A$3 -> 4.3370113e+09 | C35: 97 | D35: =OFFSET(References!$O$54,'Operator Performance'!G43-1,0) -> 95 | E35: ='Operator Performance'!E43 -> Yes | F35: ='Operator Performance'!F43 -> 3
A36: =FIXED(10000000000*RAND(),0,TRUE) -> 6311468732 | B36: =ProfileHeader!$A$3 -> 4.3370113e+09 | C36: 99 | D36: =OFFSET(References!$O$54,'Operator Performance'!G44-1,0) -> 97 | E36: ='Operator Performance'!E44 -> Yes | F36: ='Operator Performance'!F44 -> 3
A37: =FIXED(10000000000*RAND(),0,TRUE) -> 6380074236 | B37: =ProfileHeader!$A$3 -> 4.3370113e+09 | C37: 100 | D37: =OFFSET(References!$O$54,'Operator Performance'!G45-1,0) -> 107 | E37: ='Operator Performance'!E45 -> Yes | F37: ='Operator Performance'!F45 -> 2
A38: =FIXED(10000000000*RAND(),0,TRUE) -> 725053440 | B38: =ProfileHeader!$A$3 -> 4.3370113e+09 | C38: 101 | D38: =OFFSET(References!$O$54,'Operator Performance'!G46-1,0) -> 111 | E38: ='Operator Performance'!E46 -> Yes | F38: ='Operator Performance'!F46 -> 1
A39: =FIXED(10000000000*RAND(),0,TRUE) -> 8173992188 | B39: =ProfileHeader!$A$3 -> 4.3370113e+09 | C39: 102 | D39: =OFFSET(References!$O$54,'Operator Performance'!G47-1,0) -> 113 | E39: ='Operator Performance'!E47 -> Yes | F39: ='Operator Performance'!F47 -> 1
A40: =FIXED(10000000000*RAND(),0,TRUE) -> 774898696 | B40: =ProfileHeader!$A$3 -> 4.3370113e+09 | C40: 103 | D40: =OFFSET(References!$O$54,'Operator Performance'!G48-1,0) -> 115 | E40: ='Operator Performance'!E48 -> 0 | F40: ='Operator Performance'!F48 -> 0
