Workbook
Name App_factor: References!$F$4
Name Complexity_Attribute: Complexity_Emissions_Location!$C$3
Name Emissions_Attribute: Complexity_Emissions_Location!$I$3
Name EMS_Score_Card: References!$K$53:$M$85
Name Location_Attribute: Complexity_Emissions_Location!$B$14
Name Subs_factor: References!$F$5

Sheet Summary and Calculation
K1: =NOW() -> 43370.693
A2: A
A3: B | B3: Opra Spreadsheet | I3: Version: | J3: NRW v1 | K3: Release Date: | L3: 42095
A4: C | B4: for Waste Facilities
A5: D
A6: E
A7: F | C7: Permit No: | E7: EPR/AB3092FR | G7: Site Name: | I7: Llantrisant Recycling Centre
C9: Date: | E9: 43370 | G9: Operator: | I9: Llantrisant Recycling Centre Ltd
J11: =IF(H18=0,"Complete your profile to display charges","")
C12: Attribute | F12: Bands | H12: Points | J12: Fees and Charges
C13: Complexity(s): | F13: =IF(ISNONTEXT(Complexity_Emissions_Location!F5),"",Complexity_Emissions_Location!F5) -> C | G13: =Complexity_Emissions_Location!F7 -> 0 | H13: =(IF(Complexity_Emissions_Location!F5=0,0,HLOOKUP(F13,References!$H$8:$O$13,2,FALSE)))+(IF(Complexity_Emissions_Location!F7=0,0,HLOOKUP(G13,References!$H$8:$O$13,2,FALSE))) -> 35 | J13: Application Fee | L13: =H17*App_factor -> 9405
C14: Emissions: | F14: =Complexity_Emissions_Location!O10 -> C | H14: =IF(F14="","",HLOOKUP(F14,References!$H$8:$O$13,3,FALSE)) -> 15 | J14: Normal Variation | L14: =H17*References!H4 -> 7645
C15: Location: | F15: =Complexity_Emissions_Location!O22 -> C | H15: =IF(F15="","",HLOOKUP(F15,References!$H$8:$O$13,4,FALSE)) -> 3 | J15: Full Surrender | L15: =H17*References!J4 -> 6875
C16: Operator Performance: | F16: ='Operator Performance'!H62 -> A | H16: =IF(F16="","",HLOOKUP(F16,References!$H$8:$O$13,5,FALSE)) -> 2 | J16: Part Surrender | L16: =H17*References!L4 -> 6875
C17: =IF(H18=0,"Incomplete","") | F17: Total: | H17: =SUM(H13:H16) -> 55 | J17: Subsistence | L17: See Charge Tables
H18: =IF(LEN(F13&F14&F15&F16)<4,0,H17) -> 55
C20: Compliance Rating | F20: A | J20: Subsistence Multiplier | L20: =IF(F20="",1,OFFSET(References!H13,,CODE(F20)-65)) -> 0.95
C22: Reference Sheet

Sheet Complexity_Emissions_Location
C3: Complexity Attribute | I3: Emissions Attribute (Waste Input)
C5: Site Type: | D5: 35 | E5: Complexity Band: | F5: =OFFSET(References!C3,D5-1,0) -> C | J5: Waste Type | K5: Annual Tonnage | L5: Emission Threshold | M5: Emission Index
J6: Inert | K6: 50000 | L6: 1000 | M6: =INT(K6/L6) -> 50
C7: 2nd Site Type: | D7: 1 | E7: 2nd Band: | F7: =OFFSET(References!C3,D7-1,0) -> 0 | J7: Non Hazardous (Non Bio) | K7: 50000 | L7: 750 | M7: =INT(K7/L7) -> 66
C8: Complexity Bands are based on a lookup table (see References tab) | J8: Non Hazardous (Bio) | K8: 100000 | L8: 500 | M8: =INT(K8/L8) -> 200
C9: More than one Complexity (Site Type) is required only in circumstances where the permit in question covers a landfill activity and a treating/keeping activity. In all other circumstances only one site type should be entered. Where more than one site type applies, the one carrying the highest relevant complexity band is used. | J9: Hazardous | L9: 250 | M9: =INT(K9/L9) -> 0
L10: Total: | M10: =SUM(M6:M9) -> 316 | N10: Band: | O10: =IF(D5=37,"B",IF(D5=41,"A",IF(K6 & K7 & K8 & K9="","",IF(M10<10,"A",IF(M10<100,"B",IF(M10<1000,"C",IF(M10<10000,"D","E"))))))) -> C
I12: Emission Bands are based on total index: <10=A, <100=B, <1000=C, <10000=D, >=10000=E
B14: Location Attribute
C15: Question | E15: Answer | F15: Points | I15: Question | K15: Answer | O15: Points
C16: Proximity to Human Occupation: | E16: 1 | F16: =OFFSET(References!E53,E16-1,0) -> 5 | I16: Direct run-offs: | K16: 1 | O16: =OFFSET(References!E67,K16-1,0) -> 1
C18: Assessment under wildlife, countryside or habitats legislation: | E18: 2 | F18: =OFFSET(References!E57,E18-1,0) -> 2 | I18: Air Quality Management Zone: | K18: 4 | O18: =OFFSET(References!E70,K18-1,0) -> 0
C20: Groundwater/Aquifers: | E20: 2 | F20: =OFFSET(References!E60,E20-1,0) -> 1 | I20: Flood Plain: | K20: 2 | O20: =OFFSET(References!E74,K20-1,0) -> 0
C22: Sensitivity of surface water: | E22: 3 | F22: =OFFSET(References!E63,E22-1,0) -> 3 | J22: Total Points: | K22: =SUM(F16:F22,O16:O20) -> 12 | N22: Band: | O22: =IF(Q23=0,"",IF(D5=37,"A",IF(K22<=4,"A",IF(K22<=8,"B",IF(K22<=12,"C",IF(K22<=18,"D","E")))))) -> C
I23: Location Bands are based on total points: 0-4=A, 5-8=B, 9-12=C, 13-18=D, >18=E | Q23: =VALUE('Summary and Calculation'!H13&'Summary and Calculation'!H14&'Summary and Calculation'!H16) -> 35152

Sheet Operator Performance
A2: =(IF(Complexity_Emissions_Location!F5=0,0,HLOOKUP(Complexity_Emissions_Location!F5,References!$H$8:$O$13,2,FALSE))) -> 35 | D2: Complexity Band (Activity) Risk Level: | E2: =IF(A2>=50,"HIGH",IF(A2>=10,"MEDIUM","LOW")) -> MEDIUM
A4: Yes | C4: Operations & Maintenance
A5: No | C5: 1 | D5: Do you have documented operating procedures for operations that may have an adverse impact on the environment? | E5: Yes | F5: =IF(E5="yes",HLOOKUP($E$2,EMS_Score_Card,G5+1,FALSE),0) -> 4 | G5: 1
A6: NA | C6: 2 | D6: Is there a defined procedure for identifying, reviewing and prioritising items of plant for which a preventative maintenance regime is appropriate? | E6: Yes | F6: =IF(E6="yes",HLOOKUP($E$2,EMS_Score_Card,G6+1,FALSE),0) -> 2 | G6: 2
C7: 3 | D7: Are there documented procedures for monitoring emissions or impacts? | F7: =IF(E7="yes",HLOOKUP($E$2,EMS_Score_Card,G7+1,FALSE),0) -> 0 | G7: 3
C8: 4 | D8: Do you have a preventative maintenance programme for items of plant whose failure could lead to impact on the environment? | E8: Yes | F8: =IF(E8="yes",HLOOKUP($E$2,EMS_Score_Card,G8+1,FALSE),0) -> 2 | G8: 4 | H8: Max = 12
C9: 5 | D9: Does the preventative maintenance programme include regular checks and formal inspections of infrastructure items such as tanks, pipework, retaining walls, bunds and ducts? | E9: Yes | F9: =IF(E9="yes",HLOOKUP($E$2,EMS_Score_Card,G9+1,FALSE),0) -> 2 | G9: 5 | H9: Weight = 20%
C10: 6 | D10: Are the reports, results and recommendations arising from your own audits made available to senior management on a regular basis? | E10: Yes | F10: =IF(E10="yes",HLOOKUP($E$2,EMS_Score_Card,G10+1,FALSE),0) -> 2 | G10: 6 | H10: Weighted Score
D11: Operations and Maintenance Total | F11: =SUM(F5:F10) -> 12 | H11: =(F11/12)*2 -> 2
C13: Competence and Training - 20%
C14: 1 | D14: Has a training needs assessment been carried out which: | E14: Yes | F14: =IF(E14="yes",HLOOKUP($E$2,EMS_Score_Card,G14+1,FALSE),0) -> 3 | G14: 7
D15:  Identifies all posts for which specific environmental awareness training is required; and  Identifies the scope and level to which such training is to be given?
C16: 2 | D16: Are training systems in place for all relevant staff that cover the following factors:
D17:  the regulatory requirements associated with the Permit as they affect their roles and responsibilities; | E17: Yes | F17: =IF(E17="yes",HLOOKUP($E$2,EMS_Score_Card,G17+1,FALSE),0) -> 2 | G17: 8
D18:  likely potential environmental impacts which may be caused by plant under their control. This should cover both normal and abnormal circumstances; | E18: Yes | F18: =IF(E18="yes",HLOOKUP($E$2,EMS_Score_Card,G18+1,FALSE),0) -> 2 | G18: 9
D19:  reporting procedures to inform supervisors or managers of deviations from permit conditions; | E19: Yes | F19: =IF(E19="yes",HLOOKUP($E$2,EMS_Score_Card,G19+1,FALSE),0) -> 3 | G19: 10
D20:  procedures to be used by supervisors or managers for the reporting of deviations from permit conditions to the regulator | E20: Yes | F20: =IF(E20="yes",HLOOKUP($E$2,EMS_Score_Card,G20+1,FALSE),0) -> 2 | G20: 11
D21:  prevention of accidental emissions and action to be taken when accidental emissions occur? | E21: Yes | F21: =IF(E21="yes",HLOOKUP($E$2,EMS_Score_Card,G21+1,FALSE),0) -> 2 | G21: 12 | H21: Max = 17
C22: 3 | D22: Do you assess the potential environmental risks posed by the work of contractors and provide instructions to contractors about protecting the environment while working on site? | E22: Yes | F22: =IF(E22="yes",HLOOKUP($E$2,EMS_Score_Card,G22+1,FALSE),0) -> 3 | G22: 13 | H22: Weight = 20%
C23: 4 | D23: If there are industry standards for training in this sector (e.g. WAMITAB) do you apply them? (If no industry standards please leave blank) | E23: Yes | F23: =IF(E23="no",HLOOKUP($E$2,EMS_Score_Card,G23+1,FALSE),0) -> 0 | G23: 14 | H23: Weighted Score
D24: Competence Training Total | F24: =SUM(F14:F23) -> 17 | H24: =(F24/17)*2 -> 2
C26: Emergency planning - 20%
C27: 1 | D27: Is there an accident plan that complies with guidance covering the following aspects of foreseeable scenarios: likelihood, consequences,actions to prevent, action to take in the event it occurs? | E27: Yes | F27: =IF(E27="yes",HLOOKUP($E$2,EMS_Score_Card,G27+1,FALSE),0) -> 6 | G27: 15
C28: 2 | D28: Has the plan identified areas where improvement is needed? | E28: Yes | F28: =IF(E28="yes",HLOOKUP($E$2,EMS_Score_Card,G28+1,FALSE),0) -> 2 | G28: 16
C29: 3 | D29: Where improvement has been identified, does the plan include an implementation programme with acceptable timescales to the regulator? If not, points will be deducted. | E29: Yes | F29: =IF(E29="no",HLOOKUP($E$2,EMS_Score_Card,G29+1,FALSE),0) -> 0 | G29: 17
C30: 4 | D30: Do you have written procedures for handling, investigating, communicating and reporting actual or potential non compliance with operating procedures or emission limits? | E30: Yes | F30: =IF(E30="yes",HLOOKUP($E$2,EMS_Score_Card,G30+1,FALSE),0) -> 4 | G30: 18
C31: 5 | D31: Do you have written procedures for handling, investigating, communicating and reporting environmental complaints? | F31: =IF(E31="yes",HLOOKUP($E$2,EMS_Score_Card,G31+1,FALSE),0) -> 0 | G31: 19 | H31: Max = 12
C32: 6 | D32: Do you have written procedures for investigating incidents, (and near-misses) including identifying suitable corrective action and following up implementation of that action? | F32: =IF(E32="yes",HLOOKUP($E$2,EMS_Score_Card,G32+1,FALSE),0) -> 0 | G32: 20 | H32: Weight = 20%
C33: 7 | D33: Do you keep records of investigations into non compliance, complaints and incidents? Do they cover follow up actions? Do audit reports go to senior managers? | F33: =IF(E33="yes",HLOOKUP($E$2,EMS_Score_Card,G33+1,FALSE),0) -> 0 | G33: 21 | H33: Weighted Score
D34: Emergency planning Total | F34: =SUM(F27:F33) -> 12 | H34: =(F34/12)*2 -> 2
C36: Organisation - 40%
D37: Internal/External Environment Management Systems: Answer either Question 1 or Question 2 NB: If your externally audited system is ISO9001 but you also have an internal environmental management system, you may be able to obtain a better score by providing answers to question 2
C38: 1 | D38: Do you have a certified Environmental Management System, subject to external audit, which covers the activities allowed by this permit? If so which one? | E38: 1 | F38: =OFFSET(References!G16,E38,0) -> 0 | G38: 22
D39: Sub Total | F39: =MAX(F38:F38) -> 0
C40: 2 | D40: If you do not operate an externally audited environmental management system but have an internal one, assess your system against the criteria below:
C41: 2.1 | D41: Has your company adopted an environmental policy and programme which :
D42:  includes a commitment to continual improvement and prevention of pollution? | E42: Yes | F42: =IF(E42="yes",HLOOKUP($E$2,EMS_Score_Card,G42+1,FALSE),0) -> 3 | G42: 26
D43:  includes a commitment to comply with relevant legislation, and with other requirements that the organisation subscribes to? | E43: Yes | F43: =IF(E43="yes",HLOOKUP($E$2,EMS_Score_Card,G43+1,FALSE),0) -> 3 | G43: 27
D44:  identifies, sets, monitors and reviews environmental objectives, independently of the permit? | E44: Yes | F44: =IF(E44="yes",HLOOKUP($E$2,EMS_Score_Card,G44+1,FALSE),0) -> 3 | G44: 28
C45: 2.2 | D45: Do you have an environmental policy and programme which is subject to audit by your company? | E45: Yes | F45: =IF(E45="yes",HLOOKUP($E$2,EMS_Score_Card,G45+1,FALSE),0) -> 2 | G45: 29
...

Sheet References
B2: Complexity Bands | E2: 2015/16
B3: … | E3: Charge Multipliers
B4: A01 | C4: EEE | E4: App | F4: 171 | G4: Nor Var | H4: 139 | I4: Full Surr | J4: 125 | K4: Part Surr | L4: 125
B5: A01-Closed | C5: B | E5: Subs | F5: NA
B6: A02 | C6: EE
B7: A02-Closed | C7: B | E7: Converting Bands to Opra Score
B8: A03 | C8: E | E8: Band | H8: A | I8: B | J8: C | K8: D | L8: E | M8: DD | N8: EE | O8: EEE
B9: A03-Closed | C9: B | E9: Complexity | H9: 4 | I9: 10 | J9: 35 | K9: 50 | L9: 65 | M9: 100 | N9: 130 | O9: 195
B10: A04 | C10: DD | E10: Emissions | H10: 3 | I10: 7 | J10: 15 | K10: 30 | L10: 40
B11: A04-Closed | C11: B | E11: Location | H11: 1 | I11: 2 | J11: 3 | K11: 5 | L11: 7
B12: A04-Dredgings | C12: B | E12: Op Perf | H12: 2 | I12: 4 | J12: 7 | K12: 10 | L12: 14
B13: A05 | C13: C | E13: Compliance Rating | H13: 0.95 | I13: 1 | J13: 1.1 | K13: 1.25 | L13: 1.5 | M13: 3
B14: A05-Closed | C14: A | F14: Band | H14: A | I14: B | J14: C | K14: D | L14: E | M14: F
B15: A06 | C15: C
B16: A06-Closed | C16: A | E16: EMS | G16: Points
B17: A07 | C17: C | E17: No | G17: 0
B18: A07-Closed | C18: A | E18: EMAS | G18: 20
B19: A08 | C19: C | E19: ISO14001 | G19: 15
B20: A08-Closed | C20: A | E20: Other Accredited | G20: 12
B21: A09 | C21: D | E21: ISO 9001 | G21: 8
B22: A10 | C22: B
B23: A11 | C23: C
B24: A12 | C24: D
B25: A13 (non-haz) | C25: B
B26: A13 (haz) | C26: C
B27: A14 | C27: B
B28: A15 | C28: A
B29: A16 (non-haz) | C29: A
B30: A16a (haz) | C30: D
B31: A17 | C31: E
B32: A18 | C32: D
B33: A19 | C33: C
... B45: L05-Closed | C45: A
B51: Location Attribute
B52: Qu No | C52: QID | D52: Answer | E52: Score | F52: AnsID
B53: 1 | C53: 2 | D53: <50m | E53: 5 | F53: 1 | H53: Yes | K53: High | L53: Medium | M53: Low | O53: RiskAnswerID
B54: 1 | C54: 2 | D54: 50m-250m | E54: 3 | F54: 2 | H54: No | I54: Ops & Maintenance | J54: 1 | K54: 2 | L54: 4 | M54: 4 | O54: 24
B55: 1 | C55: 2 | D55: 250m -1km | E55: 1 | F55: 3 | H55: NA | J55: 2 | K55: 2 | L55: 2 | M55: 2 | O55: 26
B56: 1 | C56: 2 | D56: >1km | E56: 0 | F56: 4 | J56: 3 | K56: 2 | L56: 0 | M56: 0 | O56: 28
B57: 2 | C57: 3 | D57: Habitats | E57: 3 | F57: 5 | J57: 4 | K57: 2 | L57: 2 | M57: 2 | O57: 30
...

Sheet XML Data
F1: <?xml version="1.0" encoding="utf-8"?>
F2: <CorticonRequest xmlns="urn:Corticon" xmlns:xsi="http://www.w3.org/2001/XMLSchema-instance" decisionServiceName="InsertServiceNameHere">
F3: <WorkDocuments>
F4: <EPOPRA id="EPOPRA_id_1">
F5: <summary>
A6: complexity_1_Band | B6: ="<"&A6&">" -> <complexity_1_Band> | C6: ='Summary and Calculation'!F13 -> C | D6: ="</"&A6&">" -> </complexity_1_Band> | F6: =CONCATENATE(B6,C6,D6) -> <complexity_1_Band>C</complexity_1_Band>
A7: complexity_2_Band | B7: ="<"&A7&">" -> <complexity_2_Band> | C7: ='Summary and Calculation'!G13 -> 0 | D7: ="</"&A7&">" -> </complexity_2_Band> | F7: =CONCATENATE(B7,C7,D7) -> <complexity_2_Band>0</complexity_2_Band>
A8: complexity_Score | B8: ="<"&A8&">" -> <complexity_Score> | C8: ='Summary and Calculation'!H13 -> 35 | D8: ="</"&A8&">" -> </complexity_Score> | F8: =CONCATENATE(B8,C8,D8) -> <complexity_Score>35</complexity_Score>
A9: emissions_Band | B9: ="<"&A9&">" -> <emissions_Band> | C9: ='Summary and Calculation'!F14 -> C | D9: ="</"&A9&">" -> </emissions_Band> | F9: =CONCATENATE(B9,C9,D9) -> <emissions_Band>C</emissions_Band>
A10: emissions_Score | B10: ="<"&A10&">" -> <emissions_Score> | C10: ='Summary and Calculation'!H14 -> 15 | D10: ="</"&A10&">" -> </emissions_Score> | F10: =CONCATENATE(B10,C10,D10) -> <emissions_Score>15</emissions_Score>
A11: location_Band | B11: ="<"&A11&">" -> <location_Band> | C11: ='Summary and Calculation'!F15 -> C | D11: ="</"&A11&">" -> </location_Band> | F11: =CONCATENATE(B11,C11,D11) -> <location_Band>C</location_Band>
A12: location_Score | B12: ="<"&A12&">" -> <location_Score> | C12: ='Summary and Calculation'!H15 -> 3 | D12: ="</"&A12&">" -> </location_Score> | F12: =CONCATENATE(B12,C12,D12) -> <location_Score>3</location_Score>
A13: oP_Perf_Band | B13: ="<"&A13&">" -> <oP_Perf_Band> | C13: ='Summary and Calculation'!F16 -> A | D13: ="</"&A13&">" -> </oP_Perf_Band> | F13: =CONCATENATE(B13,C13,D13) -> <oP_Perf_Band>A</oP_Perf_Band>
A14: oP_Perf_Score | B14: ="<"&A14&">" -> <oP_Perf_Score> | C14: ='Summary and Calculation'!H16 -> 2 | D14: ="</"&A14&">" -> </oP_Perf_Score> | F14: =CONCATENATE(B14,C14,D14) -> <oP_Perf_Score>2</oP_Perf_Score>
A15: totalOPRAScore | B15: ="<"&A15&">" -> <totalOPRAScore> | C15: ='Summary and Calculation'!H17 -> 55 | D15: ="</"&A15&">" -> </totalOPRAScore> | F15: =CONCATENATE(B15,C15,D15) -> <totalOPRAScore>55</totalOPRAScore>
A16: company_Name | B16: ="<"&A16&">" -> <company_Name> | C16: ='Summary and Calculation'!I9 -> Llantrisant Recycling Centre Ltd | D16: ="</"&A16&">" -> </company_Name> | F16: =CONCATENATE(B16,C16,D16) -> <company_Name>Llantrisant Recycling Centre Ltd</company_Name>
A17: case_Number | B17: ="<"&A17&">" -> <case_Number> | C17: ='Summary and Calculation'!E9 -> 43370 | D17: ="</"&A17&">" -> </case_Number> | F17: =CONCATENATE(B17,C17,D17) -> <case_Number>43370</case_Number>
F18: </summary>
F19: <emissions>
A20: wasteInput_Inert_Answer | B20: ="<"&A20&">" -> <wasteInput_Inert_Answer> | C20: =Complexity_Emissions_Location!K6 -> 50000 | D20: ="</"&A20&">" -> </wasteInput_Inert_Answer> | F20: =CONCATENATE(B20,C20,D20) -> <wasteInput_Inert_Answer>50000</wasteInput_Inert_Answer>
A21: wasteInput_NonHazNonBio_Answer | B21: ="<"&A21&">" -> <wasteInput_NonHazNonBio_Answer> | C21: =Complexity_Emissions_Location!K7 -> 50000 | D21: ="</"&A21&">" -> </wasteInput_NonHazNonBio_Answer> | F21: =CONCATENATE(B21,C21,D21) -> <wasteInput_NonHazNonBio_Answer>50000</wasteInput_NonHazNonBio_Answer>
A22: wasteInput_Haz_Answer | B22: ="<"&A22&">" -> <wasteInput_Haz_Answer> | C22: =Complexity_Emissions_Location!K8 -> 100000 | D22: ="</"&A22&">" -> </wasteInput_Haz_Answer> | F22: =CONCATENATE(B22,C22,D22) -> <wasteInput_Haz_Answer>100000</wasteInput_Haz_Answer>
A23: wasteInput_NonHazBio_Answer | B23: ="<"&A23&">" -> <wasteInput_NonHazBio_Answer> | C23: =Complexity_Emissions_Location!K9 -> 0 | D23: ="</"&A23&">" -> </wasteInput_NonHazBio_Answer> | F23: =CONCATENATE(B23,C23,D23) -> <wasteInput_NonHazBio_Answer>0</wasteInput_NonHazBio_Answer>
A24: wasteInput_total | B24: ="<"&A24&">" -> <wasteInput_total> | C24: =Complexity_Emissions_Location!M10 -> 316 | D24: ="</"&A24&">" -> </wasteInput_total> | F24: =CONCATENATE(B24,C24,D24) -> <wasteInput_total>316</wasteInput_total>
A25: wasteInput_Band | B25: ="<"&A25&">" -> <wasteInput_Band> | C25: =Complexity_Emissions_Location!O10 -> C | D25: ="</"&A25&">" -> </wasteInput_Band> | F25: =CONCATENATE(B25,C25,D25) -> <wasteInput_Band>C</wasteInput_Band>
F26: </emissions>
F27: <complexity>
A28: activity_AType_1 | B28: ="<"&A28&">" -> <activity_AType_1> | C28: =Complexity_Emissions_Location!D5 -> 35 | D28: ="</"&A28&">" -> </activity_AType_1> | F28: =CONCATENATE(B28,C28,D28) -> <activity_AType_1>35</activity_AType_1>
A29: complexity_Band_1 | B29: ="<"&A29&">" -> <complexity_Band_1> | C29: =Complexity_Emissions_Location!F5 -> C | D29: ="</"&A29&">" -> </complexity_Band_1> | F29: =CONCATENATE(B29,C29,D29) -> <complexity_Band_1>C</complexity_Band_1>
A30: activity_AType_2 | B30: ="<"&A30&">" -> <activity_AType_2> | C30: =Complexity_Emissions_Location!D7 -> 1 | D30: ="</"&A30&">" -> </activity_AType_2> | F30: =CONCATENATE(B30,C30,D30) -> <activity_AType_2>1</activity_AType_2>
A31: complexity_Band_2 | B31: ="<"&A31&">" -> <complexity_Band_2> | C31: =Complexity_Emissions_Location!F7 -> 0 | D31: ="</"&A31&">" -> </complexity_Band_2> | F31: =CONCATENATE(B31,C31,D31) -> <complexity_Band_2>0</complexity_Band_2>
F32: </complexity>
F33: <location>
A34: loc_Human_Answer | B34: ="<"&A34&">" -> <loc_Human_Answer> | C34: =Complexity_Emissions_Location!E16 -> 1 | D34: ="</"&A34&">" -> </loc_Human_Answer> | F34: =CONCATENATE(B34,C34,D34) -> <loc_Human_Answer>1</loc_Human_Answer>
A35: loc_Human_Score | B35: ="<"&A35&">" -> <loc_Human_Score> | C35: =Complexity_Emissions_Location!F16 -> 5 | D35: ="</"&A35&">" -> </loc_Human_Score> | F35: =CONCATENATE(B35,C35,D35) -> <loc_Human_Score>5</loc_Human_Score>
A36: loc_Habitats_Answer | B36: ="<"&A36&">" -> <loc_Habitats_Answer> | C36: =Complexity_Emissions_Location!E18 -> 2 | D36: ="</"&A36&">" -> </loc_Habitats_Answer> | F36: =CONCATENATE(B36,C36,D36) -> <loc_Habitats_Answer>2</loc_Habitats_Answer>
A37: loc_Habitats_Score | B37: ="<"&A37&">" -> <loc_Habitats_Score> | C37: =Complexity_Emissions_Location!F18 -> 2 | D37: ="</"&A37&">" -> </loc_Habitats_Score> | F37: =CONCATENATE(B37,C37,D37) -> <loc_Habitats_Score>2</loc_Habitats_Score>
A38: loc_AquGPZ_Answer | B38: ="<"&A38&">" -> <loc_AquGPZ_Answer> | C38: =Complexity_Emissions_Location!E20 -> 2 | D38: ="</"&A38&">" -> </loc_AquGPZ_Answer> | F38: =CONCATENATE(B38,C38,D38) -> <loc_AquGPZ_Answer>2</loc_AquGPZ_Answer>
A39: loc_Aqu_Score | B39: ="<"&A39&">" -> <loc_Aqu_Score> | C39: =Complexity_Emissions_Location!F20 -> 1 | D39: ="</"&A39&">" -> </loc_Aqu_Score> | F39: =CONCATENATE(B39,C39,D39) -> <loc_Aqu_Score>1</loc_Aqu_Score>
A40: loc_SW_Answer | B40: ="<"&A40&">" -> <loc_SW_Answer> | C40: =Complexity_Emissions_Location!E22 -> 3 | D40: ="</"&A40&">" -> </loc_SW_Answer> | F40: =CONCATENATE(B40,C40,D40) -> <loc_SW_Answer>3</loc_SW_Answer>
...

Sheet ProfileHeader
A1: Profile Header
A2: ProfileID | B2: MajVersionNo | C2: CompletionDate | D2: WML | E2: Complexity1 | F2: Complexity2 | G2: LocationScore | H2: EmissionIndex | I2: OPScore | J2: CompBand1 | K2: CompBand2 | L2: LocationBand | M2: EmissionsBand | N2: OPPerfBand | O2: CompRating | P2: EPOPRAScore | Q2: Status
A3: =('Summary and Calculation'!E9*100000)+('Summary and Calculation'!E9 *RAND()) -> 4.3370113e+09 | B3: 3 | C3: =TODAY() -> 43370 | D3: ='Summary and Calculation'!E9 -> 43370 | E3: =OFFSET(References!B2,Complexity_Emissions_Location!D5,0) -> A22 | F3: =OFFSET(References!B2,Complexity_Emissions_Location!D7,0) -> … | G3: =Complexity_Emissions_Location!K22 -> 12 | H3: =Complexity_Emissions_Location!M10 -> 316 | I3: ='Operator Performance'!H60 -> 8.6 | J3: ='Summary and Calculation'!F13 -> C | K3: ='Summary and Calculation'!G13 -> 0 | L3: ='Summary and Calculation'!F15 -> C | M3: ='Summary and Calculation'!F14 -> C | N3: ='Summary and Calculation'!F16 -> A | P3: ='Summary and Calculation'!H17 -> 55

Sheet ProfileDetail
A1: ID | B1: ProfileID | C1: QID | D1: AnsID | E1: AnsText | F1: AnsScore
A2: =FIXED(10000000000*RAND(),0,TRUE) -> 759418457 | B2: =ProfileHeader!$A$3 -> 4.3370113e+09 | C2: 2 | D2: =OFFSET(References!F$53,Complexity_Emissions_Location!E16-1,0) -> 1 | E2: =OFFSET(References!D$53,Complexity_Emissions_Location!E16-1,0) -> <50m | F2: =OFFSET(References!E$53,Complexity_Emissions_Location!E16-1,0) -> 5
A3: =FIXED(10000000000*RAND(),0,TRUE) -> 8345037163 | B3: =ProfileHeader!$A$3 -> 4.3370113e+09 | C3: 3 | D3: =OFFSET(References!F$57,Complexity_Emissions_Location!E18-1,0) -> 6 | E3: =OFFSET(References!D$57,Complexity_Emissions_Location!E18-1,0) -> CRoW | F3: =OFFSET(References!E$57,Complexity_Emissions_Location!E18-1,0) -> 2
A4: =FIXED(10000000000*RAND(),0,TRUE) -> 526499771 | B4: =ProfileHeader!$A$3 -> 4.3370113e+09 | C4: 4 | D4: =OFFSET(References!F$60,Complexity_Emissions_Location!E20-1,0) -> 9 | E4: =OFFSET(References!D$60,Complexity_Emissions_Location!E20-1,0) -> Yes - Outside GPZ | F4: =OFFSET(References!E$60,Complexity_Emissions_Location!E20-1,0) -> 1
A5: =FIXED(10000000000*RAND(),0,TRUE) -> 5520774307 | B5: =ProfileHeader!$A$3 -> 4.3370113e+09 | C5: 5 | D5: =OFFSET(References!F$63,Complexity_Emissions_Location!E22-1,0) -> 13 | E5: =OFFSET(References!D$63,Complexity_Emissions_Location!E22-1,0) -> Grade 1 or 2 | F5: =OFFSET(References!E$63,Complexity_Emissions_Location!E22-1,0) -> 3
A6: =FIXED(10000000000*RAND(),0,TRUE) -> 8821495478 | B6: =ProfileHeader!$A$3 -> 4.3370113e+09 | C6: 6 | D6: =OFFSET(References!F$67,Complexity_Emissions_Location!K16-1,0) -> 15 | E6: =OFFSET(References!D$67,Complexity_Emissions_Location!K16-1,0) -> Yes - With interceptors | F6: =OFFSET(References!E$67,Complexity_Emissions_Location!K16-1,0) -> 1
A7: =FIXED(10000000000*RAND(),0,TRUE) -> 4179158076 | B7: =ProfileHeader!$A$3 -> 4.3370113e+09 | C7: 7 | D7: =OFFSET(References!F$70,Complexity_Emissions_Location!K18-1,0) -> 21 | E7: =OFFSET(References!D$70,Complexity_Emissions_Location!K18-1,0) -> No | F7: =OFFSET(References!E$70,Complexity_Emissions_Location!K18-1,0) -> 0
A8: =FIXED(10000000000*RAND(),0,TRUE) -> 3424557269 | B8: =ProfileHeader!$A$3 -> 4.3370113e+09 | C8: 8 | D8: =OFFSET(References!F$74,Complexity_Emissions_Location!K20-1,0) -> 23 | E8: =OFFSET(References!D$74,Complexity_Emissions_Location!K20-1,0) -> No | F8: =OFFSET(References!E$74,Complexity_Emissions_Location!K20-1,0) -> 0
A9: =FIXED(10000000000*RAND(),0,TRUE) -> 9887287029 | B9: =ProfileHeader!$A$3 -> 4.3370113e+09 | C9: 60 | D9: =OFFSET(References!$O$54,'Operator Performance'!G5-1,0) -> 24 | E9: ='Operator Performance'!E5 -> Yes | F9: ='Operator Performance'!F5 -> 4
A10: =FIXED(10000000000*RAND(),0,TRUE) -> 6214043104 | B10: =ProfileHeader!$A$3 -> 4.3370113e+09 | C10: 61 | D10: =OFFSET(References!$O$54,'Operator Performance'!G6-1,0) -> 26 | E10: ='Operator Performance'!E6 -> Yes | F10: ='Operator Performance'!F6 -> 2
A11: =FIXED(10000000000*RAND(),0,TRUE) -> 3066569963 | B11: =ProfileHeader!$A$3 -> 4.3370113e+09 | C11: 62 | D11: =OFFSET(References!$O$54,'Operator Performance'!G7-1,0) -> 28 | E11: ='Operator Performance'!E7 -> 0 | F11: ='Operator Performance'!F7 -> 0
A12: =FIXED(10000000000*RAND(),0,TRUE) -> 9352139417 | B12: =ProfileHeader!$A$3 -> 4.3370113e+09 | C12: 63 | D12: =OFFSET(References!$O$54,'Operator Performance'!G8-1,0) -> 30 | E12: ='Operator Performance'!E8 -> Yes | F12: ='Operator Performance'!F8 -> 2
A13: =FIXED(10000000000*RAND(),0,TRUE) -> 3556340039 | B13: =ProfileHeader!$A$3 -> 4.3370113e+09 | C13: 64 | D13: =OFFSET(References!$O$54,'Operator Performance'!G9-1,0) -> 32 | E13: ='Operator Performance'!E9 -> Yes | F13: ='Operator Performance'!F9 -> 2
A14: =FIXED(10000000000*RAND(),0,TRUE) -> 8705927296 | B14: =ProfileHeader!$A$3 -> 4.3370113e+09 | C14: 66 | D14: =OFFSET(References!$O$54,'Operator Performance'!G10-1,0) -> 36 | E14: ='Operator Performance'!E10 -> Yes | F14: ='Operator Performance'!F10 -> 2
A15: =FIXED(10000000000*RAND(),0,TRUE) -> 1653181349 | B15: =ProfileHeader!$A$3 -> 4.3370113e+09 | C15: 69 | D15: =OFFSET(References!$O$54,'Operator Performance'!G14-1,0) -> 42 | E15: ='Operator Performance'!E14 -> Yes | F15: ='Operator Performance'!F14 -> 3
A16: =FIXED(10000000000*RAND(),0,TRUE) -> 4852464861 | B16: =ProfileHeader!$A$3 -> 4.3370113e+09 | C16: 70 | D16: =OFFSET(References!$O$54,'Operator Performance'!G17-1,0) -> 44 | E16: ='Operator Performance'!E17 -> Yes | F16: ='Operator Performance'!F17 -> 2
A17: =FIXED(10000000000*RAND(),0,TRUE) -> 8384534213 | B17: =ProfileHeader!$A$3 -> 4.3370113e+09 | C17: 71 | D17: =OFFSET(References!$O$54,'Operator Performance'!G18-1,0) -> 46 | E17: ='Operator Performance'!E18 -> Yes | F17: ='Operator Performance'!F18 -> 2
A18: =FIXED(10000000000*RAND(),0,TRUE) -> 7783357852 | B18: =ProfileHeader!$A$3 -> 4.3370113e+09 | C18: 72 | D18: =OFFSET(References!$O$54,'Operator Performance'!G19-1,0) -> 48 | E18: ='Operator Performance'!E19 -> Yes | F18: ='Operator Performance'!F19 -> 3
A19: =FIXED(10000000000*RAND(),0,TRUE) -> 3248353135 | B19: =ProfileHeader!$A$3 -> 4.3370113e+09 | C19: 73 | D19: =OFFSET(References!$O$54,'Operator Performance'!G20-1,0) -> 50 | E19: ='Operator Performance'!E20 -> Yes | F19: ='Operator Performance'!F20 -> 2
A20: =FIXED(10000000000*RAND(),0,TRUE) -> 4604523661 | B20: =ProfileHeader!$A$3 -> 4.3370113e+09 | C20: 74 | D20: =OFFSET(References!$O$54,'Operator Performance'!G21-1,0) -> 52 | E20: ='Operator Performance'!E21 -> Yes | F20: ='Operator Performance'!F21 -> 2
A21: =FIXED(10000000000*RAND(),0,TRUE) -> 7988909668 | B21: =ProfileHeader!$A$3 -> 4.3370113e+09 | C21: 77 | D21: =OFFSET(References!$O$54,'Operator Performance'!G22-1,0) -> 65 | E21: ='Operator Performance'!E22 -> Yes | F21: ='Operator Performance'!F22 -> 3
A22: =FIXED(10000000000*RAND(),0,TRUE) -> 7141265952 | B22: =ProfileHeader!$A$3 -> 4.3370113e+09 | C22: 79 | D22: =OFFSET(References!$O$54,'Operator Performance'!G23-1,0) -> 69 | E22: ='Operator Performance'!E23 -> Yes | F22: ='Operator Performance'!F23 -> 0
A23: =FIXED(10000000000*RAND(),0,TRUE) -> 6617222041 | B23: =ProfileHeader!$A$3 -> 4.3370113e+09 | C23: 80 | D23: =OFFSET(References!$O$54,'Operator Performance'!G27-1,0) -> 73 | E23: ='Operator Performance'!E27 -> Yes | F23: ='Operator Performance'!F27 -> 6
A24: =FIXED(10000000000*RAND(),0,TRUE) -> 9115549399 | B24: =ProfileHeader!$A$3 -> 4.3370113e+09 | C24: 81 | D24: =OFFSET(References!$O$54,'Operator Performance'!G28-1,0) -> 75 | E24: ='Operator Performance'!E28 -> Yes | F24: ='Operator Performance'!F28 -> 2
A25: =FIXED(10000000000*RAND(),0,TRUE) -> 7513068196 | B25: =ProfileHeader!$A$3 -> 4.3370113e+09 | C25: 82 | D25: =OFFSET(References!$O$54,'Operator Performance'!G29-1,0) -> 77 | E25: ='Operator Performance'!E29 -> Yes | F25: ='Operator Performance'!F29 -> 0
A26: =FIXED(10000000000*RAND(),0,TRUE) -> 7855490627 | B26: =ProfileHeader!$A$3 -> 4.3370113e+09 | C26: 83 | D26: =OFFSET(References!$O$54,'Operator Performance'!G30-1,0) -> 79 | E26: ='Operator Performance'!E30 -> Yes | F26: ='Operator Performance'!F30 -> 4
A27: =FIXED(10000000000*RAND(),0,TRUE) -> 8748759523 | B27: =ProfileHeader!$A$3 -> 4.3370113e+09 | C27: 84 | D27: =OFFSET(References!$O$54,'Operator Performance'!G31-1,0) -> 81 | E27: ='Operator Performance'!E31 -> 0 | F27: ='Operator Performance'!F31 -> 0
A28: =FIXED(10000000000*RAND(),0,TRUE) -> 7113706856 | B28: =ProfileHeader!$A$3 -> 4.3370113e+09 | C28: 85 | D28: =OFFSET(References!$O$54,'Operator Performance'!G32-1,0) -> 83 | E28: ='Operator Performance'!E32 -> 0 | F28: ='Operator Performance'!F32 -> 0
A29: =FIXED(10000000000*RAND(),0,TRUE) -> 434060139 | B29: =ProfileHeader!$A$3 -> 4.3370113e+09 | C29: 86 | D29: =OFFSET(References!$O$54,'Operator Performance'!G33-1,0) -> 87 | E29: ='Operator Performance'!E33 -> 0 | F29: ='Operator Performance'!F33 -> 0
A30: =FIXED(10000000000*RAND(),0,TRUE) -> 3966928092 | B30: =ProfileHeader!$A$3 -> 4.3370113e+09 | C30: 88 | D30: =OFFSET(References!$O$54,'Operator Performance'!G38-1,0) -> 89 | E30: ='Operator Performance'!E38 -> 1 | F30: ='Operator Performance'!F38 -> 0
A31: =FIXED(10000000000*RAND(),0,TRUE) -> 1857291461 | B31: =ProfileHeader!$A$3 -> 4.3370113e+09 | C31: 89 | D31: =OFFSET(References!$O$54,'Operator Performance'!#REF!-1,0) -> #REF! | E31: ='Operator Performance'!#REF! -> #REF! | F31: ='Operator Performance'!#REF! -> #REF!
A32: =FIXED(10000000000*RAND(),0,TRUE) -> 5223295787 | B32: =ProfileHeader!$A$3 -> 4.3370113e+09 | C32: 90 | D32: =OFFSET(References!$O$54,'Operator Performance'!#REF!-1,0) -> #REF! | E32: ='Operator Performance'!#REF! -> #REF! | F32: ='Operator Performance'!#REF! -> #REF!
A33: =FIXED(10000000000*RAND(),0,TRUE) -> 6890432284 | B33: =ProfileHeader!$A$3 -> 4.3370113e+09 | C33: 91 | D33: =OFFSET(References!$O$54,'Operator Performance'!#REF!-1,0) -> #REF! | E33: ='Operator Performance'!#REF! -> #REF! | F33: ='Operator Performance'!#REF! -> #REF!
A34: =FIXED(10000000000*RAND(),0,TRUE) -> 5403488107 | B34: =ProfileHeader!$A$3 -> 4.3370113e+09 | C34: 92 | D34: =OFFSET(References!$O$54,'Operator Performance'!G42-1,0) -> 93 | E34: ='Operator Performance'!E42 -> Yes | F34: ='Operator Performance'!F42 -> 3
A35: =FIXED(10000000000*RAND(),0,TRUE) -> 7640992743 | B35: =ProfileHeader!$A$3 -> 4.3370113e+09 | C35: 97 | D35: =OFFSET(References!$O$54,'Operator Performance'!G43-1,0) -> 95 | E35: ='Operator Performance'!E43 -> Yes | F35: ='Operator Performance'!F43 -> 3
A36: =FIXED(10000000000*RAND(),0,TRUE) -> 6311468732 | B36: =ProfileHeader!$A$3 -> 4.3370113e+09 | C36: 99 | D36: =OFFSET(References!$O$54,'Operator Performance'!G44-1,0) -> 97 | E36: ='Operator Performance'!E44 -> Yes | F36: ='Operator Performance'!F44 -> 3
A37: =FIXED(10000000000*RAND(),0,TRUE) -> 6380074236 | B37: =ProfileHeader!$A$3 -> 4.3370113e+09 | C37: 100 | D37: =OFFSET(References!$O$54,'Operator Performance'!G45-1,0) -> 107 | E37: ='Operator Performance'!E45 -> Yes | F37: ='Operator Performance'!F45 -> 2
A38: =FIXED(10000000000*RAND(),0,TRUE) -> 725053440 | B38: =ProfileHeader!$A$3 -> 4.3370113e+09 | C38: 101 | D38: =OFFSET(References!$O$54,'Operator Performance'!G46-1,0) -> 111 | E38: ='Operator Performance'!E46 -> Yes | F38: ='Operator Performance'!F46 -> 1
A39: =FIXED(10000000000*RAND(),0,TRUE) -> 8173992188 | B39: =ProfileHeader!$A$3 -> 4.3370113e+09 | C39: 102 | D39: =OFFSET(References!$O$54,'Operator Performance'!G47-1,0) -> 113 | E39: ='Operator Performance'!E47 -> Yes | F39: ='Operator Performance'!F47 -> 1
A40: =FIXED(10000000000*RAND(),0,TRUE) -> 774898696 | B40: =ProfileHeader!$A$3 -> 4.3370113e+09 | C40: 103 | D40: =OFFSET(References!$O$54,'Operator Performance'!G48-1,0) -> 115 | E40: ='Operator Performance'!E48 -> 0 | F40: ='Operator Performance'!F48 -> 0
