Workbook

Sheet Gas Chart
D32: ='Gas Data'!B19 -> Target YTD Achievement (%) | G32: ='Gas Data'!K27 -> 0.13281611

Sheet Gas Data
B2: Gas 2015
B4: Month | C4: Actual 2011 | D4: Actual 2012 | E4: Actual 2013 | F4: Actual 2014 | G4: Actual Productive Hours for 2014 | H4: kWh per Productive Hour Booked 2014 | I4: Target kWh 2015 (4%) | J4: Stretch kWhTarget (9%) | K4: Actual 2015 | L4: Actual Productive Hours 2015 | M4: Reason for Variance | N4: Comments | O4: KwH per Productive Hour Booked 2015 | P4: "In-Month" Target Savings (kwh) | Q4: Cumulative Target Saving (KwH) | R4: Actual "In-Month" Difference vs 2014 (kwh) | S4: Month Deviation from Target (kwh) | T4: In Month Cumulative (Kwh) | U4: Cumulative Difference YTD Kwh | V4: YTD % Achievement to Target
B5: Jan | C5: 8811514 | D5: 7860080 | E5: 6507587 | F5: 7459678 | G5: 8708 | H5: =F5/G5 -> 856.64653 | I5: =SUM(F5-(F5*4%)) -> 7161290.9 | J5: =SUM(F5-(F5*9%)) -> 6788307 | K5: 6605398 | L5: 9460 | O5: =K5/L5 -> 698.24503 | P5: =F5-I5 -> 298387.12 | Q5: =P5 -> 298387.12 | R5: =K5-F5 -> -854280 | S5: =P5+R5 -> -555892.88 | T5: =-(R5) -> 854280 | U5: =R5 -> -854280 | V5: =R5/S21 -> -0.42089905
B6: Feb | C6: 7420616 | D6: 7804891 | E6: 6152366 | F6: 6704268 | G6: 12830 | H6: =F6/G6 -> 522.54622 | I6: =SUM(F6-(F6*4%)) -> 6436097.3 | J6: =SUM(F6-(F6*9%)) -> 6100883.9 | K6: 6336270 | L6: 13120 | O6: =K6/L6 -> 482.94741 | P6: =F6-I6 -> 268170.72 | Q6: =P5+P6 -> 566557.84 | R6: =K6-F6 -> -367998 | S6: =P6+R6 -> -99827.28 | T6: =-(R5+R6) -> 1222278 | U6: =R5+R6 -> -1222278 | V6: =(R5+R6)/S21 -> -0.60220964
B7: Mar | C7: 7568360 | D7: 6733125 | E7: 7032326 | F7: 6719595 | G7: 15972 | H7: =F7/G7 -> 420.71093 | I7: =SUM(F7-(F7*4%)) -> 6450811.2 | J7: =SUM(F7-(F7*9%)) -> 6114831.5 | K7: 6340861 | L7: 14161 | O7: =K7/L7 -> 447.7693 | P7: =F7-I7 -> 268783.8 | Q7: =P5+P6+P7 -> 835341.64 | R7: =K7-F7 -> -378734 | S7: =P7+R7 -> -109950.2 | T7: =-(R5+R6+R7) -> 1601012 | U7: =R5+R6+R7 -> -1601012 | V7: =(R5+R6+R7)/S21 -> -0.7888098
B8: April | C8: 4316111 | D8: 5581462 | E8: 6343428 | F8: 5190043 | G8: 6800 | H8: =F8/G8 -> 763.24162 | I8: =SUM(F8-(F8*4%)) -> 4982441.3 | J8: =SUM(F8-(F8*9%)) -> 4722939.1 | K8: 3526478 | L8: 9706 | M8: Other (Please Comment) | N8: System improvements and campaigning switch off when possible. | O8: =K8/L8 -> 363.32969 | P8: =F8-I8 -> 207601.72 | Q8: =P5+P6+P7+P8 -> 1042943.4 | R8: =K8-F8 -> -1663565 | S8: =P8+R8 -> -1455963.3 | T8: =-(R5+R6+R7+R8) -> 3264577 | U8: =R5+R6+R7+R8 -> -3264577 | V8: =(R5+R6+R8)/S21 -> -1.421839
B9: May | C9: 4838236 | D9: 5187779 | E9: 4237437 | F9: 4280091 | G9: 9004 | H9: =F9/G9 -> 475.3544 | I9: =SUM(F9-(F9*4%)) -> 4108887.4 | J9: =SUM(F9-(F9*9%)) -> 3894882.8 | K9: 3240949 | L9: 12210 | M9: Other (Please Comment) | N9: System improvements and campaigning switch off when possible. | O9: =K9/L9 -> 265.43399 | P9: =F9-I9 -> 171203.64 | Q9: =P5+P6+P7+P8+P9 -> 1214147 | R9: =K9-F9 -> -1039142 | S9: =P9+R9 -> -867938.36 | T9: =-(R5+R6+R7+R8+R9) -> 4303719 | U9: =R5+R6+R7+R8+R9 -> -4303719 | V9: =(R5+R6+R7+R8+R9)/S21 -> -2.1204187
B10: June | C10: 4278015 | D10: 2702698 | E10: 2791667 | F10: 2396533 | G10: 13332 | H10: =F10/G10 -> 179.75795 | I10: =SUM(F10-(F10*4%)) -> 2300671.7 | J10: =SUM(F10-(F10*9%)) -> 2180845 | K10: 2785385 | L10: 15110 | M10: Other (Please Comment) | N10: V7 failed open for half of the month. Undetectable under old system. New control system will alleviate this problem. | O10: =K10/L10 -> 184.3405 | P10: =F10-I10 -> 95861.32 | Q10: =P5+P6+P7+P8+P9+P10 -> 1310008.3 | R10: =K10-F10 -> 388852 | S10: =P10+R10 -> 484713.32 | T10: =-(R5+R6+R7+R8+R9+R10) -> 3914867 | U10: =R5+R6+R7+R8+R9+R10 -> -3914867 | V10: =(R5+R6+R7+R8+R9+R10)/S21 -> -1.9288334
B11: July | C11: 2523052 | D11: 2786562 | E11: 1788533 | F11: 1274140 | G11: 10643 | H11: =F11/G11 -> 119.71625 | I11: =SUM(F11-(F11*4%)) -> 1223174.4 | J11: =SUM(F11-(F11*9%)) -> 1159467.4 | K11: 924936 | L11: 12304 | O11: =K11/L11 -> 75.173602 | P11: =F11-I11 -> 50965.6 | Q11: =P5+P6+P7+P8+P9+P10+P11 -> 1360973.9 | R11: =K11-F11 -> -349204 | S11: =P11+R11 -> -298238.4 | T11: =-(R5+R6+R7+R8+R9+R10+R11) -> 4264071 | U11: =R5+R6+R7+R8+R9+R10+R11 -> -4264071 | V11: =(R5+R6+R7+R8+R9+R10+R11)/S21 -> -2.1008843
B12: Aug | C12: 2924971 | D12: 2015127 | E12: 2024975 | F12: 1293961 | G12: 5875 | H12: =F12/G12 -> 220.24868 | I12: =SUM(F12-(F12*4%)) -> 1242202.6 | J12: =SUM(F12-(F12*9%)) -> 1177504.5 | K12: 921334 | L12: 4420 | O12: =K12/L12 -> 208.44661 | P12: =F12-I12 -> 51758.44 | Q12: =P5+P6+P7+P8+P9+P10+P11+P12 -> 1412732.4 | R12: =K12-F12 -> -372627 | S12: =P12+R12 -> -320868.56 | T12: =-(R5+R6+R7+R8+R9+R10+R11+R12) -> 4636698 | U12: =R5+R6+R7+R8+R9+R10+R11+R12 -> -4636698 | V12: =(R5+R6+R7+R8+R9+R10+R11+R12)/S21 -> -2.2844756
B13: Sept | C13: 4059803 | D13: 4205790 | E13: 3267538 | F13: 2033967 | G13: 12504 | H13: =F13/G13 -> 162.66531 | I13: =SUM(F13-(F13*4%)) -> 1952608.3 | J13: =SUM(F13-(F13*9%)) -> 1850910 | K13: 2479967 | L13: 14053 | O13: =K13/L13 -> 176.47243 | P13: =F13-I13 -> 81358.68 | Q13: =P5+P6+P7+P8+P9+P10+P11+P12+P13 -> 1494091 | R13: =K13-F13 -> 446000 | S13: =P13+R13 -> 527358.68 | T13: =-(R5+R6+R7+R8+R9+R10+R11+R12+R13) -> 4190698 | U13: =R5+R6+R7+R8+R9+R10+R11+R12+R13 -> -4190698 | V13: =(R5+R6+R7+R8+R9+R10+R11+R12+R13)/S21 -> -2.0647338
B14: Oct | C14: 5292438 | D14: 6592652 | E14: 4946404 | F14: 2995902 | G14: 13267 | H14: =F14/G14 -> 225.81609 | I14: =SUM(F14-(F14*4%)) -> 2876065.9 | J14: =SUM(F14-(F14*9%)) -> 2726270.8 | K14: 3233966 | L14: 12015 | O14: =K14/L14 -> 269.16072 | P14: =F14-I14 -> 119836.08 | Q14: =P5+P6+P7+P8+P9+P10+P11+P12+P13+P14 -> 1613927.1 | R14: =K14-F14 -> 238064 | S14: =P14+R14 -> 357900.08 | T14: =-(R5+R6+R7+R8+R9+R10+R11+R12+R13+R14) -> 3952634 | U14: =R5+R6+R7+R8+R9+R10+R11+R12+R13+R14 -> -3952634 | V14: =(R5+R6+R7+R8+R9+R10+R11+R12+R13+R14)/S21 -> -1.947441
B15: Nov | C15: 6285227 | D15: 7240123 | E15: 6774475 | F15: 5007072 | G15: 16797 | H15: =F15/G15 -> 298.09323 | I15: =SUM(F15-(F15*4%)) -> 4806789.1 | J15: =SUM(F15-(F15*9%)) -> 4556435.5 | K15: 4049880 | L15: 11459 | O15: =K15/L15 -> 353.42351 | P15: =F15-I15 -> 200282.88 | Q15: =P5+P6+P7+P8+P9+P10+P11+P12+P13+P14+P15 -> 1814210 | R15: =K15-F15 -> -957192 | S15: =P15+R15 -> -756909.12 | T15: =-(R5+R6+R7+R8+R9+R10+R11+R12+R13+R14+R15) -> 4909826 | U15: =R5+R6+R7+R8+R9+R10+R11+R12+R13+R14+R15 -> -4909826 | V15: =(R5+R6+R7+R8+R9+R10+R11+R12+R13+R14+R15)/S21 -> -2.4190442
B16: Dec | C16: 5502512 | D16: 5381132 | E16: 5248636 | F16: 5386133 | G16: 16890 | H16: =F16/G16 -> 318.89479 | I16: =SUM(F16-(F16*4%)) -> 5170687.7 | J16: =SUM(F16-(F16*9%)) -> 4901381 | K16: 3556686 | O16: =K16/L16 -> #DIV/0! | P16: =F16-I16 -> 215445.32 | Q16: =P5+P6+P7+P8+P9+P10+P11+P12+P13+P14+P15+P16 -> 2029655.3 | R16: =K16-F16 -> -1829447 | S16: =P16+R16 -> -1614001.7 | T16: =-(R5+R6+R7+R8+R9+R10+R11+R12+R13+R14+R15+R16) -> 6739273 | U16: =R5+R6+R7+R8+R9+R10+R11+R12+R13+R14+R15+R16 -> -6739273 | V16: =(R5+R6+R7+R8+R9+R10+R11+R12+R13+R14+R15+R16)/S21 -> -3.3204027
B17: Totals | C17: =SUM(C5:C16) -> 63820855 | D17: =SUM(D5:D16) -> 64091421 | E17: =SUM(E5:E16) -> 57115372 | F17: =SUM(F5:F16) -> 50741383 | G17: =SUM(G5:G16) -> 142622 | H17: =SUM(H5:H16) -> 4563.692 | I17: =SUM(I5:I16) -> 48711728 | J17: =SUM(J5:J16) -> 46174659 | K17: =SUM(K5:K16) -> 44002110 | O17: =SUM(O5:O16) -> #DIV/0! | P17: =SUM(P5:P16) -> 2029655.3 | R17: =SUM(R5:R16) -> -6739273 | S17: =SUM(S5:S16) -> -4709617.7 | U17: =SUM(U5:U16) -> -43853933
B19: Target YTD Achievement (%) | P19: =V13 -> -2.0647338 | Q19: <<<<<< Change to current row
D21: Target Saving for 2015 (kwh) | S21: =F17-I17 -> 2029655.3
F23: Target % | K23: 4
F24: Actual 2014 | K24: =SUM(F5:F16) -> 50741383 | L24: <<<<< | N24: Alter these for current row / month data….
F25: Actual 2015 | K25: =SUM(K5:K16) -> 44002110 | L25: <<<<< | N25: Alter these for current row / month data….
F26: Difference YTD | K26: =K24-K25 -> 6739273
F27: Percentage | K27: =K26/K24 -> 0.13281611
L30: 9460
L31: 13121
L32: 14175
L33: 9706
L34: 12207
L35: 15110
L36: 12304
L37: 4420
L38: 14053
L39: 12015
L40: 11459

Sheet Electricity Charts
D32: ='Electricity Data'!B19 -> Target YTD Achievement (%) | G32: ='Electricity Data'!L27 -> 0.04040111

Sheet Electricity Data
B2: Electricity Data 2015
B4: Month | C4: Actual 2011 | D4: Actual 2012 | E4: Actual 2013 | F4: Actual 2014 | G4: Actual Productive Hours for 2014 | H4: KwH per Productive Hour Booked 2014 | I4: Target 2015 (4%) | J4: Stretch Target (5%) | K4: FSS Energy Monitor: Meter Reading for 10C14 | L4: Actual 2015 | M4: Actual Productive Hours 2015 | N4: ***** Reason for Variance ******* | O4: Comments | P4: KwH per Productive Hour Booked 2015 | Q4: "In-Month" Target Savings (kwh) | R4: Cumulative Target Saving (KwH) | S4: Actual "In-Month" Difference vs 2014 (kwh) | T4: Month Deviation from Target (kwh) | U4: In Month Cumulative (Kwh) | V4: Cumulative Difference YTD Kwh | W4: YTD % Achievement to Target
B5: Jan | C5: 769133 | D5: 765674 | E5: 691341 | F5: 605398 | G5: 8708 | H5: =E5/G5 -> 79.391479 | I5: =SUM(F5-(F5*4%)) -> 581182.08 | J5: =SUM(F5-(F5*5%)) -> 575128.1 | L5: 625774 | M5: 9460 | P5: =L5/M5 -> 66.149471 | Q5: =E5-I5 -> 110158.92 | R5: =Q5 -> 110158.92 | S5: =L5-E5 -> -65567 | T5: =Q5+S5 -> 44591.92 | U5: =-(S5) -> 65567 | V5: =S5 -> -65567 | W5: =S5/T21 -> -0.090565417
B6: Feb | C6: 737972 | D6: 729006 | E6: 686718 | F6: 576373 | G6: 12830 | H6: =E6/G6 -> 53.524396 | I6: =SUM(F6-(F6*4%)) -> 553318.08 | J6: =SUM(F6-(F6*5%)) -> 547554.35 | L6: 599310 | M6: 13120 | P6: =L6/M6 -> 45.679116 | Q6: =E6-I6 -> 133399.92 | R6: =Q5+Q6 -> 243558.84 | S6: =L6-E6 -> -87408 | T6: =Q6+S6 -> 45991.92 | U6: =-(S5+S6) -> 152975 | V6: =S5+S6 -> -152975 | W6: =(S5+S6)/T21 -> -0.21129905
B7: Mar | C7: 819251 | D7: 727472 | E7: 741196 | F7: 596482 | G7: 15972 | H7: =E7/G7 -> 46.40596 | I7: =SUM(F7-(F7*4%)) -> 572622.72 | J7: =SUM(F7-(F7*5%)) -> 566657.9 | L7: 623038 | M7: 14161 | P7: =L7/M7 -> 43.996752 | Q7: =E7-I7 -> 168573.28 | R7: =Q5+Q6+Q7 -> 412132.12 | S7: =L7-E7 -> -118158 | T7: =Q7+S7 -> 50415.28 | U7: =-(S5+S6+S7) -> 271133 | V7: =S5+S6+S7 -> -271133 | W7: =(S5+S6+S7)/T21 -> -0.37450658
B8: April | C8: 541626 | D8: 620700 | E8: 613121 | F8: 547538 | G8: 6800 | H8: =E8/G8 -> 90.164853 | I8: =SUM(F8-(F8*4%)) -> 525636.48 | J8: =SUM(F8-(F8*5%)) -> 520161.1 | L8: 497775 | M8: 9706 | P8: =L8/M8 -> 51.285287 | Q8: =E8-I8 -> 87484.52 | R8: =Q5+Q6+Q7+Q8 -> 499616.64 | S8: =L8-E8 -> -115346 | T8: =Q8+S8 -> -27861.48 | U8: =-(S5+S6+S7+S8) -> 386479 | V8: =S5+S6+S7+S8 -> -386479 | W8: =(S5+S6+S8)/T21 -> -0.37062247
B9: May | C9: 616496 | D9: 617351 | E9: 576528 | F9: 557161 | G9: 9004 | H9: =E9/G9 -> 64.030209 | I9: =SUM(F9-(F9*4%)) -> 534874.56 | J9: =SUM(F9-(F9*5%)) -> 529302.95 | L9: 502932 | M9: 12210 | P9: =L9/M9 -> 41.190172 | Q9: =E9-I9 -> 41653.44 | R9: =Q5+Q6+Q7+Q8+Q9 -> 541270.08 | S9: =L9-E9 -> -73596 | T9: =Q9+S9 -> -31942.56 | U9: =-(S5+S6+S7+S8+S9) -> 460075 | V9: =S5+S6+S7+S8+S9 -> -460075 | W9: =(S5+S6+S7+S8+S9)/T21 -> -0.6354856
B10: June | C10: 615368 | D10: 504543 | E10: 547666 | F10: 500766 | G10: 13332 | H10: =E10/G10 -> 41.079058 | I10: =SUM(F10-(F10*4%)) -> 480735.36 | J10: =SUM(F10-(F10*5%)) -> 475727.7 | K10: 3616 | L10: 475022 | M10: 15110 | P10: =L10/M10 -> 31.437591 | Q10: =E10-I10 -> 66930.64 | R10: =Q5+Q6+Q7+Q8+Q9+Q10 -> 608200.72 | S10: =L10-E10 -> -72644 | T10: =Q10+S10 -> -5713.36 | U10: =-(S5+S6+S7+S8+S9+S10) -> 532719 | V10: =S5+S6+S7+S8+S9+S10 -> -532719 | W10: =(S5+S6+S7+S8+S9+S10)/T21 -> -0.73582623
B11: July | C11: 511371 | D11: 459786 | E11: 432304 | F11: 442619 | G11: 10643 | H11: =E11/G11 -> 40.618623 | I11: =SUM(F11-(F11*4%)) -> 424914.24 | J11: =SUM(F11-(F11*5%)) -> 420488.05 | K11: 3728 | L11: 422279 | M11: 12304 | P11: =L11/M11 -> 34.320465 | Q11: =E11-I11 -> 7389.76 | R11: =Q5+Q6+Q7+Q8+Q9+Q10+Q11 -> 615590.48 | S11: =L11-E11 -> -10025 | T11: =Q11+S11 -> -2635.24 | U11: =-(S5+S6+S7+S8+S9+S10+S11) -> 542744 | V11: =S5+S6+S7+S8+S9+S10+S11 -> -542744 | W11: =(S5+S6+S7+S8+S9+S10+S11)/T21 -> -0.74967341
B12: Aug | C12: 525540 | D12: 469132 | E12: 423019 | F12: 436652 | G12: 5875 | H12: =E12/G12 -> 72.003234 | I12: =SUM(F12-(F12*4%)) -> 419185.92 | J12: =SUM(F12-(F12*5%)) -> 414819.4 | K12: 3123 | L12: 387198 | M12: 4420 | P12: =L12/M12 -> 87.601357 | Q12: =E12-I12 -> 3833.08 | R12: =Q5+Q6+Q7+Q8+Q9+Q10+Q11+Q12 -> 619423.56 | S12: =L12-E12 -> -35821 | T12: =Q12+S12 -> -31987.92 | U12: =-(S5+S6+S7+S8+S9+S10+S11+S12) -> 578565 | V12: =S5+S6+S7+S8+S9+S10+S11+S12 -> -578565 | W12: =(S5+S6+S7+S8+S9+S10+S11+S12)/T21 -> -0.79915172
B13: Sept | C13: 606690 | D13: 618398 | E13: 535521 | F13: 507669 | G13: 12504 | H13: =E13/G13 -> 42.827975 | I13: =SUM(F13-(F13*4%)) -> 487362.24 | J13: =SUM(F13-(F13*5%)) -> 482285.55 | K13: 3455 | L13: 461535 | M13: 14053 | P13: =L13/M13 -> 32.842454 | Q13: =E13-I13 -> 48158.76 | R13: =Q5+Q6+Q7+Q8+Q9+Q10+Q11+Q12+Q13 -> 667582.32 | S13: =L13-E13 -> -73986 | T13: =Q13+S13 -> -25827.24 | U13: =-(S5+S6+S7+S8+S9+S10+S11+S12+S13) -> 652551 | V13: =S5+S6+S7+S8+S9+S10+S11+S12+S13 -> -652551 | W13: =(S5+S6+S7+S8+S9+S10+S11+S12+S13)/T21 -> -0.901346
B14: Oct | C14: 652852 | D14: 751218 | E14: 601605 | F14: 588863 | G14: 13267 | H14: =E14/G14 -> 45.345971 | I14: =SUM(F14-(F14*4%)) -> 565308.48 | J14: =SUM(F14-(F14*5%)) -> 559419.85 | K14: 3795 | L14: 529774 | M14: 12015 | P14: =L14/M14 -> 44.092717 | Q14: =E14-I14 -> 36296.52 | R14: =Q5+Q6+Q7+Q8+Q9+Q10+Q11+Q12+Q13+Q14 -> 703878.84 | S14: =L14-E14 -> -71831 | T14: =Q14+S14 -> -35534.48 | U14: =-(S5+S6+S7+S8+S9+S10+S11+S12+S13+S14) -> 724382 | V14: =S5+S6+S7+S8+S9+S10+S11+S12+S13+S14 -> -724382 | W14: =(S5+S6+S7+S8+S9+S10+S11+S12+S13+S14)/T21 -> -1.0005637
B15: Nov | C15: 725690 | D15: 748393 | E15: 638804 | F15: 633253 | G15: 16797 | H15: =E15/G15 -> 38.030839 | I15: =SUM(F15-(F15*4%)) -> 607922.88 | J15: =SUM(F15-(F15*5%)) -> 601590.35 | L15: 613387 | M15: 11459 | P15: =L15/M15 -> 53.528842 | Q15: =E15-I15 -> 30881.12 | R15: =Q5+Q6+Q7+Q8+Q9+Q10+Q11+Q12+Q13+Q14+Q15 -> 734759.96 | S15: =L15-E15 -> -25417 | T15: =Q15+S15 -> 5464.12 | U15: =-(S5+S6+S7+S8+S9+S10+S11+S12+S13+S14+S15) -> 749799 | V15: =S5+S6+S7+S8+S9+S10+S11+S12+S13+S14+S15 -> -749799 | W15: =(S5+S6+S7+S8+S9+S10+S11+S12+S13+S14+S15)/T21 -> -1.0356713
B16: Dec | C16: 665285 | D16: 644567.5 | E16: 540445 | F16: 574199 | G16: 16890 | H16: =E16/G16 -> 31.997928 | I16: =SUM(F16-(F16*4%)) -> 551231.04 | J16: =SUM(F16-(F16*5%)) -> 545489.05 | L16: 563636 | P16: =L16/M16 -> #DIV/0! | Q16: =E16-I16 -> -10786.04 | R16: =Q5+Q6+Q7+Q8+Q9+Q10+Q11+Q12+Q13+Q14+Q15+Q16 -> 723973.92 | S16: =L16-E16 -> 23191 | T16: =Q16+S16 -> 12404.96 | U16: =-(S5+S6+S7+S8+S9+S10+S11+S12+S13+S14+S15+S16) -> 726608 | V16: =S5+S6+S7+S8+S9+S10+S11+S12+S13+S14+S15+S16 -> -726608 | W16: =(S5+S6+S7+S8+S9+S10+S11+S12+S13+S14+S15+S16)/T21 -> -1.0036384
B17: Totals | C17: =SUM(C5:C16) -> 7787274 | D17: =SUM(D5:D16) -> 7656240.5 | E17: =SUM(E5:E16) -> 7028268 | F17: =SUM(F5:F16) -> 6566973 | G17: =SUM(G5:G16) -> 142622 | H17: =SUM(H5:H16) -> 645.42052 | I17: =SUM(I5:I16) -> 6304294.1 | J17: =SUM(J5:J16) -> 6238624.3 | L17: =SUM(L5:L16) -> 6301660 | P17: =SUM(P5:P16) -> #DIV/0! | Q17: =SUM(Q5:Q16) -> 723973.92 | S17: =SUM(S5:S16) -> -726608 | T17: =SUM(T5:T16) -> -2634.08 | V17: =SUM(V5:V16) -> -5843597
B19: Target YTD Achievement (%) | Q19: =W13 -> -0.901346 | R19: <<<<<< Change to current row
D21: Target Saving for 2015 (kwh) | T21: =E17-I17 -> 723973.92
E23: Target % | L23: 4
E24: Actual 2014 | L24: =SUM(F5:F16) -> 6566973 | M24: <<<<< | O24: Alter these for current row / month data….
E25: Actual 2015 | L25: =SUM(L5:L16) -> 6301660 | M25: <<<<< | O25: Alter these for current row / month data….
E26: Difference YTD | L26: =L24-L25 -> 265313
E27: Percentage | L27: =L26/L24 -> 0.04040111
N29: Organisational Variance
N30: Climatic Variance
N31: Production Variance
N32: Other (Please Comment)

Sheet D Water Chart
D32: ='D Water Data'!B19 -> Target YTD Achievement (%) | G32: ='D Water Data'!K27 -> 0.11097062

Sheet D Water Data
B2: Domestic Water 2015
B4: Month | C4: Actual 2011 | D4: Actual 2012 | E4: Actual 2013 | F4: Actual 2014 | G4: Actual Standard Hours for 2014 | H4: m3 per Standard Hour Booked 2014 | I4: Target 2015 (4%) | J4: Stretch Target (5%) | K4: Actual 2015 (m3) | L4: Actual Productive Hours 2015 | M4: ***** Reason for Variance **** | N4: Comments | O4: m3 per Standard Hour Booked 2015 | P4: Target Savings (m3) | Q4: Cumulative Target Saving (m3) | R4: Actual Difference vs 2014 (m3) | S4: Month Deviation from Target (m3) | T4: In Month Gap Cumulative (m3) | U4: Cumulative Difference YTD m3 | V4: YTD % Achievement to Target
B5: Jan | C5: 6895 | D5: 4993 | E5: 2543 | F5: 4029 | G5: 8708 | H5: =F5/G5 -> 0.462678 | I5: =SUM(F5-(F5*4%)) -> 3867.84 | J5: =SUM(F5-(F5*5%)) -> 3827.55 | K5: 2732.25 | L5: 9460 | O5: =K5/L5 -> 0.28882135 | P5: =E5-I5 -> -1324.84 | Q5: =P5 -> -1324.84 | R5: =K5-E5 -> 189.25 | S5: =P5+R5 -> -1135.59 | T5: =-(R5) -> -189.25 | U5: =R5 -> 189.25 | V5: =R5/S21 -> 0.053236677
B6: Feb | C6: 6199 | D6: 5444 | E6: 2597 | F6: 2410 | G6: 12830 | H6: =F6/G6 -> 0.187841 | I6: =SUM(F6-(F6*4%)) -> 2313.6 | J6: =SUM(F6-(F6*5%)) -> 2289.5 | K6: 2059 | L6: 13120 | O6: =K6/L6 -> 0.15693598 | P6: =E6-I6 -> 283.4 | Q6: =P5+P6 -> -1041.44 | R6: =K6-E6 -> -538 | S6: =P6+R6 -> -254.6 | T6: =-(R5+R6) -> 348.75 | U6: =R5+R6 -> -348.75 | V6: =(R5+R6)/S21 -> -0.098104577
B7: Mar | C7: 5389 | D7: 4793 | E7: 2527 | F7: 2191 | G7: 15972 | H7: =F7/G7 -> 0.13717756 | I7: =SUM(F7-(F7*4%)) -> 2103.36 | J7: =SUM(F7-(F7*5%)) -> 2081.45 | K7: 2401 | L7: 14161 | N7: Extra flushing of water main due to possible contamination seen at Groups 8/9 & Labs | O7: =K7/L7 -> 0.16955017 | P7: =E7-I7 -> 423.64 | Q7: =P5+P6+P7 -> -617.8 | R7: =K7-E7 -> -126 | S7: =P7+R7 -> 297.64 | T7: =-(R5+R6+R7) -> 474.75 | U7: =R5+R6+R7 -> -474.75 | V7: =(R5+R6+R7)/S21 -> -0.13354881
B8: April | C8: 6592 | D8: 5680 | E8: 2355 | F8: 2350 | G8: 6800 | H8: =F8/G8 -> 0.34558824 | I8: =SUM(F8-(F8*4%)) -> 2256 | J8: =SUM(F8-(F8*5%)) -> 2232.5 | K8: 2593 | L8: 9706 | N8: Extra flushing of water main due to possible contamination seen at Groups 8/9 & Labs | O8: =K8/L8 -> 0.26715434 | P8: =E8-I8 -> 99 | Q8: =P5+P6+P7+P8 -> -518.8 | R8: =K8-E8 -> 238 | S8: =P8+R8 -> 337 | T8: =-(R5+R6+R7+R8) -> 236.75 | U8: =R5+R6+R7+R8 -> -236.75 | V8: =(R5+R6+R8)/S21 -> -0.031154357
B9: May | C9: 9055 | D9: 4536 | E9: 2886 | F9: 2572 | G9: 9004 | H9: =F9/G9 -> 0.28565082 | I9: =SUM(F9-(F9*4%)) -> 2469.12 | J9: =SUM(F9-(F9*5%)) -> 2443.4 | K9: 2325 | L9: 12210 | O9: =K9/L9 -> 0.19041769 | P9: =E9-I9 -> 416.88 | Q9: =P5+P6+P7+P8+P9 -> -101.92 | R9: =K9-E9 -> -561 | S9: =P9+R9 -> -144.12 | T9: =-(R5+R6+R7+R8+R9) -> 797.75 | U9: =R5+R6+R7+R8+R9 -> -797.75 | V9: =(R5+R6+R7+R8+R9)/S21 -> -0.22440983
B10: June | C10: 6281 | D10: 5727 | E10: 2970 | F10: 2266 | G10: 13332 | H10: =F10/G10 -> 0.169967 | I10: =SUM(F10-(F10*4%)) -> 2175.36 | J10: =SUM(F10-(F10*5%)) -> 2152.7 | K10: 2191 | L10: 15110 | O10: =K10/L10 -> 0.14500331 | P10: =E10-I10 -> 794.64 | Q10: =P5+P6+P7+P8+P9+P10 -> 692.72 | R10: =K10-E10 -> -779 | S10: =P10+R10 -> 15.64 | T10: =-(R5+R6+R7+R8+R9+R10) -> 1576.75 | U10: =R5+R6+R7+R8+R9+R10 -> -1576.75 | V10: =(R5+R6+R7+R8+R9+R10)/S21 -> -0.44354521
B11: July | C11: 7950 | D11: 4984 | E11: 2155 | F11: 2209 | G11: 10643 | H11: =F11/G11 -> 0.20755426 | I11: =SUM(F11-(F11*4%)) -> 2120.64 | J11: =SUM(F11-(F11*5%)) -> 2098.55 | K11: 2275 | L11: 12304 | O11: =K11/L11 -> 0.18489922 | P11: =E11-I11 -> 34.36 | Q11: =P5+P6+P7+P8+P9+P10+P11 -> 727.08 | R11: =K11-E11 -> 120 | S11: =P11+R11 -> 154.36 | T11: =-(R5+R6+R7+R8+R9+R10+R11) -> 1456.75 | U11: =R5+R6+R7+R8+R9+R10+R11 -> -1456.75 | V11: =(R5+R6+R7+R8+R9+R10+R11)/S21 -> -0.4097888
B12: Aug | C12: 9411 | D12: 4989 | E12: 2111 | F12: 2764 | G12: 5875 | H12: =F12/G12 -> 0.47046809 | I12: =SUM(F12-(F12*4%)) -> 2653.44 | J12: =SUM(F12-(F12*5%)) -> 2625.8 | K12: 1924 | L12: 4420 | O12: =K12/L12 -> 0.43529412 | P12: =E12-I12 -> -542.44 | Q12: =P5+P6+P7+P8+P9+P10+P11+P12 -> 184.64 | R12: =K12-E12 -> -187 | S12: =P12+R12 -> -729.44 | T12: =-(R5+R6+R7+R8+R9+R10+R11+R12) -> 1643.75 | U12: =R5+R6+R7+R8+R9+R10+R11+R12 -> -1643.75 | V12: =(R5+R6+R7+R8+R9+R10+R11+R12)/S21 -> -0.46239254
B13: Sept | C13: 5514 | D13: 4315 | E13: 1965 | F13: 2618 | G13: 12504 | H13: =F13/G13 -> 0.209373 | I13: =SUM(F13-(F13*4%)) -> 2513.28 | J13: =SUM(F13-(F13*5%)) -> 2487.1 | K13: 1923 | L13: 14053 | O13: =K13/L13 -> 0.13683911 | P13: =E13-I13 -> -548.28 | Q13: =P5+P6+P7+P8+P9+P10+P11+P12+P13 -> -363.64 | R13: =K13-E13 -> -42 | S13: =P13+R13 -> -590.28 | T13: =-(R5+R6+R7+R8+R9+R10+R11+R12+R13) -> 1685.75 | U13: =R5+R6+R7+R8+R9+R10+R11+R12+R13 -> -1685.75 | V13: =(R5+R6+R7+R8+R9+R10+R11+R12+R13)/S21 -> -0.47420729
B14: Oct | C14: 5571 | D14: 3823 | E14: 2936 | F14: 1781 | G14: 13267 | H14: =F14/G14 -> 0.13424286 | I14: =SUM(F14-(F14*4%)) -> 1709.76 | J14: =SUM(F14-(F14*5%)) -> 1691.95 | K14: 2422 | L14: 12015 | O14: =K14/L14 -> 0.20158136 | P14: =E14-I14 -> 1226.24 | Q14: =P5+P6+P7+P8+P9+P10+P11+P12+P13+P14 -> 862.6 | R14: =K14-E14 -> -514 | S14: =P14+R14 -> 712.24 | T14: =-(R5+R6+R7+R8+R9+R10+R11+R12+R13+R14) -> 2199.75 | U14: =R5+R6+R7+R8+R9+R10+R11+R12+R13+R14 -> -2199.75 | V14: =(R5+R6+R7+R8+R9+R10+R11+R12+R13+R14)/S21 -> -0.61879726
B15: Nov | C15: 6097 | D15: 2676 | E15: 2456 | F15: 2689 | G15: 16797 | H15: =F15/G15 -> 0.16008811 | I15: =SUM(F15-(F15*4%)) -> 2581.44 | J15: =SUM(F15-(F15*5%)) -> 2554.55 | K15: 1940 | L15: 11459 | O15: =K15/L15 -> 0.16929924 | P15: =E15-I15 -> -125.44 | Q15: =P5+P6+P7+P8+P9+P10+P11+P12+P13+P14+P15 -> 737.16 | R15: =K15-E15 -> -516 | S15: =P15+R15 -> -641.44 | T15: =-(R5+R6+R7+R8+R9+R10+R11+R12+R13+R14+R15) -> 2715.75 | U15: =R5+R6+R7+R8+R9+R10+R11+R12+R13+R14+R15 -> -2715.75 | V15: =(R5+R6+R7+R8+R9+R10+R11+R12+R13+R14+R15)/S21 -> -0.76394984
B16: Dec | C16: 7263 | D16: 2711 | E16: 4899 | F16: 2168 | G16: 16890 | H16: =F16/G16 -> 0.12835998 | I16: =SUM(F16-(F16*4%)) -> 2081.28 | J16: =SUM(F16-(F16*5%)) -> 2059.6 | K16: 2575 | O16: =K16/L16 -> #DIV/0! | P16: =E16-I16 -> 2817.72 | Q16: =P5+P6+P7+P8+P9+P10+P11+P12+P13+P14+P15+P16 -> 3554.88 | R16: =K16-E16 -> -2324 | S16: =P16+R16 -> 493.72 | T16: =-(R5+R6+R7+R8+R9+R10+R11+R12+R13+R14+R15+R16) -> 5039.75 | U16: =R5+R6+R7+R8+R9+R10+R11+R12+R13+R14+R15+R16 -> -5039.75 | V16: =(R5+R6+R7+R8+R9+R10+R11+R12+R13+R14+R15+R16)/S21 -> -1.4176991
B17: Totals | C17: =SUM(C5:C16) -> 82217 | D17: =SUM(D5:D16) -> 54671 | E17: =SUM(E5:E16) -> 32400 | F17: =SUM(F5:F16) -> 30047 | G17: =SUM(G5:G16) -> 142622 | H17: =SUM(H5:H16) -> 2.8989889 | I17: =SUM(I5:I16) -> 28845.12 | J17: =SUM(J5:J16) -> 28544.65 | K17: =SUM(K5:K16) -> 27360.25 | O17: =SUM(O5:O16) -> #DIV/0! | P17: =SUM(P5:P16) -> 3554.88 | R17: =SUM(R5:R16) -> -5039.75 | S17: =SUM(S5:S16) -> -1484.87 | U17: =SUM(U5:U16) -> -17987
B19: Target YTD Achievement (%) | P19: =V13 -> -0.47420729 | Q19: <<<<<< Change to current row
D21: Target Saving for 2015 (m3) | S21: =E17-I17 -> 3554.88
E23: Target % | K23: 4
E24: Actual 2014 | K24: =SUM(F5:F15) -> 27879 | L24: <<<<< | N24: Alter these for current row / month data….
E25: Actual 2015 | K25: =SUM(K5:K15) -> 24785.25 | L25: <<<<< | N25: Alter these for current row / month data….
E26: Difference YTD | K26: =K24-K25 -> 3093.75
E27: Percentage | K27: =K26/K24 -> 0.11097062
M29: Organisational Variance
M30: Production Variance
M31: Climatic Variance
M32: Other (Please Comment)

Sheet Waste Charts
D32: ='Waste Data'!B19 -> Target YTD Achievement (%) | G32: ='Waste Data'!K27 -> -0.26381036

Sheet Waste Data
B2: Waste 2015
B4: Month | C4: Actual 2011 | D4: Actual 2012 | E4: Actual 2013 | F4: Actual 2014 | G4: Actual Productive Hours for 2014 | H4: Kg per Standard Hour Booked 2014 | I4: Target 2015 (4%) | J4: Stretch Target (4%) | K4: Actual 2015 | L4: 2015 Recycling Rate % | M4: Actual Productive Hours 2014 | N4: Reason for Variance | O4: Comments | P4: Kg per Standard Hour Booked 2015 | Q4: Target Savings (T) | R4: Cumulative Target Saving (T) | S4: Actual Difference vs 2014 (T) | T4: Month Deviation from Target (T) | U4: In Month Gap Cumulative (T) | V4: Cumulative Difference YTD (T) | W4: YTD % Achievement to Target
B5: Jan | C5: 89.1 | D5: 20.97 | E5: 48.39 | F5: 29.12 | G5: 8708 | H5: =(F5/G5)*1000 -> 3.3440514 | I5: =SUM(F5-(F5*4%)) -> 27.9552 | J5: =SUM(F5-(F5*4%)) -> 27.9552 | K5: 20.02 | L5: 35.46 | M5: 9460 | P5: =(K5/M5)*1000 -> 2.1162791 | Q5: =E5-I5 -> 20.4348 | R5: =Q5 -> 20.4348 | S5: =K5-E5 -> -28.37 | T5: =Q5+S5 -> -7.9352 | U5: =-(S5) -> 28.37 | V5: =S5 -> -28.37 | W5: =S5/T21 -> -0.21744596
B6: Feb | C6: 74.74 | D6: 26.3 | E6: 28.51 | F6: 21.28 | G6: 12830 | H6: =(F6/G6)*1000 -> 1.6586126 | I6: =SUM(F6-(F6*4%)) -> 20.4288 | J6: =SUM(F6-(F6*4%)) -> 20.4288 | K6: 14.87 | L6: 34.7 | M6: 13120 | P6: =(K6/M6)*1000 -> 1.1333841 | Q6: =E6-I6 -> 8.0812 | R6: =Q5+Q6 -> 28.516 | S6: =K6-E6 -> -13.64 | T6: =Q6+S6 -> -5.5588 | U6: =-(S5+S6) -> 42.01 | V6: =S5+S6 -> -42.01 | W6: =(S5+S6)/T21 -> -0.3219917
B7: Mar | C7: 64.45 | D7: 30.14 | E7: 41.72 | F7: 50.06 | G7: 15972 | H7: =(F7/G7)*1000 -> 3.1342349 | I7: =SUM(F7-(F7*4%)) -> 48.0576 | J7: =SUM(F7-(F7*4%)) -> 48.0576 | K7: 17.83 | L7: 16.85 | M7: 14161 | P7: =(K7/M7)*1000 -> 1.2590919 | Q7: =E7-I7 -> -6.3376 | R7: =Q5+Q6+Q7 -> 22.1784 | S7: =K7-E7 -> -23.89 | T7: =Q7+S7 -> -30.2276 | U7: =-(S5+S6+S7) -> 65.9 | V7: =S5+S6+S7 -> -65.9 | W7: =(S5+S6+S7)/T21 -> -0.50510005
B8: April | C8: 24.02 | D8: 34.79 | E8: 90.95 | F8: 54.26 | G8: 6800 | H8: =(F8/G8)*1000 -> 7.9794118 | I8: =SUM(F8-(F8*4%)) -> 52.0896 | J8: =SUM(F8-(F8*4%)) -> 52.0896 | K8: 30.8 | L8: 74.55 | M8: 9706 | P8: =(K8/M8)*1000 -> 3.1732949 | Q8: =E8-I8 -> 38.8604 | R8: =Q5+Q6+Q7+Q8 -> 61.0388 | S8: =K8-E8 -> -60.15 | T8: =Q8+S8 -> -21.2896 | U8: =-(S5+S6+S7+S8) -> 126.05 | V8: =S5+S6+S7+S8 -> -126.05 | W8: =(S5+S6+S8)/T21 -> -0.78302005
B9: May | C9: 46.48 | D9: 41.04 | E9: 34.48 | F9: 32.26 | G9: 9004 | H9: =(F9/G9)*1000 -> 3.5828521 | I9: =SUM(F9-(F9*4%)) -> 30.9696 | J9: =SUM(F9-(F9*4%)) -> 30.9696 | K9: 37.79 | L9: 74.7 | M9: 12210 | P9: =(K9/M9)*1000 -> 3.0950041 | Q9: =E9-I9 -> 3.5104 | R9: =Q5+Q6+Q7+Q8+Q9 -> 64.5492 | S9: =K9-E9 -> 3.31 | T9: =Q9+S9 -> 6.8204 | U9: =-(S5+S6+S7+S8+S9) -> 122.74 | V9: =S5+S6+S7+S8+S9 -> -122.74 | W9: =(S5+S6+S7+S8+S9)/T21 -> -0.94075843
B10: June | C10: 67.19 | D10: 41.32 | E10: 35.26 | F10: 16.46 | G10: 13332 | H10: =(F10/G10)*1000 -> 1.2346235 | I10: =SUM(F10-(F10*4%)) -> 15.8016 | J10: =SUM(F10-(F10*4%)) -> 15.8016 | K10: 44.64 | L10: 81.74 | M10: 15110 | P10: =(K10/M10)*1000 -> 2.9543349 | Q10: =E10-I10 -> 19.4584 | R10: =Q5+Q6+Q7+Q8+Q9+Q10 -> 84.0076 | S10: =K10-E10 -> 9.38 | T10: =Q10+S10 -> 28.8384 | U10: =-(S5+S6+S7+S8+S9+S10) -> 113.36 | V10: =S5+S6+S7+S8+S9+S10 -> -113.36 | W10: =(S5+S6+S7+S8+S9+S10)/T21 -> -0.86886407
B11: July | C11: 63.73 | D11: 55.24 | E11: 23.38 | F11: 29.86 | G11: 10643 | H11: =(F11/G11)*1000 -> 2.8055999 | I11: =SUM(F11-(F11*4%)) -> 28.6656 | J11: =SUM(F11-(F11*4%)) -> 28.6656 | K11: 26.06 | L11: 35.04 | M11: 12304 | P11: =(K11/M11)*1000 -> 2.1180104 | Q11: =E11-I11 -> -5.2856 | R11: =Q5+Q6+Q7+Q8+Q9+Q10+Q11 -> 78.722 | S11: =K11-E11 -> 2.68 | T11: =Q11+S11 -> -2.6056 | U11: =-(S5+S6+S7+S8+S9+S10+S11) -> 110.68 | V11: =S5+S6+S7+S8+S9+S10+S11 -> -110.68 | W11: =(S5+S6+S7+S8+S9+S10+S11)/T21 -> -0.84832282
B12: Aug | C12: 68.16 | D12: 68.13 | E12: 44.42 | F12: 21.24 | G12: 5875 | H12: =(F12/G12)*1000 -> 3.6153191 | I12: =SUM(F12-(F12*4%)) -> 20.3904 | J12: =SUM(F12-(F12*4%)) -> 20.3904 | K12: 27.93 | L12: 66.52 | M12: 4420 | P12: =(K12/M12)*1000 -> 6.3190045 | Q12: =E12-I12 -> 24.0296 | R12: =Q5+Q6+Q7+Q8+Q9+Q10+Q11+Q12 -> 102.7516 | S12: =K12-E12 -> -16.49 | T12: =Q12+S12 -> 7.5396 | U12: =-(S5+S6+S7+S8+S9+S10+S11+S12) -> 127.17 | V12: =S5+S6+S7+S8+S9+S10+S11+S12 -> -127.17 | W12: =(S5+S6+S7+S8+S9+S10+S11+S12)/T21 -> -0.97471281
B13: Sept | C13: 60.73 | D13: 87.64 | E13: 36.21 | F13: 30.21 | G13: 12504 | H13: =(F13/G13)*1000 -> 2.4160269 | I13: =SUM(F13-(F13*4%)) -> 29.0016 | J13: =SUM(F13-(F13*4%)) -> 29.0016 | K13: 139.93 | L13: 49.75 | M13: 10456 | O13: Mainly from 01G150 removal & civils. Also some bulk ash and chemicals. | P13: =(K13/M13)*1000 -> 13.382747 | Q13: =E13-I13 -> 7.2084 | R13: =Q5+Q6+Q7+Q8+Q9+Q10+Q11+Q12+Q13 -> 109.96 | S13: =K13-E13 -> 103.72 | T13: =Q13+S13 -> 110.9284 | U13: =-(S5+S6+S7+S8+S9+S10+S11+S12+S13) -> 23.45 | V13: =S5+S6+S7+S8+S9+S10+S11+S12+S13 -> -23.45 | W13: =(S5+S6+S7+S8+S9+S10+S11+S12+S13)/T21 -> -0.17973591
B14: Oct | C14: 44.5 | D14: 40.01 | E14: 35.82 | F14: 46.75 | G14: 13267 | H14: =(F14/G14)*1000 -> 3.5237808 | I14: =SUM(F14-(F14*4%)) -> 44.88 | J14: =SUM(F14-(F14*4%)) -> 44.88 | K14: 23.79 | L14: 47.5 | M14: 11657 | P14: =(K14/M14)*1000 -> 2.0408338 | Q14: =E14-I14 -> -9.06 | R14: =Q5+Q6+Q7+Q8+Q9+Q10+Q11+Q12+Q13+Q14 -> 100.9 | S14: =K14-E14 -> -12.03 | T14: =Q14+S14 -> -21.09 | U14: =-(S5+S6+S7+S8+S9+S10+S11+S12+S13+S14) -> 35.48 | V14: =S5+S6+S7+S8+S9+S10+S11+S12+S13+S14 -> -35.48 | W14: =(S5+S6+S7+S8+S9+S10+S11+S12+S13+S14)/T21 -> -0.27194158
B15: Nov | C15: 39.08 | D15: 38.95 | E15: 67.71 | F15: 24.15 | G15: 16797 | H15: =(F15/G15)*1000 -> 1.4377567 | I15: =SUM(F15-(F15*4%)) -> 23.184 | J15: =SUM(F15-(F15*4%)) -> 23.184 | K15: 28.13 | L15: 68.69 | P15: =(K15/M15)*1000 -> #DIV/0! | Q15: =E15-I15 -> 44.526 | R15: =Q5+Q6+Q7+Q8+Q9+Q10+Q11+Q12+Q13+Q14+Q15 -> 145.426 | S15: =K15-E15 -> -39.58 | T15: =Q15+S15 -> 4.946 | U15: =-(S5+S6+S7+S8+S9+S10+S11+S12+S13+S14+S15) -> 75.06 | V15: =S5+S6+S7+S8+S9+S10+S11+S12+S13+S14+S15 -> -75.06 | W15: =(S5+S6+S7+S8+S9+S10+S11+S12+S13+S14+S15)/T21 -> -0.5753082
B16: Dec | C16: 38.57 | D16: 20.93 | F16: 15.58 | G16: 16890 | H16: =(F16/G16)*1000 -> 0.92243931 | I16: =SUM(F16-(F16*4%)) -> 14.9568 | J16: =SUM(F16-(F16*4%)) -> 14.9568 | K16: 29.76 | L16: 81.82 | P16: =(K16/M16)*1000 -> #DIV/0! | Q16: =E16-I16 -> -14.9568 | R16: =Q5+Q6+Q7+Q8+Q9+Q10+Q11+Q12+Q13+Q14+Q15+Q16 -> 130.4692 | S16: =K16-E16 -> 29.76 | T16: =Q16+S16 -> 14.8032 | U16: =-(S5+S6+S7+S8+S9+S10+S11+S12+S13+S14+S15+S16) -> 45.3 | V16: =S5+S6+S7+S8+S9+S10+S11+S12+S13+S14+S15+S16 -> -45.3 | W16: =(S5+S6+S7+S8+S9+S10+S11+S12+S13+S14+S15+S16)/T21 -> -0.34720838
B17: Totals | C17: =SUM(C5:C16) -> 680.75 | D17: =SUM(D5:D16) -> 505.46 | E17: =SUM(E5:E16) -> 486.85 | G17: =SUM(G5:G16) -> 142622 | H17: =SUM(H5:H16) -> 35.654709 | I17: =SUM(I5:I16) -> 356.3808 | J17: =SUM(J5:J16) -> 356.3808 | K17: =SUM(K5:K16) -> 441.55 | P17: =SUM(P5:P16) -> #DIV/0! | Q17: =SUM(Q5:Q16) -> 130.4692 | S17: =SUM(S5:S16) -> -45.3 | T17: =SUM(T5:T16) -> 85.1692 | V17: =SUM(V5:V16) -> -915.57
B19: Target YTD Achievement (%) | Q19: =W13 -> -0.17973591 | R19: <<<<<< Change to current row
D21: Target Saving for 2015 (T) | T21: =E17-I17 -> 130.4692
E23: Target % | K23: 4
E24: Actual 2014 | K24: =SUM(F5:F13) -> 284.75 | M24: <<<<< | O24: Alter these for current row / month data….
E25: Actual 2015 | K25: =SUM(K5:K13) -> 359.87 | M25: <<<<< | O25: Alter these for current row / month data….
E26: Difference YTD | K26: =K24-K25 -> -75.12
E27: Percentage | K27: =K26/K24 -> -0.26381036
N29: Organisational Variance
N30: Climatic Variance
N31: Production Variance
N32: Other (Please Comment)
