Workbook

Sheet 2013
A1: Year | B1: 2013
G2: Output | L2: Waste
G3: Volume | H3: Bakery | I3: 22899.24 | J3: Tonnes | L3: Wood | N3: Tonnes
B4: Consumption | G4: Volume | H4: Sausage | I4: 2256.36 | J4: Tonnes | L4: Tin | M4: 375.99 | N4: Tonnes
B5: Water | C5: 100925 | D5: m3 | E5: =SUM(C5*1000) -> 100925000 | H5: Total | I5: =SUM(I3:I4) -> 25155.6 | J5: Tonnes | K5: =SUM(I5*1000) -> 25155600 | L5: Cardboard | N5: Tonnes
B6: Gas | C6: 17600 | D6: Kwh | L6: Aggregate | N6: Tonnes
B7: Electricity | C7: 13200 | D7: Kwh | L7: General | M7: 470 | N7: Tonnes
B8: Total Energy | C8: =SUM(C6:C7) -> 30800 | D8: Kwh | L8: Food | M8: 2899 | N8: Tonnes
L9: Metals | N9: Tonnes
B10: Total Energy | C10: =SUM(C8/1000) -> 30.8 | D10: MWh
N11: Grand Total Waste | P11: =SUM(M3:M9) -> 3744.99 | Q11: Tonnes
D12: Water usage per tonne of product | H12: =SUM(C5/I5) -> 4.0120291 | I12: m3 | J12: =SUM(H12*1000) -> 4012.0291 | K12: Litres
D14: Energy usage per tonne of product | H14: =SUM(C10/I5) -> 0.0012243795 | I14: MWh
D16: Waste per tonne of product produced | H16: =SUM(P11/I5) -> 0.14887301 | I16: Tonnes
D18: Food Waste per tonne of product | H18: =SUM(M8/I5) -> 0.11524273
H20: =SUM(E5/K5) -> 4.0120291 | J20: litres / Kg
H21: =SUM(H20*1000) -> 4012.0291 | I21: =SUM(G21*1000) -> 0 | J21: litres / ton
C22: Water Conversion:
C23: m3 | D23: 1 | E23: litres | F23: 1000
C24: Energy Conversion:
C25: 1 MWh = 1000 kWh
C26: Weight Conversion
C27: 1000 Kg = 1 Ton

Sheet 2014
A1: Year | B1: 2014 | C1: Year | D1: 2014
G2: Output | L2: Waste | O2: EWC Code
G3: Volume | H3: Bakery | I3: 25337 | J3: Tonnes | L3: Wood | N3: Tonnes
B4: Consumption | G4: Volume | H4: Sausage | I4: 1920 | J4: Tonnes | L4: Tin | M4: 422 | N4: Tonnes
B5: Water | C5: 89648 | D5: m3 | H5: Total | I5: =SUM(I3:I4) -> 27257 | J5: Tonnes | L5: Cardboard | N5: Tonnes
B6: Gas | C6: 12680 | D6: Kwh | L6: Aggregate | N6: Tonnes
B7: Electricity | C7: 16810 | D7: Kwh | L7: General | M7: 458 | N7: Tonnes
B8: Total Energy | C8: =SUM(C6:C7) -> 29490 | D8: Kwh | L8: Food | M8: 3151 | N8: Tonnes | O8: 02 02 03
L9: Metals | M9: 18 | N9: Tonnes
B10: Total Energy | C10: =SUM(C8/1000) -> 29.49 | D10: MWh
N11: Grand Total Waste | P11: =SUM(M3:M9) -> 4049 | Q11: Tonnes
D12: Water usage per tonne of product | H12: =SUM(C5/I5) -> 3.28899 | I12: m3 | J12: =SUM(H12*1000) -> 3288.99 | K12: Litres
D14: Energy usage per tonne of product | H14: =SUM(C10/I5) -> 0.0010819239 | I14: MWh
D16: Waste per tonne of product produced | H16: =SUM(P11/I5) -> 0.148549 | I16: Tonnes
D18: Food Waste / Ton of product produced | H18: =SUM(M8/I5) -> 0.11560333
I21: Recovery Operations
I23: R1* | J23: Use principally as a fuel or other means to generate energy | Q23: Disposal Operations
I24: R2 | J24: Solvent reclamation/regeneration | Q24: D1 | R24: Deposit into or onto land, e.g. landfill
I25: R3 | J25: Recycling/reclamation of organic substances which are not used as solvents (including composting and other biological transformation processes) | Q25: D2 | R25: Land treatment, e.g. biodegradation of liquid or sludgy discards in soils
I26: R4 | J26: Recycling/reclamation of metals and metal compounds | Q26: D3 | R26: Deep injection, e.g. injection of pumpable discards into wells, salt domes or naturally occurring repositories
I27: R5 | J27: Recycling/reclamation of other inorganic materials | Q27: D4 | R27: Surface impoundment, e.g. placement of liquid or sludgy discards into pits, ponds or lagoons
I28: R6 | J28: Regeneration of acids or bases | Q28: D5 | R28: Specially engineered landfill, e.g. placement into lined discrete cells which are capped and isolated from one another and the environment
I29: R7 | J29: Recovery of components used for pollution abatement | Q29: D6 | R29: Release into a water body, except seas/oceans
I30: R8 | J30: Recovery of components from catalysts | Q30: D7 | R30: Release into seas/oceans, including sea-bed insertion
I31: R9 | J31: Oil re-refining or other reuses of oil | Q31: D8 | R31: Biological treatment resulting in final compounds or mixtures which are discarded by any of the operations numbered D1 to D12
I32: R10 | J32: Land treatment resulting in benefit to agriculture or ecological improvement | Q32: D9 | R32: Physico-chemical treatment resulting in final compounds or mixtures which are discarded by any of the operations numbered D1 to D12, e.g. evaporation, drying, calcination
I33: R11 | J33: Use of wastes obtained from any of the operations numbered R1 to R10 | Q33: D10 | R33: Incineration on land
I34: R12* | J34: Exchange of wastes for submission to any of the operations numbered R1 to R11 | Q34: D11 | R34: Incineration at sea
I35: R13* | J35: Storage of wastes pending any of the operations numbered R1 to R12 (excluding | Q35: D12 | R35: Permanent storage, e.g. emplacement of containers in a mine
J36: temporary storage, pending collection, on the site where it is produced) | Q36: D13 | R36: Blending or mixing prior to submission to any of the operations numbered D1 to D12
Q37: D14 | R37: Repackaging prior to submission to any of the operations numbered D1 to D13
I38: * not considered recovery to a final product | Q38: D15 | R38: Storage pending any of the operations numbered D1 to D14 (excluding temporary storage, pending collection, on the site where it is produced)

Sheet 2015
A1: Year 2015
G2: Output | L2: Waste | O2: EWC Code
G3: Volume | H3: Bakery | I3: 24949 | J3: Tonnes | L3: Wood | M3: 12.48 | N3: Tonnes | O3: 20 01 38
B4: Consumption | G4: Volume | H4: Sausage | I4: 2235 | J4: Tonnes | L4: Tin | M4: 26.52 | N4: Tonnes | O4: 02 01 10 | P4: 17 04 06
B5: Water | C5: 87149 | D5: m3 | H5: Total | I5: =SUM(I3:I4) -> 27184 | J5: Tonnes | L5: Cardboard | M5: 397.11 | N5: Tonnes | O5: 20 01 01
B6: Gas | C6: 17051.128 | D6: Kwh | L6: Aggregate | M6: 69.56 | N6: Tonnes | O6: 17 01 07
B7: Electricity | C7: 12131.931 | D7: Kwh | L7: General | M7: 442.16 | N7: Tonnes | O7: 20 03 01
B8: Total Energy | C8: =SUM(C6:C7) -> 29183.059 | D8: Kwh | L8: Food | M8: 5765.55 | N8: Tonnes | O8: 02 02 03
L9: Metals | M9: 12460 | N9: Tonnes | O9: 02 01 10 | P9: 20 01 40
B10: Total Energy | C10: =SUM(C8/1000) -> 29.183059 | D10: MWh | L10: Fluorescent Tubes | M10: 72 | N10: units
L11: Battries | M11: 520 | N11: units
N14: Grand Total Waste | P14: =SUM(M3:M9) -> 19173.38 | Q14: Tonnes
D15: Water usage per tonne of product | H15: =SUM(C5/I5) -> 3.2058932 | I15: m3 | J15: =SUM(H15*1000) -> 3205.8932 | K15: Litres
D17: Energy usage per tonne of product | H17: =SUM(C10/I5) -> 0.0010735381 | I17: MWh
D19: Waste per tonne of product produced | H19: =SUM(P14/I5) -> 0.70531857 | I19: Tonnes
D21: Food Waste per tonne of product | H21: =SUM(M8/I5) -> 0.21209351 | I21: Tonnes

Sheet 2016
C1: Year 2016
I2: Output | P2: Waste | S2: EWC Code | V2: Variance from Previous year
I3: Volume | J3: Bakery | K3: 24387 | L3: Tonnes | M3: =SUM('2016'!K3-'2015'!I3) -> -562 | P3: Wood | Q3: 14.79 | R3: Tonnes | S3: 20 01 38 | V3: =SUM('2016'!Q3-'2015'!M3) -> 2.31
B4: Consumption | E4: Variance | I4: Volume | J4: Sausage | K4: 2234 | L4: Tonnes | M4: =SUM('2016'!K4-'2015'!I4) -> -1 | P4: Tin | Q4: 39.88 | R4: Tonnes | S4: 02 01 10 | T4: 17 04 06 | V4: =SUM('2016'!Q4-'2015'!M4) -> 13.36
B5: Water | C5: 89063 | D5: m3 | E5: =SUM('2016'!C5-'2015'!C5) -> 1914 | J5: Total | K5: =SUM(K3:K4) -> 26621 | L5: Tonnes | P5: Cardboard | Q5: 398 | R5: Tonnes | S5: 20 01 01 | V5: =SUM('2016'!Q5-'2015'!M5) -> 0.89
B6: Gas | C6: 17380.387 | D6: Kwh | E6: =SUM('2016'!C6-'2015'!C6) -> 329.259 | P6: Aggregate | Q6: 19.72 | R6: Tonnes | S6: 17 01 07 | V6: =SUM('2016'!Q6-'2015'!M6) -> -49.84
B7: Electricity | C7: 12834.954 | D7: Kwh | E7: =SUM('2016'!C7-'2015'!C7) -> 703.023 | P7: General | Q7: 437.68 | R7: Tonnes | S7: 20 03 01 | V7: =SUM('2016'!Q7-'2015'!M7) -> -4.48
B8: Total Energy | C8: =SUM(C6:C7) -> 30215.341 | D8: Kwh | E8: =SUM('2016'!C8-'2015'!C8) -> 1032.282 | P8: Food | Q8: 6132.91 | R8: Tonnes | S8: 02 02 03 | V8: =SUM('2016'!Q8-'2015'!M8) -> 367.36
P9: Metals | Q9: 3580 | R9: Tonnes | S9: 02 01 10 | T9: 20 01 40 | V9: =SUM('2016'!Q9-'2015'!M9) -> -8880
B10: Total Energy | C10: =SUM(C8/1000) -> 30.215341 | D10: MWh | E10: =SUM('2016'!C10-'2015'!C10) -> 1.032282 | P10: Fluorescent Tubes | Q10: 0 | R10: units | V10: =SUM('2016'!Q10-'2015'!M10) -> -72
P11: Battries | Q11: 0 | R11: units | V11: =SUM('2016'!Q11-'2015'!M11) -> -520
P12: Paper | Q12: 5.5 | R12: Tonnes | V12: =SUM('2016'!Q12-'2015'!M12) -> 5.5
P13: Asbestos | Q13: 1.59 | R13: Tonnes
F14: Current Years Performance | R14: Grand Total Waste | T14: =SUM(Q3:Q9) -> 10622.98 | U14: Tonnes | V14: =SUM('2016'!T14-'2015'!P14) -> -8550.4
F15: Water usage per tonne of product | J15: =SUM(C5/K5) -> 3.3455918 | K15: m3 | L15: =SUM(J15*1000) -> 3345.5918 | M15: Litres
F17: Energy usage per tonne of product | J17: =SUM(C10/K5) -> 0.001135019 | K17: MWh
F19: Total Waste per tonne of product produced | J19: =SUM(T14/K5) -> 0.39904511 | K19: Tonnes
F21: Food Waste per tonne of Product Produced | J21: =SUM(Q8/K5) -> 0.23037865 | K21: Tonnes | L21: =SUM(J21*1000) -> 230.37865 | M21: Kg
F24: Variance with Last Year
F25: Water usage per tonne of product | J25: =SUM('2016'!J15-'2015'!H15) -> 0.13969865 | K25: m3 | L25: =SUM(J25*1000) -> 139.69865 | M25: Litres
F27: Energy usage per tonne of product | J27: =SUM('2016'!J17-'2015'!H17) -> 6.1480934e-05 | K27: MWh | L27: =SUM(J27*1000) -> 0.061480934 | M27: KwH
F29: Waste per tonne of product produced | J29: =SUM('2015'!H19-'2016'!J19) -> 0.30627345 | K29: Tonnes | L29: =SUM(J29*1000) -> 306.27345 | M29: Kg

Sheet 2017
C1: Year 2017
I2: Output | P2: Waste | S2: EWC Code | V2: Variance from Previous year
I3: Volume | J3: Bakery | K3: 22962 | L3: Tonnes | M3: =SUM('2017'!K3-'2016'!K3) -> -1425 | P3: Wood | Q3: 17.3 | R3: Tonnes | S3: 20 01 38 | V3: =SUM('2017'!Q3-'2016'!Q3) -> 2.51
B4: Consumption | E4: Variance | I4: Volume | J4: Sausage | K4: 1811 | L4: Tonnes | M4: =SUM('2017'!K4-'2016'!K4) -> -423 | P4: Tin | Q4: 30.4 | R4: Tonnes | S4: 02 01 10 | T4: 17 04 06 | V4: =SUM('2017'!Q4-'2016'!Q4) -> -9.48
B5: Water | C5: 89189 | D5: m3 | E5: =SUM('2017'!C5-'2016'!C5) -> 126 | J5: Total | K5: =SUM(K3:K4) -> 24773 | L5: Tonnes | P5: Cardboard | Q5: 369.22 | R5: Tonnes | S5: 20 01 01 | V5: =SUM('2017'!Q5-'2016'!Q5) -> -28.78
B6: Gas | C6: 17483.423 | D6: Kwh | E6: =SUM('2017'!C6-'2016'!C6) -> 103.036 | P6: Aggregate | Q6: 19.46 | R6: Tonnes | S6: 17 01 07 | V6: =SUM('2017'!Q6-'2016'!Q6) -> -0.26
B7: Electricity | C7: 12288.399 | D7: Kwh | E7: =SUM('2017'!C7-'2016'!C7) -> -546.555 | P7: General | Q7: 418.61 | R7: Tonnes | S7: 20 03 01 | V7: =SUM('2017'!Q7-'2016'!Q7) -> -19.07
B8: Total Energy | C8: =SUM(C6:C7) -> 29771.822 | D8: Kwh | E8: =SUM('2017'!C8-'2016'!C8) -> -443.519 | P8: Food | Q8: 4651.8 | R8: Tonnes | S8: 02 02 03 | V8: =SUM('2017'!Q8-'2016'!Q8) -> -1481.11
P9: Metals | Q9: 13840 | R9: Tonnes | S9: 02 01 10 | T9: 20 01 40 | V9: =SUM('2017'!Q9-'2016'!Q9) -> 10260 | W9: Mild Steel 11860 - Stainless Steel 1880 - Alloy 20 - Copper 80
B10: Total Energy | C10: =SUM(C8/1000) -> 29.771822 | D10: MWh | E10: =SUM('2017'!C10-'2016'!C10) -> -0.443519 | P10: Fluorescent Tubes | R10: units | V10: =SUM('2017'!Q10-'2016'!M10) -> 0
P11: Battries | R11: units | V11: =SUM('2017'!Q11-'2016'!M11) -> 0
P12: Paper | Q12: 3.91 | R12: Tonnes | V12: =SUM('2017'!Q12-'2016'!Q12) -> -1.59
P13: Asbestos | R13: Tonnes
F14: Current Years Performance | R14: Grand Total Waste | T14: =SUM(Q3:Q9) -> 19346.79 | U14: Tonnes | V14: =SUM('2017'!T14-'2016'!T14) -> 8723.81
F15: Water usage per tonne of product | J15: =SUM(C5/K5) -> 3.6002503 | K15: m3 | L15: =SUM(J15*1000) -> 3600.2503 | M15: Litres
F17: Energy usage per tonne of product | J17: =SUM(C10/K5) -> 0.0012017851 | K17: MWh | R17: Waste Total Less Food | T17: =SUM(T14-Q8) -> 14694.99 | U17: Tonnes
F19: Total Waste per tonne of product produced | J19: =SUM(T14/K5) -> 0.78096274 | K19: Tonnes
F21: Food Waste per tonne of Product Produced | J21: =SUM(Q8/K5) -> 0.18777702 | K21: Tonnes | L21: =SUM(J21*1000) -> 187.77702 | M21: Kg
F24: Variance with Last Year
F25: Water usage per tonne of product | J25: =SUM('2017'!J15-'2016'!J15) -> 0.25465845 | K25: m3 | L25: =SUM(J25*1000) -> 254.65845 | M25: Litres
F27: Energy usage per tonne of product | J27: =SUM('2017'!J17-'2016'!J17) -> 6.6766081e-05 | K27: MWh | L27: =SUM(J27*1000) -> 0.066766081 | M27: KwH
F29: Waste per tonne of product produced | J29: =SUM('2016'!J21-'2017'!J21) -> 0.042601633 | K29: Tonnes | L29: =SUM(J29*1000) -> 42.601633 | M29: Kg
