Workbook

Sheet Current asset evaluation
C12: Zone 1 - Imported sludge tank
B13: Description | C13: Imported sludge is held within a tank where after it is pumped to a screen returned to the tank and then the screened sludge is pumped towards the consolidation tanks.
B14: Number of tanks | C14: 1
B15: Volume of tank | C15: 164m3 (approximately) - import sludge and screened tank 6 tankers of 30m3 - 180m3 (max)
B16: Material of tank | C16: Concrete
B17: Above/below ground? | C17: Below ground
B18: Pipe material | C18: Above and below ground pipe work was originally ductile iron in 1981 Pipework was replaced with stainless steel pipes in 2015
B19: Drainage for zone | C19: Paved around tanks - permeable Road south east drains to gullies connected to liquor return tank returning to head of works
B20: Year of construction | C20: 1981 - Tank 2015 - Stainless steel pipes and tank roof refurbishment
B21: Surrounding area | C21: Block paving around tanks - permeable Road is paved to south east - permeable Road south of tank is tarmacked - impermeable
B23: Pump rate - lift pump | C23: 5.5kw (flow rate unknown)
B24: Pump rate - to consolidation tanks | C24: 7.5kw flygt (rate unknown)
B26: Is asset fit for purpose? | C26: The tank was originally designed and constructed to hold sludge (consolidation tanks). Currently used to store imported sludge and has been operating with no notable concerns. Tank has not undergone a significant change of use
B27: Condition of the tank Any tank failures - cracks, flaking, corrosion, overflows, overfilling? | C27: No visible issues during inspection in 2015 when pipework was replaced.
B28: Condition of pipework Pipe leaks, corrosion? | C28: No visible issues after pipework was replaced with stainless steel pipework in 2015 Flexihose used for filling sludge tank from tanker has failed in the past - leakage
... B32: Secondary containment condition? | C32: N/A

Sheet Zone 1 volume
O16: Above ground
O18: H | P18: 0.7
O19: L | P19: =3.35+0.61+3.35-0.61-0.61 -> 6.09
O20: W | P20: =7.31-0.61-0.61 -> 6.09
P21: =P18*P19*P20 -> 25.96167
O23: Middle
O25: H | P25: =4.03-P18 -> 3.33
O26: L | P26: =3.35+0.61+3.35-0.61-0.61 -> 6.09
O27: W | P27: =7.31-0.61-0.61 -> 6.09
P28: =P25*P26*P27 -> 123.50337
O30: Bottom
O32: H | P32: 1
O33: L | P33: 3
O34: W | P34: 3
P35: =P32*P33*P34 -> 9
O37: Sides
O39: Area | P39: 0.6
O40: Length | P40: =3+1.54*4 -> 9.16
P41: =P40*P39 -> 5.496
O43: Sum | P43: =P21+P28+P35+P41 -> 163.96104

Sheet Risk assessment
B11: Source
B13: Material | C13: Physical properties | D13: Maximum quantity | E13: units | F13: Storage | G13: Flammability | H13: Corrosive | I13: Ecotoxicity (based on LD and quantity) | J13: Hazard rating
B14: Inventory - Imported sludge (unscreened) | C14: Liquid with sludge <= 4-5% | D14: 30 | E14: m3 | F14: Tanker | G14: Not flammable | H14: Possibly | I14: Organic heavy - Nitrogen, Phosphorous, Ammonia, BOD, TSS, COD - Environmental hazard (algae blooms and death of organisms) Pathogens - Human hazard (E.coli etc.) | J14: M
B15: Inventory - Imported sludge (unscreened) | C15: Liquid with sludge <= 4-5% | D15: 82 | E15: m3 | F15: Concrete underground covered tank | G15: Not flammable | H15: Possibly | I15: Organic heavy - Nitrogen, Phosphorous, Ammonia, BOD, TSS, COD - Environmental hazard (algae blooms and death of organisms) Pathogens - Human hazard (E.coli etc.) | J15: M
B16: Inventory - Imported sludge (screened) | C16: Liquid with sludge <= 4-5% | D16: 82 | E16: m3 | F16: Concrete underground covered tank | G16: Not flammable | H16: Possibly | I16: Organic heavy - Nitrogen, Phosphorous, Ammonia, BOD, TSS, COD - Environmental hazard (algae blooms and death of organisms) Pathogens - Human hazard (E.coli etc.) | J16: M
B17: Rainwater run-off contaminated by inventory | C17: Surface water mixed with sludge/pollutants | D17: Dependent on area of containment | E17: m3 | F17: N/A | G17: Not flammable | H17: No | I17: Lower concentration of sludge contaminants (diluted) | J17: L
I18: Overall | J18: M
B20: Pathway and Receptor
B54: Pathway - the route from primary containment to receptor (extent of loss of containment) | D54: Time of concentration/ duration of source outside containment | F54: Hazard - Transport potential | I54: Receptor | J54: Hazard - Damage potential
B55: Tanks are surrounded by permeable hardstanding (concrete block paving) and grass is found just south of the tanks. Based on available ground information, soil is permeable (infiltration rate of 4 x 10-5m/s) Permeable sub-soils/strata will thus act as a pathway | D55: Direct contamination but over an extended period of time | F55: M | I55: Groundwater (underlain by a secondary aquifer) - contaminated through percolation through soil or through fluctuating tidal groundwater level Over a very long period, can contaminate river Dee through groundwater base flow underground | J55: M
B56: If permeable area get saturated (high groundwater) or becomes blocked with sludge, areas will act as impermeable and transport sludge downstream. | D56: Direct contamination but over an extended period of time | F56: M
B57: Tidally fluctuating groundwater | D57: Direct contamination but over an extended period of time | F57: M
B58: Existing underground services - ductwork, tunnels etc. (locations not known) | D58: Direct contamination but over an extended period of time | F58: L
B59: Existing underground imported sludge pipework | D59: Direct contamination but over an extended period of time | F59: M
B60: *Flood water - Site is within flood zone 3 (operational staff did however mention no flooding has been recorded within the site) | D60: Minutes - N/A (dependant on flooding extent) | F60: L | I60: River Dee - animals and fish (river is 300m away from the tanks) | J60: H
B61: There is impermeable tarmac road surfacing south of the tanks. If inventory is spilled (tanker) or cascaded onto road (saturated permeable ground), sludge will be transported downstream along the road surface into the road gullies and into the site drainage system (liquor return) | D61: Minutes - hours | F61: M | I61: WWTW - liquor return tank pumps liquor back to head of works | J61: M
D62: Overall | F62: M | I62: Overall | J62: M
B65: *Flooding in flood zone 3 only have a 1 in 100 year probability of happening in a year
B68: Combination of Hazards | C68: =J18&F62&J62 -> MMM
B71: Overall risk rating for zone (Ciria 736) | C71: =VLOOKUP(C68,List!$E$4:$F$13,2,FALSE) -> M
B75: Frequency of loss of containment
B78: Failure mode | C78: Description | D78: Existing consequence and mitigation measure | I78: Annual probability of loss of containment | J78: Rating
B79: Operational failure - tanker (partial - catastrophic) | C79: Tanker discharge valve open when pipe not connected to tank (spillage of part of tank volume) | D79: Filling of the import sludge tank is done with operational staff present Tanker is operator controlled and there is a shut off valve Total loss of containment not credible due to operational presence during filling of import sludge tank (partial loss of containment would be more likely to occur) | I79: < 1 in 100 | J79: =VLOOKUP(I79,List!$B$16:$E$18,4,FALSE) -> H
B80: Operational failure - tank (partial) | C80: Overfilling/overflow of import tank | D80: Overfilling of unscreened import tank - Tank has an overfill control in place (valve controlled via level in tank) and filling of tank is done with operational presence. Overfilling of screened import tank - Tank does not have an overfill control in place but site is manned during operation within the import sludge area so any overfilling should be noticed and volume would be minimal. Total loss of containment is unlikely (partial loss of containment would be more likely to occur) | I80: > 1 in 1 Million | J80: =VLOOKUP(I80,List!$B$16:$E$18,4,FALSE) -> L
B81: Structural failure - tanker and tanker connections (catastrophic) | C81: Valve breaks off of the tanker leaving hole within tanker. | D81: Filling of the import sludge tank is done with operational staff present For the tanker to lose its full inventory, the pipe connections near the bottom of the tank must fail/break off, causing a rupture/hole in the tank. There are no credible scenarios that could result in this happening. | I81: > 1 in 1 Million | J81: =VLOOKUP(I81,List!$B$16:$E$18,4,FALSE) -> L
B82: Structural failure - tanker and tanker connections (partial) | C82: Leak from tanker hose - the hose has been damaged in the past which had some partial loss of containment Leak from tanker pipework and valves (corrosion) Leak from tank (corrosion) | D82: Filling of the import sludge tank is done with operational staff present DCWW operational staff would stop filling if a significant tanker or hose/connection/valve leak is found. In case of a leak, the loss of containment would be contained in the hardstanding area. Total loss of containment is unlikely (partial loss of containment would be more likely to occur and has in the past - hose leak) | I82: < 1 in 100 | J82: =VLOOKUP(I82,List!$B$16:$E$18,4,FALSE) -> H
B83: Structural failure - tank (Catastrophic) | C83: Catastrophic failure due to significant external damage | D83: Tanks are primarily located below ground, any catastrophic loss of containment will be underground, unless the inventory is displaced which is extremely unlikely. The sludge liquid will most likely percolate into the permeable soil at a slow rate over a long period. There are no credible scenarios that could lead to a catastrophic failure of the underground tank (partial loss of containment would be more likely to occur but still very unlikely). | I83: > 1 in 1 Million | J83: =VLOOKUP(I83,List!$B$16:$E$18,4,FALSE) -> L
B84: Structural failure - tank (partial) | C84: Most likely through cracks formed in concrete following deterioration and spalling of the concrete surface and reinforcement. Most critical cracks would be large cracks at low level along the side of the tank walls or tank base, although deterioration is more likely to occur higher up the tank. | D84: The tank is located below ground so any loss of containment will be contained underground. The cause will most likely be due to hydrogen sulphide attack due to septic sludge, which is more likely to lead to deterioration near the upper third of the tank. This could eventually lead to spalling, deterioration of reinforcement and subsequent cracking over a long period of time. The sludge liquid could percolate into the permeable soil at a slow rate over a long period (4 x 10-5 m/s) in such a scenario. Due to operational presence on site and in the import area, large drops in levels in the tank would be noticed. Currently, there is no level sensor alarm within the tank. During refurbishment works of pipework, operational staff inspected the concrete tank and it was in a good condition with no significant cracks or signs of deterioration of the internal concrete surface. This suggested that hydrogen sulphide attack is not an issue inside the tanks. There are no credible scenarios that could lead to a catastrophic failure of the underground tank (partial loss of containment would be more likely to occur but still highly unlikely with appropriate inspection and maintenance regimes in place). | I84: > 1 in 1 Million | J84: =VLOOKUP(I84,List!$B$16:$E$18,4,FALSE) -> L
B85: Structural failure - pipework (catastrophic) | C85: Loss of containment due to rising main failure to the inlet screen and tank. | D85: In the extremely unlikely event where the above ground pipework (rising main to the screen or the return pipework) fails, a proportion of the import tank volume could be lost if the valves are not closed by operational staff or tanks are not drained down to limit loss of containment. Pumps to the screening area would be shut down immediately by operational staff if the pipes were to fail as the import area is manned during operation. There are no credible scenarios that could lead to a catastrophic failure of the pipework (partial loss of containment would be more likely to occur but still very unlikely). | I85: > 1 in 1 Million | J85: =VLOOKUP(I85,List!$B$16:$E$18,4,FALSE) -> L
B86: Structural failure - pipework (partial) | C86: Loss of containment most likely to occur where there are weak points in the pipework - where pipe connects with the structure, bolts/sealant at pipe flanges/valves or along any pipe pitting. Weak point could be created through either human damage (during maintenance/operation), erosion (high velocities and silt content within the pipe) or environmental (corrosion) | D86: Majority of pipework and connections are located below ground - within the ground or within the chambers below ground. There is some above ground pipework for the screening process (rising main and return pipework). If loss of containment occurs underground, sludge will percolate into the soil at a slow rate over a long period. If there are significant leaks, localised wet areas may be present above ground. If loss of containment occurs above ground through leaks or overflow in screening area, a small proprotion of sludge may also percolate into the soil via the block paving at a slow rate over a long period. Due to operational presence in the import area, significant leaks (above or below) ground would be noticed and loss of containment would be mitigated through operational measures (inhibit pumps, closing valves). The above ground pipework was replaced in 2015 and there have been no known leaks from new stainless steel pipework. Total loss of containment is therefore not deemed to be a credible scenario. Partial loss of containment is possible but still highly unlikely when considering larger volumes. | I86: 1 in 100 to 1 in 1 Million | J86: =VLOOKUP(I86,List!$B$16:$E$18,4,FALSE) -> M
B87: Vehicular impact | C87: Impact from vehicles - damage to pipes or tank causing loss of containment | D87: No known vehicle impacts - but no barrier/protection Vehicles unlikely to damage underground tanks or displace any liquid within them. Total loss of containment is therefore not deemed to be a credible scenario. | I87: > 1 in 1 Million | J87: =VLOOKUP(I87,List!$B$16:$E$18,4,FALSE) -> L
B88: Vandalism | C88: Vandalism of infrastructure - damage to pipes or tank causing loss of containment | D88: No known vandalism to tanks - CCTV cameras on site. Thefts in the past based on comments from operators but no damage has been caused to any of the assets on site. If vandalism damage were to occur, total loss of containment would not be possible. Partial loss of containment could occur if slight damage was done. | I88: > 1 in 1 Million | J88: =VLOOKUP(I88,List!$B$16:$E$18,4,FALSE) -> L
B89: Flooding | C89: River flooding - Flood zone 3 - - damage to pipes or tank causing loss of containment | D89: No flooding has been reported/recorded by the operators Even if flooding occurred, some of the underground tank contents could be displaced and contaminate the flood water, but tanks will not be damaged and full volume of sludge will not be lost. | I89: > 1 in 1 Million | J89: =VLOOKUP(I89,List!$B$16:$E$18,4,FALSE) -> L
B91: *Site is manned. Probability and frequency thus reduced
B94: Frequency of loss of containment (Ciria 736) | C94: M
B97: Overall zone hazard rating
B99: Overall zone hazard rating (Ciria 736) | C99: =VLOOKUP(C71&C94,List!$D$20:$E$28,2,FALSE) -> Moderate
B102: Containment required
B105: Containment required | C105: =VLOOKUP(C99,List!$B$31:$D$33,3,FALSE) -> Class 2

Sheet List
B3: Possible Combination | F3: Site Hazard Rating | H3: LLL | I3: MLL | J3: HLL
B4: L | C4: L | D4: L | E4: =B4&C4&D4 -> LLL | F4: L | H4: LLM | I4: MLM | J4: HLM
B5: M | C5: M | D5: L | E5: =B5&C5&D5 -> MML | F5: L | H5: LLH | I5: MLH | J5: HLH
B6: M | C6: L | D6: L | E6: =B6&C6&D6 -> MLL | F6: L | H6: LMM | I6: MMM | J6: HMM
B7: H | C7: L | D7: L | E7: =B7&C7&D7 -> HLL | F7: L | H7: LML | I7: MML | J7: HML
B8: M | C8: M | D8: M | E8: =B8&C8&D8 -> MMM | F8: M | H8: LMH | I8: MMH | J8: HMH
B9: H | C9: M | D9: L | E9: =B9&C9&D9 -> HML | F9: M | H9: LHL | I9: MHL | J9: HHL
B10: H | C10: H | D10: L | E10: =B10&C10&D10 -> HHL | F10: M | H10: LHM | I10: MHM | J10: HHM
B11: H | C11: M | D11: M | E11: =B11&C11&D11 -> HMM | F11: H | H11: LHH | I11: MHH | J11: HHH
B12: H | C12: H | D12: M | E12: =B12&C12&D12 -> HHM | F12: H
B13: H | C13: H | D13: H | E13: =B13&C13&D13 -> HHH | F13: H
B16: < 1 in 100 | E16: H
B17: 1 in 100 to 1 in 1 Million | E17: M
B18: > 1 in 1 Million | E18: L
B20: H | C20: H | D20: =B20&C20 -> HH | E20: High
B21: H | C21: M | D21: =B21&C21 -> HM | E21: High
B22: M | C22: H | D22: =B22&C22 -> MH | E22: High
B23: M | C23: M | D23: =B23&C23 -> MM | E23: Moderate
B24: H | C24: L | D24: =B24&C24 -> HL | E24: Moderate
B25: L | C25: H | D25: =B25&C25 -> LH | E25: Moderate
B26: L | C26: L | D26: =B26&C26 -> LL | E26: Low
B27: M | C27: L | D27: =B27&C27 -> ML | E27: Low
B28: L | C28: M | D28: =B28&C28 -> LM | E28: Low
B31: Low | D31: Class 1
B32: Moderate | D32: Class 2
B33: High | D33: Class 3

Sheet Mitigation
B12: Catastrophic failure - modes (loss of containment) - pragmatic solution
B14: Risk | C14: Cause | D14: Existing consequence and mitigation measure | K14: Existing zone risk rating | L14: Proposed Mitigation | U14: Risk rating after mitigation
B15: Environmental contamination due to loss of primary containment (Contamination of River Dee, groundwater and WwTW due to loss of containment of import sludge tank) | C15: ='Risk assessment'!B79 -> Operational failure - tanker (partial - catastrophic) | D15: ='Risk assessment'!D79:H79 -> Filling of the import sludge tank is done with operational staff present Tanker is operator controlled and there is a shut off valve Total loss of containment not credible due to operational presence during filling of import sludge tank (partial loss of containment would be more likely to occur) | K15: M | L15: Any import tanker operation is undertaken with the tanker driver/operator and operational staff present in the sludge import area. Therefore, any loss of containment due to operator error would be rectified immediately by inhibiting the sludge transfer and operating isolation valves. Loss of containment will thus be minimised, but containment would be required for this minimal volume lost, assumed to be no more than 10% of the tanker volume. Only competent and trained staff operate the site. The zone is robust and safe provided the permeable areas around the import tank (block paving and low lying grassed areas) is replaced with impermeable hardstanding to remove the pathway to the ground and secondary containment is provided to contain the potential volume loss of the tanker within the site. | U15: L
C16: ='Risk assessment'!B80 -> Operational failure - tank (partial) | D16: ='Risk assessment'!D80:H80 -> Overfilling of unscreened import tank - Tank has an overfill control in place (valve controlled via level in tank) and filling of tank is done with operational presence. Overfilling of screened import tank - Tank does not have an overfill control in place but site is manned during operation within the import sludge area so any overfilling should be noticed and volume would be minimal. Total loss of containment is unlikely (partial loss of containment would be more likely to occur) | K16: L | L16: Both the unscreened and screened import tanks are fitted with ultrasonic meters. The unscreened import tank is also fitted with a shut of valve that operates when the level within the tank is high, thus mitigating the possibility of overfilling of the tank. No overfilling cases have been reported by the operational team. In the unlikely case that the tank overflows due to overfilling, the operator can close the isolation valve, minimising the total spill volume. To further mitigate this, both the existing ultrasonic depth meters could also have auto shut-off controls and associated alarms in place. The inlet screen feed pump to the inlet screen, and from the imported sludge tank, could be automatically inhibited on high level in the screened import tank. Currently this is manually operated. Only competent and trained staff operate the site. The zone is robust and safe provided the permeable areas around the import tank (block paving and low lying grassed areas) is replaced with impermeable hardstanding to remove the pathway to the ground. | U16: L
C17: ='Risk assessment'!B81 -> Structural failure - tanker and tanker connections (catastrophic) | D17: ='Risk assessment'!D81:H81 -> Filling of the import sludge tank is done with operational staff present For the tanker to lose its full inventory, the pipe connections near the bottom of the tank must fail/break off, causing a rupture/hole in the tank. There are no credible scenarios that could result in this happening. | K17: L | L17: If catastrophic failure of the tanker occurs (tanker tank or valve failure) which is extremely unlikely, up to 30m3 of sludge could spill to ground. There are no credible scenarios identified that could lead to catastrophic failure. The zone is robust and safe provided the permeable areas around the import tank (block paving and low lying grassed areas) is replaced with impermeable hardstanding to remove the pathway to the ground. | U17: L
C18: ='Risk assessment'!B82 -> Structural failure - tanker and tanker connections (partial) | D18: ='Risk assessment'!D82:H82 -> Filling of the import sludge tank is done with operational staff present DCWW operational staff would stop filling if a significant tanker or hose/connection/valve leak is found. In case of a leak, the loss of containment would be contained in the hardstanding area. Total loss of containment is unlikely (partial loss of containment would be more likely to occur and has in the past - hose leak) | K18: L | L18: The most probable failure of the tanker other than operator error, is through leakage from valves (seals and corroded bolts) or pipework (broken hoses, pitting of pipework and joints/flanges), causing it to lose a proportion of its total volume. Secondary containment is to be provided to contain this volume. The volume lost due to this cause would be less than a scenario involving operator error as it would be a gradual deterioration rather than a sudden loss of volume. Secondary containment of 10% of containment of the import tanker volume is therefore still considered to be appropriate. The zone is robust and safe provided the permeable areas around the import tank (block paving and low lying grassed areas) is replaced with impermeable hardstanding to remove the pathway to the ground and secondary containment is provided to contain the potential volume loss of the tanker within the site. | U18: L
C19: ='Risk assessment'!B83 -> Structural failure - tank (Catastrophic) | D19: ='Risk assessment'!D83:H83 -> Tanks are primarily located below ground, any catastrophic loss of containment will be underground, unless the inventory is displaced which is extremely unlikely. The sludge liquid will most likely percolate into the permeable soil at a slow rate over a long period. There are no credible scenarios that could lead to a catastrophic failure of the underground tank (partial loss of containment would be more likely to occur but still very unlikely). | K19: L | L19: The tank construction is reinforced concrete (1981). Operational staff stated that there have been no known visible leaks from the tanks and no external damage. Construction was fit for purpose at the time of construction. Due to the very unlikely event of catastrophic failure of the tank due to operational or maintenance procedures (excessive external damage), total loss of containment is very unlikely. If damage does occur, operational staff can isolate the tank and drain it down quickly. As there are no above ground pipe connections to the side of the tank (only at high level) and the concrete nature of the tank, containment for partial failure (cracks) is only considered. The zone is robust and safe provided the permeable areas around the import tank (block paving and low lying grassed areas) is replaced with impermeable hardstanding to remove the pathway to the ground. Associated drainage would connect to liquor return drainage system. The tanks should be inspected on at least an annual basis by a competent engineer in addition to the current maintenance strategy. This can be undertaken during the sludge plant's annual maintenance and inspection shutdown. No further mitigation is considered to be necessary. | U19: L
C20: ='Risk assessment'!B84 -> Structural failure - tank (partial) | D20: ='Risk assessment'!D84:H84 -> The tank is located below ground so any loss of containment will be contained underground. The cause will most likely be due to hydrogen sulphide attack due to septic sludge, which is more likely to lead to deterioration near the upper third of the tank. This could eventually lead to spalling, deterioration of reinforcement and subsequent cracking over a long period of time. The sludge liquid could percolate into the permeable soil at a slow rate over a long period (4 x 10-5 m/s) in such a scenario. Due to operational presence on site and in the import area, large drops in levels in the tank would be noticed. Currently, there is no level sensor alarm within the tank. During refurbishment works of pipework, operational staff inspected the concrete tank and it was in a good condition with no significant cracks or signs of deterioration of the internal concrete surface. This suggested that hydrogen sulphide attack is not an issue inside the tanks. There are no credible scenarios that could lead to a catastrophic failure of the underground tank (partial loss of containment would be more likely to occur but still highly unlikely with appropriate inspection and maintenance regimes in place). | K20: L | L20: The tank construction is reinforced concrete (1981) and the total combined volume contained is up to 164m3. Operational staff stated that there have been no known visible leaks from the tanks and no external (above ground) damage. Construction was fit for purpose at the time of construction. To reduce the likelihood of partial loss of containment, the tanks should be structurally inspected on an annual basis by a competent engineer. The tanks should then be refurbished if necessary. Ultrasonic meters in tanks should be alarmed if there is a significant and unanticipated drop in level to mitigate any significant loss of containment. The zone is robust and safe provided the permeable areas around the import tank (block paving and low lying grassed areas) is replaced with impermeable hardstanding to remove the pathway to the ground. Associated drainage would connect to liquor return drainage system. The tanks should be inspected on at least an annual basis by a competent engineer in addition to the current maintenance strategy. This can be undertaken during the sludge plant's annual maintenance and inspection shutdown. No further mitigation is considered to be necessary. | U20: L
C21: ='Risk assessment'!B85 -> Structural failure - pipework (catastrophic) | D21: ='Risk assessment'!D85:H85 -> In the extremely unlikely event where the above ground pipework (rising main to the screen or the return pipework) fails, a proportion of the import tank volume could be lost if the valves are not closed by operational staff or tanks are not drained down to limit loss of containment. Pumps to the screening area would be shut down immediately by operational staff if the pipes were to fail as the import area is manned during operation. There are no credible scenarios that could lead to a catastrophic failure of the pipework (partial loss of containment would be more likely to occur but still very unlikely). | K21: L | L21: If catastrophic failure of the above ground pipework occurs (i.e. rising main pipe failure), the pumps, if not already, should have the necessary auto-inhibits on low pressure to minimise the loss of containment. The volume contained in the pipe length should still be contained. Additional secondary containment is not proposed and volume is assumed will be able to be accommodated in the new hardstanding area around the tank and pipework within the drainage system. The zone is robust and safe provided the permeable areas around the import tank (block paving and low lying grassed areas) is replaced with impermeable hardstanding to remove the pathway to the ground. Associated drainage would connect to the liquor return drainage system. The above ground pipework should continue to be regularly inspected during daily and weekly inspections to enable proactive maintenance when required. Below ground pipework and chambers should be inspected on an annual basis to check their integrity (CCTV and the necessary leakage detection via falling head tests). | U21: L
C22: ='Risk assessment'!B86 -> Structural failure - pipework (partial) | D22: ='Risk assessment'!D86:H86 -> Majority of pipework and connections are located below ground - within the ground or within the chambers below ground. There is some above ground pipework for the screening process (rising main and return pipework). If loss of containment occurs underground, sludge will percolate into the soil at a slow rate over a long period. If there are significant leaks, localised wet areas may be present above ground. If loss of containment occurs above ground through leaks or overflow in screening area, a small proprotion of sludge may also percolate into the soil via the block paving at a slow rate over a long period. Due to operational presence in the import area, significant leaks (above or below) ground would be noticed and loss of containment would be mitigated through operational measures (inhibit pumps, closing valves). The above ground pipework was replaced in 2015 and there have been no known leaks from new stainless steel pipework. Total loss of containment is therefore not deemed to be a credible scenario. Partial loss of containment is possible but still highly unlikely when considering larger volumes. | K22: L | L22: Original construction was ductile and cast iron (1981) but was replaced with stainless steel pipework (2015). Operational staff stated that there has been no known visible leaks from the import tank pipework, especially after the pipes were replaced. As construction was fit for purpose at the time of construction, secondary containment provision is not considered for the underground pipework. Based on experience the volume that could be lost due to above ground pipework leaks is minimal. Significant leaks would be spotted by operational staff during their daily inspection (site is also manned) and repaired and any loss of containment mitigated. The volume lost to leaks would be able to be contained in the new hardstanding area around the tanks (replacing the block paving and low lying grassed areas) and drainage pipework. Sludge would seep through the leaks at a very slow rate. The volume would slowly flow down the side of the pipe and gather around the pipework. The actual volume lost would be minimal. In the unlikely event that there is significant loss of containment through pipework above ground, loss of containment would be limited to the new and existing hardstanding area around the pipework and tanks. The zone is robust and safe provided the permeable areas around the import tank (block paving and low lying grassed areas) is replaced with impermeable hardstanding to remove the pathway to the ground. Associated drainage would connect to the liquor return drainage system. The above ground pipework should continue to be regularly inspected during daily and weekly inspections to enable proactive maintenance when required. Below ground pipework and chambers should be inspected on an annual basis to check their integrity (CCTV and the necessary leakage detection via falling head tests). | U22: L
C23: ='Risk assessment'!B87 -> Vehicular impact | D23: ='Risk assessment'!D87:H87 -> No known vehicle impacts - but no barrier/protection Vehicles unlikely to damage underground tanks or displace any liquid within them. Total loss of containment is therefore not deemed to be a credible scenario. | K23: L | L23: There are currently no vehicular impact protection for the import tank. Vehicular impacts are unlikely to displace any of the underground volume but could damage above ground pipework. Vehicle barriers are proposed around front of tank and screening area building. This is to mitigate any potential impacts from vehicles and potential damage which could lead to loss of containment. | U23: L
C24: ='Risk assessment'!B88 -> Vandalism | D24: ='Risk assessment'!D88:H88 -> No known vandalism to tanks - CCTV cameras on site. Thefts in the past based on comments from operators but no damage has been caused to any of the assets on site. If vandalism damage were to occur, total loss of containment would not be possible. Partial loss of containment could occur if slight damage was done. | K24: L | L24: Vandalism on site has been mainly theft. If pipes and tanks get damaged within the imported sludge area, because it is operated on a daily basis (during the week) with operational staff present, the risk of loss of containment is low. If there are any signs of damage due to vandalism operators will fix any damage first. No mitigation measures proposed, existing measures deemed adequate. | U24: L
C25: ='Risk assessment'!B89 -> Flooding | D25: ='Risk assessment'!D89:H89 -> No flooding has been reported/recorded by the operators Even if flooding occurred, some of the underground tank contents could be displaced and contaminate the flood water, but tanks will not be damaged and full volume of sludge will not be lost. | K25: L | L25: Operationally if the site is flooded, the site will not be accepting sludge imports and thus the probability of flood water getting contaminated with sludge from the imported sludge tanks is low. No mitigation measures proposed. | U25: L
B28: The probability and risk of failure from the tanks is low and any associated loss of inventory volume would be contained within the adjacent hardstanding area. In line with CIRIA 736, block paving and low lying grassed areas should be replaced with impermeable hardstanding and containment needs to be provided for operational error (valve left open) or the tanker had significant leaks. The site maintenance strategy and annual plant shutdown does need to include structural assessments of the containment structures, including the surrounding hardstanding areas. Drainage pipework and above ground process pipework should be inspected by a competent engineer to allow for pro-active maintenance.

Sheet Containment - Pragmatic
B12: Secondary containment volume requirement - Inventory volume (above ground)
B14: The most probable failure for the import tank area is, based on experience, to be through operational failure (valve left open) or leaks/damage to the hose. During emptying of the sludge tanker into the import sludge tank, the import area is manned. Any potential leaks or spills would be easily spotted and the necessary valves closed immediately to limit volume lost. Based on experience and approaches used for ferric dosing bunds, a 10% volume loss was used to determine the bund volume required.
B24: Above ground volume (tanker volume)
B26: Catastrophic failure | C26: 30 | D26: m3
B28: 10% of tanker | C28: =C26*10% -> 3 | D28: m3
B30: Pragmatic volume | C30: =MAX(C28) -> 3 | D30: m3
B32: Estimate of area required - local containment (proportion of volume)
B35: Volume loss 10% | C35: Height of containment (mm) | D35: Area based on flat ground (m2)
B36: =$C$30 -> 3 | C36: 100 | D36: =B36/(C36/1000) -> 30
B37: =$C$30 -> 3 | C37: 150 | D37: =B37/(C37/1000) -> 20
B38: =$C$30 -> 3 | C38: 200 | D38: =B38/(C38/1000) -> 15
B39: =$C$30 -> 3 | C39: 250 | D39: =B39/(C39/1000) -> 12
B40: =$C$30 -> 3 | C40: 300 | D40: =B40/(C40/1000) -> 10
B41: =$C$30 -> 3 | C41: 350 | D41: =B41/(C41/1000) -> 8.5714286
B42: =$C$30 -> 3 | C42: 400 | D42: =B42/(C42/1000) -> 7.5
B43: =$C$30 -> 3 | C43: 450 | D43: =B43/(C43/1000) -> 6.6666667
B44: =$C$30 -> 3 | C44: 500 | D44: =B44/(C44/1000) -> 6
B45: =$C$30 -> 3 | C45: 550 | D45: =B45/(C45/1000) -> 5.4545455
B46: =$C$30 -> 3 | C46: 600 | D46: =B46/(C46/1000) -> 5
B47: =$C$30 -> 3 | C47: 650 | D47: =B47/(C47/1000) -> 4.6153846
... B54: =$C$30 -> 3 | C54: 1000 | D54: =B54/(C54/1000) -> 3

Sheet Containment volume - Total vol.
B12: Secondary containment volume requirement - Inventory volume (above ground)
B14: Tanker volume only | C14: 30 | D14: m3 | E14: (Inventory volume - above ground)
B15: Total volume | C15: =SUM(C14:C14) -> 30 | D15: m3
B18: 110% and 25% rules (CIRIA 736)
B20: *110% of largest tank | C20: =110%*MAX(C14:C14) -> 33 | D20: m3
B21: 25% of total tank volume | C21: =25%*C15 -> 7.5 | D21: m3
B22: Secondary storage to be provided | C22: =MAX(C20:C21) -> 33 | D22: m3
B25: *Note that 10% includes for rainfall and is the minimum allowable storage that can be provided
B27: Estimate of area required - local containment (100% of volume)
B30: Volume 100% (m3) | C30: Height of containment (m) | D30: Area based on flat ground (m2)
B31: ='Containment volume - Total vol.'!$C$22 -> 33 | C31: 100 | D31: =B31/(C31/1000) -> 330
B32: ='Containment volume - Total vol.'!$C$22 -> 33 | C32: 125 | D32: =B32/(C32/1000) -> 264
B33: ='Containment volume - Total vol.'!$C$22 -> 33 | C33: 150 | D33: =B33/(C33/1000) -> 220
B34: ='Containment volume - Total vol.'!$C$22 -> 33 | C34: 200 | D34: =B34/(C34/1000) -> 165
B35: ='Containment volume - Total vol.'!$C$22 -> 33 | C35: 250 | D35: =B35/(C35/1000) -> 132
B36: ='Containment volume - Total vol.'!$C$22 -> 33 | C36: 300 | D36: =B36/(C36/1000) -> 110
B37: ='Containment volume - Total vol.'!$C$22 -> 33 | C37: 350 | D37: =B37/(C37/1000) -> 94.285714
B38: ='Containment volume - Total vol.'!$C$22 -> 33 | C38: 400 | D38: =B38/(C38/1000) -> 82.5
B39: ='Containment volume - Total vol.'!$C$22 -> 33 | C39: 450 | D39: =B39/(C39/1000) -> 73.333333
B40: ='Containment volume - Total vol.'!$C$22 -> 33 | C40: 500 | D40: =B40/(C40/1000) -> 66
B41: ='Containment volume - Total vol.'!$C$22 -> 33 | C41: 550 | D41: =B41/(C41/1000) -> 60
B42: ='Containment volume - Total vol.'!$C$22 -> 33 | C42: 600 | D42: =B42/(C42/1000) -> 55
... B50: ='Containment volume - Total vol.'!$C$22 -> 33 | C50: 1000 | D50: =B50/(C50/1000) -> 33
B53: Secondary containment volume requirement - Rainfall volume
B55: Area of containment | C55: 33 | D55: m2 | E55: (Area of containment)
B57: 24 hour - 1:10 year rainfall | C57: 41 | D57: mm
B58: 8 day - 1:10 year rainfall | C58: 95 | D58: mm
B60: Total rainfall volume | C60: =(C57/1000)*$C$55+(C58/1000)*$C$55 -> 4.488 | D60: m3
B105: Secondary containment including rainfall | D105: =MAX(C14:C14)+C60 -> 34.488 | E105: m3
B108: Total secondary containment volume
B110: Volume | C110: =MAX(D105,C22) -> 34.488 | D110: m3

Sheet Pragmatic volume - Mitigation
B12: Catastrophic failure - modes (loss of containment) - pragmatic solution
B14: Risk | C14: Cause | D14: Existing consequence and mitigation measure | K14: Existing zone risk rating | L14: Proposed Mitigation | T14: Risk rating after mitigation
B15: Environmental contamination due to loss of primary containment (Contamination of River Dee, groundwater and WwTW due to loss of containment of import sludge tank) | C15: ='Risk assessment'!B79 -> Operational failure - tanker (partial - catastrophic) | D15: ='Risk assessment'!D79:H79 -> Filling of the import sludge tank is done with operational staff present Tanker is operator controlled and there is a shut off valve Total loss of containment not credible due to operational presence during filling of import sludge tank (partial loss of containment would be more likely to occur) | K15: M | L15: Any import tanker operation is done with the tanker driver/operator and operational staff being within the sludge import area. Any potential operator error, for example valve opened when pipe isn't connected or valve left open, will be immediately spotted and the necessary shut off valves operated. Loss of containment will thus be minimised, but containment would be required for this minimal volume (10% of tanker volume). Permeable areas around the imported sludge tanks (block paving) and low lying grassed areas is also to be replaced with impermeable hardstanding to remove the pathway to the ground. Only competent and trained staff should be allowed to operate the site, especially the sludge treatment, to minimise any errors and mistakes. | T15: L
C16: ='Risk assessment'!B80 -> Operational failure - tank (partial) | D16: ='Risk assessment'!D80:H80 -> Overfilling of unscreened import tank - Tank has an overfill control in place (valve controlled via level in tank) and filling of tank is done with operational presence. Overfilling of screened import tank - Tank does not have an overfill control in place but site is manned during operation within the import sludge area so any overfilling should be noticed and volume would be minimal. Total loss of containment is unlikely (partial loss of containment would be more likely to occur) | K16: L | L16: Both the unscreened and screened import tanks are fitted with ultrasonic meters. The unscreened import tank is also fitted with a shut of valve that operates when the level within the tank is high, thus mitigating the possibility of overfilling of the tank. No overfilling cases were reported by the operational team. In the unlikely case that the tank overflows, spillage can be mitigated by operator (immediate valve shut-off) and spillage volume would be low. To futher mitigate this both the existing ultrasonic depth meters need the necessary telemetry controls and alarming. For the screened import tank, the pump to the inlet screen, from the imported sludge tank, should be controlled via the level in both tanks. Currently manually operated Permeable areas around the imported sludge tanks (block paving) and low lying grassed areas is also to be replaced with impermeable hardstanding to remove the pathway to the ground. Only competent and trained staff should be allowed to operate the site, especially the sludge treatment, to minimise any errors and mistakes. | T16: L
C17: ='Risk assessment'!B81 -> Structural failure - tanker and tanker connections (catastrophic) | D17: ='Risk assessment'!D81:H81 -> Filling of the import sludge tank is done with operational staff present For the tanker to lose its full inventory, the pipe connections near the bottom of the tank must fail/break off, causing a rupture/hole in the tank. There are no credible scenarios that could result in this happening. | K17: L | L17: The most probable failure of the tanker, based on experience, is assumed to be most likely through leakage from valves (seals and coroded bolts) or pipework (broken hioses, pitting of pipework and joints/flanges), causing it to lose a proportion of its total volume. Secondary containment is to be provided to contain this volume. As the flow rate from the leaks will be very low and take a significant time to empty the whole tanker, only a proportion of the volume is considered. As the total loss of containment from leaks is very subjective, a conservative approach was taken. A proportion of the total volume (10% of tanker volume) was assumed could be lost and needs to be contained. This was based on the assumption that operating the tanker and associated pipework and valves could aggrevate the existing leak(s) causing more volume to spill. Permeable areas around the imported sludge tanks (block paving) and low lying grassed areas is also to be replaced with impermeable hardstanding to remove the pathway to the ground. | T17: L
C18: ='Risk assessment'!B82 -> Structural failure - tanker and tanker connections (partial) | D18: ='Risk assessment'!D82:H82 -> Filling of the import sludge tank is done with operational staff present DCWW operational staff would stop filling if a significant tanker or hose/connection/valve leak is found. In case of a leak, the loss of containment would be contained in the hardstanding area. Total loss of containment is unlikely (partial loss of containment would be more likely to occur and has in the past - hose leak) | K18: L | L18: In the case that the tanker tank or connections/valves of the tanker has a leak, there would be a partial loss of containment which would need to be contained. DCWW should not allow any bad condition tankers (leaky and not maintained) to enter the site which should reduce the risk. | T18: L
C19: ='Risk assessment'!B84 -> Structural failure - tank (partial) | D19: ='Risk assessment'!D84:H84 -> The tank is located below ground so any loss of containment will be contained underground. The cause will most likely be due to hydrogen sulphide attack due to septic sludge, which is more likely to lead to deterioration near the upper third of the tank. This could eventually lead to spalling, deterioration of reinforcement and subsequent cracking over a long period of time. The sludge liquid could percolate into the permeable soil at a slow rate over a long period (4 x 10-5 m/s) in such a scenario. Due to operational presence on site and in the import area, large drops in levels in the tank would be noticed. Currently, there is no level sensor alarm within the tank. During refurbishment works of pipework, operational staff inspected the concrete tank and it was in a good condition with no significant cracks or signs of deterioration of the internal concrete surface. This suggested that hydrogen sulphide attack is not an issue inside the tanks. There are no credible scenarios that could lead to a catastrophic failure of the underground tank (partial loss of containment would be more likely to occur but still highly unlikely with appropriate inspection and maintenance regimes in place). | K19: L | L19: 164m3 (total volume of both unscreened and screened import tank) could potentially be lost. Tanks are located below ground, any loss of containment, most likely to be due to large cracks, will be contained underground. The sludge liquid will percolate into the permeable soil at a slow rate over a long period (4 x 10-5 m/s). Most probably through infiltration through the soil rather than spilling onto surface. No above ground secondary containment required. To minimise loss of containment underground, it is advised that the tanks be structurally inspected. Falling head tests should also be carried out to limit any potential leaks underground. Tank to be refurbished if necessary. Ultrasonic meters in tanks should be alarmed when pumps (consolidation and screen feed pumps) are not in operation, but the level in the tank drops a certain distance to ensure any significant loss of containment underground is monitored. Ultrasonic meters in tanks should be alarmed when pumps are not in operation but the level in the tank drops a certain distance to ensure any significant loss of containment underground is monitored.
C20: ='Risk assessment'!B85 -> Structural failure - pipework (catastrophic) | D20: ='Risk assessment'!D85:H85 -> In the extremely unlikely event where the above ground pipework (rising main to the screen or the return pipework) fails, a proportion of the import tank volume could be lost if the valves are not closed by operational staff or tanks are not drained down to limit loss of containment. Pumps to the screening area would be shut down immediately by operational staff if the pipes were to fail as the import area is manned during operation. There are no credible scenarios that could lead to a catastrophic failure of the pipework (partial loss of containment would be more likely to occur but still very unlikely). | K20: L | L20: To mitigate the very unlikely occurance where the rising main or return pipework for the screening area could fail, the necessary pump controls need to be put in place, if not already, if there is a sudden loss of pressure in the rising main, the pumps should switch off. Containment should be provided for the volume that could be lost within the length of pipe. All above ground pipework and chambers to be inspected structurally for any leaks and necessary falling head tests conducted. Pipework and chambers to be refurbished if necessary. Permeable areas around the imported sludge tanks (block paving) and low lying grassed areas is also to be replaced with impermeable hardstanding to remove the pathway to the ground. | T20: L
C21: ='Risk assessment'!B86 -> Structural failure - pipework (partial) | D21: ='Risk assessment'!D86:H86 -> Majority of pipework and connections are located below ground - within the ground or within the chambers below ground. There is some above ground pipework for the screening process (rising main and return pipework). If loss of containment occurs underground, sludge will percolate into the soil at a slow rate over a long period. If there are significant leaks, localised wet areas may be present above ground. If loss of containment occurs above ground through leaks or overflow in screening area, a small proprotion of sludge may also percolate into the soil via the block paving at a slow rate over a long period. Due to operational presence in the import area, significant leaks (above or below) ground would be noticed and loss of containment would be mitigated through operational measures (inhibit pumps, closing valves). The above ground pipework was replaced in 2015 and there have been no known leaks from new stainless steel pipework. Total loss of containment is therefore not deemed to be a credible scenario. Partial loss of containment is possible but still highly unlikely when considering larger volumes. | K21: L | L21: Original construction was ductile and cast iron (1981) but was replaced with stainless steel pipework (2015). Operational staff stated that there has been no known visible leaks on the import tank pipework, especiallly after the pipes were replaced. As construction was fit for purpose at the time of construction, secondary containment provision is not considered for the underground pipework. To assess the condition of underground pipework and chambers, CCTV and the necessary leakage detection (falling head tests) should be done to check if any excessive leakage is experienced. All above ground pipework and chambers to be inspected structurally for any leaks and necessary falling head tests conducted. Pipework and chambers to be refurbished if necessary. Based on experience the volume that could be lost due to above ground leaks is minimal. Significant leaks would be spotted by operational staff during their daily inspection and repaired and any loss of containment mitigated. The volume lost to leaks would be able to be contained in the hardstanding area around the tanks and pipework. Permeable areas around the imported sludge tanks (block paving) and low lying grassed areas is also to be replaced with impermeable hardstanding to remove the pathway to the ground.
C22: ='Risk assessment'!B87 -> Vehicular impact | D22: ='Risk assessment'!D87:H87 -> No known vehicle impacts - but no barrier/protection Vehicles unlikely to damage underground tanks or displace any liquid within them. Total loss of containment is therefore not deemed to be a credible scenario. | K22: L | L22: There are currently no vehicular impact protection for the import tank. Vehicular impacts are unlikely to displace any of the undergound volume but could damage above ground pipework. Vehicle barriers are proposed around front of tank and screening area building. This is to mitigate any potential impacts from vehicles. | T22: L
C23: ='Risk assessment'!B88 -> Vandalism | D23: ='Risk assessment'!D88:H88 -> No known vandalism to tanks - CCTV cameras on site. Thefts in the past based on comments from operators but no damage has been caused to any of the assets on site. If vandalism damage were to occur, total loss of containment would not be possible. Partial loss of containment could occur if slight damage was done. | K23: L | L23: Vandalism on site has been mainly theft. If pipes and tanks get damaged within the imported sludge area, because it is operated on a daily basis (during the week) with operational staff present, the risk of loss of containment is low. If there are any signs of damage due to vandalism operators will fix any damage first. No mitigation measures proposed, existing measures deemed adequate. | T23: L
C24: ='Risk assessment'!B89 -> Flooding | D24: ='Risk assessment'!D89:H89 -> No flooding has been reported/recorded by the operators Even if flooding occurred, some of the underground tank contents could be displaced and contaminate the flood water, but tanks will not be damaged and full volume of sludge will not be lost. | K24: L | L24: Operationally if the site is flooded, the site will not be accepting sludge imports and thus the probability of flood water getting contaminated with sludge from the imported sludge tanks is low. No mitigation measures proposed. | T24: L
B27: Implimenting the above measures will significantly reduce the probability and risk of failure from the imported sludge tanks and significantly reduce the amount of secondary containment. As per CIRIA 736, the above will need to be implimented in conjunction with a good maintenance strategy

Sheet Containment type
B12: Containment to be provided
B14: Based on a Moderate site risk rating for the zone, Class 2 containment is required.
B28: Catastrophic failure
B30: Catastrophic failure assumes the tanker loses all its volume and that the total volume would need to be contained.
B34: Material type of containment to be provided
B36: Type | F36: Applicability
B37: Reinforced concrete/masonry flooring and bund | F37: Due to small volume from loss of containment, use of a masonry/concrete bund is appropriate
B38: Earth banked basins, bunds and flooring | F38: Soil within site is of permeable nature - Clay or impermeable soil type not plentiful Potential for stabilised soil (lime and cement used to make it impermeable) for bund construction. Area of which bunding can be provided is however limited - assuming for example a bund height of 300mm, crest width of 100m, side slopes of 1:3 - a base width of the bund of at least 2000mm is required. Dependant on area required and nature of surrounding area, might be applicable Not applicable within the import sludge tank area.
B39: Containment tank | F39: Nature of catastrophic failure and type of primary containment makes use of a containment tank not appropriate
B42: Type of containment to be provided
B44: Options considered:
B46: Option 1: Local containment (containment for the tanker spillage around the imported sludge tank only)
B48: Tanker volume is proposed to be contained within the surrounding area. Where external surfaces around the tanks are currently permeable (block paving and paved), to be made impermeable - concrete surface. Volume is proposed to be contained in hardstanding road area to the south east of the imported sludge tank. Current kerb heights to be increased locally around low points through provision of masonry/concrete bund wall.
B72: Option 2: Combination of local and remote (containment for multiple zones)
B74: All sludge processing tanks to be contained within a central bunded area which will allow for lower height bunds around local areas of loss of containment. Where low points are present, area to be raised through speed humps (100mm), kerbs (100mm) or where higher containment heights required via earth bunds (where space permits) or concrete/masonry walls/bunds.
B100: Freeboard allowance
B110: Due to small flow from loss of containment, wave action, which could potentially overtop the bund, not accounted for. No freeboard allowance thus included,
B114: Type of drainage to be provided
B116: Volume is proposed to be contained within bund with no connection to downstream drainage. All existing drainage to be removed. Mobile pumps to be used to remove volume from bund from low point. Daily operational inspection to ensure any rainfall runoff within the bund is removed.
